{"text_format":"1","workbook":"xlsx","n_sheets":47,"sheets":["Introduction","Information","Info lookup","Comparing Indicators","Comparing Areas","Comparing NHS Board Areas","Total net migration","Total net migration 0-15","Total net migration 16-64","Total net migration 65+","Total in-migration","Total out-migration","Within Scotland net migration","Within Scotland in-migration","Within Scotland out-migration","Rest of UK net migration","Rest of UK in-migration","Rest of UK out-migration","Overseas net migration","Overseas in-migration","Overseas out-migration","Census country of birth","Pop born outside UK","Non-British Population","NINo","NINo Top 5 nationalities","WRS","WRS quarterly","Pupils ethnic group","Pupils with English as an add.","Non-UK Births","Births to non-UK mothers %birth","Citizenships","2011","2011 Rate","2012","2012 Rate","2013","2013 Rate","2014","2014 Rate","2015","2015 Rate","2016","2016 Rate","2017","2017 Rate"],"not_rendered":{"charts":3,"images":17,"macros":1,"external_links":0,"defined_names":62,"comments":0,"pivot_tables":0},"unopened":[],"bounds":{"document_bytes":16777216,"sheet_cells":100000,"rows_first":2000,"rows_last":500,"rows_between":2000,"halvings":0,"cell_chars":16384,"cell_head_chars":4096},"cells_cut":0,"cells_raw":0,"read":"whole","date_system":"1900"}

{"sheet":"Introduction","index":0,"n_rows":61,"n_cols":7,"rows_kept":61,"cut":false,"hidden":false,"merged":[[56,1,56,3],[47,1,47,3],[48,1,48,3],[49,1,49,3],[41,1,41,3],[42,1,42,3],[43,1,43,3],[44,1,44,3],[45,1,45,3],[51,1,51,3],[52,1,52,3],[54,1,54,3],[50,1,50,3],[28,4,28,10],[29,4,29,10],[30,4,30,10],[1,0,1,4],[27,4,27,10],[55,1,55,3],[60,1,60,2],[53,1,53,3],[2,0,2,4],[4,1,4,9],[27,1,27,3],[35,1,35,3],[36,1,36,3],[37,1,37,3],[38,1,38,3],[39,1,39,3],[40,1,40,3],[46,1,46,3],[57,1,57,3],[58,1,58,3]]}
[]
[]
[]
[]
[null,"Local Area Migration"]
[]
[]
[]
[]
[]
[]
[]
[]
[]
[]
[]
[]
[]
[]
[]
[]
[]
[]
[]
[]
[null,"The main worksheets are:"]
[]
[null,"Information on Indicators and Data Sources",null,null,"Gives information on the different data sources used for the indicators"]
[null,"Comparing Indicators",null,null,"Allows you to compare up to three indicators for one selected area"]
[null,"Comparing Areas",null,null,"Allows you to compare up to three Council areas for one selected indicator"]
[null,"Comparing NHS Board Areas",null,null,"Allows you to compare up to three NHS Board areas for one selected indicator"]
[]
[]
[null,"Background data and information on the data source is also available:"]
[]
[null,"Total net migration",null,null,null,"Information","Data"]
[null,"Total net migration for ages 0-15",null,null,null,"Information","Data"]
[null,"Total net migration for ages 16-64",null,null,null,"Information","Data"]
[null,"Total net migration for people aged 65+",null,null,null,"Information","Data"]
[null,"Total in-migration",null,null,null,"Information","Data"]
[null,"Total out-migration",null,null,null,"Information","Data"]
[null,"Within Scotland net migration",null,null,null,"Information","Data"]
[null,"Within Scotland in-migration",null,null,null,"Information","Data"]
[null,"Within Scotland out-migration",null,null,null,"Information","Data"]
[null,"Rest of UK net migration",null,null,null,"Information","Data"]
[null,"Rest of UK in-migration",null,null,null,"Information","Data"]
[null,"Rest of UK out-migration",null,null,null,"Information","Data"]
[null,"Overseas net migration",null,null,null,"Information","Data"]
[null,"Overseas in-migration",null,null,null,"Information","Data"]
[null,"Overseas out-migration",null,null,null,"Information","Data"]
[null,"Census population by country of birth",null,null,null,"Information","Data"]
[null,"Population born outside the UK",null,null,null,"Information","Data"]
[null,"Population with non-British nationality",null,null,null,"Information","Data"]
[null,"National Insurance Number (NINo) allocations",null,null,null,"Information","Data"]
[null,"Worker Registration Scheme",null,null,null,"Information","Data"]
[null,"Pupils from a minority ethnic group",null,null,null,"Information","Data"]
[null,"Pupils with English as an additional language",null,null,null,"Information","Data"]
[null,"Births to non-UK mothers",null,null,null,"Information","Data"]
[null,"Citizenships",null,null,null,"Information","Data"]
[]
[null,"© Crown Copyright 2018"]

{"sheet":"Information","index":1,"n_rows":275,"n_cols":4,"rows_kept":275,"cut":false,"hidden":false,"merged":[[6,2,6,3],[4,2,4,3],[7,2,7,3],[274,2,274,3],[39,2,39,3],[36,2,36,3],[37,2,37,3],[38,2,38,3],[10,2,10,3],[11,2,11,3],[12,2,12,3],[13,2,13,3],[14,2,14,3],[15,2,15,3],[16,2,16,3],[17,2,17,3],[18,2,18,3],[19,2,19,3],[20,2,20,3],[21,2,21,3],[22,2,22,3],[23,2,23,3],[24,2,24,3],[25,2,25,3],[26,2,26,3],[32,2,32,3],[33,2,33,3],[27,2,27,3],[28,2,28,3],[29,2,29,3],[30,2,30,3],[31,2,31,3]]}
[]
[]
[]
[]
[null,null,"Information on Indicators and Data Sources"]
[]
[null,null,"This page contains information on the strengths and weaknesses of each indicator. Similar information is provided for some key data sources of migration data. Links are also provided to further information."]
[]
[null,null,"Click on the title to view information on the indicator:"]
[]
[null,null,"Total net migration"]
[null,null,"Total net migration for ages 0-15"]
[null,null,"Total net migration for ages 16-64"]
[null,null,"Total net migration for people aged 65+"]
[null,null,"Total in-migration"]
[null,null,"Total out-migration"]
[null,null,"Within Scotland net migration"]
[null,null,"Within Scotland in-migration"]
[null,null,"Within Scotland out-migration"]
[null,null,"Rest of UK net migration"]
[null,null,"Rest of UK in-migration"]
[null,null,"Rest of UK out-migration"]
[null,null,"Overseas net migration"]
[null,null,"Overseas in-migration"]
[null,null,"Overseas out-migration"]
[null,null,"Census population by country of birth"]
[null,null,"Population born outside the UK"]
[null,null,"Population with non-British nationality"]
[null,null,"National Insurance Number (NINo) allocations"]
[null,null,"Worker Registration Scheme"]
[null,null,"Pupils from a minority ethnic group"]
[null,null,"Pupils with English as an additional language"]
[null,null,"Births to non-UK mothers"]
[null,null,"Citizenships"]
[]
[null,null,"Additional information on key data sources used for the indicators:"]
[null,null,"Community Health Index (CHI)"]
[null,null,"International Passenger Survey (IPS)"]
[null,null,"National Health Service Central Register (NHSCR)"]
[null,null,"NRS mid-year population and migration estimates"]
[]
[null,null,"Total net migration"]
[null,null,"Indicator of:","Difference between in and out migration from overseas, the rest of the UK and within Scotland."]
[null,null,"Information:","These figures are National Statistics published by NRS relating to total net migration (difference between immigration and emigration). They include asylum seekers and rounding adjustments. Refugees are also included for 2015-16 onwards. More information on the methodology for the NRS migration estimates can be found in the Migration section of this website."]
[null,null,"Strengths:","Provides an estimate of all long-term migrants (i.e. those that stay for 12 months or more) at Council and NHS Board area level."]
[null,null,null,"These estimates are National Statistics."]
[null,null,"Weaknesses:","Estimates are only produced annually, about 10 months after the period to which they refer, and rely on administrative and survey data rather than a comprehensive count of people moving."]
[null,null,"Source:","Total Migration To and From an Area section of the NRS website"]
[]
[null,null,"Total net migration for ages 0-15"]
[null,null,"Indicator of:","Difference between in and out migration from overseas, the rest of the UK and within Scotland of people aged 15 and under."]
[null,null,"Information:","These figures include asylum seekers and rounding adjustments. Refugees are also included for 2015-16 onwards. More information on the methodology for the NRS migration estimates can be found in the Migration section of this website."]
[null,null,"Strengths:","Provides an estimate of all long-term migrants (i.e. those that stay for 12 months or more) within this age group at Council and NHS Board area level."]
[null,null,null,"These estimates are National Statistics."]
[null,null,"Weaknesses:","Estimates are only produced annually, about 10 months after the period to which they refer, and rely on administrative and survey data rather than a comprehensive count of people moving."]
[null,null,"Source:","Total Migration To and From an Area section of the NRS website"]
[]
[null,null,"Total net migration for ages 16-64"]
[null,null,"Indicator of:","Difference between in and out migration from overseas, the rest of the UK and within Scotland of people aged between 16 and 64."]
[null,null,"Information:","These figures include asylum seekers and rounding adjustments. Refugees are also included for 2015-16 onwards. More information on the methodology for the NRS migration estimates can be found in the Migration section of this website."]
[null,null,"Strengths:","Provides an estimate of all long-term migrants (i.e. those that stay for 12 months or more) within this age group at Council and NHS Board area level."]
[null,null,null,"These estimates are National Statistics."]
[null,null,"Weaknesses:","Estimates are only produced annually, about 10 months after the period to which they refer, and rely on administrative and survey data rather than a comprehensive count of people moving."]
[null,null,"Source:","Total Migration To and From an Area section of the NRS website"]
[]
[null,null,"Total net migration for ages 65+"]
[null,null,"Indicator of:","Difference between in and out migration from overseas, the rest of the UK and within Scotland of people aged 65 and over."]
[null,null,"Information:","These figures include asylum seekers and rounding adjustments. Refugees are also included for 2015-16 onwards. More information on the methodology for the NRS migration estimates can be found in the Migration section of this website."]
[null,null,"Strengths:","Provides an estimate of all long-term migrants (i.e. those that stay for 12 months or more) within this age group at Council and NHS Board area level."]
[null,null,null,"These estimates are National Statistics."]
[null,null,"Weaknesses:","Estimates are only produced annually, about 10 months after the period to which they refer, and rely on administrative and survey data rather than a comprehensive count of people moving."]
[null,null,"Source:","Total Migration To and From an Area section of the NRS website"]
[]
[null,null,"Total in-migration"]
[null,null,"Indicator of:","Flow of people to administrative areas in Scotland from overseas, the rest of the UK and other areas within Scotland"]
[null,null,"Information:","These figures are the NRS National Statistics for total in-migration. Figures include asylum seekers, refugees are also included for 2015-16 onwards. Scotland level estimates cannot be derived by adding together the estimates for individual Council areas or NHS Board areas because administrative area estimates include moves within Scotland. It would not, therefore, be appropriate to compare total in-migration for Scotland with total in-migration for an administrative area. More information on the methodology for the NRS migration estimates can be found in the Migration section of this website."]
[null,null,"Strengths:","These estimates are National Statistics."]
[null,null,"Weaknesses:","Estimates are only produced annually, about 10 months after the period to which they refer, and rely on administrative and survey data rather than a comprehensive count of people moving."]
[null,null,"Source:","Total Migration To and From an Area section of the NRS website"]
[]
[null,null,"Total out-migration"]
[null,null,"Indicator of:","Flow of people from administrative areas in Scotland to overseas, the rest of the UK and other areas within Scotland"]
[null,null,"Information:","These figures are the NRS National Statistics for total in-migration. Figures include asylum seekers. Scotland level estimates cannot be derived by adding together the estimates for individual Council areas or NHS Board areas because administrative area estimates include moves within Scotland. It would not, therefore, be appropriate to compare total in-migration for Scotland with total in-migration for an administrative area. More information on the methodology for the NRS migration estimates can be found in the Migration section of this website."]
[null,null,"Strengths:","These estimates are National Statistics."]
[null,null,"Weaknesses:","Estimates are only produced annually, about 10 months after the period to which they refer, and rely on administrative and survey data rather than a comprehensive count of people moving."]
[null,null,"Source:","Total Migration To and From an Area section of the NRS website"]
[]
[null,null,"Within Scotland net migration"]
[null,null,"Indicator of:","Net migration between administrative areas within Scotland"]
[null,null,"Information:","Moves within Scotland at Council area level are derived from a combination of the National Health Service Central Register (NHSCR) and the Community Health Index (CHI), and from the NHSCR for NHS Board areas. More information on the methodology for the NRS migration estimates can be found in the Migration section of this website."]
[null,null,"Strengths:","These estimates are National Statistics."]
[null,null,"Weaknesses:","Estimates are only produced annually, about 10 months after the period to which they refer, and rely on administrative and survey data rather than a comprehensive count of people moving."]
[null,null,"Source:","Migration within Scotland section of the NRS website"]
[]
[null,null,"Within Scotland in-migration"]
[null,null,"Indicator of:","Flow of people to administrative areas in Scotland from other areas within Scotland"]
[null,null,"Information:","Moves within Scotland at Council area level are derived from a combination of the National Health Service Central Register (NHSCR) and the Community Health Index (CHI), and from the NHSCR for NHS Board areas. More information on the methodology for the NRS migration estimates can be found in the Migration section of this website."]
[null,null,"Strengths:","These estimates are National Statistics."]
[null,null,"Weaknesses:","Estimates are only produced annually, about 10 months after the period to which they refer, and rely on administrative and survey data rather than a comprehensive count of people moving."]
[null,null,"Source:","Migration within Scotland section of the NRS website"]
[]
[null,null,"Within Scotland out-migration"]
[null,null,"Indicator of:","Flow of people from administrative areas in Scotland to other areas within Scotland"]
[null,null,"Information:","Moves within Scotland at Council area level are derived from a combination of the National Health Service Central Register (NHSCR) and the Community Health Index (CHI), and from the NHSCR for NHS Board areas. More information on the methodology for the NRS migration estimates can be found in the Migration section of this website."]
[null,null,"Strengths:","These estimates are National Statistics."]
[null,null,"Weaknesses:","Estimates are only produced annually, about 10 months after the period to which they refer, and rely on administrative and survey data rather than a comprehensive count of people moving."]
[null,null,"Source:","Migration within Scotland section of the NRS website"]
[]
[null,null,"Rest of UK net migration"]
[null,null,"Indicator of:","Net migration between administrative areas in Scotland and the rest of the UK"]
[null,null,"Information:","These are the NRS National Statistics for rest of UK migration. Moves between Scottish administrative areas and the rest of the UK are derived from the National Health Service Central Register (NHSCR) and Community Health Index (CHI). Moves between Scotland and the rest of the UK used here do not include movements to/from the armed forces. More information on the methodology for the NRS migration estimates can be found in the Migration section of this website."]
[null,null,"Strengths:","These estimates are National Statistics."]
[null,null,"Weaknesses:","Estimates are only produced annually at Scottish administrative area level, about 10 months after the period to which they refer, and rely on administrative and survey data rather than a comprehensive count of people moving."]
[null,null,"Source:","Migration between Scotland and Rest of the UK section of NRS website"]
[]
[null,null,"Rest of UK in-migration"]
[null,null,"Indicator of:","Flow of people to administrative areas in Scotland from the rest of the UK"]
[null,null,"Information:","These are the NRS National Statistics for rest of UK migration. Moves between Scottish administrative areas and the rest of the UK are derived from the National Health Service Central Register (NHSCR) and Community Health Index (CHI). Moves between Scotland and the rest of the UK used here do not include movements to/from the armed forces. More information on the methodology for the NRS migration estimates can be found in the Migration section of this website."]
[null,null,"Strengths:","These estimates are National Statistics."]
[null,null,"Weaknesses:","Estimates are only produced annually at Scottish administrative area level, about 10 months after the period to which they refer, and rely on administrative and survey data rather than a comprehensive count of people moving."]
[null,null,"Source:","Migration between Scotland and Rest of the UK section of NRS website"]
[]
[null,null,"Rest of UK out-migration"]
[null,null,"Indicator of:","Flow of people from administrative areas in Scotland to the rest of the UK"]
[null,null,"Information:","These are the NRS National Statistics for rest of UK migration. Moves between Scottish administrative areas and the rest of the UK are derived from the National Health Service Central Register (NHSCR) and Community Health Index (CHI). Moves between Scotland and the rest of the UK used here do not include movements to/from the armed forces. More information on the methodology for the NRS migration estimates can be found in the Migration section of this website."]
[null,null,"Strengths:","These estimates are National Statistics."]
[null,null,"Weaknesses:","Estimates are only produced annually at Scottish administrative area level, about 10 months after the period to which they refer, and rely on administrative and survey data rather than a comprehensive count of people moving."]
[null,null,"Source:","Migration between Scotland and Rest of the UK section of NRS website"]
[]
[null,null,"Overseas net migration"]
[null,null,"Indicator of:","Net migration to/from overseas"]
[null,null,"Information:","These are the NRS National Statistics for overseas net migration. There is not a single, all-inclusive system in place to measure all movements of the population into and out of the UK. Therefore, data from the International Passenger Survey (IPS), the Home Office, and the Labour Force Survey (LFS) is combined to compile the National Statistics estimates of international migration into Scotland. Data from the National Health Service Central Register (NHSCR) and the Community Health Index (CHI) is also used for this process. More information on the methodology for the NRS migration estimates can be found in the Migration section of this website. Asylum seekers are included for all years, refugees are also included for 2015-16 onwards."]
[null,null,"Strengths:","These estimates are National Statistics."]
[null,null,"Weaknesses:","The IPS sample size for Scotland is small, making the estimates less reliable. "]
[null,null,null,"Estimates are only produced annually, about 10 months after the period to which they refer."]
[null,null,"Source:","Migration between Scotland and Overseas section of the NRS website"]
[]
[null,null,"Overseas in-migration"]
[null,null,"Indicator of:","Flow of people to administrative areas in Scotland from overseas"]
[null,null,"Information:","These are the NRS National Statistics for overseas in-migration. There is not a single, all-inclusive system in place to measure all movements of the population into and out of the UK. Therefore, data from the International Passenger Survey (IPS), the Home Office, and the Labour Force Survey (LFS) is combined to compile the National Statistics estimates of international migration into Scotland. Data from the National Health Service Central Register (NHSCR) and the Community Health Index (CHI) is also used for this process. More information on the methodology for the NRS migration estimates can be found in the Migration section of this website. Asylum seekers are included for all years, refugees are also included for 2015-16 onwards."]
[null,null,"Strengths:","These estimates are National Statistics."]
[null,null,"Weaknesses:","The IPS sample size for Scotland is small, making the estimates less reliable. "]
[null,null,null,"Estimates are only produced annually, about 10 months after the period to which they refer."]
[null,null,"Source:","Migration between Scotland and Overseas section of the NRS website"]
[]
[null,null,"Overseas out-migration"]
[null,null,"Indicator of:","Flow of persons from administrative areas in Scotland to overseas"]
[null,null,"Information:","These are the NRS National Statistics for overseas out-migration. There is not a single, all-inclusive system in place to measure all movements of the population into and out of the UK. Therefore, data from the International Passenger Survey (IPS), the Home Office, and the Labour Force Survey (LFS) is combined to compile the National Statistics estimates of international migration into Scotland. Data from the National Health Service Central Register (NHSCR) and the Community Health Index (CHI) is also used for this process. Figures for 2003/04 to 2010/11 have been revised from the previous release to include improvements in estimating international out-migration. More information on the methodology for the NRS migration estimates can be found in the Migration section of this website. Asylum seekers are included in these figures."]
[null,null,"Strengths:","These estimates are National Statistics."]
[null,null,"Weaknesses:","The IPS sample size for Scotland is small, making the estimates less reliable. "]
[null,null,null,"Estimates are only produced annually, about 10 months after the period to which they refer."]
[null,null,"Source:","Migration between Scotland and Overseas section of the NRS website"]
[]
[null,null,"Population born outside the UK"]
[null,null,"Indicator of:","resident population ('stock') of migrants based on those with non-UK country of birth"]
[null,null,"Information:","The country of birth data from the Annual Population Survey (APS) is used for this indicator. This information gives an estimate of the number of people living in Scotland who were born outside the UK. The data is available from 2004, on a calendar year basis. The APS comprises of data from the Labour Force Survey (LFS), plus data from the Annual Local (Area) Labour Force Survey Boosts for England, Scotland and Wales. It is updated quarterly and is published about 8 months after the time period to which it refers. Data is available at council area level although some data is suppressed. Suppressed estimates are indicated with a '*'. "]
[null,null,"Strengths:","Gives a more robust estimate of change over time than looking at nationality as an individual's nationality can change. "]
[null,null,"Weaknesses:","LFS excludes most communal establishments and foreign students living in halls of residence, and so the number of foreign born migrants is likely to be under-reported. "]
[null,null,null,"For some council areas an estimate cannot be made from the APS as the number of people born outside the UK is too small for the estimate to be reliable. "]
[null,null,null,"Some people born outside the UK may have lived in the UK for a long time and are therefore not regarded as migrants."]
[null,null,"Source:","Population by Country of Birth and Nationality section of the NRS website"]
[]
[null,null,"Population with non-British nationality"]
[null,null,"Indicator of:","resident population ('stock') of migrants based on those with non-British nationality"]
[null,null,"Information:","The nationality data from the Annual Population Survey (APS) is used for this indicator. This information gives an estimate of the number of people living in Scotland who hold non-British nationality. The data is available from 2004, on a calendar year basis. The APS comprises of data from the Labour Force Survey (LFS), plus data from the Annual Local (Area) Labour Force Survey Boosts for England, Scotland and Wales. It is updated quarterly and is published about 8 months after the time period to which it refers. Data is available at council area level although some data is suppressed. Suppressed estimates are indicated with a '*'. "]
[null,null,"Strengths:","Gives a more up to date look at migration than country of birth data, as people who were born overseas but have lived here for many years are not regarded as migrants."]
[null,null,"Weaknesses:","LFS excludes most communal establishments and foreign students living in halls of residence, and so the number of foreign born migrants is likely to be under-reported. "]
[null,null,null,"For some council areas an estimate cannot be made from the APS as the number of people born outside the UK is too small for the estimate to be reliable. "]
[null,null,null,"An individuals nationality can change, meaning time series' are less robust than for country of birth data."]
[null,null,"Source:","Population by Country of Birth and Nationality section of the NRS website"]
[]
[null,null,"National Insurance Number (NINo) allocations to adult overseas nationals entering the UK"]
[null,null,"Indicator of:","Inflow of overseas nationals"]
[null,null,"Information:","These data have been obtained using the Stat-Xplore tool on the DWP website, which has annual Council area data. Data used here is on a calendar year basis."]
[null,null,"Strengths:","Includes any overseas national looking to work or claim benefits/tax credits in the UK, self-employed or students working part-time. "]
[null,null,null,"Provides Council area level data. "]
[null,null,null,"Location data relates to the residence of individual, not their employer."]
[null,null,"Weaknesses:","Based on the date of registration not the date of arrival, and the lag between the two can often be a year or even longer. \nRandom adjustments have been applied to the data to avoid the disclosure of confidential information. "]
[null,null,null,"Excludes those not working, or planning to work or claim benefits, so children and students that don't work are not included. "]
[null,null,null,"Excludes returning UK nationals. "]
[null,null,null,"Does not provide any outflow information or overall stock. "]
[null,null,null,"Includes migrants staying less than one month as there is no minimum stay for registration. "]
[null,null,null,"Data reflects the migrant's first destination or location at registration, not where migrants settle nor does it reflect the stock of migrants nationally."]
[null,null,"Source:","Department for Work and Pensions - Stat-Xplore"]
[]
[null,null,"Worker Registration Scheme (WRS)"]
[null,null,"Indicator of:","Employees from A8 countries"]
[null,null,"Information:","The Worker Registration Scheme started in May 2004 and was discontinued on 1 May 2011. Nationals of the A8 countries (Czech Republic, Estonia, Hungary, Latvia, Lithuania, Poland, Slovakia, and Slovenia) who wished to take up employment in the UK for a period of at least a month were generally required to register with the WRS. The data used for the WRS indicator at Scotland level was taken from the Home Office 'Accession Monitoring Report' series, which was published quarterly.  Council level data is no longer available online, but can be requested from the Local Government Association (LGA) - info@local.gov.uk."]
[null,null,"Strengths:","In addition to total numbers registered, information on gender, age, industry, nationality and hourly rate is also available. (Detailed breakdowns are not shown here.)"]
[null,null,null,"Provides Council area data."]
[null,null,"Weaknesses:","Excludes the self-employed; those not working; those not from A8 countries; people working for an employer who is not established in this country; those who hold dual citizenship of the UK, another country within the European Economic Area (EEA), or Switzerland. "]
[null,null,null,"Does not provide any indication of out-migration. "]
[null,null,null,"Only provides an indication of in-flow, not stock as it is not necessary to deregister. "]
[null,null,null,"Dates relate to the date the application is approved, not date of entry to UK. "]
[null,null,null,"Location data relates to that of the employer, not where the individual lives, and migrants may move to a different location after their first registration. "]
[null,null,null,"Dependents of those registering are recorded and so may be double counted. "]
[null,null,"Source:","Local Government Association, Worker Registration Scheme Data Archive (no longer available online)"]
[]
[null,null,"Pupils from a minority ethnic group"]
[null,null,"Indicator of:","School aged children by ethnicity"]
[null,null,"Information:","These figures come from the Pupil Census which is collected by the Scottish Government through the ScotXed programme, and are available annually from 2003. The Pupil Census covers all publicly funded schools in Scotland (local authority and grant-aided). It is conducted in September and the data is published in December on the Scottish Government website."]
[null,null,"Strengths:","Data is reasonably current. "]
[null,null,null,"Can provide an indication of where migrant families with school aged children live, rather than work."]
[null,null,"Weaknesses:","Provides no information about migrants without school aged children. "]
[null,null,null,"Although over 97.5 per cent of pupils disclosed their ethnic background, some pupils' ethnicity was in the 'unknown' category. "]
[null,null,null,"No specific nationality data. "]
[null,null,null,"Only includes children in publicly funded schools. "]
[null,null,null,"Non migrants may be from a minority ethnic group."]
[null,null,"Source:","Pupil Census, Scottish Government"]
[]
[null,null,"Pupils with English as an additional language"]
[null,null,"Indicator of:","Migrants from non-English speaking countries with school aged children"]
[null,null,"Information:","These figures come from the Pupil Census which is collected by the Scottish Government through the ScotXed programme, and are available annually from 2003. The Pupil Census covers all publicly funded schools in Scotland (local authority and grant-aided). It is conducted in September and the data is published in December on the Scottish Government website."]
[null,null,"Strengths:","Data is reasonably current. "]
[null,null,null,"Can provide an indication of where migrant families with school aged children live, rather than work."]
[null,null,"Weaknesses:","Provides no information about migrants without school aged children. "]
[null,null,null,"No specific nationality data. "]
[null,null,null,"Only includes children in publicly funded schools. "]
[null,null,null,"Excludes migrants from English speaking countries and those fluent in English. "]
[null,null,null,"Includes non-recent migrants still speaking a different home language if pupils have English as an additional language."]
[null,null,"Source:","Pupil Census, Scottish Government"]
[]
[null,null,"Births to non-UK mothers"]
[null,null,"Indicator of:","Number of babies born each year to mothers who had a non-UK country of birth"]
[null,null,"Information:","This data comes from the NRS Vital Events branch and is collected when the birth is registered. This data is published annually on a calendar year basis. Data is available back to 1996."]
[null,null,"Strengths:","Gives an indication of migrants choosing to settle in an area."]
[null,null,"Weaknesses:","Only gives information on a very specific group of migrants (i.e. mothers having children)."]
[null,null,"Source:","Births section of the Vital Events Reference Tables on the NRS website"]
[]
[null,null,"Citizenships"]
[null,null,"Indicator of:","Overseas nationals gaining UK citizenship"]
[null,null,"Information:","Definition of citizenship ceremonies:  A ceremony organised by County or Local Authorities for successful applicants over 18 years of age for British citizenship. At the ceremony the applicant takes the Oath or Affirmation of allegiance to Her Majesty the Queen and the Pledge of loyalty to the United Kingdom. Since 1 January 2004 this has been the final stage in the process of attaining British citizenship. The citizenship ceremony is organised by the relevant local authority, and happens after the Home Office have processed the application."]
[null,null,"Strengths:","Shows the number of people aged 18 and over that have become British citizens."]
[null,null,"Weaknesses:","Citizenship is a complicated subject, and people will gain British Citizenship for a variety of different reasons."]
[null,null,"Source:","Home Office Immigration Statistics"]
[]
[null,null,"Information on key data sources"]
[]
[null,null,"Census"]
[null,null,"Information:","Every ten years a census of the UK population is carried out, with the data collected providing detailed data on various aspects of the population.  Data from the 2011 Census already published includes information on country of birth, which is included in this spreadsheet."]
[null,null,"Strengths:","Most comprehensive and detailed source of population and demography data."]
[null,null,"Weaknesses:","Data is only collected once every ten years."]
[null,null,"Source:","Scotland's Census 2011 - Census Results"]
[]
[null,null,"Community Health Index (CHI)"]
[null,null,"Information:","The CHI holds records of people registered with a NHS GP in Scotland."]
[null,null,"Strengths:","The CHI records provided to NRS contain the postcode of the patient's address which enables migration to be estimated for Council areas by matching two extracts taken one year apart."]
[null,null,"Weaknesses:","Moves derived from the National Health Service Central Register (NHSCR) are considered to be more reliable than moves derived from the CHI, and so the CHI data is adjusted to ensure that it is consistent with the NHSCR data for moves across a NHS Board area boundary by origin, destination, age and sex."]
[null,null,"Source:","Migration - Methodology section of the NRS website"]
[]
[null,null,"International Passenger Survey (IPS)"]
[null,null,"Information:","The IPS provides information on moves into and out of Scotland with an origin or destination of outside the UK. It is a continuous sample survey conducted by the Office for National Statistics (ONS) at the principal international air, sea and Channel Tunnel routes between the UK and countries outside the British Isles. The IPS is used along with information from the Home Office, the Labour Force Survey (LFS), and the Irish Central Statistics Office to compile the National Statistics estimates of international migration into Scotland. The allocation of these migrants to Scotland is based on the LFS as it provides more reliable data on the geographical distribution of immigrants than the destination provided in the IPS since it is based on where migrants actually live rather than on their initial intentions. The outflow of international migrants from Scotland is based directly on the IPS data. The IPS collects data on intentions which may or may not be realised, and so an adjustment is made to the data for visitor and migrant switchers - people who change their intentions and their migratory status. The adjusted IPS data is called the Long-Term International Migration (LTIM) estimate and is produced by ONS."]
[null,null,"Strengths:","It is the prime source of migration data to and from the UK. "]
[null,null,null,"Provides estimates of both inflows and outflows of migrants."]
[null,null,"Weaknesses:","Sample size for Scotland is small."]
[null,null,"Source:","International Passenger Survey methodology section of the ONS website"]
[]
[null,null,"National Health Service Central Register (NHSCR)"]
[null,null,"Information:","The NHSCR system records movement of patient records between NHS Board areas in the UK. Counts of these re-registrations are used as a proxy indicator for moves within the UK. A lag is assumed between the arrival at destination and the date of the migrant appearing on the NHSCR."]
[null,null,"Strengths:","Most comprehensive administrative data source available. "]
[null,null,null,"Data is reasonably current."]
[null,null,"Weaknesses:","Only shows those who have registered with a GP. "]
[null,null,null,"Data does not show the exact time of migration as there is a difference between move date and date at which the change of GP is processed. This lag is not consistent. "]
[null,null,null,"There may be month to month variation in the volume of records loaded onto the NHSCR. "]
[null,null,null,"Captures short-term migrants (i.e. those staying for less than 12 months), and these cannot be distinguished from long-term migrants. "]
[null,null,"Source:","Migration - Methodology section of the NRS website"]
[]
[null,null,"NRS mid-year population and migration estimates"]
[null,null,"Information:","NRS mid-year population and migration estimates are produced annually, and use a range of data sources to produce migration estimates for within Scotland, rest of UK and overseas migration. More information on the methodology for the NRS migration estimates can be found in the Mid-Year Population Estimates section of this website. The population and migration estimates in this tool are based on the 2011 Census."]
[null,null,"Strengths:","Provides an estimate of all long-term migrants (i.e. those staying 12 months or more) at Council and NHS Board area level."]
[null,null,"Weaknesses:","Estimates are only produced annually, about 10 months after the period to which they refer, and rely on administrative and survey data rather than a comprehensive count of people moving."]
[null,null,"Source:","Mid-Year Population Estimates section of the NRS website"]
[]
[]
[null,null,"© Crown Copyright 2018"]

{"sheet":"Info lookup","index":2,"n_rows":25,"n_cols":7,"rows_kept":25,"cut":false,"hidden":true,"merged":[]}
[]
[null,null,"Indicator of:","Information:","Strengths:","Weaknesses:","Source:"]
[1,"Not specified","~","~","~","~","~"]
[2,"Total net migration",{"$f":"Information!D43","v":"Difference between in and out migration from overseas, the rest of the UK and within Scotland."},{"$f":"Information!D44","v":"These figures are National Statistics published by NRS relating to total net migration (difference between immigration and emigration). They include asylum seekers and rounding adjustments. Refugees are also included for 2015-16 onwards. More information on the methodology for the NRS migration estimates can be found in the Migration section of this website."},{"$f":"Information!D45","v":"Provides an estimate of all long-term migrants (i.e. those that stay for 12 months or more) at Council and NHS Board area level."},{"$f":"CONCATENATE(Information!D47)","v":"Estimates are only produced annually, about 10 months after the period to which they refer, and rely on administrative and survey data rather than a comprehensive count of people moving."},{"$f":"Information!D48","v":"Total Migration To and From an Area section of the NRS website"}]
[3,"Total net migration for ages 0-15",{"$f":"Information!D51","v":"Difference between in and out migration from overseas, the rest of the UK and within Scotland of people aged 15 and under."},{"$f":"Information!D52","v":"These figures include asylum seekers and rounding adjustments. Refugees are also included for 2015-16 onwards. More information on the methodology for the NRS migration estimates can be found in the Migration section of this website."},{"$f":"CONCATENATE(Information!D53,Information!D54)","v":"Provides an estimate of all long-term migrants (i.e. those that stay for 12 months or more) within this age group at Council and NHS Board area level.These estimates are National Statistics."},{"$f":"CONCATENATE(Information!D55)","v":"Estimates are only produced annually, about 10 months after the period to which they refer, and rely on administrative and survey data rather than a comprehensive count of people moving."},{"$f":"Information!D56","v":"Total Migration To and From an Area section of the NRS website"}]
[4,"Total net migration for ages 16 - 64",{"$f":"Information!D59","v":"Difference between in and out migration from overseas, the rest of the UK and within Scotland of people aged between 16 and 64."},{"$f":"Information!D60","v":"These figures include asylum seekers and rounding adjustments. Refugees are also included for 2015-16 onwards. More information on the methodology for the NRS migration estimates can be found in the Migration section of this website."},{"$f":"CONCATENATE(Information!D61,Information!D62)","v":"Provides an estimate of all long-term migrants (i.e. those that stay for 12 months or more) within this age group at Council and NHS Board area level.These estimates are National Statistics."},{"$f":"CONCATENATE(Information!D63)","v":"Estimates are only produced annually, about 10 months after the period to which they refer, and rely on administrative and survey data rather than a comprehensive count of people moving."},{"$f":"Information!D64","v":"Total Migration To and From an Area section of the NRS website"}]
[5,"Total net migration for people aged 65+",{"$f":"Information!D67","v":"Difference between in and out migration from overseas, the rest of the UK and within Scotland of people aged 65 and over."},{"$f":"Information!D68","v":"These figures include asylum seekers and rounding adjustments. Refugees are also included for 2015-16 onwards. More information on the methodology for the NRS migration estimates can be found in the Migration section of this website."},{"$f":"CONCATENATE(Information!D69,Information!D70)","v":"Provides an estimate of all long-term migrants (i.e. those that stay for 12 months or more) within this age group at Council and NHS Board area level.These estimates are National Statistics."},{"$f":"CONCATENATE(Information!D71)","v":"Estimates are only produced annually, about 10 months after the period to which they refer, and rely on administrative and survey data rather than a comprehensive count of people moving."},{"$f":"Information!D72","v":"Total Migration To and From an Area section of the NRS website"}]
[6,"Total in-migration",{"$f":"Information!D75","v":"Flow of people to administrative areas in Scotland from overseas, the rest of the UK and other areas within Scotland"},{"$f":"Information!D76","v":"These figures are the NRS National Statistics for total in-migration. Figures include asylum seekers, refugees are also included for 2015-16 onwards. Scotland level estimates cannot be derived by adding together the estimates for individual Council areas or NHS Board areas because administrative area estimates include moves within Scotland. It would not, therefore, be appropriate to compare total in-migration for Scotland with total in-migration for an administrative area. More information on the methodology for the NRS migration estimates can be found in the Migration section of this website."},{"$f":"Information!D77","v":"These estimates are National Statistics."},{"$f":"Information!D78","v":"Estimates are only produced annually, about 10 months after the period to which they refer, and rely on administrative and survey data rather than a comprehensive count of people moving."},{"$f":"Information!D79","v":"Total Migration To and From an Area section of the NRS website"}]
[7,"Total out-migration",{"$f":"Information!D82","v":"Flow of people from administrative areas in Scotland to overseas, the rest of the UK and other areas within Scotland"},{"$f":"Information!D83","v":"These figures are the NRS National Statistics for total in-migration. Figures include asylum seekers. Scotland level estimates cannot be derived by adding together the estimates for individual Council areas or NHS Board areas because administrative area estimates include moves within Scotland. It would not, therefore, be appropriate to compare total in-migration for Scotland with total in-migration for an administrative area. More information on the methodology for the NRS migration estimates can be found in the Migration section of this website."},{"$f":"Information!D84","v":"These estimates are National Statistics."},{"$f":"Information!D85","v":"Estimates are only produced annually, about 10 months after the period to which they refer, and rely on administrative and survey data rather than a comprehensive count of people moving."},{"$f":"Information!D86","v":"Total Migration To and From an Area section of the NRS website"}]
[8,"Within Scotland net migration",{"$f":"Information!D89","v":"Net migration between administrative areas within Scotland"},{"$f":"Information!D90","v":"Moves within Scotland at Council area level are derived from a combination of the National Health Service Central Register (NHSCR) and the Community Health Index (CHI), and from the NHSCR for NHS Board areas. More information on the methodology for the NRS migration estimates can be found in the Migration section of this website."},{"$f":"Information!D91","v":"These estimates are National Statistics."},{"$f":"Information!D92","v":"Estimates are only produced annually, about 10 months after the period to which they refer, and rely on administrative and survey data rather than a comprehensive count of people moving."},{"$f":"Information!D93","v":"Migration within Scotland section of the NRS website"}]
[9,"Within Scotland in-migration",{"$f":"Information!D96","v":"Flow of people to administrative areas in Scotland from other areas within Scotland"},{"$f":"Information!D97","v":"Moves within Scotland at Council area level are derived from a combination of the National Health Service Central Register (NHSCR) and the Community Health Index (CHI), and from the NHSCR for NHS Board areas. More information on the methodology for the NRS migration estimates can be found in the Migration section of this website."},{"$f":"Information!D98","v":"These estimates are National Statistics."},{"$f":"Information!D99","v":"Estimates are only produced annually, about 10 months after the period to which they refer, and rely on administrative and survey data rather than a comprehensive count of people moving."},{"$f":"Information!D100","v":"Migration within Scotland section of the NRS website"}]
[10,"Within Scotland out-migration",{"$f":"Information!D103","v":"Flow of people from administrative areas in Scotland to other areas within Scotland"},{"$f":"Information!D104","v":"Moves within Scotland at Council area level are derived from a combination of the National Health Service Central Register (NHSCR) and the Community Health Index (CHI), and from the NHSCR for NHS Board areas. More information on the methodology for the NRS migration estimates can be found in the Migration section of this website."},{"$f":"Information!D105","v":"These estimates are National Statistics."},{"$f":"Information!D106","v":"Estimates are only produced annually, about 10 months after the period to which they refer, and rely on administrative and survey data rather than a comprehensive count of people moving."},{"$f":"Information!D107","v":"Migration within Scotland section of the NRS website"}]
[11,"Rest of UK net migration",{"$f":"Information!D110","v":"Net migration between administrative areas in Scotland and the rest of the UK"},{"$f":"Information!D111","v":"These are the NRS National Statistics for rest of UK migration. Moves between Scottish administrative areas and the rest of the UK are derived from the National Health Service Central Register (NHSCR) and Community Health Index (CHI). Moves between Scotland and the rest of the UK used here do not include movements to/from the armed forces. More information on the methodology for the NRS migration estimates can be found in the Migration section of this website."},{"$f":"Information!D112","v":"These estimates are National Statistics."},{"$f":"CONCATENATE(Information!D113,Information!#REF!)","v":{"$error":"#REF!"}},{"$f":"Information!D114","v":"Migration between Scotland and Rest of the UK section of NRS website"}]
[12,"Rest of UK in-migration",{"$f":"Information!D117","v":"Flow of people to administrative areas in Scotland from the rest of the UK"},{"$f":"Information!D118","v":"These are the NRS National Statistics for rest of UK migration. Moves between Scottish administrative areas and the rest of the UK are derived from the National Health Service Central Register (NHSCR) and Community Health Index (CHI). Moves between Scotland and the rest of the UK used here do not include movements to/from the armed forces. More information on the methodology for the NRS migration estimates can be found in the Migration section of this website."},{"$f":"Information!D119","v":"These estimates are National Statistics."},{"$f":"CONCATENATE(Information!D120,Information!#REF!)","v":{"$error":"#REF!"}},{"$f":"Information!D121","v":"Migration between Scotland and Rest of the UK section of NRS website"}]
[13,"Rest of UK out-migration",{"$f":"Information!D124","v":"Flow of people from administrative areas in Scotland to the rest of the UK"},{"$f":"Information!D125","v":"These are the NRS National Statistics for rest of UK migration. Moves between Scottish administrative areas and the rest of the UK are derived from the National Health Service Central Register (NHSCR) and Community Health Index (CHI). Moves between Scotland and the rest of the UK used here do not include movements to/from the armed forces. More information on the methodology for the NRS migration estimates can be found in the Migration section of this website."},{"$f":"Information!D126","v":"These estimates are National Statistics."},{"$f":"CONCATENATE(Information!D127,Information!#REF!)","v":{"$error":"#REF!"}},{"$f":"Information!D128","v":"Migration between Scotland and Rest of the UK section of NRS website"}]
[14,"Overseas net migration",{"$f":"Information!D131","v":"Net migration to/from overseas"},{"$f":"Information!D132","v":"These are the NRS National Statistics for overseas net migration. There is not a single, all-inclusive system in place to measure all movements of the population into and out of the UK. Therefore, data from the International Passenger Survey (IPS), the Home Office, and the Labour Force Survey (LFS) is combined to compile the National Statistics estimates of international migration into Scotland. Data from the National Health Service Central Register (NHSCR) and the Community Health Index (CHI) is also used for this process. More information on the methodology for the NRS migration estimates can be found in the Migration section of this website. Asylum seekers are included for all years, refugees are also included for 2015-16 onwards."},{"$f":"Information!D133","v":"These estimates are National Statistics."},{"$f":"CONCATENATE(Information!D134,Information!D135)","v":"The IPS sample size for Scotland is small, making the estimates less reliable. Estimates are only produced annually, about 10 months after the period to which they refer."},{"$f":"Information!D136","v":"Migration between Scotland and Overseas section of the NRS website"}]
[15,"Overseas in-migration",{"$f":"Information!D139","v":"Flow of people to administrative areas in Scotland from overseas"},{"$f":"Information!D140","v":"These are the NRS National Statistics for overseas in-migration. There is not a single, all-inclusive system in place to measure all movements of the population into and out of the UK. Therefore, data from the International Passenger Survey (IPS), the Home Office, and the Labour Force Survey (LFS) is combined to compile the National Statistics estimates of international migration into Scotland. Data from the National Health Service Central Register (NHSCR) and the Community Health Index (CHI) is also used for this process. More information on the methodology for the NRS migration estimates can be found in the Migration section of this website. Asylum seekers are included for all years, refugees are also included for 2015-16 onwards."},{"$f":"Information!D141","v":"These estimates are National Statistics."},{"$f":"CONCATENATE(Information!D142,Information!D143)","v":"The IPS sample size for Scotland is small, making the estimates less reliable. Estimates are only produced annually, about 10 months after the period to which they refer."},{"$f":"Information!D144","v":"Migration between Scotland and Overseas section of the NRS website"}]
[16,"Overseas out-migration",{"$f":"Information!D147","v":"Flow of persons from administrative areas in Scotland to overseas"},{"$f":"Information!D148","v":"These are the NRS National Statistics for overseas out-migration. There is not a single, all-inclusive system in place to measure all movements of the population into and out of the UK. Therefore, data from the International Passenger Survey (IPS), the Home Office, and the Labour Force Survey (LFS) is combined to compile the National Statistics estimates of international migration into Scotland. Data from the National Health Service Central Register (NHSCR) and the Community Health Index (CHI) is also used for this process. Figures for 2003/04 to 2010/11 have been revised from the previous release to include improvements in estimating international out-migration. More information on the methodology for the NRS migration estimates can be found in the Migration section of this website. Asylum seekers are included in these figures."},{"$f":"Information!D149","v":"These estimates are National Statistics."},{"$f":"CONCATENATE(Information!D150,Information!D151)","v":"The IPS sample size for Scotland is small, making the estimates less reliable. Estimates are only produced annually, about 10 months after the period to which they refer."},{"$f":"Information!D152","v":"Migration between Scotland and Overseas section of the NRS website"}]
[17,"National Insurance Number (NINo) allocations to adult overseas nationals entering the UK",{"$f":"Information!D173","v":"Inflow of overseas nationals"},{"$f":"Information!D174","v":"These data have been obtained using the Stat-Xplore tool on the DWP website, which has annual Council area data. Data used here is on a calendar year basis."},{"$f":"CONCATENATE(Information!D175,Information!D176,Information!D177)","v":"Includes any overseas national looking to work or claim benefits/tax credits in the UK, self-employed or students working part-time. Provides Council area level data. Location data relates to the residence of individual, not their employer."},{"$f":"CONCATENATE(Information!D178,Information!D179,Information!D180,Information!D181,Information!D182,Information!D183)","v":"Based on the date of registration not the date of arrival, and the lag between the two can often be a year or even longer. \nRandom adjustments have been applied to the data to avoid the disclosure of confidential information. Excludes those not working, or planning to work or claim benefits, so children and students that don't work are not included. Excludes returning UK nationals. Does not provide any outflow information or overall stock. Includes migrants staying less than one month as there is no minimum stay for registration. Data reflects the migrant's first destination or location at registration, not where migrants settle nor does it reflect the stock of migrants nationally."},{"$f":"Information!D184","v":"Department for Work and Pensions - Stat-Xplore"}]
[18,"Births to non-UK mothers",{"$f":"Information!D224","v":"Number of babies born each year to mothers who had a non-UK country of birth"},{"$f":"Information!D225","v":"This data comes from the NRS Vital Events branch and is collected when the birth is registered. This data is published annually on a calendar year basis. Data is available back to 1996."},{"$f":"Information!D226","v":"Gives an indication of migrants choosing to settle in an area."},{"$f":"Information!D227","v":"Only gives information on a very specific group of migrants (i.e. mothers having children)."},{"$f":"Information!D228","v":"Births section of the Vital Events Reference Tables on the NRS website"}]
[19,"Pupils from a minority ethnic group",{"$f":"Information!D200","v":"School aged children by ethnicity"},{"$f":"Information!D201","v":"These figures come from the Pupil Census which is collected by the Scottish Government through the ScotXed programme, and are available annually from 2003. The Pupil Census covers all publicly funded schools in Scotland (local authority and grant-aided). It is conducted in September and the data is published in December on the Scottish Government website."},{"$f":"CONCATENATE(Information!D202,Information!D203)","v":"Data is reasonably current. Can provide an indication of where migrant families with school aged children live, rather than work."},{"$f":"CONCATENATE(Information!D204,Information!D205,Information!D206,Information!D207,Information!D208)","v":"Provides no information about migrants without school aged children. Although over 97.5 per cent of pupils disclosed their ethnic background, some pupils' ethnicity was in the 'unknown' category. No specific nationality data. Only includes children in publicly funded schools. Non migrants may be from a minority ethnic group."},{"$f":"Information!D209","v":"Pupil Census, Scottish Government"}]
[20,"Pupils with English as an additional language",{"$f":"Information!D212","v":"Migrants from non-English speaking countries with school aged children"},{"$f":"Information!D213","v":"These figures come from the Pupil Census which is collected by the Scottish Government through the ScotXed programme, and are available annually from 2003. The Pupil Census covers all publicly funded schools in Scotland (local authority and grant-aided). It is conducted in September and the data is published in December on the Scottish Government website."},{"$f":"CONCATENATE(Information!D214,Information!D215)","v":"Data is reasonably current. Can provide an indication of where migrant families with school aged children live, rather than work."},{"$f":"CONCATENATE(Information!D216,Information!D217,Information!D218,Information!D219,Information!D220)","v":"Provides no information about migrants without school aged children. No specific nationality data. Only includes children in publicly funded schools. Excludes migrants from English speaking countries and those fluent in English. Includes non-recent migrants still speaking a different home language if pupils have English as an additional language."},{"$f":"Information!D221","v":"Pupil Census, Scottish Government"}]
[21,"Population born outside the UK",{"$f":"Information!D155","v":"resident population ('stock') of migrants based on those with non-UK country of birth"},{"$f":"Information!D156","v":"The country of birth data from the Annual Population Survey (APS) is used for this indicator. This information gives an estimate of the number of people living in Scotland who were born outside the UK. The data is available from 2004, on a calendar year basis. The APS comprises of data from the Labour Force Survey (LFS), plus data from the Annual Local (Area) Labour Force Survey Boosts for England, Scotland and Wales. It is updated quarterly and is published about 8 months after the time period to which it refers. Data is available at council area level although some data is suppressed. Suppressed estimates are indicated with a '*'. "},{"$f":"Information!D157","v":"Gives a more robust estimate of change over time than looking at nationality as an individual's nationality can change. "},{"$f":"CONCATENATE(Information!D158,Information!D159,Information!D160)","v":"LFS excludes most communal establishments and foreign students living in halls of residence, and so the number of foreign born migrants is likely to be under-reported. For some council areas an estimate cannot be made from the APS as the number of people born outside the UK is too small for the estimate to be reliable. Some people born outside the UK may have lived in the UK for a long time and are therefore not regarded as migrants."},{"$f":"Information!D161","v":"Population by Country of Birth and Nationality section of the NRS website"}]
[22,"Population with non-British nationality",{"$f":"Information!D164","v":"resident population ('stock') of migrants based on those with non-British nationality"},{"$f":"Information!D165","v":"The nationality data from the Annual Population Survey (APS) is used for this indicator. This information gives an estimate of the number of people living in Scotland who hold non-British nationality. The data is available from 2004, on a calendar year basis. The APS comprises of data from the Labour Force Survey (LFS), plus data from the Annual Local (Area) Labour Force Survey Boosts for England, Scotland and Wales. It is updated quarterly and is published about 8 months after the time period to which it refers. Data is available at council area level although some data is suppressed. Suppressed estimates are indicated with a '*'. "},{"$f":"Information!D166","v":"Gives a more up to date look at migration than country of birth data, as people who were born overseas but have lived here for many years are not regarded as migrants."},{"$f":"CONCATENATE(Information!D167,Information!D168,Information!D169)","v":"LFS excludes most communal establishments and foreign students living in halls of residence, and so the number of foreign born migrants is likely to be under-reported. For some council areas an estimate cannot be made from the APS as the number of people born outside the UK is too small for the estimate to be reliable. An individuals nationality can change, meaning time series' are less robust than for country of birth data."},{"$f":"Information!D170","v":"Population by Country of Birth and Nationality section of the NRS website"}]
[23,"Citizenships",{"$f":"Information!D231","v":"Overseas nationals gaining UK citizenship"},{"$f":"Information!D232","v":"Definition of citizenship ceremonies:  A ceremony organised by County or Local Authorities for successful applicants over 18 years of age for British citizenship. At the ceremony the applicant takes the Oath or Affirmation of allegiance to Her Majesty the Queen and the Pledge of loyalty to the United Kingdom. Since 1 January 2004 this has been the final stage in the process of attaining British citizenship. The citizenship ceremony is organised by the relevant local authority, and happens after the Home Office have processed the application."},{"$f":"Information!D233","v":"Shows the number of people aged 18 and over that have become British citizens."},{"$f":"Information!D234","v":"Citizenship is a complicated subject, and people will gain British Citizenship for a variety of different reasons."},{"$f":"Information!D235","v":"Home Office Immigration Statistics"}]

{"sheet":"Comparing Indicators","index":3,"n_rows":66,"n_cols":34,"rows_kept":66,"cut":false,"hidden":false,"merged":[[49,3,49,14],[52,3,52,14],[1,1,1,14],[3,2,3,5],[2,2,2,5],[38,3,38,14],[47,3,47,14],[45,3,45,14],[59,3,59,14],[43,3,43,14],[63,3,63,14],[6,2,6,15],[37,3,37,14],[40,3,40,13],[46,3,46,14],[61,3,61,14],[62,3,62,14],[53,3,53,14],[60,3,60,14],[54,3,54,14],[39,3,39,13],[55,3,55,14],[56,3,56,14],[48,3,48,14]]}
[null,null,null,null,null,null,null,null,null,null,null,null,null,null,null,null,null,null,"Geography",null,"Indicator","Timing",null,null,"Value",null,"Timing of Indicator data"]
[null,null,null,null,null,null,null,null,null,null,null,null,null,null,null,null,null,"Code - Geography",1,"Ind1",1,null,null,"Code - count/rate",1,null,null,{"$f":"I15","v":2011},{"$f":"J15","v":2012},2013,2014,2015,2016,2017]
[null,null,null,null,null,null,null,null,null,null,null,null,null,null,null,null,null,1,"Not specified","Ind2",1,1,"Mid-year",null,null,null,{"$f":"VLOOKUP($E$16,$U$7:$V$29,2,FALSE)","v":0},{"$f":"IF((VLOOKUP($S$2,INDIRECT(\"Data\"&AB2),$U$2+2,FALSE))=\"\",NA(),(VLOOKUP($S$2,INDIRECT(\"Data\"&AB2),$U$2+2,FALSE)))","v":{"$error":"#N/A"}},{"$f":"IF((VLOOKUP($S$2,INDIRECT(\"Data\"&AC2),$U$2+2,FALSE))=\"\",NA(),(VLOOKUP($S$2,INDIRECT(\"Data\"&AC2),$U$2+2,FALSE)))","v":{"$error":"#N/A"}},{"$error":"#N/A"},{"$f":"IF((VLOOKUP($S$2,INDIRECT(\"Data\"&AE2),$U$2+2,FALSE))=\"\",NA(),(VLOOKUP($S$2,INDIRECT(\"Data\"&AE2),$U$2+2,FALSE)))","v":{"$error":"#N/A"}},{"$f":"IF((VLOOKUP($S$2,INDIRECT(\"Data\"&AF2),$U$2+2,FALSE))=\"\",NA(),(VLOOKUP($S$2,INDIRECT(\"Data\"&AF2),$U$2+2,FALSE)))","v":{"$error":"#N/A"}},{"$f":"IF((VLOOKUP($S$2,INDIRECT(\"Data\"&AG2),$U$2+2,FALSE))=\"\",NA(),(VLOOKUP($S$2,INDIRECT(\"Data\"&AG2),$U$2+2,FALSE)))","v":{"$error":"#N/A"}},{"$f":"IF((VLOOKUP($S$2,INDIRECT(\"Data\"&AH2),$U$2+2,FALSE))=\"\",NA(),(VLOOKUP($S$2,INDIRECT(\"Data\"&AH2),$U$2+2,FALSE)))","v":{"$error":"#N/A"}}]
[null,null,null,null,null,null,null,null,null,null,null,null,null,null,null,null,null,2,"SCOTLAND","Ind3",1,2,"Calendar year"]
[null,null,null,null,null,null,null,null,null,null,null,null,null,null,null,null,null,3,"Aberdeen City",null,null,null,null,null,null,null,{"$f":"VLOOKUP($E$18,$U$7:$V$29,2,FALSE)","v":0},{"$f":"IF((VLOOKUP($S$2,INDIRECT(\"Data\"&AB2),$U$3+2,FALSE))=\"\",NA(),(VLOOKUP($S$2,INDIRECT(\"Data\"&AB2),$U$3+2,FALSE)))","v":{"$error":"#N/A"}},{"$f":"IF((VLOOKUP($S$2,INDIRECT(\"Data\"&AC2),$U$3+2,FALSE))=\"\",NA(),(VLOOKUP($S$2,INDIRECT(\"Data\"&AC2),$U$3+2,FALSE)))","v":{"$error":"#N/A"}},{"$error":"#N/A"},{"$error":"#N/A"},{"$error":"#N/A"},{"$error":"#N/A"},{"$error":"#N/A"}]
[null,null,null,null,null,null,null,null,null,null,null,null,null,null,null,null,null,4,"Aberdeenshire"]
[null,null,"Comparing Indicators",null,null,null,null,null,null,null,null,null,null,null,null,null,null,5,"Angus",1,"Not specified",null,null,1,"Count",null,{"$f":"VLOOKUP($E$20,$U$7:$V$29,2,FALSE)","v":0},{"$f":"IF((VLOOKUP($S$2,INDIRECT(\"Data\"&AB2),$U$4+2,FALSE))=\"\",NA(),(VLOOKUP($S$2,INDIRECT(\"Data\"&AB2),$U$4+2,FALSE)))","v":{"$error":"#N/A"}},{"$f":"IF((VLOOKUP($S$2,INDIRECT(\"Data\"&AC2),$U$4+2,FALSE))=\"\",NA(),(VLOOKUP($S$2,INDIRECT(\"Data\"&AC2),$U$4+2,FALSE)))","v":{"$error":"#N/A"}},{"$error":"#N/A"},{"$error":"#N/A"},{"$error":"#N/A"},{"$error":"#N/A"},{"$error":"#N/A"}]
[null,null,null,null,null,null,null,null,null,null,null,null,null,null,null,null,null,6,"Argyll and Bute",2,"Total net migration",1,null,2,"Rate per 1000"]
[null,null,null,null,null,null,null,null,null,null,null,null,null,null,null,null,null,7,"City of Edinburgh",3,"Total net migration for ages 0-15",1]
[null,null,null,null,null,null,null,null,null,null,null,null,null,null,null,null,null,8,"Clackmannanshire",4,"Total net migration for ages 16-64",1]
[null,null,"Geography",null,{"$f":"VLOOKUP($S$2,$R$3:$S$36,2)","v":"Not specified"},null,null,null,null,null,null,null,null,null,null,null,null,9,"Dumfries and Galloway",5,"Total net migration for people aged 65+",1]
[null,null,null,null,null,null,null,null,null,null,null,null,null,null,null,null,null,10,"Dundee City",6,"Total in-migration",1]
[null,null,"Value",null,{"$f":"VLOOKUP($Y$2,$X$7:$Y$8,2)","v":"Count"},null,null,null,null,null,null,null,null,null,null,null,null,11,"East Ayrshire",7,"Total out-migration",1,null,null,null,null,null,{"$f":"I15","v":2011},2012,2013,2014,2015,2016,2017]
[null,null,null,null,null,null,null,null,null,null,null,null,null,null,null,null,null,12,"East Dunbartonshire",8,"Within Scotland net migration",1,null,null,null,null,null,{"$f":"IF((VLOOKUP($S$2,INDIRECT(\"Rate\"&AB13),$U$2+2,FALSE))=\"\",NA(),(VLOOKUP($S$2,INDIRECT(\"Rate\"&AB13),$U$2+2,FALSE)))","v":{"$error":"#N/A"}},{"$f":"IF((VLOOKUP($S$2,INDIRECT(\"Rate\"&AC13),$U$2+2,FALSE))=\"\",NA(),(VLOOKUP($S$2,INDIRECT(\"Rate\"&AC13),$U$2+2,FALSE)))","v":{"$error":"#N/A"}},{"$error":"#N/A"},{"$error":"#N/A"},{"$error":"#N/A"},{"$error":"#N/A"},{"$f":"IF((VLOOKUP($S$2,INDIRECT(\"Rate\"&AH13),$U$2+2,FALSE))=\"\",NA(),(VLOOKUP($S$2,INDIRECT(\"Rate\"&AH13),$U$2+2,FALSE)))","v":{"$error":"#N/A"}}]
[null,null,null,null,null,null,"Timing of data",null,2011,2012,2013,2014,2015,2016,2017,null,null,13,"East Lothian",9,"Within Scotland in-migration",1]
[null,null,"Indicator",null,{"$f":"VLOOKUP($U$2,$T$7:$U$29,2)","v":"Not specified"},null,{"$f":"VLOOKUP(AA3,$V$3:$W$4,2)","v":{"$error":"#N/A"}},null,{"$f":"IF($Y$2=1,AB3,AB14)","v":{"$error":"#N/A"}},{"$f":"IF($Y$2=1,AC3,AC14)","v":{"$error":"#N/A"}},{"$error":"#N/A"},{"$error":"#N/A"},{"$error":"#N/A"},{"$error":"#N/A"},{"$f":"IF($Y$2=1,AH3,AH14)","v":{"$error":"#N/A"}},null,null,14,"East Renfrewshire",10,"Within Scotland out-migration",1,null,null,null,null,null,{"$f":"IF((VLOOKUP($S$2,INDIRECT(\"Rate\"&AB13),$U$3+2,FALSE))=\"\",NA(),(VLOOKUP($S$2,INDIRECT(\"Rate\"&AB13),$U$3+2,FALSE)))","v":{"$error":"#N/A"}},{"$f":"IF((VLOOKUP($S$2,INDIRECT(\"Rate\"&AC2),$U$3+2,FALSE))=\"\",NA(),(VLOOKUP($S$2,INDIRECT(\"Rate\"&AC2),$U$3+2,FALSE)))","v":{"$error":"#N/A"}},{"$error":"#N/A"},{"$error":"#N/A"},{"$error":"#N/A"},{"$error":"#N/A"},{"$f":"IF((VLOOKUP($S$2,INDIRECT(\"Rate\"&AH2),$U$3+2,FALSE))=\"\",NA(),(VLOOKUP($S$2,INDIRECT(\"Rate\"&AH2),$U$3+2,FALSE)))","v":{"$error":"#N/A"}}]
[null,null,null,null,null,null,null,null,null,null,null,null,null,null,null,null,null,15,"Falkirk",11,"Rest of UK net migration",1]
[null,null,"Indicator",null,{"$f":"VLOOKUP($U$3,$T$7:$U$29,2)","v":"Not specified"},null,{"$f":"VLOOKUP(AA5,$V$2:$W$4,2)","v":{"$error":"#N/A"}},null,{"$f":"IF($Y$2=1,AB5,AB16)","v":{"$error":"#N/A"}},{"$error":"#N/A"},{"$error":"#N/A"},{"$error":"#N/A"},{"$error":"#N/A"},{"$error":"#N/A"},{"$f":"IF($Y$2=1,AH5,AH16)","v":{"$error":"#N/A"}},null,null,16,"Fife",12,"Rest of UK in-migration",1,null,null,null,null,null,{"$f":"IF((VLOOKUP($S$2,INDIRECT(\"Rate\"&AB13),$U$4+2,FALSE))=\"\",NA(),(VLOOKUP($S$2,INDIRECT(\"Rate\"&AB13),$U$4+2,FALSE)))","v":{"$error":"#N/A"}},{"$f":"IF((VLOOKUP($S$2,INDIRECT(\"Rate\"&AC2),$U$4+2,FALSE))=\"\",NA(),(VLOOKUP($S$2,INDIRECT(\"Rate\"&AC2),$U$4+2,FALSE)))","v":{"$error":"#N/A"}},{"$error":"#N/A"},{"$error":"#N/A"},{"$error":"#N/A"},{"$error":"#N/A"},{"$error":"#N/A"}]
[null,null,null,null,null,null,null,null,null,null,null,null,null,null,null,null,null,17,"Glasgow City",13,"Rest of UK out-migration",1]
[null,null,"Indicator",null,{"$f":"VLOOKUP($U$4,$T$7:$U$29,2)","v":"Not specified"},null,{"$f":"VLOOKUP($AA$7,$V$3:$W$4,2)","v":{"$error":"#N/A"}},null,{"$f":"IF($Y$2=1,AB7,AB18)","v":{"$error":"#N/A"}},{"$error":"#N/A"},{"$error":"#N/A"},{"$error":"#N/A"},{"$error":"#N/A"},{"$error":"#N/A"},{"$f":"IF($Y$2=1,AH7,AH18)","v":{"$error":"#N/A"}},null,null,18,"Highland",14,"Overseas net migration",1]
[null,null,null,null,null,null,null,null,null,null,null,null,null,null,null,null,null,19,"Inverclyde",15,"Overseas in-migration",1]
[null,null,null,null,null,null,null,null,null,null,null,null,null,null,null,null,null,20,"Midlothian",16,"Overseas out-migration",1]
[null,null,null,null,null,null,null,null,null,null,null,null,null,null,null,null,null,21,"Moray",17,"NINo Allocation",2]
[null,null,null,null,null,null,null,null,null,null,null,null,null,null,null,null,null,22,"Na h-Eileanan Siar",18,"Births to non-UK mothers",2]
[null,null,null,null,null,null,null,null,null,null,null,null,null,null,null,null,null,23,"North Ayrshire",19,"Pupils from a minority ethnic group",2]
[null,null,null,null,null,null,null,null,null,null,null,null,null,null,null,null,null,24,"North Lanarkshire",20,"Pupils with English as an additional language",2]
[null,null,null,null,null,null,null,null,null,null,null,null,null,null,null,null,null,25,"Orkney Islands",21,"Population born outside the UK",2]
[null,null,null,null,null,null,null,null,null,null,null,null,null,null,null,null,null,26,"Perth and Kinross",22,"Population with non-British nationality",2]
[null,null,null,null,null,null,null,null,null,null,null,null,null,null,null,null,null,27,"Renfrewshire",23,"Citizenships",2]
[null,null,null,null,null,null,null,null,null,null,null,null,null,null,null,null,null,28,"Scottish Borders"]
[null,null,null,null,null,null,null,null,null,null,null,null,null,null,null,null,null,29,"Shetland Islands"]
[null,null,null,null,null,null,null,null,null,null,null,null,null,null,null,null,null,30,"South Ayrshire"]
[null,null,null,null,null,null,null,null,null,null,null,null,null,null,null,null,null,31,"South Lanarkshire"]
[null,null,null,null,null,null,null,null,null,null,null,null,null,null,null,null,null,32,"Stirling"]
[null,null,null,null,null,null,null,null,null,null,null,null,null,null,null,null,null,33,"West Dunbartonshire"]
[null,null,null,null,null,null,null,null,null,null,null,null,null,null,null,null,null,34,"West Lothian"]
[]
[]
[]
[]
[]
[]
[null,"Information on Indicators"]
[]
[null,{"$f":"VLOOKUP($U$2,'Info lookup'!$A$3:$B$25,2)","v":"Not specified"}]
[null,"Indicator of:",null,{"$f":"VLOOKUP($U$2,'Info lookup'!$A$2:$F$25,3)","v":"~"}]
[null,"Information:",null,{"$f":"VLOOKUP($U$2,'Info lookup'!$A$2:$F$25,4)","v":"~"}]
[null,"Strengths:",null,{"$f":"VLOOKUP($U$2,'Info lookup'!$A$2:$F$25,5)","v":"~"}]
[null,"Weaknesses:",null,{"$f":"VLOOKUP($U$2,'Info lookup'!$A$2:$F$25,6)","v":"~"}]
[null,"Source:",null,{"$f":"VLOOKUP($U$2,'Info lookup'!$A$2:$G$25,7)","v":"~"}]
[]
[null,{"$f":"VLOOKUP($U$3,'Info lookup'!$A$3:$F$25,2)","v":"Not specified"}]
[null,"Indicator of:",null,{"$f":"VLOOKUP($U$3,'Info lookup'!$A$2:$F$25,3)","v":"~"}]
[null,"Information:",null,{"$f":"VLOOKUP($U$3,'Info lookup'!$A$2:$F$25,4)","v":"~"}]
[null,"Strengths:",null,{"$f":"VLOOKUP($U$3,'Info lookup'!$A$2:$F$25,5)","v":"~"}]
[null,"Weaknesses:",null,{"$f":"VLOOKUP($U$3,'Info lookup'!$A$2:$F$25,6)","v":"~"}]
[null,"Source:",null,{"$f":"VLOOKUP($U$3,'Info lookup'!$A$2:$G$25,7)","v":"~"}]
[]
[null,{"$f":"VLOOKUP($U$4,'Info lookup'!$A$3:$F$25,2)","v":"Not specified"}]
[null,"Indicator of:",null,{"$f":"VLOOKUP($U$4,'Info lookup'!$A$2:$F$25,3)","v":"~"}]
[null,"Information:",null,{"$f":"VLOOKUP($U$4,'Info lookup'!$A$2:$F$25,4)","v":"~"}]
[null,"Strengths:",null,{"$f":"VLOOKUP($U$4,'Info lookup'!$A$2:$F$25,5)","v":"~"}]
[null,"Weaknesses:",null,{"$f":"VLOOKUP($U$4,'Info lookup'!$A$2:$F$25,6)","v":"~"}]
[null,"Source:",null,{"$f":"VLOOKUP($U$4,'Info lookup'!$A$2:$G$25,7)","v":"~"}]
[]
[null,"© Crown Copyright 2018"]

{"sheet":"Comparing Areas","index":4,"n_rows":50,"n_cols":32,"rows_kept":50,"cut":false,"hidden":false,"merged":[[1,1,1,7],[2,1,2,7],[5,1,5,15],[46,3,46,14],[47,3,47,14],[44,3,44,14],[45,3,45,14],[43,3,43,14],[6,1,6,15],[42,1,42,14]]}
[null,null,null,null,null,null,null,null,null,null,null,null,null,null,null,null,null,null,"Geography",null,"Indicator","Timing",null,"Value"]
[null,null,null,null,null,null,null,null,null,null,null,null,null,null,null,null,null,"Code - Geography 1",1,"Code - indicator",1,"Code",1,"Code - count/rate",1]
[null,null,null,null,null,null,null,null,null,null,null,null,null,null,null,null,null,"Code - Geography 2",1,null,null,1,"Mid-year",1,"Count"]
[null,null,null,null,null,null,null,null,null,null,null,null,null,null,null,null,null,"Code - Geography 3",1,null,null,2,"Calendar year",2,"Rate per 1000","Count"]
[null,null,null,null,null,null,null,null,null,null,null,null,null,null,null,null,null,null,null,null,null,null,null,null,null,{"$f":"I15","v":2011},2012,2013,2014,2015,2016,2017]
[null,null,null,null,null,null,null,null,null,null,null,null,null,null,null,null,null,null,null,null,null,null,null,null,null,{"$f":"IF((VLOOKUP($S$2,INDIRECT(\"Data\"&Z5),$U$2+2,FALSE))=\"\",NA(),(VLOOKUP($S$2,INDIRECT(\"Data\"&Z5),$U$2+2,FALSE)))","v":{"$error":"#N/A"}},{"$f":"IF((VLOOKUP($S$2,INDIRECT(\"Data\"&AA5),$U$2+2,FALSE))=\"\",NA(),(VLOOKUP($S$2,INDIRECT(\"Data\"&AA5),$U$2+2,FALSE)))","v":{"$error":"#N/A"}},{"$error":"#N/A"},{"$error":"#N/A"},{"$error":"#N/A"},{"$error":"#N/A"},{"$f":"IF((VLOOKUP($S$2,INDIRECT(\"Data\"&AF5),$U$2+2,FALSE))=\"\",NA(),(VLOOKUP($S$2,INDIRECT(\"Data\"&AF5),$U$2+2,FALSE)))","v":{"$error":"#N/A"}}]
[null,"Comparing Areas",null,null,null,null,null,null,null,null,null,null,null,null,null,null,null,null,null,null,null,null,null,null,null,{"$f":"IF((VLOOKUP($S$3,INDIRECT(\"Data\"&Z5),$U$2+2,FALSE))=\"\",NA(),(VLOOKUP($S$3,INDIRECT(\"Data\"&Z5),$U$2+2,FALSE)))","v":{"$error":"#N/A"}},{"$f":"IF((VLOOKUP($S$3,INDIRECT(\"Data\"&AA5),$U$2+2,FALSE))=\"\",NA(),(VLOOKUP($S$3,INDIRECT(\"Data\"&AA5),$U$2+2,FALSE)))","v":{"$error":"#N/A"}},{"$error":"#N/A"},{"$error":"#N/A"},{"$error":"#N/A"},{"$error":"#N/A"},{"$error":"#N/A"}]
[null,null,null,null,null,null,null,null,null,null,null,null,null,null,null,null,null,null,null,null,null,null,null,null,null,{"$f":"IF((VLOOKUP($S$4,INDIRECT(\"Data\"&Z5),$U$2+2,FALSE))=\"\",NA(),(VLOOKUP($S$4,INDIRECT(\"Data\"&Z5),$U$2+2,FALSE)))","v":{"$error":"#N/A"}},{"$f":"IF((VLOOKUP($S$4,INDIRECT(\"Data\"&AA5),$U$2+2,FALSE))=\"\",NA(),(VLOOKUP($S$4,INDIRECT(\"Data\"&AA5),$U$2+2,FALSE)))","v":{"$error":"#N/A"}},{"$error":"#N/A"},{"$error":"#N/A"},{"$error":"#N/A"},{"$error":"#N/A"},{"$error":"#N/A"}]
[]
[null,null,null,null,null,null,null,null,null,null,null,null,null,null,null,null,null,null,null,null,null,null,null,null,null,"Rate"]
[null,null,"Indicator",null,{"$f":"VLOOKUP($U$2,$T$14:$U$36,2)","v":"Not specified"},null,null,null,null,null,null,null,null,null,null,null,null,null,null,null,"Calendar/mid-year code",{"$f":"VLOOKUP(U2,T14:V34,3)","v":1},null,null,null,{"$f":"I15","v":2011},2012,2013,2014,2015,2016,2017]
[null,null,null,null,null,null,null,null,null,null,null,null,null,null,null,null,null,null,null,null,null,null,null,null,null,{"$f":"IF((VLOOKUP($S$2,INDIRECT(\"Rate\"&Z11),$U$2+2,FALSE))=\"\",NA(),(VLOOKUP($S$2,INDIRECT(\"Rate\"&Z11),$U$2+2,FALSE)))","v":{"$error":"#N/A"}},{"$f":"IF((VLOOKUP($S$2,INDIRECT(\"Rate\"&AA11),$U$2+2,FALSE))=\"\",NA(),(VLOOKUP($S$2,INDIRECT(\"Rate\"&AA11),$U$2+2,FALSE)))","v":{"$error":"#N/A"}},{"$error":"#N/A"},{"$error":"#N/A"},{"$error":"#N/A"},{"$error":"#N/A"},{"$f":"IF((VLOOKUP($S$2,INDIRECT(\"Rate\"&AF11),$U$2+2,FALSE))=\"\",NA(),(VLOOKUP($S$2,INDIRECT(\"Rate\"&AF11),$U$2+2,FALSE)))","v":{"$error":"#N/A"}}]
[null,null,"Value",null,{"$f":"VLOOKUP($Y$2,$X$3:$Y$4,2)","v":"Count"},null,null,null,null,null,{"$f":"VLOOKUP($V$11,$V$3:$W$4,2)","v":"Mid-year"},null,null,null,null,null,null,null,null,null,null,null,null,null,null,{"$f":"IF((VLOOKUP($S$3,INDIRECT(\"Rate\"&Z11),$U$2+2,FALSE))=\"\",NA(),(VLOOKUP($S$3,INDIRECT(\"Rate\"&Z11),$U$2+2,FALSE)))","v":{"$error":"#N/A"}},{"$f":"IF((VLOOKUP($S$3,INDIRECT(\"Rate\"&AA11),$U$2+2,FALSE))=\"\",NA(),(VLOOKUP($S$3,INDIRECT(\"Rate\"&AA11),$U$2+2,FALSE)))","v":{"$error":"#N/A"}},{"$error":"#N/A"},{"$error":"#N/A"},{"$error":"#N/A"},{"$error":"#N/A"},{"$error":"#N/A"}]
[null,null,null,null,null,null,null,null,null,null,null,null,null,null,null,null,null,1,"Not specified",1,"Not specified",1,null,null,null,{"$f":"IF((VLOOKUP($S$4,INDIRECT(\"Rate\"&Z11),$U$2+2,FALSE))=\"\",NA(),(VLOOKUP($S$4,INDIRECT(\"Rate\"&Z11),$U$2+2,FALSE)))","v":{"$error":"#N/A"}},{"$error":"#N/A"},{"$error":"#N/A"},{"$error":"#N/A"},{"$error":"#N/A"},{"$error":"#N/A"},{"$error":"#N/A"}]
[null,null,null,null,null,null,null,null,2011,2012,2013,2014,2015,2016,2017,null,null,2,"SCOTLAND",2,{"$f":"'Comparing Indicators'!U8","v":"Total net migration"},1]
[null,null,"Geography",null,{"$f":"VLOOKUP($S$2,$R$14:$S$47,2)","v":"Not specified"},null,null,null,{"$f":"IF($Y$2=1,Z6,Z12)","v":{"$error":"#N/A"}},{"$f":"IF($Y$2=1,AA6,AA12)","v":{"$error":"#N/A"}},{"$error":"#N/A"},{"$error":"#N/A"},{"$error":"#N/A"},{"$error":"#N/A"},{"$error":"#N/A"},null,null,3,"Aberdeen City",3,{"$f":"'Comparing Indicators'!U9","v":"Total net migration for ages 0-15"},1]
[null,null,null,null,null,null,null,null,null,null,null,null,null,null,null,null,null,4,"Aberdeenshire",4,{"$f":"'Comparing Indicators'!U10","v":"Total net migration for ages 16-64"},1]
[null,null,"Geography",null,{"$f":"VLOOKUP($S$3,$R$14:$S$47,2)","v":"Not specified"},null,null,null,{"$f":"IF($Y$2=1,Z7,Z13)","v":{"$error":"#N/A"}},{"$f":"IF($Y$2=1,AA7,AA13)","v":{"$error":"#N/A"}},{"$error":"#N/A"},{"$error":"#N/A"},{"$error":"#N/A"},{"$error":"#N/A"},{"$error":"#N/A"},null,null,5,"Angus",5,{"$f":"'Comparing Indicators'!U11","v":"Total net migration for people aged 65+"},1]
[null,null,null,null,null,null,null,null,null,null,null,null,null,null,null,null,null,6,"Argyll and Bute",6,{"$f":"'Comparing Indicators'!U12","v":"Total in-migration"},1]
[null,null,"Geography",null,{"$f":"VLOOKUP($S$4,$R$14:$S$47,2)","v":"Not specified"},null,null,null,{"$f":"IF($Y$2=1,Z8,Z14)","v":{"$error":"#N/A"}},{"$f":"IF($Y$2=1,AA8,AA14)","v":{"$error":"#N/A"}},{"$error":"#N/A"},{"$error":"#N/A"},{"$error":"#N/A"},{"$error":"#N/A"},{"$error":"#N/A"},null,null,7,"City of Edinburgh",7,{"$f":"'Comparing Indicators'!U13","v":"Total out-migration"},1]
[null,null,null,null,null,null,null,null,null,null,null,null,null,null,null,null,null,8,"Clackmannanshire",8,{"$f":"'Comparing Indicators'!U14","v":"Within Scotland net migration"},1]
[null,null,null,null,null,null,null,null,null,null,null,null,null,null,null,null,null,9,"Dumfries and Galloway",9,{"$f":"'Comparing Indicators'!U15","v":"Within Scotland in-migration"},1]
[null,null,null,null,null,null,null,null,null,null,null,null,null,null,null,null,null,10,"Dundee City",10,{"$f":"'Comparing Indicators'!U16","v":"Within Scotland out-migration"},1]
[null,null,null,null,null,null,null,null,null,null,null,null,null,null,null,null,null,11,"East Ayrshire",11,{"$f":"'Comparing Indicators'!U17","v":"Rest of UK net migration"},1]
[null,null,null,null,null,null,null,null,null,null,null,null,null,null,null,null,null,12,"East Dunbartonshire",12,{"$f":"'Comparing Indicators'!U18","v":"Rest of UK in-migration"},1]
[null,null,null,null,null,null,null,null,null,null,null,null,null,null,null,null,null,13,"East Lothian",13,{"$f":"'Comparing Indicators'!U19","v":"Rest of UK out-migration"},1]
[null,null,null,null,null,null,null,null,null,null,null,null,null,null,null,null,null,14,"East Renfrewshire",14,{"$f":"'Comparing Indicators'!U20","v":"Overseas net migration"},1]
[null,null,null,null,null,null,null,null,null,null,null,null,null,null,null,null,null,15,"Falkirk",15,{"$f":"'Comparing Indicators'!U21","v":"Overseas in-migration"},1]
[null,null,null,null,null,null,null,null,null,null,null,null,null,null,null,null,null,16,"Fife",16,{"$f":"'Comparing Indicators'!U22","v":"Overseas out-migration"},1]
[null,null,null,null,null,null,null,null,null,null,null,null,null,null,null,null,null,17,"Glasgow City",17,{"$f":"'Comparing Indicators'!U23","v":"NINo Allocation"},2]
[null,null,null,null,null,null,null,null,null,null,null,null,null,null,null,null,null,18,"Highland",18,{"$f":"'Comparing Indicators'!U24","v":"Births to non-UK mothers"},2]
[null,null,null,null,null,null,null,null,null,null,null,null,null,null,null,null,null,19,"Inverclyde",19,{"$f":"'Comparing Indicators'!U25","v":"Pupils from a minority ethnic group"},2]
[null,null,null,null,null,null,null,null,null,null,null,null,null,null,null,null,null,20,"Midlothian",20,{"$f":"'Comparing Indicators'!U26","v":"Pupils with English as an additional language"},2]
[null,null,null,null,null,null,null,null,null,null,null,null,null,null,null,null,null,21,"Moray",21,{"$f":"'Comparing Indicators'!U27","v":"Population born outside the UK"},2]
[null,null,null,null,null,null,null,null,null,null,null,null,null,null,null,null,null,22,"Na h-Eileanan Siar",22,{"$f":"'Comparing Indicators'!U28","v":"Population with non-British nationality"},2]
[null,null,null,null,null,null,null,null,null,null,null,null,null,null,null,null,null,23,"North Ayrshire",23,{"$f":"'Comparing Indicators'!U29","v":"Citizenships"},2]
[null,null,null,null,null,null,null,null,null,null,null,null,null,null,null,null,null,24,"North Lanarkshire"]
[null,null,null,null,null,null,null,null,null,null,null,null,null,null,null,null,null,25,"Orkney Islands"]
[null,null,null,null,null,null,null,null,null,null,null,null,null,null,null,null,null,26,"Perth and Kinross"]
[null,null,null,null,null,null,null,null,null,null,null,null,null,null,null,null,null,27,"Renfrewshire"]
[null,null,null,null,null,null,null,null,null,null,null,null,null,null,null,null,null,28,"Scottish Borders"]
[null,null,null,null,null,null,null,null,null,null,null,null,null,null,null,null,null,29,"Shetland Islands"]
[null,{"$f":"VLOOKUP($U$2,'Info lookup'!$A$3:$F$25,2)","v":"Not specified"},null,null,null,null,null,null,null,null,null,null,null,null,null,null,null,30,"South Ayrshire"]
[null,"Indicator of:",null,{"$f":"VLOOKUP($U$2,'Info lookup'!$A$4:$F$25,3)","v":{"$error":"#N/A"}},null,null,null,null,null,null,null,null,null,null,null,null,null,31,"South Lanarkshire"]
[null,"Information:",null,{"$f":"VLOOKUP($U$2,'Info lookup'!$A$4:$F$25,4)","v":{"$error":"#N/A"}},null,null,null,null,null,null,null,null,null,null,null,null,null,32,"Stirling"]
[null,"Strengths:",null,{"$f":"VLOOKUP($U$2,'Info lookup'!$A$4:$F$25,5)","v":{"$error":"#N/A"}},null,null,null,null,null,null,null,null,null,null,null,null,null,33,"West Dunbartonshire"]
[null,"Weaknesses:",null,{"$f":"VLOOKUP($U$2,'Info lookup'!$A$4:$F$25,6)","v":{"$error":"#N/A"}},null,null,null,null,null,null,null,null,null,null,null,null,null,34,"West Lothian"]
[null,"Source:",null,{"$f":"VLOOKUP($U$2,'Info lookup'!$A$4:$G$25,7)","v":{"$error":"#N/A"}}]
[]
[null,"© Crown Copyright 2018"]

{"sheet":"Comparing NHS Board Areas","index":5,"n_rows":53,"n_cols":38,"rows_kept":53,"cut":false,"hidden":false,"merged":[[5,27,5,28],[54,3,54,16],[44,3,44,14],[45,3,45,14],[46,3,46,14],[47,3,47,14],[53,3,53,16],[50,1,50,11],[0,18,0,19],[5,24,5,25],[2,1,2,7],[12,10,12,12],[43,3,43,14],[42,1,42,14],[1,1,1,7],[6,1,6,15]]}
[null,null,null,null,null,null,null,null,null,null,null,null,null,null,null,null,null,null,"Health Board Areas",null,null,null,"Indicator"]
[null,null,null,null,null,null,null,null,null,null,null,null,null,null,null,null,null,null,"HB area 1",1,null,"Ind",1]
[null,null,null,null,null,null,null,null,null,null,null,null,null,null,null,null,null,null,"HB area 2",1]
[null,null,null,null,null,null,null,null,null,null,null,null,null,null,null,null,null,null,"HB area 3",1]
[]
[null,null,null,null,null,null,null,null,null,null,null,null,null,null,null,null,null,null,null,null,null,null,null,null,"Timing",null,null,"Value",null,null,null,"Count"]
[null,"Comparing NHS Board Areas",null,null,null,null,null,null,null,null,null,null,null,null,null,null,null,null,null,1,null,1,1,null,"Code",{"$f":"VLOOKUP($W$2,$V$11:$X$27,3)","v":0},null,null,null,1,null,{"$f":"I15","v":2011},2012,2013,2014,2015,2016,2017]
[null,null,null,null,null,null,null,null,null,null,null,null,null,null,null,null,null,null,null,1,null,null,null,null,null,null,null,null,null,null,null,{"$f":"IF((VLOOKUP(($T$2+34),INDIRECT(\"Data\"&AF7),$W$2+2,FALSE))=\"\",NA(),(VLOOKUP($T$2+34,INDIRECT(\"Data\"&AF7),$W$2+2,FALSE)))","v":{"$error":"#N/A"}},{"$error":"#N/A"},{"$error":"#N/A"},{"$error":"#N/A"},{"$error":"#N/A"},{"$error":"#N/A"},{"$error":"#N/A"}]
[null,null,null,null,null,null,null,null,null,null,null,null,null,null,null,null,null,null,null,1,null,null,null,null,null,null,null,null,null,null,null,{"$f":"IF((VLOOKUP(($T$3+34),INDIRECT(\"Data\"&AF7),$W$2+2,FALSE))=\"\",NA(),(VLOOKUP($T$3+34,INDIRECT(\"Data\"&AF7),$W$2+2,FALSE)))","v":{"$error":"#N/A"}},{"$error":"#N/A"},{"$error":"#N/A"},{"$error":"#N/A"},{"$error":"#N/A"},{"$error":"#N/A"},{"$error":"#N/A"}]
[null,null,null,null,null,null,null,null,null,null,null,null,null,null,null,null,null,null,null,null,null,null,null,"Timing codes",null,null,null,null,null,null,null,{"$f":"IF((VLOOKUP(($T$4+34),INDIRECT(\"Data\"&AF7),$W$2+2,FALSE))=\"\",NA(),(VLOOKUP($T$4+34,INDIRECT(\"Data\"&AF7),$W$2+2,FALSE)))","v":{"$error":"#N/A"}},{"$error":"#N/A"},{"$error":"#N/A"},{"$error":"#N/A"},{"$error":"#N/A"},{"$error":"#N/A"},{"$error":"#N/A"}]
[null,null,"Indicator",null,{"$f":"VLOOKUP($W$2,HBIndicatorCode,2)","v":"Not specified"},null,null,null,null,null,null,null,null,null,null,null,null,null,1,"Not specified",null,1,"Not specified",null,1,"Mid-year",null,1,"Count"]
[null,null,null,null,null,null,null,null,null,null,null,null,null,null,null,null,null,null,2,"SCOTLAND",null,2,"Total net migration",1,2,"Calendar year",null,2,"Rate per 1000",null,null,"Rate"]
[null,null,"Value",null,{"$f":"VLOOKUP($AD$7,$AB$11:$AC$12,2)","v":"Count"},null,null,null,null,null,{"$f":"VLOOKUP($Z$7,TimingCode,2)","v":{"$error":"#N/A"}},null,null,null,null,null,null,null,3,"Ayrshire and Arran",null,3,"Total net migration for ages 0-15",1,null,null,null,null,null,null,null,{"$f":"I15","v":2011},2012,2013,2014,2015,2016,2017]
[null,null,null,null,null,null,null,null,null,null,null,null,null,null,null,null,null,null,4,"Borders",null,4,"Total net migration for ages 16-64",1,null,null,null,null,null,null,null,{"$f":"IF((VLOOKUP(($T$2+34),INDIRECT(\"Rate\"&AF13),$W$2+2,FALSE))=\"\",NA(),(VLOOKUP($T$2+34,INDIRECT(\"Rate\"&AF13),$W$2+2,FALSE)))","v":{"$error":"#N/A"}},{"$error":"#N/A"},{"$error":"#N/A"},{"$error":"#N/A"},{"$error":"#N/A"},{"$error":"#N/A"},{"$error":"#N/A"}]
[null,null,null,null,null,null,null,null,2011,2012,2013,2014,2015,2016,2017,null,null,null,5,"Dumfries and Galloway",null,5,"Total net migration for people aged 65+",1,null,null,null,null,null,null,null,{"$f":"IF((VLOOKUP(($T$3+34),INDIRECT(\"Rate\"&AF13),$W$2+2,FALSE))=\"\",NA(),(VLOOKUP($T$3+34,INDIRECT(\"Rate\"&AF13),$W$2+2,FALSE)))","v":{"$error":"#N/A"}},{"$error":"#N/A"},{"$error":"#N/A"},{"$error":"#N/A"},{"$error":"#N/A"},{"$error":"#N/A"},{"$error":"#N/A"}]
[null,null,"Geography",null,{"$f":"VLOOKUP($T$2,HBCode,2)","v":"Not specified"},null,null,null,{"$f":"IF($AD$7=1,AF8,AF14)","v":{"$error":"#N/A"}},{"$error":"#N/A"},{"$error":"#N/A"},{"$error":"#N/A"},{"$error":"#N/A"},{"$error":"#N/A"},{"$error":"#N/A"},null,null,null,6,"Fife",null,6,"Total in-migration",1,null,null,null,null,null,null,null,{"$f":"IF((VLOOKUP(($T$4+34),INDIRECT(\"Rate\"&AF13),$W$2+2,FALSE))=\"\",NA(),(VLOOKUP($T$4+34,INDIRECT(\"Rate\"&AF13),$W$2+2,FALSE)))","v":{"$error":"#N/A"}},{"$error":"#N/A"},{"$error":"#N/A"},{"$error":"#N/A"},{"$error":"#N/A"},{"$error":"#N/A"},{"$error":"#N/A"}]
[null,null,null,null,null,null,null,null,null,null,null,null,null,null,null,null,null,null,7,"Forth Valley",null,7,"Total out-migration",1]
[null,null,"Geography",null,{"$f":"VLOOKUP($T$3,HBCode,2)","v":"Not specified"},null,null,null,{"$f":"IF($AD$7=1,AF9,AF15)","v":{"$error":"#N/A"}},{"$error":"#N/A"},{"$error":"#N/A"},{"$error":"#N/A"},{"$error":"#N/A"},{"$error":"#N/A"},{"$error":"#N/A"},null,null,null,8,"Grampian",null,8,"Within Scotland net migration",1]
[null,null,null,null,null,null,null,null,null,null,null,null,null,null,null,null,null,null,9,"Greater Glasgow and Clyde",null,9,"Within Scotland in-migration",1]
[null,null,"Geography",null,{"$f":"VLOOKUP($T$4,HBCode,2)","v":"Not specified"},null,null,null,{"$f":"IF($AD$7=1,AF10,AF16)","v":{"$error":"#N/A"}},{"$error":"#N/A"},{"$error":"#N/A"},{"$error":"#N/A"},{"$error":"#N/A"},{"$error":"#N/A"},{"$error":"#N/A"},null,null,null,10,"Highland",null,10,"Within Scotland out-migration",1]
[null,null,null,null,null,null,null,null,null,null,null,null,null,null,null,null,null,null,11,"Lanarkshire",null,11,"Rest of UK net migration",1]
[null,null,null,null,null,null,null,null,null,null,null,null,null,null,null,null,null,null,12,"Lothian",null,12,"Rest of UK in-migration",1]
[null,null,null,null,null,null,null,null,null,null,null,null,null,null,null,null,null,null,13,"Orkney",null,13,"Rest of UK out-migration",1]
[null,null,null,null,null,null,null,null,null,null,null,null,null,null,null,null,null,null,14,"Shetland",null,14,"Overseas net migration",1]
[null,null,null,null,null,null,null,null,null,null,null,null,null,null,null,null,null,null,15,"Tayside",null,15,"Overseas in-migration",1]
[null,null,null,null,null,null,null,null,null,null,null,null,null,null,null,null,null,null,16,"Western Isles",null,16,"Overseas out-migration",1]
[]
[]
[null,null,null,null,null,null,null,null,null,null,null,null,null,null,null,null,null,null,null,null,null,null,"(Set code in column X to 1 if data is at mid-year, 2 if data is for calendar year.)"]
[]
[]
[]
[]
[]
[]
[]
[]
[]
[]
[]
[]
[]
[null,{"$f":"VLOOKUP('Comparing NHS Board Areas'!$W$2,'Info lookup'!$A$3:$F$23,2)","v":"Not specified"}]
[null,"Indicator of:",null,{"$f":"VLOOKUP($W$2,'Info lookup'!$A$4:$F$23,3)","v":{"$error":"#N/A"}}]
[null,"Information:",null,{"$f":"VLOOKUP($W$2,'Info lookup'!$A$4:$F$23,4)","v":{"$error":"#N/A"}}]
[null,"Strengths:",null,{"$f":"VLOOKUP($W$2,'Info lookup'!$A$4:$F$23,5)","v":{"$error":"#N/A"}}]
[null,"Weaknesses:",null,{"$f":"VLOOKUP($W$2,'Info lookup'!$A$4:$F$23,6)","v":{"$error":"#N/A"}}]
[null,"Source:",null,{"$f":"VLOOKUP($W$2,'Info lookup'!$A$4:$G$23,7)","v":{"$error":"#N/A"}}]
[]
[null,"Note"]
[null,"1) The NHS Board areas used for estimates between 2003/04 and 2010/11 are those that existed between 2006 and 2014. The 2011/12 estimates onwards use the NHS Board areas that came into force in April 2014."]
[]
[null,"© Crown Copyright 2018"]

{"sheet":"Total net migration","index":6,"n_rows":61,"n_cols":15,"rows_kept":61,"cut":false,"hidden":false,"merged":[[0,10,0,11],[56,0,56,10],[57,0,57,10],[58,0,58,10]]}
["Total net migration",null,null,null,null,null,null,null,null,null,"Return to front page"]
[]
["Council Area","2003-04","2004-05","2005-06","2006-07","2007-08","2008-09","2009-10","2010-11","2011-12","2012-13","2013-14","2014-15","2015-16","2016-17"]
["SCOTLAND",18622,25307,18822,33049,26409,24422,26075,30209,12738,9962,17585,27968,31693,23855]
["Aberdeen City",-1191,1110,1143,2953,1646,2974,2754,3078,1847,1664,1412,1085,-969,-1416]
["Aberdeenshire",3230,2780,3067,2683,1881,1507,1693,1384,1386,1664,2041,986,-354,-688]
["Angus",1342,1073,954,756,653,148,355,115,258,113,645,537,68,144]
["Argyll and Bute",926,437,200,378,-39,-27,291,304,-233,-23,-275,-233,234,137]
["City of Edinburgh",2234,5317,3412,4919,3356,5861,8069,8044,3966,2998,3296,6261,7659,5088]
["Clackmannanshire",551,572,297,741,397,39,-75,-8,-256,-59,-82,142,12,121]
["Dumfries and Galloway",1183,1191,469,712,810,304,119,377,-128,-6,334,330,394,322]
["Dundee City",-740,572,-109,265,608,919,981,1427,492,309,-12,209,177,588]
["East Ayrshire",367,36,91,325,549,383,30,30,-76,-120,-90,62,151,18]
["East Dunbartonshire",-457,-482,-449,-289,-180,-79,-71,-105,260,92,909,549,706,688]
["East Lothian",430,497,925,1559,1635,705,595,445,787,521,712,961,960,800]
["East Renfrewshire",-97,-17,-213,45,-72,72,369,270,189,539,890,627,819,958]
["Falkirk",1510,1642,941,935,663,565,458,1021,356,375,415,734,940,901]
["Fife",2348,2657,1560,1893,1627,1550,1806,2076,623,304,650,1228,1608,1524]
["Glasgow City",-3418,-1558,-1988,2303,2929,3989,3050,5370,1146,439,2047,5840,7963,5390]
["Highland",2850,2862,2054,2677,2111,990,990,898,118,93,239,1115,1196,813]
["Inverclyde",-599,-130,-353,-318,-203,-359,-226,-289,-305,-160,-270,-136,-56,10]
["Midlothian",-263,-321,-261,109,427,467,237,522,559,576,1020,987,1008,1271]
["Moray",980,693,458,525,330,404,-9,-162,327,596,467,410,553,3]
["Na h-Eileanan Siar",246,274,129,73,23,71,169,23,13,-19,-88,-5,-67,155]
["North Ayrshire",206,95,-21,428,333,-117,-165,136,-401,-308,-137,60,65,352]
["North Lanarkshire",228,330,302,849,534,88,-422,-58,-271,-385,-86,140,982,734]
["Orkney Islands",261,135,200,143,95,88,163,99,106,80,67,100,223,204]
["Perth and Kinross",1665,2063,2023,2440,2400,1800,1861,1826,980,377,1407,1263,1062,898]
["Renfrewshire",-268,-286,-344,269,398,156,443,589,-395,-343,372,591,1614,1162]
["Scottish Borders",1385,1003,835,1492,1302,421,286,488,45,308,280,435,690,818]
["Shetland Islands",72,88,-112,46,26,203,155,59,-68,-89,-5,-36,-15,-133]
["South Ayrshire",684,425,366,578,400,173,443,596,357,405,103,311,546,690]
["South Lanarkshire",2127,1079,1334,1651,735,640,808,587,408,579,511,1034,1097,1278]
["Stirling",-10,658,701,477,244,310,1006,1021,774,253,467,1412,1012,335]
["West Dunbartonshire",-374,-332,-108,-32,-205,-56,-291,-173,-280,-424,-98,79,288,-96]
["West Lothian",1214,844,1319,1464,996,233,203,219,154,-387,444,890,1127,786]
[]
["NHS Board Areas"]
["SCOTLAND",18622,25307,18822,33049,26409,24422,26075,30209,12738,9962,17585,27968,31693,23855]
["Ayrshire and Arran",1257,556,436,1331,1282,439,308,762,-120,-23,-124,433,762,1060]
["Borders",1385,1003,835,1492,1302,421,286,488,45,308,280,435,690,818]
["Dumfries and Galloway",1183,1191,469,712,810,304,119,377,-128,-6,334,330,394,322]
["Fife",2348,2657,1563,1891,1620,1548,1809,2071,623,304,650,1228,1608,1524]
["Forth Valley",2051,2872,1939,2153,1304,914,1389,2034,874,569,800,2288,1964,1357]
["Grampian",3019,4583,4668,6161,3857,4885,4438,4300,3560,3924,3920,2481,-770,-2101]
["Greater Glasgow and Clyde",-4559,-2419,-2796,2705,2885,4124,3862,5775,615,143,3850,7550,11334,8112]
["Highland",3776,3299,2254,3055,2072,963,1281,1202,-115,70,-36,882,1430,950]
["Lanarkshire",1701,1023,977,1773,1051,327,-202,416,137,194,425,1174,2079,2012]
["Lothian",3615,6337,5395,8051,6414,7266,9104,9230,5466,3708,5472,9099,10754,7945]
["Orkney",261,135,200,143,95,88,163,99,106,80,67,100,223,204]
["Shetland",72,88,-112,46,26,203,155,59,-68,-89,-5,-36,-15,-133]
["Tayside",2267,3708,2865,3463,3668,2869,3194,3373,1730,799,2040,2009,1307,1630]
["Western Isles",246,274,129,73,23,71,169,23,13,-19,-88,-5,-67,155]
[]
["Notes"]
["1) Figures include asylum seekers. For 2015-16 onwards, figures also include refugees."]
["2) Movements to/from the armed forces were included in these figures in previous releases of this spreadsheet but are no longer treated as migration.  Armed forces movements are included in the mid-year population estimates under another category."]
["3) Source for  data: 'Migration to and from administrative areas' from the 'Migration to or from Scotland' section of the NRS website - https://www.nrscotland.gov.uk/statistics-and-data/statistics/statistics-by-theme/migration/migration-statistics/total-migration-to-or-from-scotland"]
["4) The NHS Board areas used for estimates between 2003-04 and 2010-11 are those that existed between 2006 and 2014. The 2011-12 estimates onwards use the NHS Board areas that came into force in April 2014."]
[]
["© Crown Copyright 2018"]

{"sheet":"Total net migration 0-15","index":7,"n_rows":61,"n_cols":15,"rows_kept":61,"cut":false,"hidden":false,"merged":[[56,0,56,10],[58,0,58,10],[0,10,0,11],[57,0,57,10]]}
["Total net migration for ages 0-15",null,null,null,null,null,null,null,null,null,"Return to front page"]
[]
["Council Area","2003-04","2004-05","2005-06","2006-07","2007-08","2008-09","2009-10","2010-11","2011-12","2012-13","2013-14","2014-15","2015-16","2016-17"]
["SCOTLAND",3430,4434,2416,5380,4287,3522,2883,3490,1637,1877,3092,4093,5201,3775]
["Aberdeen City",-347,212,-6,333,180,42,162,307,40,-296,-303,-337,-318,-362]
["Aberdeenshire",991,831,828,692,569,579,496,453,557,745,835,463,120,171]
["Angus",337,348,276,166,170,116,165,93,33,67,181,194,59,115]
["Argyll and Bute",150,129,41,123,-28,56,110,135,-37,99,55,26,131,117]
["City of Edinburgh",-782,-65,-280,-86,-124,208,200,239,-63,-151,-364,-258,226,-338]
["Clackmannanshire",97,156,97,224,139,-21,10,1,-102,45,-24,8,70,46]
["Dumfries and Galloway",258,276,100,195,165,170,4,113,-17,9,169,74,164,124]
["Dundee City",-294,45,-142,-16,65,-11,-111,-91,-131,-37,-79,-145,-62,-82]
["East Ayrshire",204,59,37,80,165,63,33,25,33,-4,16,71,101,-11]
["East Dunbartonshire",260,225,266,206,238,220,270,234,407,251,496,513,538,485]
["East Lothian",170,143,229,346,233,232,131,191,213,154,249,222,169,195]
["East Renfrewshire",201,274,244,180,255,281,325,418,315,584,635,567,626,659]
["Falkirk",271,201,90,108,59,10,50,92,-31,70,82,129,166,72]
["Fife",453,429,196,368,278,282,256,330,62,169,101,279,338,295]
["Glasgow City",-1535,-1394,-1413,-550,-648,-406,-871,-488,-1069,-923,-1001,-698,-351,-533]
["Highland",743,596,418,499,451,271,242,170,-28,166,111,339,312,100]
["Inverclyde",-69,-4,-74,-49,-7,-3,-16,-34,-24,36,-3,6,53,-3]
["Midlothian",-55,-33,-66,32,121,161,62,174,192,147,275,250,210,259]
["Moray",150,39,-25,86,77,142,-4,-76,180,163,162,126,170,74]
["Na h-Eileanan Siar",87,104,41,11,40,48,45,9,26,-11,0,22,8,86]
["North Ayrshire",137,49,45,103,127,58,1,64,63,-13,91,101,131,119]
["North Lanarkshire",18,137,21,377,218,79,-46,39,79,109,81,107,367,151]
["Orkney Islands",96,63,32,40,45,41,37,5,40,35,44,35,74,46]
["Perth and Kinross",526,373,369,436,391,341,417,390,306,244,424,500,335,430]
["Renfrewshire",-14,105,-1,131,114,-51,41,108,-66,-25,52,98,294,245]
["Scottish Borders",332,339,179,322,305,117,119,141,58,101,172,130,230,234]
["Shetland Islands",63,95,-48,23,16,45,46,-15,-27,-43,4,-7,14,3]
["South Ayrshire",90,217,177,220,218,28,148,159,104,128,86,183,145,180]
["South Lanarkshire",473,307,391,430,199,263,219,91,250,97,146,388,243,390]
["Stirling",341,208,234,118,156,90,324,220,276,116,230,357,277,227]
["West Dunbartonshire",-151,-141,-58,13,-17,44,-93,-63,-39,-118,-27,60,63,-1]
["West Lothian",229,111,218,219,117,27,111,56,37,-37,196,290,298,282]
[]
["NHS Board Areas"]
["SCOTLAND",3430,4434,2416,5380,4287,3522,2883,3490,1637,1877,3092,4093,5201,3775]
["Ayrshire and Arran",431,325,259,403,510,149,182,248,200,111,193,355,377,288]
["Borders",332,339,179,322,305,117,119,141,58,101,172,130,230,234]
["Dumfries and Galloway",258,276,100,195,165,170,4,113,-17,9,169,74,164,124]
["Fife",453,429,196,369,277,281,257,330,62,169,101,279,338,295]
["Forth Valley",709,565,421,450,354,79,384,313,143,231,288,494,513,345]
["Grampian",794,1082,797,1111,826,763,654,684,777,612,694,252,-28,-117]
["Greater Glasgow and Clyde",-1291,-789,-887,69,-103,138,-231,186,-476,-195,152,546,1223,852]
["Highland",893,725,459,622,423,327,352,305,-65,265,166,365,443,217]
["Lanarkshire",474,298,263,669,455,289,60,119,329,206,227,495,610,541]
["Lothian",-438,156,101,511,347,628,504,660,379,113,356,504,903,398]
["Orkney",96,63,32,40,45,41,37,5,40,35,44,35,74,46]
["Shetland",63,95,-48,23,16,45,46,-15,-27,-43,4,-7,14,3]
["Tayside",569,766,503,585,627,447,470,392,208,274,526,549,332,463]
["Western Isles",87,104,41,11,40,48,45,9,26,-11,0,22,8,86]
[]
["Notes"]
["1) Figures include asylum seekers. For 2015-16 onwards, figures also include refugees."]
["2) Movements to/from the armed forces were included in these figures in previous releases of this spreadsheet but are no longer treated as migration.  Armed forces movements are included in the mid-year population estimates under another category."]
["3) Source for  data: 'Migration to and from administrative areas by age' from the 'Migration to or from Scotland' section of the NRS website - https://www.nrscotland.gov.uk/statistics-and-data/statistics/statistics-by-theme/migration/migration-statistics/total-migration-to-or-from-scotland"]
["4) The NHS Board areas used for estimates between 2003-04 and 2010-11 are those that existed between 2006 and 2014. The 2011-12 estimates onwards use the NHS Board areas that came into force in April 2014."]
[]
["© Crown Copyright 2018"]

{"sheet":"Total net migration 16-64","index":8,"n_rows":61,"n_cols":15,"rows_kept":61,"cut":false,"hidden":false,"merged":[[56,0,56,10],[58,0,58,10],[0,10,0,11],[57,0,57,10]]}
["Total net migration for ages 16-64",null,null,null,null,null,null,null,null,null,"Return to front page"]
[]
["Council Area","2003-04","2004-05","2005-06","2006-07","2007-08","2008-09","2009-10","2010-11","2011-12","2012-13","2013-14","2014-15","2015-16","2016-17"]
["SCOTLAND",13595,19931,16044,26935,21574,20601,22931,26224,11462,8267,14470,23858,26475,19788]
["Aberdeen City",-708,963,1306,2776,1641,3043,2709,2859,1987,2079,1928,1625,-531,-1024]
["Aberdeenshire",1815,1667,1962,1758,1177,884,1193,975,924,1039,1374,719,-358,-846]
["Angus",796,594,576,494,342,-13,174,-35,137,-36,394,307,18,-34]
["Argyll and Bute",718,307,136,225,12,-28,224,181,-128,-76,-269,-198,278,103]
["City of Edinburgh",3398,5731,3946,5148,3653,5710,7905,7825,4018,3149,3621,6593,7365,5466]
["Clackmannanshire",413,408,223,503,288,82,-76,-18,-198,-119,-73,51,-53,89]
["Dumfries and Galloway",723,726,318,404,523,111,91,230,-75,19,105,206,229,192]
["Dundee City",-357,634,113,320,608,1036,1133,1603,730,395,154,410,244,726]
["East Ayrshire",181,-27,14,276,388,326,-17,15,-93,-132,-76,10,17,32]
["East Dunbartonshire",-613,-644,-613,-435,-362,-218,-294,-312,-157,-177,339,60,170,215]
["East Lothian",179,267,561,1167,1318,421,397,199,511,313,374,606,667,468]
["East Renfrewshire",-348,-326,-494,-118,-327,-280,11,-117,-100,-24,230,-74,159,241]
["Falkirk",1168,1392,792,820,532,477,315,889,346,226,318,571,744,781]
["Fife",1734,1997,1292,1394,1248,1146,1453,1618,474,121,363,901,1182,1176]
["Glasgow City",-1170,531,19,3295,3976,4706,4271,6127,2536,1679,3303,6790,8515,6086]
["Highland",1818,2040,1506,2010,1495,667,736,667,187,-30,172,819,1016,856]
["Inverclyde",-485,-145,-289,-259,-160,-334,-220,-265,-305,-195,-236,-148,-153,-36]
["Midlothian",-173,-273,-206,99,270,291,133,302,343,443,753,689,783,994]
["Moray",697,549,455,347,155,251,-51,-114,103,402,198,249,343,-105]
["Na h-Eileanan Siar",126,125,60,45,-59,2,86,12,-26,-20,-90,-18,-65,53]
["North Ayrshire",-72,-22,-124,242,120,-252,-218,11,-476,-333,-271,-41,21,147]
["North Lanarkshire",184,151,268,589,379,7,-358,-81,-279,-407,-138,-29,726,592]
["Orkney Islands",135,67,142,80,30,36,98,85,70,39,14,63,127,121]
["Perth and Kinross",910,1488,1520,1865,1895,1396,1363,1255,644,81,945,649,631,364]
["Renfrewshire",-192,-401,-312,127,241,189,364,408,-323,-321,254,459,1233,894]
["Scottish Borders",849,605,649,1031,950,189,146,370,13,175,173,282,500,566]
["Shetland Islands",-11,-11,-69,15,4,135,114,64,-59,-23,-1,4,-30,-133]
["South Ayrshire",376,78,99,287,141,73,267,324,155,148,-86,28,239,372]
["South Lanarkshire",1272,562,763,1014,401,269,470,335,49,304,318,616,744,897]
["Stirling",-407,441,443,317,52,198,684,817,530,226,235,1092,743,130]
["West Dunbartonshire",-196,-165,-35,-21,-137,-83,-208,-123,-164,-257,-51,30,213,-70]
["West Lothian",835,622,1023,1120,780,164,36,118,88,-421,196,537,758,475]
[]
["NHS Board Areas"]
["SCOTLAND",13595,19931,16044,26935,21574,20601,22931,26224,11462,8267,14470,23858,26475,19788]
["Ayrshire and Arran",485,29,-11,805,649,147,32,350,-414,-317,-433,-3,277,551]
["Borders",849,605,649,1031,950,189,146,370,13,175,173,282,500,566]
["Dumfries and Galloway",723,726,318,404,523,111,91,230,-75,19,105,206,229,192]
["Fife",1734,1997,1293,1391,1242,1145,1455,1614,474,121,363,901,1182,1176]
["Forth Valley",1174,2241,1458,1640,872,757,923,1688,678,333,480,1714,1434,1000]
["Grampian",1804,3179,3723,4881,2973,4178,3851,3720,3014,3520,3500,2593,-546,-1975]
["Greater Glasgow and Clyde",-2385,-877,-1172,3247,3555,4397,4428,5781,1487,705,3839,7117,10137,7330]
["Highland",2536,2347,1642,2235,1507,639,960,848,59,-106,-97,621,1294,959]
["Lanarkshire",837,440,479,945,456,-141,-392,191,-230,-103,180,587,1470,1489]
["Lothian",4239,6347,5324,7534,6021,6586,8471,8444,4960,3484,4944,8425,9573,7403]
["Orkney",135,67,142,80,30,36,98,85,70,39,14,63,127,121]
["Shetland",-11,-11,-69,15,4,135,114,64,-59,-23,-1,4,-30,-133]
["Tayside",1349,2716,2208,2682,2851,2420,2668,2827,1511,440,1493,1366,893,1056]
["Western Isles",126,125,60,45,-59,2,86,12,-26,-20,-90,-18,-65,53]
[]
["Notes"]
["1) Figures include asylum seekers. For 2015-16 onwards, figures also include refugees."]
["2) Movements to/from the armed forces were included in these figures in previous releases of this spreadsheet but are no longer treated as migration.  Armed forces movements are included in the mid-year population estimates under another category."]
["3) Source for  data: 'Migration to and from administrative areas by age' from the 'Migration to or from Scotland' section of the NRS website - https://www.nrscotland.gov.uk/statistics-and-data/statistics/statistics-by-theme/migration/migration-statistics/total-migration-to-or-from-scotland"]
["4) The NHS Board areas used for estimates between 2003-04 and 2010-11 are those that existed between 2006 and 2014. The 2011-12 estimates onwards use the NHS Board areas that came into force in April 2014."]
[]
["© Crown Copyright 2018"]

{"sheet":"Total net migration 65+","index":9,"n_rows":61,"n_cols":15,"rows_kept":61,"cut":false,"hidden":false,"merged":[[0,10,0,11],[56,0,56,10],[58,0,58,10],[57,0,57,10]]}
["Total net migration for ages 65+",null,null,null,null,null,null,null,null,null,"Return to front page"]
[]
["Council Area","2003-04","2004-05","2005-06","2006-07","2007-08","2008-09","2009-10","2010-11","2011-12","2012-13","2013-14","2014-15","2015-16","2016-17"]
["SCOTLAND",1597,942,362,734,548,299,261,495,-361,-182,23,17,17,292]
["Aberdeen City",-136,-65,-157,-156,-175,-111,-117,-88,-180,-119,-213,-203,-120,-30]
["Aberdeenshire",424,282,277,233,135,44,4,-44,-95,-120,-168,-196,-116,-13]
["Angus",209,131,102,96,141,45,16,57,88,82,70,36,-9,63]
["Argyll and Bute",58,1,23,30,-23,-55,-43,-12,-68,-46,-61,-61,-175,-83]
["City of Edinburgh",-382,-349,-254,-143,-173,-57,-36,-20,11,0,39,-74,68,-40]
["Clackmannanshire",41,8,-23,14,-30,-22,-9,9,44,15,15,83,-5,-14]
["Dumfries and Galloway",202,189,51,113,122,23,24,34,-36,-34,60,50,1,6]
["Dundee City",-89,-107,-80,-39,-65,-106,-41,-85,-107,-49,-87,-56,-5,-56]
["East Ayrshire",-18,4,40,-31,-4,-6,14,-10,-16,16,-30,-19,33,-3]
["East Dunbartonshire",-104,-63,-102,-60,-56,-81,-47,-27,10,18,74,-24,-2,-12]
["East Lothian",81,87,135,46,84,52,67,55,63,54,89,133,124,137]
["East Renfrewshire",50,35,37,-17,0,71,33,-31,-26,-21,25,134,34,58]
["Falkirk",71,49,59,7,72,78,93,40,41,79,15,34,30,48]
["Fife",161,231,72,131,101,122,97,128,87,14,186,48,88,53]
["Glasgow City",-713,-695,-594,-442,-399,-311,-350,-269,-321,-317,-255,-252,-201,-163]
["Highland",289,226,130,168,165,52,12,61,-41,-43,-44,-43,-132,-143]
["Inverclyde",-45,19,10,-10,-36,-22,10,10,24,-1,-31,6,44,49]
["Midlothian",-35,-15,11,-22,36,15,42,46,24,-14,-8,48,15,18]
["Moray",133,105,28,92,98,11,46,28,44,31,107,35,40,34]
["Na h-Eileanan Siar",33,45,28,17,42,21,38,2,13,12,2,-9,-10,16]
["North Ayrshire",141,68,58,83,86,77,52,61,12,38,43,0,-87,86]
["North Lanarkshire",26,42,13,-117,-63,2,-18,-16,-71,-87,-29,62,-111,-9]
["Orkney Islands",30,5,26,23,20,11,28,9,-4,6,9,2,22,37]
["Perth and Kinross",229,202,134,139,114,63,81,181,30,52,38,114,96,104]
["Renfrewshire",-62,10,-31,11,43,18,38,73,-6,3,66,34,87,23]
["Scottish Borders",204,59,7,139,47,115,21,-23,-26,32,-65,23,-40,18]
["Shetland Islands",20,4,5,8,6,23,-5,10,18,-23,-8,-33,1,-3]
["South Ayrshire",218,130,90,71,41,72,28,113,98,129,103,100,162,138]
["South Lanarkshire",382,210,180,207,135,108,119,161,109,178,47,30,110,-9]
["Stirling",56,9,24,42,36,22,-2,-16,-32,-89,2,-37,-8,-22]
["West Dunbartonshire",-27,-26,-15,-24,-51,-17,10,13,-77,-49,-20,-11,12,-25]
["West Lothian",150,111,78,125,99,42,56,45,29,71,52,63,71,29]
[]
["NHS Board Areas"]
["SCOTLAND",1597,942,362,734,548,299,261,495,-361,-182,23,17,17,292]
["Ayrshire and Arran",341,202,188,123,123,143,94,164,94,183,116,81,108,221]
["Borders",204,59,7,139,47,115,21,-23,-26,32,-65,23,-40,18]
["Dumfries and Galloway",202,189,51,113,122,23,24,34,-36,-34,60,50,1,6]
["Fife",161,231,74,131,101,122,97,127,87,14,186,48,88,53]
["Forth Valley",168,66,60,63,78,78,82,33,53,5,32,80,17,12]
["Grampian",421,322,148,169,58,-56,-67,-104,-231,-208,-274,-364,-196,-9]
["Greater Glasgow and Clyde",-883,-753,-737,-611,-567,-411,-335,-192,-396,-367,-141,-113,-26,-70]
["Highland",347,227,153,198,142,-3,-31,49,-109,-89,-105,-104,-307,-226]
["Lanarkshire",390,285,235,159,140,179,130,106,38,91,18,92,-1,-18]
["Lothian",-186,-166,-30,6,46,52,129,126,127,111,172,170,278,144]
["Orkney",30,5,26,23,20,11,28,9,-4,6,9,2,22,37]
["Shetland",20,4,5,8,6,23,-5,10,18,-23,-8,-33,1,-3]
["Tayside",349,226,154,196,190,2,56,154,11,85,21,94,82,111]
["Western Isles",33,45,28,17,42,21,38,2,13,12,2,-9,-10,16]
[]
["Notes"]
["1) Figures include asylum seekers. For 2015-16 onwards, figures also include refugees."]
["2) Movements to/from the armed forces were included in these figures in previous releases of this spreadsheet but are no longer treated as migration.  Armed forces movements are included in the mid-year population estimates under another category."]
["3) Source for  data: 'Migration to and from administrative areas by age' from the 'Migration to or from Scotland' section of the NRS website - https://www.nrscotland.gov.uk/statistics-and-data/statistics/statistics-by-theme/migration/migration-statistics/total-migration-to-or-from-scotland"]
["4) The NHS Board areas used for estimates between 2003-04 and 2010-11 are those that existed between 2006 and 2014. The 2011-12 estimates onwards use the NHS Board areas that came into force in April 2014."]
[]
["© Crown Copyright 2018"]

{"sheet":"Total in-migration","index":10,"n_rows":61,"n_cols":15,"rows_kept":61,"cut":false,"hidden":false,"merged":[[0,10,0,11],[58,0,58,10],[57,0,57,10],[56,0,56,10]]}
["Total in-migration",null,null,null,null,null,null,null,null,null,"Return to front page"]
[]
["Council Area","2003-04","2004-05","2005-06","2006-07","2007-08","2008-09","2009-10","2010-11","2011-12","2012-13","2013-14","2014-15","2015-16","2016-17"]
["SCOTLAND",90379,99142,94635,96646,98527,90507,92407,87886,81016,75885,82442,84954,86705,80468]
["Aberdeen City",10654,12400,12747,13511,13628,14163,13971,13582,13652,14041,14206,14060,12305,11334]
["Aberdeenshire",10272,10292,10285,9934,9778,8826,8980,8836,9062,9553,10342,9488,8157,7222]
["Angus",4759,4560,4444,4180,4282,3385,3664,3604,3930,3945,4230,4306,3911,3788]
["Argyll and Bute",4897,4755,4435,4309,4081,3860,3949,3735,3821,3931,3785,3913,4110,4181]
["City of Edinburgh",28525,31868,30273,29702,29672,29507,31281,29900,28837,27834,29439,31436,32387,30210]
["Clackmannanshire",2084,2132,2005,2268,2133,1679,1583,1525,1482,1602,1733,1860,1757,1875]
["Dumfries and Galloway",5278,5481,4740,4672,4931,4186,3945,4002,3835,3981,4047,3928,3884,4006]
["Dundee City",5831,6852,6482,6672,7296,6862,7131,7389,6953,7071,6857,7019,6872,6972]
["East Ayrshire",3661,3445,3403,3672,3790,3373,3078,3108,3079,3108,3249,3352,3386,3349]
["East Dunbartonshire",3622,3673,3489,3493,3425,3229,3072,3053,3432,3512,4047,4197,4196,4052]
["East Lothian",3675,3646,3940,4402,4813,3648,3722,3653,4019,3775,4135,4337,4005,4157]
["East Renfrewshire",3400,3410,3326,3286,3287,2945,3100,3136,3292,3665,3823,3943,4076,4021]
["Falkirk",4723,5163,4536,4577,4314,3774,3564,4198,3842,4076,4173,4478,4549,4640]
["Fife",12574,13207,12154,11939,12083,11195,11337,11174,10741,10459,10894,11289,11404,11165]
["Glasgow City",26611,28421,27497,29034,31107,29919,29101,29318,28362,28008,30312,33301,34966,33183]
["Highland",9793,10164,9584,9633,9621,8045,7859,7509,7151,7078,7243,7722,7637,7301]
["Inverclyde",1748,1963,1658,1618,1658,1329,1398,1258,1325,1403,1376,1456,1530,1518]
["Midlothian",2607,2563,2560,2953,2986,2783,2633,2720,2852,2988,3527,3645,3631,3780]
["Moray",4056,3939,3861,3453,3479,3171,3081,3040,3412,3528,3479,3680,3563,3138]
["Na h-Eileanan Siar",1233,1219,1091,1034,1028,966,974,908,866,861,818,881,837,989]
["North Ayrshire",4450,4332,4127,4340,4193,3544,3479,3528,3497,3495,3550,3725,3742,3805]
["North Lanarkshire",7878,7891,7841,8239,8007,7123,6225,6540,6706,6642,6920,7581,8061,7692]
["Orkney Islands",897,801,779,739,745,708,805,666,735,761,747,711,858,781]
["Perth and Kinross",6919,7387,7299,7526,7845,6980,6980,6459,6392,5977,6759,6512,6329,6171]
["Renfrewshire",4839,5027,4829,5245,5066,4687,4872,4781,4343,4407,5028,5410,6162,5853]
["Scottish Borders",5416,4961,4760,5150,5304,4311,4142,4091,3992,3973,4196,4130,4394,4436]
["Shetland Islands",815,823,724,781,750,811,758,708,666,647,674,705,676,539]
["South Ayrshire",4044,4000,3742,3918,3832,3505,3512,3481,3595,3726,3431,3749,3786,3867]
["South Lanarkshire",10040,9254,9274,9270,8788,8056,7910,7623,8171,8207,8294,9169,9165,9129]
["Stirling",4755,5532,5292,5145,4991,4747,5187,5161,5208,5033,5133,5938,5545,5076]
["West Dunbartonshire",2444,2353,2439,2458,2434,2247,2075,2085,2143,2170,2256,2551,2556,2328]
["West Lothian",6211,5977,6197,6712,6349,5064,4830,4817,4906,4587,5233,5724,5662,5327]
[]
["NHS Board Areas"]
["SCOTLAND",90379,99142,94635,96646,98527,90507,92407,87886,81016,75885,82442,84954,86705,80468]
["Ayrshire and Arran",9497,9193,8673,9104,9062,7962,7716,7761,7686,7816,7778,8024,8171,8304]
["Borders",5416,4961,4760,5150,5304,4311,4142,4091,3992,3973,4196,4130,4394,4436]
["Dumfries and Galloway",5278,5481,4740,4672,4931,4186,3945,4002,3835,3981,4047,3928,3884,4006]
["Fife",12574,13207,12154,11935,12076,11192,11335,11172,10741,10459,10894,11289,11404,11165]
["Forth Valley",9966,11261,10253,10256,9834,8836,8925,9434,9110,9188,9446,10572,10251,9948]
["Grampian",18090,19967,20186,20237,19916,19892,19461,18794,19260,19500,20218,19204,16797,15213]
["Greater Glasgow and Clyde",35516,37775,36530,38261,40069,38430,38147,37787,32117,31621,34840,37643,40458,38201]
["Highland",14338,14615,13678,13615,13351,11596,11487,10945,10646,10658,10686,11308,11428,11158]
["Lanarkshire",13004,12548,12516,12635,12418,11176,10327,10448,12718,12520,12932,14153,14710,14417]
["Lothian",32276,35920,34812,34655,35301,33842,35429,33811,33359,31516,33965,35907,37059,34834]
["Orkney",897,801,779,739,745,708,805,666,735,761,747,711,858,781]
["Shetland",815,823,724,781,750,811,758,708,666,647,674,705,676,539]
["Tayside",13651,15422,14657,14789,15732,14377,14796,14387,14011,13469,14433,14314,13812,13712]
["Western Isles",1233,1219,1091,1034,1028,966,974,908,866,861,818,881,837,989]
[]
["Notes"]
["1) Figures include asylum seekers. For 2015-16 onwards, figures also include refugees."]
["2) Movements to/from the armed forces were included in these figures in previous releases of this spreadsheet but are no longer treated as migration.  Armed forces movements are included in the mid-year population estimates under another category."]
["3) Source for  data: 'Migration to and from administrative areas' from the 'Migration to or from Scotland' section of the NRS website - https://www.nrscotland.gov.uk/statistics-and-data/statistics/statistics-by-theme/migration/migration-statistics/total-migration-to-or-from-scotland"]
["4) The NHS Board areas used for estimates between 2003-04 and 2010-11 are those that existed between 2006 and 2014. The 2011-12 estimates onwards use the NHS Board areas that came into force in April 2014."]
[]
["© Crown Copyright 2018"]

{"sheet":"Total out-migration","index":11,"n_rows":61,"n_cols":15,"rows_kept":61,"cut":false,"hidden":false,"merged":[[0,10,0,11],[58,0,58,10],[57,0,57,10],[56,0,56,10]]}
["Total out-migration",null,null,null,null,null,null,null,null,null,"Return to front page"]
[]
["Council Area","2003-04","2004-05","2005-06","2006-07","2007-08","2008-09","2009-10","2010-11","2011-12","2012-13","2013-14","2014-15","2015-16","2016-17"]
["SCOTLAND",71757,73835,75813,63597,72118,66085,66332,57677,68278,65923,64857,56986,55012,56613]
["Aberdeen City",11845,11290,11604,10558,11982,11189,11217,10504,11805,12377,12794,12975,13274,12750]
["Aberdeenshire",7042,7512,7218,7251,7897,7319,7287,7452,7676,7889,8301,8502,8511,7910]
["Angus",3417,3487,3490,3424,3629,3237,3309,3489,3672,3832,3585,3769,3843,3644]
["Argyll and Bute",3971,4318,4235,3931,4120,3887,3658,3431,4054,3954,4060,4146,3876,4044]
["City of Edinburgh",26291,26551,26861,24783,26316,23646,23212,21856,24871,24836,26143,25175,24728,25122]
["Clackmannanshire",1533,1560,1708,1527,1736,1640,1658,1533,1738,1661,1815,1718,1745,1754]
["Dumfries and Galloway",4095,4290,4271,3960,4121,3882,3826,3625,3963,3987,3713,3598,3490,3684]
["Dundee City",6571,6280,6591,6407,6688,5943,6150,5962,6461,6762,6869,6810,6695,6384]
["East Ayrshire",3294,3409,3312,3347,3241,2990,3048,3078,3155,3228,3339,3290,3235,3331]
["East Dunbartonshire",4079,4155,3938,3782,3605,3308,3143,3158,3172,3420,3138,3648,3490,3364]
["East Lothian",3245,3149,3015,2843,3178,2943,3127,3208,3232,3254,3423,3376,3045,3357]
["East Renfrewshire",3497,3427,3539,3241,3359,2873,2731,2866,3103,3126,2933,3316,3257,3063]
["Falkirk",3213,3521,3595,3642,3651,3209,3106,3177,3486,3701,3758,3744,3609,3739]
["Fife",10226,10550,10594,10046,10456,9645,9531,9098,10118,10155,10244,10061,9796,9641]
["Glasgow City",30029,29979,29485,26731,28178,25930,26051,23948,27216,27569,28265,27461,27003,27793]
["Highland",6943,7302,7530,6956,7510,7055,6869,6611,7033,6985,7004,6607,6441,6488]
["Inverclyde",2347,2093,2011,1936,1861,1688,1624,1547,1630,1563,1646,1592,1586,1508]
["Midlothian",2870,2884,2821,2844,2559,2316,2396,2198,2293,2412,2507,2658,2623,2509]
["Moray",3076,3246,3403,2928,3149,2767,3090,3202,3085,2932,3012,3270,3010,3135]
["Na h-Eileanan Siar",987,945,962,961,1005,895,805,885,853,880,906,886,904,834]
["North Ayrshire",4244,4237,4148,3912,3860,3661,3644,3392,3898,3803,3687,3665,3677,3453]
["North Lanarkshire",7650,7561,7539,7390,7473,7035,6647,6598,6977,7027,7006,7441,7079,6958]
["Orkney Islands",636,666,579,596,650,620,642,567,629,681,680,611,635,577]
["Perth and Kinross",5254,5324,5276,5086,5445,5180,5119,4633,5412,5600,5352,5249,5267,5273]
["Renfrewshire",5107,5313,5173,4976,4668,4531,4429,4192,4738,4750,4656,4819,4548,4691]
["Scottish Borders",4031,3958,3925,3658,4002,3890,3856,3603,3947,3665,3916,3695,3704,3618]
["Shetland Islands",743,735,836,735,724,608,603,649,734,736,679,741,691,672]
["South Ayrshire",3360,3575,3376,3340,3432,3332,3069,2885,3238,3321,3328,3438,3240,3177]
["South Lanarkshire",7913,8175,7940,7619,8053,7416,7102,7036,7763,7628,7783,8135,8068,7851]
["Stirling",4765,4874,4591,4668,4747,4437,4181,4140,4434,4780,4666,4526,4533,4741]
["West Dunbartonshire",2818,2685,2547,2490,2639,2303,2366,2258,2423,2594,2354,2472,2268,2424]
["West Lothian",4997,5133,4878,5248,5353,4831,4627,4598,4752,4974,4789,4834,4535,4541]
[]
["NHS Board Areas"]
["SCOTLAND",71757,73835,75813,63597,72118,66085,66332,57677,68278,65923,64857,56986,55012,56613]
["Ayrshire and Arran",8240,8637,8237,7773,7780,7523,7408,6999,7806,7839,7902,7591,7409,7244]
["Borders",4031,3958,3925,3658,4002,3890,3856,3603,3947,3665,3916,3695,3704,3618]
["Dumfries and Galloway",4095,4290,4271,3960,4121,3882,3826,3625,3963,3987,3713,3598,3490,3684]
["Fife",10226,10550,10591,10044,10456,9644,9526,9101,10118,10155,10244,10061,9796,9641]
["Forth Valley",7915,8389,8314,8103,8530,7922,7536,7400,8236,8619,8646,8284,8287,8591]
["Grampian",15071,15384,15518,14076,16059,15007,15023,14494,15700,15576,16298,16723,17567,17314]
["Greater Glasgow and Clyde",40075,40194,39326,35556,37184,34306,34285,32012,31502,31478,30990,30093,29124,30089]
["Highland",10562,11316,11424,10560,11279,10633,10206,9743,10761,10588,10722,10426,9998,10208]
["Lanarkshire",11303,11525,11539,10862,11367,10849,10529,10032,12581,12326,12507,12979,12631,12405]
["Lothian",28661,29583,29417,26604,28887,26576,26325,24581,27893,27808,28493,26808,26305,26889]
["Orkney",636,666,579,596,650,620,642,567,629,681,680,611,635,577]
["Shetland",743,735,836,735,724,608,603,649,734,736,679,741,691,672]
["Tayside",11384,11714,11792,11326,12064,11508,11602,11014,12281,12670,12393,12305,12505,12082]
["Western Isles",987,945,962,961,1005,895,805,885,853,880,906,886,904,834]
[]
["Notes"]
["1) Figures include asylum seekers. For 2015-16 onwards, figures also include refugees."]
["2) Movements to/from the armed forces were included in these figures in previous releases of this spreadsheet but are no longer treated as migration.  Armed forces movements are included in the mid-year population estimates under another category."]
["3) Source for  data: 'Migration to and from administrative areas' from the 'Migration to or from Scotland' section of the NRS website - https://www.nrscotland.gov.uk/statistics-and-data/statistics/statistics-by-theme/migration/migration-statistics/total-migration-to-or-from-scotland"]
["4) The NHS Board areas used for estimates between 2003-04 and 2010-11 are those that existed between 2006 and 2014. The 2011-12 estimates onwards use the NHS Board areas that came into force in April 2014."]
[]
["© Crown Copyright 2018"]

{"sheet":"Within Scotland net migration","index":12,"n_rows":60,"n_cols":15,"rows_kept":60,"cut":false,"hidden":false,"merged":[[57,0,57,10],[0,10,0,11],[56,0,56,10],[55,0,55,10]]}
["Within Scotland net migration",null,null,null,null,null,null,null,null,null,"Return to front page"]
[]
["Council Area","2003-04","2004-05","2005-06","2006-07","2007-08","2008-09","2009-10","2010-11","2011-12","2012-13","2013-14","2014-15","2015-16","2016-17"]
["SCOTLAND","n/a","n/a","n/a","n/a","n/a","n/a","n/a","n/a","n/a","n/a","n/a","n/a","n/a","n/a"]
["Aberdeen City",-1678,-1086,-1135,-1116,-1657,-976,-1307,-1055,-356,-195,-1140,-2221,-2664,-2222]
["Aberdeenshire",1238,869,1342,1097,878,685,1077,793,1075,1183,1642,951,-68,-492]
["Angus",996,506,687,392,380,-24,117,-34,198,162,426,441,66,86]
["Argyll and Bute",203,-31,-238,-231,-211,-285,-147,-121,-333,-196,-444,-444,-283,-432]
["City of Edinburgh",-2856,-1553,-2614,-1953,-1978,-768,-364,-394,-251,-614,-1711,-1927,-1483,-2377]
["Clackmannanshire",340,294,144,394,291,5,-105,-7,-248,-85,-57,67,-113,88]
["Dumfries and Galloway",-56,-118,-261,-56,54,-84,-101,-87,-170,-194,-110,-103,-176,-245]
["Dundee City",-689,-347,-647,-528,-392,-103,-277,-9,-128,-249,-308,-515,-607,-59]
["East Ayrshire",283,-28,174,246,359,401,73,13,-67,-37,43,-15,62,-60]
["East Dunbartonshire",-158,-260,-130,-170,-102,-13,163,22,370,287,1063,607,585,654]
["East Lothian",355,484,879,1093,991,422,352,211,474,496,559,684,499,547]
["East Renfrewshire",194,132,73,247,158,119,382,275,468,698,938,708,725,909]
["Falkirk",1049,1155,772,580,440,431,282,609,365,396,172,391,590,628]
["Fife",1302,940,635,266,731,252,531,449,198,-120,-88,-68,124,197]
["Glasgow City",-4552,-3302,-2651,-2762,-2169,-1521,-1862,-1231,-2103,-1801,-2681,-2417,-1818,-1830]
["Highland",23,89,131,62,431,77,-73,-169,-87,-428,-410,-28,-38,-207]
["Inverclyde",-300,-255,-312,-271,-203,-311,-165,-246,-196,-153,-287,-253,-141,-50]
["Midlothian",-238,-226,-217,-1,331,489,253,375,509,565,947,1034,855,1121]
["Moray",193,-70,6,-168,-64,52,-100,64,-116,127,184,274,197,-56]
["Na h-Eileanan Siar",-41,35,-48,-52,-80,-31,27,-33,-30,-73,-60,-46,-120,-3]
["North Ayrshire",247,212,147,351,139,-174,-154,22,-184,-197,-210,-74,-108,107]
["North Lanarkshire",412,332,342,267,219,55,-247,-202,-106,-182,-181,-152,549,566]
["Orkney Islands",-45,-15,79,-17,-51,-63,15,8,44,20,-41,-35,-17,37]
["Perth and Kinross",532,382,603,473,491,369,457,342,309,179,613,468,404,264]
["Renfrewshire",-311,-402,-208,-224,153,126,128,173,-269,-143,381,203,911,666]
["Scottish Borders",387,326,272,547,360,158,144,134,-79,-8,67,91,357,335]
["Shetland Islands",-85,-101,-84,-102,-103,9,-39,10,-104,-85,-30,-99,-155,-122]
["South Ayrshire",516,178,255,294,222,127,144,226,297,333,100,112,249,405]
["South Lanarkshire",2019,1026,1239,1302,695,746,909,482,661,948,536,1228,773,1202]
["Stirling",-403,404,222,-356,-334,-148,309,-110,212,107,61,413,210,39]
["West Dunbartonshire",-204,-151,28,-108,-150,14,-256,-191,-252,-370,-133,92,121,-208]
["West Lothian",1327,581,515,504,171,-36,-166,-319,-101,-371,159,633,514,512]
[]
["NHS Board Areas"]
["SCOTLAND","n/a","n/a","n/a","n/a","n/a","n/a","n/a","n/a","n/a","n/a","n/a","n/a","n/a","n/a"]
["Ayrshire and Arran",1046,362,576,891,720,354,63,261,46,99,-67,23,203,452]
["Borders",387,326,272,547,360,158,144,134,-79,-8,67,91,357,335]
["Dumfries and Galloway",-56,-118,-261,-56,54,-84,-101,-87,-170,-194,-110,-103,-176,-245]
["Fife",1302,940,638,264,730,250,532,444,198,-120,-88,-68,124,197]
["Forth Valley",986,1853,1138,618,397,288,486,492,329,418,176,871,687,755]
["Grampian",-247,-287,213,-187,-843,-239,-330,-198,603,1115,686,-996,-2535,-2770]
["Greater Glasgow and Clyde",-4565,-3804,-2552,-2564,-2083,-1104,-1029,-1052,-1982,-1482,-719,-1060,383,141]
["Highland",226,58,-107,-169,220,-208,-220,-290,-420,-624,-854,-472,-321,-639]
["Lanarkshire",1665,924,933,845,684,319,81,134,555,766,355,1076,1322,1768]
["Lothian",-1412,-714,-1437,-357,-485,107,75,-127,631,76,-46,424,385,-197]
["Orkney",-45,-15,79,-17,-51,-63,15,8,44,20,-41,-35,-17,37]
["Shetland",-85,-101,-84,-102,-103,9,-39,10,-104,-85,-30,-99,-155,-122]
["Tayside",839,541,640,339,480,244,296,304,379,92,731,394,-137,291]
["Western Isles",-41,35,-48,-52,-80,-31,27,-33,-30,-73,-60,-46,-120,-3]
[]
["Notes"]
["1) Movements to/from the armed forces were included in these figures in previous releases of this spreadsheet but are no longer treated as migration.  Armed forces movements are included in the mid-year population estimates under another category."]
["2) Source for  data: 'Migration within Scotland' section of the NRS website - https://www.nrscotland.gov.uk/statistics-and-data/statistics/statistics-by-theme/migration/migration-statistics/migration-within-scotland"]
["3) The NHS Board areas used for estimates between 2003-04 and 2010-11 are those that existed between 2006 and 2014. The 2011-12 estimates onwards use the NHS Board areas that came into force in April 2014."]
[]
["© Crown Copyright 2018"]

{"sheet":"Within Scotland in-migration","index":13,"n_rows":60,"n_cols":15,"rows_kept":60,"cut":false,"hidden":false,"merged":[[0,10,0,11],[55,0,55,10],[56,0,56,10],[57,0,57,10]]}
["Within Scotland in-migration",null,null,null,null,null,null,null,null,null,"Return to front page"]
[]
["Council Area","2003-04","2004-05","2005-06","2006-07","2007-08","2008-09","2009-10","2010-11","2011-12","2012-13","2013-14","2014-15","2015-16","2016-17"]
["SCOTLAND","n/a","n/a","n/a","n/a","n/a","n/a","n/a","n/a","n/a","n/a","n/a","n/a ","n/a ","n/a "]
["Aberdeen City",5544,5827,5796,5631,5634,5740,5518,5957,6712,7418,7043,6807,6177,6074]
["Aberdeenshire",5988,5918,6057,5939,6013,5527,5785,5789,6195,6667,7233,6869,5935,5261]
["Angus",3412,3076,3066,2933,2934,2285,2486,2567,2813,2931,3133,3282,2943,2876]
["Argyll and Bute",2619,2439,2254,2201,2212,2091,2144,2046,2208,2313,2165,2273,2390,2372]
["City of Edinburgh",10813,11328,10338,11202,10744,10798,10794,10814,11513,11500,11533,12285,12286,11614]
["Clackmannanshire",1451,1428,1328,1573,1511,1191,1120,1129,1030,1182,1278,1459,1310,1437]
["Dumfries and Galloway",1783,1835,1663,1728,1790,1713,1621,1652,1719,1734,1725,1734,1679,1641]
["Dundee City",3518,3571,3502,3598,3776,3599,3509,3770,3898,4170,4199,4252,4170,4412]
["East Ayrshire",2568,2392,2465,2722,2686,2540,2267,2301,2266,2366,2486,2605,2668,2588]
["East Dunbartonshire",2936,2888,2808,2873,2828,2594,2527,2459,2859,2984,3490,3615,3535,3446]
["East Lothian",2695,2729,2919,3186,3246,2514,2571,2531,2746,2820,3057,3231,2869,3027]
["East Renfrewshire",2868,2780,2765,2850,2829,2442,2539,2575,2827,3156,3291,3416,3482,3449]
["Falkirk",3258,3507,3152,3164,2997,2658,2502,2988,2855,3170,3055,3367,3469,3531]
["Fife",6965,6842,6375,6103,6397,5675,5753,5852,5926,5733,6036,6390,6484,6443]
["Glasgow City",13112,13788,13809,13905,14583,13898,13338,13663,14155,14999,14980,16288,16773,16654]
["Highland",4292,4472,4445,4164,4531,4134,3911,3965,3993,3974,4058,4330,4179,4020]
["Inverclyde",1043,1073,976,1038,1045,853,896,869,890,983,939,1003,1092,1115]
["Midlothian",2056,1984,1947,2331,2338,2194,2022,2157,2278,2461,2866,3073,3016,3190]
["Moray",1861,1712,1707,1549,1643,1679,1551,1711,1627,1820,1901,2091,2058,1803]
["Na h-Eileanan Siar",647,676,613,588,616,598,601,576,553,499,557,604,534,586]
["North Ayrshire",3117,3067,2878,3109,2901,2486,2430,2461,2566,2573,2537,2816,2752,2796]
["North Lanarkshire",5827,5706,5665,5791,5578,5037,4438,4741,5024,5112,5184,5780,6155,6023]
["Orkney Islands",384,381,420,363,368,352,430,345,414,429,378,389,421,405]
["Perth and Kinross",4048,3808,3940,3749,3905,3453,3471,3448,3683,3904,4138,4209,4240,4100]
["Renfrewshire",3268,3428,3270,3488,3536,3301,3267,3331,3219,3331,3895,4075,4509,4398]
["Scottish Borders",2611,2574,2350,2591,2496,2282,2235,2207,2109,2151,2315,2286,2499,2583]
["Shetland Islands",367,380,394,365,330,384,300,382,321,351,357,390,315,294]
["South Ayrshire",2706,2529,2436,2601,2507,2328,2228,2307,2515,2681,2477,2684,2688,2799]
["South Lanarkshire",7379,6605,6778,6809,6527,5987,5870,5667,6301,6550,6411,7455,7076,7225]
["Stirling",2693,3659,3239,2981,2884,2797,3068,2838,3151,3336,3315,3793,3603,3424]
["West Dunbartonshire",1809,1726,1834,1782,1874,1726,1524,1531,1654,1653,1759,2083,1992,1832]
["West Lothian",4694,4221,3989,4312,3910,3265,3075,3073,3263,3208,3703,4308,4095,3999]
[]
["NHS Board Areas"]
["SCOTLAND","n/a","n/a","n/a","n/a","n/a","n/a","n/a","n/a","n/a","n/a","n/a","n/a ","n/a ","n/a "]
["Ayrshire and Arran",5733,5404,5180,5606,5341,4894,4572,4713,4862,5107,5048,5303,5365,5466]
["Borders",2611,2574,2350,2591,2496,2282,2235,2207,2109,2151,2315,2286,2499,2583]
["Dumfries and Galloway",1783,1835,1663,1728,1790,1713,1621,1652,1719,1734,1725,1734,1679,1641]
["Fife",6965,6842,6375,6099,6396,5673,5751,5850,5926,5733,6036,6390,6484,6443]
["Forth Valley",5806,7028,6139,5984,5788,5282,5281,5505,5614,6165,6055,6915,6782,6749]
["Grampian",6501,6793,6853,6458,6321,6678,6283,6793,7668,8283,8368,7743,6942,6657]
["Greater Glasgow and Clyde",17447,18095,18307,18605,19385,18513,18196,18152,14824,15562,16352,17265,18355,18140]
["Highland",6559,6607,6358,6038,6392,5916,5734,5712,5875,5936,5881,6276,6250,6068]
["Lanarkshire",8733,8230,8291,8184,8130,7396,6924,7125,9166,9333,9313,10638,10715,10844]
["Lothian",11516,12128,11035,11917,11719,11611,11425,11296,12545,12321,12790,13662,13640,13190]
["Orkney",384,381,420,363,368,352,430,345,414,429,378,389,421,405]
["Shetland",367,380,394,365,330,384,300,382,321,351,357,390,315,294]
["Tayside",7120,7078,6940,6691,6918,6486,6487,6720,7130,7481,8057,8220,8053,8169]
["Western Isles",647,676,613,588,616,598,601,576,553,499,557,604,534,586]
[]
["Notes"]
["1) Movements to/from the armed forces were included in these figures in previous releases of this spreadsheet but are no longer treated as migration.  Armed forces movements are included in the mid-year population estimates under another category."]
["2) Source for  data: 'Migration within Scotland' section of the NRS website - https://www.nrscotland.gov.uk/statistics-and-data/statistics/statistics-by-theme/migration/migration-statistics/migration-within-scotland"]
["3) The NHS Board areas used for estimates between 2003-04 and 2010-11 are those that existed between 2006 and 2014. The 2011-12 estimates onwards use the NHS Board areas that came into force in April 2014."]
[]
["© Crown Copyright 2018"]

{"sheet":"Within Scotland out-migration","index":14,"n_rows":60,"n_cols":15,"rows_kept":60,"cut":false,"hidden":false,"merged":[[0,10,0,11],[55,0,55,10],[56,0,56,10],[57,0,57,10]]}
["Within Scotland out-migration",null,null,null,null,null,null,null,null,null,"Return to front page"]
[]
["Council Area","2003-04","2004-05","2005-06","2006-07","2007-08","2008-09","2009-10","2010-11","2011-12","2012-13","2013-14","2014-15","2015-16","2016-17"]
["SCOTLAND","n/a","n/a","n/a","n/a","n/a","n/a","n/a","n/a","n/a","n/a","n/a","n/a","n/a","n/a"]
["Aberdeen City",7222,6913,6931,6747,7291,6716,6825,7012,7068,7613,8183,9028,8841,8296]
["Aberdeenshire",4750,5049,4715,4842,5135,4842,4708,4996,5120,5484,5591,5918,6003,5753]
["Angus",2416,2570,2379,2541,2554,2309,2369,2601,2615,2769,2707,2841,2877,2790]
["Argyll and Bute",2416,2470,2492,2432,2423,2376,2291,2167,2541,2509,2609,2717,2673,2804]
["City of Edinburgh",13669,12881,12952,13155,12722,11566,11158,11208,11764,12114,13244,14212,13769,13991]
["Clackmannanshire",1111,1134,1184,1179,1220,1186,1225,1136,1278,1267,1335,1392,1423,1349]
["Dumfries and Galloway",1839,1953,1924,1784,1736,1797,1722,1739,1889,1928,1835,1837,1855,1886]
["Dundee City",4207,3918,4149,4126,4168,3702,3786,3779,4026,4419,4507,4767,4777,4471]
["East Ayrshire",2285,2420,2291,2476,2327,2139,2194,2288,2333,2403,2443,2620,2606,2648]
["East Dunbartonshire",3094,3148,2938,3043,2930,2607,2364,2437,2489,2697,2427,3008,2950,2792]
["East Lothian",2340,2245,2040,2093,2255,2092,2219,2320,2272,2324,2498,2547,2370,2480]
["East Renfrewshire",2674,2648,2692,2603,2671,2323,2157,2300,2359,2458,2353,2708,2757,2540]
["Falkirk",2209,2352,2380,2584,2557,2227,2220,2379,2490,2774,2883,2976,2879,2903]
["Fife",5663,5902,5740,5837,5666,5423,5222,5403,5728,5853,6124,6458,6360,6246]
["Glasgow City",17664,17090,16460,16667,16752,15419,15200,14894,16258,16800,17661,18705,18591,18484]
["Highland",4269,4383,4314,4102,4100,4057,3984,4134,4080,4402,4468,4358,4217,4227]
["Inverclyde",1343,1328,1288,1309,1248,1164,1061,1115,1086,1136,1226,1256,1233,1165]
["Midlothian",2294,2210,2164,2332,2007,1705,1769,1782,1769,1896,1919,2039,2161,2069]
["Moray",1668,1782,1701,1717,1707,1627,1651,1647,1743,1693,1717,1817,1861,1859]
["Na h-Eileanan Siar",688,641,661,640,696,629,574,609,583,572,617,650,654,589]
["North Ayrshire",2870,2855,2731,2758,2762,2660,2584,2439,2750,2770,2747,2890,2860,2689]
["North Lanarkshire",5415,5374,5323,5524,5359,4982,4685,4943,5130,5294,5365,5932,5606,5457]
["Orkney Islands",429,396,341,380,419,415,415,337,370,409,419,424,438,368]
["Perth and Kinross",3516,3426,3337,3276,3414,3084,3014,3106,3374,3725,3525,3741,3836,3836]
["Renfrewshire",3579,3830,3478,3712,3383,3175,3139,3158,3488,3474,3514,3872,3598,3732]
["Scottish Borders",2224,2248,2078,2044,2136,2124,2091,2073,2188,2159,2248,2195,2142,2248]
["Shetland Islands",452,481,478,467,433,375,339,372,425,436,387,489,470,416]
["South Ayrshire",2190,2351,2181,2307,2285,2201,2084,2081,2218,2348,2377,2572,2439,2394]
["South Lanarkshire",5360,5579,5539,5507,5832,5241,4961,5185,5640,5602,5875,6227,6303,6023]
["Stirling",3096,3255,3017,3337,3218,2945,2759,2948,2939,3229,3254,3380,3393,3385]
["West Dunbartonshire",2013,1877,1806,1890,2024,1712,1780,1722,1906,2023,1892,1991,1871,2040]
["West Lothian",3367,3640,3474,3808,3739,3301,3241,3392,3364,3579,3544,3675,3581,3487]
[]
["NHS Board Areas"]
["SCOTLAND","n/a","n/a","n/a","n/a","n/a","n/a","n/a","n/a","n/a","n/a","n/a","n/a","n/a","n/a"]
["Ayrshire and Arran",4687,5042,4604,4715,4621,4540,4509,4452,4816,5008,5115,5280,5162,5014]
["Borders",2224,2248,2078,2044,2136,2124,2091,2073,2188,2159,2248,2195,2142,2248]
["Dumfries and Galloway",1839,1953,1924,1784,1736,1797,1722,1739,1889,1928,1835,1837,1855,1886]
["Fife",5663,5902,5737,5835,5666,5423,5219,5406,5728,5853,6124,6458,6360,6246]
["Forth Valley",4820,5175,5001,5366,5391,4994,4795,5013,5285,5747,5879,6044,6095,5994]
["Grampian",6748,7080,6640,6645,7164,6917,6613,6991,7065,7168,7682,8739,9477,9427]
["Greater Glasgow and Clyde",22012,21899,20859,21169,21468,19617,19225,19204,16806,17044,17071,18325,17972,17999]
["Highland",6333,6549,6465,6207,6172,6124,5954,6002,6295,6560,6735,6748,6571,6707]
["Lanarkshire",7068,7306,7358,7339,7446,7077,6843,6991,8611,8567,8958,9562,9393,9076]
["Lothian",12928,12842,12472,12274,12204,11504,11350,11423,11914,12245,12836,13238,13255,13387]
["Orkney",429,396,341,380,419,415,415,337,370,409,419,424,438,368]
["Shetland",452,481,478,467,433,375,339,372,425,436,387,489,470,416]
["Tayside",6281,6537,6300,6352,6438,6242,6191,6416,6751,7389,7326,7826,8190,7878]
["Western Isles",688,641,661,640,696,629,574,609,583,572,617,650,654,589]
[]
["Notes"]
["1) Movements to/from the armed forces were included in these figures in previous releases of this spreadsheet but are no longer treated as migration.  Armed forces movements are included in the mid-year population estimates under another category."]
["2) Source for  data: 'Migration within Scotland' section of the NRS website - https://www.nrscotland.gov.uk/statistics-and-data/statistics/statistics-by-theme/migration/migration-statistics/migration-within-scotland"]
["3) The NHS Board areas used for estimates between 2003-04 and 2010-11 are those that existed between 2006 and 2014. The 2011-12 estimates onwards use the NHS Board areas that came into force in April 2014."]
[]
["© Crown Copyright 2018"]

{"sheet":"Rest of UK net migration","index":15,"n_rows":60,"n_cols":15,"rows_kept":60,"cut":false,"hidden":false,"merged":[[0,10,0,11],[55,0,55,9],[56,0,56,10],[57,0,57,10]]}
["Rest of UK net migration",null,null,null,null,null,null,null,null,null,"Return to front page"]
[]
["Council Area","2003-04","2004-05","2005-06","2006-07","2007-08","2008-09","2009-10","2010-11","2011-12","2012-13","2013-14","2014-15","2015-16","2016-17"]
["SCOTLAND",15522,12507,8922,8849,11509,4122,3275,2909,3038,7862,9585,8368,8793,10455]
["Aberdeen City",-387,46,140,317,273,281,319,3,101,557,587,117,-779,-685]
["Aberdeenshire",1865,1288,1070,750,598,217,-103,-132,102,365,275,-221,-602,-407]
["Angus",452,439,130,158,166,27,23,-86,49,38,192,107,-71,8]
["Argyll and Bute",827,568,549,472,398,309,352,370,271,384,403,296,479,605]
["City of Edinburgh",2050,1650,1917,751,1349,358,1132,361,159,1659,1733,2139,2351,2957]
["Clackmannanshire",260,270,141,189,118,1,29,-7,41,60,1,79,62,-6]
["Dumfries and Galloway",1494,1393,846,736,931,559,382,449,322,523,711,505,558,684]
["Dundee City",-156,201,-149,-270,50,-12,0,-140,55,238,41,53,-18,251]
["East Ayrshire",216,151,111,146,283,122,54,83,124,78,41,168,127,166]
["East Dunbartonshire",-109,-178,-128,-128,43,-37,-165,-54,-19,-73,-46,55,71,48]
["East Lothian",122,10,9,278,391,67,98,68,197,77,122,120,172,152]
["East Renfrewshire",-148,-72,-161,-194,-131,-28,-51,22,-121,-51,5,2,43,57]
["Falkirk",394,241,100,38,114,10,18,134,20,107,228,216,195,172]
["Fife",959,930,653,614,512,239,24,327,66,478,629,468,442,656]
["Glasgow City",35,250,-402,325,850,62,-471,-459,-291,175,732,1180,1846,1826]
["Highland",2821,2150,1464,1643,1368,728,705,643,380,764,737,814,885,932]
["Inverclyde",-124,3,-41,-64,52,-43,-86,-18,-10,50,80,103,46,56]
["Midlothian",-3,-74,-43,17,89,-43,-56,74,26,56,113,-27,68,105]
["Moray",866,695,428,456,403,310,41,-131,542,615,325,258,276,163]
["Na h-Eileanan Siar",323,245,188,99,130,115,147,53,80,113,20,39,34,147]
["North Ayrshire",100,75,110,124,340,145,80,82,10,127,241,176,213,294]
["North Lanarkshire",150,18,-7,9,218,14,-152,28,39,139,260,127,167,118]
["Orkney Islands",324,175,148,157,172,166,145,68,95,88,124,132,237,159]
["Perth and Kinross",1026,615,450,575,529,262,237,367,219,208,327,332,238,486]
["Renfrewshire",-144,-45,-215,-8,113,-69,-29,-40,-42,6,-1,110,191,211]
["Scottish Borders",1059,570,552,686,852,248,245,288,190,489,386,394,330,466]
["Shetland Islands",177,193,14,134,126,116,170,14,34,28,64,31,101,7]
["South Ayrshire",364,292,196,219,254,152,325,290,160,265,169,185,259,281]
["South Lanarkshire",476,306,296,276,223,-58,-45,106,68,55,348,-33,191,95]
["Stirling",323,113,301,269,319,103,34,146,147,199,450,362,361,298]
["West Dunbartonshire",-72,-99,-27,8,19,-40,-86,7,30,43,66,20,81,87]
["West Lothian",-18,88,282,67,357,-159,-41,-7,-6,2,222,61,239,66]
[]
["NHS Board Areas"]
["SCOTLAND",15522,12507,8922,8849,11509,4122,3275,2909,3038,7862,9585,8368,8793,10455]
["Ayrshire and Arran",680,518,417,489,877,419,459,455,294,470,451,529,599,741]
["Borders",1059,570,552,686,852,248,245,288,190,489,386,394,330,466]
["Dumfries and Galloway",1494,1393,846,736,931,559,382,449,322,523,711,505,558,684]
["Fife",959,930,653,614,506,240,26,327,66,478,629,468,442,656]
["Forth Valley",977,624,542,496,551,114,81,273,208,366,679,657,618,464]
["Grampian",2344,2029,1638,1523,1274,808,257,-260,745,1537,1187,154,-1105,-929]
["Greater Glasgow and Clyde",-610,-129,-912,-70,964,-209,-879,-556,-453,150,836,1470,2278,2285]
["Highland",3648,2718,2013,2115,1766,1037,1057,1013,651,1148,1140,1110,1364,1537]
["Lanarkshire",674,312,227,294,423,10,-206,148,107,194,608,94,358,213]
["Lothian",2151,1674,2165,1113,2186,223,1133,496,376,1794,2190,2293,2830,3280]
["Orkney",324,175,148,157,172,166,145,68,95,88,124,132,237,159]
["Shetland",177,193,14,134,126,116,170,14,34,28,64,31,101,7]
["Tayside",1322,1255,431,463,751,276,258,141,323,484,560,492,149,745]
["Western Isles",323,245,188,99,130,115,147,53,80,113,20,39,34,147]
[]
["Notes"]
["1) Movements to/from the armed forces were included in these figures in previous releases of this spreadsheet but are no longer treated as migration.  Armed forces movements are included in the mid-year population estimates under another category."]
["2) Source for  data: 'Migration between Scotland and the rest of the UK by adminstrative area and sex' from the 'Migration between Scotland and the Rest of the UK' section of the NRS website - https://www.nrscotland.gov.uk/statistics-and-data/statistics/statistics-by-theme/migration/migration-statistics/migration-between-scotland-and-the-rest-of-the-uk"]
["3) The NHS Board areas used for estimates between 2003-04 and 2010-11 are those that existed between 2006 and 2014. The 2011-12 estimates onwards use the NHS Board areas that came into force in April 2014."]
[]
["© Crown Copyright 2018"]

{"sheet":"Rest of UK in-migration","index":16,"n_rows":60,"n_cols":15,"rows_kept":60,"cut":false,"hidden":false,"merged":[[55,0,55,9],[56,0,56,10],[57,0,57,10],[0,10,0,11]]}
["Rest of UK in-migration",null,null,null,null,null,null,null,null,null,"Return to front page"]
[]
["Council Area","2003-04","2004-05","2005-06","2006-07","2007-08","2008-09","2009-10","2010-11","2011-12","2012-13","2013-14","2014-15","2015-16","2016-17"]
["SCOTLAND",61879,57342,53335,51546,53327,45407,45007,43686,45116,47685,49242,47154,46305,47568]
["Aberdeen City",2217,2251,2492,2530,2585,2559,2602,2341,2526,2987,2961,2663,1971,2078]
["Aberdeenshire",3506,2987,2671,2484,2251,1786,1637,1609,1805,1908,2047,1539,1244,1203]
["Angus",1211,1110,932,823,832,642,624,524,748,735,757,734,622,608]
["Argyll and Bute",1978,1851,1721,1567,1455,1337,1330,1329,1309,1383,1381,1341,1369,1513]
["City of Edinburgh",9900,9529,9476,8315,8938,8055,8650,7867,8018,9083,9444,9501,9634,10058]
["Clackmannanshire",548,552,504,447,433,310,313,292,336,346,327,303,290,265]
["Dumfries and Galloway",3252,3144,2556,2451,2617,2085,1949,1992,1872,2047,2110,1913,1865,2126]
["Dundee City",1501,1554,1350,1229,1448,1339,1426,1369,1472,1527,1382,1379,1263,1379]
["East Ayrshire",962,858,818,787,882,715,661,691,700,664,669,657,604,655]
["East Dunbartonshire",499,489,469,400,461,455,391,434,462,451,455,477,475,465]
["East Lothian",771,662,666,834,1019,685,725,694,866,703,737,694,681,785]
["East Renfrewshire",393,455,400,293,321,348,368,427,389,421,407,400,415,444]
["Falkirk",1073,988,816,751,753,611,606,708,675,671,791,734,697,730]
["Fife",3972,3873,3610,3545,3477,3117,2906,3024,2853,3216,3229,2981,2869,3042]
["Glasgow City",6300,6216,5698,6010,6755,5999,5598,5399,5657,5921,6435,6604,6731,6824]
["Highland",4761,4197,3609,3696,3531,2619,2639,2521,2397,2485,2466,2474,6731,2551]
["Inverclyde",499,459,416,363,426,297,302,290,358,349,367,353,307,303]
["Midlothian",423,413,413,410,450,409,404,384,400,439,512,401,408,431]
["Moray",1955,1721,1624,1388,1336,1104,1079,922,1470,1481,1296,1257,1184,1135]
["Na h-Eileanan Siar",540,463,391,347,334,292,304,272,269,334,229,222,231,339]
["North Ayrshire",1101,1006,1028,971,1031,832,814,845,782,812,877,751,806,827]
["North Lanarkshire",1635,1452,1332,1267,1350,1187,1006,1166,1154,1120,1246,1178,1171,1085]
["Orkney Islands",474,370,309,322,329,309,312,255,283,283,317,269,385,328]
["Perth and Kinross",2218,1941,1626,1734,1597,1367,1379,1383,1325,1232,1380,1355,1151,1369]
["Renfrewshire",917,901,748,846,840,724,758,721,696,745,702,787,849,824]
["Scottish Borders",2441,1833,1828,1919,2123,1509,1513,1511,1500,1572,1598,1580,1580,1596]
["Shetland Islands",389,371,265,340,326,279,356,225,254,236,266,222,270,192]
["South Ayrshire",1181,1126,980,984,995,902,957,868,839,878,788,811,842,817]
["South Lanarkshire",2232,1882,1761,1741,1553,1352,1352,1396,1421,1349,1512,1260,1449,1381]
["Stirling",1370,1058,1165,1155,1180,991,870,960,1003,1012,1204,1112,1124,1049]
["West Dunbartonshire",471,431,420,445,404,349,351,394,377,416,381,347,370,361]
["West Lothian",1189,1199,1241,1152,1295,842,825,873,900,879,969,855,910,805]
[]
["NHS Board Areas"]
["SCOTLAND",61879,57342,53335,51546,53327,45407,45007,43686,45116,47685,49242,47154,46305,47568]
["Ayrshire and Arran",3244,2990,2826,2742,2908,2449,2432,2404,2321,2354,2334,2219,2252,2299]
["Borders",2441,1833,1828,1919,2123,1509,1513,1511,1500,1572,1598,1580,1580,1596]
["Dumfries and Galloway",3252,3144,2556,2451,2617,2085,1949,1992,1872,2047,2110,1913,1865,2126]
["Fife",3972,3873,3610,3545,3471,3117,2906,3024,2853,3216,3229,2981,2869,3042]
["Forth Valley",2991,2598,2485,2353,2366,1912,1789,1960,2014,2029,2322,2149,2111,2044]
["Grampian",7678,6959,6787,6402,6172,5449,5318,4872,5801,6376,6304,5459,4399,4416]
["Greater Glasgow and Clyde",9397,9270,8471,8675,9485,8433,8067,7967,7939,8303,8747,8968,9147,9221]
["Highland",6739,6048,5330,5263,4986,3956,3969,3850,3706,3868,3847,3815,3907,4064]
["Lanarkshire",3549,3015,2773,2690,2625,2278,2059,2260,2575,2469,2758,2438,2620,2466]
["Lothian",12283,11803,11796,10711,11702,9991,10604,9818,10184,11104,11662,11451,11633,12079]
["Orkney",474,370,309,322,329,309,312,255,283,283,317,269,385,328]
["Shetland",389,371,265,340,326,279,356,225,254,236,266,222,270,192]
["Tayside",4930,4605,3908,3786,3883,3348,3429,3276,3545,3494,3519,3468,3036,3356]
["Western Isles",540,463,391,347,334,292,304,272,269,334,229,222,231,339]
[]
["Notes"]
["1) Movements to/from the armed forces were included in these figures in previous releases of this spreadsheet but are no longer treated as migration.  Armed forces movements are included in the mid-year population estimates under another category."]
["2) Source for  data: 'Migration between Scotland and the rest of the UK by adminstrative area and sex' from the 'Migration between Scotland and the Rest of the UK' section of the NRS website - https://www.nrscotland.gov.uk/statistics-and-data/statistics/statistics-by-theme/migration/migration-statistics/migration-between-scotland-and-the-rest-of-the-uk"]
["3) The NHS Board areas used for estimates between 2003-04 and 2010-11 are those that existed between 2006 and 2014. The 2011-12 estimates onwards use the NHS Board areas that came into force in April 2014."]
[]
["© Crown Copyright 2018"]

{"sheet":"Rest of UK out-migration","index":17,"n_rows":60,"n_cols":15,"rows_kept":60,"cut":false,"hidden":false,"merged":[[55,0,55,9],[56,0,56,10],[57,0,57,10],[0,10,0,11]]}
["Rest of UK out-migration",null,null,null,null,null,null,null,null,null,"Return to front page"]
[]
["Council Area","2003-04","2004-05","2005-06","2006-07","2007-08","2008-09","2009-10","2010-11","2011-12","2012-13","2013-14","2014-15","2015-16","2016-17"]
["SCOTLAND",46357,44835,44413,42697,41818,41285,41732,40777,42078,39823,39657,38786,37512,37113]
["Aberdeen City",2604,2205,2352,2213,2312,2278,2283,2338,2425,2430,2374,2546,2750,2763]
["Aberdeenshire",1641,1699,1601,1734,1653,1569,1740,1741,1703,1543,1772,1760,1846,1610]
["Angus",759,671,802,665,666,615,601,610,699,697,565,627,693,600]
["Argyll and Bute",1151,1283,1172,1095,1057,1028,978,959,1038,999,978,1045,890,908]
["City of Edinburgh",7850,7879,7559,7564,7589,7697,7518,7506,7859,7424,7711,7362,7283,7101]
["Clackmannanshire",288,282,363,258,315,309,284,299,295,286,326,224,228,271]
["Dumfries and Galloway",1758,1751,1710,1715,1686,1526,1567,1543,1550,1524,1399,1408,1307,1442]
["Dundee City",1657,1353,1499,1499,1398,1351,1426,1509,1417,1289,1341,1326,1281,1128]
["East Ayrshire",746,707,707,641,599,593,607,608,576,586,628,489,477,489]
["East Dunbartonshire",608,667,597,528,418,492,556,488,481,524,501,422,404,417]
["East Lothian",649,652,657,556,628,618,627,626,669,626,615,574,509,633]
["East Renfrewshire",541,527,561,487,452,376,419,405,510,472,402,398,372,387]
["Falkirk",679,747,716,713,639,601,588,574,655,564,563,518,502,558]
["Fife",3013,2943,2957,2931,2965,2878,2882,2697,2787,2738,2600,2513,2427,2386]
["Glasgow City",6265,5966,6100,5685,5905,5937,6069,5858,5948,5746,5703,5424,4885,4998]
["Highland",1940,2047,2145,2053,2163,1891,1934,1878,2017,1721,1729,1660,1653,1619]
["Inverclyde",623,456,457,427,374,340,388,308,368,299,287,250,261,247]
["Midlothian",426,487,456,393,361,452,460,310,374,383,399,428,340,326]
["Moray",1089,1026,1196,932,933,794,1038,1053,928,866,971,999,908,972]
["Na h-Eileanan Siar",217,218,203,248,204,177,157,219,189,221,209,183,197,192]
["North Ayrshire",1001,931,918,847,691,687,734,763,772,685,636,575,593,533]
["North Lanarkshire",1485,1434,1339,1258,1132,1173,1158,1138,1115,981,986,1051,1004,967]
["Orkney Islands",150,195,161,165,157,143,167,187,188,195,193,137,148,169]
["Perth and Kinross",1192,1326,1176,1159,1068,1105,1142,1016,1106,1024,1053,1023,913,883]
["Renfrewshire",1061,946,963,854,727,793,787,761,738,739,703,677,658,613]
["Scottish Borders",1382,1263,1276,1233,1271,1261,1268,1223,1310,1083,1212,1186,1250,1130]
["Shetland Islands",212,178,251,206,200,163,186,211,220,208,202,191,169,185]
["South Ayrshire",817,834,784,765,741,750,632,578,679,613,619,626,583,536]
["South Lanarkshire",1756,1576,1465,1465,1330,1410,1397,1290,1353,1294,1164,1293,1258,1286]
["Stirling",1047,945,864,886,861,888,836,814,856,813,754,750,763,751]
["West Dunbartonshire",543,530,447,437,385,389,437,387,347,373,315,327,289,274]
["West Lothian",1207,1111,959,1085,938,1001,866,880,906,877,747,794,671,739]
[]
["NHS Board Areas"]
["SCOTLAND",46357,44835,44413,42697,41818,41285,41732,40777,42078,39823,39657,38786,37512,37113]
["Ayrshire and Arran",2564,2472,2409,2253,2031,2030,1973,1949,2027,1884,1883,1690,1653,1558]
["Borders",1382,1263,1276,1233,1271,1261,1268,1223,1310,1083,1212,1186,1250,1130]
["Dumfries and Galloway",1758,1751,1710,1715,1686,1526,1567,1543,1550,1524,1399,1408,1307,1442]
["Fife",3013,2943,2957,2931,2965,2877,2880,2697,2787,2738,2600,2513,2427,2386]
["Forth Valley",2014,1974,1943,1857,1815,1798,1708,1687,1806,1663,1643,1492,1493,1580]
["Grampian",5334,4930,5149,4879,4898,4641,5061,5132,5056,4839,5117,5305,5504,5345]
["Greater Glasgow and Clyde",10007,9399,9383,8745,8521,8642,8946,8523,8392,8153,7911,7498,6869,6936]
["Highland",3091,3330,3317,3148,3220,2919,2912,2837,3055,2720,2707,2705,2543,2527]
["Lanarkshire",2875,2703,2546,2396,2202,2268,2265,2112,2468,2275,2150,2344,2262,2253]
["Lothian",10132,10129,9631,9598,9516,9768,9471,9322,9808,9310,9472,9158,8803,8799]
["Orkney",150,195,161,165,157,143,167,187,188,195,193,137,148,169]
["Shetland",212,178,251,206,200,163,186,211,220,208,202,191,169,185]
["Tayside",3608,3350,3477,3323,3132,3072,3171,3135,3222,3010,2959,2976,2887,2611]
["Western Isles",217,218,203,248,204,177,157,219,189,221,209,183,197,192]
[]
["Notes"]
["1) Movements to/from the armed forces were included in these figures in previous releases of this spreadsheet but are no longer treated as migration.  Armed forces movements are included in the mid-year population estimates under another category."]
["2) Source for  data: 'Migration between Scotland and the rest of the UK by adminstrative area and sex' from the 'Migration between Scotland and the Rest of the UK' section of the NRS website - https://www.nrscotland.gov.uk/statistics-and-data/statistics/statistics-by-theme/migration/migration-statistics/migration-between-scotland-and-the-rest-of-the-uk"]
["3) The NHS Board areas used for estimates between 2003-04 and 2010-11 are those that existed between 2006 and 2014. The 2011-12 estimates onwards use the NHS Board areas that came into force in April 2014."]
[]
["© Crown Copyright 2018"]

{"sheet":"Overseas net migration","index":18,"n_rows":60,"n_cols":15,"rows_kept":60,"cut":false,"hidden":false,"merged":[[0,10,0,11],[55,0,55,9],[56,0,56,10],[57,0,57,10]]}
["Overseas net migration",null,null,null,null,null,null,null,null,null,"Return to front page"]
[]
["Council Area","2003-04","2004-05","2005-06","2006-07","2007-08","2008-09","2009-10","2010-11","2011-12","2012-13","2013-14","2014-15","2015-16","2016-17"]
["SCOTLAND",3100,12800,9900,24200,14900,20300,22800,27300,9700,2100,8000,19600,22900,13400]
["Aberdeen City",874,2150,2138,3752,3030,3669,3742,4130,2102,1302,1965,3189,2474,1491]
["Aberdeenshire",127,623,655,836,405,605,719,723,209,116,124,256,316,211]
["Angus",-106,128,137,206,107,145,215,235,11,-87,27,-11,73,50]
["Argyll and Bute",-104,-100,-111,137,-226,-51,86,55,-171,-211,-234,-85,38,-36]
["City of Edinburgh",3040,5220,4109,6121,3985,6271,7301,8077,4058,1953,3274,6049,6791,4508]
["Clackmannanshire",-49,8,12,158,-12,33,1,6,-49,-34,-26,-4,63,39]
["Dumfries and Galloway",-255,-84,-116,32,-175,-171,-162,15,-280,-335,-267,-72,12,-117]
["Dundee City",105,718,687,1063,950,1034,1258,1576,565,320,255,671,802,396]
["East Ayrshire",-132,-87,-194,-67,-93,-140,-97,-66,-133,-161,-174,-91,-38,-88]
["East Dunbartonshire",-190,-44,-191,9,-121,-29,-69,-73,-91,-122,-108,-113,50,-14]
["East Lothian",-47,3,37,188,253,216,145,166,116,-52,31,157,289,101]
["East Renfrewshire",-143,-77,-125,-8,-99,-19,38,-27,-158,-108,-53,-83,51,-8]
["Falkirk",67,246,69,317,109,124,158,278,-29,-128,15,127,155,101]
["Fife",87,787,272,1013,384,1059,1251,1300,359,-54,109,828,1042,671]
["Glasgow City",1099,1494,1065,4740,4248,5448,5383,7060,3540,2065,3996,7077,7935,5394]
["Highland",6,623,459,972,312,185,358,424,-175,-243,-88,329,349,88]
["Inverclyde",-175,122,0,17,-52,-5,25,-25,-99,-57,-63,14,39,4]
["Midlothian",-22,-21,-1,93,7,21,40,73,24,-45,-40,-20,85,45]
["Moray",-79,68,24,237,-9,42,50,-95,-99,-146,-42,-122,80,-104]
["Na h-Eileanan Siar",-36,-6,-11,26,-27,-13,-5,3,-37,-59,-48,2,19,11]
["North Ayrshire",-141,-192,-278,-47,-146,-88,-91,32,-227,-238,-168,-42,-40,-49]
["North Lanarkshire",-334,-20,-33,573,97,19,-23,116,-204,-342,-165,165,266,50]
["Orkney Islands",-18,-25,-27,3,-26,-15,3,23,-33,-28,-16,3,3,8]
["Perth and Kinross",107,1066,970,1392,1380,1169,1167,1117,452,-10,467,463,420,148]
["Renfrewshire",187,161,79,501,132,99,344,456,-84,-206,-8,278,512,285]
["Scottish Borders",-61,107,11,259,90,15,-103,66,-66,-173,-173,-50,3,17]
["Shetland Islands",-20,-4,-42,14,3,78,24,35,2,-32,-39,32,39,-18]
["South Ayrshire",-196,-45,-85,65,-76,-106,-26,80,-100,-193,-166,14,38,4]
["South Lanarkshire",-368,-253,-201,73,-183,-48,-56,-1,-321,-424,-373,-161,133,-19]
["Stirling",70,141,178,564,259,355,663,985,415,-53,-44,637,441,-2]
["West Dunbartonshire",-98,-82,-109,68,-74,-30,51,11,-58,-97,-31,-33,86,25]
["West Lothian",-95,175,522,893,468,428,410,545,261,-18,63,196,374,208]
[]
["NHS Board Areas"]
["SCOTLAND",3100,12800,9900,24200,14900,20300,22800,27300,9700,2100,8000,19600,22900,13400]
["Ayrshire and Arran",-469,-324,-557,-49,-315,-334,-214,46,-460,-592,-508,-119,-40,-133]
["Borders",-61,107,11,259,90,15,-103,66,-66,-173,-173,-50,3,17]
["Dumfries and Galloway",-255,-84,-116,32,-175,-171,-162,15,-280,-335,-267,-72,12,-117]
["Fife",87,787,272,1013,384,1058,1251,1300,359,-54,109,828,1042,671]
["Forth Valley",88,395,259,1039,356,512,822,1269,337,-215,-55,760,659,138]
["Grampian",922,2841,2817,4825,3426,4316,4511,4758,2212,1272,2047,3323,2870,1598]
["Greater Glasgow and Clyde",616,1514,668,5339,4004,5437,5770,7383,3050,1475,3733,7140,8673,5686]
["Highland",-98,523,348,1109,86,134,444,479,-346,-454,-322,244,387,52]
["Lanarkshire",-638,-213,-183,634,-56,-2,-77,134,-525,-766,-538,4,399,31]
["Lothian",2876,5377,4667,7295,4713,6936,7896,8861,4459,1838,3328,6382,7539,4862]
["Orkney",-18,-25,-27,3,-26,-15,3,23,-33,-28,-16,3,3,8]
["Shetland",-20,-4,-42,14,3,78,24,35,2,-32,-39,32,39,-18]
["Tayside",106,1912,1794,2661,2437,2349,2640,2928,1028,223,749,1123,1295,594]
["Western Isles",-36,-6,-11,26,-27,-13,-5,3,-37,-59,-48,2,19,11]
[]
["Notes"]
["1) Figures include asylum seekers and rounding adjustments. Estimates for 2015-16 onwards include refugees also."]
["2) Source for  data: 'Migration between administative areas and overseas by sex' from the 'Migration between Scotland and Overseas' section of the NRS website - https://www.nrscotland.gov.uk/statistics-and-data/statistics/statistics-by-theme/migration/migration-statistics/migration-between-scotland-and-overseas"]
["3) The NHS Board areas used for estimates between 2003-04 and 2010-11 are those that existed between 2006 and 2014. The 2011-12 estimates onwards use the NHS Board areas that came into force in April 2014."]
[]
["© Crown Copyright 2018"]

{"sheet":"Overseas in-migration","index":19,"n_rows":60,"n_cols":15,"rows_kept":60,"cut":false,"hidden":false,"merged":[[55,0,55,9],[56,0,56,10],[57,0,57,10],[0,10,0,11]]}
["Overseas in-migration",null,null,null,null,null,null,null,null,null,"Return to front page"]
[]
["Council Area","2003-04","2004-05","2005-06","2006-07","2007-08","2008-09","2009-10","2010-11","2011-12","2012-13","2013-14","2014-15","2015-16","2016-17"]
["SCOTLAND",28500,41800,41300,45100,45200,45100,47400,44200,35900,28200,33200,37800,40400,32900]
["Aberdeen City",2893,4322,4459,5350,5409,5864,5851,5284,4414,3636,4202,4590,4157,3182]
["Aberdeenshire",778,1387,1557,1511,1514,1513,1558,1438,1062,978,1062,1080,978,758]
["Angus",136,374,446,424,516,458,554,513,369,279,340,290,346,304]
["Argyll and Bute",300,465,460,541,414,432,475,360,304,235,239,299,351,296]
["City of Edinburgh",7812,11011,10459,10185,9990,10654,11837,11219,9306,7251,8462,9650,10467,8538]
["Clackmannanshire",85,152,173,248,189,178,150,104,116,74,128,98,157,173]
["Dumfries and Galloway",243,502,521,493,524,388,375,358,244,200,212,281,340,239]
["Dundee City",812,1727,1630,1845,2072,1924,2196,2250,1583,1374,1276,1388,1439,1181]
["East Ayrshire",131,195,120,163,222,118,150,116,113,78,94,90,114,106]
["East Dunbartonshire",187,296,212,220,136,180,154,160,111,77,102,105,186,141]
["East Lothian",209,255,355,382,548,449,426,428,407,252,341,412,455,345]
["East Renfrewshire",139,175,161,143,137,155,193,134,76,88,125,127,179,128]
["Falkirk",392,668,568,662,564,505,456,502,312,235,327,377,383,379]
["Fife",1637,2492,2169,2291,2209,2403,2678,2298,1962,1510,1629,1918,2051,1680]
["Glasgow City",7199,8417,7990,9119,9769,10022,10165,10256,8550,7088,8897,10409,11462,9705]
["Highland",740,1495,1530,1773,1559,1292,1309,1023,761,619,719,918,920,730]
["Inverclyde",206,431,266,217,187,179,200,99,77,71,70,100,131,100]
["Midlothian",128,166,200,212,198,180,207,179,174,88,149,171,207,159]
["Moray",240,506,530,516,500,388,451,407,315,227,282,332,321,200]
["Na h-Eileanan Siar",46,80,87,99,78,76,69,60,44,28,32,55,72,64]
["North Ayrshire",232,259,221,260,261,226,235,222,149,110,136,158,184,182]
["North Lanarkshire",416,733,844,1181,1079,899,781,633,528,410,490,623,735,584]
["Orkney Islands",39,50,50,54,48,47,63,66,38,49,52,53,52,48]
["Perth and Kinross",653,1638,1733,2043,2343,2160,2130,1628,1384,841,1241,948,938,702]
["Renfrewshire",654,698,811,911,690,662,847,729,428,331,431,548,804,631]
["Scottish Borders",364,554,582,640,685,520,394,373,383,250,283,264,315,257]
["Shetland Islands",59,72,65,76,94,148,102,101,91,60,51,93,91,53]
["South Ayrshire",157,345,326,333,330,275,327,306,241,167,166,254,256,251]
["South Lanarkshire",429,767,735,720,708,717,688,560,449,308,371,454,640,523]
["Stirling",692,815,888,1009,927,959,1249,1363,1054,685,614,1033,818,603]
["West Dunbartonshire",164,196,185,231,156,172,200,160,112,101,116,121,194,135]
["West Lothian",328,557,967,1248,1144,957,930,871,743,500,561,561,657,523]
[]
["NHS Board Areas"]
["SCOTLAND",28500,41800,41300,45100,45200,45100,47400,44200,35900,28200,33200,37800,40400,32900]
["Ayrshire and Arran",520,799,667,756,813,619,712,644,503,355,396,502,554,539]
["Borders",364,554,582,640,685,520,394,373,383,250,283,264,315,257]
["Dumfries and Galloway",243,502,521,493,524,388,375,358,244,200,212,281,340,239]
["Fife",1637,2492,2169,2291,2209,2402,2678,2298,1962,1510,1629,1918,2051,1680]
["Forth Valley",1169,1635,1629,1919,1680,1642,1855,1969,1482,994,1069,1508,1358,1155]
["Grampian",3911,6215,6546,7377,7423,7765,7860,7129,5791,4841,5546,6002,5456,4140]
["Greater Glasgow and Clyde",8672,10410,9752,10981,11199,11484,11884,11668,9354,7756,9741,11410,12956,10840]
["Highland",1040,1960,1990,2314,1973,1724,1784,1383,1065,854,958,1217,1271,1026]
["Lanarkshire",722,1303,1452,1761,1663,1502,1344,1063,977,718,861,1077,1375,1107]
["Lothian",8477,11989,11981,12027,11880,12240,13400,12697,10630,8091,9513,10794,11786,9565]
["Orkney",39,50,50,54,48,47,63,66,38,49,52,53,52,48]
["Shetland",59,72,65,76,94,148,102,101,91,60,51,93,91,53]
["Tayside",1601,3739,3809,4312,4931,4543,4880,4391,3336,2494,2857,2626,2723,2187]
["Western Isles",46,80,87,99,78,76,69,60,44,28,32,55,72,64]
[]
["Notes"]
["1) Figures include asylum seekers and rounding adjustments. Estimates for 2015-16 onwards include refugees also."]
["2) Source for  data: 'Migration between administative areas and overseas by sex' from the 'Migration between Scotland and Overseas' section of the NRS website - https://www.nrscotland.gov.uk/statistics-and-data/statistics/statistics-by-theme/migration/migration-statistics/migration-between-scotland-and-overseas"]
["3) The NHS Board areas used for estimates between 2003-04 and 2010-11 are those that existed between 2006 and 2014. The 2011-12 estimates onwards use the NHS Board areas that came into force in April 2014."]
[]
["© Crown Copyright 2018"]

{"sheet":"Overseas out-migration","index":20,"n_rows":60,"n_cols":15,"rows_kept":60,"cut":false,"hidden":false,"merged":[[55,0,55,9],[56,0,56,10],[57,0,57,10],[0,10,0,11]]}
["Overseas out-migration",null,null,null,null,null,null,null,null,null,"Return to front page"]
[]
["Council Area","2003-04","2004-05","2005-06","2006-07","2007-08","2008-09","2009-10","2010-11","2011-12","2012-13","2013-14","2014-15","2015-16","2016-17"]
["SCOTLAND",25400,29000,31400,20900,30300,24800,24600,16900,26200,26100,25200,18200,17500,19500]
["Aberdeen City",2019,2172,2321,1598,2379,2195,2109,1154,2312,2334,2237,1401,1683,1691]
["Aberdeenshire",651,764,902,675,1109,908,839,715,853,862,938,824,662,547]
["Angus",242,246,309,218,409,313,339,278,358,366,313,301,273,254]
["Argyll and Bute",404,565,571,404,640,483,389,305,475,446,473,384,313,332]
["City of Edinburgh",4772,5791,6350,4064,6005,4383,4536,3142,5248,5298,5188,3601,3676,4030]
["Clackmannanshire",134,144,161,90,201,145,149,98,165,108,154,102,94,134]
["Dumfries and Galloway",498,586,637,461,699,559,537,343,524,535,479,353,328,356]
["Dundee City",707,1009,943,782,1122,890,938,674,1018,1054,1021,717,637,785]
["East Ayrshire",263,282,314,230,315,258,247,182,246,239,268,181,152,194]
["East Dunbartonshire",377,340,403,211,257,209,223,233,202,199,210,218,136,155]
["East Lothian",256,252,318,194,295,233,281,262,291,304,310,255,166,244]
["East Renfrewshire",282,252,286,151,236,174,155,161,234,196,178,210,128,136]
["Falkirk",325,422,499,345,455,381,298,224,341,363,312,250,228,278]
["Fife",1550,1705,1897,1278,1825,1344,1427,998,1603,1564,1520,1090,1009,1009]
["Glasgow City",6100,6923,6925,4379,5521,4574,4782,3196,5010,5023,4901,3332,3527,4311]
["Highland",734,872,1071,801,1247,1107,951,599,936,862,807,589,571,642]
["Inverclyde",381,309,266,200,239,184,175,124,176,128,133,86,92,96]
["Midlothian",150,187,201,119,191,159,167,106,150,133,189,191,122,114]
["Moray",319,438,506,279,509,346,401,502,414,373,324,454,241,304]
["Na h-Eileanan Siar",82,86,98,73,105,89,74,57,81,87,80,53,53,53]
["North Ayrshire",373,451,499,307,407,314,326,190,376,348,304,200,224,231]
["North Lanarkshire",750,753,877,608,982,880,804,517,732,752,655,458,469,534]
["Orkney Islands",57,75,77,51,74,62,60,43,71,77,68,50,49,40]
["Perth and Kinross",546,572,763,651,963,991,963,511,932,851,774,485,518,554]
["Renfrewshire",467,537,732,410,558,563,503,273,512,537,439,270,292,346]
["Scottish Borders",425,447,571,381,595,505,497,307,449,423,456,314,312,240]
["Shetland Islands",79,76,107,62,91,70,78,66,89,92,90,61,52,71]
["South Ayrshire",353,390,411,268,406,381,353,226,341,360,332,240,218,247]
["South Lanarkshire",797,1020,936,647,891,765,744,561,770,732,744,615,507,542]
["Stirling",622,674,710,445,668,604,586,378,639,738,658,396,377,605]
["West Dunbartonshire",262,278,294,163,230,202,149,149,170,198,147,154,108,110]
["West Lothian",423,382,445,355,676,529,520,326,482,518,498,365,283,315]
[]
["NHS Board Areas"]
["SCOTLAND",25400,29000,31400,20900,30300,24800,24600,16900,26200,26100,25200,18200,17500,19500]
["Ayrshire and Arran",989,1123,1224,805,1128,953,926,598,963,947,904,621,594,672]
["Borders",425,447,571,381,595,505,497,307,449,423,456,314,312,240]
["Dumfries and Galloway",498,586,637,461,699,559,537,343,524,535,479,353,328,356]
["Fife",1550,1705,1897,1278,1825,1344,1427,998,1603,1564,1520,1090,1009,1009]
["Forth Valley",1081,1240,1370,880,1324,1130,1033,700,1145,1209,1124,748,699,1017]
["Grampian",2989,3374,3729,2552,3997,3449,3349,2371,3579,3569,3499,2679,2586,2542]
["Greater Glasgow and Clyde",8056,8896,9084,5642,7195,6047,6114,4285,6304,6281,6008,4270,4283,5154]
["Highland",1138,1437,1642,1205,1887,1590,1340,904,1411,1308,1280,973,884,974]
["Lanarkshire",1360,1516,1635,1127,1719,1504,1421,929,1502,1484,1399,1073,976,1076]
["Lothian",5601,6612,7314,4732,7167,5304,5504,3836,6171,6253,6185,4412,4247,4703]
["Orkney",57,75,77,51,74,62,60,43,71,77,68,50,49,40]
["Shetland",79,76,107,62,91,70,78,66,89,92,90,61,52,71]
["Tayside",1495,1827,2015,1651,2494,2194,2240,1463,2308,2271,2108,1503,1428,1593]
["Western Isles",82,86,98,73,105,89,74,57,81,87,80,53,53,53]
[]
["Notes"]
["1) Figures include asylum seekers and rounding adjustments. Estimates for 2015-16 onwards include refugees also."]
["2) Source for  data: 'Migration between administative areas and overseas by sex' from the 'Migration between Scotland and Overseas' section of the NRS website - https://www.nrscotland.gov.uk/statistics-and-data/statistics/statistics-by-theme/migration/migration-statistics/migration-between-scotland-and-overseas"]
["3) The NHS Board areas used for estimates between 2003-04 and 2010-11 are those that existed between 2006 and 2014. The 2011-12 estimates onwards use the NHS Board areas that came into force in April 2014."]
[]
["© Crown Copyright 2018"]

{"sheet":"Census country of birth","index":21,"n_rows":60,"n_cols":10,"rows_kept":60,"cut":false,"hidden":false,"merged":[[56,0,56,9],[0,8,0,9]]}
["2011 Census - country of birth",null,null,null,null,null,null,null,"Return to front page"]
[]
[null,"All people","England","Northern Ireland","Scotland","Wales","Republic of Ireland","Other EU: Member countries in March 20011","Other EU: Accession countries April 2001 to March 2011","Other countries"]
["SCOTLAND",5295403,459486,36655,4411884,17381,22952,60596,76689,209760]
["Aberdeen City",222793,18008,1374,167180,764,1378,4934,9429,19726]
["Aberdeenshire",252973,31561,1366,203656,1285,572,2602,4922,7009]
["Angus",115978,10087,649,99596,397,250,908,1600,2491]
["Argyll and Bute",88166,15613,644,67060,529,327,923,852,2218]
["City of Edinburgh",476626,57725,6363,334626,2118,4743,13663,14601,42787]
["Clackmannanshire",51442,4356,318,44431,192,154,421,573,997]
["Dumfries and Galloway",151324,27186,1547,116687,642,456,1121,1146,2539]
["Dundee City",147268,8882,1539,123242,340,572,2248,2740,7705]
["East Ayrshire",122767,6602,742,112379,260,251,629,307,1597]
["East Dunbartonshire",105026,5945,593,93728,236,428,665,195,3236]
["East Lothian",99717,9877,645,83463,414,490,1071,1095,2662]
["East Renfrewshire",90574,4618,481,80890,211,406,569,241,3158]
["Falkirk",155990,8317,718,140890,403,394,916,1427,2925]
["Fife",365198,35531,2233,305206,1499,1032,4438,3745,11514]
["Glasgow City",593245,28263,5040,486243,1015,4339,7345,10349,50651]
["Highland",232132,37058,1318,179271,1267,681,2613,4292,5632]
["Inverclyde",81485,3189,338,75679,149,212,500,151,1267]
["Midlothian",83187,5560,456,73594,213,277,785,541,1761]
["Moray",93295,16580,632,70332,853,217,1555,1147,1979]
["Na h-Eileanan Siar",27684,3099,75,23556,141,50,189,115,459]
["North Ayrshire",138146,8562,866,124918,337,361,879,321,1902]
["North Lanarkshire",337727,10286,1131,315754,408,746,1232,3090,5080]
["Orkney Islands",21349,3757,105,16654,111,34,201,105,382]
["Perth and Kinross",146652,18519,1006,116268,624,576,1771,3243,4645]
["Renfrewshire",174908,6824,886,159373,310,685,1166,1391,4273]
["Scottish Borders",113870,21161,777,85392,560,410,1314,1554,2702]
["Shetland Islands",23167,3057,72,18691,151,158,184,354,500]
["South Ayrshire",112799,8888,1131,98603,334,383,930,509,2021]
["South Lanarkshire",313830,14274,1323,286940,609,991,1737,1529,6427]
["Stirling",90247,10588,872,71994,389,360,1243,975,3826]
["West Dunbartonshire",90720,3590,426,83699,156,509,397,429,1514]
["West Lothian",175118,11923,989,151889,464,510,1447,3721,4175]
[]
["NHS Board Areas"]
["SCOTLAND",5295403,459486,36655,4411884,17381,22952,60596,76689,209760]
["Ayrshire and Arran",373712,24052,2739,335900,931,995,2438,1137,5520]
["Borders",113870,21161,777,85392,560,410,1314,1554,2702]
["Dumfries and Galloway",151324,27186,1547,116687,642,456,1121,1146,2539]
["Fife",365198,35531,2233,305206,1499,1032,4438,3745,11514]
["Forth Valley",297636,23278,1910,257245,986,909,2583,2977,7748]
["Grampian",569061,66149,3372,441168,2902,2167,9091,15498,28714]
["Greater Glasgow and Clyde",1213408,55024,8072,1051125,2181,6938,11020,13081,65967]
["Highland",320298,52671,1962,246331,1796,1008,3536,5144,7850]
["Lanarkshire",574637,21997,2148,531661,914,1379,2598,4296,9644]
["Lothian",834350,85080,8453,643292,3208,6020,16960,19956,51381]
["Orkney",21349,3757,105,16654,111,34,201,105,382]
["Shetland",23167,3057,72,18691,151,158,184,354,500]
["Tayside",409709,37444,3190,338976,1359,1396,4923,7581,14840]
["Western Isles",27684,3099,75,23556,141,50,189,115,459]
[]
["Notes"]
["1) Includes UK (part not specified), Channel Islands, Isle of Man and Ireland (part not specified)."]
["2) In order to protect against disclosure of personal information, some records have been swapped between different geographic areas.  Some cell values will be affected, particularly small values at the most detailed geographies."]
["3) Source: Scotland's Census Release 2A Downloadable Files KS204SC - http://www.scotlandscensus.gov.uk/en/censusresults/downloadablefilesr2.html"]
[]
["© Crown Copyright 2018"]

{"sheet":"Pop born outside UK","index":22,"n_rows":59,"n_cols":15,"rows_kept":59,"cut":false,"hidden":false,"merged":[[0,10,0,11],[39,0,39,1],[40,0,40,9],[49,0,49,4],[42,0,42,1],[43,0,43,1],[44,0,44,1],[2,1,2,14],[56,0,56,9],[54,0,54,9],[50,0,50,7],[53,0,53,2],[47,0,47,9],[51,0,51,9],[55,0,55,9]]}
["Estimate of resident population born outside the UK",null,null,null,null,null,null,null,null,null,"Return to front page"]
[]
[null,"Calendar year"]
[null,2004,2005,2006,2007,2008,2009,2010,2011,2012,2013,2014,2015,2016,2017]
["SCOTLAND",203000,221000,227000,254000,288000,319000,323000,339000,374000,353000,381000,393000,457000,477000]
["Aberdeen City",12000,12000,14000,20000,25000,32000,30000,32000,32000,42000,42000,39000,48000,55000]
["Aberdeenshire",7000,6000,8000,10000,14000,15000,14000,17000,15000,11000,13000,13000,23000,21000]
["Angus",3000,3000,3000,4000,5000,5000,4000,4000,4000,6000,5000,6000,6000,7000]
["Argyll and Bute",2000,3000,3000,3000,4000,3000,4000,4000,4000,4000,4000,3000,5000,4000]
["City of Edinburgh",39000,46000,48000,46000,57000,62000,62000,66000,69000,67000,65000,77000,90000,102000]
["Clackmannanshire",1000,1000,1000,1000,1000,2000,2000,2000,2000,2000,3000,3000,4000,3000]
["Dumfries and Galloway",4000,4000,3000,4000,6000,5000,6000,5000,6000,4000,5000,5000,6000,7000]
["Dundee City",6000,7000,9000,8000,9000,11000,12000,14000,14000,15000,18000,17000,12000,15000]
["East Ayrshire",3000,2000,3000,2000,3000,3000,2000,2000,2000,2000,3000,2000,4000,4000]
["East Dunbartonshire",3000,4000,4000,4000,5000,4000,4000,4000,5000,5000,6000,5000,5000,6000]
["East Lothian",3000,3000,4000,4000,4000,4000,5000,6000,6000,6000,5000,5000,5000,6000]
["East Renfrewshire",3000,3000,4000,4000,3000,4000,5000,4000,4000,3000,4000,6000,7000,7000]
["Falkirk",4000,3000,2000,4000,3000,5000,6000,7000,7000,7000,7000,8000,9000,8000]
["Fife",13000,16000,12000,10000,10000,14000,21000,16000,20000,20000,18000,20000,30000,19000]
["Glasgow City",42000,46000,44000,55000,60000,70000,63000,64000,86000,66000,80000,83000,91000,91000]
["Highland",6000,7000,7000,8000,9000,8000,9000,11000,12000,11000,15000,10000,13000,14000]
["Inverclyde",3000,2000,2000,2000,2000,2000,2000,2000,3000,2000,2000,2000,2000,1000]
["Midlothian",1000,2000,2000,2000,3000,4000,3000,3000,3000,3000,4000,4000,4000,6000]
["Moray",3000,4000,4000,4000,4000,5000,5000,6000,5000,5000,4000,4000,5000,4000]
["Na h-Eileanan Siar","0~","0~",1000,"0~","0~",1000,"*","*",1000,1000,1000,"0~",1000,1000]
["North Ayrshire",2000,3000,3000,3000,2000,2000,2000,4000,3000,4000,3000,2000,4000,4000]
["North Lanarkshire",8000,7000,6000,5000,12000,10000,8000,7000,8000,7000,11000,14000,15000,15000]
["Orkney Islands",0,1000,1000,1000,"0~","0~","0~","0~","0~","0~","0~","0~",1000,1000]
["Perth and Kinross",5000,6000,5000,7000,7000,7000,9000,8000,10000,11000,11000,14000,10000,12000]
["Renfrewshire",5000,4000,5000,7000,9000,7000,7000,11000,10000,9000,11000,9000,12000,11000]
["Scottish Borders",4000,3000,4000,5000,5000,6000,7000,5000,5000,6000,6000,6000,6000,9000]
["Shetland Islands",1000,"0~","0~","0~","0~","0~",1000,"0~","0~",1000,1000,"0~","0~",1000]
["South Ayrshire",3000,2000,3000,3000,3000,4000,4000,3000,4000,3000,4000,4000,4000,5000]
["South Lanarkshire",6000,7000,8000,11000,9000,8000,11000,11000,12000,11000,9000,11000,12000,10000]
["Stirling",4000,4000,6000,5000,3000,4000,6000,7000,7000,6000,7000,8000,6000,7000]
["West Dunbartonshire",2000,2000,3000,3000,3000,4000,3000,3000,3000,3000,3000,2000,4000,4000]
["West Lothian",5000,6000,7000,10000,8000,8000,8000,12000,11000,11000,10000,10000,15000,17000]
[]
["Footnotes"]
["1) Figures are rounded to the nearest thousand."]
["2) Source: 'Estimated population resident in Scotland, by Council area and country of birth, 2000-2017', from the Population by Country of Birth and Nationality section of the NRS website - http://www.nrscotland.gov.uk/statistics-and-data/statistics/statistics-by-theme/population/population-estimates/estimates-of-special-populations/population-by-country-of-birth-and-nationality"]
["3) The data above comes from the ONS Annual Population Survey (APS) and Labour Force Survey (LFS)."]
["Totals may not sum due to rounding"]
["* = suppressed as estimate unreliable"]
["0~ = rounded to zero"]
[]
["Notes:"]
["1. Estimates with a coefficient of variation of more than 20 per cent have been suppressed as they are deemed unreliable. The coefficient of variation (CV) indicates the robustness of each estimate. It is defined as:"]
["% = (standard error/ estimate)  x  100"]
["    where standard error is an estimate of the margin of error associated with a sample survey."]
["2. Estimates are based on the Annual Population Survey (APS) which is the Labour Force Survey (LFS) plus various sample boosts. "]
["3. APS and LFS data has now been grossed to 2010-based population estimates and projections. Tables published from the year ending December 2010 have been weighted using these estimates. Tables published prior to this were weighted using the 2008 and 2006-based estimates and projections and have not been revised. Analysis shows that there is no discernable discontinuity in these tables."]
["4. It should be noted that the LFS :-"]
["*    excludes students in halls who do not have a UK resident parent"]
["*    excludes people in most other types of communal establishments (eg hotels, boarding houses, hostels, mobile home sites, etc)"]
["*    is grossed to population estimates of those living in private households that only include migrants staying for 12 months or more. An adjustment is made for those who live in some NHS accommodation and halls of residence whose parents live in the UK. For this reason the sum of the British and non-British nationality estimates may not agree with the published population estimate."]
["5. The LFS weighting does not adjust for non-response bias by the nationality or country of birth variable."]
[]
["© Crown Copyright 2018"]

{"sheet":"Non-British Population","index":23,"n_rows":59,"n_cols":15,"rows_kept":59,"cut":false,"hidden":false,"merged":[[54,0,54,9],[55,0,55,9],[56,0,56,9],[0,0,0,4],[44,0,44,1],[47,0,47,9],[49,0,49,4],[50,0,50,7],[51,0,51,9],[53,0,53,2],[43,0,43,1],[0,10,0,11],[2,1,2,14],[39,0,39,1],[40,0,40,9],[42,0,42,1]]}
["Estimate of resident non-British population",null,null,null,null,null,null,null,null,null,"Return to front page"]
[]
[null,"Calendar year"]
[null,2004,2005,2006,2007,2008,2009,2010,2011,2012,2013,2014,2015,2016,2017]
["SCOTLAND",126000,137000,134000,169000,196000,229000,245000,257000,281000,264000,282000,295000,337000,378000]
["Aberdeen City",8000,9000,10000,17000,22000,28000,25000,30000,31000,38000,39000,36000,43000,48000]
["Aberdeenshire",4000,4000,4000,6000,9000,11000,10000,11000,11000,7000,10000,9000,16000,16000]
["Angus",1000,1000,2000,2000,3000,3000,3000,2000,2000,5000,5000,5000,4000,5000]
["Argyll and Bute",1000,1000,1000,1000,2000,2000,2000,2000,2000,2000,2000,2000,3000,2000]
["City of Edinburgh",26000,32000,32000,32000,42000,45000,55000,54000,56000,52000,51000,60000,69000,85000]
["Clackmannanshire",1000,"0~",1000,1000,1000,1000,2000,2000,2000,2000,2000,2000,2000,1000]
["Dumfries and Galloway",2000,2000,2000,2000,3000,3000,3000,2000,4000,2000,3000,2000,3000,4000]
["Dundee City",4000,5000,6000,5000,5000,7000,10000,12000,12000,14000,17000,14000,10000,14000]
["East Ayrshire",1000,1000,2000,1000,1000,1000,1000,"0~",1000,1000,2000,2000,3000,2000]
["East Dunbartonshire",2000,2000,2000,2000,2000,2000,2000,2000,3000,3000,2000,2000,2000,3000]
["East Lothian",1000,2000,2000,3000,2000,2000,3000,3000,3000,4000,4000,3000,3000,4000]
["East Renfrewshire",1000,2000,2000,2000,2000,3000,3000,2000,3000,1000,2000,4000,4000,4000]
["Falkirk",2000,1000,1000,2000,2000,3000,4000,5000,5000,5000,5000,6000,6000,6000]
["Fife",7000,9000,7000,6000,3000,7000,11000,10000,12000,15000,12000,14000,21000,10000]
["Glasgow City",34000,35000,27000,41000,47000,59000,57000,56000,68000,48000,55000,67000,69000,76000]
["Highland",2000,3000,3000,4000,5000,5000,6000,9000,8000,8000,8000,6000,8000,11000]
["Inverclyde",2000,1000,1000,1000,1000,2000,1000,2000,2000,2000,1000,1000,1000,1000]
["Midlothian",1000,1000,1000,1000,2000,2000,1000,2000,2000,2000,3000,3000,3000,5000]
["Moray",1000,2000,2000,3000,3000,4000,4000,4000,4000,3000,2000,3000,4000,4000]
["Na h-Eileanan Siar","0~","*","*","*","0~","0~","*","*","0~","0~","*","*","0~","0~"]
["North Ayrshire",2000,2000,2000,2000,2000,1000,2000,2000,2000,2000,2000,1000,2000,2000]
["North Lanarkshire",5000,4000,3000,3000,9000,7000,7000,5000,6000,6000,9000,9000,9000,13000]
["Orkney Islands","*","*","0~","0~","*","0~","0~","*","*","*","*","*","0~","0~"]
["Perth and Kinross",2000,3000,3000,4000,4000,4000,5000,5000,7000,7000,8000,10000,8000,9000]
["Renfrewshire",3000,2000,3000,5000,6000,5000,5000,8000,8000,7000,9000,8000,10000,8000]
["Scottish Borders",2000,1000,3000,4000,3000,3000,5000,3000,3000,4000,5000,4000,4000,7000]
["Shetland Islands","0~","0~","0~","*","0~","0~","0~","0~","0~","0~","0~","0~","0~",1000]
["South Ayrshire",2000,1000,1000,2000,2000,2000,3000,2000,2000,2000,2000,2000,3000,4000]
["South Lanarkshire",3000,3000,3000,7000,5000,5000,5000,6000,7000,7000,6000,7000,7000,8000]
["Stirling",2000,2000,4000,2000,2000,2000,4000,4000,5000,4000,6000,7000,4000,5000]
["West Dunbartonshire",1000,1000,2000,2000,2000,2000,1000,1000,2000,2000,2000,1000,2000,3000]
["West Lothian",3000,4000,5000,7000,5000,7000,6000,9000,9000,8000,8000,8000,12000,16000]
[]
["Footnotes"]
["1) Figures are rounded to the nearest thousand."]
["2) Source: 'Estimated population resident in Scotland, by Council area and nationality, 2000-2017', from the Population by Country of Birth and Nationality section of the NRS website - http://www.nrscotland.gov.uk/statistics-and-data/statistics/statistics-by-theme/population/population-estimates/estimates-of-special-populations/population-by-country-of-birth-and-nationality"]
["3) The data above comes from the ONS Annual Population Survey (APS) and Labour Force Survey (LFS)."]
["Totals may not sum due to rounding"]
["* = suppressed as estimate unreliable"]
["0~ = rounded to zero"]
[]
["Notes:"]
["1. Estimates with a coefficient of variation of more than 20 per cent have been suppressed as they are deemed unreliable. The coefficient of variation (CV) indicates the robustness of each estimate. It is defined as:"]
["% = (standard error/ estimate)  x  100"]
["    where standard error is an estimate of the margin of error associated with a sample survey."]
["2. Estimates are based on the Annual Population Survey (APS) which is the Labour Force Survey (LFS) plus various sample boosts. "]
["3. APS and LFS data has now been grossed to 2010-based population estimates and projections. Tables published from the year ending December 2010 have been weighted using these estimates. Tables published prior to this were weighted using the 2008 and 2006-based estimates and projections and have not been revised. Analysis shows that there is no discernable discontinuity in these tables."]
["4. It should be noted that the LFS :-"]
["*    excludes students in halls who do not have a UK resident parent"]
["*    excludes people in most other types of communal establishments (eg hotels, boarding houses, hostels, mobile home sites, etc)"]
["*    is grossed to population estimates of those living in private households that only include migrants staying for 12 months or more. An adjustment is made for those who live in some NHS accommodation and halls of residence whose parents live in the UK. For this reason the sum of the British and non-British nationality estimates may not agree with the published population estimate."]
["5. The LFS weighting does not adjust for non-response bias by the nationality or country of birth variable."]
[]
["© Crown Copyright 2018"]

{"sheet":"NINo","index":24,"n_rows":45,"n_cols":15,"rows_kept":45,"cut":false,"hidden":false,"merged":[[0,10,0,11],[42,0,42,9],[40,0,40,7],[39,0,39,7],[41,0,41,9],[2,1,2,14]]}
["National Insurance Number (NINo) allocations to adult overseas nationals entering the UK",null,null,null,null,null,null,null,null,null,"Return to front page"]
[]
[null,"Registrations"]
["Calendar Year",2004,2005,2006,2007,2008,2009,2010,2011,2012,2013,2014,2015,2016,2017]
["SCOTLAND",19080,39410,45490,57080,46110,41610,39420,39500,34850,39470,43600,46570,45190,40510]
["Aberdeen City",1900,3580,4960,6360,5020,4830,4230,4600,4110,4930,5460,5210,4140,3230]
["Aberdeenshire",740,1610,1600,2000,1690,1680,1620,1500,1290,1610,1680,1730,1450,1180]
["Angus",370,790,660,920,1260,1350,1570,1140,1090,1240,1220,1310,1180,1080]
["Argyll and Bute",350,680,780,770,560,530,520,360,340,460,460,570,560,490]
["City of Edinburgh",5090,11060,11950,13630,10330,10450,9820,10590,9710,11360,11340,11930,12000,10200]
["Clackmannanshire",30,110,160,210,170,120,100,90,100,140,90,110,140,120]
["Dumfries and Galloway",260,630,590,800,420,350,310,310,250,280,310,340,380,470]
["Dundee City",750,1480,1480,1940,1660,1500,1540,1490,1090,1300,1240,1340,1340,1120]
["East Ayrshire",100,160,140,190,130,100,90,100,100,80,90,90,160,190]
["East Dunbartonshire",130,170,220,270,150,150,150,130,90,90,110,110,170,130]
["East Lothian",160,280,350,490,490,420,400,310,280,370,450,510,550,560]
["East Renfrewshire",100,130,190,230,100,110,110,100,80,100,120,140,170,100]
["Falkirk",160,390,530,670,430,320,340,330,380,380,410,540,460,470]
["Fife",730,1410,1800,2450,1950,1650,1810,1900,1890,1970,2450,2620,2330,1980]
["Glasgow City",3290,6250,7840,10700,8820,7650,7940,7650,6600,6820,8400,9310,8940,9440]
["Highland",1220,2690,2360,2960,2140,1560,1310,1280,1200,1290,1600,1680,1730,1610]
["Inverclyde",210,330,230,270,250,150,160,130,100,80,90,100,180,190]
["Midlothian",80,210,250,240,180,150,200,170,150,180,260,240,290,220]
["Moray",240,550,520,560,380,260,270,200,220,320,310,310,260,230]
["Na h-Eileanan Siar",60,130,90,130,70,50,40,40,50,30,60,70,60,80]
["North Ayrshire",240,310,280,340,220,230,170,170,110,130,130,180,210,190]
["North Lanarkshire",300,720,1100,1650,1170,670,540,690,560,590,790,1030,1300,990]
["Orkney Islands",30,60,70,110,60,60,50,50,40,70,50,60,60,50]
["Perth and Kinross",810,1610,1750,2450,3930,3580,2930,2810,2160,2350,2460,2730,2670,2320]
["Renfrewshire",280,590,930,1180,780,570,480,520,450,510,670,750,890,780]
["Scottish Borders",270,630,760,870,610,390,380,390,330,340,360,450,370,320]
["Shetland Islands",90,110,150,170,160,160,110,100,100,190,540,300,140,110]
["South Ayrshire",180,400,410,490,310,290,300,310,200,220,240,280,320,330]
["South Lanarkshire",380,710,870,1060,720,480,480,470,370,500,640,710,900,740]
["Stirling",240,690,750,880,720,680,570,600,490,590,580,750,710,700]
["West Dunbartonshire",80,160,230,260,150,180,140,130,100,140,170,190,150,130]
["West Lothian",280,820,1490,1850,1110,950,750,880,830,810,850,880,980,780]
[]
["Notes"]
["1) Figures are rounded to the nearest ten. Some additional disclosure control has been applied. Totals may not sum due to rounding method used. "]
["2) Registration date is derived from the date at which a NINo is maintained on the National Insurance Recording & Pay As You Earn System. "]
["3) Improvements have been made to the allocation of migrants whose residential address is incomplete. Figures reflect the best estimate of an overseas national's locality at the time of registering for a NINo. A very small proportion of NINo registrations are to overseas nationals registering whilst abroad. "]
["4) Source:  Department for Work and Pensions (DWP), National Insurance Number Allocations to Adult Overseas Nationals - data produced using the Stat-Xplore tool at https://stat-xplore.dwp.gov.uk/."]
[]
["© Crown Copyright 2018"]

{"sheet":"NINo Top 5 nationalities","index":25,"n_rows":45,"n_cols":3,"rows_kept":45,"cut":false,"hidden":false,"merged":[[38,0,38,2],[40,0,40,2],[42,0,42,2],[39,0,39,2],[41,0,41,2]]}
["Nationalities of NINo allocations to overseas nationals in 2017"]
[null,null,"Return to front page"]
[null,"Number of nationalities","Top 5 most common nationalities"]
["SCOTLAND",131,"Poland, Romania, Spain, Italy, Bulgaria"]
["Glasgow City",101,"Syria, Poland, Romania, India, Italy"]
["City of Edinburgh",91,"Spain, Poland, Italy, India, France"]
["Aberdeen City",77,"Poland, Romania, Nigeria, Ireland, Italy"]
["Dundee City",50,"Poland, Romania, Italy, Bulgaria, Spain"]
["Fife",47,"Romania, Bulgaria, Poland, United States of America, Lithuania"]
["Highland",38,"Poland, Romania, Spain, Hungary, Czech Republic"]
["Renfrewshire",34,"Poland, Romania, Italy, Bulgaria, Portugal"]
["Aberdeenshire",31,"Lithuania, Poland, Romania, Bulgaria, Latvia"]
["North Lanarkshire",31,"Poland, Romania, Italy, Lithuania, Bulgaria"]
["South Lanarkshire",31,"Poland, Romania, Italy, Hungary, Ireland"]
["Perth and Kinross",30,"Romania, Bulgaria, Poland, Czech Republic, Spain"]
["Stirling",30,"Poland, India, Italy, Romania, Ireland"]
["East Lothian",27,"Bulgaria, Poland, Ireland, Lithuania, Italy"]
["West Lothian",26,"Poland, Romania, Slovakia, Latvia, Italy"]
["Dumfries and Galloway",24,"Poland, Spain, Romania, Italy, Bulgaria"]
["South Ayrshire",22,"Romania, Poland, Portugal, France, Spain"]
["Argyll and Bute",21,"Romania, Poland, Spain, Hungary, France"]
["Falkirk",20,"Poland, Romania, Hungary, Lithuania, Italy"]
["North Ayrshire",19,"Romania, Poland, Syria, Italy, Portugal"]
["Scottish Borders",19,"Poland, Romania, Lithuania, Italy, France"]
["Angus",17,"Romania, Bulgaria, Poland, Lithuania, Latvia"]
["Midlothian",17,"Poland, Romania, Italy, Spain, France"]
["East Dunbartonshire",16,"Romania, Poland, Ireland, Syria, Portugal"]
["Moray",14,"Romania, Poland, Portugal, Bulgaria, Germany"]
["Clackmannanshire",13,"Poland, Romania, Syria, Bulgaria, Australia"]
["Inverclyde",10,"Poland, Romania, Spain, Hungary, Czech Republic"]
["Na h-Eileanan Siar",10,"Romania, Germany, Latvia, Syria, France"]
["West Dunbartonshire",10,"Poland, Romania, Bulgaria, Ireland, Italy"]
["East Ayrshire",9,"Romania, Poland, Portugal, Ireland, Italy"]
["East Renfrewshire",9,"Poland, Pakistan, Romania, Italy, Ireland"]
["Shetland Islands",6,"Hungary, Poland, Ireland, Slovakia, Spain"]
["Orkney Islands",3,"Poland, Romania, Italy, Austria, Belgium"]
[]
["Notes"]
["1) Based on calendar year 2017."]
["2) Registration date is derived from the date at which a NINo is maintained on the National Insurance Recording & Pay As You Earn System, and not date of arrival."]
["3) A nationality is only included in the table above if at least 5 persons of that nationality have been allocated a National Insurance Number."]
["4) Where there is more than one nationality with the same number of people registered from there, the nationalities at the same level are sorted alphabetically and the top nationalities are represented in the table."]
["5) Source:  Department for Work and Pensions (DWP), National Insurance Number Allocations to Adult Overseas Nationals entering the UK - data extracted using Stat-Xplore (https://stat-xplore.dwp.gov.uk/)."]
[]
["© Crown Copyright 2018"]

{"sheet":"WRS","index":26,"n_rows":44,"n_cols":9,"rows_kept":44,"cut":false,"hidden":false,"merged":[[39,0,39,8],[2,1,2,8]]}
["Worker Registration Scheme (WRS)",null,null,null,null,null,null,null,"Return to front page"]
[]
[null,"Worker Registrations"]
["Council Area","May 2004 - Dec 2004 ","Jan 2005 - Dec 2005 ","Jan 2006 - Dec 2006 ","Jan 2007 - Dec 2007 ","Jan 2008 - Dec 2008","Jan 2009 - Dec 2009","Jan 2010 - Dec 2010","Jan 2011 - Dec 2011"]
["SCOTLAND",7180,14445,18035,19630,14180,10315,8880,"-"]
["Aberdeen City",215,590,1135,1240,890,880,735,"-"]
["Aberdeenshire",610,1135,1320,1275,1020,1060,880,"-"]
["Angus",635,955,775,1010,770,330,425,"-"]
["Argyll and Bute",170,325,400,290,250,195,215,"-"]
["City of Edinburgh",1200,2235,2460,2325,1565,1245,1275,"-"]
["Clackmannanshire",15,45,30,45,35,40,15,"-"]
["Dumfries and Galloway",50,250,375,280,185,130,110,"-"]
["Dundee City",115,225,435,425,315,290,280,"-"]
["East Ayrshire",10,60,165,195,125,60,30,"-"]
["East Dunbartonshire",10,30,85,75,35,15,25,"-"]
["East Lothian",135,160,180,185,125,115,65,"-"]
["East Renfrewshire"," -",20,65,75,35,30,20,"-"]
["Falkirk",25,270,330,295,160,115,125,"-"]
["Fife",480,1030,1165,1285,1015,675,485,"-"]
["Glasgow City",625,1480,2200,2690,1690,1130,925,"-"]
["Highland",865,1330,1475,1630,1260,710,605,"-"]
["Inverclyde",5,75,35,35,10,20,5,"-"]
["Midlothian",70,200,235,195,115,60,50,"-"]
["Moray",70,285,255,300,205,100,90,"-"]
["Na h-Eileanan Siar",35,80,65,60,40,20,10,"-"]
["North Ayrshire",30,65,70,80,60,25,35,"-"]
["North Lanarkshire",125,420,645,855,545,220,245,"-"]
["Orkney Islands"," -",5,20,50,20,15,15,"-"]
["Perth and Kinross",1080,1420,1765,1850,1695,1255,1110,"-"]
["Renfrewshire",60,185,325,440,245,210,195,"-"]
["Scottish Borders",155,515,475,475,300,220,165,"-"]
["Shetland Islands",55,35,75,85,80,80,60,"-"]
["South Ayrshire",15,25,125,110,75,40,15,"-"]
["South Lanarkshire",65,320,530,560,325,175,115,"-"]
["Stirling",120,210,280,295,325,245,155,"-"]
["West Dunbartonshire",5,20,45,35,20,10,0,"-"]
["West Lothian",120,445,510,900,650,630,400,"-"]
[]
["Notes"]
["1) This data is based on Management Information, is provisional and may be subject to change. The data are not National Statistics.\nThis table shows registered workers rather than the number of applications made. The figures are for initial applications only (not multiple applications, where an individual is doing more than one job simultaneously, nor re-registrations, where an individual has changed employers).\nCurrently 99.3% of approved applications have an accurate employer postcode.\nFigures based on Employer's address and the date the application is approved.\nFigures are rounded to nearest 5\nBecause of rounding, figures may not add up to totals shown."]
["2) Source: Local Government Association, Worker Registration Scheme Data Archive (no longer available online)."]
["3) The Worker Registration Scheme was discontinued on 1 May 2011."]
[]
["© Crown Copyright 2018"]

{"sheet":"WRS quarterly","index":27,"n_rows":44,"n_cols":29,"rows_kept":44,"cut":false,"hidden":false,"merged":[[0,11,0,12],[39,0,39,19],[2,25,2,28],[2,17,2,20],[2,21,2,24],[2,13,2,16],[2,1,2,4],[2,5,2,8],[2,9,2,12]]}
["Worker Registration Scheme (WRS) - quarterly data",null,null,null,null,null,null,null,null,null,null,"Return to front page"]
[]
[null,2005,null,null,null,2006,null,null,null,2007,null,null,null,2008,null,null,null,2009,null,null,null,2010,null,null,null,2011]
["Council Area","Q1","Q2","Q3","Q4","Q1","Q2","Q3","Q4","Q1","Q2","Q3","Q4","Q1","Q2","Q3","Q4","Q1","Q2","Q3","Q4","Q1","Q2","Q3","Q4","Q1","Q2","Q3","Q4"]
["SCOTLAND","~","~","~","~","~",3900,5860,4855,4920,4240,5960,4500,3740,3775,3705,2960,2720,2015,3125,2455,1545,1415,3425,2505,1390,"~","~","~"]
["Aberdeen City","~","~","~","~","~",215,300,380,370,265,325,280,285,245,150,210,285,180,190,225,155,145,200,235,185,"~","~","~"]
["Aberdeenshire","~","~","~","~","~",250,460,330,290,240,375,370,260,220,285,255,260,160,320,320,200,110,350,220,120,"~","~","~"]
["Angus","~","~","~","~","~",225,275,170,145,180,520,165,125,160,335,150,55,90,105,80,35,55,265,70,30,"~","~","~"]
["Argyll and Bute","~","~","~","~","~",125,140,75,80,55,100,55,65,85,65,35,30,45,60,60,30,70,65,50,25,"~","~","~"]
["City of Edinburgh","~","~","~","~","~",565,630,685,700,495,610,520,480,460,280,345,410,255,295,285,220,220,390,445,245,"~","~","~"]
["Clackmannanshire","~","~","~","~","~",5,5,10,10,5,10,10,15,5,5,10,10,5,20,5,5,5,5,"†",0,"~","~","~"]
["Dumfries and Galloway","~","~","~","~","~",65,110,140,55,50,60,115,40,60,40,45,40,25,30,35,15,20,20,55,20,"~","~","~"]
["Dundee City","~","~","~","~","~",55,150,140,120,75,125,105,70,70,100,75,95,40,90,65,30,35,120,95,40,"~","~","~"]
["East Ayrshire","~","~","~","~","~",45,45,35,80,45,20,50,35,25,20,45,10,20,15,15,5,10,10,5,5,"~","~","~"]
["East Dunbartonshire","~","~","~","~","~",30,30,20,30,10,20,15,15,15,"†",5,5,"†",5,5,5,5,5,10,0,"~","~","~"]
["East Lothian","~","~","~","~","~",30,50,65,40,30,70,45,50,40,15,20,40,20,25,30,15,10,20,20,10,"~","~","~"]
["East Renfrewshire","~","~","~","~","~",20,20,30,25,20,20,15,15,10,5,5,10,5,5,10,15,"†",5,"†",15,"~","~","~"]
["Falkirk","~","~","~","~","~",95,85,100,90,70,100,35,40,55,25,40,35,15,35,30,15,50,30,30,30,"~","~","~"]
["Fife","~","~","~","~","~",190,520,290,245,245,505,290,215,220,405,175,110,175,305,85,75,45,280,85,40,"~","~","~"]
["Glasgow City","~","~","~","~","~",500,560,600,975,635,525,550,595,445,250,400,370,235,270,255,190,125,305,305,175,"~","~","~"]
["Highland","~","~","~","~","~",295,535,435,440,370,395,425,300,410,270,280,180,160,205,165,100,120,215,170,90,"~","~","~"]
["Inverclyde","~","~","~","~","~",5,10,10,5,10,15,5,0,5,5,"†",5,5,"†",10,5,"                 -","†",0,"†","~","~","~"]
["Midlothian","~","~","~","~","~",50,70,40,55,30,40,70,40,20,35,20,20,10,15,15,10,10,15,15,10,"~","~","~"]
["Moray","~","~","~","~","~",70,100,55,40,85,105,70,35,60,55,55,20,15,35,30,15,10,40,25,10,"~","~","~"]
["Na h-Eileanan Siar","~","~","~","~","~",20,10,15,15,20,15,10,10,10,10,10,"†",5,10,5,"†","†",5,5,5,"~","~","~"]
["North Ayrshire","~","~","~","~","~",20,15,15,15,25,20,20,20,20,10,10,5,10,5,5,"†",5,20,10,5,"~","~","~"]
["North Lanarkshire","~","~","~","~","~",115,175,255,220,210,230,195,175,145,115,110,85,35,45,55,65,45,85,50,25,"~","~","~"]
["Orkney Islands","~","~","~","~","~",5,10,5,10,20,10,10,5,5,10,"†",5,5,"†",5,"†",5,0,10,5,"~","~","~"]
["Perth and Kinross","~","~","~","~","~",415,895,250,205,485,905,255,230,470,790,205,165,260,685,145,120,165,690,135,100,"~","~","~"]
["Renfrewshire","~","~","~","~","~",65,95,95,140,100,105,95,75,60,40,70,60,50,45,55,35,35,60,65,40,"~","~","~"]
["Scottish Borders","~","~","~","~","~",80,170,145,80,120,155,120,110,55,95,40,60,15,75,70,25,15,65,60,45,"~","~","~"]
["Shetland Islands","~","~","~","~","~",15,25,25,25,10,20,30,30,10,20,20,20,10,15,35,10,5,15,30,5,"~","~","~"]
["South Ayrshire","~","~","~","~","~",60,30,30,35,25,35,15,25,25,15,10,10,15,10,5,5,5,5,"†",5,"~","~","~"]
["South Lanarkshire","~","~","~","~","~",90,135,170,140,120,145,155,95,80,80,70,75,35,35,30,20,30,30,35,25,"~","~","~"]
["Stirling","~","~","~","~","~",55,80,80,75,80,80,60,90,90,60,85,70,50,55,70,45,20,45,45,15,"~","~","~"]
["West Dunbartonshire","~","~","~","~","~",10,10,10,15,5,5,10,10,5,"†",5,5,"†",5,"†","†","†","†","†","†","~","~","~"]
["West Lothian","~","~","~","~","~",130,105,145,160,115,285,340,175,190,115,170,180,70,115,265,85,30,75,210,80,"~","~","~"]
[]
["Notes"]
["1) This data is based on Management Information, is provisional and may be subject to change. The data are not National Statistics.\nThis table shows registered workers rather than the number of applications made. The figures are for initial applications only (not multiple applications, where an individual is doing more than one job simultaneously, nor re-registrations, where an individual has changed employers).\nCurrently 99.3% of approved applications have an accurate employer postcode.\nFigures based on Employers address and the date the application is approved.\nFigures are rounded to nearest 5\n\"†\" Indicates 1 or 2\nBecause of rounding, figures may not add up to totals shown."]
["2) Source: Local Government Association, Worker Registration Scheme Data Archive (no longer available online)"]
["3) The Worker Registration Scheme was discontinued on 1 May 2011."]
[]
["© Crown Copyright 2018"]

{"sheet":"Pupils ethnic group","index":28,"n_rows":48,"n_cols":46,"rows_kept":48,"cut":false,"hidden":false,"merged":[[2,16,2,30],[2,31,2,45],[0,11,0,12],[2,1,2,15]]}
["Pupils from minority ethnic groups",null,null,null,null,null,null,null,null,null,null,"Return to front page"]
[]
[null,"Minority ethnic group3",null,null,null,null,null,null,null,null,null,null,null,null,null,null,"White other4",null,null,null,null,null,null,null,null,null,null,null,null,null,null,"Not known/not disclosed"]
[null,2003,2004,2005,2006,2007,2008,2009,2010,2011,2012,2013,2014,2015,2016,2017,2003,2004,2005,2006,2007,2008,2009,2010,2011,2012,2013,2014,2015,2016,2017,2003,2004,2005,2006,2007,2008,2009,2010,2011,2012,2013,2014,2015,2016,2017]
["SCOTLAND",23630,24987,26145,27543,29896,31477,33417,34639,35142,36811,39073,41849,44348,47814,51160,8550,8015,8917,10349,12146,14393,15927,17548,20238,22404,25310,28126,31216,34282,36595,31633,27056,21652,19726,17151,16445,16270,16744,11859,11316,11200,11254,12150,11925,12625]
["Aberdeen City",1085,1189,1251,1391,1552,1627,1739,1920,2034,2233,2412,2655,2858,3014,3334,480,500,522,647,926,1045,1212,1386,1630,1891,2304,2603,2889,3088,3139,2223,1507,1077,814,617,457,365,382,791,879,775,623,454,369,298]
["Aberdeenshire",386,418,455,487,563,559,731,735,711,749,811,946,994,1100,1202,351,372,447,568,712,826,971,1104,1247,1450,1609,1807,2000,2126,2138,1817,1124,668,507,396,391,423,502,365,416,346,303,269,243,214]
["Angus",177,177,193,198,619,570,503,411,366,306,322,359,366,402,439,132,138,146,194,206,254,294,348,417,459,519,578,639,714,752,3255,3462,1967,1738,825,651,522,442,273,237,198,185,170,140,132]
["Argyll and Bute",155,154,187,180,178,203,209,209,214,208,219,233,255,288,297,152,157,175,183,211,258,270,298,330,348,380,407,432,488,501,525,428,437,440,453,411,433,329,120,95,92,105,93,106,97]
["City of Edinburgh",3539,3722,3934,4052,4326,4672,4883,5051,5246,5642,6082,6538,6887,7474,8101,1697,1479,1440,1581,1867,2049,2232,2470,2842,3228,3762,4210,4631,5070,5567,1383,994,737,598,823,746,757,826,705,695,754,711,582,612,682]
["Clackmannanshire",87,115,127,188,197,188,209,207,186,201,200,212,203,217,229,45,51,49,86,121,135,149,157,198,218,209,210,220,216,227,320,177,100,81,40,38,57,48,18,19,41,40,44,57,81]
["Dumfries and Galloway",307,302,332,325,328,341,443,497,411,409,399,408,411,422,439,118,130,151,205,260,286,322,319,363,400,435,499,579,636,710,668,627,524,492,451,446,338,321,251,237,270,326,404,427,502]
["Dundee City",809,876,926,936,1075,1191,1229,1266,1287,1351,1440,1532,1595,1684,1844,155,162,193,221,279,340,374,406,483,528,611,714,819,881,947,1897,1583,1176,910,763,604,655,592,384,351,369,436,419,471,508]
["East Ayrshire",208,209,219,244,248,258,273,296,289,303,332,362,382,411,434,131,121,136,143,162,216,230,271,312,328,318,312,313,313,308,241,288,376,180,189,268,235,227,112,98,91,98,115,140,144]
["East Dunbartonshire",1003,1029,958,950,958,979,992,1015,1033,1075,1148,1241,1293,1367,1487,75,118,156,196,223,227,260,263,294,327,344,352,388,408,444,428,285,240,253,301,311,381,450,339,300,333,325,344,399,305]
["East Lothian",174,190,205,211,222,240,260,306,293,331,330,375,393,423,428,94,110,113,137,162,189,208,236,286,343,401,468,540,618,671,1183,871,561,377,329,206,161,115,91,68,94,161,132,123,117]
["East Renfrewshire",1366,1459,1572,1648,1778,1852,1921,1990,2154,2277,2407,2621,2795,2997,3202,180,199,208,213,222,256,282,312,385,401,444,477,501,519,537,284,235,287,297,170,274,374,361,227,217,194,179,223,183,195]
["Falkirk",407,461,455,486,506,544,612,637,627,641,678,724,752,805,871,117,124,140,148,188,221,230,279,370,461,528,605,750,886,980,1137,818,607,419,291,258,178,174,165,177,126,135,145,149,104]
["Fife",935,991,1099,1166,1259,1276,1646,1553,1292,1365,1477,1568,1731,1884,2022,813,546,487,481,576,672,736,814,963,1113,1321,1454,1679,1939,2166,1493,1075,856,663,575,419,461,478,1038,948,1061,1041,1114,938,822]
["Glasgow City",7444,7713,7943,8342,8853,9177,9670,10104,10580,11073,11772,12552,13161,14117,14945,1025,1059,1363,1430,1707,1954,2151,2284,2553,2803,3159,3406,3637,3993,4208,2149,1941,2074,2481,2937,2651,2671,3069,2034,1563,1439,1512,2568,2681,3439]
["Highland",417,450,516,552,631,632,642,646,648,658,714,738,829,917,929,306,339,385,523,637,751,810,888,1005,1099,1255,1458,1617,1768,1890,918,661,551,380,397,379,346,421,311,350,315,417,387,369,376]
["Inverclyde",230,238,207,198,189,185,185,182,175,176,184,189,192,202,211,628,286,205,141,110,126,135,171,169,145,141,133,149,163,169,103,334,262,229,301,279,217,227,176,117,115,114,132,127,126]
["Midlothian",193,204,223,227,226,279,286,309,307,333,373,406,462,515,594,112,116,119,137,150,173,177,194,240,261,305,365,422,456,539,827,719,568,594,516,531,383,244,151,178,208,117,116,172,202]
["Moray",176,183,192,197,201,230,242,268,232,251,268,291,318,342,333,129,127,134,180,244,264,290,319,393,399,437,506,531,568,581,237,188,138,103,114,111,141,187,96,114,137,143,150,103,83]
["Na h-Eileanan Siar",52,57,54,55,54,39,51,46,48,59,57,62,65,67,68,29,34,38,42,47,52,52,59,53,51,55,59,65,75,70,361,172,44,33,31,18,21,48,59,53,62,38,36,29,38]
["North Ayrshire",290,281,294,282,269,263,256,277,279,279,296,327,331,390,408,124,126,144,181,248,257,256,309,303,299,318,317,348,396,404,471,571,434,392,502,512,600,554,270,276,270,362,334,326,372]
["North Lanarkshire",1023,1113,1177,1262,1373,1425,1502,1564,1574,1622,1697,1795,1928,2051,2153,346,378,415,551,631,780,834,908,1071,1144,1228,1445,1668,1903,2059,1087,1007,1303,1456,1663,1512,1266,1057,773,629,607,588,613,628,643]
["Orkney Islands",21,24,28,30,35,46,55,49,39,39,38,42,38,39,47,19,23,23,24,31,37,45,49,57,80,104,120,117,119,116,394,287,271,268,180,121,85,77,41,54,71,73,90,51,71]
["Perth and Kinross",214,233,298,321,369,438,495,509,487,523,542,572,622,696,720,124,128,190,235,326,431,510,547,664,788,903,970,1104,1220,1325,4171,3986,2645,2162,341,344,232,145,104,82,80,113,135,104,124]
["Renfrewshire",509,575,581,606,660,732,771,781,787,837,850,891,979,1076,1201,214,206,254,276,308,324,349,369,440,446,516,562,642,716,808,465,385,499,543,539,515,572,776,432,507,516,565,576,615,570]
["Scottish Borders",162,169,182,174,200,227,289,338,332,321,305,322,330,340,361,151,166,175,255,328,373,407,427,465,513,577,617,667,709,770,238,265,312,253,277,296,413,463,339,339,310,306,303,268,242]
["Shetland Islands",56,40,47,51,52,55,57,67,84,88,84,88,101,102,100,13,23,24,36,47,59,81,87,84,96,106,116,128,145,143,134,80,75,66,53,36,39,36,25,24,26,17,13,20,30]
["South Ayrshire",189,299,279,268,277,279,291,296,284,294,295,287,318,347,362,194,141,228,262,376,303,287,319,339,333,335,360,382,377,378,356,330,391,513,376,406,397,363,264,194,193,168,174,190,207]
["South Lanarkshire",1072,1091,1104,1135,1181,1235,1307,1413,1396,1449,1524,1595,1698,1868,2024,103,146,296,351,422,501,583,659,792,825,893,928,1075,1173,1235,725,858,877,1149,1393,1629,1722,1862,989,977,998,1043,1001,841,796]
["Stirling",273,299,321,334,324,432,480,481,488,423,451,443,464,488,498,159,169,159,187,210,220,260,304,331,380,405,460,513,563,610,261,153,84,69,71,113,191,183,103,107,114,94,78,107,137]
["West Dunbartonshire",143,162,172,212,245,264,282,284,272,292,290,309,328,370,391,122,126,160,185,174,259,296,296,319,331,349,376,379,396,409,459,465,361,422,454,483,574,562,207,224,223,222,276,289,321]
["West Lothian",528,564,614,835,949,939,906,932,984,1003,1076,1166,1269,1399,1486,212,215,242,350,35,555,634,696,838,916,1039,1232,1392,1640,1794,1423,1180,1150,844,783,1029,1060,1223,608,791,772,694,660,648,647]
["Grant aided",73,79,87,94,103,103,105,102,111,99,95,91,92,92,100,5,7,7,8,8,8,10,15,21,19,24,28,29,25,26,5,10,11,22,23,22,23,23,17,14,12,13,11,14,12]
[]
["Notes"]
["1) The data in the table above are mainly derived from the annual pupil census which takes place in September of the relevant year."]
["2) Excludes grant aided special schools (shown separately at bottom of table). Council area totals have been adjusted slightly for disclosure purposes, however, the figures for “Scotland” are correct. The figure for \"Scotland\" is taken from the \"All local authorities\" figure."]
["3) Minority ethnic group includes all categories other than white-UK and white-other or unknown/not disclosed (up to 2010) or White Scottish, White Other British and White-Other (2011 on)."]
["4) White-Other includes White-Other, White-Irish and White-Polish"]
["5) Ethnicity figures for 2011 - 2017 are not directly comparable to previous years due to the changes in ethnicity categories in 2011. Categories are based on those used in 2011 population census."]
["6) Source: Pupils Census, SG publication - http://www.scotland.gov.uk/Topics/Statistics/Browse/School-Education/PubPupilCensus"]
[]
["© Crown Copyright 2018"]

{"sheet":"Pupils with English as an add.","index":29,"n_rows":43,"n_cols":13,"rows_kept":43,"cut":false,"hidden":false,"merged":[[0,8,0,9]]}
["Pupils with English as an additional language",null,null,null,null,null,null,null,"Return to front page"]
[]
[null,2006,2007,2008,2009,2010,2011,2012,2013,2014,2015,2016,2017]
["SCOTLAND",9486,15411,19001,21223,22740,24555,26131,29532,32509,35441,39331,41524]
["Aberdeen City",846,1181,1417,1503,1675,1833,1602,2132,2444,3054,3459,3805]
["Aberdeenshire",279,443,515,681,829,925,1054,1216,1356,1566,1671,1719]
["Angus",76,100,150,203,261,299,348,379,431,476,527,563]
["Argyll and Bute",43,56,102,104,110,124,135,145,164,175,214,203]
["City of Edinburgh",1910,2211,2602,2979,3258,3588,3951,4861,5227,5685,6096,5914]
["Clackmannanshire",22,54,84,89,109,115,120,139,156,167,179,199]
["Dumfries and Galloway",131,179,232,225,243,260,298,298,331,341,395,410]
["Dundee City",435,490,657,702,765,870,928,959,1096,1137,1195,1292]
["East Ayrshire",22,36,77,80,88,99,121,126,158,169,172,168]
["East Dunbartonshire",255,253,333,350,295,306,385,377,400,406,437,515]
["East Lothian",73,104,117,125,156,159,184,221,263,283,344,376]
["East Renfrewshire",373,549,679,771,759,805,868,818,831,837,886,961]
["Falkirk",254,298,328,394,416,461,477,497,581,648,730,768]
["Fife",282,432,512,550,505,611,802,903,1004,1150,1336,1543]
["Glasgow City",2691,6365,7804,8425,8914,9275,9702,10445,11190,11483,12743,13489]
["Highland",254,372,486,643,570,646,632,867,976,1225,1352,1320]
["Inverclyde",16,20,24,47,54,35,53,53,44,29,59,57]
["Midlothian",42,82,99,124,129,128,184,230,266,307,353,417]
["Moray",127,185,193,222,240,252,266,304,381,415,471,447]
["Na h-Eileanan Siar",23,32,19,27,18,25,39,47,54,53,62,57]
["North Ayrshire",13,65,66,71,77,93,101,108,117,121,155,169]
["North Lanarkshire",302,493,667,740,851,892,896,1000,1121,1271,1428,1555]
["Orkney Islands",0,6,6,7,15,5,16,15,14,20,22,29]
["Perth and Kinross",165,240,315,379,403,450,519,578,630,740,867,861]
["Renfrewshire",42,98,197,265,303,319,323,416,480,563,630,832]
["Scottish Borders",137,171,217,242,258,322,347,357,394,411,446,492]
["Shetland Islands",0,12,25,49,48,42,33,29,49,57,74,58]
["South Ayrshire",30,63,86,74,138,158,149,148,174,177,209,209]
["South Lanarkshire",268,291,373,414,456,461,510,581,660,711,824,912]
["Stirling",91,106,120,139,172,184,209,244,264,304,315,339]
["West Dunbartonshire",22,77,109,120,87,132,155,169,201,213,266,294]
["West Lothian",173,289,359,422,519,630,710,851,1033,1211,1414,1539]
[]
["Notes"]
["1) The data in the table above are mainly derived from the annual pupil census which takes place in September of the relevant year."]
["2) All levels of competency have been combined."]
["3) Source: Pupils Census, SG publication - http://www.scotland.gov.uk/Topics/Statistics/Browse/School-Education/PubPupilCensus"]
[]
["© Crown Copyright 2018"]

{"sheet":"Non-UK Births","index":30,"n_rows":61,"n_cols":15,"rows_kept":61,"cut":false,"hidden":false,"merged":[[56,0,56,9],[0,10,0,11],[57,0,57,9],[58,0,58,10],[2,1,2,14]]}
["Births to non-UK mothers",null,null,null,null,null,null,null,null,null,"Return to front page"]
[]
[null,"Births"]
["Calendar Year",2004,2005,2006,2007,2008,2009,2010,2011,2012,2013,2014,2015,2016,2017]
["SCOTLAND",4219,4675,5222,6350,7607,7984,8176,8343,8439,8634,9178,8998,9296,9186]
["Aberdeen City",299,330,395,555,726,782,840,838,911,940,986,992,988,885]
["Aberdeenshire",163,185,229,270,298,322,359,379,383,364,450,434,454,395]
["Angus",59,61,68,85,95,116,101,134,134,133,135,115,139,121]
["Argyll and Bute",43,52,55,73,83,83,73,79,78,70,81,87,87,95]
["City of Edinburgh",721,836,996,1116,1455,1475,1527,1529,1652,1700,1880,1821,1836,1837]
["Clackmannanshire",18,27,23,53,46,49,48,43,50,42,49,40,41,47]
["Dumfries and Galloway",59,71,76,86,81,116,85,96,90,98,91,87,96,99]
["Dundee City",135,151,170,215,288,292,290,318,265,238,310,267,307,271]
["East Ayrshire",38,42,38,51,52,68,61,76,52,45,44,56,58,57]
["East Dunbartonshire",67,65,69,74,80,78,75,77,79,73,87,86,66,98]
["East Lothian",51,70,69,79,106,90,112,131,134,115,126,125,130,125]
["East Renfrewshire",81,73,79,78,77,82,84,76,81,87,78,92,108,100]
["Falkirk",78,97,86,107,144,131,123,144,160,149,164,171,173,160]
["Fife",220,227,285,322,388,388,406,424,402,407,408,443,485,445]
["Glasgow City",1037,1206,1195,1449,1733,1827,1922,1881,1873,1986,2037,1952,1940,2076]
["Highland",151,163,203,241,261,301,312,269,327,316,337,314,322,275]
["Inverclyde",40,41,32,32,36,42,33,34,27,33,28,30,35,27]
["Midlothian",40,40,53,75,82,81,71,82,100,85,99,114,128,136]
["Moray",64,59,59,102,84,99,87,107,78,112,107,98,113,109]
["Na h-Eileanan Siar",11,8,11,13,14,22,10,13,13,21,17,8,26,19]
["North Ayrshire",48,55,49,54,55,77,60,52,64,61,56,62,49,56]
["North Lanarkshire",141,104,162,190,245,253,277,284,240,265,273,237,288,285]
["Orkney Islands",6,4,9,6,13,7,14,8,11,7,11,9,13,11]
["Perth and Kinross",92,107,111,145,166,196,204,204,201,211,233,233,223,233]
["Renfrewshire",91,88,101,123,155,162,175,176,183,176,186,185,224,232]
["Scottish Borders",63,71,84,126,135,118,124,115,135,130,121,121,129,109]
["Shetland Islands",14,18,21,15,24,22,23,30,21,22,28,24,24,23]
["South Ayrshire",40,49,44,62,59,58,63,61,67,58,59,78,53,65]
["South Lanarkshire",124,138,169,195,214,206,207,245,197,227,239,221,264,258]
["Stirling",80,61,85,82,85,108,102,100,80,84,109,104,107,109]
["West Dunbartonshire",26,28,38,49,49,39,54,60,44,68,51,72,61,66]
["West Lothian",119,148,158,227,278,294,254,278,307,311,298,320,329,362]
[]
["NHS Board Areas"]
["SCOTLAND",4219,4675,5222,6350,7607,7984,8176,8343,8439,8634,9178,8998,9296,9186]
["Ayrshire and Arran",126,146,131,167,166,203,184,189,183,164,159,196,160,178]
["Borders",63,71,84,126,135,118,124,115,135,130,121,121,129,109]
["Dumfries and Galloway",59,71,76,86,81,116,85,96,90,98,91,87,96,99]
["Fife",220,227,285,322,388,388,406,424,402,407,408,443,485,445]
["Forth Valley",176,185,194,242,276,288,273,287,290,275,322,315,321,316]
["Grampian",526,574,683,927,1108,1203,1286,1324,1372,1416,1543,1524,1555,1389]
["Greater Glasgow and Clyde",1394,1546,1560,1866,2198,2291,2408,2384,2287,2423,2467,2417,2434,2599]
["Highland",194,215,258,314,344,384,385,348,405,386,418,401,409,370]
["Lanarkshire",213,197,286,324,392,398,419,450,437,492,512,458,552,543]
["Lothian",931,1094,1275,1497,1920,1940,1964,2019,2193,2211,2403,2380,2423,2460]
["Orkney",6,4,9,6,13,7,14,8,11,7,11,9,13,11]
["Shetland",14,18,21,15,24,22,23,30,21,22,28,24,24,23]
["Tayside",286,319,349,445,548,604,595,656,600,582,678,615,669,625]
["Western Isles",11,8,11,13,14,22,10,13,13,21,17,8,26,19]
[]
["Notes"]
["1) Births to non-UK mothers is the total of all births of mothers not born in the UK, Isle of Man, or the Channel Islands. Further breakdown of births by mother's country of birth is available in the NRS Vital Events Reference Tables, Table 3.9."]
["2) Source: NRS Vital Events Reference Tables, Table 3.9 - http://www.nrscotland.gov.uk/statistics-and-data/statistics/statistics-by-theme/vital-events/general-publications/vital-events-reference-tables/2017/section-3-births"]
["3) The NHS Board areas used for estimates between 2003/04 and 2010/11 are those that existed between 2006 and 2014. The 2011/12 estimates onwards use the NHS Board areas that came into force in April 2014."]
[]
["© Crown Copyright 2018"]

{"sheet":"Births to non-UK mothers %birth","index":31,"n_rows":61,"n_cols":15,"rows_kept":61,"cut":false,"hidden":false,"merged":[[57,0,57,9],[0,10,0,11],[58,0,58,10],[2,1,2,14]]}
["Births to non-UK mothers as percentage of total births",null,null,null,null,null,null,null,null,null,"Return to front page"]
[]
[null,"Births (percentage)"]
["Calendar Year",2004,2005,2006,2007,2008,2009,2010,2011,2012,2013,2014,2015,2016,2017]
["SCOTLAND",7.82,8.6,9.3800000000000008,10.99,12.67,13.52,13.91,14.24,14.54,15.41,16.179814896430145,16.329999999999998,17.060637204522099,17.377650820075292]
["Aberdeen City",14.41,16.010000000000002,17.95,22.96,27.97,30.5,32.32,32.130000000000003,33.89,37.6,38.440545808966867,38.020000000000003,39.190797302657678,36.844296419650291]
["Aberdeenshire",6.83,7.51,8.85,10.039999999999999,10.75,11.09,13.16,14.06,13.36,13,15.867418899858956,15.01,16.150836001422981,14.855208725084617]
["Angus",5.51,5.57,6.13,7.38,7.96,9.9600000000000009,9.2200000000000006,11.6,11.59,11.97,11.780104712041885,10.8,13.560975609756099,11.480075901328274]
["Argyll and Bute",5.33,6.73,7.04,9.85,10.29,10.18,9.57,10.6,10.199999999999999,9.8699999999999992,11.141678129298487,12.65,12.446351931330472,14.285714285714285]
["City of Edinburgh",15.78,17.82,20.350000000000001,22.07,26.75,26.94,27.5,27.5,29.47,30.99,33.849477853799065,34.53,34.641509433962263,36.499105901053049]
["Clackmannanshire",3.59,5.1100000000000003,4.21,8.36,7.14,8.0299999999999994,7.74,7.62,7.97,7.64,8.7971274685816869,7.23,8.1188118811881189,8.7686567164179117]
["Dumfries and Galloway",4.12,5.05,5.17,5.71,5.66,7.7,5.88,6.88,7.97,7.39,7.0762052877138411,6.93,7.2837632776934749,7.9326923076923075]
["Dundee City",8.77,9.77,10.85,12.89,15.99,16.52,16.62,18.02,15.42,14.97,18.075801749271136,17.170000000000002,19.479695431472081,18.151373074346953]
["East Ayrshire",2.99,3.34,2.89,3.91,3.79,4.99,4.57,5.58,3.83,3.35,3.5087719298245612,4.22,4.5490196078431371,4.9522154648132064]
["East Dunbartonshire",7.54,6.99,7.48,8.3000000000000007,8.25,8.4,8.1199999999999992,8.33,8.84,7.89,9.3851132686084142,8.86,6.9400630914826493,9.4594594594594597]
["East Lothian",5.37,6.64,6.53,7.18,8.9700000000000006,8.4700000000000006,9.9700000000000006,11.63,12.42,10.88,12.450592885375494,11.78,12.487992315081652,12.873326467559219]
["East Renfrewshire",8.61,8.1300000000000008,9.2100000000000009,8.73,8.8699999999999992,9.67,9.6300000000000008,9.42,9.19,9.89,9.1441969519343491,10.56,12.543554006968641,11.286681715575622]
["Falkirk",4.5,5.58,4.8899999999999997,5.66,7.39,6.99,6.56,8.1999999999999993,8.86,8.93,9.5571095571095572,10.73,11.054313099041533,10.21059349074665]
["Fife",5.89,5.93,7.13,7.9,8.92,9.3800000000000008,9.73,9.93,10,10.51,10.491128824890717,11.8,12.971382722653116,12.842712842712842]
["Glasgow City",15.68,17.649999999999999,18.059999999999999,20.25,23.51,24.32,25.41,24.65,24.83,27.38,27.287340924313462,27.55,28.39162885994439,30.297723292469353]
["Highland",6.94,7.3,9.4,10.33,10.52,12.68,12.65,11.47,13.74,14.15,14.588744588744589,14.14,14.976744186046512,13.164193393968407]
["Inverclyde",4.45,4.55,3.78,3.73,4.1900000000000004,5.17,4.17,4.18,3.52,4.38,3.763440860215054,4.22,4.9575070821529748,4.0479760119940025]
["Midlothian",4.54,4.6100000000000003,5.98,8,8.74,8.5500000000000007,7.14,8.3800000000000008,9.43,8.3699999999999992,9.5837366892545983,10.54,11.76470588235294,12.285456187895212]
["Moray",7.49,6.72,6.56,10.19,8.7899999999999991,10.25,9.3800000000000008,11,8.52,11.72,11.493018259935553,10.83,12.034078807241746,12.733644859813085]
["Na h-Eileanan Siar",4.93,3.43,4.01,4.9400000000000004,5.45,9.69,4.26,5.53,5.49,8.5399999999999991,7.5221238938053103,3.6,10.92436974789916,8.8372093023255811]
["North Ayrshire",3.41,3.99,3.26,3.53,3.71,5.14,4.1399999999999997,3.58,4.75,4.67,4.361370716510903,4.9400000000000004,3.938906752411576,4.6940486169321041]
["North Lanarkshire",3.52,2.71,4.05,4.7,5.86,6.22,7.05,7.11,6.42,7.09,7.3406829792955097,6.38,8.2027912275704917,8.0101180438448569]
["Orkney Islands",3.51,2.2200000000000002,4.2300000000000004,3.16,6.07,3.52,7.11,3.9,5.47,3.48,6.0773480662983426,4.71,7.3033707865168536,5.9782608695652177]
["Perth and Kinross",7.16,7.94,8.34,10.42,11.5,13.75,13.92,14.1,15.74,15.98,17.170228445099482,17.170000000000002,16.830188679245282,19.256198347107439]
["Renfrewshire",4.83,4.71,5.5,6.48,7.7,8.67,8.77,9.6300000000000008,9.34,9.83,10.259238830667403,10.81,12.633953750705022,12.931995540691194]
["Scottish Borders",5.99,6.78,7.56,10.77,11.86,10.18,10.68,10.38,11.84,11.42,11.193339500462535,11.67,12.835820895522387,11.021233569261881]
["Shetland Islands",6.09,7.93,7.84,6.15,8.6300000000000008,8.06,8.65,12.4,7.61,8.43,11.067193675889328,10.26,9.0225563909774422,10.550458715596331]
["South Ayrshire",3.88,5.0199999999999996,4.3499999999999996,6.03,5.53,5.5,6.09,5.68,6.72,5.81,5.7115198451113267,7.57,5.4303278688524586,6.9370330843116337]
["South Lanarkshire",3.69,4.1500000000000004,4.8,5.65,5.8,5.94,6.06,7,5.84,6.94,7.0252792475014703,6.94,7.9638009049773748,8.0499219968798741]
["Stirling",8.57,6.99,9.36,9.34,9.86,12.51,12.2,12,9.74,10.41,12.960760998810938,13.13,13.258983890954152,13.557213930348258]
["West Dunbartonshire",2.6,2.8,3.64,4.43,4.4400000000000004,3.6,5.17,5.64,4.17,6.95,5.1724137931034484,7.79,6.367432150313153,7.4074074074074066]
["West Lothian",5.78,7.01,7.21,9.94,11.91,13.16,11.72,13.03,14.72,15.33,14.687037949728932,16.25,16.540975364504774,18.795430944963655]
[]
["NHS Board Areas"]
["SCOTLAND",7.82,8.6,9.3800000000000008,10.99,12.67,13.52,13.91,14.24,14.54,15.41,16.179814896430145,16.329999999999998,17.060637204522099,17.377650820075292]
["Ayrshire and Arran",3.4,4.04,3.42,4.33,4.24,5.19,4.82,4.8600000000000003,4.9400000000000004,4.5,4.45,5.43,4.5779685264663801,5.4251752514477296]
["Borders",5.99,6.78,7.57,10.78,11.86,10.199999999999999,10.68,10.38,11.84,11.42,11.19,11.67,12.835820895522387,11.021233569261881]
["Dumfries and Galloway",4.12,5.05,5.17,5.71,5.66,7.7,5.88,6.88,6.47,7.39,7.08,6.93,7.2837632776934749,7.9326923076923075]
["Fife",5.89,5.93,7.13,7.9,8.92,9.3800000000000008,9.73,9.93,10,10.51,10.49,11.8,12.971382722653116,12.842712842712842]
["Forth Valley",5.55,5.9,6.04,7.11,7.99,8.61,8.1999999999999993,9.1,8.91,9.09,10.34,10.72,11.157455683003128,10.8703130374957]
["Grampian",9.89,10.62,12.01,15.18,17.52,18.7,20.56,21.1,21.21,23.01,24.37,23.79,24.796683144634031,23.474733817813082]
["Greater Glasgow and Clyde",10.65,11.62,11.93,13.57,15.46,16.350000000000001,17.07,16.95,17.46,19.260000000000002,19.29,19.690000000000001,20.145671246482372,21.433283852878112]
["Highland",6.51,7.15,8.7799999999999994,10.220000000000001,10.46,12.04,11.92,11.26,12.88,13.12,13.76,13.79,14.355914355914356,13.435003631082063]
["Lanarkshire",3.28,3.14,4.34,4.95,5.72,6.05,6.5,6.92,6.14,7.02,7.19,6.64,8.0867272194550246,8.0289812213514704]
["Lothian",11.01,12.54,14.12,15.96,19.420000000000002,19.96,19.989999999999998,20.61,22.31,23.06,24.96,25.36,25.727330643448713,27.221423038619008]
["Orkney",3.51,2.2200000000000002,4.2300000000000004,3.16,6.07,3.52,7.11,3.9,5.47,3.48,6.08,4.71,7.3033707865168536,5.9782608695652177]
["Shetland",6.09,7.93,7.84,6.15,8.6300000000000008,8.06,8.65,12.4,7.61,8.43,11.07,10.26,9.0225563909774422,10.550458715596331]
["Tayside",7.35,8,8.7200000000000006,10.57,12.36,13.86,13.81,15.03,14.45,14.47,16.07,15.46,17.040244523688234,16.63561352142667]
["Western Isles",4.93,3.43,4.01,4.9400000000000004,5.45,9.69,4.26,5.53,5.49,8.5399999999999991,7.52,3.6,10.92436974789916,8.8372093023255811]
[]
["Notes"]
["1) Births to non-UK mothers is the total of all births where the mother was not born in the UK, Isle of Man, or the Channel Islands."]
["2) Sources: Vital Events Reference Tables, Table 3.9 (http://www.nrscotland.gov.uk/statistics-and-data/statistics/statistics-by-theme/vital-events/general-publications/vital-events-reference-tables/2017/section-3-births) and Vital Events Birth Time Series Data (http://www.nrscotland.gov.uk/statistics-and-data/statistics/statistics-by-theme/vital-events/births/births-time-series-data)."]
["3) The NHS Board areas used for estimates between 2003/04 and 2010/11 are those that existed between 2006 and 2014. The 2011/12 estimates onwards use the NHS Board areas that came into force in April 2014."]
[]
["© Crown Copyright 2018"]

{"sheet":"Citizenships","index":32,"n_rows":44,"n_cols":15,"rows_kept":44,"cut":false,"hidden":false,"merged":[[0,10,0,11],[2,1,2,14],[39,0,39,9],[40,0,40,9],[41,0,41,10],[0,0,0,7]]}
["People attending citizenship ceremonies",null,null,null,null,null,null,null,null,null,"Return to front page"]
[]
[null,"People attending citizenship ceremonies"]
["Area",2004,2005,2006,2007,2008,2009,2010,2011,2012,2013,2014,2015,2016,2017]
["SCOTLAND",881,2428,2280,2833,2169,4528,4767,4417,4745,5716,3956,3542,4453,3262]
["Aberdeen City",59,195,183,233,181,373,429,422,609,857,720,629,650,400]
["Aberdeenshire",34,58,58,56,57,118,124,154,180,220,194,211,193,125]
["Angus",10,31,15,21,22,41,33,51,33,43,27,18,30,32]
["Argyll and Bute",8,20,19,25,16,31,34,30,46,36,27,22,29,22]
["City of Edinburgh",181,514,462,637,466,849,807,842,886,1054,766,760,952,786]
["Clackmannanshire",3,8,11,19,12,17,11,10,23,18,13,12,10,7]
["Dumfries and Galloway",14,40,17,40,23,45,71,60,65,42,25,29,41,23]
["Dundee City",26,94,77,90,74,150,155,141,152,192,121,124,128,88]
["East Ayrshire",7,20,24,12,17,31,22,37,27,28,15,16,16,10]
["East Dunbartonshire",29,65,72,39,41,67,49,63,61,74,54,52,54,33]
["East Lothian",11,26,15,22,31,28,35,29,43,49,27,32,39,34]
["East Renfrewshire",20,44,46,51,31,90,83,63,67,82,61,44,83,54]
["Falkirk",14,39,25,45,31,58,53,62,71,76,48,46,66,54]
["Fife",59,117,110,111,94,161,206,183,175,177,145,130,159,119]
["Glasgow City",194,588,681,771,641,1517,1614,1313,1253,1518,915,723,1075,744]
["Highland",14,58,40,57,53,117,126,101,124,183,75,78,101,82]
["Inverclyde",6,11,13,19,9,25,29,21,28,31,17,4,19,8]
["Midlothian",6,26,16,29,26,49,35,33,44,60,50,49,59,55]
["Moray",11,22,20,23,13,21,27,16,42,35,29,36,37,19]
["Na h-Eileanan Siar",1,7,5,3,6,10,7,11,8,19,9,5,6,7]
["North Ayrshire",9,29,23,22,16,25,41,41,41,31,21,23,27,21]
["North Lanarkshire",30,66,61,88,42,123,149,120,147,140,80,67,103,62]
["Orkney Islands",0,3,4,2,1,6,3,6,5,7,5,2,8,8]
["Perth and Kinross",18,32,25,57,26,75,66,72,82,86,54,53,63,62]
["Renfrewshire",13,51,40,54,42,77,95,84,101,128,75,86,89,71]
["Scottish Borders",16,32,19,28,18,27,35,31,47,51,27,28,26,25]
["Shetland Islands",2,6,4,14,11,14,5,12,11,18,9,9,9,7]
["South Ayrshire",12,33,25,24,19,39,46,23,32,40,35,26,36,36]
["South Lanarkshire",26,93,72,108,76,164,199,197,166,198,138,110,136,111]
["Stirling",11,27,24,31,6,34,30,43,44,48,46,27,41,32]
["West Dunbartonshire",6,11,12,18,20,48,40,40,33,50,23,11,31,23]
["West Lothian",31,62,62,84,48,98,108,106,99,125,105,80,137,102]
[]
["Notes"]
["1) Source: Citizenship data tables immmigration statistics, Home Office - https://www.gov.uk/government/collections/immigration-statistics-quarterly-release#data-tables"]
["2) Definition of citizenship ceremonies:  A ceremony organised by County or Local Authorities for successful applicants over 18 years of age for British citizenship. At the ceremony the applicant takes the Oath or Affirmation of allegiance to Her Majesty the Queen and the Pledge of loyalty to the United Kingdom. Since 1 January 2004 this has been the final stage in the process of attaining British citizenship. The citizenship ceremony is organised by the relevant local authority, and happens after the Home Office have processed the application."]
["3) 2004 data reflects ceremonies held only for applications received and decided in that year. Persons granted citizenship who applied before 2004 were not required to attend a ceremony."]
[]
["© Crown Copyright 2018"]

{"sheet":"2011","index":33,"n_rows":53,"n_cols":25,"rows_kept":53,"cut":false,"hidden":true,"merged":[]}
[null,2011]
[null,null,"Not specified ",{"$f":"'Comparing Indicators'!$U8","v":"Total net migration"},{"$f":"'Comparing Indicators'!$U9","v":"Total net migration for ages 0-15"},{"$f":"'Comparing Indicators'!$U10","v":"Total net migration for ages 16-64"},{"$f":"'Comparing Indicators'!$U11","v":"Total net migration for people aged 65+"},{"$f":"'Comparing Indicators'!$U12","v":"Total in-migration"},{"$f":"'Comparing Indicators'!$U13","v":"Total out-migration"},{"$f":"'Comparing Indicators'!$U14","v":"Within Scotland net migration"},{"$f":"'Comparing Indicators'!$U15","v":"Within Scotland in-migration"},{"$f":"'Comparing Indicators'!$U16","v":"Within Scotland out-migration"},{"$f":"'Comparing Indicators'!$U17","v":"Rest of UK net migration"},{"$f":"'Comparing Indicators'!$U18","v":"Rest of UK in-migration"},{"$f":"'Comparing Indicators'!$U19","v":"Rest of UK out-migration"},{"$f":"'Comparing Indicators'!$U20","v":"Overseas net migration"},{"$f":"'Comparing Indicators'!$U21","v":"Overseas in-migration"},{"$f":"'Comparing Indicators'!$U22","v":"Overseas out-migration"},{"$f":"'Comparing Indicators'!$U23","v":"NINo Allocation"},{"$f":"'Comparing Indicators'!$U24","v":"Births to non-UK mothers"},{"$f":"'Comparing Indicators'!$U25","v":"Pupils from a minority ethnic group"},{"$f":"'Comparing Indicators'!$U26","v":"Pupils with English as an additional language"},{"$f":"'Comparing Indicators'!$U27","v":"Population born outside the UK"},{"$f":"'Comparing Indicators'!$U28","v":"Population with non-British nationality"},{"$f":"'Comparing Indicators'!$U29","v":"Citizenships"}]
[1,"Not specified"]
[2,"SCOTLAND",null,{"$f":"'Total net migration'!I4","v":30209},{"$f":"'Total net migration 0-15'!I4","v":3490},{"$f":"'Total net migration 16-64'!I4","v":26224},{"$f":"'Total net migration 65+'!I4","v":495},{"$f":"'Total in-migration'!I4","v":87886},{"$f":"'Total out-migration'!I4","v":57677},"N/A","N/A","N/A",{"$f":"'Rest of UK net migration'!I4","v":2909},{"$f":"'Rest of UK in-migration'!I4","v":43686},{"$f":"'Rest of UK out-migration'!I4","v":40777},{"$f":"'Overseas net migration'!I4","v":27300},{"$f":"'Overseas in-migration'!I4","v":44200},{"$f":"'Overseas out-migration'!I4","v":16900},{"$f":"NINo!I5","v":39500},{"$f":"'Non-UK Births'!I5","v":8343},{"$f":"'Pupils ethnic group'!J5","v":35142},{"$f":"'Pupils with English as an add.'!G4","v":24555},{"$f":"'Pop born outside UK'!I5","v":339000},{"$f":"'Non-British Population'!I5","v":257000},{"$f":"Citizenships!I5","v":4417}]
[3,"Aberdeen City",null,{"$f":"'Total net migration'!I5","v":3078},{"$f":"'Total net migration 0-15'!I5","v":307},{"$f":"'Total net migration 16-64'!I5","v":2859},{"$f":"'Total net migration 65+'!I5","v":-88},{"$f":"'Total in-migration'!I5","v":13582},{"$f":"'Total out-migration'!I5","v":10504},{"$f":"'Within Scotland net migration'!I5","v":-1055},{"$f":"'Within Scotland in-migration'!I5","v":5957},{"$f":"'Within Scotland out-migration'!I5","v":7012},{"$f":"'Rest of UK net migration'!I5","v":3},{"$f":"'Rest of UK in-migration'!I5","v":2341},{"$f":"'Rest of UK out-migration'!I5","v":2338},{"$f":"'Overseas net migration'!I5","v":4130},{"$f":"'Overseas in-migration'!I5","v":5284},{"$f":"'Overseas out-migration'!I5","v":1154},{"$f":"NINo!I6","v":4600},{"$f":"'Non-UK Births'!I6","v":838},{"$f":"'Pupils ethnic group'!J6","v":2034},{"$f":"'Pupils with English as an add.'!G5","v":1833},{"$f":"'Pop born outside UK'!I6","v":32000},{"$f":"'Non-British Population'!I6","v":30000},{"$f":"Citizenships!I6","v":422}]
[4,"Aberdeenshire",null,{"$f":"'Total net migration'!I6","v":1384},{"$f":"'Total net migration 0-15'!I6","v":453},{"$f":"'Total net migration 16-64'!I6","v":975},{"$f":"'Total net migration 65+'!I6","v":-44},{"$f":"'Total in-migration'!I6","v":8836},{"$f":"'Total out-migration'!I6","v":7452},{"$f":"'Within Scotland net migration'!I6","v":793},{"$f":"'Within Scotland in-migration'!I6","v":5789},{"$f":"'Within Scotland out-migration'!I6","v":4996},{"$f":"'Rest of UK net migration'!I6","v":-132},{"$f":"'Rest of UK in-migration'!I6","v":1609},{"$f":"'Rest of UK out-migration'!I6","v":1741},{"$f":"'Overseas net migration'!I6","v":723},{"$f":"'Overseas in-migration'!I6","v":1438},{"$f":"'Overseas out-migration'!I6","v":715},{"$f":"NINo!I7","v":1500},{"$f":"'Non-UK Births'!I7","v":379},{"$f":"'Pupils ethnic group'!J7","v":711},{"$f":"'Pupils with English as an add.'!G6","v":925},{"$f":"'Pop born outside UK'!I7","v":17000},{"$f":"'Non-British Population'!I7","v":11000},{"$f":"Citizenships!I7","v":154}]
[5,"Angus",null,{"$f":"'Total net migration'!I7","v":115},{"$f":"'Total net migration 0-15'!I7","v":93},{"$f":"'Total net migration 16-64'!I7","v":-35},{"$f":"'Total net migration 65+'!I7","v":57},{"$f":"'Total in-migration'!I7","v":3604},{"$f":"'Total out-migration'!I7","v":3489},{"$f":"'Within Scotland net migration'!I7","v":-34},{"$f":"'Within Scotland in-migration'!I7","v":2567},{"$f":"'Within Scotland out-migration'!I7","v":2601},{"$f":"'Rest of UK net migration'!I7","v":-86},{"$f":"'Rest of UK in-migration'!I7","v":524},{"$f":"'Rest of UK out-migration'!I7","v":610},{"$f":"'Overseas net migration'!I7","v":235},{"$f":"'Overseas in-migration'!I7","v":513},{"$f":"'Overseas out-migration'!I7","v":278},{"$f":"NINo!I8","v":1140},{"$f":"'Non-UK Births'!I8","v":134},{"$f":"'Pupils ethnic group'!J8","v":366},{"$f":"'Pupils with English as an add.'!G7","v":299},{"$f":"'Pop born outside UK'!I8","v":4000},{"$f":"'Non-British Population'!I8","v":2000},{"$f":"Citizenships!I8","v":51}]
[6,"Argyll and Bute",null,{"$f":"'Total net migration'!I8","v":304},{"$f":"'Total net migration 0-15'!I8","v":135},{"$f":"'Total net migration 16-64'!I8","v":181},{"$f":"'Total net migration 65+'!I8","v":-12},{"$f":"'Total in-migration'!I8","v":3735},{"$f":"'Total out-migration'!I8","v":3431},{"$f":"'Within Scotland net migration'!I8","v":-121},{"$f":"'Within Scotland in-migration'!I8","v":2046},{"$f":"'Within Scotland out-migration'!I8","v":2167},{"$f":"'Rest of UK net migration'!I8","v":370},{"$f":"'Rest of UK in-migration'!I8","v":1329},{"$f":"'Rest of UK out-migration'!I8","v":959},{"$f":"'Overseas net migration'!I8","v":55},{"$f":"'Overseas in-migration'!I8","v":360},{"$f":"'Overseas out-migration'!I8","v":305},{"$f":"NINo!I9","v":360},{"$f":"'Non-UK Births'!I9","v":79},{"$f":"'Pupils ethnic group'!J9","v":214},{"$f":"'Pupils with English as an add.'!G8","v":124},{"$f":"'Pop born outside UK'!I9","v":4000},{"$f":"'Non-British Population'!I9","v":2000},{"$f":"Citizenships!I9","v":30}]
[7,"City of Edinburgh",null,{"$f":"'Total net migration'!I9","v":8044},{"$f":"'Total net migration 0-15'!I9","v":239},{"$f":"'Total net migration 16-64'!I9","v":7825},{"$f":"'Total net migration 65+'!I9","v":-20},{"$f":"'Total in-migration'!I9","v":29900},{"$f":"'Total out-migration'!I9","v":21856},{"$f":"'Within Scotland net migration'!I9","v":-394},{"$f":"'Within Scotland in-migration'!I9","v":10814},{"$f":"'Within Scotland out-migration'!I9","v":11208},{"$f":"'Rest of UK net migration'!I9","v":361},{"$f":"'Rest of UK in-migration'!I9","v":7867},{"$f":"'Rest of UK out-migration'!I9","v":7506},{"$f":"'Overseas net migration'!I9","v":8077},{"$f":"'Overseas in-migration'!I9","v":11219},{"$f":"'Overseas out-migration'!I9","v":3142},{"$f":"NINo!I10","v":10590},{"$f":"'Non-UK Births'!I10","v":1529},{"$f":"'Pupils ethnic group'!J10","v":5246},{"$f":"'Pupils with English as an add.'!G9","v":3588},{"$f":"'Pop born outside UK'!I10","v":66000},{"$f":"'Non-British Population'!I10","v":54000},{"$f":"Citizenships!I10","v":842}]
[8,"Clackmannanshire",null,{"$f":"'Total net migration'!I10","v":-8},{"$f":"'Total net migration 0-15'!I10","v":1},{"$f":"'Total net migration 16-64'!I10","v":-18},{"$f":"'Total net migration 65+'!I10","v":9},{"$f":"'Total in-migration'!I10","v":1525},{"$f":"'Total out-migration'!I10","v":1533},{"$f":"'Within Scotland net migration'!I10","v":-7},{"$f":"'Within Scotland in-migration'!I10","v":1129},{"$f":"'Within Scotland out-migration'!I10","v":1136},{"$f":"'Rest of UK net migration'!I10","v":-7},{"$f":"'Rest of UK in-migration'!I10","v":292},{"$f":"'Rest of UK out-migration'!I10","v":299},{"$f":"'Overseas net migration'!I10","v":6},{"$f":"'Overseas in-migration'!I10","v":104},{"$f":"'Overseas out-migration'!I10","v":98},{"$f":"NINo!I11","v":90},{"$f":"'Non-UK Births'!I11","v":43},{"$f":"'Pupils ethnic group'!J11","v":186},{"$f":"'Pupils with English as an add.'!G10","v":115},{"$f":"'Pop born outside UK'!I11","v":2000},{"$f":"'Non-British Population'!I11","v":2000},{"$f":"Citizenships!I11","v":10}]
[9,"Dumfries and Galloway",null,{"$f":"'Total net migration'!I11","v":377},{"$f":"'Total net migration 0-15'!I11","v":113},{"$f":"'Total net migration 16-64'!I11","v":230},{"$f":"'Total net migration 65+'!I11","v":34},{"$f":"'Total in-migration'!I11","v":4002},{"$f":"'Total out-migration'!I11","v":3625},{"$f":"'Within Scotland net migration'!I11","v":-87},{"$f":"'Within Scotland in-migration'!I11","v":1652},{"$f":"'Within Scotland out-migration'!I11","v":1739},{"$f":"'Rest of UK net migration'!I11","v":449},{"$f":"'Rest of UK in-migration'!I11","v":1992},{"$f":"'Rest of UK out-migration'!I11","v":1543},{"$f":"'Overseas net migration'!I11","v":15},{"$f":"'Overseas in-migration'!I11","v":358},{"$f":"'Overseas out-migration'!I11","v":343},{"$f":"NINo!I12","v":310},{"$f":"'Non-UK Births'!I12","v":96},{"$f":"'Pupils ethnic group'!J12","v":411},{"$f":"'Pupils with English as an add.'!G11","v":260},{"$f":"'Pop born outside UK'!I12","v":5000},{"$f":"'Non-British Population'!I12","v":2000},{"$f":"Citizenships!I12","v":60}]
[10,"Dundee City",null,{"$f":"'Total net migration'!I12","v":1427},{"$f":"'Total net migration 0-15'!I12","v":-91},{"$f":"'Total net migration 16-64'!I12","v":1603},{"$f":"'Total net migration 65+'!I12","v":-85},{"$f":"'Total in-migration'!I12","v":7389},{"$f":"'Total out-migration'!I12","v":5962},{"$f":"'Within Scotland net migration'!I12","v":-9},{"$f":"'Within Scotland in-migration'!I12","v":3770},{"$f":"'Within Scotland out-migration'!I12","v":3779},{"$f":"'Rest of UK net migration'!I12","v":-140},{"$f":"'Rest of UK in-migration'!I12","v":1369},{"$f":"'Rest of UK out-migration'!I12","v":1509},{"$f":"'Overseas net migration'!I12","v":1576},{"$f":"'Overseas in-migration'!I12","v":2250},{"$f":"'Overseas out-migration'!I12","v":674},{"$f":"NINo!I13","v":1490},{"$f":"'Non-UK Births'!I13","v":318},{"$f":"'Pupils ethnic group'!J13","v":1287},{"$f":"'Pupils with English as an add.'!G12","v":870},{"$f":"'Pop born outside UK'!I13","v":14000},{"$f":"'Non-British Population'!I13","v":12000},{"$f":"Citizenships!I13","v":141}]
[11,"East Ayrshire",null,{"$f":"'Total net migration'!I13","v":30},{"$f":"'Total net migration 0-15'!I13","v":25},{"$f":"'Total net migration 16-64'!I13","v":15},{"$f":"'Total net migration 65+'!I13","v":-10},{"$f":"'Total in-migration'!I13","v":3108},{"$f":"'Total out-migration'!I13","v":3078},{"$f":"'Within Scotland net migration'!I13","v":13},{"$f":"'Within Scotland in-migration'!I13","v":2301},{"$f":"'Within Scotland out-migration'!I13","v":2288},{"$f":"'Rest of UK net migration'!I13","v":83},{"$f":"'Rest of UK in-migration'!I13","v":691},{"$f":"'Rest of UK out-migration'!I13","v":608},{"$f":"'Overseas net migration'!I13","v":-66},{"$f":"'Overseas in-migration'!I13","v":116},{"$f":"'Overseas out-migration'!I13","v":182},{"$f":"NINo!I14","v":100},{"$f":"'Non-UK Births'!I14","v":76},{"$f":"'Pupils ethnic group'!J14","v":289},{"$f":"'Pupils with English as an add.'!G13","v":99},{"$f":"'Pop born outside UK'!I14","v":2000},{"$f":"'Non-British Population'!I14","v":"0~"},{"$f":"Citizenships!I14","v":37}]
[12,"East Dunbartonshire",null,{"$f":"'Total net migration'!I14","v":-105},{"$f":"'Total net migration 0-15'!I14","v":234},{"$f":"'Total net migration 16-64'!I14","v":-312},{"$f":"'Total net migration 65+'!I14","v":-27},{"$f":"'Total in-migration'!I14","v":3053},{"$f":"'Total out-migration'!I14","v":3158},{"$f":"'Within Scotland net migration'!I14","v":22},{"$f":"'Within Scotland in-migration'!I14","v":2459},{"$f":"'Within Scotland out-migration'!I14","v":2437},{"$f":"'Rest of UK net migration'!I14","v":-54},{"$f":"'Rest of UK in-migration'!I14","v":434},{"$f":"'Rest of UK out-migration'!I14","v":488},{"$f":"'Overseas net migration'!I14","v":-73},{"$f":"'Overseas in-migration'!I14","v":160},{"$f":"'Overseas out-migration'!I14","v":233},{"$f":"NINo!I15","v":130},{"$f":"'Non-UK Births'!I15","v":77},{"$f":"'Pupils ethnic group'!J15","v":1033},{"$f":"'Pupils with English as an add.'!G14","v":306},{"$f":"'Pop born outside UK'!I15","v":4000},{"$f":"'Non-British Population'!I15","v":2000},{"$f":"Citizenships!I15","v":63}]
[13,"East Lothian",null,{"$f":"'Total net migration'!I15","v":445},{"$f":"'Total net migration 0-15'!I15","v":191},{"$f":"'Total net migration 16-64'!I15","v":199},{"$f":"'Total net migration 65+'!I15","v":55},{"$f":"'Total in-migration'!I15","v":3653},{"$f":"'Total out-migration'!I15","v":3208},{"$f":"'Within Scotland net migration'!I15","v":211},{"$f":"'Within Scotland in-migration'!I15","v":2531},{"$f":"'Within Scotland out-migration'!I15","v":2320},{"$f":"'Rest of UK net migration'!I15","v":68},{"$f":"'Rest of UK in-migration'!I15","v":694},{"$f":"'Rest of UK out-migration'!I15","v":626},{"$f":"'Overseas net migration'!I15","v":166},{"$f":"'Overseas in-migration'!I15","v":428},{"$f":"'Overseas out-migration'!I15","v":262},{"$f":"NINo!I16","v":310},{"$f":"'Non-UK Births'!I16","v":131},{"$f":"'Pupils ethnic group'!J16","v":293},{"$f":"'Pupils with English as an add.'!G15","v":159},{"$f":"'Pop born outside UK'!I16","v":6000},{"$f":"'Non-British Population'!I16","v":3000},{"$f":"Citizenships!I16","v":29}]
[14,"East Renfrewshire",null,{"$f":"'Total net migration'!I16","v":270},{"$f":"'Total net migration 0-15'!I16","v":418},{"$f":"'Total net migration 16-64'!I16","v":-117},{"$f":"'Total net migration 65+'!I16","v":-31},{"$f":"'Total in-migration'!I16","v":3136},{"$f":"'Total out-migration'!I16","v":2866},{"$f":"'Within Scotland net migration'!I16","v":275},{"$f":"'Within Scotland in-migration'!I16","v":2575},{"$f":"'Within Scotland out-migration'!I16","v":2300},{"$f":"'Rest of UK net migration'!I16","v":22},{"$f":"'Rest of UK in-migration'!I16","v":427},{"$f":"'Rest of UK out-migration'!I16","v":405},{"$f":"'Overseas net migration'!I16","v":-27},{"$f":"'Overseas in-migration'!I16","v":134},{"$f":"'Overseas out-migration'!I16","v":161},{"$f":"NINo!I17","v":100},{"$f":"'Non-UK Births'!I17","v":76},{"$f":"'Pupils ethnic group'!J17","v":2154},{"$f":"'Pupils with English as an add.'!G16","v":805},{"$f":"'Pop born outside UK'!I17","v":4000},{"$f":"'Non-British Population'!I17","v":2000},{"$f":"Citizenships!I17","v":63}]
[15,"Falkirk",null,{"$f":"'Total net migration'!I17","v":1021},{"$f":"'Total net migration 0-15'!I17","v":92},{"$f":"'Total net migration 16-64'!I17","v":889},{"$f":"'Total net migration 65+'!I17","v":40},{"$f":"'Total in-migration'!I17","v":4198},{"$f":"'Total out-migration'!I17","v":3177},{"$f":"'Within Scotland net migration'!I17","v":609},{"$f":"'Within Scotland in-migration'!I17","v":2988},{"$f":"'Within Scotland out-migration'!I17","v":2379},{"$f":"'Rest of UK net migration'!I17","v":134},{"$f":"'Rest of UK in-migration'!I17","v":708},{"$f":"'Rest of UK out-migration'!I17","v":574},{"$f":"'Overseas net migration'!I17","v":278},{"$f":"'Overseas in-migration'!I17","v":502},{"$f":"'Overseas out-migration'!I17","v":224},{"$f":"NINo!I18","v":330},{"$f":"'Non-UK Births'!I18","v":144},{"$f":"'Pupils ethnic group'!J18","v":627},{"$f":"'Pupils with English as an add.'!G17","v":461},{"$f":"'Pop born outside UK'!I18","v":7000},{"$f":"'Non-British Population'!I18","v":5000},{"$f":"Citizenships!I18","v":62}]
[16,"Fife",null,{"$f":"'Total net migration'!I18","v":2076},{"$f":"'Total net migration 0-15'!I18","v":330},{"$f":"'Total net migration 16-64'!I18","v":1618},{"$f":"'Total net migration 65+'!I18","v":128},{"$f":"'Total in-migration'!I18","v":11174},{"$f":"'Total out-migration'!I18","v":9098},{"$f":"'Within Scotland net migration'!I18","v":449},{"$f":"'Within Scotland in-migration'!I18","v":5852},{"$f":"'Within Scotland out-migration'!I18","v":5403},{"$f":"'Rest of UK net migration'!I18","v":327},{"$f":"'Rest of UK in-migration'!I18","v":3024},{"$f":"'Rest of UK out-migration'!I18","v":2697},{"$f":"'Overseas net migration'!I18","v":1300},{"$f":"'Overseas in-migration'!I18","v":2298},{"$f":"'Overseas out-migration'!I18","v":998},{"$f":"NINo!I19","v":1900},{"$f":"'Non-UK Births'!I19","v":424},{"$f":"'Pupils ethnic group'!J19","v":1292},{"$f":"'Pupils with English as an add.'!G18","v":611},{"$f":"'Pop born outside UK'!I19","v":16000},{"$f":"'Non-British Population'!I19","v":10000},{"$f":"Citizenships!I19","v":183}]
[17,"Glasgow City",null,{"$f":"'Total net migration'!I19","v":5370},{"$f":"'Total net migration 0-15'!I19","v":-488},{"$f":"'Total net migration 16-64'!I19","v":6127},{"$f":"'Total net migration 65+'!I19","v":-269},{"$f":"'Total in-migration'!I19","v":29318},{"$f":"'Total out-migration'!I19","v":23948},{"$f":"'Within Scotland net migration'!I19","v":-1231},{"$f":"'Within Scotland in-migration'!I19","v":13663},{"$f":"'Within Scotland out-migration'!I19","v":14894},{"$f":"'Rest of UK net migration'!I19","v":-459},{"$f":"'Rest of UK in-migration'!I19","v":5399},{"$f":"'Rest of UK out-migration'!I19","v":5858},{"$f":"'Overseas net migration'!I19","v":7060},{"$f":"'Overseas in-migration'!I19","v":10256},{"$f":"'Overseas out-migration'!I19","v":3196},{"$f":"NINo!I20","v":7650},{"$f":"'Non-UK Births'!I20","v":1881},{"$f":"'Pupils ethnic group'!J20","v":10580},{"$f":"'Pupils with English as an add.'!G19","v":9275},{"$f":"'Pop born outside UK'!I20","v":64000},{"$f":"'Non-British Population'!I20","v":56000},{"$f":"Citizenships!I20","v":1313}]
[18,"Highland",null,{"$f":"'Total net migration'!I20","v":898},{"$f":"'Total net migration 0-15'!I20","v":170},{"$f":"'Total net migration 16-64'!I20","v":667},{"$f":"'Total net migration 65+'!I20","v":61},{"$f":"'Total in-migration'!I20","v":7509},{"$f":"'Total out-migration'!I20","v":6611},{"$f":"'Within Scotland net migration'!I20","v":-169},{"$f":"'Within Scotland in-migration'!I20","v":3965},{"$f":"'Within Scotland out-migration'!I20","v":4134},{"$f":"'Rest of UK net migration'!I20","v":643},{"$f":"'Rest of UK in-migration'!I20","v":2521},{"$f":"'Rest of UK out-migration'!I20","v":1878},{"$f":"'Overseas net migration'!I20","v":424},{"$f":"'Overseas in-migration'!I20","v":1023},{"$f":"'Overseas out-migration'!I20","v":599},{"$f":"NINo!I21","v":1280},{"$f":"'Non-UK Births'!I21","v":269},{"$f":"'Pupils ethnic group'!J21","v":648},{"$f":"'Pupils with English as an add.'!G20","v":646},{"$f":"'Pop born outside UK'!I21","v":11000},{"$f":"'Non-British Population'!I21","v":9000},{"$f":"Citizenships!I21","v":101}]
[19,"Inverclyde",null,{"$f":"'Total net migration'!I21","v":-289},{"$f":"'Total net migration 0-15'!I21","v":-34},{"$f":"'Total net migration 16-64'!I21","v":-265},{"$f":"'Total net migration 65+'!I21","v":10},{"$f":"'Total in-migration'!I21","v":1258},{"$f":"'Total out-migration'!I21","v":1547},{"$f":"'Within Scotland net migration'!I21","v":-246},{"$f":"'Within Scotland in-migration'!I21","v":869},{"$f":"'Within Scotland out-migration'!I21","v":1115},{"$f":"'Rest of UK net migration'!I21","v":-18},{"$f":"'Rest of UK in-migration'!I21","v":290},{"$f":"'Rest of UK out-migration'!I21","v":308},{"$f":"'Overseas net migration'!I21","v":-25},{"$f":"'Overseas in-migration'!I21","v":99},{"$f":"'Overseas out-migration'!I21","v":124},{"$f":"NINo!I22","v":130},{"$f":"'Non-UK Births'!I22","v":34},{"$f":"'Pupils ethnic group'!J22","v":175},{"$f":"'Pupils with English as an add.'!G21","v":35},{"$f":"'Pop born outside UK'!I22","v":2000},{"$f":"'Non-British Population'!I22","v":2000},{"$f":"Citizenships!I22","v":21}]
[20,"Midlothian",null,{"$f":"'Total net migration'!I22","v":522},{"$f":"'Total net migration 0-15'!I22","v":174},{"$f":"'Total net migration 16-64'!I22","v":302},{"$f":"'Total net migration 65+'!I22","v":46},{"$f":"'Total in-migration'!I22","v":2720},{"$f":"'Total out-migration'!I22","v":2198},{"$f":"'Within Scotland net migration'!I22","v":375},{"$f":"'Within Scotland in-migration'!I22","v":2157},{"$f":"'Within Scotland out-migration'!I22","v":1782},{"$f":"'Rest of UK net migration'!I22","v":74},{"$f":"'Rest of UK in-migration'!I22","v":384},{"$f":"'Rest of UK out-migration'!I22","v":310},{"$f":"'Overseas net migration'!I22","v":73},{"$f":"'Overseas in-migration'!I22","v":179},{"$f":"'Overseas out-migration'!I22","v":106},{"$f":"NINo!I23","v":170},{"$f":"'Non-UK Births'!I23","v":82},{"$f":"'Pupils ethnic group'!J23","v":307},{"$f":"'Pupils with English as an add.'!G22","v":128},{"$f":"'Pop born outside UK'!I23","v":3000},{"$f":"'Non-British Population'!I23","v":2000},{"$f":"Citizenships!I23","v":33}]
[21,"Moray",null,{"$f":"'Total net migration'!I23","v":-162},{"$f":"'Total net migration 0-15'!I23","v":-76},{"$f":"'Total net migration 16-64'!I23","v":-114},{"$f":"'Total net migration 65+'!I23","v":28},{"$f":"'Total in-migration'!I23","v":3040},{"$f":"'Total out-migration'!I23","v":3202},{"$f":"'Within Scotland net migration'!I23","v":64},{"$f":"'Within Scotland in-migration'!I23","v":1711},{"$f":"'Within Scotland out-migration'!I23","v":1647},{"$f":"'Rest of UK net migration'!I23","v":-131},{"$f":"'Rest of UK in-migration'!I23","v":922},{"$f":"'Rest of UK out-migration'!I23","v":1053},{"$f":"'Overseas net migration'!I23","v":-95},{"$f":"'Overseas in-migration'!I23","v":407},{"$f":"'Overseas out-migration'!I23","v":502},{"$f":"NINo!I24","v":200},{"$f":"'Non-UK Births'!I24","v":107},{"$f":"'Pupils ethnic group'!J24","v":232},{"$f":"'Pupils with English as an add.'!G23","v":252},{"$f":"'Pop born outside UK'!I24","v":6000},{"$f":"'Non-British Population'!I24","v":4000},{"$f":"Citizenships!I24","v":16}]
[22,"Na h-Eileanan Siar",null,{"$f":"'Total net migration'!I24","v":23},{"$f":"'Total net migration 0-15'!I24","v":9},{"$f":"'Total net migration 16-64'!I24","v":12},{"$f":"'Total net migration 65+'!I24","v":2},{"$f":"'Total in-migration'!I24","v":908},{"$f":"'Total out-migration'!I24","v":885},{"$f":"'Within Scotland net migration'!I24","v":-33},{"$f":"'Within Scotland in-migration'!I24","v":576},{"$f":"'Within Scotland out-migration'!I24","v":609},{"$f":"'Rest of UK net migration'!I24","v":53},{"$f":"'Rest of UK in-migration'!I24","v":272},{"$f":"'Rest of UK out-migration'!I24","v":219},{"$f":"'Overseas net migration'!I24","v":3},{"$f":"'Overseas in-migration'!I24","v":60},{"$f":"'Overseas out-migration'!I24","v":57},{"$f":"NINo!I25","v":40},{"$f":"'Non-UK Births'!I25","v":13},{"$f":"'Pupils ethnic group'!J25","v":48},{"$f":"'Pupils with English as an add.'!G24","v":25},{"$f":"'Pop born outside UK'!I25","v":"*"},{"$f":"'Non-British Population'!I25","v":"*"},{"$f":"Citizenships!I25","v":11}]
[23,"North Ayrshire",null,{"$f":"'Total net migration'!I25","v":136},{"$f":"'Total net migration 0-15'!I25","v":64},{"$f":"'Total net migration 16-64'!I25","v":11},{"$f":"'Total net migration 65+'!I25","v":61},{"$f":"'Total in-migration'!I25","v":3528},{"$f":"'Total out-migration'!I25","v":3392},{"$f":"'Within Scotland net migration'!I25","v":22},{"$f":"'Within Scotland in-migration'!I25","v":2461},{"$f":"'Within Scotland out-migration'!I25","v":2439},{"$f":"'Rest of UK net migration'!I25","v":82},{"$f":"'Rest of UK in-migration'!I25","v":845},{"$f":"'Rest of UK out-migration'!I25","v":763},{"$f":"'Overseas net migration'!I25","v":32},{"$f":"'Overseas in-migration'!I25","v":222},{"$f":"'Overseas out-migration'!I25","v":190},{"$f":"NINo!I26","v":170},{"$f":"'Non-UK Births'!I26","v":52},{"$f":"'Pupils ethnic group'!J26","v":279},{"$f":"'Pupils with English as an add.'!G25","v":93},{"$f":"'Pop born outside UK'!I26","v":4000},{"$f":"'Non-British Population'!I26","v":2000},{"$f":"Citizenships!I26","v":41}]
[24,"North Lanarkshire",null,{"$f":"'Total net migration'!I26","v":-58},{"$f":"'Total net migration 0-15'!I26","v":39},{"$f":"'Total net migration 16-64'!I26","v":-81},{"$f":"'Total net migration 65+'!I26","v":-16},{"$f":"'Total in-migration'!I26","v":6540},{"$f":"'Total out-migration'!I26","v":6598},{"$f":"'Within Scotland net migration'!I26","v":-202},{"$f":"'Within Scotland in-migration'!I26","v":4741},{"$f":"'Within Scotland out-migration'!I26","v":4943},{"$f":"'Rest of UK net migration'!I26","v":28},{"$f":"'Rest of UK in-migration'!I26","v":1166},{"$f":"'Rest of UK out-migration'!I26","v":1138},{"$f":"'Overseas net migration'!I26","v":116},{"$f":"'Overseas in-migration'!I26","v":633},{"$f":"'Overseas out-migration'!I26","v":517},{"$f":"NINo!I27","v":690},{"$f":"'Non-UK Births'!I27","v":284},{"$f":"'Pupils ethnic group'!J27","v":1574},{"$f":"'Pupils with English as an add.'!G26","v":892},{"$f":"'Pop born outside UK'!I27","v":7000},{"$f":"'Non-British Population'!I27","v":5000},{"$f":"Citizenships!I27","v":120}]
[25,"Orkney Islands",null,{"$f":"'Total net migration'!I27","v":99},{"$f":"'Total net migration 0-15'!I27","v":5},{"$f":"'Total net migration 16-64'!I27","v":85},{"$f":"'Total net migration 65+'!I27","v":9},{"$f":"'Total in-migration'!I27","v":666},{"$f":"'Total out-migration'!I27","v":567},{"$f":"'Within Scotland net migration'!I27","v":8},{"$f":"'Within Scotland in-migration'!I27","v":345},{"$f":"'Within Scotland out-migration'!I27","v":337},{"$f":"'Rest of UK net migration'!I27","v":68},{"$f":"'Rest of UK in-migration'!I27","v":255},{"$f":"'Rest of UK out-migration'!I27","v":187},{"$f":"'Overseas net migration'!I27","v":23},{"$f":"'Overseas in-migration'!I27","v":66},{"$f":"'Overseas out-migration'!I27","v":43},{"$f":"NINo!I28","v":50},{"$f":"'Non-UK Births'!I28","v":8},{"$f":"'Pupils ethnic group'!J28","v":39},{"$f":"'Pupils with English as an add.'!G27","v":5},{"$f":"'Pop born outside UK'!I28","v":"0~"},{"$f":"'Non-British Population'!I28","v":"*"},{"$f":"Citizenships!I28","v":6}]
[26,"Perth and Kinross",null,{"$f":"'Total net migration'!I28","v":1826},{"$f":"'Total net migration 0-15'!I28","v":390},{"$f":"'Total net migration 16-64'!I28","v":1255},{"$f":"'Total net migration 65+'!I28","v":181},{"$f":"'Total in-migration'!I28","v":6459},{"$f":"'Total out-migration'!I28","v":4633},{"$f":"'Within Scotland net migration'!I28","v":342},{"$f":"'Within Scotland in-migration'!I28","v":3448},{"$f":"'Within Scotland out-migration'!I28","v":3106},{"$f":"'Rest of UK net migration'!I28","v":367},{"$f":"'Rest of UK in-migration'!I28","v":1383},{"$f":"'Rest of UK out-migration'!I28","v":1016},{"$f":"'Overseas net migration'!I28","v":1117},{"$f":"'Overseas in-migration'!I28","v":1628},{"$f":"'Overseas out-migration'!I28","v":511},{"$f":"NINo!I29","v":2810},{"$f":"'Non-UK Births'!I29","v":204},{"$f":"'Pupils ethnic group'!J29","v":487},{"$f":"'Pupils with English as an add.'!G28","v":450},{"$f":"'Pop born outside UK'!I29","v":8000},{"$f":"'Non-British Population'!I29","v":5000},{"$f":"Citizenships!I29","v":72}]
[27,"Renfrewshire",null,{"$f":"'Total net migration'!I29","v":589},{"$f":"'Total net migration 0-15'!I29","v":108},{"$f":"'Total net migration 16-64'!I29","v":408},{"$f":"'Total net migration 65+'!I29","v":73},{"$f":"'Total in-migration'!I29","v":4781},{"$f":"'Total out-migration'!I29","v":4192},{"$f":"'Within Scotland net migration'!I29","v":173},{"$f":"'Within Scotland in-migration'!I29","v":3331},{"$f":"'Within Scotland out-migration'!I29","v":3158},{"$f":"'Rest of UK net migration'!I29","v":-40},{"$f":"'Rest of UK in-migration'!I29","v":721},{"$f":"'Rest of UK out-migration'!I29","v":761},{"$f":"'Overseas net migration'!I29","v":456},{"$f":"'Overseas in-migration'!I29","v":729},{"$f":"'Overseas out-migration'!I29","v":273},{"$f":"NINo!I30","v":520},{"$f":"'Non-UK Births'!I30","v":176},{"$f":"'Pupils ethnic group'!J30","v":787},{"$f":"'Pupils with English as an add.'!G29","v":319},{"$f":"'Pop born outside UK'!I30","v":11000},{"$f":"'Non-British Population'!I30","v":8000},{"$f":"Citizenships!I30","v":84}]
[28,"Scottish Borders",null,{"$f":"'Total net migration'!I30","v":488},{"$f":"'Total net migration 0-15'!I30","v":141},{"$f":"'Total net migration 16-64'!I30","v":370},{"$f":"'Total net migration 65+'!I30","v":-23},{"$f":"'Total in-migration'!I30","v":4091},{"$f":"'Total out-migration'!I30","v":3603},{"$f":"'Within Scotland net migration'!I30","v":134},{"$f":"'Within Scotland in-migration'!I30","v":2207},{"$f":"'Within Scotland out-migration'!I30","v":2073},{"$f":"'Rest of UK net migration'!I30","v":288},{"$f":"'Rest of UK in-migration'!I30","v":1511},{"$f":"'Rest of UK out-migration'!I30","v":1223},{"$f":"'Overseas net migration'!I30","v":66},{"$f":"'Overseas in-migration'!I30","v":373},{"$f":"'Overseas out-migration'!I30","v":307},{"$f":"NINo!I31","v":390},{"$f":"'Non-UK Births'!I31","v":115},{"$f":"'Pupils ethnic group'!J31","v":332},{"$f":"'Pupils with English as an add.'!G30","v":322},{"$f":"'Pop born outside UK'!I31","v":5000},{"$f":"'Non-British Population'!I31","v":3000},{"$f":"Citizenships!I31","v":31}]
[29,"Shetland Islands",null,{"$f":"'Total net migration'!I31","v":59},{"$f":"'Total net migration 0-15'!I31","v":-15},{"$f":"'Total net migration 16-64'!I31","v":64},{"$f":"'Total net migration 65+'!I31","v":10},{"$f":"'Total in-migration'!I31","v":708},{"$f":"'Total out-migration'!I31","v":649},{"$f":"'Within Scotland net migration'!I31","v":10},{"$f":"'Within Scotland in-migration'!I31","v":382},{"$f":"'Within Scotland out-migration'!I31","v":372},{"$f":"'Rest of UK net migration'!I31","v":14},{"$f":"'Rest of UK in-migration'!I31","v":225},{"$f":"'Rest of UK out-migration'!I31","v":211},{"$f":"'Overseas net migration'!I31","v":35},{"$f":"'Overseas in-migration'!I31","v":101},{"$f":"'Overseas out-migration'!I31","v":66},{"$f":"NINo!I32","v":100},{"$f":"'Non-UK Births'!I32","v":30},{"$f":"'Pupils ethnic group'!J32","v":84},{"$f":"'Pupils with English as an add.'!G31","v":42},{"$f":"'Pop born outside UK'!I32","v":"0~"},{"$f":"'Non-British Population'!I32","v":"0~"},{"$f":"Citizenships!I32","v":12}]
[30,"South Ayrshire",null,{"$f":"'Total net migration'!I32","v":596},{"$f":"'Total net migration 0-15'!I32","v":159},{"$f":"'Total net migration 16-64'!I32","v":324},{"$f":"'Total net migration 65+'!I32","v":113},{"$f":"'Total in-migration'!I32","v":3481},{"$f":"'Total out-migration'!I32","v":2885},{"$f":"'Within Scotland net migration'!I32","v":226},{"$f":"'Within Scotland in-migration'!I32","v":2307},{"$f":"'Within Scotland out-migration'!I32","v":2081},{"$f":"'Rest of UK net migration'!I32","v":290},{"$f":"'Rest of UK in-migration'!I32","v":868},{"$f":"'Rest of UK out-migration'!I32","v":578},{"$f":"'Overseas net migration'!I32","v":80},{"$f":"'Overseas in-migration'!I32","v":306},{"$f":"'Overseas out-migration'!I32","v":226},{"$f":"NINo!I33","v":310},{"$f":"'Non-UK Births'!I33","v":61},{"$f":"'Pupils ethnic group'!J33","v":284},{"$f":"'Pupils with English as an add.'!G32","v":158},{"$f":"'Pop born outside UK'!I33","v":3000},{"$f":"'Non-British Population'!I33","v":2000},{"$f":"Citizenships!I33","v":23}]
[31,"South Lanarkshire",null,{"$f":"'Total net migration'!I33","v":587},{"$f":"'Total net migration 0-15'!I33","v":91},{"$f":"'Total net migration 16-64'!I33","v":335},{"$f":"'Total net migration 65+'!I33","v":161},{"$f":"'Total in-migration'!I33","v":7623},{"$f":"'Total out-migration'!I33","v":7036},{"$f":"'Within Scotland net migration'!I33","v":482},{"$f":"'Within Scotland in-migration'!I33","v":5667},{"$f":"'Within Scotland out-migration'!I33","v":5185},{"$f":"'Rest of UK net migration'!I33","v":106},{"$f":"'Rest of UK in-migration'!I33","v":1396},{"$f":"'Rest of UK out-migration'!I33","v":1290},{"$f":"'Overseas net migration'!I33","v":-1},{"$f":"'Overseas in-migration'!I33","v":560},{"$f":"'Overseas out-migration'!I33","v":561},{"$f":"NINo!I34","v":470},{"$f":"'Non-UK Births'!I34","v":245},{"$f":"'Pupils ethnic group'!J34","v":1396},{"$f":"'Pupils with English as an add.'!G33","v":461},{"$f":"'Pop born outside UK'!I34","v":11000},{"$f":"'Non-British Population'!I34","v":6000},{"$f":"Citizenships!I34","v":197}]
[32,"Stirling",null,{"$f":"'Total net migration'!I34","v":1021},{"$f":"'Total net migration 0-15'!I34","v":220},{"$f":"'Total net migration 16-64'!I34","v":817},{"$f":"'Total net migration 65+'!I34","v":-16},{"$f":"'Total in-migration'!I34","v":5161},{"$f":"'Total out-migration'!I34","v":4140},{"$f":"'Within Scotland net migration'!I34","v":-110},{"$f":"'Within Scotland in-migration'!I34","v":2838},{"$f":"'Within Scotland out-migration'!I34","v":2948},{"$f":"'Rest of UK net migration'!I34","v":146},{"$f":"'Rest of UK in-migration'!I34","v":960},{"$f":"'Rest of UK out-migration'!I34","v":814},{"$f":"'Overseas net migration'!I34","v":985},{"$f":"'Overseas in-migration'!I34","v":1363},{"$f":"'Overseas out-migration'!I34","v":378},{"$f":"NINo!I35","v":600},{"$f":"'Non-UK Births'!I35","v":100},{"$f":"'Pupils ethnic group'!J35","v":488},{"$f":"'Pupils with English as an add.'!G34","v":184},{"$f":"'Pop born outside UK'!I35","v":7000},{"$f":"'Non-British Population'!I35","v":4000},{"$f":"Citizenships!I35","v":43}]
[33,"West Dunbartonshire",null,{"$f":"'Total net migration'!I35","v":-173},{"$f":"'Total net migration 0-15'!I35","v":-63},{"$f":"'Total net migration 16-64'!I35","v":-123},{"$f":"'Total net migration 65+'!I35","v":13},{"$f":"'Total in-migration'!I35","v":2085},{"$f":"'Total out-migration'!I35","v":2258},{"$f":"'Within Scotland net migration'!I35","v":-191},{"$f":"'Within Scotland in-migration'!I35","v":1531},{"$f":"'Within Scotland out-migration'!I35","v":1722},{"$f":"'Rest of UK net migration'!I35","v":7},{"$f":"'Rest of UK in-migration'!I35","v":394},{"$f":"'Rest of UK out-migration'!I35","v":387},{"$f":"'Overseas net migration'!I35","v":11},{"$f":"'Overseas in-migration'!I35","v":160},{"$f":"'Overseas out-migration'!I35","v":149},{"$f":"NINo!I36","v":130},{"$f":"'Non-UK Births'!I36","v":60},{"$f":"'Pupils ethnic group'!J36","v":272},{"$f":"'Pupils with English as an add.'!G35","v":132},{"$f":"'Pop born outside UK'!I36","v":3000},{"$f":"'Non-British Population'!I36","v":1000},{"$f":"Citizenships!I36","v":40}]
[34,"West Lothian",null,{"$f":"'Total net migration'!I36","v":219},{"$f":"'Total net migration 0-15'!I36","v":56},{"$f":"'Total net migration 16-64'!I36","v":118},{"$f":"'Total net migration 65+'!I36","v":45},{"$f":"'Total in-migration'!I36","v":4817},{"$f":"'Total out-migration'!I36","v":4598},{"$f":"'Within Scotland net migration'!I36","v":-319},{"$f":"'Within Scotland in-migration'!I36","v":3073},{"$f":"'Within Scotland out-migration'!I36","v":3392},{"$f":"'Rest of UK net migration'!I36","v":-7},{"$f":"'Rest of UK in-migration'!I36","v":873},{"$f":"'Rest of UK out-migration'!I36","v":880},{"$f":"'Overseas net migration'!I36","v":545},{"$f":"'Overseas in-migration'!I36","v":871},{"$f":"'Overseas out-migration'!I36","v":326},{"$f":"NINo!I37","v":880},{"$f":"'Non-UK Births'!I37","v":278},{"$f":"'Pupils ethnic group'!J37","v":984},{"$f":"'Pupils with English as an add.'!G36","v":630},{"$f":"'Pop born outside UK'!I37","v":12000},{"$f":"'Non-British Population'!I37","v":9000},{"$f":"Citizenships!I37","v":106}]
[]
[35,"Not specified"]
[36,"SCOTLAND",null,{"$f":"'Total net migration'!I39","v":30209},{"$f":"'Total net migration 0-15'!I4","v":3490},{"$f":"'Total net migration 16-64'!I39","v":26224},{"$f":"'Total net migration 65+'!I39","v":495},{"$f":"'Total in-migration'!I39","v":87886},{"$f":"'Total out-migration'!I39","v":57677},null,null,null,{"$f":"'Rest of UK net migration'!I39","v":2909},{"$f":"'Rest of UK in-migration'!I39","v":43686},{"$f":"'Rest of UK out-migration'!I39","v":40777},{"$f":"'Overseas net migration'!I39","v":27300},{"$f":"'Overseas in-migration'!I39","v":44200},{"$f":"'Overseas out-migration'!I39","v":16900},null,{"$f":"'Non-UK Births'!I40","v":8343}]
[37,"Ayrshire and Arran",null,{"$f":"'Total net migration'!I40","v":762},{"$f":"'Total net migration 0-15'!I40","v":248},{"$f":"'Total net migration 16-64'!I40","v":350},{"$f":"'Total net migration 65+'!I40","v":164},{"$f":"'Total in-migration'!I40","v":7761},{"$f":"'Total out-migration'!I40","v":6999},{"$f":"'Within Scotland net migration'!I40","v":261},{"$f":"'Within Scotland in-migration'!I40","v":4713},{"$f":"'Within Scotland out-migration'!I40","v":4452},{"$f":"'Rest of UK net migration'!I40","v":455},{"$f":"'Rest of UK in-migration'!I40","v":2404},{"$f":"'Rest of UK out-migration'!I40","v":1949},{"$f":"'Overseas net migration'!I40","v":46},{"$f":"'Overseas in-migration'!I40","v":644},{"$f":"'Overseas out-migration'!I40","v":598},null,{"$f":"'Non-UK Births'!I41","v":189}]
[38,"Borders",null,{"$f":"'Total net migration'!I41","v":488},{"$f":"'Total net migration 0-15'!I41","v":141},{"$f":"'Total net migration 16-64'!I41","v":370},{"$f":"'Total net migration 65+'!I41","v":-23},{"$f":"'Total in-migration'!I41","v":4091},{"$f":"'Total out-migration'!I41","v":3603},{"$f":"'Within Scotland net migration'!I41","v":134},{"$f":"'Within Scotland in-migration'!I41","v":2207},{"$f":"'Within Scotland out-migration'!I41","v":2073},{"$f":"'Rest of UK net migration'!I41","v":288},{"$f":"'Rest of UK in-migration'!I41","v":1511},{"$f":"'Rest of UK out-migration'!I41","v":1223},{"$f":"'Overseas net migration'!I41","v":66},{"$f":"'Overseas in-migration'!I41","v":373},{"$f":"'Overseas out-migration'!I41","v":307},null,{"$f":"'Non-UK Births'!I42","v":115}]
[39,"Dumfries and Galloway",null,{"$f":"'Total net migration'!I42","v":377},{"$f":"'Total net migration 0-15'!I42","v":113},{"$f":"'Total net migration 16-64'!I42","v":230},{"$f":"'Total net migration 65+'!I42","v":34},{"$f":"'Total in-migration'!I42","v":4002},{"$f":"'Total out-migration'!I42","v":3625},{"$f":"'Within Scotland net migration'!I42","v":-87},{"$f":"'Within Scotland in-migration'!I42","v":1652},{"$f":"'Within Scotland out-migration'!I42","v":1739},{"$f":"'Rest of UK net migration'!I42","v":449},{"$f":"'Rest of UK in-migration'!I42","v":1992},{"$f":"'Rest of UK out-migration'!I42","v":1543},{"$f":"'Overseas net migration'!I42","v":15},{"$f":"'Overseas in-migration'!I42","v":358},{"$f":"'Overseas out-migration'!I42","v":343},null,{"$f":"'Non-UK Births'!I43","v":96}]
[40,"Fife",null,{"$f":"'Total net migration'!I43","v":2071},{"$f":"'Total net migration 0-15'!I43","v":330},{"$f":"'Total net migration 16-64'!I43","v":1614},{"$f":"'Total net migration 65+'!I43","v":127},{"$f":"'Total in-migration'!I43","v":11172},{"$f":"'Total out-migration'!I43","v":9101},{"$f":"'Within Scotland net migration'!I43","v":444},{"$f":"'Within Scotland in-migration'!I43","v":5850},{"$f":"'Within Scotland out-migration'!I43","v":5406},{"$f":"'Rest of UK net migration'!I43","v":327},{"$f":"'Rest of UK in-migration'!I43","v":3024},{"$f":"'Rest of UK out-migration'!I43","v":2697},{"$f":"'Overseas net migration'!I43","v":1300},{"$f":"'Overseas in-migration'!I43","v":2298},{"$f":"'Overseas out-migration'!I43","v":998},null,{"$f":"'Non-UK Births'!I44","v":424}]
[41,"Forth Valley",null,{"$f":"'Total net migration'!I44","v":2034},{"$f":"'Total net migration 0-15'!I44","v":313},{"$f":"'Total net migration 16-64'!I44","v":1688},{"$f":"'Total net migration 65+'!I44","v":33},{"$f":"'Total in-migration'!I44","v":9434},{"$f":"'Total out-migration'!I44","v":7400},{"$f":"'Within Scotland net migration'!I44","v":492},{"$f":"'Within Scotland in-migration'!I44","v":5505},{"$f":"'Within Scotland out-migration'!I44","v":5013},{"$f":"'Rest of UK net migration'!I44","v":273},{"$f":"'Rest of UK in-migration'!I44","v":1960},{"$f":"'Rest of UK out-migration'!I44","v":1687},{"$f":"'Overseas net migration'!I44","v":1269},{"$f":"'Overseas in-migration'!I44","v":1969},{"$f":"'Overseas out-migration'!I44","v":700},null,{"$f":"'Non-UK Births'!I45","v":287}]
[42,"Grampian",null,{"$f":"'Total net migration'!I45","v":4300},{"$f":"'Total net migration 0-15'!I45","v":684},{"$f":"'Total net migration 16-64'!I45","v":3720},{"$f":"'Total net migration 65+'!I45","v":-104},{"$f":"'Total in-migration'!I45","v":18794},{"$f":"'Total out-migration'!I45","v":14494},{"$f":"'Within Scotland net migration'!I45","v":-198},{"$f":"'Within Scotland in-migration'!I45","v":6793},{"$f":"'Within Scotland out-migration'!I45","v":6991},{"$f":"'Rest of UK net migration'!I45","v":-260},{"$f":"'Rest of UK in-migration'!I45","v":4872},{"$f":"'Rest of UK out-migration'!I45","v":5132},{"$f":"'Overseas net migration'!I45","v":4758},{"$f":"'Overseas in-migration'!I45","v":7129},{"$f":"'Overseas out-migration'!I45","v":2371},null,{"$f":"'Non-UK Births'!I46","v":1324}]
[43,"Greater Glasgow and Clyde",null,{"$f":"'Total net migration'!I46","v":5775},{"$f":"'Total net migration 0-15'!I46","v":186},{"$f":"'Total net migration 16-64'!I46","v":5781},{"$f":"'Total net migration 65+'!I46","v":-192},{"$f":"'Total in-migration'!I46","v":37787},{"$f":"'Total out-migration'!I46","v":32012},{"$f":"'Within Scotland net migration'!I46","v":-1052},{"$f":"'Within Scotland in-migration'!I46","v":18152},{"$f":"'Within Scotland out-migration'!I46","v":19204},{"$f":"'Rest of UK net migration'!I46","v":-556},{"$f":"'Rest of UK in-migration'!I46","v":7967},{"$f":"'Rest of UK out-migration'!I46","v":8523},{"$f":"'Overseas net migration'!I46","v":7383},{"$f":"'Overseas in-migration'!I46","v":11668},{"$f":"'Overseas out-migration'!I46","v":4285},null,{"$f":"'Non-UK Births'!I47","v":2384}]
[44,"Highland",null,{"$f":"'Total net migration'!I47","v":1202},{"$f":"'Total net migration 0-15'!I47","v":305},{"$f":"'Total net migration 16-64'!I47","v":848},{"$f":"'Total net migration 65+'!I47","v":49},{"$f":"'Total in-migration'!I47","v":10945},{"$f":"'Total out-migration'!I47","v":9743},{"$f":"'Within Scotland net migration'!I47","v":-290},{"$f":"'Within Scotland in-migration'!I47","v":5712},{"$f":"'Within Scotland out-migration'!I47","v":6002},{"$f":"'Rest of UK net migration'!I47","v":1013},{"$f":"'Rest of UK in-migration'!I47","v":3850},{"$f":"'Rest of UK out-migration'!I47","v":2837},{"$f":"'Overseas net migration'!I47","v":479},{"$f":"'Overseas in-migration'!I47","v":1383},{"$f":"'Overseas out-migration'!I47","v":904},null,{"$f":"'Non-UK Births'!I48","v":348}]
[45,"Lanarkshire",null,{"$f":"'Total net migration'!I48","v":416},{"$f":"'Total net migration 0-15'!I48","v":119},{"$f":"'Total net migration 16-64'!I48","v":191},{"$f":"'Total net migration 65+'!I48","v":106},{"$f":"'Total in-migration'!I48","v":10448},{"$f":"'Total out-migration'!I48","v":10032},{"$f":"'Within Scotland net migration'!I48","v":134},{"$f":"'Within Scotland in-migration'!I48","v":7125},{"$f":"'Within Scotland out-migration'!I48","v":6991},{"$f":"'Rest of UK net migration'!I48","v":148},{"$f":"'Rest of UK in-migration'!I48","v":2260},{"$f":"'Rest of UK out-migration'!I48","v":2112},{"$f":"'Overseas net migration'!I48","v":134},{"$f":"'Overseas in-migration'!I48","v":1063},{"$f":"'Overseas out-migration'!I48","v":929},null,{"$f":"'Non-UK Births'!I49","v":450}]
[46,"Lothian",null,{"$f":"'Total net migration'!I49","v":9230},{"$f":"'Total net migration 0-15'!I49","v":660},{"$f":"'Total net migration 16-64'!I49","v":8444},{"$f":"'Total net migration 65+'!I49","v":126},{"$f":"'Total in-migration'!I49","v":33811},{"$f":"'Total out-migration'!I49","v":24581},{"$f":"'Within Scotland net migration'!I49","v":-127},{"$f":"'Within Scotland in-migration'!I49","v":11296},{"$f":"'Within Scotland out-migration'!I49","v":11423},{"$f":"'Rest of UK net migration'!I49","v":496},{"$f":"'Rest of UK in-migration'!I49","v":9818},{"$f":"'Rest of UK out-migration'!I49","v":9322},{"$f":"'Overseas net migration'!I49","v":8861},{"$f":"'Overseas in-migration'!I49","v":12697},{"$f":"'Overseas out-migration'!I49","v":3836},null,{"$f":"'Non-UK Births'!I50","v":2019}]
[47,"Orkney",null,{"$f":"'Total net migration'!I50","v":99},{"$f":"'Total net migration 0-15'!I50","v":5},{"$f":"'Total net migration 16-64'!I50","v":85},{"$f":"'Total net migration 65+'!I50","v":9},{"$f":"'Total in-migration'!I50","v":666},{"$f":"'Total out-migration'!I50","v":567},{"$f":"'Within Scotland net migration'!I50","v":8},{"$f":"'Within Scotland in-migration'!I50","v":345},{"$f":"'Within Scotland out-migration'!I50","v":337},{"$f":"'Rest of UK net migration'!I50","v":68},{"$f":"'Rest of UK in-migration'!I50","v":255},{"$f":"'Rest of UK out-migration'!I50","v":187},{"$f":"'Overseas net migration'!I50","v":23},{"$f":"'Overseas in-migration'!I50","v":66},{"$f":"'Overseas out-migration'!I50","v":43},null,{"$f":"'Non-UK Births'!I51","v":8}]
[48,"Shetland",null,{"$f":"'Total net migration'!I51","v":59},{"$f":"'Total net migration 0-15'!I51","v":-15},{"$f":"'Total net migration 16-64'!I51","v":64},{"$f":"'Total net migration 65+'!I51","v":10},{"$f":"'Total in-migration'!I51","v":708},{"$f":"'Total out-migration'!I51","v":649},{"$f":"'Within Scotland net migration'!I51","v":10},{"$f":"'Within Scotland in-migration'!I51","v":382},{"$f":"'Within Scotland out-migration'!I51","v":372},{"$f":"'Rest of UK net migration'!I51","v":14},{"$f":"'Rest of UK in-migration'!I51","v":225},{"$f":"'Rest of UK out-migration'!I51","v":211},{"$f":"'Overseas net migration'!I51","v":35},{"$f":"'Overseas in-migration'!I51","v":101},{"$f":"'Overseas out-migration'!I51","v":66},null,{"$f":"'Non-UK Births'!I52","v":30}]
[49,"Tayside",null,{"$f":"'Total net migration'!I52","v":3373},{"$f":"'Total net migration 0-15'!I52","v":392},{"$f":"'Total net migration 16-64'!I52","v":2827},{"$f":"'Total net migration 65+'!I52","v":154},{"$f":"'Total in-migration'!I52","v":14387},{"$f":"'Total out-migration'!I52","v":11014},{"$f":"'Within Scotland net migration'!I52","v":304},{"$f":"'Within Scotland in-migration'!I52","v":6720},{"$f":"'Within Scotland out-migration'!I52","v":6416},{"$f":"'Rest of UK net migration'!I52","v":141},{"$f":"'Rest of UK in-migration'!I52","v":3276},{"$f":"'Rest of UK out-migration'!I52","v":3135},{"$f":"'Overseas net migration'!I52","v":2928},{"$f":"'Overseas in-migration'!I52","v":4391},{"$f":"'Overseas out-migration'!I52","v":1463},null,{"$f":"'Non-UK Births'!I53","v":656}]
[50,"Western Isles",null,{"$f":"'Total net migration'!I53","v":23},{"$f":"'Total net migration 0-15'!I53","v":9},{"$f":"'Total net migration 16-64'!I53","v":12},{"$f":"'Total net migration 65+'!I53","v":2},{"$f":"'Total in-migration'!I53","v":908},{"$f":"'Total out-migration'!I53","v":885},{"$f":"'Within Scotland net migration'!I53","v":-33},{"$f":"'Within Scotland in-migration'!I53","v":576},{"$f":"'Within Scotland out-migration'!I53","v":609},{"$f":"'Rest of UK net migration'!I53","v":53},{"$f":"'Rest of UK in-migration'!I53","v":272},{"$f":"'Rest of UK out-migration'!I53","v":219},{"$f":"'Overseas net migration'!I53","v":3},{"$f":"'Overseas in-migration'!I53","v":60},{"$f":"'Overseas out-migration'!I53","v":57},null,{"$f":"'Non-UK Births'!I54","v":13}]

{"sheet":"2011 Rate","index":34,"n_rows":53,"n_cols":27,"rows_kept":53,"cut":false,"hidden":true,"merged":[]}
[null,2011,"RATE"]
[null,null,"Not specified ",{"$f":"'Comparing Indicators'!$U8","v":"Total net migration"},{"$f":"'Comparing Indicators'!$U9","v":"Total net migration for ages 0-15"},{"$f":"'Comparing Indicators'!$U10","v":"Total net migration for ages 16-64"},{"$f":"'Comparing Indicators'!$U11","v":"Total net migration for people aged 65+"},{"$f":"'Comparing Indicators'!$U12","v":"Total in-migration"},{"$f":"'Comparing Indicators'!$U13","v":"Total out-migration"},{"$f":"'Comparing Indicators'!$U14","v":"Within Scotland net migration"},{"$f":"'Comparing Indicators'!$U15","v":"Within Scotland in-migration"},{"$f":"'Comparing Indicators'!$U16","v":"Within Scotland out-migration"},{"$f":"'Comparing Indicators'!$U17","v":"Rest of UK net migration"},{"$f":"'Comparing Indicators'!$U18","v":"Rest of UK in-migration"},{"$f":"'Comparing Indicators'!$U19","v":"Rest of UK out-migration"},{"$f":"'Comparing Indicators'!$U20","v":"Overseas net migration"},{"$f":"'Comparing Indicators'!$U21","v":"Overseas in-migration"},{"$f":"'Comparing Indicators'!$U22","v":"Overseas out-migration"},{"$f":"'Comparing Indicators'!$U23","v":"NINo Allocation"},{"$f":"'Comparing Indicators'!$U24","v":"Births to non-UK mothers"},{"$f":"'Comparing Indicators'!$U25","v":"Pupils from a minority ethnic group"},{"$f":"'Comparing Indicators'!$U26","v":"Pupils with English as an additional language"},{"$f":"'Comparing Indicators'!$U27","v":"Population born outside the UK"},{"$f":"'Comparing Indicators'!$U28","v":"Population with non-British nationality"},{"$f":"'Comparing Indicators'!$U29","v":"Citizenships"},null,"Mid-year population estimate"]
[1,"Not specified"]
[2,"SCOTLAND",null,{"$f":"('2011'!D4/'2011 Rate'!$AA4)*1000","v":5.6999188663937055},{"$f":"('2011'!E4/'2011 Rate'!$AA4)*1000","v":0.65850299062246453},{"$f":"('2011'!F4/'2011 Rate'!$AA4)*1000","v":4.9480178871299456},{"$f":"('2011'!G4/'2011 Rate'!$AA4)*1000","v":9.3397988641295115E-2},{"$f":"('2011'!H4/'2011 Rate'!$AA4)*1000","v":16.582577029755278},{"$f":"('2011'!I4/'2011 Rate'!$AA4)*1000","v":10.882658163361572},"N/A","N/A","N/A",{"$f":"('2011'!M4/'2011 Rate'!$AA4)*1000","v":0.54887828072227784},{"$f":"('2011'!N4/'2011 Rate'!$AA4)*1000","v":8.2427970339062995},{"$f":"('2011'!O4/'2011 Rate'!$AA4)*1000","v":7.6939187531840219},{"$f":"('2011'!P4/'2011 Rate'!$AA4)*1000","v":5.1510405856714279},{"$f":"('2011'!Q4/'2011 Rate'!$AA4)*1000","v":8.3397799958489784},{"$f":"('2011'!R4/'2011 Rate'!$AA4)*1000","v":3.1887394101775506},{"$f":"('2011'!S4/'2011 Rate'!$AA4)*1000","v":7.4529708107700143},{"$f":"('2011'!T4/'2011 Rate'!$AA4)*1000","v":1.5741806449178286},{"$f":"('2011'!U4/'2011 Rate'!$AA4)*1000","v":6.6306911451159456},{"$f":"('2011'!V4/'2011 Rate'!$AA4)*1000","v":4.6331062850242457},null,null,{"$f":"IF('2011'!Y4=\"*\",\"\",('2011'!Y4/'2011 Rate'!$AA4)*1000)","v":0.83341195116889},"Scotland",5299900]
[3,"Aberdeen City",null,{"$f":"('2011'!D5/'2011 Rate'!$AA5)*1000","v":13.836195271059966},{"$f":"('2011'!E5/'2011 Rate'!$AA5)*1000","v":1.380023374988762},{"$f":"('2011'!F5/'2011 Rate'!$AA5)*1000","v":12.851748628967005},{"$f":"('2011'!G5/'2011 Rate'!$AA5)*1000","v":-0.39557673289580148},{"$f":"('2011'!H5/'2011 Rate'!$AA5)*1000","v":61.053672570349732},{"$f":"('2011'!I5/'2011 Rate'!$AA5)*1000","v":47.217477299289762},{"$f":"('2011'!J5/'2011 Rate'!$AA5)*1000","v":-4.7424256046030751},{"$f":"('2011'!K5/'2011 Rate'!$AA5)*1000","v":26.777847702957835},{"$f":"('2011'!L5/'2011 Rate'!$AA5)*1000","v":31.52027330756091},{"$f":"('2011'!M5/'2011 Rate'!$AA5)*1000","v":1.3485570439629597E-2},{"$f":"('2011'!N5/'2011 Rate'!$AA5)*1000","v":10.523240133057628},{"$f":"('2011'!O5/'2011 Rate'!$AA5)*1000","v":10.509754562617999},{"$f":"('2011'!P5/'2011 Rate'!$AA5)*1000","v":18.565135305223414},{"$f":"('2011'!Q5/'2011 Rate'!$AA5)*1000","v":23.752584734334263},{"$f":"('2011'!R5/'2011 Rate'!$AA5)*1000","v":5.1874494291108508},{"$f":"('2011'!S5/'2011 Rate'!$AA5)*1000","v":20.677874674098714},{"$f":"('2011'!T5/'2011 Rate'!$AA5)*1000","v":3.7669693428032005},{"$f":"('2011'!U5/'2011 Rate'!$AA5)*1000","v":9.1432167580688652},{"$f":"('2011'!V5/'2011 Rate'!$AA5)*1000","v":8.2396835386136829},null,null,{"$f":"IF('2011'!Y5=\"*\",\"\",('2011'!Y5/'2011 Rate'!$AA5)*1000)","v":1.89697024184123},"Aberdeen City",222460]
[4,"Aberdeenshire",null,{"$f":"('2011'!D6/'2011 Rate'!$AA6)*1000","v":5.4563374728957221},{"$f":"('2011'!E6/'2011 Rate'!$AA6)*1000","v":1.7859254878769959},{"$f":"('2011'!F6/'2011 Rate'!$AA6)*1000","v":3.8438793613246598},{"$f":"('2011'!G6/'2011 Rate'!$AA6)*1000","v":-0.17346737630593337},{"$f":"('2011'!H6/'2011 Rate'!$AA6)*1000","v":34.835403114527892},{"$f":"('2011'!I6/'2011 Rate'!$AA6)*1000","v":29.37906564163217},{"$f":"('2011'!J6/'2011 Rate'!$AA6)*1000","v":3.1263552138773902},{"$f":"('2011'!K6/'2011 Rate'!$AA6)*1000","v":22.822787305342004},{"$f":"('2011'!L6/'2011 Rate'!$AA6)*1000","v":19.696432091464619},{"$f":"('2011'!M6/'2011 Rate'!$AA6)*1000","v":-0.52040212891780013},{"$f":"('2011'!N6/'2011 Rate'!$AA6)*1000","v":6.343386556278336},{"$f":"('2011'!O6/'2011 Rate'!$AA6)*1000","v":6.8637886851961367},{"$f":"('2011'!P6/'2011 Rate'!$AA6)*1000","v":2.8503843879361326},{"$f":"('2011'!Q6/'2011 Rate'!$AA6)*1000","v":5.6692292529075496},{"$f":"('2011'!R6/'2011 Rate'!$AA6)*1000","v":2.8188448649714175},{"$f":"('2011'!S6/'2011 Rate'!$AA6)*1000","v":5.9136605558840927},{"$f":"('2011'!T6/'2011 Rate'!$AA6)*1000","v":1.4941849004533807},{"$f":"('2011'!U6/'2011 Rate'!$AA6)*1000","v":2.8030751034890597},{"$f":"('2011'!V6/'2011 Rate'!$AA6)*1000","v":3.6467573427951905},null,null,{"$f":"IF('2011'!Y6=\"*\",\"\",('2011'!Y6/'2011 Rate'!$AA6)*1000)","v":0.6071358170707668},"Aberdeenshire",253650]
[5,"Angus",null,{"$f":"('2011'!D7/'2011 Rate'!$AA7)*1000","v":0.98967297762478479},{"$f":"('2011'!E7/'2011 Rate'!$AA7)*1000","v":0.80034423407917388},{"$f":"('2011'!F7/'2011 Rate'!$AA7)*1000","v":-0.30120481927710846},{"$f":"('2011'!G7/'2011 Rate'!$AA7)*1000","v":0.49053356282271943},{"$f":"('2011'!H7/'2011 Rate'!$AA7)*1000","v":31.015490533562822},{"$f":"('2011'!I7/'2011 Rate'!$AA7)*1000","v":30.025817555938037},{"$f":"('2011'!J7/'2011 Rate'!$AA7)*1000","v":-0.29259896729776247},{"$f":"('2011'!K7/'2011 Rate'!$AA7)*1000","v":22.091222030981065},{"$f":"('2011'!L7/'2011 Rate'!$AA7)*1000","v":22.383820998278829},{"$f":"('2011'!M7/'2011 Rate'!$AA7)*1000","v":-0.74010327022375211},{"$f":"('2011'!N7/'2011 Rate'!$AA7)*1000","v":4.5094664371772808},{"$f":"('2011'!O7/'2011 Rate'!$AA7)*1000","v":5.249569707401033},{"$f":"('2011'!P7/'2011 Rate'!$AA7)*1000","v":2.0223752151462997},{"$f":"('2011'!Q7/'2011 Rate'!$AA7)*1000","v":4.4148020654044746},{"$f":"('2011'!R7/'2011 Rate'!$AA7)*1000","v":2.3924268502581754},{"$f":"('2011'!S7/'2011 Rate'!$AA7)*1000","v":9.8106712564543894},{"$f":"('2011'!T7/'2011 Rate'!$AA7)*1000","v":1.153184165232358},{"$f":"('2011'!U7/'2011 Rate'!$AA7)*1000","v":3.1497418244406199},{"$f":"('2011'!V7/'2011 Rate'!$AA7)*1000","v":2.5731497418244409},null,null,{"$f":"IF('2011'!Y7=\"*\",\"\",('2011'!Y7/'2011 Rate'!$AA7)*1000)","v":0.4388984509466437},"Angus",116200]
[6,"Argyll and Bute",null,{"$f":"('2011'!D8/'2011 Rate'!$AA8)*1000","v":3.4184189812211851},{"$f":"('2011'!E8/'2011 Rate'!$AA8)*1000","v":1.5180479028449343},{"$f":"('2011'!F8/'2011 Rate'!$AA8)*1000","v":2.0353086697402452},{"$f":"('2011'!G8/'2011 Rate'!$AA8)*1000","v":-0.13493759136399416},{"$f":"('2011'!H8/'2011 Rate'!$AA8)*1000","v":41.999325312043183},{"$f":"('2011'!I8/'2011 Rate'!$AA8)*1000","v":38.580906330821996},{"$f":"('2011'!J8/'2011 Rate'!$AA8)*1000","v":-1.3606207129202743},{"$f":"('2011'!K8/'2011 Rate'!$AA8)*1000","v":23.006859327561003},{"$f":"('2011'!L8/'2011 Rate'!$AA8)*1000","v":24.367480040481279},{"$f":"('2011'!M8/'2011 Rate'!$AA8)*1000","v":4.160575733723153},{"$f":"('2011'!N8/'2011 Rate'!$AA8)*1000","v":14.944338243562353},{"$f":"('2011'!O8/'2011 Rate'!$AA8)*1000","v":10.7837625098392},{"$f":"('2011'!P8/'2011 Rate'!$AA8)*1000","v":0.61846396041830654},{"$f":"('2011'!Q8/'2011 Rate'!$AA8)*1000","v":4.0481277409198251},{"$f":"('2011'!R8/'2011 Rate'!$AA8)*1000","v":3.4296637805015178},{"$f":"('2011'!S8/'2011 Rate'!$AA8)*1000","v":4.0481277409198251},{"$f":"('2011'!T8/'2011 Rate'!$AA8)*1000","v":0.88833914314629492},{"$f":"('2011'!U8/'2011 Rate'!$AA8)*1000","v":2.4063870459912291},{"$f":"('2011'!V8/'2011 Rate'!$AA8)*1000","v":1.3943551107612728},null,null,{"$f":"IF('2011'!Y8=\"*\",\"\",('2011'!Y8/'2011 Rate'!$AA8)*1000)","v":0.33734397840998537},"Argyll & Bute",88930]
[7,"City of Edinburgh",null,{"$f":"('2011'!D9/'2011 Rate'!$AA9)*1000","v":16.83056450600494},{"$f":"('2011'!E9/'2011 Rate'!$AA9)*1000","v":0.50006276938527849},{"$f":"('2011'!F9/'2011 Rate'!$AA9)*1000","v":16.372347993471983},{"$f":"('2011'!G9/'2011 Rate'!$AA9)*1000","v":-4.1846256852324556E-2},{"$f":"('2011'!H9/'2011 Rate'!$AA9)*1000","v":62.560153994225224},{"$f":"('2011'!I9/'2011 Rate'!$AA9)*1000","v":45.729589488220277},{"$f":"('2011'!J9/'2011 Rate'!$AA9)*1000","v":-0.82437125999079386},{"$f":"('2011'!K9/'2011 Rate'!$AA9)*1000","v":22.62627108005189},{"$f":"('2011'!L9/'2011 Rate'!$AA9)*1000","v":23.450642340042684},{"$f":"('2011'!M9/'2011 Rate'!$AA9)*1000","v":0.75532493618445828},{"$f":"('2011'!N9/'2011 Rate'!$AA9)*1000","v":16.460225132861865},{"$f":"('2011'!O9/'2011 Rate'!$AA9)*1000","v":15.704900196677407},{"$f":"('2011'!P9/'2011 Rate'!$AA9)*1000","v":16.899610829811273},{"$f":"('2011'!Q9/'2011 Rate'!$AA9)*1000","v":23.473657781311463},{"$f":"('2011'!R9/'2011 Rate'!$AA9)*1000","v":6.5740469515001889},{"$f":"('2011'!S9/'2011 Rate'!$AA9)*1000","v":22.157593003305855},{"$f":"('2011'!T9/'2011 Rate'!$AA9)*1000","v":3.1991463363602128},{"$f":"('2011'!U9/'2011 Rate'!$AA9)*1000","v":10.976273172364731},{"$f":"('2011'!V9/'2011 Rate'!$AA9)*1000","v":7.507218479307026},null,null,{"$f":"IF('2011'!Y9=\"*\",\"\",('2011'!Y9/'2011 Rate'!$AA9)*1000)","v":1.7617274134828638},"City of Edinburgh",477940]
[8,"Clackmannanshire",null,{"$f":"('2011'!D10/'2011 Rate'!$AA10)*1000","v":-0.1553398058252427},{"$f":"('2011'!E10/'2011 Rate'!$AA10)*1000","v":1.9417475728155338E-2},{"$f":"('2011'!F10/'2011 Rate'!$AA10)*1000","v":-0.34951456310679607},{"$f":"('2011'!G10/'2011 Rate'!$AA10)*1000","v":0.17475728155339804},{"$f":"('2011'!H10/'2011 Rate'!$AA10)*1000","v":29.611650485436893},{"$f":"('2011'!I10/'2011 Rate'!$AA10)*1000","v":29.766990291262136},{"$f":"('2011'!J10/'2011 Rate'!$AA10)*1000","v":-0.13592233009708737},{"$f":"('2011'!K10/'2011 Rate'!$AA10)*1000","v":21.922330097087379},{"$f":"('2011'!L10/'2011 Rate'!$AA10)*1000","v":22.058252427184467},{"$f":"('2011'!M10/'2011 Rate'!$AA10)*1000","v":-0.13592233009708737},{"$f":"('2011'!N10/'2011 Rate'!$AA10)*1000","v":5.6699029126213585},{"$f":"('2011'!O10/'2011 Rate'!$AA10)*1000","v":5.8058252427184467},{"$f":"('2011'!P10/'2011 Rate'!$AA10)*1000","v":0.11650485436893204},{"$f":"('2011'!Q10/'2011 Rate'!$AA10)*1000","v":2.0194174757281553},{"$f":"('2011'!R10/'2011 Rate'!$AA10)*1000","v":1.9029126213592233},{"$f":"('2011'!S10/'2011 Rate'!$AA10)*1000","v":1.7475728155339807},{"$f":"('2011'!T10/'2011 Rate'!$AA10)*1000","v":0.83495145631067957},{"$f":"('2011'!U10/'2011 Rate'!$AA10)*1000","v":3.6116504854368929},{"$f":"('2011'!V10/'2011 Rate'!$AA10)*1000","v":2.233009708737864},null,null,{"$f":"IF('2011'!Y10=\"*\",\"\",('2011'!Y10/'2011 Rate'!$AA10)*1000)","v":0.19417475728155342},"Clackmannanshire",51500]
[9,"Dumfries and Galloway",null,{"$f":"('2011'!D11/'2011 Rate'!$AA11)*1000","v":2.4899280100389674},{"$f":"('2011'!E11/'2011 Rate'!$AA11)*1000","v":0.74631794465358958},{"$f":"('2011'!F11/'2011 Rate'!$AA11)*1000","v":1.5190542236312001},{"$f":"('2011'!G11/'2011 Rate'!$AA11)*1000","v":0.22455584175417742},{"$f":"('2011'!H11/'2011 Rate'!$AA11)*1000","v":26.431543491182882},{"$f":"('2011'!I11/'2011 Rate'!$AA11)*1000","v":23.941615481143913},{"$f":"('2011'!J11/'2011 Rate'!$AA11)*1000","v":-0.57459877154745387},{"$f":"('2011'!K11/'2011 Rate'!$AA11)*1000","v":10.910772075820621},{"$f":"('2011'!L11/'2011 Rate'!$AA11)*1000","v":11.485370847368074},{"$f":"('2011'!M11/'2011 Rate'!$AA11)*1000","v":2.9654580278713425},{"$f":"('2011'!N11/'2011 Rate'!$AA11)*1000","v":13.156330493362393},{"$f":"('2011'!O11/'2011 Rate'!$AA11)*1000","v":10.190872465491051},{"$f":"('2011'!P11/'2011 Rate'!$AA11)*1000","v":9.9068753715078256E-2},{"$f":"('2011'!Q11/'2011 Rate'!$AA11)*1000","v":2.3644409219998677},{"$f":"('2011'!R11/'2011 Rate'!$AA11)*1000","v":2.2653721682847898},{"$f":"('2011'!S11/'2011 Rate'!$AA11)*1000","v":2.0474209101116174},{"$f":"('2011'!T11/'2011 Rate'!$AA11)*1000","v":0.63404002377650093},{"$f":"('2011'!U11/'2011 Rate'!$AA11)*1000","v":2.7144838517931444},{"$f":"('2011'!V11/'2011 Rate'!$AA11)*1000","v":1.7171917310613565},null,null,{"$f":"IF('2011'!Y11=\"*\",\"\",('2011'!Y11/'2011 Rate'!$AA11)*1000)","v":0.39627501486031302},"Dumfries & Galloway",151410]
[10,"Dundee City",null,{"$f":"('2011'!D12/'2011 Rate'!$AA12)*1000","v":9.6942934782608692},{"$f":"('2011'!E12/'2011 Rate'!$AA12)*1000","v":-0.61820652173913049},{"$f":"('2011'!F12/'2011 Rate'!$AA12)*1000","v":10.889945652173914},{"$f":"('2011'!G12/'2011 Rate'!$AA12)*1000","v":-0.57744565217391308},{"$f":"('2011'!H12/'2011 Rate'!$AA12)*1000","v":50.197010869565219},{"$f":"('2011'!I12/'2011 Rate'!$AA12)*1000","v":40.502717391304351},{"$f":"('2011'!J12/'2011 Rate'!$AA12)*1000","v":-6.1141304347826095E-2},{"$f":"('2011'!K12/'2011 Rate'!$AA12)*1000","v":25.611413043478262},{"$f":"('2011'!L12/'2011 Rate'!$AA12)*1000","v":25.672554347826086},{"$f":"('2011'!M12/'2011 Rate'!$AA12)*1000","v":-0.95108695652173914},{"$f":"('2011'!N12/'2011 Rate'!$AA12)*1000","v":9.3002717391304337},{"$f":"('2011'!O12/'2011 Rate'!$AA12)*1000","v":10.251358695652174},{"$f":"('2011'!P12/'2011 Rate'!$AA12)*1000","v":10.706521739130434},{"$f":"('2011'!Q12/'2011 Rate'!$AA12)*1000","v":15.285326086956522},{"$f":"('2011'!R12/'2011 Rate'!$AA12)*1000","v":4.5788043478260869},{"$f":"('2011'!S12/'2011 Rate'!$AA12)*1000","v":10.122282608695652},{"$f":"('2011'!T12/'2011 Rate'!$AA12)*1000","v":2.1603260869565215},{"$f":"('2011'!U12/'2011 Rate'!$AA12)*1000","v":8.7432065217391308},{"$f":"('2011'!V12/'2011 Rate'!$AA12)*1000","v":5.9103260869565215},null,null,{"$f":"IF('2011'!Y12=\"*\",\"\",('2011'!Y12/'2011 Rate'!$AA12)*1000)","v":0.95788043478260876},"Dundee City",147200]
[11,"East Ayrshire",null,{"$f":"('2011'!D13/'2011 Rate'!$AA13)*1000","v":0.2445187056809846},{"$f":"('2011'!E13/'2011 Rate'!$AA13)*1000","v":0.20376558806748715},{"$f":"('2011'!F13/'2011 Rate'!$AA13)*1000","v":0.1222593528404923},{"$f":"('2011'!G13/'2011 Rate'!$AA13)*1000","v":-8.1506235226994864E-2},{"$f":"('2011'!H13/'2011 Rate'!$AA13)*1000","v":25.332137908550003},{"$f":"('2011'!I13/'2011 Rate'!$AA13)*1000","v":25.087619202869018},{"$f":"('2011'!J13/'2011 Rate'!$AA13)*1000","v":0.10595810579509332},{"$f":"('2011'!K13/'2011 Rate'!$AA13)*1000","v":18.754584725731519},{"$f":"('2011'!L13/'2011 Rate'!$AA13)*1000","v":18.648626619936426},{"$f":"('2011'!M13/'2011 Rate'!$AA13)*1000","v":0.67650175238405741},{"$f":"('2011'!N13/'2011 Rate'!$AA13)*1000","v":5.6320808541853449},{"$f":"('2011'!O13/'2011 Rate'!$AA13)*1000","v":4.9555791018012876},{"$f":"('2011'!P13/'2011 Rate'!$AA13)*1000","v":-0.5379411524981661},{"$f":"('2011'!Q13/'2011 Rate'!$AA13)*1000","v":0.94547232863314035},{"$f":"('2011'!R13/'2011 Rate'!$AA13)*1000","v":1.4834134811313064},{"$f":"('2011'!S13/'2011 Rate'!$AA13)*1000","v":0.81506235226994861},{"$f":"('2011'!T13/'2011 Rate'!$AA13)*1000","v":0.61944738772516095},{"$f":"('2011'!U13/'2011 Rate'!$AA13)*1000","v":2.3555301980601513},{"$f":"('2011'!V13/'2011 Rate'!$AA13)*1000","v":0.80691172874724915},null,null,{"$f":"IF('2011'!Y13=\"*\",\"\",('2011'!Y13/'2011 Rate'!$AA13)*1000)","v":0.30157307033988101},"East Ayrshire",122690]
[12,"East Dunbartonshire",null,{"$f":"('2011'!D14/'2011 Rate'!$AA14)*1000","v":-1},{"$f":"('2011'!E14/'2011 Rate'!$AA14)*1000","v":2.2285714285714286},{"$f":"('2011'!F14/'2011 Rate'!$AA14)*1000","v":-2.9714285714285715},{"$f":"('2011'!G14/'2011 Rate'!$AA14)*1000","v":-0.25714285714285717},{"$f":"('2011'!H14/'2011 Rate'!$AA14)*1000","v":29.076190476190476},{"$f":"('2011'!I14/'2011 Rate'!$AA14)*1000","v":30.076190476190476},{"$f":"('2011'!J14/'2011 Rate'!$AA14)*1000","v":0.2095238095238095},{"$f":"('2011'!K14/'2011 Rate'!$AA14)*1000","v":23.419047619047621},{"$f":"('2011'!L14/'2011 Rate'!$AA14)*1000","v":23.209523809523809},{"$f":"('2011'!M14/'2011 Rate'!$AA14)*1000","v":-0.51428571428571435},{"$f":"('2011'!N14/'2011 Rate'!$AA14)*1000","v":4.1333333333333337},{"$f":"('2011'!O14/'2011 Rate'!$AA14)*1000","v":4.647619047619048},{"$f":"('2011'!P14/'2011 Rate'!$AA14)*1000","v":-0.69523809523809521},{"$f":"('2011'!Q14/'2011 Rate'!$AA14)*1000","v":1.5238095238095239},{"$f":"('2011'!R14/'2011 Rate'!$AA14)*1000","v":2.2190476190476192},{"$f":"('2011'!S14/'2011 Rate'!$AA14)*1000","v":1.2380952380952379},{"$f":"('2011'!T14/'2011 Rate'!$AA14)*1000","v":0.73333333333333339},{"$f":"('2011'!U14/'2011 Rate'!$AA14)*1000","v":9.8380952380952387},{"$f":"('2011'!V14/'2011 Rate'!$AA14)*1000","v":2.9142857142857141},null,null,{"$f":"IF('2011'!Y14=\"*\",\"\",('2011'!Y14/'2011 Rate'!$AA14)*1000)","v":0.6},"East Dunbartonshire",105000]
[13,"East Lothian",null,{"$f":"('2011'!D15/'2011 Rate'!$AA15)*1000","v":4.4535628502802238},{"$f":"('2011'!E15/'2011 Rate'!$AA15)*1000","v":1.9115292233787031},{"$f":"('2011'!F15/'2011 Rate'!$AA15)*1000","v":1.9915932746196958},{"$f":"('2011'!G15/'2011 Rate'!$AA15)*1000","v":0.55044035228182553},{"$f":"('2011'!H15/'2011 Rate'!$AA15)*1000","v":36.559247397918334},{"$f":"('2011'!I15/'2011 Rate'!$AA15)*1000","v":32.105684547638113},{"$f":"('2011'!J15/'2011 Rate'!$AA15)*1000","v":2.1116893514811848},{"$f":"('2011'!K15/'2011 Rate'!$AA15)*1000","v":25.330264211369094},{"$f":"('2011'!L15/'2011 Rate'!$AA15)*1000","v":23.218574859887909},{"$f":"('2011'!M15/'2011 Rate'!$AA15)*1000","v":0.68054443554843869},{"$f":"('2011'!N15/'2011 Rate'!$AA15)*1000","v":6.9455564451561251},{"$f":"('2011'!O15/'2011 Rate'!$AA15)*1000","v":6.2650120096076867},{"$f":"('2011'!P15/'2011 Rate'!$AA15)*1000","v":1.6613290632506006},{"$f":"('2011'!Q15/'2011 Rate'!$AA15)*1000","v":4.2834267413931144},{"$f":"('2011'!R15/'2011 Rate'!$AA15)*1000","v":2.6220976781425138},{"$f":"('2011'!S15/'2011 Rate'!$AA15)*1000","v":3.1024819855884709},{"$f":"('2011'!T15/'2011 Rate'!$AA15)*1000","v":1.3110488390712569},{"$f":"('2011'!U15/'2011 Rate'!$AA15)*1000","v":2.932345876701361},{"$f":"('2011'!V15/'2011 Rate'!$AA15)*1000","v":1.5912730184147319},null,null,{"$f":"IF('2011'!Y15=\"*\",\"\",('2011'!Y15/'2011 Rate'!$AA15)*1000)","v":0.29023218574859888},"East Lothian",99920]
[14,"East Renfrewshire",null,{"$f":"('2011'!D16/'2011 Rate'!$AA16)*1000","v":2.9732408325074329},{"$f":"('2011'!E16/'2011 Rate'!$AA16)*1000","v":4.6030172888448408},{"$f":"('2011'!F16/'2011 Rate'!$AA16)*1000","v":-1.2884043607532212},{"$f":"('2011'!G16/'2011 Rate'!$AA16)*1000","v":-0.3413720955841868},{"$f":"('2011'!H16/'2011 Rate'!$AA16)*1000","v":34.533641669419673},{"$f":"('2011'!I16/'2011 Rate'!$AA16)*1000","v":31.560400836912237},{"$f":"('2011'!J16/'2011 Rate'!$AA16)*1000","v":3.0283008479242377},{"$f":"('2011'!K16/'2011 Rate'!$AA16)*1000","v":28.355907939654223},{"$f":"('2011'!L16/'2011 Rate'!$AA16)*1000","v":25.327607091729988},{"$f":"('2011'!M16/'2011 Rate'!$AA16)*1000","v":0.242264067833939},{"$f":"('2011'!N16/'2011 Rate'!$AA16)*1000","v":4.7021253165950885},{"$f":"('2011'!O16/'2011 Rate'!$AA16)*1000","v":4.4598612487611495},{"$f":"('2011'!P16/'2011 Rate'!$AA16)*1000","v":-0.29732408325074333},{"$f":"('2011'!Q16/'2011 Rate'!$AA16)*1000","v":1.4756084131703557},{"$f":"('2011'!R16/'2011 Rate'!$AA16)*1000","v":1.7729324964210988},{"$f":"('2011'!S16/'2011 Rate'!$AA16)*1000","v":1.1012003083360864},{"$f":"('2011'!T16/'2011 Rate'!$AA16)*1000","v":0.83691223433542561},{"$f":"('2011'!U16/'2011 Rate'!$AA16)*1000","v":23.719854641559301},{"$f":"('2011'!V16/'2011 Rate'!$AA16)*1000","v":8.8646624821054942},null,null,{"$f":"IF('2011'!Y16=\"*\",\"\",('2011'!Y16/'2011 Rate'!$AA16)*1000)","v":0.6937561942517344},"East Renfrewshire",90810]
[15,"Falkirk",null,{"$f":"('2011'!D17/'2011 Rate'!$AA17)*1000","v":6.5343999999999998},{"$f":"('2011'!E17/'2011 Rate'!$AA17)*1000","v":0.58879999999999999},{"$f":"('2011'!F17/'2011 Rate'!$AA17)*1000","v":5.6896000000000004},{"$f":"('2011'!G17/'2011 Rate'!$AA17)*1000","v":0.25600000000000001},{"$f":"('2011'!H17/'2011 Rate'!$AA17)*1000","v":26.8672},{"$f":"('2011'!I17/'2011 Rate'!$AA17)*1000","v":20.332800000000002},{"$f":"('2011'!J17/'2011 Rate'!$AA17)*1000","v":3.8976000000000002},{"$f":"('2011'!K17/'2011 Rate'!$AA17)*1000","v":19.123200000000001},{"$f":"('2011'!L17/'2011 Rate'!$AA17)*1000","v":15.2256},{"$f":"('2011'!M17/'2011 Rate'!$AA17)*1000","v":0.85760000000000003},{"$f":"('2011'!N17/'2011 Rate'!$AA17)*1000","v":4.5312000000000001},{"$f":"('2011'!O17/'2011 Rate'!$AA17)*1000","v":3.6736},{"$f":"('2011'!P17/'2011 Rate'!$AA17)*1000","v":1.7792000000000001},{"$f":"('2011'!Q17/'2011 Rate'!$AA17)*1000","v":3.2128000000000001},{"$f":"('2011'!R17/'2011 Rate'!$AA17)*1000","v":1.4336},{"$f":"('2011'!S17/'2011 Rate'!$AA17)*1000","v":2.1120000000000001},{"$f":"('2011'!T17/'2011 Rate'!$AA17)*1000","v":0.92159999999999997},{"$f":"('2011'!U17/'2011 Rate'!$AA17)*1000","v":4.0128000000000004},{"$f":"('2011'!V17/'2011 Rate'!$AA17)*1000","v":2.9504000000000001},null,null,{"$f":"IF('2011'!Y17=\"*\",\"\",('2011'!Y17/'2011 Rate'!$AA17)*1000)","v":0.39679999999999999},"Falkirk",156250]
[16,"Fife",null,{"$f":"('2011'!D18/'2011 Rate'!$AA18)*1000","v":5.6830002737476049},{"$f":"('2011'!E18/'2011 Rate'!$AA18)*1000","v":0.90336709553791406},{"$f":"('2011'!F18/'2011 Rate'!$AA18)*1000","v":4.4292362441828637},{"$f":"('2011'!G18/'2011 Rate'!$AA18)*1000","v":0.35039693402682731},{"$f":"('2011'!H18/'2011 Rate'!$AA18)*1000","v":30.588557350123185},{"$f":"('2011'!I18/'2011 Rate'!$AA18)*1000","v":24.90555707637558},{"$f":"('2011'!J18/'2011 Rate'!$AA18)*1000","v":1.22912674514098},{"$f":"('2011'!K18/'2011 Rate'!$AA18)*1000","v":16.01970982753901},{"$f":"('2011'!L18/'2011 Rate'!$AA18)*1000","v":14.79058308239803},{"$f":"('2011'!M18/'2011 Rate'!$AA18)*1000","v":0.89515466739666028},{"$f":"('2011'!N18/'2011 Rate'!$AA18)*1000","v":8.2781275663837945},{"$f":"('2011'!O18/'2011 Rate'!$AA18)*1000","v":7.3829728989871333},{"$f":"('2011'!P18/'2011 Rate'!$AA18)*1000","v":3.5587188612099641},{"$f":"('2011'!Q18/'2011 Rate'!$AA18)*1000","v":6.290719956200383},{"$f":"('2011'!R18/'2011 Rate'!$AA18)*1000","v":2.7320010949904185},{"$f":"('2011'!S18/'2011 Rate'!$AA18)*1000","v":5.201204489460717},{"$f":"('2011'!T18/'2011 Rate'!$AA18)*1000","v":1.1606898439638653},{"$f":"('2011'!U18/'2011 Rate'!$AA18)*1000","v":3.5368190528332879},{"$f":"('2011'!V18/'2011 Rate'!$AA18)*1000","v":1.6725978647686834},null,null,{"$f":"IF('2011'!Y18=\"*\",\"\",('2011'!Y18/'2011 Rate'!$AA18)*1000)","v":0.5009581166164796},"Fife",365300]
[17,"Glasgow City",null,{"$f":"('2011'!D19/'2011 Rate'!$AA19)*1000","v":9.0547330792837162},{"$f":"('2011'!E19/'2011 Rate'!$AA19)*1000","v":-0.8228509762924493},{"$f":"('2011'!F19/'2011 Rate'!$AA19)*1000","v":10.331163794557042},{"$f":"('2011'!G19/'2011 Rate'!$AA19)*1000","v":-0.45357973898087883},{"$f":"('2011'!H19/'2011 Rate'!$AA19)*1000","v":49.435133038815636},{"$f":"('2011'!I19/'2011 Rate'!$AA19)*1000","v":40.380399959531914},{"$f":"('2011'!J19/'2011 Rate'!$AA19)*1000","v":-2.0756753110983714},{"$f":"('2011'!K19/'2011 Rate'!$AA19)*1000","v":23.038141166155196},{"$f":"('2011'!L19/'2011 Rate'!$AA19)*1000","v":25.113816477253568},{"$f":"('2011'!M19/'2011 Rate'!$AA19)*1000","v":-0.77395204532425044},{"$f":"('2011'!N19/'2011 Rate'!$AA19)*1000","v":9.1036320102519142},{"$f":"('2011'!O19/'2011 Rate'!$AA19)*1000","v":9.8775840555761629},{"$f":"('2011'!P19/'2011 Rate'!$AA19)*1000","v":11.904360435706337},{"$f":"('2011'!Q19/'2011 Rate'!$AA19)*1000","v":17.293359862408526},{"$f":"('2011'!R19/'2011 Rate'!$AA19)*1000","v":5.3889994267021883},{"$f":"('2011'!S19/'2011 Rate'!$AA19)*1000","v":12.899200755404175},{"$f":"('2011'!T19/'2011 Rate'!$AA19)*1000","v":3.1716858327993793},{"$f":"('2011'!U19/'2011 Rate'!$AA19)*1000","v":17.839678953225643},{"$f":"('2011'!V19/'2011 Rate'!$AA19)*1000","v":15.639227059656696},null,null,{"$f":"IF('2011'!Y19=\"*\",\"\",('2011'!Y19/'2011 Rate'!$AA19)*1000)","v":2.2139412538360368},"Glasgow City",593060]
[18,"Highland",null,{"$f":"('2011'!D20/'2011 Rate'!$AA20)*1000","v":3.8585485326343831},{"$f":"('2011'!E20/'2011 Rate'!$AA20)*1000","v":0.73046018991964934},{"$f":"('2011'!F20/'2011 Rate'!$AA20)*1000","v":2.8659820392729771},{"$f":"('2011'!G20/'2011 Rate'!$AA20)*1000","v":0.26210630344175656},{"$f":"('2011'!H20/'2011 Rate'!$AA20)*1000","v":32.264856271215571},{"$f":"('2011'!I20/'2011 Rate'!$AA20)*1000","v":28.406307738581187},{"$f":"('2011'!J20/'2011 Rate'!$AA20)*1000","v":-0.72616336527306324},{"$f":"('2011'!K20/'2011 Rate'!$AA20)*1000","v":17.036909723714174},{"$f":"('2011'!L20/'2011 Rate'!$AA20)*1000","v":17.763073088987237},{"$f":"('2011'!M20/'2011 Rate'!$AA20)*1000","v":2.7628582477549091},{"$f":"('2011'!N20/'2011 Rate'!$AA20)*1000","v":10.832294934043741},{"$f":"('2011'!O20/'2011 Rate'!$AA20)*1000","v":8.0694366862888316},{"$f":"('2011'!P20/'2011 Rate'!$AA20)*1000","v":1.8218536501525373},{"$f":"('2011'!Q20/'2011 Rate'!$AA20)*1000","v":4.3956516134576553},{"$f":"('2011'!R20/'2011 Rate'!$AA20)*1000","v":2.5737979633051178},{"$f":"('2011'!S20/'2011 Rate'!$AA20)*1000","v":5.4999355476303018},{"$f":"('2011'!T20/'2011 Rate'!$AA20)*1000","v":1.1558458299316805},{"$f":"('2011'!U20/'2011 Rate'!$AA20)*1000","v":2.7843423709878397},{"$f":"('2011'!V20/'2011 Rate'!$AA20)*1000","v":2.7757487216946677},null,null,{"$f":"IF('2011'!Y20=\"*\",\"\",('2011'!Y20/'2011 Rate'!$AA20)*1000)","v":0.43397928930520346},"Highland",232730]
[19,"Inverclyde",null,{"$f":"('2011'!D21/'2011 Rate'!$AA21)*1000","v":-3.558236887466141},{"$f":"('2011'!E21/'2011 Rate'!$AA21)*1000","v":-0.4186161044077813},{"$f":"('2011'!F21/'2011 Rate'!$AA21)*1000","v":-3.2627431667077071},{"$f":"('2011'!G21/'2011 Rate'!$AA21)*1000","v":0.12312238364934745},{"$f":"('2011'!H21/'2011 Rate'!$AA21)*1000","v":15.48879586308791},{"$f":"('2011'!I21/'2011 Rate'!$AA21)*1000","v":19.047032750554052},{"$f":"('2011'!J21/'2011 Rate'!$AA21)*1000","v":-3.028810637773947},{"$f":"('2011'!K21/'2011 Rate'!$AA21)*1000","v":10.699335139128292},{"$f":"('2011'!L21/'2011 Rate'!$AA21)*1000","v":13.728145776902242},{"$f":"('2011'!M21/'2011 Rate'!$AA21)*1000","v":-0.2216202905688254},{"$f":"('2011'!N21/'2011 Rate'!$AA21)*1000","v":3.570549125831076},{"$f":"('2011'!O21/'2011 Rate'!$AA21)*1000","v":3.7921694163999011},{"$f":"('2011'!P21/'2011 Rate'!$AA21)*1000","v":-0.30780595912336867},{"$f":"('2011'!Q21/'2011 Rate'!$AA21)*1000","v":1.2189115981285399},{"$f":"('2011'!R21/'2011 Rate'!$AA21)*1000","v":1.5267175572519083},{"$f":"('2011'!S21/'2011 Rate'!$AA21)*1000","v":1.6005909874415167},{"$f":"('2011'!T21/'2011 Rate'!$AA21)*1000","v":0.4186161044077813},{"$f":"('2011'!U21/'2011 Rate'!$AA21)*1000","v":2.1546417138635805},{"$f":"('2011'!V21/'2011 Rate'!$AA21)*1000","v":0.43092834277271608},null,null,{"$f":"IF('2011'!Y21=\"*\",\"\",('2011'!Y21/'2011 Rate'!$AA21)*1000)","v":0.25855700566362966},"Inverclyde",81220]
[20,"Midlothian",null,{"$f":"('2011'!D22/'2011 Rate'!$AA22)*1000","v":6.2552426602756137},{"$f":"('2011'!E22/'2011 Rate'!$AA22)*1000","v":2.0850808867585382},{"$f":"('2011'!F22/'2011 Rate'!$AA22)*1000","v":3.6189334931096462},{"$f":"('2011'!G22/'2011 Rate'!$AA22)*1000","v":0.55122828040742955},{"$f":"('2011'!H22/'2011 Rate'!$AA22)*1000","v":32.594367884961052},{"$f":"('2011'!I22/'2011 Rate'!$AA22)*1000","v":26.339125224685443},{"$f":"('2011'!J22/'2011 Rate'!$AA22)*1000","v":4.4937088076692628},{"$f":"('2011'!K22/'2011 Rate'!$AA22)*1000","v":25.847813061713602},{"$f":"('2011'!L22/'2011 Rate'!$AA22)*1000","v":21.354104254044337},{"$f":"('2011'!M22/'2011 Rate'!$AA22)*1000","v":0.88675853804673455},{"$f":"('2011'!N22/'2011 Rate'!$AA22)*1000","v":4.6015578190533253},{"$f":"('2011'!O22/'2011 Rate'!$AA22)*1000","v":3.7147992810065906},{"$f":"('2011'!P22/'2011 Rate'!$AA22)*1000","v":0.87477531455961655},{"$f":"('2011'!Q22/'2011 Rate'!$AA22)*1000","v":2.1449970041941282},{"$f":"('2011'!R22/'2011 Rate'!$AA22)*1000","v":1.2702216896345115},{"$f":"('2011'!S22/'2011 Rate'!$AA22)*1000","v":2.0371479928100658},{"$f":"('2011'!T22/'2011 Rate'!$AA22)*1000","v":0.98262432594367877},{"$f":"('2011'!U22/'2011 Rate'!$AA22)*1000","v":3.6788496105452371},{"$f":"('2011'!V22/'2011 Rate'!$AA22)*1000","v":1.5338526063511084},null,null,{"$f":"IF('2011'!Y22=\"*\",\"\",('2011'!Y22/'2011 Rate'!$AA22)*1000)","v":0.39544637507489516},"Midlothian",83450]
[21,"Moray",null,{"$f":"('2011'!D23/'2011 Rate'!$AA23)*1000","v":-1.7331764202417888},{"$f":"('2011'!E23/'2011 Rate'!$AA23)*1000","v":-0.81309511073071572},{"$f":"('2011'!F23/'2011 Rate'!$AA23)*1000","v":-1.2196426660960737},{"$f":"('2011'!G23/'2011 Rate'!$AA23)*1000","v":0.29956135658500049},{"$f":"('2011'!H23/'2011 Rate'!$AA23)*1000","v":32.523804429228626},{"$f":"('2011'!I23/'2011 Rate'!$AA23)*1000","v":34.256980849470416},{"$f":"('2011'!J23/'2011 Rate'!$AA23)*1000","v":0.68471167219428697},{"$f":"('2011'!K23/'2011 Rate'!$AA23)*1000","v":18.30533861131914},{"$f":"('2011'!L23/'2011 Rate'!$AA23)*1000","v":17.620626939124854},{"$f":"('2011'!M23/'2011 Rate'!$AA23)*1000","v":-1.4015192040226812},{"$f":"('2011'!N23/'2011 Rate'!$AA23)*1000","v":9.8641275275489466},{"$f":"('2011'!O23/'2011 Rate'!$AA23)*1000","v":11.265646731571627},{"$f":"('2011'!P23/'2011 Rate'!$AA23)*1000","v":-1.0163688884133946},{"$f":"('2011'!Q23/'2011 Rate'!$AA23)*1000","v":4.3543382903605439},{"$f":"('2011'!R23/'2011 Rate'!$AA23)*1000","v":5.3707071787739382},{"$f":"('2011'!S23/'2011 Rate'!$AA23)*1000","v":2.1397239756071467},{"$f":"('2011'!T23/'2011 Rate'!$AA23)*1000","v":1.1447523269498234},{"$f":"('2011'!U23/'2011 Rate'!$AA23)*1000","v":2.4820798117042902},{"$f":"('2011'!V23/'2011 Rate'!$AA23)*1000","v":2.6960522092650048},null,null,{"$f":"IF('2011'!Y23=\"*\",\"\",('2011'!Y23/'2011 Rate'!$AA23)*1000)","v":0.17117791804857174},"Moray",93470]
[22,"Na h-Eileanan Siar",null,{"$f":"('2011'!D24/'2011 Rate'!$AA24)*1000","v":0.83062477428674608},{"$f":"('2011'!E24/'2011 Rate'!$AA24)*1000","v":0.32502708559046589},{"$f":"('2011'!F24/'2011 Rate'!$AA24)*1000","v":0.4333694474539545},{"$f":"('2011'!G24/'2011 Rate'!$AA24)*1000","v":7.2228241242325741E-2},{"$f":"('2011'!H24/'2011 Rate'!$AA24)*1000","v":32.791621524015895},{"$f":"('2011'!I24/'2011 Rate'!$AA24)*1000","v":31.960996749729144},{"$f":"('2011'!J24/'2011 Rate'!$AA24)*1000","v":-1.1917659804983747},{"$f":"('2011'!K24/'2011 Rate'!$AA24)*1000","v":20.801733477789817},{"$f":"('2011'!L24/'2011 Rate'!$AA24)*1000","v":21.993499458288191},{"$f":"('2011'!M24/'2011 Rate'!$AA24)*1000","v":1.9140483929216323},{"$f":"('2011'!N24/'2011 Rate'!$AA24)*1000","v":9.8230408089563017},{"$f":"('2011'!O24/'2011 Rate'!$AA24)*1000","v":7.9089924160346703},{"$f":"('2011'!P24/'2011 Rate'!$AA24)*1000","v":0.10834236186348863},{"$f":"('2011'!Q24/'2011 Rate'!$AA24)*1000","v":2.1668472372697725},{"$f":"('2011'!R24/'2011 Rate'!$AA24)*1000","v":2.058504875406284},{"$f":"('2011'!S24/'2011 Rate'!$AA24)*1000","v":1.444564824846515},{"$f":"('2011'!T24/'2011 Rate'!$AA24)*1000","v":0.46948356807511737},{"$f":"('2011'!U24/'2011 Rate'!$AA24)*1000","v":1.733477789815818},{"$f":"('2011'!V24/'2011 Rate'!$AA24)*1000","v":0.90285301552907182},null,null,{"$f":"IF('2011'!Y24=\"*\",\"\",('2011'!Y24/'2011 Rate'!$AA24)*1000)","v":0.39725532683279163},"Na h-Eileanan Siar",27690]
[23,"North Ayrshire",null,{"$f":"('2011'!D25/'2011 Rate'!$AA25)*1000","v":0.9848649431530162},{"$f":"('2011'!E25/'2011 Rate'!$AA25)*1000","v":0.46346585560141934},{"$f":"('2011'!F25/'2011 Rate'!$AA25)*1000","v":7.9658193931493954E-2},{"$f":"('2011'!G25/'2011 Rate'!$AA25)*1000","v":0.44174089362010283},{"$f":"('2011'!H25/'2011 Rate'!$AA25)*1000","v":25.54855529002824},{"$f":"('2011'!I25/'2011 Rate'!$AA25)*1000","v":24.563690346875227},{"$f":"('2011'!J25/'2011 Rate'!$AA25)*1000","v":0.15931638786298791},{"$f":"('2011'!K25/'2011 Rate'!$AA25)*1000","v":17.821710478673328},{"$f":"('2011'!L25/'2011 Rate'!$AA25)*1000","v":17.662394090810341},{"$f":"('2011'!M25/'2011 Rate'!$AA25)*1000","v":0.5938156274893186},{"$f":"('2011'!N25/'2011 Rate'!$AA25)*1000","v":6.11919762473749},{"$f":"('2011'!O25/'2011 Rate'!$AA25)*1000","v":5.5253819972481715},{"$f":"('2011'!P25/'2011 Rate'!$AA25)*1000","v":0.23173292780070967},{"$f":"('2011'!Q25/'2011 Rate'!$AA25)*1000","v":1.6076471866174233},{"$f":"('2011'!R25/'2011 Rate'!$AA25)*1000","v":1.3759142588167137},{"$f":"('2011'!S25/'2011 Rate'!$AA25)*1000","v":1.2310811789412701},{"$f":"('2011'!T25/'2011 Rate'!$AA25)*1000","v":0.37656600767615322},{"$f":"('2011'!U25/'2011 Rate'!$AA25)*1000","v":2.0204214642624376},{"$f":"('2011'!V25/'2011 Rate'!$AA25)*1000","v":0.67347382142081247},null,null,{"$f":"IF('2011'!Y25=\"*\",\"\",('2011'!Y25/'2011 Rate'!$AA25)*1000)","v":0.2969078137446593},"North Ayrshire",138090]
[24,"North Lanarkshire",null,{"$f":"('2011'!D26/'2011 Rate'!$AA26)*1000","v":-0.17173990287812391},{"$f":"('2011'!E26/'2011 Rate'!$AA26)*1000","v":0.11548027952149709},{"$f":"('2011'!F26/'2011 Rate'!$AA26)*1000","v":-0.23984365746772474},{"$f":"('2011'!G26/'2011 Rate'!$AA26)*1000","v":-4.7376524931896244E-2},{"$f":"('2011'!H26/'2011 Rate'!$AA26)*1000","v":19.36515456591259},{"$f":"('2011'!I26/'2011 Rate'!$AA26)*1000","v":19.536894468790713},{"$f":"('2011'!J26/'2011 Rate'!$AA26)*1000","v":-0.59812862726519},{"$f":"('2011'!K26/'2011 Rate'!$AA26)*1000","v":14.038256543882506},{"$f":"('2011'!L26/'2011 Rate'!$AA26)*1000","v":14.636385171147698},{"$f":"('2011'!M26/'2011 Rate'!$AA26)*1000","v":8.2908918630818423E-2},{"$f":"('2011'!N26/'2011 Rate'!$AA26)*1000","v":3.4525642544119388},{"$f":"('2011'!O26/'2011 Rate'!$AA26)*1000","v":3.3696553357811205},{"$f":"('2011'!P26/'2011 Rate'!$AA26)*1000","v":0.34347980575624781},{"$f":"('2011'!Q26/'2011 Rate'!$AA26)*1000","v":1.8743337676181453},{"$f":"('2011'!R26/'2011 Rate'!$AA26)*1000","v":1.5308539618618975},{"$f":"('2011'!S26/'2011 Rate'!$AA26)*1000","v":2.0431126376880258},{"$f":"('2011'!T26/'2011 Rate'!$AA26)*1000","v":0.84093331754115841},{"$f":"('2011'!U26/'2011 Rate'!$AA26)*1000","v":4.6606656401752931},{"$f":"('2011'!V26/'2011 Rate'!$AA26)*1000","v":2.6412412649532153},null,null,{"$f":"IF('2011'!Y26=\"*\",\"\",('2011'!Y26/'2011 Rate'!$AA26)*1000)","v":0.35532393698922182},"North Lanarkshire",337720]
[25,"Orkney Islands",null,{"$f":"('2011'!D27/'2011 Rate'!$AA27)*1000","v":4.6218487394957988},{"$f":"('2011'!E27/'2011 Rate'!$AA27)*1000","v":0.23342670401493931},{"$f":"('2011'!F27/'2011 Rate'!$AA27)*1000","v":3.9682539682539679},{"$f":"('2011'!G27/'2011 Rate'!$AA27)*1000","v":0.42016806722689076},{"$f":"('2011'!H27/'2011 Rate'!$AA27)*1000","v":31.092436974789916},{"$f":"('2011'!I27/'2011 Rate'!$AA27)*1000","v":26.470588235294116},{"$f":"('2011'!J27/'2011 Rate'!$AA27)*1000","v":0.37348272642390284},{"$f":"('2011'!K27/'2011 Rate'!$AA27)*1000","v":16.106442577030812},{"$f":"('2011'!L27/'2011 Rate'!$AA27)*1000","v":15.732959850606909},{"$f":"('2011'!M27/'2011 Rate'!$AA27)*1000","v":3.1746031746031744},{"$f":"('2011'!N27/'2011 Rate'!$AA27)*1000","v":11.904761904761903},{"$f":"('2011'!O27/'2011 Rate'!$AA27)*1000","v":8.7301587301587311},{"$f":"('2011'!P27/'2011 Rate'!$AA27)*1000","v":1.073762838468721},{"$f":"('2011'!Q27/'2011 Rate'!$AA27)*1000","v":3.0812324929971986},{"$f":"('2011'!R27/'2011 Rate'!$AA27)*1000","v":2.007469654528478},{"$f":"('2011'!S27/'2011 Rate'!$AA27)*1000","v":2.3342670401493932},{"$f":"('2011'!T27/'2011 Rate'!$AA27)*1000","v":0.37348272642390284},{"$f":"('2011'!U27/'2011 Rate'!$AA27)*1000","v":1.8207282913165266},{"$f":"('2011'!V27/'2011 Rate'!$AA27)*1000","v":0.23342670401493931},null,null,{"$f":"IF('2011'!Y27=\"*\",\"\",('2011'!Y27/'2011 Rate'!$AA27)*1000)","v":0.28011204481792717},"Orkney Islands",21420]
[26,"Perth and Kinross",null,{"$f":"('2011'!D28/'2011 Rate'!$AA28)*1000","v":12.434456928838951},{"$f":"('2011'!E28/'2011 Rate'!$AA28)*1000","v":2.6557711950970377},{"$f":"('2011'!F28/'2011 Rate'!$AA28)*1000","v":8.5461355124276466},{"$f":"('2011'!G28/'2011 Rate'!$AA28)*1000","v":1.2325502213142663},{"$f":"('2011'!H28/'2011 Rate'!$AA28)*1000","v":43.983656792645554},{"$f":"('2011'!I28/'2011 Rate'!$AA28)*1000","v":31.549199863806603},{"$f":"('2011'!J28/'2011 Rate'!$AA28)*1000","v":2.3289070480081717},{"$f":"('2011'!K28/'2011 Rate'!$AA28)*1000","v":23.479741232550221},{"$f":"('2011'!L28/'2011 Rate'!$AA28)*1000","v":21.150834184542049},{"$f":"('2011'!M28/'2011 Rate'!$AA28)*1000","v":2.499148791283623},{"$f":"('2011'!N28/'2011 Rate'!$AA28)*1000","v":9.4177732379979577},{"$f":"('2011'!O28/'2011 Rate'!$AA28)*1000","v":6.9186244467143352},{"$f":"('2011'!P28/'2011 Rate'!$AA28)*1000","v":7.6064010895471563},{"$f":"('2011'!Q28/'2011 Rate'!$AA28)*1000","v":11.086142322097379},{"$f":"('2011'!R28/'2011 Rate'!$AA28)*1000","v":3.4797412325502215},{"$f":"('2011'!S28/'2011 Rate'!$AA28)*1000","v":19.135171944160707},{"$f":"('2011'!T28/'2011 Rate'!$AA28)*1000","v":1.3891726251276812},{"$f":"('2011'!U28/'2011 Rate'!$AA28)*1000","v":3.316309159005788},{"$f":"('2011'!V28/'2011 Rate'!$AA28)*1000","v":3.0643513789581203},null,null,{"$f":"IF('2011'!Y28=\"*\",\"\",('2011'!Y28/'2011 Rate'!$AA28)*1000)","v":0.49029622063329925},"Perth & Kinross",146850]
[27,"Renfrewshire",null,{"$f":"('2011'!D29/'2011 Rate'!$AA29)*1000","v":3.371493989696623},{"$f":"('2011'!E29/'2011 Rate'!$AA29)*1000","v":0.618202633085289},{"$f":"('2011'!F29/'2011 Rate'!$AA29)*1000","v":2.3354321694333144},{"$f":"('2011'!G29/'2011 Rate'!$AA29)*1000","v":0.41785918717801945},{"$f":"('2011'!H29/'2011 Rate'!$AA29)*1000","v":27.366914710933028},{"$f":"('2011'!I29/'2011 Rate'!$AA29)*1000","v":23.995420721236403},{"$f":"('2011'!J29/'2011 Rate'!$AA29)*1000","v":0.9902690326273611},{"$f":"('2011'!K29/'2011 Rate'!$AA29)*1000","v":19.066971951917573},{"$f":"('2011'!L29/'2011 Rate'!$AA29)*1000","v":18.076702919290213},{"$f":"('2011'!M29/'2011 Rate'!$AA29)*1000","v":-0.2289639381797367},{"$f":"('2011'!N29/'2011 Rate'!$AA29)*1000","v":4.1270749856897533},{"$f":"('2011'!O29/'2011 Rate'!$AA29)*1000","v":4.356038923869491},{"$f":"('2011'!P29/'2011 Rate'!$AA29)*1000","v":2.6101888952489984},{"$f":"('2011'!Q29/'2011 Rate'!$AA29)*1000","v":4.1728677733257014},{"$f":"('2011'!R29/'2011 Rate'!$AA29)*1000","v":1.5626788780767029},{"$f":"('2011'!S29/'2011 Rate'!$AA29)*1000","v":2.9765311963365768},{"$f":"('2011'!T29/'2011 Rate'!$AA29)*1000","v":1.0074413279908414},{"$f":"('2011'!U29/'2011 Rate'!$AA29)*1000","v":4.5048654836863191},{"$f":"('2011'!V29/'2011 Rate'!$AA29)*1000","v":1.8259874069834001},null,null,{"$f":"IF('2011'!Y29=\"*\",\"\",('2011'!Y29/'2011 Rate'!$AA29)*1000)","v":0.48082427017744706},"Renfrewshire",174700]
[28,"Scottish Borders",null,{"$f":"('2011'!D30/'2011 Rate'!$AA30)*1000","v":4.2852125043905867},{"$f":"('2011'!E30/'2011 Rate'!$AA30)*1000","v":1.2381454162276082},{"$f":"('2011'!F30/'2011 Rate'!$AA30)*1000","v":3.249034070951879},{"$f":"('2011'!G30/'2011 Rate'!$AA30)*1000","v":-0.2019669827889006},{"$f":"('2011'!H30/'2011 Rate'!$AA30)*1000","v":35.923779416930103},{"$f":"('2011'!I30/'2011 Rate'!$AA30)*1000","v":31.638566912539517},{"$f":"('2011'!J30/'2011 Rate'!$AA30)*1000","v":1.1766772040744642},{"$f":"('2011'!K30/'2011 Rate'!$AA30)*1000","v":19.380049174569724},{"$f":"('2011'!L30/'2011 Rate'!$AA30)*1000","v":18.203371970495258},{"$f":"('2011'!M30/'2011 Rate'!$AA30)*1000","v":2.5289778714436246},{"$f":"('2011'!N30/'2011 Rate'!$AA30)*1000","v":13.268352651914295},{"$f":"('2011'!O30/'2011 Rate'!$AA30)*1000","v":10.739374780470671},{"$f":"('2011'!P30/'2011 Rate'!$AA30)*1000","v":0.57955742887249739},{"$f":"('2011'!Q30/'2011 Rate'!$AA30)*1000","v":3.2753775904460833},{"$f":"('2011'!R30/'2011 Rate'!$AA30)*1000","v":2.6958201615735864},{"$f":"('2011'!S30/'2011 Rate'!$AA30)*1000","v":3.4246575342465753},{"$f":"('2011'!T30/'2011 Rate'!$AA30)*1000","v":1.0098349139445031},{"$f":"('2011'!U30/'2011 Rate'!$AA30)*1000","v":2.9153494906919564},{"$f":"('2011'!V30/'2011 Rate'!$AA30)*1000","v":2.827537759044608},null,null,{"$f":"IF('2011'!Y30=\"*\",\"\",('2011'!Y30/'2011 Rate'!$AA30)*1000)","v":0.27221636810677907},"Scottish Borders",113880]
[29,"Shetland Islands",null,{"$f":"('2011'!D31/'2011 Rate'!$AA31)*1000","v":2.5387263339070567},{"$f":"('2011'!E31/'2011 Rate'!$AA31)*1000","v":-0.64543889845094671},{"$f":"('2011'!F31/'2011 Rate'!$AA31)*1000","v":2.753872633390706},{"$f":"('2011'!G31/'2011 Rate'!$AA31)*1000","v":0.43029259896729777},{"$f":"('2011'!H31/'2011 Rate'!$AA31)*1000","v":30.464716006884682},{"$f":"('2011'!I31/'2011 Rate'!$AA31)*1000","v":27.925989672977622},{"$f":"('2011'!J31/'2011 Rate'!$AA31)*1000","v":0.43029259896729777},{"$f":"('2011'!K31/'2011 Rate'!$AA31)*1000","v":16.437177280550774},{"$f":"('2011'!L31/'2011 Rate'!$AA31)*1000","v":16.006884681583475},{"$f":"('2011'!M31/'2011 Rate'!$AA31)*1000","v":0.60240963855421692},{"$f":"('2011'!N31/'2011 Rate'!$AA31)*1000","v":9.6815834767641995},{"$f":"('2011'!O31/'2011 Rate'!$AA31)*1000","v":9.079173838209984},{"$f":"('2011'!P31/'2011 Rate'!$AA31)*1000","v":1.5060240963855422},{"$f":"('2011'!Q31/'2011 Rate'!$AA31)*1000","v":4.3459552495697071},{"$f":"('2011'!R31/'2011 Rate'!$AA31)*1000","v":2.8399311531841653},{"$f":"('2011'!S31/'2011 Rate'!$AA31)*1000","v":4.3029259896729775},{"$f":"('2011'!T31/'2011 Rate'!$AA31)*1000","v":1.2908777969018934},{"$f":"('2011'!U31/'2011 Rate'!$AA31)*1000","v":3.6144578313253013},{"$f":"('2011'!V31/'2011 Rate'!$AA31)*1000","v":1.8072289156626506},null,null,{"$f":"IF('2011'!Y31=\"*\",\"\",('2011'!Y31/'2011 Rate'!$AA31)*1000)","v":0.51635111876075723},"Shetland Islands",23240]
[30,"South Ayrshire",null,{"$f":"('2011'!D32/'2011 Rate'!$AA32)*1000","v":5.2752699592848291},{"$f":"('2011'!E32/'2011 Rate'!$AA32)*1000","v":1.4073287307488049},{"$f":"('2011'!F32/'2011 Rate'!$AA32)*1000","v":2.867764206054169},{"$f":"('2011'!G32/'2011 Rate'!$AA32)*1000","v":1.0001770224818551},{"$f":"('2011'!H32/'2011 Rate'!$AA32)*1000","v":30.810762966896796},{"$f":"('2011'!I32/'2011 Rate'!$AA32)*1000","v":25.535493007611965},{"$f":"('2011'!J32/'2011 Rate'!$AA32)*1000","v":2.0003540449637103},{"$f":"('2011'!K32/'2011 Rate'!$AA32)*1000","v":20.419543281996813},{"$f":"('2011'!L32/'2011 Rate'!$AA32)*1000","v":18.419189237033105},{"$f":"('2011'!M32/'2011 Rate'!$AA32)*1000","v":2.5668259869003363},{"$f":"('2011'!N32/'2011 Rate'!$AA32)*1000","v":7.6827757125154896},{"$f":"('2011'!O32/'2011 Rate'!$AA32)*1000","v":5.1159497256151525},{"$f":"('2011'!P32/'2011 Rate'!$AA32)*1000","v":0.70808992742078236},{"$f":"('2011'!Q32/'2011 Rate'!$AA32)*1000","v":2.7084439723844929},{"$f":"('2011'!R32/'2011 Rate'!$AA32)*1000","v":2.0003540449637103},{"$f":"('2011'!S32/'2011 Rate'!$AA32)*1000","v":2.743848468755532},{"$f":"('2011'!T32/'2011 Rate'!$AA32)*1000","v":0.53991856965834661},{"$f":"('2011'!U32/'2011 Rate'!$AA32)*1000","v":2.5137192423437775},{"$f":"('2011'!V32/'2011 Rate'!$AA32)*1000","v":1.3984776066560451},null,null,{"$f":"IF('2011'!Y32=\"*\",\"\",('2011'!Y32/'2011 Rate'!$AA32)*1000)","v":0.20357585413347495},"South Ayrshire",112980]
[31,"South Lanarkshire",null,{"$f":"('2011'!D33/'2011 Rate'!$AA33)*1000","v":1.870022300095572},{"$f":"('2011'!E33/'2011 Rate'!$AA33)*1000","v":0.28990124243389614},{"$f":"('2011'!F33/'2011 Rate'!$AA33)*1000","v":1.0672188595093979},{"$f":"('2011'!G33/'2011 Rate'!$AA33)*1000","v":0.51290219815227778},{"$f":"('2011'!H33/'2011 Rate'!$AA33)*1000","v":24.284804077731764},{"$f":"('2011'!I33/'2011 Rate'!$AA33)*1000","v":22.41478177763619},{"$f":"('2011'!J33/'2011 Rate'!$AA33)*1000","v":1.5355208665179993},{"$f":"('2011'!K33/'2011 Rate'!$AA33)*1000","v":18.05352022937241},{"$f":"('2011'!L33/'2011 Rate'!$AA33)*1000","v":16.517999362854411},{"$f":"('2011'!M33/'2011 Rate'!$AA33)*1000","v":0.33768716151640649},{"$f":"('2011'!N33/'2011 Rate'!$AA33)*1000","v":4.4472762026122972},{"$f":"('2011'!O33/'2011 Rate'!$AA33)*1000","v":4.10958904109589},{"$f":"('2011'!P33/'2011 Rate'!$AA33)*1000","v":-3.1857279388340237E-3},{"$f":"('2011'!Q33/'2011 Rate'!$AA33)*1000","v":1.7840076457470533},{"$f":"('2011'!R33/'2011 Rate'!$AA33)*1000","v":1.7871933736858872},{"$f":"('2011'!S33/'2011 Rate'!$AA33)*1000","v":1.4972921312519911},{"$f":"('2011'!T33/'2011 Rate'!$AA33)*1000","v":0.78050334501433583},{"$f":"('2011'!U33/'2011 Rate'!$AA33)*1000","v":4.4472762026122972},{"$f":"('2011'!V33/'2011 Rate'!$AA33)*1000","v":1.4686205798024847},null,null,{"$f":"IF('2011'!Y33=\"*\",\"\",('2011'!Y33/'2011 Rate'!$AA33)*1000)","v":0.62758840395030269},"South Lanarkshire",313900]
[32,"Stirling",null,{"$f":"('2011'!D34/'2011 Rate'!$AA34)*1000","v":11.303000110705192},{"$f":"('2011'!E34/'2011 Rate'!$AA34)*1000","v":2.4355142256171813},{"$f":"('2011'!F34/'2011 Rate'!$AA34)*1000","v":9.0446141924056231},{"$f":"('2011'!G34/'2011 Rate'!$AA34)*1000","v":-0.1771283073176132},{"$f":"('2011'!H34/'2011 Rate'!$AA34)*1000","v":57.134949629137608},{"$f":"('2011'!I34/'2011 Rate'!$AA34)*1000","v":45.83194951843241},{"$f":"('2011'!J34/'2011 Rate'!$AA34)*1000","v":-1.2177571128085907},{"$f":"('2011'!K34/'2011 Rate'!$AA34)*1000","v":31.41813351046164},{"$f":"('2011'!L34/'2011 Rate'!$AA34)*1000","v":32.635890623270235},{"$f":"('2011'!M34/'2011 Rate'!$AA34)*1000","v":1.6162958042732205},{"$f":"('2011'!N34/'2011 Rate'!$AA34)*1000","v":10.627698439056791},{"$f":"('2011'!O34/'2011 Rate'!$AA34)*1000","v":9.0114026347835718},{"$f":"('2011'!P34/'2011 Rate'!$AA34)*1000","v":10.904461419240564},{"$f":"('2011'!Q34/'2011 Rate'!$AA34)*1000","v":15.089117679619175},{"$f":"('2011'!R34/'2011 Rate'!$AA34)*1000","v":4.1846562603786124},{"$f":"('2011'!S34/'2011 Rate'!$AA34)*1000","v":6.6423115244104949},{"$f":"('2011'!T34/'2011 Rate'!$AA34)*1000","v":1.1070519207350826},{"$f":"('2011'!U34/'2011 Rate'!$AA34)*1000","v":5.4024133731872022},{"$f":"('2011'!V34/'2011 Rate'!$AA34)*1000","v":2.0369755341525519},null,null,{"$f":"IF('2011'!Y34=\"*\",\"\",('2011'!Y34/'2011 Rate'!$AA34)*1000)","v":0.47603232591608546},"Stirling",90330]
[33,"West Dunbartonshire",null,{"$f":"('2011'!D35/'2011 Rate'!$AA35)*1000","v":-1.9092815362542765},{"$f":"('2011'!E35/'2011 Rate'!$AA35)*1000","v":-0.69528749586138394},{"$f":"('2011'!F35/'2011 Rate'!$AA35)*1000","v":-1.3574660633484161},{"$f":"('2011'!G35/'2011 Rate'!$AA35)*1000","v":0.14347202295552366},{"$f":"('2011'!H35/'2011 Rate'!$AA35)*1000","v":23.010705220174376},{"$f":"('2011'!I35/'2011 Rate'!$AA35)*1000","v":24.919986756428649},{"$f":"('2011'!J35/'2011 Rate'!$AA35)*1000","v":-2.1079351065003862},{"$f":"('2011'!K35/'2011 Rate'!$AA35)*1000","v":16.896589780377443},{"$f":"('2011'!L35/'2011 Rate'!$AA35)*1000","v":19.004524886877828},{"$f":"('2011'!M35/'2011 Rate'!$AA35)*1000","v":7.7254166206820449E-2},{"$f":"('2011'!N35/'2011 Rate'!$AA35)*1000","v":4.3483059264981785},{"$f":"('2011'!O35/'2011 Rate'!$AA35)*1000","v":4.2710517602913578},{"$f":"('2011'!P35/'2011 Rate'!$AA35)*1000","v":0.12139940403928925},{"$f":"('2011'!Q35/'2011 Rate'!$AA35)*1000","v":1.7658095132987528},{"$f":"('2011'!R35/'2011 Rate'!$AA35)*1000","v":1.6444101092594636},{"$f":"('2011'!S35/'2011 Rate'!$AA35)*1000","v":1.4347202295552368},{"$f":"('2011'!T35/'2011 Rate'!$AA35)*1000","v":0.6621785674870323},{"$f":"('2011'!U35/'2011 Rate'!$AA35)*1000","v":3.0018761726078798},{"$f":"('2011'!V35/'2011 Rate'!$AA35)*1000","v":1.4567928484714712},null,null,{"$f":"IF('2011'!Y35=\"*\",\"\",('2011'!Y35/'2011 Rate'!$AA35)*1000)","v":0.4414523783246882},"West Dunbartonshire",90610]
[34,"West Lothian",null,{"$f":"('2011'!D36/'2011 Rate'!$AA36)*1000","v":1.249286936679977},{"$f":"('2011'!E36/'2011 Rate'!$AA36)*1000","v":0.31945236737022248},{"$f":"('2011'!F36/'2011 Rate'!$AA36)*1000","v":0.67313177410154024},{"$f":"('2011'!G36/'2011 Rate'!$AA36)*1000","v":0.25670279520821448},{"$f":"('2011'!H36/'2011 Rate'!$AA36)*1000","v":27.478608100399317},{"$f":"('2011'!I36/'2011 Rate'!$AA36)*1000","v":26.229321163719337},{"$f":"('2011'!J36/'2011 Rate'!$AA36)*1000","v":-1.8197375926982315},{"$f":"('2011'!K36/'2011 Rate'!$AA36)*1000","v":17.529948659440958},{"$f":"('2011'!L36/'2011 Rate'!$AA36)*1000","v":19.34968625213919},{"$f":"('2011'!M36/'2011 Rate'!$AA36)*1000","v":-3.993154592127781E-2},{"$f":"('2011'!N36/'2011 Rate'!$AA36)*1000","v":4.9800342270393605},{"$f":"('2011'!O36/'2011 Rate'!$AA36)*1000","v":5.0199657729606386},{"$f":"('2011'!P36/'2011 Rate'!$AA36)*1000","v":3.1089560752994867},{"$f":"('2011'!Q36/'2011 Rate'!$AA36)*1000","v":4.9686252139189966},{"$f":"('2011'!R36/'2011 Rate'!$AA36)*1000","v":1.8596691386195092},{"$f":"('2011'!S36/'2011 Rate'!$AA36)*1000","v":5.0199657729606386},{"$f":"('2011'!T36/'2011 Rate'!$AA36)*1000","v":1.5858528237307472},{"$f":"('2011'!U36/'2011 Rate'!$AA36)*1000","v":5.6132344552196232},{"$f":"('2011'!V36/'2011 Rate'!$AA36)*1000","v":3.593839132915003},null,null,{"$f":"IF('2011'!Y36=\"*\",\"\",('2011'!Y36/'2011 Rate'!$AA36)*1000)","v":0.60467769537934968},"West Lothian",175300]
[]
[35,"Not specified"]
[36,"SCOTLAND",null,{"$f":"('2011'!D39/'2011 Rate'!$AA39)*1000","v":5.6999188663937055},{"$f":"('2011'!E39/'2011 Rate'!$AA39)*1000","v":0.65850299062246453},{"$f":"('2011'!F39/'2011 Rate'!$AA39)*1000","v":4.9480178871299456},{"$f":"('2011'!G39/'2011 Rate'!$AA39)*1000","v":9.3397988641295115E-2},{"$f":"('2011'!H39/'2011 Rate'!$AA39)*1000","v":16.582577029755278},{"$f":"('2011'!I39/'2011 Rate'!$AA39)*1000","v":10.882658163361572},null,null,null,{"$f":"('2011'!M39/'2011 Rate'!$AA39)*1000","v":0.54887828072227784},{"$f":"('2011'!N39/'2011 Rate'!$AA39)*1000","v":8.2427970339062995},{"$f":"('2011'!O39/'2011 Rate'!$AA39)*1000","v":7.6939187531840219},{"$f":"('2011'!P39/'2011 Rate'!$AA39)*1000","v":5.1510405856714279},{"$f":"('2011'!Q39/'2011 Rate'!$AA39)*1000","v":8.3397799958489784},{"$f":"('2011'!R39/'2011 Rate'!$AA39)*1000","v":3.1887394101775506},null,{"$f":"('2011'!T39/'2011 Rate'!$AA39)*1000","v":1.5741806449178286},null,null,null,null,null,"SCOTLAND",{"$f":"AA4","v":5299900}]
[37,"Ayrshire and Arran",null,{"$f":"('2011'!D40/'2011 Rate'!$AA40)*1000","v":2.0387414383561646},{"$f":"('2011'!E40/'2011 Rate'!$AA40)*1000","v":0.66352739726027399},{"$f":"('2011'!F40/'2011 Rate'!$AA40)*1000","v":0.93642979452054786},{"$f":"('2011'!G40/'2011 Rate'!$AA40)*1000","v":0.43878424657534243},{"$f":"('2011'!H40/'2011 Rate'!$AA40)*1000","v":20.764661815068493},{"$f":"('2011'!I40/'2011 Rate'!$AA40)*1000","v":18.725920376712327},{"$f":"('2011'!J40/'2011 Rate'!$AA40)*1000","v":0.69830907534246567},{"$f":"('2011'!K40/'2011 Rate'!$AA40)*1000","v":12.609696061643836},{"$f":"('2011'!L40/'2011 Rate'!$AA40)*1000","v":11.91138698630137},{"$f":"('2011'!M40/'2011 Rate'!$AA40)*1000","v":1.2173587328767124},{"$f":"('2011'!N40/'2011 Rate'!$AA40)*1000","v":6.4319349315068495},{"$f":"('2011'!O40/'2011 Rate'!$AA40)*1000","v":5.2145761986301373},{"$f":"('2011'!P40/'2011 Rate'!$AA40)*1000","v":0.12307363013698631},{"$f":"('2011'!Q40/'2011 Rate'!$AA40)*1000","v":1.7230308219178083},{"$f":"('2011'!R40/'2011 Rate'!$AA40)*1000","v":1.5999571917808217},null,{"$f":"('2011'!T40/'2011 Rate'!$AA40)*1000","v":0.50567208904109584},null,null,null,null,null,"Ayrshire & Arran",{"$f":"AA13+AA25+AA32","v":373760}]
[38,"Borders",null,{"$f":"('2011'!D41/'2011 Rate'!$AA41)*1000","v":4.2852125043905867},{"$f":"('2011'!E41/'2011 Rate'!$AA41)*1000","v":1.2381454162276082},{"$f":"('2011'!F41/'2011 Rate'!$AA41)*1000","v":3.249034070951879},{"$f":"('2011'!G41/'2011 Rate'!$AA41)*1000","v":-0.2019669827889006},{"$f":"('2011'!H41/'2011 Rate'!$AA41)*1000","v":35.923779416930103},{"$f":"('2011'!I41/'2011 Rate'!$AA41)*1000","v":31.638566912539517},{"$f":"('2011'!J41/'2011 Rate'!$AA41)*1000","v":1.1766772040744642},{"$f":"('2011'!K41/'2011 Rate'!$AA41)*1000","v":19.380049174569724},{"$f":"('2011'!L41/'2011 Rate'!$AA41)*1000","v":18.203371970495258},{"$f":"('2011'!M41/'2011 Rate'!$AA41)*1000","v":2.5289778714436246},{"$f":"('2011'!N41/'2011 Rate'!$AA41)*1000","v":13.268352651914295},{"$f":"('2011'!O41/'2011 Rate'!$AA41)*1000","v":10.739374780470671},{"$f":"('2011'!P41/'2011 Rate'!$AA41)*1000","v":0.57955742887249739},{"$f":"('2011'!Q41/'2011 Rate'!$AA41)*1000","v":3.2753775904460833},{"$f":"('2011'!R41/'2011 Rate'!$AA41)*1000","v":2.6958201615735864},null,{"$f":"('2011'!T41/'2011 Rate'!$AA41)*1000","v":1.0098349139445031},null,null,null,null,null,"Borders",{"$f":"AA30","v":113880}]
[39,"Dumfries and Galloway",null,{"$f":"('2011'!D42/'2011 Rate'!$AA42)*1000","v":2.4899280100389674},{"$f":"('2011'!E42/'2011 Rate'!$AA42)*1000","v":0.74631794465358958},{"$f":"('2011'!F42/'2011 Rate'!$AA42)*1000","v":1.5190542236312001},{"$f":"('2011'!G42/'2011 Rate'!$AA42)*1000","v":0.22455584175417742},{"$f":"('2011'!H42/'2011 Rate'!$AA42)*1000","v":26.431543491182882},{"$f":"('2011'!I42/'2011 Rate'!$AA42)*1000","v":23.941615481143913},{"$f":"('2011'!J42/'2011 Rate'!$AA42)*1000","v":-0.57459877154745387},{"$f":"('2011'!K42/'2011 Rate'!$AA42)*1000","v":10.910772075820621},{"$f":"('2011'!L42/'2011 Rate'!$AA42)*1000","v":11.485370847368074},{"$f":"('2011'!M42/'2011 Rate'!$AA42)*1000","v":2.9654580278713425},{"$f":"('2011'!N42/'2011 Rate'!$AA42)*1000","v":13.156330493362393},{"$f":"('2011'!O42/'2011 Rate'!$AA42)*1000","v":10.190872465491051},{"$f":"('2011'!P42/'2011 Rate'!$AA42)*1000","v":9.9068753715078256E-2},{"$f":"('2011'!Q42/'2011 Rate'!$AA42)*1000","v":2.3644409219998677},{"$f":"('2011'!R42/'2011 Rate'!$AA42)*1000","v":2.2653721682847898},null,{"$f":"('2011'!T42/'2011 Rate'!$AA42)*1000","v":0.63404002377650093},null,null,null,null,null,"Dumfries & Galloway",{"$f":"AA11","v":151410}]
[40,"Fife",null,{"$f":"('2011'!D43/'2011 Rate'!$AA43)*1000","v":5.6693128935121821},{"$f":"('2011'!E43/'2011 Rate'!$AA43)*1000","v":0.90336709553791406},{"$f":"('2011'!F43/'2011 Rate'!$AA43)*1000","v":4.4182863399945251},{"$f":"('2011'!G43/'2011 Rate'!$AA43)*1000","v":0.34765945797974268},{"$f":"('2011'!H43/'2011 Rate'!$AA43)*1000","v":30.583082398029017},{"$f":"('2011'!I43/'2011 Rate'!$AA43)*1000","v":24.913769504516836},{"$f":"('2011'!J43/'2011 Rate'!$AA43)*1000","v":1.2154393649055573},{"$f":"('2011'!K43/'2011 Rate'!$AA43)*1000","v":16.014234875444842},{"$f":"('2011'!L43/'2011 Rate'!$AA43)*1000","v":14.798795510539282},{"$f":"('2011'!M43/'2011 Rate'!$AA43)*1000","v":0.89515466739666028},{"$f":"('2011'!N43/'2011 Rate'!$AA43)*1000","v":8.2781275663837945},{"$f":"('2011'!O43/'2011 Rate'!$AA43)*1000","v":7.3829728989871333},{"$f":"('2011'!P43/'2011 Rate'!$AA43)*1000","v":3.5587188612099641},{"$f":"('2011'!Q43/'2011 Rate'!$AA43)*1000","v":6.290719956200383},{"$f":"('2011'!R43/'2011 Rate'!$AA43)*1000","v":2.7320010949904185},null,{"$f":"('2011'!T43/'2011 Rate'!$AA43)*1000","v":1.1606898439638653},null,null,null,null,null,"Fife",{"$f":"AA18","v":365300}]
[41,"Forth Valley",null,{"$f":"('2011'!D44/'2011 Rate'!$AA44)*1000","v":6.8236714975845416},{"$f":"('2011'!E44/'2011 Rate'!$AA44)*1000","v":1.0500536768652711},{"$f":"('2011'!F44/'2011 Rate'!$AA44)*1000","v":5.6629092860976922},{"$f":"('2011'!G44/'2011 Rate'!$AA44)*1000","v":0.11070853462157809},{"$f":"('2011'!H44/'2011 Rate'!$AA44)*1000","v":31.649221685453568},{"$f":"('2011'!I44/'2011 Rate'!$AA44)*1000","v":24.825550187869027},{"$f":"('2011'!J44/'2011 Rate'!$AA44)*1000","v":1.6505636070853462},{"$f":"('2011'!K44/'2011 Rate'!$AA44)*1000","v":18.46819645732689},{"$f":"('2011'!L44/'2011 Rate'!$AA44)*1000","v":16.817632850241548},{"$f":"('2011'!M44/'2011 Rate'!$AA44)*1000","v":0.9158615136876006},{"$f":"('2011'!N44/'2011 Rate'!$AA44)*1000","v":6.5754159957058507},{"$f":"('2011'!O44/'2011 Rate'!$AA44)*1000","v":5.6595544820182502},{"$f":"('2011'!P44/'2011 Rate'!$AA44)*1000","v":4.2572463768115938},{"$f":"('2011'!Q44/'2011 Rate'!$AA44)*1000","v":6.6056092324208269},{"$f":"('2011'!R44/'2011 Rate'!$AA44)*1000","v":2.3483628556092326},null,{"$f":"('2011'!T44/'2011 Rate'!$AA44)*1000","v":0.96282877079978535},null,null,null,null,null,"Forth Valley",{"$f":"AA10+AA17+AA34","v":298080}]
[42,"Grampian",null,{"$f":"('2011'!D45/'2011 Rate'!$AA45)*1000","v":7.5494223814038417},{"$f":"('2011'!E45/'2011 Rate'!$AA45)*1000","v":1.2008848625302855},{"$f":"('2011'!F45/'2011 Rate'!$AA45)*1000","v":6.5311281997261137},{"$f":"('2011'!G45/'2011 Rate'!$AA45)*1000","v":-0.18259068085255803},{"$f":"('2011'!H45/'2011 Rate'!$AA45)*1000","v":32.996242845605529},{"$f":"('2011'!I45/'2011 Rate'!$AA45)*1000","v":25.446820464201693},{"$f":"('2011'!J45/'2011 Rate'!$AA45)*1000","v":-0.34762456546929316},{"$f":"('2011'!K45/'2011 Rate'!$AA45)*1000","v":11.926331682994487},{"$f":"('2011'!L45/'2011 Rate'!$AA45)*1000","v":12.273956248463779},{"$f":"('2011'!M45/'2011 Rate'!$AA45)*1000","v":-0.45647670213139507},{"$f":"('2011'!N45/'2011 Rate'!$AA45)*1000","v":8.5536711260929117},{"$f":"('2011'!O45/'2011 Rate'!$AA45)*1000","v":9.0101478282243068},{"$f":"('2011'!P45/'2011 Rate'!$AA45)*1000","v":8.3535236490045293},{"$f":"('2011'!Q45/'2011 Rate'!$AA45)*1000","v":12.516240036518136},{"$f":"('2011'!R45/'2011 Rate'!$AA45)*1000","v":4.1627163875136066},null,{"$f":"('2011'!T45/'2011 Rate'!$AA45)*1000","v":2.3245198216229506},null,null,null,null,null,"Grampian",{"$f":"AA5+AA6+AA23","v":569580}]
[43,"Greater Glasgow and Clyde",null,{"$f":"('2011'!D46/'2011 Rate'!$AA46)*1000","v":5.0863131935881629},{"$f":"('2011'!E46/'2011 Rate'!$AA46)*1000","v":0.16381891844283952},{"$f":"('2011'!F46/'2011 Rate'!$AA46)*1000","v":5.0915976748282548},{"$f":"('2011'!G46/'2011 Rate'!$AA46)*1000","v":-0.16910339968293114},{"$f":"('2011'!H46/'2011 Rate'!$AA46)*1000","v":33.280782103223537},{"$f":"('2011'!I46/'2011 Rate'!$AA46)*1000","v":28.194468909635372},{"$f":"('2011'!J46/'2011 Rate'!$AA46)*1000","v":-0.92654571076272674},{"$f":"('2011'!K46/'2011 Rate'!$AA46)*1000","v":15.98731724502378},{"$f":"('2011'!L46/'2011 Rate'!$AA46)*1000","v":16.913862955786506},{"$f":"('2011'!M46/'2011 Rate'!$AA46)*1000","v":-0.48969526158182136},{"$f":"('2011'!N46/'2011 Rate'!$AA46)*1000","v":7.0169103399682937},{"$f":"('2011'!O46/'2011 Rate'!$AA46)*1000","v":7.506605601550115},{"$f":"('2011'!P46/'2011 Rate'!$AA46)*1000","v":6.5025541659327111},{"$f":"('2011'!Q46/'2011 Rate'!$AA46)*1000","v":10.27655451823146},{"$f":"('2011'!R46/'2011 Rate'!$AA46)*1000","v":3.7740003522987493},null,{"$f":"('2011'!T46/'2011 Rate'!$AA46)*1000","v":2.0997005460630613},null,null,null,null,null,"Greater Glasgow",{"$f":"AA16+AA21+AA29+AA35+AA14+AA19","v":1135400}]
[44,"Highland",null,{"$f":"('2011'!D47/'2011 Rate'!$AA47)*1000","v":3.7368650127463781},{"$f":"('2011'!E47/'2011 Rate'!$AA47)*1000","v":0.94820618043897287},{"$f":"('2011'!F47/'2011 Rate'!$AA47)*1000","v":2.6363240688926197},{"$f":"('2011'!G47/'2011 Rate'!$AA47)*1000","v":0.1523347634147858},{"$f":"('2011'!H47/'2011 Rate'!$AA47)*1000","v":34.026611950506748},{"$f":"('2011'!I47/'2011 Rate'!$AA47)*1000","v":30.28974693776037},{"$f":"('2011'!J47/'2011 Rate'!$AA47)*1000","v":-0.90157308959771187},{"$f":"('2011'!K47/'2011 Rate'!$AA47)*1000","v":17.757880992352174},{"$f":"('2011'!L47/'2011 Rate'!$AA47)*1000","v":18.659454081949882},{"$f":"('2011'!M47/'2011 Rate'!$AA47)*1000","v":3.1492880681464901},{"$f":"('2011'!N47/'2011 Rate'!$AA47)*1000","v":11.969159982590313},{"$f":"('2011'!O47/'2011 Rate'!$AA47)*1000","v":8.8198719144438229},{"$f":"('2011'!P47/'2011 Rate'!$AA47)*1000","v":1.4891500341975998},{"$f":"('2011'!Q47/'2011 Rate'!$AA47)*1000","v":4.2995709755642606},{"$f":"('2011'!R47/'2011 Rate'!$AA47)*1000","v":2.8104209413666603},null,{"$f":"('2011'!T47/'2011 Rate'!$AA47)*1000","v":1.0818877075172544},null,null,null,null,null,"Highland",{"$f":"AA20+AA8","v":321660}]
[45,"Lanarkshire",null,{"$f":"('2011'!D48/'2011 Rate'!$AA48)*1000","v":0.6384088886160646},{"$f":"('2011'!E48/'2011 Rate'!$AA48)*1000","v":0.18262177342623001},{"$f":"('2011'!F48/'2011 Rate'!$AA48)*1000","v":0.29311561953285659},{"$f":"('2011'!G48/'2011 Rate'!$AA48)*1000","v":0.162671495656978},{"$f":"('2011'!H48/'2011 Rate'!$AA48)*1000","v":16.0338847794727},{"$f":"('2011'!I48/'2011 Rate'!$AA48)*1000","v":15.395475890856634},{"$f":"('2011'!J48/'2011 Rate'!$AA48)*1000","v":0.2056413246984439},{"$f":"('2011'!K48/'2011 Rate'!$AA48)*1000","v":10.934286854301588},{"$f":"('2011'!L48/'2011 Rate'!$AA48)*1000","v":10.728645529603142},{"$f":"('2011'!M48/'2011 Rate'!$AA48)*1000","v":0.22712623921917682},{"$f":"('2011'!N48/'2011 Rate'!$AA48)*1000","v":3.4682790583468894},{"$f":"('2011'!O48/'2011 Rate'!$AA48)*1000","v":3.2411528191277124},{"$f":"('2011'!P48/'2011 Rate'!$AA48)*1000","v":0.2056413246984439},{"$f":"('2011'!Q48/'2011 Rate'!$AA48)*1000","v":1.6313188668242227},{"$f":"('2011'!R48/'2011 Rate'!$AA48)*1000","v":1.425677542125779},null,{"$f":"('2011'!T48/'2011 Rate'!$AA48)*1000","v":0.69058653816641602},null,null,null,null,null,"Lanarkshire",{"$f":"AA26+AA33","v":651620}]
[46,"Lothian",null,{"$f":"('2011'!D49/'2011 Rate'!$AA49)*1000","v":11.032619739185522},{"$f":"('2011'!E49/'2011 Rate'!$AA49)*1000","v":0.78889805285616954},{"$f":"('2011'!F49/'2011 Rate'!$AA49)*1000","v":10.093113876238629},{"$f":"('2011'!G49/'2011 Rate'!$AA49)*1000","v":0.15060781009072327},{"$f":"('2011'!H49/'2011 Rate'!$AA49)*1000","v":40.414291007757491},{"$f":"('2011'!I49/'2011 Rate'!$AA49)*1000","v":29.381671268571974},{"$f":"('2011'!J49/'2011 Rate'!$AA49)*1000","v":-0.15180311017080836},{"$f":"('2011'!K49/'2011 Rate'!$AA49)*1000","v":13.502109704641351},{"$f":"('2011'!L49/'2011 Rate'!$AA49)*1000","v":13.653912814812159},{"$f":"('2011'!M49/'2011 Rate'!$AA49)*1000","v":0.59286883972221227},{"$f":"('2011'!N49/'2011 Rate'!$AA49)*1000","v":11.735456186275565},{"$f":"('2011'!O49/'2011 Rate'!$AA49)*1000","v":11.142587346553352},{"$f":"('2011'!P49/'2011 Rate'!$AA49)*1000","v":10.59155400963412},{"$f":"('2011'!Q49/'2011 Rate'!$AA49)*1000","v":15.176725116840583},{"$f":"('2011'!R49/'2011 Rate'!$AA49)*1000","v":4.585171107206464},null,{"$f":"('2011'!T49/'2011 Rate'!$AA49)*1000","v":2.4133108616918277},null,null,null,null,null,"Lothian",{"$f":"AA15+AA9+AA22+AA36","v":836610}]
[47,"Orkney",null,{"$f":"('2011'!D50/'2011 Rate'!$AA50)*1000","v":4.6218487394957988},{"$f":"('2011'!E50/'2011 Rate'!$AA50)*1000","v":0.23342670401493931},{"$f":"('2011'!F50/'2011 Rate'!$AA50)*1000","v":3.9682539682539679},{"$f":"('2011'!G50/'2011 Rate'!$AA50)*1000","v":0.42016806722689076},{"$f":"('2011'!H50/'2011 Rate'!$AA50)*1000","v":31.092436974789916},{"$f":"('2011'!I50/'2011 Rate'!$AA50)*1000","v":26.470588235294116},{"$f":"('2011'!J50/'2011 Rate'!$AA50)*1000","v":0.37348272642390284},{"$f":"('2011'!K50/'2011 Rate'!$AA50)*1000","v":16.106442577030812},{"$f":"('2011'!L50/'2011 Rate'!$AA50)*1000","v":15.732959850606909},{"$f":"('2011'!M50/'2011 Rate'!$AA50)*1000","v":3.1746031746031744},{"$f":"('2011'!N50/'2011 Rate'!$AA50)*1000","v":11.904761904761903},{"$f":"('2011'!O50/'2011 Rate'!$AA50)*1000","v":8.7301587301587311},{"$f":"('2011'!P50/'2011 Rate'!$AA50)*1000","v":1.073762838468721},{"$f":"('2011'!Q50/'2011 Rate'!$AA50)*1000","v":3.0812324929971986},{"$f":"('2011'!R50/'2011 Rate'!$AA50)*1000","v":2.007469654528478},null,{"$f":"('2011'!T50/'2011 Rate'!$AA50)*1000","v":0.37348272642390284},null,null,null,null,null,"Orkney",{"$f":"AA27","v":21420}]
[48,"Shetland",null,{"$f":"('2011'!D51/'2011 Rate'!$AA51)*1000","v":2.5387263339070567},{"$f":"('2011'!E51/'2011 Rate'!$AA51)*1000","v":-0.64543889845094671},{"$f":"('2011'!F51/'2011 Rate'!$AA51)*1000","v":2.753872633390706},{"$f":"('2011'!G51/'2011 Rate'!$AA51)*1000","v":0.43029259896729777},{"$f":"('2011'!H51/'2011 Rate'!$AA51)*1000","v":30.464716006884682},{"$f":"('2011'!I51/'2011 Rate'!$AA51)*1000","v":27.925989672977622},{"$f":"('2011'!J51/'2011 Rate'!$AA51)*1000","v":0.43029259896729777},{"$f":"('2011'!K51/'2011 Rate'!$AA51)*1000","v":16.437177280550774},{"$f":"('2011'!L51/'2011 Rate'!$AA51)*1000","v":16.006884681583475},{"$f":"('2011'!M51/'2011 Rate'!$AA51)*1000","v":0.60240963855421692},{"$f":"('2011'!N51/'2011 Rate'!$AA51)*1000","v":9.6815834767641995},{"$f":"('2011'!O51/'2011 Rate'!$AA51)*1000","v":9.079173838209984},{"$f":"('2011'!P51/'2011 Rate'!$AA51)*1000","v":1.5060240963855422},{"$f":"('2011'!Q51/'2011 Rate'!$AA51)*1000","v":4.3459552495697071},{"$f":"('2011'!R51/'2011 Rate'!$AA51)*1000","v":2.8399311531841653},null,{"$f":"('2011'!T51/'2011 Rate'!$AA51)*1000","v":1.2908777969018934},null,null,null,null,null,"Shetland",{"$f":"AA31","v":23240}]
[49,"Tayside",null,{"$f":"('2011'!D52/'2011 Rate'!$AA52)*1000","v":8.2218159658744678},{"$f":"('2011'!E52/'2011 Rate'!$AA52)*1000","v":0.95551492992078002},{"$f":"('2011'!F52/'2011 Rate'!$AA52)*1000","v":6.8909201706276653},{"$f":"('2011'!G52/'2011 Rate'!$AA52)*1000","v":0.37538086532602072},{"$f":"('2011'!H52/'2011 Rate'!$AA52)*1000","v":35.068860450944548},{"$f":"('2011'!I52/'2011 Rate'!$AA52)*1000","v":26.847044485070079},{"$f":"('2011'!J52/'2011 Rate'!$AA52)*1000","v":0.74101157830591102},{"$f":"('2011'!K52/'2011 Rate'!$AA52)*1000","v":16.380255941499087},{"$f":"('2011'!L52/'2011 Rate'!$AA52)*1000","v":15.639244363193173},{"$f":"('2011'!M52/'2011 Rate'!$AA52)*1000","v":0.3436928702010969},{"$f":"('2011'!N52/'2011 Rate'!$AA52)*1000","v":7.9853747714808048},{"$f":"('2011'!O52/'2011 Rate'!$AA52)*1000","v":7.641681901279707},{"$f":"('2011'!P52/'2011 Rate'!$AA52)*1000","v":7.1371115173674582},{"$f":"('2011'!Q52/'2011 Rate'!$AA52)*1000","v":10.703229737964657},{"$f":"('2011'!R52/'2011 Rate'!$AA52)*1000","v":3.5661182205971969},null,{"$f":"('2011'!T52/'2011 Rate'!$AA52)*1000","v":1.599024984765387},null,null,null,null,null,"Tayside",{"$f":"AA28+AA7+AA12","v":410250}]
[50,"Western Isles",null,{"$f":"('2011'!D53/'2011 Rate'!$AA53)*1000","v":0.83062477428674608},{"$f":"('2011'!E53/'2011 Rate'!$AA53)*1000","v":0.32502708559046589},{"$f":"('2011'!F53/'2011 Rate'!$AA53)*1000","v":0.4333694474539545},{"$f":"('2011'!G53/'2011 Rate'!$AA53)*1000","v":7.2228241242325741E-2},{"$f":"('2011'!H53/'2011 Rate'!$AA53)*1000","v":32.791621524015895},{"$f":"('2011'!I53/'2011 Rate'!$AA53)*1000","v":31.960996749729144},{"$f":"('2011'!J53/'2011 Rate'!$AA53)*1000","v":-1.1917659804983747},{"$f":"('2011'!K53/'2011 Rate'!$AA53)*1000","v":20.801733477789817},{"$f":"('2011'!L53/'2011 Rate'!$AA53)*1000","v":21.993499458288191},{"$f":"('2011'!M53/'2011 Rate'!$AA53)*1000","v":1.9140483929216323},{"$f":"('2011'!N53/'2011 Rate'!$AA53)*1000","v":9.8230408089563017},{"$f":"('2011'!O53/'2011 Rate'!$AA53)*1000","v":7.9089924160346703},{"$f":"('2011'!P53/'2011 Rate'!$AA53)*1000","v":0.10834236186348863},{"$f":"('2011'!Q53/'2011 Rate'!$AA53)*1000","v":2.1668472372697725},{"$f":"('2011'!R53/'2011 Rate'!$AA53)*1000","v":2.058504875406284},null,{"$f":"('2011'!T53/'2011 Rate'!$AA53)*1000","v":0.46948356807511737},null,null,null,null,null,"Western Isles",{"$f":"AA24","v":27690}]

{"sheet":"2012","index":35,"n_rows":53,"n_cols":25,"rows_kept":53,"cut":false,"hidden":true,"merged":[]}
[null,2012]
[null,null,"Not specified ",{"$f":"'Comparing Indicators'!$U8","v":"Total net migration"},{"$f":"'Comparing Indicators'!$U9","v":"Total net migration for ages 0-15"},{"$f":"'Comparing Indicators'!$U10","v":"Total net migration for ages 16-64"},{"$f":"'Comparing Indicators'!$U11","v":"Total net migration for people aged 65+"},{"$f":"'Comparing Indicators'!$U12","v":"Total in-migration"},{"$f":"'Comparing Indicators'!$U13","v":"Total out-migration"},{"$f":"'Comparing Indicators'!$U14","v":"Within Scotland net migration"},{"$f":"'Comparing Indicators'!$U15","v":"Within Scotland in-migration"},{"$f":"'Comparing Indicators'!$U16","v":"Within Scotland out-migration"},{"$f":"'Comparing Indicators'!$U17","v":"Rest of UK net migration"},{"$f":"'Comparing Indicators'!$U18","v":"Rest of UK in-migration"},{"$f":"'Comparing Indicators'!$U19","v":"Rest of UK out-migration"},{"$f":"'Comparing Indicators'!$U20","v":"Overseas net migration"},{"$f":"'Comparing Indicators'!$U21","v":"Overseas in-migration"},{"$f":"'Comparing Indicators'!$U22","v":"Overseas out-migration"},{"$f":"'Comparing Indicators'!$U23","v":"NINo Allocation"},{"$f":"'Comparing Indicators'!$U24","v":"Births to non-UK mothers"},{"$f":"'Comparing Indicators'!$U25","v":"Pupils from a minority ethnic group"},{"$f":"'Comparing Indicators'!$U26","v":"Pupils with English as an additional language"},{"$f":"'Comparing Indicators'!$U27","v":"Population born outside the UK"},{"$f":"'Comparing Indicators'!$U28","v":"Population with non-British nationality"},{"$f":"'Comparing Indicators'!$U29","v":"Citizenships"}]
[1,"Not specified"]
[2,"SCOTLAND",null,{"$f":"'Total net migration'!J4","v":12738},{"$f":"'Total net migration 0-15'!J4","v":1637},{"$f":"'Total net migration 16-64'!J4","v":11462},{"$f":"'Total net migration 65+'!J4","v":-361},{"$f":"'Total in-migration'!J4","v":81016},{"$f":"'Total out-migration'!J4","v":68278},"N/A","N/A","N/A",{"$f":"'Rest of UK net migration'!J4","v":3038},{"$f":"'Rest of UK in-migration'!J4","v":45116},{"$f":"'Rest of UK out-migration'!J4","v":42078},{"$f":"'Overseas net migration'!J4","v":9700},{"$f":"'Overseas in-migration'!J4","v":35900},{"$f":"'Overseas out-migration'!J4","v":26200},{"$f":"NINo!J5","v":34850},{"$f":"'Non-UK Births'!J5","v":8439},{"$f":"'Pupils ethnic group'!K5","v":36811},{"$f":"'Pupils with English as an add.'!H4","v":26131},{"$f":"'Pop born outside UK'!J5","v":374000},{"$f":"'Non-British Population'!J5","v":281000},{"$f":"Citizenships!J5","v":4745}]
[3,"Aberdeen City",null,{"$f":"'Total net migration'!J5","v":1847},{"$f":"'Total net migration 0-15'!J5","v":40},{"$f":"'Total net migration 16-64'!J5","v":1987},{"$f":"'Total net migration 65+'!J5","v":-180},{"$f":"'Total in-migration'!J5","v":13652},{"$f":"'Total out-migration'!J5","v":11805},{"$f":"'Within Scotland net migration'!J5","v":-356},{"$f":"'Within Scotland in-migration'!J5","v":6712},{"$f":"'Within Scotland out-migration'!J5","v":7068},{"$f":"'Rest of UK net migration'!J5","v":101},{"$f":"'Rest of UK in-migration'!J5","v":2526},{"$f":"'Rest of UK out-migration'!J5","v":2425},{"$f":"'Overseas net migration'!J5","v":2102},{"$f":"'Overseas in-migration'!J5","v":4414},{"$f":"'Overseas out-migration'!J5","v":2312},{"$f":"NINo!J6","v":4110},{"$f":"'Non-UK Births'!J6","v":911},{"$f":"'Pupils ethnic group'!K6","v":2233},{"$f":"'Pupils with English as an add.'!H5","v":1602},{"$f":"'Pop born outside UK'!J6","v":32000},{"$f":"'Non-British Population'!J6","v":31000},{"$f":"Citizenships!J6","v":609}]
[4,"Aberdeenshire",null,{"$f":"'Total net migration'!J6","v":1386},{"$f":"'Total net migration 0-15'!J6","v":557},{"$f":"'Total net migration 16-64'!J6","v":924},{"$f":"'Total net migration 65+'!J6","v":-95},{"$f":"'Total in-migration'!J6","v":9062},{"$f":"'Total out-migration'!J6","v":7676},{"$f":"'Within Scotland net migration'!J6","v":1075},{"$f":"'Within Scotland in-migration'!J6","v":6195},{"$f":"'Within Scotland out-migration'!J6","v":5120},{"$f":"'Rest of UK net migration'!J6","v":102},{"$f":"'Rest of UK in-migration'!J6","v":1805},{"$f":"'Rest of UK out-migration'!J6","v":1703},{"$f":"'Overseas net migration'!J6","v":209},{"$f":"'Overseas in-migration'!J6","v":1062},{"$f":"'Overseas out-migration'!J6","v":853},{"$f":"NINo!J7","v":1290},{"$f":"'Non-UK Births'!J7","v":383},{"$f":"'Pupils ethnic group'!K7","v":749},{"$f":"'Pupils with English as an add.'!H6","v":1054},{"$f":"'Pop born outside UK'!J7","v":15000},{"$f":"'Non-British Population'!J7","v":11000},{"$f":"Citizenships!J7","v":180}]
[5,"Angus",null,{"$f":"'Total net migration'!J7","v":258},{"$f":"'Total net migration 0-15'!J7","v":33},{"$f":"'Total net migration 16-64'!J7","v":137},{"$f":"'Total net migration 65+'!J7","v":88},{"$f":"'Total in-migration'!J7","v":3930},{"$f":"'Total out-migration'!J7","v":3672},{"$f":"'Within Scotland net migration'!J7","v":198},{"$f":"'Within Scotland in-migration'!J7","v":2813},{"$f":"'Within Scotland out-migration'!J7","v":2615},{"$f":"'Rest of UK net migration'!J7","v":49},{"$f":"'Rest of UK in-migration'!J7","v":748},{"$f":"'Rest of UK out-migration'!J7","v":699},{"$f":"'Overseas net migration'!J7","v":11},{"$f":"'Overseas in-migration'!J7","v":369},{"$f":"'Overseas out-migration'!J7","v":358},{"$f":"NINo!J8","v":1090},{"$f":"'Non-UK Births'!J8","v":134},{"$f":"'Pupils ethnic group'!K8","v":306},{"$f":"'Pupils with English as an add.'!H7","v":348},{"$f":"'Pop born outside UK'!J8","v":4000},{"$f":"'Non-British Population'!J8","v":2000},{"$f":"Citizenships!J8","v":33}]
[6,"Argyll and Bute",null,{"$f":"'Total net migration'!J8","v":-233},{"$f":"'Total net migration 0-15'!J8","v":-37},{"$f":"'Total net migration 16-64'!J8","v":-128},{"$f":"'Total net migration 65+'!J8","v":-68},{"$f":"'Total in-migration'!J8","v":3821},{"$f":"'Total out-migration'!J8","v":4054},{"$f":"'Within Scotland net migration'!J8","v":-333},{"$f":"'Within Scotland in-migration'!J8","v":2208},{"$f":"'Within Scotland out-migration'!J8","v":2541},{"$f":"'Rest of UK net migration'!J8","v":271},{"$f":"'Rest of UK in-migration'!J8","v":1309},{"$f":"'Rest of UK out-migration'!J8","v":1038},{"$f":"'Overseas net migration'!J8","v":-171},{"$f":"'Overseas in-migration'!J8","v":304},{"$f":"'Overseas out-migration'!J8","v":475},{"$f":"NINo!J9","v":340},{"$f":"'Non-UK Births'!J9","v":78},{"$f":"'Pupils ethnic group'!K9","v":208},{"$f":"'Pupils with English as an add.'!H8","v":135},{"$f":"'Pop born outside UK'!J9","v":4000},{"$f":"'Non-British Population'!J9","v":2000},{"$f":"Citizenships!J9","v":46}]
[7,"City of Edinburgh",null,{"$f":"'Total net migration'!J9","v":3966},{"$f":"'Total net migration 0-15'!J9","v":-63},{"$f":"'Total net migration 16-64'!J9","v":4018},{"$f":"'Total net migration 65+'!J9","v":11},{"$f":"'Total in-migration'!J9","v":28837},{"$f":"'Total out-migration'!J9","v":24871},{"$f":"'Within Scotland net migration'!J9","v":-251},{"$f":"'Within Scotland in-migration'!J9","v":11513},{"$f":"'Within Scotland out-migration'!J9","v":11764},{"$f":"'Rest of UK net migration'!J9","v":159},{"$f":"'Rest of UK in-migration'!J9","v":8018},{"$f":"'Rest of UK out-migration'!J9","v":7859},{"$f":"'Overseas net migration'!J9","v":4058},{"$f":"'Overseas in-migration'!J9","v":9306},{"$f":"'Overseas out-migration'!J9","v":5248},{"$f":"NINo!J10","v":9710},{"$f":"'Non-UK Births'!J10","v":1652},{"$f":"'Pupils ethnic group'!K10","v":5642},{"$f":"'Pupils with English as an add.'!H9","v":3951},{"$f":"'Pop born outside UK'!J10","v":69000},{"$f":"'Non-British Population'!J10","v":56000},{"$f":"Citizenships!J10","v":886}]
[8,"Clackmannanshire",null,{"$f":"'Total net migration'!J10","v":-256},{"$f":"'Total net migration 0-15'!J10","v":-102},{"$f":"'Total net migration 16-64'!J10","v":-198},{"$f":"'Total net migration 65+'!J10","v":44},{"$f":"'Total in-migration'!J10","v":1482},{"$f":"'Total out-migration'!J10","v":1738},{"$f":"'Within Scotland net migration'!J10","v":-248},{"$f":"'Within Scotland in-migration'!J10","v":1030},{"$f":"'Within Scotland out-migration'!J10","v":1278},{"$f":"'Rest of UK net migration'!J10","v":41},{"$f":"'Rest of UK in-migration'!J10","v":336},{"$f":"'Rest of UK out-migration'!J10","v":295},{"$f":"'Overseas net migration'!J10","v":-49},{"$f":"'Overseas in-migration'!J10","v":116},{"$f":"'Overseas out-migration'!J10","v":165},{"$f":"NINo!J11","v":100},{"$f":"'Non-UK Births'!J11","v":50},{"$f":"'Pupils ethnic group'!K11","v":201},{"$f":"'Pupils with English as an add.'!H10","v":120},{"$f":"'Pop born outside UK'!J11","v":2000},{"$f":"'Non-British Population'!J11","v":2000},{"$f":"Citizenships!J11","v":23}]
[9,"Dumfries and Galloway",null,{"$f":"'Total net migration'!J11","v":-128},{"$f":"'Total net migration 0-15'!J11","v":-17},{"$f":"'Total net migration 16-64'!J11","v":-75},{"$f":"'Total net migration 65+'!J11","v":-36},{"$f":"'Total in-migration'!J11","v":3835},{"$f":"'Total out-migration'!J11","v":3963},{"$f":"'Within Scotland net migration'!J11","v":-170},{"$f":"'Within Scotland in-migration'!J11","v":1719},{"$f":"'Within Scotland out-migration'!J11","v":1889},{"$f":"'Rest of UK net migration'!J11","v":322},{"$f":"'Rest of UK in-migration'!J11","v":1872},{"$f":"'Rest of UK out-migration'!J11","v":1550},{"$f":"'Overseas net migration'!J11","v":-280},{"$f":"'Overseas in-migration'!J11","v":244},{"$f":"'Overseas out-migration'!J11","v":524},{"$f":"NINo!J12","v":250},{"$f":"'Non-UK Births'!J12","v":90},{"$f":"'Pupils ethnic group'!K12","v":409},{"$f":"'Pupils with English as an add.'!H11","v":298},{"$f":"'Pop born outside UK'!J12","v":6000},{"$f":"'Non-British Population'!J12","v":4000},{"$f":"Citizenships!J12","v":65}]
[10,"Dundee City",null,{"$f":"'Total net migration'!J12","v":492},{"$f":"'Total net migration 0-15'!J12","v":-131},{"$f":"'Total net migration 16-64'!J12","v":730},{"$f":"'Total net migration 65+'!J12","v":-107},{"$f":"'Total in-migration'!J12","v":6953},{"$f":"'Total out-migration'!J12","v":6461},{"$f":"'Within Scotland net migration'!J12","v":-128},{"$f":"'Within Scotland in-migration'!J12","v":3898},{"$f":"'Within Scotland out-migration'!J12","v":4026},{"$f":"'Rest of UK net migration'!J12","v":55},{"$f":"'Rest of UK in-migration'!J12","v":1472},{"$f":"'Rest of UK out-migration'!J12","v":1417},{"$f":"'Overseas net migration'!J12","v":565},{"$f":"'Overseas in-migration'!J12","v":1583},{"$f":"'Overseas out-migration'!J12","v":1018},{"$f":"NINo!J13","v":1090},{"$f":"'Non-UK Births'!J13","v":265},{"$f":"'Pupils ethnic group'!K13","v":1351},{"$f":"'Pupils with English as an add.'!H12","v":928},{"$f":"'Pop born outside UK'!J13","v":14000},{"$f":"'Non-British Population'!J13","v":12000},{"$f":"Citizenships!J13","v":152}]
[11,"East Ayrshire",null,{"$f":"'Total net migration'!J13","v":-76},{"$f":"'Total net migration 0-15'!J13","v":33},{"$f":"'Total net migration 16-64'!J13","v":-93},{"$f":"'Total net migration 65+'!J13","v":-16},{"$f":"'Total in-migration'!J13","v":3079},{"$f":"'Total out-migration'!J13","v":3155},{"$f":"'Within Scotland net migration'!J13","v":-67},{"$f":"'Within Scotland in-migration'!J13","v":2266},{"$f":"'Within Scotland out-migration'!J13","v":2333},{"$f":"'Rest of UK net migration'!J13","v":124},{"$f":"'Rest of UK in-migration'!J13","v":700},{"$f":"'Rest of UK out-migration'!J13","v":576},{"$f":"'Overseas net migration'!J13","v":-133},{"$f":"'Overseas in-migration'!J13","v":113},{"$f":"'Overseas out-migration'!J13","v":246},{"$f":"NINo!J14","v":100},{"$f":"'Non-UK Births'!J14","v":52},{"$f":"'Pupils ethnic group'!K14","v":303},{"$f":"'Pupils with English as an add.'!H13","v":121},{"$f":"'Pop born outside UK'!J14","v":2000},{"$f":"'Non-British Population'!J14","v":1000},{"$f":"Citizenships!J14","v":27}]
[12,"East Dunbartonshire",null,{"$f":"'Total net migration'!J14","v":260},{"$f":"'Total net migration 0-15'!J14","v":407},{"$f":"'Total net migration 16-64'!J14","v":-157},{"$f":"'Total net migration 65+'!J14","v":10},{"$f":"'Total in-migration'!J14","v":3432},{"$f":"'Total out-migration'!J14","v":3172},{"$f":"'Within Scotland net migration'!J14","v":370},{"$f":"'Within Scotland in-migration'!J14","v":2859},{"$f":"'Within Scotland out-migration'!J14","v":2489},{"$f":"'Rest of UK net migration'!J14","v":-19},{"$f":"'Rest of UK in-migration'!J14","v":462},{"$f":"'Rest of UK out-migration'!J14","v":481},{"$f":"'Overseas net migration'!J14","v":-91},{"$f":"'Overseas in-migration'!J14","v":111},{"$f":"'Overseas out-migration'!J14","v":202},{"$f":"NINo!J15","v":90},{"$f":"'Non-UK Births'!J15","v":79},{"$f":"'Pupils ethnic group'!K15","v":1075},{"$f":"'Pupils with English as an add.'!H14","v":385},{"$f":"'Pop born outside UK'!J15","v":5000},{"$f":"'Non-British Population'!J15","v":3000},{"$f":"Citizenships!J15","v":61}]
[13,"East Lothian",null,{"$f":"'Total net migration'!J15","v":787},{"$f":"'Total net migration 0-15'!J15","v":213},{"$f":"'Total net migration 16-64'!J15","v":511},{"$f":"'Total net migration 65+'!J15","v":63},{"$f":"'Total in-migration'!J15","v":4019},{"$f":"'Total out-migration'!J15","v":3232},{"$f":"'Within Scotland net migration'!J15","v":474},{"$f":"'Within Scotland in-migration'!J15","v":2746},{"$f":"'Within Scotland out-migration'!J15","v":2272},{"$f":"'Rest of UK net migration'!J15","v":197},{"$f":"'Rest of UK in-migration'!J15","v":866},{"$f":"'Rest of UK out-migration'!J15","v":669},{"$f":"'Overseas net migration'!J15","v":116},{"$f":"'Overseas in-migration'!J15","v":407},{"$f":"'Overseas out-migration'!J15","v":291},{"$f":"NINo!J16","v":280},{"$f":"'Non-UK Births'!J16","v":134},{"$f":"'Pupils ethnic group'!K16","v":331},{"$f":"'Pupils with English as an add.'!H15","v":184},{"$f":"'Pop born outside UK'!J16","v":6000},{"$f":"'Non-British Population'!J16","v":3000},{"$f":"Citizenships!J16","v":43}]
[14,"East Renfrewshire",null,{"$f":"'Total net migration'!J16","v":189},{"$f":"'Total net migration 0-15'!J16","v":315},{"$f":"'Total net migration 16-64'!J16","v":-100},{"$f":"'Total net migration 65+'!J16","v":-26},{"$f":"'Total in-migration'!J16","v":3292},{"$f":"'Total out-migration'!J16","v":3103},{"$f":"'Within Scotland net migration'!J16","v":468},{"$f":"'Within Scotland in-migration'!J16","v":2827},{"$f":"'Within Scotland out-migration'!J16","v":2359},{"$f":"'Rest of UK net migration'!J16","v":-121},{"$f":"'Rest of UK in-migration'!J16","v":389},{"$f":"'Rest of UK out-migration'!J16","v":510},{"$f":"'Overseas net migration'!J16","v":-158},{"$f":"'Overseas in-migration'!J16","v":76},{"$f":"'Overseas out-migration'!J16","v":234},{"$f":"NINo!J17","v":80},{"$f":"'Non-UK Births'!J17","v":81},{"$f":"'Pupils ethnic group'!K17","v":2277},{"$f":"'Pupils with English as an add.'!H16","v":868},{"$f":"'Pop born outside UK'!J17","v":4000},{"$f":"'Non-British Population'!J17","v":3000},{"$f":"Citizenships!J17","v":67}]
[15,"Falkirk",null,{"$f":"'Total net migration'!J17","v":356},{"$f":"'Total net migration 0-15'!J17","v":-31},{"$f":"'Total net migration 16-64'!J17","v":346},{"$f":"'Total net migration 65+'!J17","v":41},{"$f":"'Total in-migration'!J17","v":3842},{"$f":"'Total out-migration'!J17","v":3486},{"$f":"'Within Scotland net migration'!J17","v":365},{"$f":"'Within Scotland in-migration'!J17","v":2855},{"$f":"'Within Scotland out-migration'!J17","v":2490},{"$f":"'Rest of UK net migration'!J17","v":20},{"$f":"'Rest of UK in-migration'!J17","v":675},{"$f":"'Rest of UK out-migration'!J17","v":655},{"$f":"'Overseas net migration'!J17","v":-29},{"$f":"'Overseas in-migration'!J17","v":312},{"$f":"'Overseas out-migration'!J17","v":341},{"$f":"NINo!J18","v":380},{"$f":"'Non-UK Births'!J18","v":160},{"$f":"'Pupils ethnic group'!K18","v":641},{"$f":"'Pupils with English as an add.'!H17","v":477},{"$f":"'Pop born outside UK'!J18","v":7000},{"$f":"'Non-British Population'!J18","v":5000},{"$f":"Citizenships!J18","v":71}]
[16,"Fife",null,{"$f":"'Total net migration'!J18","v":623},{"$f":"'Total net migration 0-15'!J18","v":62},{"$f":"'Total net migration 16-64'!J18","v":474},{"$f":"'Total net migration 65+'!J18","v":87},{"$f":"'Total in-migration'!J18","v":10741},{"$f":"'Total out-migration'!J18","v":10118},{"$f":"'Within Scotland net migration'!J18","v":198},{"$f":"'Within Scotland in-migration'!J18","v":5926},{"$f":"'Within Scotland out-migration'!J18","v":5728},{"$f":"'Rest of UK net migration'!J18","v":66},{"$f":"'Rest of UK in-migration'!J18","v":2853},{"$f":"'Rest of UK out-migration'!J18","v":2787},{"$f":"'Overseas net migration'!J18","v":359},{"$f":"'Overseas in-migration'!J18","v":1962},{"$f":"'Overseas out-migration'!J18","v":1603},{"$f":"NINo!J19","v":1890},{"$f":"'Non-UK Births'!J19","v":402},{"$f":"'Pupils ethnic group'!K19","v":1365},{"$f":"'Pupils with English as an add.'!H18","v":802},{"$f":"'Pop born outside UK'!J19","v":20000},{"$f":"'Non-British Population'!J19","v":12000},{"$f":"Citizenships!J19","v":175}]
[17,"Glasgow City",null,{"$f":"'Total net migration'!J19","v":1146},{"$f":"'Total net migration 0-15'!J19","v":-1069},{"$f":"'Total net migration 16-64'!J19","v":2536},{"$f":"'Total net migration 65+'!J19","v":-321},{"$f":"'Total in-migration'!J19","v":28362},{"$f":"'Total out-migration'!J19","v":27216},{"$f":"'Within Scotland net migration'!J19","v":-2103},{"$f":"'Within Scotland in-migration'!J19","v":14155},{"$f":"'Within Scotland out-migration'!J19","v":16258},{"$f":"'Rest of UK net migration'!J19","v":-291},{"$f":"'Rest of UK in-migration'!J19","v":5657},{"$f":"'Rest of UK out-migration'!J19","v":5948},{"$f":"'Overseas net migration'!J19","v":3540},{"$f":"'Overseas in-migration'!J19","v":8550},{"$f":"'Overseas out-migration'!J19","v":5010},{"$f":"NINo!J20","v":6600},{"$f":"'Non-UK Births'!J20","v":1873},{"$f":"'Pupils ethnic group'!K20","v":11073},{"$f":"'Pupils with English as an add.'!H19","v":9702},{"$f":"'Pop born outside UK'!J20","v":86000},{"$f":"'Non-British Population'!J20","v":68000},{"$f":"Citizenships!J20","v":1253}]
[18,"Highland",null,{"$f":"'Total net migration'!J20","v":118},{"$f":"'Total net migration 0-15'!J20","v":-28},{"$f":"'Total net migration 16-64'!J20","v":187},{"$f":"'Total net migration 65+'!J20","v":-41},{"$f":"'Total in-migration'!J20","v":7151},{"$f":"'Total out-migration'!J20","v":7033},{"$f":"'Within Scotland net migration'!J20","v":-87},{"$f":"'Within Scotland in-migration'!J20","v":3993},{"$f":"'Within Scotland out-migration'!J20","v":4080},{"$f":"'Rest of UK net migration'!J20","v":380},{"$f":"'Rest of UK in-migration'!J20","v":2397},{"$f":"'Rest of UK out-migration'!J20","v":2017},{"$f":"'Overseas net migration'!J20","v":-175},{"$f":"'Overseas in-migration'!J20","v":761},{"$f":"'Overseas out-migration'!J20","v":936},{"$f":"NINo!J21","v":1200},{"$f":"'Non-UK Births'!J21","v":327},{"$f":"'Pupils ethnic group'!K21","v":658},{"$f":"'Pupils with English as an add.'!H20","v":632},{"$f":"'Pop born outside UK'!J21","v":12000},{"$f":"'Non-British Population'!J21","v":8000},{"$f":"Citizenships!J21","v":124}]
[19,"Inverclyde",null,{"$f":"'Total net migration'!J21","v":-305},{"$f":"'Total net migration 0-15'!J21","v":-24},{"$f":"'Total net migration 16-64'!J21","v":-305},{"$f":"'Total net migration 65+'!J21","v":24},{"$f":"'Total in-migration'!J21","v":1325},{"$f":"'Total out-migration'!J21","v":1630},{"$f":"'Within Scotland net migration'!J21","v":-196},{"$f":"'Within Scotland in-migration'!J21","v":890},{"$f":"'Within Scotland out-migration'!J21","v":1086},{"$f":"'Rest of UK net migration'!J21","v":-10},{"$f":"'Rest of UK in-migration'!J21","v":358},{"$f":"'Rest of UK out-migration'!J21","v":368},{"$f":"'Overseas net migration'!J21","v":-99},{"$f":"'Overseas in-migration'!J21","v":77},{"$f":"'Overseas out-migration'!J21","v":176},{"$f":"NINo!J22","v":100},{"$f":"'Non-UK Births'!J22","v":27},{"$f":"'Pupils ethnic group'!K22","v":176},{"$f":"'Pupils with English as an add.'!H21","v":53},{"$f":"'Pop born outside UK'!J22","v":3000},{"$f":"'Non-British Population'!J22","v":2000},{"$f":"Citizenships!J22","v":28}]
[20,"Midlothian",null,{"$f":"'Total net migration'!J22","v":559},{"$f":"'Total net migration 0-15'!J22","v":192},{"$f":"'Total net migration 16-64'!J22","v":343},{"$f":"'Total net migration 65+'!J22","v":24},{"$f":"'Total in-migration'!J22","v":2852},{"$f":"'Total out-migration'!J22","v":2293},{"$f":"'Within Scotland net migration'!J22","v":509},{"$f":"'Within Scotland in-migration'!J22","v":2278},{"$f":"'Within Scotland out-migration'!J22","v":1769},{"$f":"'Rest of UK net migration'!J22","v":26},{"$f":"'Rest of UK in-migration'!J22","v":400},{"$f":"'Rest of UK out-migration'!J22","v":374},{"$f":"'Overseas net migration'!J22","v":24},{"$f":"'Overseas in-migration'!J22","v":174},{"$f":"'Overseas out-migration'!J22","v":150},{"$f":"NINo!J23","v":150},{"$f":"'Non-UK Births'!J23","v":100},{"$f":"'Pupils ethnic group'!K23","v":333},{"$f":"'Pupils with English as an add.'!H22","v":184},{"$f":"'Pop born outside UK'!J23","v":3000},{"$f":"'Non-British Population'!J23","v":2000},{"$f":"Citizenships!J23","v":44}]
[21,"Moray",null,{"$f":"'Total net migration'!J23","v":327},{"$f":"'Total net migration 0-15'!J23","v":180},{"$f":"'Total net migration 16-64'!J23","v":103},{"$f":"'Total net migration 65+'!J23","v":44},{"$f":"'Total in-migration'!J23","v":3412},{"$f":"'Total out-migration'!J23","v":3085},{"$f":"'Within Scotland net migration'!J23","v":-116},{"$f":"'Within Scotland in-migration'!J23","v":1627},{"$f":"'Within Scotland out-migration'!J23","v":1743},{"$f":"'Rest of UK net migration'!J23","v":542},{"$f":"'Rest of UK in-migration'!J23","v":1470},{"$f":"'Rest of UK out-migration'!J23","v":928},{"$f":"'Overseas net migration'!J23","v":-99},{"$f":"'Overseas in-migration'!J23","v":315},{"$f":"'Overseas out-migration'!J23","v":414},{"$f":"NINo!J24","v":220},{"$f":"'Non-UK Births'!J24","v":78},{"$f":"'Pupils ethnic group'!K24","v":251},{"$f":"'Pupils with English as an add.'!H23","v":266},{"$f":"'Pop born outside UK'!J24","v":5000},{"$f":"'Non-British Population'!J24","v":4000},{"$f":"Citizenships!J24","v":42}]
[22,"Na h-Eileanan Siar",null,{"$f":"'Total net migration'!J24","v":13},{"$f":"'Total net migration 0-15'!J24","v":26},{"$f":"'Total net migration 16-64'!J24","v":-26},{"$f":"'Total net migration 65+'!J24","v":13},{"$f":"'Total in-migration'!J24","v":866},{"$f":"'Total out-migration'!J24","v":853},{"$f":"'Within Scotland net migration'!J24","v":-30},{"$f":"'Within Scotland in-migration'!J24","v":553},{"$f":"'Within Scotland out-migration'!J24","v":583},{"$f":"'Rest of UK net migration'!J24","v":80},{"$f":"'Rest of UK in-migration'!J24","v":269},{"$f":"'Rest of UK out-migration'!J24","v":189},{"$f":"'Overseas net migration'!J24","v":-37},{"$f":"'Overseas in-migration'!J24","v":44},{"$f":"'Overseas out-migration'!J24","v":81},{"$f":"NINo!J25","v":50},{"$f":"'Non-UK Births'!J25","v":13},{"$f":"'Pupils ethnic group'!K25","v":59},{"$f":"'Pupils with English as an add.'!H24","v":39},{"$f":"'Pop born outside UK'!J25","v":1000},{"$f":"'Non-British Population'!J25","v":"0~"},{"$f":"Citizenships!J25","v":8}]
[23,"North Ayrshire",null,{"$f":"'Total net migration'!J25","v":-401},{"$f":"'Total net migration 0-15'!J25","v":63},{"$f":"'Total net migration 16-64'!J25","v":-476},{"$f":"'Total net migration 65+'!J25","v":12},{"$f":"'Total in-migration'!J25","v":3497},{"$f":"'Total out-migration'!J25","v":3898},{"$f":"'Within Scotland net migration'!J25","v":-184},{"$f":"'Within Scotland in-migration'!J25","v":2566},{"$f":"'Within Scotland out-migration'!J25","v":2750},{"$f":"'Rest of UK net migration'!J25","v":10},{"$f":"'Rest of UK in-migration'!J25","v":782},{"$f":"'Rest of UK out-migration'!J25","v":772},{"$f":"'Overseas net migration'!J25","v":-227},{"$f":"'Overseas in-migration'!J25","v":149},{"$f":"'Overseas out-migration'!J25","v":376},{"$f":"NINo!J26","v":110},{"$f":"'Non-UK Births'!J26","v":64},{"$f":"'Pupils ethnic group'!K26","v":279},{"$f":"'Pupils with English as an add.'!H25","v":101},{"$f":"'Pop born outside UK'!J26","v":3000},{"$f":"'Non-British Population'!J26","v":2000},{"$f":"Citizenships!J26","v":41}]
[24,"North Lanarkshire",null,{"$f":"'Total net migration'!J26","v":-271},{"$f":"'Total net migration 0-15'!J26","v":79},{"$f":"'Total net migration 16-64'!J26","v":-279},{"$f":"'Total net migration 65+'!J26","v":-71},{"$f":"'Total in-migration'!J26","v":6706},{"$f":"'Total out-migration'!J26","v":6977},{"$f":"'Within Scotland net migration'!J26","v":-106},{"$f":"'Within Scotland in-migration'!J26","v":5024},{"$f":"'Within Scotland out-migration'!J26","v":5130},{"$f":"'Rest of UK net migration'!J26","v":39},{"$f":"'Rest of UK in-migration'!J26","v":1154},{"$f":"'Rest of UK out-migration'!J26","v":1115},{"$f":"'Overseas net migration'!J26","v":-204},{"$f":"'Overseas in-migration'!J26","v":528},{"$f":"'Overseas out-migration'!J26","v":732},{"$f":"NINo!J27","v":560},{"$f":"'Non-UK Births'!J27","v":240},{"$f":"'Pupils ethnic group'!K27","v":1622},{"$f":"'Pupils with English as an add.'!H26","v":896},{"$f":"'Pop born outside UK'!J27","v":8000},{"$f":"'Non-British Population'!J27","v":6000},{"$f":"Citizenships!J27","v":147}]
[25,"Orkney Islands",null,{"$f":"'Total net migration'!J27","v":106},{"$f":"'Total net migration 0-15'!J27","v":40},{"$f":"'Total net migration 16-64'!J27","v":70},{"$f":"'Total net migration 65+'!J27","v":-4},{"$f":"'Total in-migration'!J27","v":735},{"$f":"'Total out-migration'!J27","v":629},{"$f":"'Within Scotland net migration'!J27","v":44},{"$f":"'Within Scotland in-migration'!J27","v":414},{"$f":"'Within Scotland out-migration'!J27","v":370},{"$f":"'Rest of UK net migration'!J27","v":95},{"$f":"'Rest of UK in-migration'!J27","v":283},{"$f":"'Rest of UK out-migration'!J27","v":188},{"$f":"'Overseas net migration'!J27","v":-33},{"$f":"'Overseas in-migration'!J27","v":38},{"$f":"'Overseas out-migration'!J27","v":71},{"$f":"NINo!J28","v":40},{"$f":"'Non-UK Births'!J28","v":11},{"$f":"'Pupils ethnic group'!K28","v":39},{"$f":"'Pupils with English as an add.'!H27","v":16},{"$f":"'Pop born outside UK'!J28","v":"0~"},{"$f":"'Non-British Population'!J28","v":"*"},{"$f":"Citizenships!J28","v":5}]
[26,"Perth and Kinross",null,{"$f":"'Total net migration'!J28","v":980},{"$f":"'Total net migration 0-15'!J28","v":306},{"$f":"'Total net migration 16-64'!J28","v":644},{"$f":"'Total net migration 65+'!J28","v":30},{"$f":"'Total in-migration'!J28","v":6392},{"$f":"'Total out-migration'!J28","v":5412},{"$f":"'Within Scotland net migration'!J28","v":309},{"$f":"'Within Scotland in-migration'!J28","v":3683},{"$f":"'Within Scotland out-migration'!J28","v":3374},{"$f":"'Rest of UK net migration'!J28","v":219},{"$f":"'Rest of UK in-migration'!J28","v":1325},{"$f":"'Rest of UK out-migration'!J28","v":1106},{"$f":"'Overseas net migration'!J28","v":452},{"$f":"'Overseas in-migration'!J28","v":1384},{"$f":"'Overseas out-migration'!J28","v":932},{"$f":"NINo!J29","v":2160},{"$f":"'Non-UK Births'!J29","v":201},{"$f":"'Pupils ethnic group'!K29","v":523},{"$f":"'Pupils with English as an add.'!H28","v":519},{"$f":"'Pop born outside UK'!J29","v":10000},{"$f":"'Non-British Population'!J29","v":7000},{"$f":"Citizenships!J29","v":82}]
[27,"Renfrewshire",null,{"$f":"'Total net migration'!J29","v":-395},{"$f":"'Total net migration 0-15'!J29","v":-66},{"$f":"'Total net migration 16-64'!J29","v":-323},{"$f":"'Total net migration 65+'!J29","v":-6},{"$f":"'Total in-migration'!J29","v":4343},{"$f":"'Total out-migration'!J29","v":4738},{"$f":"'Within Scotland net migration'!J29","v":-269},{"$f":"'Within Scotland in-migration'!J29","v":3219},{"$f":"'Within Scotland out-migration'!J29","v":3488},{"$f":"'Rest of UK net migration'!J29","v":-42},{"$f":"'Rest of UK in-migration'!J29","v":696},{"$f":"'Rest of UK out-migration'!J29","v":738},{"$f":"'Overseas net migration'!J29","v":-84},{"$f":"'Overseas in-migration'!J29","v":428},{"$f":"'Overseas out-migration'!J29","v":512},{"$f":"NINo!J30","v":450},{"$f":"'Non-UK Births'!J30","v":183},{"$f":"'Pupils ethnic group'!K30","v":837},{"$f":"'Pupils with English as an add.'!H29","v":323},{"$f":"'Pop born outside UK'!J30","v":10000},{"$f":"'Non-British Population'!J30","v":8000},{"$f":"Citizenships!J30","v":101}]
[28,"Scottish Borders",null,{"$f":"'Total net migration'!J30","v":45},{"$f":"'Total net migration 0-15'!J30","v":58},{"$f":"'Total net migration 16-64'!J30","v":13},{"$f":"'Total net migration 65+'!J30","v":-26},{"$f":"'Total in-migration'!J30","v":3992},{"$f":"'Total out-migration'!J30","v":3947},{"$f":"'Within Scotland net migration'!J30","v":-79},{"$f":"'Within Scotland in-migration'!J30","v":2109},{"$f":"'Within Scotland out-migration'!J30","v":2188},{"$f":"'Rest of UK net migration'!J30","v":190},{"$f":"'Rest of UK in-migration'!J30","v":1500},{"$f":"'Rest of UK out-migration'!J30","v":1310},{"$f":"'Overseas net migration'!J30","v":-66},{"$f":"'Overseas in-migration'!J30","v":383},{"$f":"'Overseas out-migration'!J30","v":449},{"$f":"NINo!J31","v":330},{"$f":"'Non-UK Births'!J31","v":135},{"$f":"'Pupils ethnic group'!K31","v":321},{"$f":"'Pupils with English as an add.'!H30","v":347},{"$f":"'Pop born outside UK'!J31","v":5000},{"$f":"'Non-British Population'!J31","v":3000},{"$f":"Citizenships!J31","v":47}]
[29,"Shetland Islands",null,{"$f":"'Total net migration'!J31","v":-68},{"$f":"'Total net migration 0-15'!J31","v":-27},{"$f":"'Total net migration 16-64'!J31","v":-59},{"$f":"'Total net migration 65+'!J31","v":18},{"$f":"'Total in-migration'!J31","v":666},{"$f":"'Total out-migration'!J31","v":734},{"$f":"'Within Scotland net migration'!J31","v":-104},{"$f":"'Within Scotland in-migration'!J31","v":321},{"$f":"'Within Scotland out-migration'!J31","v":425},{"$f":"'Rest of UK net migration'!J31","v":34},{"$f":"'Rest of UK in-migration'!J31","v":254},{"$f":"'Rest of UK out-migration'!J31","v":220},{"$f":"'Overseas net migration'!J31","v":2},{"$f":"'Overseas in-migration'!J31","v":91},{"$f":"'Overseas out-migration'!J31","v":89},{"$f":"NINo!J32","v":100},{"$f":"'Non-UK Births'!J32","v":21},{"$f":"'Pupils ethnic group'!K32","v":88},{"$f":"'Pupils with English as an add.'!H31","v":33},{"$f":"'Pop born outside UK'!J32","v":"0~"},{"$f":"'Non-British Population'!J32","v":"0~"},{"$f":"Citizenships!J32","v":11}]
[30,"South Ayrshire",null,{"$f":"'Total net migration'!J32","v":357},{"$f":"'Total net migration 0-15'!J32","v":104},{"$f":"'Total net migration 16-64'!J32","v":155},{"$f":"'Total net migration 65+'!J32","v":98},{"$f":"'Total in-migration'!J32","v":3595},{"$f":"'Total out-migration'!J32","v":3238},{"$f":"'Within Scotland net migration'!J32","v":297},{"$f":"'Within Scotland in-migration'!J32","v":2515},{"$f":"'Within Scotland out-migration'!J32","v":2218},{"$f":"'Rest of UK net migration'!J32","v":160},{"$f":"'Rest of UK in-migration'!J32","v":839},{"$f":"'Rest of UK out-migration'!J32","v":679},{"$f":"'Overseas net migration'!J32","v":-100},{"$f":"'Overseas in-migration'!J32","v":241},{"$f":"'Overseas out-migration'!J32","v":341},{"$f":"NINo!J33","v":200},{"$f":"'Non-UK Births'!J33","v":67},{"$f":"'Pupils ethnic group'!K33","v":294},{"$f":"'Pupils with English as an add.'!H32","v":149},{"$f":"'Pop born outside UK'!J33","v":4000},{"$f":"'Non-British Population'!J33","v":2000},{"$f":"Citizenships!J33","v":32}]
[31,"South Lanarkshire",null,{"$f":"'Total net migration'!J33","v":408},{"$f":"'Total net migration 0-15'!J33","v":250},{"$f":"'Total net migration 16-64'!J33","v":49},{"$f":"'Total net migration 65+'!J33","v":109},{"$f":"'Total in-migration'!J33","v":8171},{"$f":"'Total out-migration'!J33","v":7763},{"$f":"'Within Scotland net migration'!J33","v":661},{"$f":"'Within Scotland in-migration'!J33","v":6301},{"$f":"'Within Scotland out-migration'!J33","v":5640},{"$f":"'Rest of UK net migration'!J33","v":68},{"$f":"'Rest of UK in-migration'!J33","v":1421},{"$f":"'Rest of UK out-migration'!J33","v":1353},{"$f":"'Overseas net migration'!J33","v":-321},{"$f":"'Overseas in-migration'!J33","v":449},{"$f":"'Overseas out-migration'!J33","v":770},{"$f":"NINo!J34","v":370},{"$f":"'Non-UK Births'!J34","v":197},{"$f":"'Pupils ethnic group'!K34","v":1449},{"$f":"'Pupils with English as an add.'!H33","v":510},{"$f":"'Pop born outside UK'!J34","v":12000},{"$f":"'Non-British Population'!J34","v":7000},{"$f":"Citizenships!J34","v":166}]
[32,"Stirling",null,{"$f":"'Total net migration'!J34","v":774},{"$f":"'Total net migration 0-15'!J34","v":276},{"$f":"'Total net migration 16-64'!J34","v":530},{"$f":"'Total net migration 65+'!J34","v":-32},{"$f":"'Total in-migration'!J34","v":5208},{"$f":"'Total out-migration'!J34","v":4434},{"$f":"'Within Scotland net migration'!J34","v":212},{"$f":"'Within Scotland in-migration'!J34","v":3151},{"$f":"'Within Scotland out-migration'!J34","v":2939},{"$f":"'Rest of UK net migration'!J34","v":147},{"$f":"'Rest of UK in-migration'!J34","v":1003},{"$f":"'Rest of UK out-migration'!J34","v":856},{"$f":"'Overseas net migration'!J34","v":415},{"$f":"'Overseas in-migration'!J34","v":1054},{"$f":"'Overseas out-migration'!J34","v":639},{"$f":"NINo!J35","v":490},{"$f":"'Non-UK Births'!J35","v":80},{"$f":"'Pupils ethnic group'!K35","v":423},{"$f":"'Pupils with English as an add.'!H34","v":209},{"$f":"'Pop born outside UK'!J35","v":7000},{"$f":"'Non-British Population'!J35","v":5000},{"$f":"Citizenships!J35","v":44}]
[33,"West Dunbartonshire",null,{"$f":"'Total net migration'!J35","v":-280},{"$f":"'Total net migration 0-15'!J35","v":-39},{"$f":"'Total net migration 16-64'!J35","v":-164},{"$f":"'Total net migration 65+'!J35","v":-77},{"$f":"'Total in-migration'!J35","v":2143},{"$f":"'Total out-migration'!J35","v":2423},{"$f":"'Within Scotland net migration'!J35","v":-252},{"$f":"'Within Scotland in-migration'!J35","v":1654},{"$f":"'Within Scotland out-migration'!J35","v":1906},{"$f":"'Rest of UK net migration'!J35","v":30},{"$f":"'Rest of UK in-migration'!J35","v":377},{"$f":"'Rest of UK out-migration'!J35","v":347},{"$f":"'Overseas net migration'!J35","v":-58},{"$f":"'Overseas in-migration'!J35","v":112},{"$f":"'Overseas out-migration'!J35","v":170},{"$f":"NINo!J36","v":100},{"$f":"'Non-UK Births'!J36","v":44},{"$f":"'Pupils ethnic group'!K36","v":292},{"$f":"'Pupils with English as an add.'!H35","v":155},{"$f":"'Pop born outside UK'!J36","v":3000},{"$f":"'Non-British Population'!J36","v":2000},{"$f":"Citizenships!J36","v":33}]
[34,"West Lothian",null,{"$f":"'Total net migration'!J36","v":154},{"$f":"'Total net migration 0-15'!J36","v":37},{"$f":"'Total net migration 16-64'!J36","v":88},{"$f":"'Total net migration 65+'!J36","v":29},{"$f":"'Total in-migration'!J36","v":4906},{"$f":"'Total out-migration'!J36","v":4752},{"$f":"'Within Scotland net migration'!J36","v":-101},{"$f":"'Within Scotland in-migration'!J36","v":3263},{"$f":"'Within Scotland out-migration'!J36","v":3364},{"$f":"'Rest of UK net migration'!J36","v":-6},{"$f":"'Rest of UK in-migration'!J36","v":900},{"$f":"'Rest of UK out-migration'!J36","v":906},{"$f":"'Overseas net migration'!J36","v":261},{"$f":"'Overseas in-migration'!J36","v":743},{"$f":"'Overseas out-migration'!J36","v":482},{"$f":"NINo!J37","v":830},{"$f":"'Non-UK Births'!J37","v":307},{"$f":"'Pupils ethnic group'!K37","v":1003},{"$f":"'Pupils with English as an add.'!H36","v":710},{"$f":"'Pop born outside UK'!J37","v":11000},{"$f":"'Non-British Population'!J37","v":9000},{"$f":"Citizenships!J37","v":99}]
[]
[35,"Not specified"]
[36,"SCOTLAND",null,{"$f":"'Total net migration'!J39","v":12738},{"$f":"'Total net migration 0-15'!J4","v":1637},{"$f":"'Total net migration 16-64'!J39","v":11462},{"$f":"'Total net migration 65+'!J39","v":-361},{"$f":"'Total in-migration'!J39","v":81016},{"$f":"'Total out-migration'!J39","v":68278},null,null,null,{"$f":"'Rest of UK net migration'!J39","v":3038},{"$f":"'Rest of UK in-migration'!J39","v":45116},{"$f":"'Rest of UK out-migration'!J39","v":42078},{"$f":"'Overseas net migration'!J39","v":9700},{"$f":"'Overseas in-migration'!J39","v":35900},{"$f":"'Overseas out-migration'!J39","v":26200},null,{"$f":"'Non-UK Births'!J40","v":8439}]
[37,"Ayrshire and Arran",null,{"$f":"'Total net migration'!J40","v":-120},{"$f":"'Total net migration 0-15'!J40","v":200},{"$f":"'Total net migration 16-64'!J40","v":-414},{"$f":"'Total net migration 65+'!J40","v":94},{"$f":"'Total in-migration'!J40","v":7686},{"$f":"'Total out-migration'!J40","v":7806},{"$f":"'Within Scotland net migration'!J40","v":46},{"$f":"'Within Scotland in-migration'!J40","v":4862},{"$f":"'Within Scotland out-migration'!J40","v":4816},{"$f":"'Rest of UK net migration'!J40","v":294},{"$f":"'Rest of UK in-migration'!J40","v":2321},{"$f":"'Rest of UK out-migration'!J40","v":2027},{"$f":"'Overseas net migration'!J40","v":-460},{"$f":"'Overseas in-migration'!J40","v":503},{"$f":"'Overseas out-migration'!J40","v":963},null,{"$f":"'Non-UK Births'!J41","v":183}]
[38,"Borders",null,{"$f":"'Total net migration'!J41","v":45},{"$f":"'Total net migration 0-15'!J41","v":58},{"$f":"'Total net migration 16-64'!J41","v":13},{"$f":"'Total net migration 65+'!J41","v":-26},{"$f":"'Total in-migration'!J41","v":3992},{"$f":"'Total out-migration'!J41","v":3947},{"$f":"'Within Scotland net migration'!J41","v":-79},{"$f":"'Within Scotland in-migration'!J41","v":2109},{"$f":"'Within Scotland out-migration'!J41","v":2188},{"$f":"'Rest of UK net migration'!J41","v":190},{"$f":"'Rest of UK in-migration'!J41","v":1500},{"$f":"'Rest of UK out-migration'!J41","v":1310},{"$f":"'Overseas net migration'!J41","v":-66},{"$f":"'Overseas in-migration'!J41","v":383},{"$f":"'Overseas out-migration'!J41","v":449},null,{"$f":"'Non-UK Births'!J42","v":135}]
[39,"Dumfries and Galloway",null,{"$f":"'Total net migration'!J42","v":-128},{"$f":"'Total net migration 0-15'!J42","v":-17},{"$f":"'Total net migration 16-64'!J42","v":-75},{"$f":"'Total net migration 65+'!J42","v":-36},{"$f":"'Total in-migration'!J42","v":3835},{"$f":"'Total out-migration'!J42","v":3963},{"$f":"'Within Scotland net migration'!J42","v":-170},{"$f":"'Within Scotland in-migration'!J42","v":1719},{"$f":"'Within Scotland out-migration'!J42","v":1889},{"$f":"'Rest of UK net migration'!J42","v":322},{"$f":"'Rest of UK in-migration'!J42","v":1872},{"$f":"'Rest of UK out-migration'!J42","v":1550},{"$f":"'Overseas net migration'!J42","v":-280},{"$f":"'Overseas in-migration'!J42","v":244},{"$f":"'Overseas out-migration'!J42","v":524},null,{"$f":"'Non-UK Births'!J43","v":90}]
[40,"Fife",null,{"$f":"'Total net migration'!J43","v":623},{"$f":"'Total net migration 0-15'!J43","v":62},{"$f":"'Total net migration 16-64'!J43","v":474},{"$f":"'Total net migration 65+'!J43","v":87},{"$f":"'Total in-migration'!J43","v":10741},{"$f":"'Total out-migration'!J43","v":10118},{"$f":"'Within Scotland net migration'!J43","v":198},{"$f":"'Within Scotland in-migration'!J43","v":5926},{"$f":"'Within Scotland out-migration'!J43","v":5728},{"$f":"'Rest of UK net migration'!J43","v":66},{"$f":"'Rest of UK in-migration'!J43","v":2853},{"$f":"'Rest of UK out-migration'!J43","v":2787},{"$f":"'Overseas net migration'!J43","v":359},{"$f":"'Overseas in-migration'!J43","v":1962},{"$f":"'Overseas out-migration'!J43","v":1603},null,{"$f":"'Non-UK Births'!J44","v":402}]
[41,"Forth Valley",null,{"$f":"'Total net migration'!J44","v":874},{"$f":"'Total net migration 0-15'!J44","v":143},{"$f":"'Total net migration 16-64'!J44","v":678},{"$f":"'Total net migration 65+'!J44","v":53},{"$f":"'Total in-migration'!J44","v":9110},{"$f":"'Total out-migration'!J44","v":8236},{"$f":"'Within Scotland net migration'!J44","v":329},{"$f":"'Within Scotland in-migration'!J44","v":5614},{"$f":"'Within Scotland out-migration'!J44","v":5285},{"$f":"'Rest of UK net migration'!J44","v":208},{"$f":"'Rest of UK in-migration'!J44","v":2014},{"$f":"'Rest of UK out-migration'!J44","v":1806},{"$f":"'Overseas net migration'!J44","v":337},{"$f":"'Overseas in-migration'!J44","v":1482},{"$f":"'Overseas out-migration'!J44","v":1145},null,{"$f":"'Non-UK Births'!J45","v":290}]
[42,"Grampian",null,{"$f":"'Total net migration'!J45","v":3560},{"$f":"'Total net migration 0-15'!J45","v":777},{"$f":"'Total net migration 16-64'!J45","v":3014},{"$f":"'Total net migration 65+'!J45","v":-231},{"$f":"'Total in-migration'!J45","v":19260},{"$f":"'Total out-migration'!J45","v":15700},{"$f":"'Within Scotland net migration'!J45","v":603},{"$f":"'Within Scotland in-migration'!J45","v":7668},{"$f":"'Within Scotland out-migration'!J45","v":7065},{"$f":"'Rest of UK net migration'!J45","v":745},{"$f":"'Rest of UK in-migration'!J45","v":5801},{"$f":"'Rest of UK out-migration'!J45","v":5056},{"$f":"'Overseas net migration'!J45","v":2212},{"$f":"'Overseas in-migration'!J45","v":5791},{"$f":"'Overseas out-migration'!J45","v":3579},null,{"$f":"'Non-UK Births'!J46","v":1372}]
[43,"Greater Glasgow and Clyde",null,{"$f":"'Total net migration'!J46","v":615},{"$f":"'Total net migration 0-15'!J46","v":-476},{"$f":"'Total net migration 16-64'!J46","v":1487},{"$f":"'Total net migration 65+'!J46","v":-396},{"$f":"'Total in-migration'!J46","v":32117},{"$f":"'Total out-migration'!J46","v":31502},{"$f":"'Within Scotland net migration'!J46","v":-1982},{"$f":"'Within Scotland in-migration'!J46","v":14824},{"$f":"'Within Scotland out-migration'!J46","v":16806},{"$f":"'Rest of UK net migration'!J46","v":-453},{"$f":"'Rest of UK in-migration'!J46","v":7939},{"$f":"'Rest of UK out-migration'!J46","v":8392},{"$f":"'Overseas net migration'!J46","v":3050},{"$f":"'Overseas in-migration'!J46","v":9354},{"$f":"'Overseas out-migration'!J46","v":6304},null,{"$f":"'Non-UK Births'!J47","v":2287}]
[44,"Highland",null,{"$f":"'Total net migration'!J47","v":-115},{"$f":"'Total net migration 0-15'!J47","v":-65},{"$f":"'Total net migration 16-64'!J47","v":59},{"$f":"'Total net migration 65+'!J47","v":-109},{"$f":"'Total in-migration'!J47","v":10646},{"$f":"'Total out-migration'!J47","v":10761},{"$f":"'Within Scotland net migration'!J47","v":-420},{"$f":"'Within Scotland in-migration'!J47","v":5875},{"$f":"'Within Scotland out-migration'!J47","v":6295},{"$f":"'Rest of UK net migration'!J47","v":651},{"$f":"'Rest of UK in-migration'!J47","v":3706},{"$f":"'Rest of UK out-migration'!J47","v":3055},{"$f":"'Overseas net migration'!J47","v":-346},{"$f":"'Overseas in-migration'!J47","v":1065},{"$f":"'Overseas out-migration'!J47","v":1411},null,{"$f":"'Non-UK Births'!J48","v":405}]
[45,"Lanarkshire",null,{"$f":"'Total net migration'!J48","v":137},{"$f":"'Total net migration 0-15'!J48","v":329},{"$f":"'Total net migration 16-64'!J48","v":-230},{"$f":"'Total net migration 65+'!J48","v":38},{"$f":"'Total in-migration'!J48","v":12718},{"$f":"'Total out-migration'!J48","v":12581},{"$f":"'Within Scotland net migration'!J48","v":555},{"$f":"'Within Scotland in-migration'!J48","v":9166},{"$f":"'Within Scotland out-migration'!J48","v":8611},{"$f":"'Rest of UK net migration'!J48","v":107},{"$f":"'Rest of UK in-migration'!J48","v":2575},{"$f":"'Rest of UK out-migration'!J48","v":2468},{"$f":"'Overseas net migration'!J48","v":-525},{"$f":"'Overseas in-migration'!J48","v":977},{"$f":"'Overseas out-migration'!J48","v":1502},null,{"$f":"'Non-UK Births'!J49","v":437}]
[46,"Lothian",null,{"$f":"'Total net migration'!J49","v":5466},{"$f":"'Total net migration 0-15'!J49","v":379},{"$f":"'Total net migration 16-64'!J49","v":4960},{"$f":"'Total net migration 65+'!J49","v":127},{"$f":"'Total in-migration'!J49","v":33359},{"$f":"'Total out-migration'!J49","v":27893},{"$f":"'Within Scotland net migration'!J49","v":631},{"$f":"'Within Scotland in-migration'!J49","v":12545},{"$f":"'Within Scotland out-migration'!J49","v":11914},{"$f":"'Rest of UK net migration'!J49","v":376},{"$f":"'Rest of UK in-migration'!J49","v":10184},{"$f":"'Rest of UK out-migration'!J49","v":9808},{"$f":"'Overseas net migration'!J49","v":4459},{"$f":"'Overseas in-migration'!J49","v":10630},{"$f":"'Overseas out-migration'!J49","v":6171},null,{"$f":"'Non-UK Births'!J50","v":2193}]
[47,"Orkney",null,{"$f":"'Total net migration'!J50","v":106},{"$f":"'Total net migration 0-15'!J50","v":40},{"$f":"'Total net migration 16-64'!J50","v":70},{"$f":"'Total net migration 65+'!J50","v":-4},{"$f":"'Total in-migration'!J50","v":735},{"$f":"'Total out-migration'!J50","v":629},{"$f":"'Within Scotland net migration'!J50","v":44},{"$f":"'Within Scotland in-migration'!J50","v":414},{"$f":"'Within Scotland out-migration'!J50","v":370},{"$f":"'Rest of UK net migration'!J50","v":95},{"$f":"'Rest of UK in-migration'!J50","v":283},{"$f":"'Rest of UK out-migration'!J50","v":188},{"$f":"'Overseas net migration'!J50","v":-33},{"$f":"'Overseas in-migration'!J50","v":38},{"$f":"'Overseas out-migration'!J50","v":71},null,{"$f":"'Non-UK Births'!J51","v":11}]
[48,"Shetland",null,{"$f":"'Total net migration'!J51","v":-68},{"$f":"'Total net migration 0-15'!J51","v":-27},{"$f":"'Total net migration 16-64'!J51","v":-59},{"$f":"'Total net migration 65+'!J51","v":18},{"$f":"'Total in-migration'!J51","v":666},{"$f":"'Total out-migration'!J51","v":734},{"$f":"'Within Scotland net migration'!J51","v":-104},{"$f":"'Within Scotland in-migration'!J51","v":321},{"$f":"'Within Scotland out-migration'!J51","v":425},{"$f":"'Rest of UK net migration'!J51","v":34},{"$f":"'Rest of UK in-migration'!J51","v":254},{"$f":"'Rest of UK out-migration'!J51","v":220},{"$f":"'Overseas net migration'!J51","v":2},{"$f":"'Overseas in-migration'!J51","v":91},{"$f":"'Overseas out-migration'!J51","v":89},null,{"$f":"'Non-UK Births'!J52","v":21}]
[49,"Tayside",null,{"$f":"'Total net migration'!J52","v":1730},{"$f":"'Total net migration 0-15'!J52","v":208},{"$f":"'Total net migration 16-64'!J52","v":1511},{"$f":"'Total net migration 65+'!J52","v":11},{"$f":"'Total in-migration'!J52","v":14011},{"$f":"'Total out-migration'!J52","v":12281},{"$f":"'Within Scotland net migration'!J52","v":379},{"$f":"'Within Scotland in-migration'!J52","v":7130},{"$f":"'Within Scotland out-migration'!J52","v":6751},{"$f":"'Rest of UK net migration'!J52","v":323},{"$f":"'Rest of UK in-migration'!J52","v":3545},{"$f":"'Rest of UK out-migration'!J52","v":3222},{"$f":"'Overseas net migration'!J52","v":1028},{"$f":"'Overseas in-migration'!J52","v":3336},{"$f":"'Overseas out-migration'!J52","v":2308},null,{"$f":"'Non-UK Births'!J53","v":600}]
[50,"Western Isles",null,{"$f":"'Total net migration'!J53","v":13},{"$f":"'Total net migration 0-15'!J53","v":26},{"$f":"'Total net migration 16-64'!J53","v":-26},{"$f":"'Total net migration 65+'!J53","v":13},{"$f":"'Total in-migration'!J53","v":866},{"$f":"'Total out-migration'!J53","v":853},{"$f":"'Within Scotland net migration'!J53","v":-30},{"$f":"'Within Scotland in-migration'!J53","v":553},{"$f":"'Within Scotland out-migration'!J53","v":583},{"$f":"'Rest of UK net migration'!J53","v":80},{"$f":"'Rest of UK in-migration'!J53","v":269},{"$f":"'Rest of UK out-migration'!J53","v":189},{"$f":"'Overseas net migration'!J53","v":-37},{"$f":"'Overseas in-migration'!J53","v":44},{"$f":"'Overseas out-migration'!J53","v":81},null,{"$f":"'Non-UK Births'!J54","v":13}]

{"sheet":"2012 Rate","index":36,"n_rows":53,"n_cols":27,"rows_kept":53,"cut":false,"hidden":true,"merged":[]}
[null,2012,"RATE"]
[null,null,"Not specified ",{"$f":"'Comparing Indicators'!$U8","v":"Total net migration"},{"$f":"'Comparing Indicators'!$U9","v":"Total net migration for ages 0-15"},{"$f":"'Comparing Indicators'!$U10","v":"Total net migration for ages 16-64"},{"$f":"'Comparing Indicators'!$U11","v":"Total net migration for people aged 65+"},{"$f":"'Comparing Indicators'!$U12","v":"Total in-migration"},{"$f":"'Comparing Indicators'!$U13","v":"Total out-migration"},{"$f":"'Comparing Indicators'!$U14","v":"Within Scotland net migration"},{"$f":"'Comparing Indicators'!$U15","v":"Within Scotland in-migration"},{"$f":"'Comparing Indicators'!$U16","v":"Within Scotland out-migration"},{"$f":"'Comparing Indicators'!$U17","v":"Rest of UK net migration"},{"$f":"'Comparing Indicators'!$U18","v":"Rest of UK in-migration"},{"$f":"'Comparing Indicators'!$U19","v":"Rest of UK out-migration"},{"$f":"'Comparing Indicators'!$U20","v":"Overseas net migration"},{"$f":"'Comparing Indicators'!$U21","v":"Overseas in-migration"},{"$f":"'Comparing Indicators'!$U22","v":"Overseas out-migration"},{"$f":"'Comparing Indicators'!$U23","v":"NINo Allocation"},{"$f":"'Comparing Indicators'!$U24","v":"Births to non-UK mothers"},{"$f":"'Comparing Indicators'!$U25","v":"Pupils from a minority ethnic group"},{"$f":"'Comparing Indicators'!$U26","v":"Pupils with English as an additional language"},{"$f":"'Comparing Indicators'!$U27","v":"Population born outside the UK"},{"$f":"'Comparing Indicators'!$U28","v":"Population with non-British nationality"},{"$f":"'Comparing Indicators'!$U29","v":"Citizenships"},null,"Mid-year population estimate"]
[1,"Not specified"]
[2,"SCOTLAND",null,{"$f":"('2012'!D4/'2012 Rate'!$AA4)*1000","v":2.3972448057813911},{"$f":"('2012'!E4/'2012 Rate'!$AA4)*1000","v":0.30807738632941883},{"$f":"('2012'!F4/'2012 Rate'!$AA4)*1000","v":2.157106293285155},{"$f":"('2012'!G4/'2012 Rate'!$AA4)*1000","v":-6.793887383318277E-2},{"$f":"('2012'!H4/'2012 Rate'!$AA4)*1000","v":15.246913580246915},{"$f":"('2012'!I4/'2012 Rate'!$AA4)*1000","v":12.849668774465522},"N/A","N/A","N/A",{"$f":"('2012'!M4/'2012 Rate'!$AA4)*1000","v":0.57174043962661847},{"$f":"('2012'!N4/'2012 Rate'!$AA4)*1000","v":8.4906654622101776},{"$f":"('2012'!O4/'2012 Rate'!$AA4)*1000","v":7.9189250225835588},{"$f":"('2012'!P4/'2012 Rate'!$AA4)*1000","v":1.8255043661547727},{"$f":"('2012'!Q4/'2012 Rate'!$AA4)*1000","v":6.7562481180367362},{"$f":"('2012'!R4/'2012 Rate'!$AA4)*1000","v":4.9307437518819635},{"$f":"('2012'!S4/'2012 Rate'!$AA4)*1000","v":6.5586419753086416},{"$f":"('2012'!T4/'2012 Rate'!$AA4)*1000","v":1.5881887985546523},{"$f":"('2012'!U4/'2012 Rate'!$AA4)*1000","v":6.9276949713941587},{"$f":"('2012'!V4/'2012 Rate'!$AA4)*1000","v":4.9177582053598314},null,null,{"$f":"IF('2012'!Y4=\"*\",\"\",('2012'!Y4/'2012 Rate'!$AA4)*1000)","v":0.89299156880457686},"Scotland",5313600]
[3,"Aberdeen City",null,{"$f":"('2012'!D5/'2012 Rate'!$AA5)*1000","v":8.2121737583922467},{"$f":"('2012'!E5/'2012 Rate'!$AA5)*1000","v":0.17784891734471567},{"$f":"('2012'!F5/'2012 Rate'!$AA5)*1000","v":8.8346449690987505},{"$f":"('2012'!G5/'2012 Rate'!$AA5)*1000","v":-0.80032012805122055},{"$f":"('2012'!H5/'2012 Rate'!$AA5)*1000","v":60.699835489751457},{"$f":"('2012'!I5/'2012 Rate'!$AA5)*1000","v":52.487661731359211},{"$f":"('2012'!J5/'2012 Rate'!$AA5)*1000","v":-1.5828553643679695},{"$f":"('2012'!K5/'2012 Rate'!$AA5)*1000","v":29.843048330443288},{"$f":"('2012'!L5/'2012 Rate'!$AA5)*1000","v":31.425903694811254},{"$f":"('2012'!M5/'2012 Rate'!$AA5)*1000","v":0.44906851629540706},{"$f":"('2012'!N5/'2012 Rate'!$AA5)*1000","v":11.231159130318796},{"$f":"('2012'!O5/'2012 Rate'!$AA5)*1000","v":10.782090614023387},{"$f":"('2012'!P5/'2012 Rate'!$AA5)*1000","v":9.3459606064648071},{"$f":"('2012'!Q5/'2012 Rate'!$AA5)*1000","v":19.625628028989372},{"$f":"('2012'!R5/'2012 Rate'!$AA5)*1000","v":10.279667422524565},{"$f":"('2012'!S5/'2012 Rate'!$AA5)*1000","v":18.273976257169533},{"$f":"('2012'!T5/'2012 Rate'!$AA5)*1000","v":4.0505090925258989},{"$f":"('2012'!U5/'2012 Rate'!$AA5)*1000","v":9.9284158107687528},{"$f":"('2012'!V5/'2012 Rate'!$AA5)*1000","v":7.1228491396558624},null,null,{"$f":"IF('2012'!Y5=\"*\",\"\",('2012'!Y5/'2012 Rate'!$AA5)*1000)","v":2.7077497665732957},"Aberdeen City",224910]
[4,"Aberdeenshire",null,{"$f":"('2012'!D6/'2012 Rate'!$AA6)*1000","v":5.4233839411488489},{"$f":"('2012'!E6/'2012 Rate'!$AA6)*1000","v":2.1795273125684766},{"$f":"('2012'!F6/'2012 Rate'!$AA6)*1000","v":3.6155892940992329},{"$f":"('2012'!G6/'2012 Rate'!$AA6)*1000","v":-0.37173266551886058},{"$f":"('2012'!H6/'2012 Rate'!$AA6)*1000","v":35.459383315072785},{"$f":"('2012'!I6/'2012 Rate'!$AA6)*1000","v":30.035999373923932},{"$f":"('2012'!J6/'2012 Rate'!$AA6)*1000","v":4.2064485835028957},{"$f":"('2012'!K6/'2012 Rate'!$AA6)*1000","v":24.240882767256224},{"$f":"('2012'!L6/'2012 Rate'!$AA6)*1000","v":20.034434183753326},{"$f":"('2012'!M6/'2012 Rate'!$AA6)*1000","v":0.3991234935044608},{"$f":"('2012'!N6/'2012 Rate'!$AA6)*1000","v":7.0629206448583499},{"$f":"('2012'!O6/'2012 Rate'!$AA6)*1000","v":6.6637971513538892},{"$f":"('2012'!P6/'2012 Rate'!$AA6)*1000","v":0.81781186414149321},{"$f":"('2012'!Q6/'2012 Rate'!$AA6)*1000","v":4.1555799029582099},{"$f":"('2012'!R6/'2012 Rate'!$AA6)*1000","v":3.3377680388167166},{"$f":"('2012'!S6/'2012 Rate'!$AA6)*1000","v":5.0477383002034744},{"$f":"('2012'!T6/'2012 Rate'!$AA6)*1000","v":1.4986695883549852},{"$f":"('2012'!U6/'2012 Rate'!$AA6)*1000","v":2.9308185944592267},{"$f":"('2012'!V6/'2012 Rate'!$AA6)*1000","v":4.124276099546095},null,null,{"$f":"IF('2012'!Y6=\"*\",\"\",('2012'!Y6/'2012 Rate'!$AA6)*1000)","v":0.70433557677257785},"Aberdeenshire",255560]
[5,"Angus",null,{"$f":"('2012'!D7/'2012 Rate'!$AA7)*1000","v":2.219927723283428},{"$f":"('2012'!E7/'2012 Rate'!$AA7)*1000","v":0.2839442436757873},{"$f":"('2012'!F7/'2012 Rate'!$AA7)*1000","v":1.1787988298055412},{"$f":"('2012'!G7/'2012 Rate'!$AA7)*1000","v":0.75718464980209943},{"$f":"('2012'!H7/'2012 Rate'!$AA7)*1000","v":33.815178110480126},{"$f":"('2012'!I7/'2012 Rate'!$AA7)*1000","v":31.595250387196696},{"$f":"('2012'!J7/'2012 Rate'!$AA7)*1000","v":1.7036654620547238},{"$f":"('2012'!K7/'2012 Rate'!$AA7)*1000","v":24.204095680605747},{"$f":"('2012'!L7/'2012 Rate'!$AA7)*1000","v":22.500430218551024},{"$f":"('2012'!M7/'2012 Rate'!$AA7)*1000","v":0.42161418000344175},{"$f":"('2012'!N7/'2012 Rate'!$AA7)*1000","v":6.4360695233178458},{"$f":"('2012'!O7/'2012 Rate'!$AA7)*1000","v":6.0144553433144043},{"$f":"('2012'!P7/'2012 Rate'!$AA7)*1000","v":9.4648081225262429E-2},{"$f":"('2012'!Q7/'2012 Rate'!$AA7)*1000","v":3.1750129065565309},{"$f":"('2012'!R7/'2012 Rate'!$AA7)*1000","v":3.0803648253312681},{"$f":"('2012'!S7/'2012 Rate'!$AA7)*1000","v":9.3787644123214591},{"$f":"('2012'!T7/'2012 Rate'!$AA7)*1000","v":1.152985716744106},{"$f":"('2012'!U7/'2012 Rate'!$AA7)*1000","v":2.632937532266391},{"$f":"('2012'!V7/'2012 Rate'!$AA7)*1000","v":2.9943211151264841},null,null,{"$f":"IF('2012'!Y7=\"*\",\"\",('2012'!Y7/'2012 Rate'!$AA7)*1000)","v":0.2839442436757873},"Angus",116220]
[6,"Argyll and Bute",null,{"$f":"('2012'!D8/'2012 Rate'!$AA8)*1000","v":-2.6809342998504198},{"$f":"('2012'!E8/'2012 Rate'!$AA8)*1000","v":-0.42572776435392934},{"$f":"('2012'!F8/'2012 Rate'!$AA8)*1000","v":-1.4727879415487286},{"$f":"('2012'!G8/'2012 Rate'!$AA8)*1000","v":-0.78241859394776203},{"$f":"('2012'!H8/'2012 Rate'!$AA8)*1000","v":43.965021286388222},{"$f":"('2012'!I8/'2012 Rate'!$AA8)*1000","v":46.645955586238635},{"$f":"('2012'!J8/'2012 Rate'!$AA8)*1000","v":-3.8315498791853644},{"$f":"('2012'!K8/'2012 Rate'!$AA8)*1000","v":25.405591991715568},{"$f":"('2012'!L8/'2012 Rate'!$AA8)*1000","v":29.237141870900931},{"$f":"('2012'!M8/'2012 Rate'!$AA8)*1000","v":3.1181682199976986},{"$f":"('2012'!N8/'2012 Rate'!$AA8)*1000","v":15.06155793349442},{"$f":"('2012'!O8/'2012 Rate'!$AA8)*1000","v":11.943389713496721},{"$f":"('2012'!P8/'2012 Rate'!$AA8)*1000","v":-1.9675526406627546},{"$f":"('2012'!Q8/'2012 Rate'!$AA8)*1000","v":3.4978713611782304},{"$f":"('2012'!R8/'2012 Rate'!$AA8)*1000","v":5.4654240018409848},{"$f":"('2012'!S8/'2012 Rate'!$AA8)*1000","v":3.91209296973881},{"$f":"('2012'!T8/'2012 Rate'!$AA8)*1000","v":0.89748015188125652},{"$f":"('2012'!U8/'2012 Rate'!$AA8)*1000","v":2.393280405016684},{"$f":"('2012'!V8/'2012 Rate'!$AA8)*1000","v":1.5533310321021747},null,null,{"$f":"IF('2012'!Y8=\"*\",\"\",('2012'!Y8/'2012 Rate'!$AA8)*1000)","v":0.52928316649407436},"Argyll & Bute",86910]
[7,"City of Edinburgh",null,{"$f":"('2012'!D9/'2012 Rate'!$AA9)*1000","v":8.217475084433211},{"$f":"('2012'!E9/'2012 Rate'!$AA9)*1000","v":-0.13053477819447612},{"$f":"('2012'!F9/'2012 Rate'!$AA9)*1000","v":8.3252180759588086},{"$f":"('2012'!G9/'2012 Rate'!$AA9)*1000","v":2.2791786668876778E-2},{"$f":"('2012'!H9/'2012 Rate'!$AA9)*1000","v":59.749704742763605},{"$f":"('2012'!I9/'2012 Rate'!$AA9)*1000","v":51.532229658330394},{"$f":"('2012'!J9/'2012 Rate'!$AA9)*1000","v":-0.52006713217164291},{"$f":"('2012'!K9/'2012 Rate'!$AA9)*1000","v":23.854712719888941},{"$f":"('2012'!L9/'2012 Rate'!$AA9)*1000","v":24.374779852060584},{"$f":"('2012'!M9/'2012 Rate'!$AA9)*1000","v":0.32944491639558254},{"$f":"('2012'!N9/'2012 Rate'!$AA9)*1000","v":16.61314050100491},{"$f":"('2012'!O9/'2012 Rate'!$AA9)*1000","v":16.283695584609326},{"$f":"('2012'!P9/'2012 Rate'!$AA9)*1000","v":8.4080973002092705},{"$f":"('2012'!Q9/'2012 Rate'!$AA9)*1000","v":19.281851521869754},{"$f":"('2012'!R9/'2012 Rate'!$AA9)*1000","v":10.873754221660484},{"$f":"('2012'!S9/'2012 Rate'!$AA9)*1000","v":20.118931686799414},{"$f":"('2012'!T9/'2012 Rate'!$AA9)*1000","v":3.42291196154404},{"$f":"('2012'!U9/'2012 Rate'!$AA9)*1000","v":11.690114580527526},{"$f":"('2012'!V9/'2012 Rate'!$AA9)*1000","v":8.186395375339286},null,null,{"$f":"IF('2012'!Y9=\"*\",\"\",('2012'!Y9/'2012 Rate'!$AA9)*1000)","v":1.8357748171477115},"City of Edinburgh",482630]
[8,"Clackmannanshire",null,{"$f":"('2012'!D10/'2012 Rate'!$AA10)*1000","v":-4.9921996879875197},{"$f":"('2012'!E10/'2012 Rate'!$AA10)*1000","v":-1.9890795631825275},{"$f":"('2012'!F10/'2012 Rate'!$AA10)*1000","v":-3.8611544461778471},{"$f":"('2012'!G10/'2012 Rate'!$AA10)*1000","v":0.85803432137285485},{"$f":"('2012'!H10/'2012 Rate'!$AA10)*1000","v":28.900156006240252},{"$f":"('2012'!I10/'2012 Rate'!$AA10)*1000","v":33.892355694227774},{"$f":"('2012'!J10/'2012 Rate'!$AA10)*1000","v":-4.8361934477379096},{"$f":"('2012'!K10/'2012 Rate'!$AA10)*1000","v":20.085803432137286},{"$f":"('2012'!L10/'2012 Rate'!$AA10)*1000","v":24.921996879875195},{"$f":"('2012'!M10/'2012 Rate'!$AA10)*1000","v":0.79953198127925118},{"$f":"('2012'!N10/'2012 Rate'!$AA10)*1000","v":6.5522620904836195},{"$f":"('2012'!O10/'2012 Rate'!$AA10)*1000","v":5.7527301092043679},{"$f":"('2012'!P10/'2012 Rate'!$AA10)*1000","v":-0.95553822152886114},{"$f":"('2012'!Q10/'2012 Rate'!$AA10)*1000","v":2.2620904836193447},{"$f":"('2012'!R10/'2012 Rate'!$AA10)*1000","v":3.217628705148206},{"$f":"('2012'!S10/'2012 Rate'!$AA10)*1000","v":1.9500780031201248},{"$f":"('2012'!T10/'2012 Rate'!$AA10)*1000","v":0.9750390015600624},{"$f":"('2012'!U10/'2012 Rate'!$AA10)*1000","v":3.9196567862714513},{"$f":"('2012'!V10/'2012 Rate'!$AA10)*1000","v":2.3400936037441498},null,null,{"$f":"IF('2012'!Y10=\"*\",\"\",('2012'!Y10/'2012 Rate'!$AA10)*1000)","v":0.44851794071762868},"Clackmannanshire",51280]
[9,"Dumfries and Galloway",null,{"$f":"('2012'!D11/'2012 Rate'!$AA11)*1000","v":-0.84858127817555029},{"$f":"('2012'!E11/'2012 Rate'!$AA11)*1000","v":-0.11270220100769027},{"$f":"('2012'!F11/'2012 Rate'!$AA11)*1000","v":-0.49721559268098647},{"$f":"('2012'!G11/'2012 Rate'!$AA11)*1000","v":-0.23866348448687352},{"$f":"('2012'!H11/'2012 Rate'!$AA11)*1000","v":25.424290639087776},{"$f":"('2012'!I11/'2012 Rate'!$AA11)*1000","v":26.272871917263323},{"$f":"('2012'!J11/'2012 Rate'!$AA11)*1000","v":-1.1270220100769028},{"$f":"('2012'!K11/'2012 Rate'!$AA11)*1000","v":11.39618138424821},{"$f":"('2012'!L11/'2012 Rate'!$AA11)*1000","v":12.523203394325112},{"$f":"('2012'!M11/'2012 Rate'!$AA11)*1000","v":2.1347122779103689},{"$f":"('2012'!N11/'2012 Rate'!$AA11)*1000","v":12.410501193317423},{"$f":"('2012'!O11/'2012 Rate'!$AA11)*1000","v":10.275788915407054},{"$f":"('2012'!P11/'2012 Rate'!$AA11)*1000","v":-1.8562715460090162},{"$f":"('2012'!Q11/'2012 Rate'!$AA11)*1000","v":1.6176080615221426},{"$f":"('2012'!R11/'2012 Rate'!$AA11)*1000","v":3.4738796075311589},{"$f":"('2012'!S11/'2012 Rate'!$AA11)*1000","v":1.6573853089366217},{"$f":"('2012'!T11/'2012 Rate'!$AA11)*1000","v":0.59665871121718383},{"$f":"('2012'!U11/'2012 Rate'!$AA11)*1000","v":2.7114823654203128},{"$f":"('2012'!V11/'2012 Rate'!$AA11)*1000","v":1.975603288252453},null,null,{"$f":"IF('2012'!Y11=\"*\",\"\",('2012'!Y11/'2012 Rate'!$AA11)*1000)","v":0.43092018032352164},"Dumfries & Galloway",150840]
[10,"Dundee City",null,{"$f":"('2012'!D12/'2012 Rate'!$AA12)*1000","v":3.3292732440113681},{"$f":"('2012'!E12/'2012 Rate'!$AA12)*1000","v":-0.88645283529570984},{"$f":"('2012'!F12/'2012 Rate'!$AA12)*1000","v":4.939775341724185},{"$f":"('2012'!G12/'2012 Rate'!$AA12)*1000","v":-0.72404926241710654},{"$f":"('2012'!H12/'2012 Rate'!$AA12)*1000","v":47.049668426038707},{"$f":"('2012'!I12/'2012 Rate'!$AA12)*1000","v":43.720395182027339},{"$f":"('2012'!J12/'2012 Rate'!$AA12)*1000","v":-0.8661523886858844},{"$f":"('2012'!K12/'2012 Rate'!$AA12)*1000","v":26.377046961699826},{"$f":"('2012'!L12/'2012 Rate'!$AA12)*1000","v":27.243199350385709},{"$f":"('2012'!M12/'2012 Rate'!$AA12)*1000","v":0.37217485451346599},{"$f":"('2012'!N12/'2012 Rate'!$AA12)*1000","v":9.9607524698876695},{"$f":"('2012'!O12/'2012 Rate'!$AA12)*1000","v":9.5885776153742057},{"$f":"('2012'!P12/'2012 Rate'!$AA12)*1000","v":3.8232507781837866},{"$f":"('2012'!Q12/'2012 Rate'!$AA12)*1000","v":10.711868994451212},{"$f":"('2012'!R12/'2012 Rate'!$AA12)*1000","v":6.8886182162674245},{"$f":"('2012'!S12/'2012 Rate'!$AA12)*1000","v":7.3758289349032351},{"$f":"('2012'!T12/'2012 Rate'!$AA12)*1000","v":1.793206117201245},{"$f":"('2012'!U12/'2012 Rate'!$AA12)*1000","v":9.1419677899580467},{"$f":"('2012'!V12/'2012 Rate'!$AA12)*1000","v":6.279604817972662},null,null,{"$f":"IF('2012'!Y12=\"*\",\"\",('2012'!Y12/'2012 Rate'!$AA12)*1000)","v":1.0285559615644877},"Dundee City",147780]
[11,"East Ayrshire",null,{"$f":"('2012'!D13/'2012 Rate'!$AA13)*1000","v":-0.61924549824818709},{"$f":"('2012'!E13/'2012 Rate'!$AA13)*1000","v":0.26888291371302858},{"$f":"('2012'!F13/'2012 Rate'!$AA13)*1000","v":-0.75776093864580785},{"$f":"('2012'!G13/'2012 Rate'!$AA13)*1000","v":-0.13036747331540779},{"$f":"('2012'!H13/'2012 Rate'!$AA13)*1000","v":25.087590646133787},{"$f":"('2012'!I13/'2012 Rate'!$AA13)*1000","v":25.706836144381974},{"$f":"('2012'!J13/'2012 Rate'!$AA13)*1000","v":-0.54591379450827027},{"$f":"('2012'!K13/'2012 Rate'!$AA13)*1000","v":18.463293408294629},{"$f":"('2012'!L13/'2012 Rate'!$AA13)*1000","v":19.009207202802898},{"$f":"('2012'!M13/'2012 Rate'!$AA13)*1000","v":1.0103479181944104},{"$f":"('2012'!N13/'2012 Rate'!$AA13)*1000","v":5.7035769575490916},{"$f":"('2012'!O13/'2012 Rate'!$AA13)*1000","v":4.6932290393546809},{"$f":"('2012'!P13/'2012 Rate'!$AA13)*1000","v":-1.0836796219343274},{"$f":"('2012'!Q13/'2012 Rate'!$AA13)*1000","v":0.92072028029006758},{"$f":"('2012'!R13/'2012 Rate'!$AA13)*1000","v":2.004399902224395},{"$f":"('2012'!S13/'2012 Rate'!$AA13)*1000","v":0.81479670822129879},{"$f":"('2012'!T13/'2012 Rate'!$AA13)*1000","v":0.42369428827507538},{"$f":"('2012'!U13/'2012 Rate'!$AA13)*1000","v":2.4688340259105357},{"$f":"('2012'!V13/'2012 Rate'!$AA13)*1000","v":0.98590401694777141},null,null,{"$f":"IF('2012'!Y13=\"*\",\"\",('2012'!Y13/'2012 Rate'!$AA13)*1000)","v":0.21999511121975068},"East Ayrshire",122730]
[12,"East Dunbartonshire",null,{"$f":"('2012'!D14/'2012 Rate'!$AA14)*1000","v":2.4556101246694371},{"$f":"('2012'!E14/'2012 Rate'!$AA14)*1000","v":3.8439743105402342},{"$f":"('2012'!F14/'2012 Rate'!$AA14)*1000","v":-1.4828107291273138},{"$f":"('2012'!G14/'2012 Rate'!$AA14)*1000","v":9.4446543256516802E-2},{"$f":"('2012'!H14/'2012 Rate'!$AA14)*1000","v":32.414053645636571},{"$f":"('2012'!I14/'2012 Rate'!$AA14)*1000","v":29.958443520967133},{"$f":"('2012'!J14/'2012 Rate'!$AA14)*1000","v":3.494522100491122},{"$f":"('2012'!K14/'2012 Rate'!$AA14)*1000","v":27.002266717038154},{"$f":"('2012'!L14/'2012 Rate'!$AA14)*1000","v":23.507744616547033},{"$f":"('2012'!M14/'2012 Rate'!$AA14)*1000","v":-0.17944843218738193},{"$f":"('2012'!N14/'2012 Rate'!$AA14)*1000","v":4.3634302984510773},{"$f":"('2012'!O14/'2012 Rate'!$AA14)*1000","v":4.542878730638459},{"$f":"('2012'!P14/'2012 Rate'!$AA14)*1000","v":-0.859463543634303},{"$f":"('2012'!Q14/'2012 Rate'!$AA14)*1000","v":1.0483566301473366},{"$f":"('2012'!R14/'2012 Rate'!$AA14)*1000","v":1.9078201737816396},{"$f":"('2012'!S14/'2012 Rate'!$AA14)*1000","v":0.85001888930865122},{"$f":"('2012'!T14/'2012 Rate'!$AA14)*1000","v":0.74612769172648286},{"$f":"('2012'!U14/'2012 Rate'!$AA14)*1000","v":10.153003400075557},{"$f":"('2012'!V14/'2012 Rate'!$AA14)*1000","v":3.636191915375897},null,null,{"$f":"IF('2012'!Y14=\"*\",\"\",('2012'!Y14/'2012 Rate'!$AA14)*1000)","v":0.57612391386475248},"East Dunbartonshire",105880]
[13,"East Lothian",null,{"$f":"('2012'!D15/'2012 Rate'!$AA15)*1000","v":7.8028951021217523},{"$f":"('2012'!E15/'2012 Rate'!$AA15)*1000","v":2.1118381915526476},{"$f":"('2012'!F15/'2012 Rate'!$AA15)*1000","v":5.0664287130676184},{"$f":"('2012'!G15/'2012 Rate'!$AA15)*1000","v":0.62462819750148713},{"$f":"('2012'!H15/'2012 Rate'!$AA15)*1000","v":39.847313107277408},{"$f":"('2012'!I15/'2012 Rate'!$AA15)*1000","v":32.044418005155656},{"$f":"('2012'!J15/'2012 Rate'!$AA15)*1000","v":4.699583581201666},{"$f":"('2012'!K15/'2012 Rate'!$AA15)*1000","v":27.225857624429903},{"$f":"('2012'!L15/'2012 Rate'!$AA15)*1000","v":22.526274043228234},{"$f":"('2012'!M15/'2012 Rate'!$AA15)*1000","v":1.9532024588538566},{"$f":"('2012'!N15/'2012 Rate'!$AA15)*1000","v":8.5861590323220298},{"$f":"('2012'!O15/'2012 Rate'!$AA15)*1000","v":6.6329565734681735},{"$f":"('2012'!P15/'2012 Rate'!$AA15)*1000","v":1.1501090620662304},{"$f":"('2012'!Q15/'2012 Rate'!$AA15)*1000","v":4.0352964505254807},{"$f":"('2012'!R15/'2012 Rate'!$AA15)*1000","v":2.8851873884592503},{"$f":"('2012'!S15/'2012 Rate'!$AA15)*1000","v":2.776125322228832},{"$f":"('2012'!T15/'2012 Rate'!$AA15)*1000","v":1.3285742613523694},{"$f":"('2012'!U15/'2012 Rate'!$AA15)*1000","v":3.2817767202062265},{"$f":"('2012'!V15/'2012 Rate'!$AA15)*1000","v":1.8243109260360897},null,null,{"$f":"IF('2012'!Y15=\"*\",\"\",('2012'!Y15/'2012 Rate'!$AA15)*1000)","v":0.4263335316279992},"East Lothian",100860]
[14,"East Renfrewshire",null,{"$f":"('2012'!D16/'2012 Rate'!$AA16)*1000","v":2.0760105448154658},{"$f":"('2012'!E16/'2012 Rate'!$AA16)*1000","v":3.4600175746924431},{"$f":"('2012'!F16/'2012 Rate'!$AA16)*1000","v":-1.0984182776801408},{"$f":"('2012'!G16/'2012 Rate'!$AA16)*1000","v":-0.28558875219683655},{"$f":"('2012'!H16/'2012 Rate'!$AA16)*1000","v":36.159929701230226},{"$f":"('2012'!I16/'2012 Rate'!$AA16)*1000","v":34.083919156414758},{"$f":"('2012'!J16/'2012 Rate'!$AA16)*1000","v":5.1405975395430579},{"$f":"('2012'!K16/'2012 Rate'!$AA16)*1000","v":31.052284710017574},{"$f":"('2012'!L16/'2012 Rate'!$AA16)*1000","v":25.911687170474515},{"$f":"('2012'!M16/'2012 Rate'!$AA16)*1000","v":-1.3290861159929701},{"$f":"('2012'!N16/'2012 Rate'!$AA16)*1000","v":4.2728471001757464},{"$f":"('2012'!O16/'2012 Rate'!$AA16)*1000","v":5.6019332161687174},{"$f":"('2012'!P16/'2012 Rate'!$AA16)*1000","v":-1.7355008787346222},{"$f":"('2012'!Q16/'2012 Rate'!$AA16)*1000","v":0.83479789103690683},{"$f":"('2012'!R16/'2012 Rate'!$AA16)*1000","v":2.5702987697715289},{"$f":"('2012'!S16/'2012 Rate'!$AA16)*1000","v":0.87873462214411246},{"$f":"('2012'!T16/'2012 Rate'!$AA16)*1000","v":0.88971880492091382},{"$f":"('2012'!U16/'2012 Rate'!$AA16)*1000","v":25.010984182776802},{"$f":"('2012'!V16/'2012 Rate'!$AA16)*1000","v":9.5342706502636201},null,null,{"$f":"IF('2012'!Y16=\"*\",\"\",('2012'!Y16/'2012 Rate'!$AA16)*1000)","v":0.73594024604569419},"East Renfrewshire",91040]
[15,"Falkirk",null,{"$f":"('2012'!D17/'2012 Rate'!$AA17)*1000","v":2.2704081632653059},{"$f":"('2012'!E17/'2012 Rate'!$AA17)*1000","v":-0.19770408163265307},{"$f":"('2012'!F17/'2012 Rate'!$AA17)*1000","v":2.2066326530612246},{"$f":"('2012'!G17/'2012 Rate'!$AA17)*1000","v":0.26147959183673469},{"$f":"('2012'!H17/'2012 Rate'!$AA17)*1000","v":24.502551020408163},{"$f":"('2012'!I17/'2012 Rate'!$AA17)*1000","v":22.232142857142858},{"$f":"('2012'!J17/'2012 Rate'!$AA17)*1000","v":2.3278061224489797},{"$f":"('2012'!K17/'2012 Rate'!$AA17)*1000","v":18.207908163265305},{"$f":"('2012'!L17/'2012 Rate'!$AA17)*1000","v":15.880102040816325},{"$f":"('2012'!M17/'2012 Rate'!$AA17)*1000","v":0.12755102040816327},{"$f":"('2012'!N17/'2012 Rate'!$AA17)*1000","v":4.3048469387755102},{"$f":"('2012'!O17/'2012 Rate'!$AA17)*1000","v":4.1772959183673466},{"$f":"('2012'!P17/'2012 Rate'!$AA17)*1000","v":-0.18494897959183673},{"$f":"('2012'!Q17/'2012 Rate'!$AA17)*1000","v":1.989795918367347},{"$f":"('2012'!R17/'2012 Rate'!$AA17)*1000","v":2.1747448979591839},{"$f":"('2012'!S17/'2012 Rate'!$AA17)*1000","v":2.4234693877551021},{"$f":"('2012'!T17/'2012 Rate'!$AA17)*1000","v":1.0204081632653061},{"$f":"('2012'!U17/'2012 Rate'!$AA17)*1000","v":4.0880102040816322},{"$f":"('2012'!V17/'2012 Rate'!$AA17)*1000","v":3.0420918367346941},null,null,{"$f":"IF('2012'!Y17=\"*\",\"\",('2012'!Y17/'2012 Rate'!$AA17)*1000)","v":0.45280612244897961},"Falkirk",156800]
[16,"Fife",null,{"$f":"('2012'!D18/'2012 Rate'!$AA18)*1000","v":1.7012096884301358},{"$f":"('2012'!E18/'2012 Rate'!$AA18)*1000","v":0.1693017667458562},{"$f":"('2012'!F18/'2012 Rate'!$AA18)*1000","v":1.2943393135086425},{"$f":"('2012'!G18/'2012 Rate'!$AA18)*1000","v":0.23756860817563694},{"$f":"('2012'!H18/'2012 Rate'!$AA18)*1000","v":29.330165751890991},{"$f":"('2012'!I18/'2012 Rate'!$AA18)*1000","v":27.628956063460855},{"$f":"('2012'!J18/'2012 Rate'!$AA18)*1000","v":0.54067338412386334},{"$f":"('2012'!K18/'2012 Rate'!$AA18)*1000","v":16.181972092515224},{"$f":"('2012'!L18/'2012 Rate'!$AA18)*1000","v":15.641298708391361},{"$f":"('2012'!M18/'2012 Rate'!$AA18)*1000","v":0.18022446137462111},{"$f":"('2012'!N18/'2012 Rate'!$AA18)*1000","v":7.7906119439665762},{"$f":"('2012'!O18/'2012 Rate'!$AA18)*1000","v":7.610387482591956},{"$f":"('2012'!P18/'2012 Rate'!$AA18)*1000","v":0.9803118429316513},{"$f":"('2012'!Q18/'2012 Rate'!$AA18)*1000","v":5.3575817154091911},{"$f":"('2012'!R18/'2012 Rate'!$AA18)*1000","v":4.3772698724775401},{"$f":"('2012'!S18/'2012 Rate'!$AA18)*1000","v":5.1609732120914229},{"$f":"('2012'!T18/'2012 Rate'!$AA18)*1000","v":1.097730810190874},{"$f":"('2012'!U18/'2012 Rate'!$AA18)*1000","v":3.727369542066028},{"$f":"('2012'!V18/'2012 Rate'!$AA18)*1000","v":2.1900002730673656},null,null,{"$f":"IF('2012'!Y18=\"*\",\"\",('2012'!Y18/'2012 Rate'!$AA18)*1000)","v":0.47786789000846508},"Fife",366210]
[17,"Glasgow City",null,{"$f":"('2012'!D19/'2012 Rate'!$AA19)*1000","v":1.9258238526559899},{"$f":"('2012'!E19/'2012 Rate'!$AA19)*1000","v":-1.796427311072647},{"$f":"('2012'!F19/'2012 Rate'!$AA19)*1000","v":4.2616834994202364},{"$f":"('2012'!G19/'2012 Rate'!$AA19)*1000","v":-0.53943233569159921},{"$f":"('2012'!H19/'2012 Rate'!$AA19)*1000","v":47.661619641386729},{"$f":"('2012'!I19/'2012 Rate'!$AA19)*1000","v":45.735795788730734},{"$f":"('2012'!J19/'2012 Rate'!$AA19)*1000","v":-3.5340380123346833},{"$f":"('2012'!K19/'2012 Rate'!$AA19)*1000","v":23.78711748197691},{"$f":"('2012'!L19/'2012 Rate'!$AA19)*1000","v":27.321155494311594},{"$f":"('2012'!M19/'2012 Rate'!$AA19)*1000","v":-0.48901809871107599},{"$f":"('2012'!N19/'2012 Rate'!$AA19)*1000","v":9.5064446199606785},{"$f":"('2012'!O19/'2012 Rate'!$AA19)*1000","v":9.9954627186717531},{"$f":"('2012'!P19/'2012 Rate'!$AA19)*1000","v":5.9488799637017493},{"$f":"('2012'!Q19/'2012 Rate'!$AA19)*1000","v":14.36805753944914},{"$f":"('2012'!R19/'2012 Rate'!$AA19)*1000","v":8.4191775757473906},{"$f":"('2012'!S19/'2012 Rate'!$AA19)*1000","v":11.091132135715126},{"$f":"('2012'!T19/'2012 Rate'!$AA19)*1000","v":3.1475288621506712},{"$f":"('2012'!U19/'2012 Rate'!$AA19)*1000","v":18.607894869511149},{"$f":"('2012'!V19/'2012 Rate'!$AA19)*1000","v":16.303964239501237},null,null,{"$f":"IF('2012'!Y19=\"*\",\"\",('2012'!Y19/'2012 Rate'!$AA19)*1000)","v":2.1056346312198566},"Glasgow City",595070]
[18,"Highland",null,{"$f":"('2012'!D20/'2012 Rate'!$AA20)*1000","v":0.50667697196101158},{"$f":"('2012'!E20/'2012 Rate'!$AA20)*1000","v":-0.12022843402464684},{"$f":"('2012'!F20/'2012 Rate'!$AA20)*1000","v":0.80295418437889132},{"$f":"('2012'!G20/'2012 Rate'!$AA20)*1000","v":-0.17604877839323285},{"$f":"('2012'!H20/'2012 Rate'!$AA20)*1000","v":30.705483275366053},{"$f":"('2012'!I20/'2012 Rate'!$AA20)*1000","v":30.198806303405043},{"$f":"('2012'!J20/'2012 Rate'!$AA20)*1000","v":-0.37356692000515268},{"$f":"('2012'!K20/'2012 Rate'!$AA20)*1000","v":17.145433466443386},{"$f":"('2012'!L20/'2012 Rate'!$AA20)*1000","v":17.519000386448536},{"$f":"('2012'!M20/'2012 Rate'!$AA20)*1000","v":1.6316716046202069},{"$f":"('2012'!N20/'2012 Rate'!$AA20)*1000","v":10.292412727038515},{"$f":"('2012'!O20/'2012 Rate'!$AA20)*1000","v":8.66074112241831},{"$f":"('2012'!P20/'2012 Rate'!$AA20)*1000","v":-0.75142771265404273},{"$f":"('2012'!Q20/'2012 Rate'!$AA20)*1000","v":3.2676370818841511},{"$f":"('2012'!R20/'2012 Rate'!$AA20)*1000","v":4.0190647945381937},{"$f":"('2012'!S20/'2012 Rate'!$AA20)*1000","v":5.1526471724848637},{"$f":"('2012'!T20/'2012 Rate'!$AA20)*1000","v":1.4040963545021254},{"$f":"('2012'!U20/'2012 Rate'!$AA20)*1000","v":2.8253681995792004},{"$f":"('2012'!V20/'2012 Rate'!$AA20)*1000","v":2.7137275108420282},null,null,{"$f":"IF('2012'!Y20=\"*\",\"\",('2012'!Y20/'2012 Rate'!$AA20)*1000)","v":0.53244020782343604},"Highland",232890]
[19,"Inverclyde",null,{"$f":"('2012'!D21/'2012 Rate'!$AA21)*1000","v":-3.7798983765026644},{"$f":"('2012'!E21/'2012 Rate'!$AA21)*1000","v":-0.29743462634775064},{"$f":"('2012'!F21/'2012 Rate'!$AA21)*1000","v":-3.7798983765026644},{"$f":"('2012'!G21/'2012 Rate'!$AA21)*1000","v":0.29743462634775064},{"$f":"('2012'!H21/'2012 Rate'!$AA21)*1000","v":16.420869996282068},{"$f":"('2012'!I21/'2012 Rate'!$AA21)*1000","v":20.200768372784729},{"$f":"('2012'!J21/'2012 Rate'!$AA21)*1000","v":-2.4290494485066301},{"$f":"('2012'!K21/'2012 Rate'!$AA21)*1000","v":11.029867393729086},{"$f":"('2012'!L21/'2012 Rate'!$AA21)*1000","v":13.458916842235716},{"$f":"('2012'!M21/'2012 Rate'!$AA21)*1000","v":-0.12393109431156277},{"$f":"('2012'!N21/'2012 Rate'!$AA21)*1000","v":4.4367331763539468},{"$f":"('2012'!O21/'2012 Rate'!$AA21)*1000","v":4.5606642706655096},{"$f":"('2012'!P21/'2012 Rate'!$AA21)*1000","v":-1.2269178336844715},{"$f":"('2012'!Q21/'2012 Rate'!$AA21)*1000","v":0.95426942619903332},{"$f":"('2012'!R21/'2012 Rate'!$AA21)*1000","v":2.1811872598835045},{"$f":"('2012'!S21/'2012 Rate'!$AA21)*1000","v":1.2393109431156277},{"$f":"('2012'!T21/'2012 Rate'!$AA21)*1000","v":0.33461395464121946},{"$f":"('2012'!U21/'2012 Rate'!$AA21)*1000","v":2.1811872598835045},{"$f":"('2012'!V21/'2012 Rate'!$AA21)*1000","v":0.65683479985128268},null,null,{"$f":"IF('2012'!Y21=\"*\",\"\",('2012'!Y21/'2012 Rate'!$AA21)*1000)","v":0.34700706407237575},"Inverclyde",80690]
[20,"Midlothian",null,{"$f":"('2012'!D22/'2012 Rate'!$AA22)*1000","v":6.6358024691358031},{"$f":"('2012'!E22/'2012 Rate'!$AA22)*1000","v":2.2792022792022792},{"$f":"('2012'!F22/'2012 Rate'!$AA22)*1000","v":4.0716999050332383},{"$f":"('2012'!G22/'2012 Rate'!$AA22)*1000","v":0.28490028490028491},{"$f":"('2012'!H22/'2012 Rate'!$AA22)*1000","v":33.855650522317191},{"$f":"('2012'!I22/'2012 Rate'!$AA22)*1000","v":27.219848053181387},{"$f":"('2012'!J22/'2012 Rate'!$AA22)*1000","v":6.0422602089268755},{"$f":"('2012'!K22/'2012 Rate'!$AA22)*1000","v":27.04178537511871},{"$f":"('2012'!L22/'2012 Rate'!$AA22)*1000","v":20.999525166191834},{"$f":"('2012'!M22/'2012 Rate'!$AA22)*1000","v":0.30864197530864196},{"$f":"('2012'!N22/'2012 Rate'!$AA22)*1000","v":4.7483380816714149},{"$f":"('2012'!O22/'2012 Rate'!$AA22)*1000","v":4.4396961063627725},{"$f":"('2012'!P22/'2012 Rate'!$AA22)*1000","v":0.28490028490028491},{"$f":"('2012'!Q22/'2012 Rate'!$AA22)*1000","v":2.0655270655270659},{"$f":"('2012'!R22/'2012 Rate'!$AA22)*1000","v":1.7806267806267806},{"$f":"('2012'!S22/'2012 Rate'!$AA22)*1000","v":1.7806267806267806},{"$f":"('2012'!T22/'2012 Rate'!$AA22)*1000","v":1.1870845204178537},{"$f":"('2012'!U22/'2012 Rate'!$AA22)*1000","v":3.9529914529914527},{"$f":"('2012'!V22/'2012 Rate'!$AA22)*1000","v":2.1842355175688506},null,null,{"$f":"IF('2012'!Y22=\"*\",\"\",('2012'!Y22/'2012 Rate'!$AA22)*1000)","v":0.52231718898385571},"Midlothian",84240]
[21,"Moray",null,{"$f":"('2012'!D23/'2012 Rate'!$AA23)*1000","v":3.5187775745184546},{"$f":"('2012'!E23/'2012 Rate'!$AA23)*1000","v":1.936941784138599},{"$f":"('2012'!F23/'2012 Rate'!$AA23)*1000","v":1.108361132034865},{"$f":"('2012'!G23/'2012 Rate'!$AA23)*1000","v":0.47347465834499086},{"$f":"('2012'!H23/'2012 Rate'!$AA23)*1000","v":36.715807597116111},{"$f":"('2012'!I23/'2012 Rate'!$AA23)*1000","v":33.197030022597659},{"$f":"('2012'!J23/'2012 Rate'!$AA23)*1000","v":-1.2482513720004305},{"$f":"('2012'!K23/'2012 Rate'!$AA23)*1000","v":17.507801571075003},{"$f":"('2012'!L23/'2012 Rate'!$AA23)*1000","v":18.756052943075431},{"$f":"('2012'!M23/'2012 Rate'!$AA23)*1000","v":5.8323469277951148},{"$f":"('2012'!N23/'2012 Rate'!$AA23)*1000","v":15.818357903798558},{"$f":"('2012'!O23/'2012 Rate'!$AA23)*1000","v":9.9860109760034437},{"$f":"('2012'!P23/'2012 Rate'!$AA23)*1000","v":-1.0653179812762295},{"$f":"('2012'!Q23/'2012 Rate'!$AA23)*1000","v":3.3896481222425479},{"$f":"('2012'!R23/'2012 Rate'!$AA23)*1000","v":4.4549661035187773},{"$f":"('2012'!S23/'2012 Rate'!$AA23)*1000","v":2.3673732917249546},{"$f":"('2012'!T23/'2012 Rate'!$AA23)*1000","v":0.83934143979339282},{"$f":"('2012'!U23/'2012 Rate'!$AA23)*1000","v":2.7009577101043796},{"$f":"('2012'!V23/'2012 Rate'!$AA23)*1000","v":2.8623695254492625},null,null,{"$f":"IF('2012'!Y23=\"*\",\"\",('2012'!Y23/'2012 Rate'!$AA23)*1000)","v":0.45195308296567305},"Moray",92930]
[22,"Na h-Eileanan Siar",null,{"$f":"('2012'!D24/'2012 Rate'!$AA24)*1000","v":0.47169811320754718},{"$f":"('2012'!E24/'2012 Rate'!$AA24)*1000","v":0.94339622641509435},{"$f":"('2012'!F24/'2012 Rate'!$AA24)*1000","v":-0.94339622641509435},{"$f":"('2012'!G24/'2012 Rate'!$AA24)*1000","v":0.47169811320754718},{"$f":"('2012'!H24/'2012 Rate'!$AA24)*1000","v":31.422351233671986},{"$f":"('2012'!I24/'2012 Rate'!$AA24)*1000","v":30.950653120464441},{"$f":"('2012'!J24/'2012 Rate'!$AA24)*1000","v":-1.0885341074020318},{"$f":"('2012'!K24/'2012 Rate'!$AA24)*1000","v":20.06531204644412},{"$f":"('2012'!L24/'2012 Rate'!$AA24)*1000","v":21.153846153846153},{"$f":"('2012'!M24/'2012 Rate'!$AA24)*1000","v":2.9027576197387517},{"$f":"('2012'!N24/'2012 Rate'!$AA24)*1000","v":9.7605224963715518},{"$f":"('2012'!O24/'2012 Rate'!$AA24)*1000","v":6.8577648766328005},{"$f":"('2012'!P24/'2012 Rate'!$AA24)*1000","v":-1.3425253991291726},{"$f":"('2012'!Q24/'2012 Rate'!$AA24)*1000","v":1.5965166908563135},{"$f":"('2012'!R24/'2012 Rate'!$AA24)*1000","v":2.9390420899854863},{"$f":"('2012'!S24/'2012 Rate'!$AA24)*1000","v":1.8142235123367199},{"$f":"('2012'!T24/'2012 Rate'!$AA24)*1000","v":0.47169811320754718},{"$f":"('2012'!U24/'2012 Rate'!$AA24)*1000","v":2.1407837445573294},{"$f":"('2012'!V24/'2012 Rate'!$AA24)*1000","v":1.4150943396226414},null,null,{"$f":"IF('2012'!Y24=\"*\",\"\",('2012'!Y24/'2012 Rate'!$AA24)*1000)","v":0.29027576197387517},"Na h-Eileanan Siar",27560]
[23,"North Ayrshire",null,{"$f":"('2012'!D25/'2012 Rate'!$AA25)*1000","v":-2.9148796976084901},{"$f":"('2012'!E25/'2012 Rate'!$AA25)*1000","v":0.45794868067165806},{"$f":"('2012'!F25/'2012 Rate'!$AA25)*1000","v":-3.4600566984080832},{"$f":"('2012'!G25/'2012 Rate'!$AA25)*1000","v":8.7228320127934869E-2},{"$f":"('2012'!H25/'2012 Rate'!$AA25)*1000","v":25.419786290615686},{"$f":"('2012'!I25/'2012 Rate'!$AA25)*1000","v":28.334665988224177},{"$f":"('2012'!J25/'2012 Rate'!$AA25)*1000","v":-1.3375009086283347},{"$f":"('2012'!K25/'2012 Rate'!$AA25)*1000","v":18.652322454023405},{"$f":"('2012'!L25/'2012 Rate'!$AA25)*1000","v":19.989823362651741},{"$f":"('2012'!M25/'2012 Rate'!$AA25)*1000","v":7.2690266773279055E-2},{"$f":"('2012'!N25/'2012 Rate'!$AA25)*1000","v":5.6843788616704218},{"$f":"('2012'!O25/'2012 Rate'!$AA25)*1000","v":5.6116885948971431},{"$f":"('2012'!P25/'2012 Rate'!$AA25)*1000","v":-1.6500690557534345},{"$f":"('2012'!Q25/'2012 Rate'!$AA25)*1000","v":1.0830849749218578},{"$f":"('2012'!R25/'2012 Rate'!$AA25)*1000","v":2.7331540306752924},{"$f":"('2012'!S25/'2012 Rate'!$AA25)*1000","v":0.79959293450606961},{"$f":"('2012'!T25/'2012 Rate'!$AA25)*1000","v":0.46521770734898593},{"$f":"('2012'!U25/'2012 Rate'!$AA25)*1000","v":2.0280584429744857},{"$f":"('2012'!V25/'2012 Rate'!$AA25)*1000","v":0.73417169441011854},null,null,{"$f":"IF('2012'!Y25=\"*\",\"\",('2012'!Y25/'2012 Rate'!$AA25)*1000)","v":0.29803009377044409},"North Ayrshire",137570]
[24,"North Lanarkshire",null,{"$f":"('2012'!D26/'2012 Rate'!$AA26)*1000","v":-0.80203616561602897},{"$f":"('2012'!E26/'2012 Rate'!$AA26)*1000","v":0.23380390067773538},{"$f":"('2012'!F26/'2012 Rate'!$AA26)*1000","v":-0.8257125099884578},{"$f":"('2012'!G26/'2012 Rate'!$AA26)*1000","v":-0.21012755630530647},{"$f":"('2012'!H26/'2012 Rate'!$AA26)*1000","v":19.846695670188524},{"$f":"('2012'!I26/'2012 Rate'!$AA26)*1000","v":20.648731835804551},{"$f":"('2012'!J26/'2012 Rate'!$AA26)*1000","v":-0.31371156293468289},{"$f":"('2012'!K26/'2012 Rate'!$AA26)*1000","v":14.868744265885347},{"$f":"('2012'!L26/'2012 Rate'!$AA26)*1000","v":15.18245582882003},{"$f":"('2012'!M26/'2012 Rate'!$AA26)*1000","v":0.11542217881559087},{"$f":"('2012'!N26/'2012 Rate'!$AA26)*1000","v":3.4153126757228685},{"$f":"('2012'!O26/'2012 Rate'!$AA26)*1000","v":3.2998904969072775},{"$f":"('2012'!P26/'2012 Rate'!$AA26)*1000","v":-0.60374678149693684},{"$f":"('2012'!Q26/'2012 Rate'!$AA26)*1000","v":1.5626387285803074},{"$f":"('2012'!R26/'2012 Rate'!$AA26)*1000","v":2.166385510077244},{"$f":"('2012'!S26/'2012 Rate'!$AA26)*1000","v":1.6573441060700229},{"$f":"('2012'!T26/'2012 Rate'!$AA26)*1000","v":0.71029033117286688},{"$f":"('2012'!U26/'2012 Rate'!$AA26)*1000","v":4.800378821509959},{"$f":"('2012'!V26/'2012 Rate'!$AA26)*1000","v":2.651750569712036},null,null,{"$f":"IF('2012'!Y26=\"*\",\"\",('2012'!Y26/'2012 Rate'!$AA26)*1000)","v":0.43505282784338101},"North Lanarkshire",337890]
[25,"Orkney Islands",null,{"$f":"('2012'!D27/'2012 Rate'!$AA27)*1000","v":4.9233627496516483},{"$f":"('2012'!E27/'2012 Rate'!$AA27)*1000","v":1.8578727357176035},{"$f":"('2012'!F27/'2012 Rate'!$AA27)*1000","v":3.2512772875058058},{"$f":"('2012'!G27/'2012 Rate'!$AA27)*1000","v":-0.18578727357176034},{"$f":"('2012'!H27/'2012 Rate'!$AA27)*1000","v":34.138411518810962},{"$f":"('2012'!I27/'2012 Rate'!$AA27)*1000","v":29.215048769159313},{"$f":"('2012'!J27/'2012 Rate'!$AA27)*1000","v":2.0436600092893635},{"$f":"('2012'!K27/'2012 Rate'!$AA27)*1000","v":19.228982814677195},{"$f":"('2012'!L27/'2012 Rate'!$AA27)*1000","v":17.185322805387834},{"$f":"('2012'!M27/'2012 Rate'!$AA27)*1000","v":4.412447747329308},{"$f":"('2012'!N27/'2012 Rate'!$AA27)*1000","v":13.144449605202043},{"$f":"('2012'!O27/'2012 Rate'!$AA27)*1000","v":8.7320018578727367},{"$f":"('2012'!P27/'2012 Rate'!$AA27)*1000","v":-1.5327450069670228},{"$f":"('2012'!Q27/'2012 Rate'!$AA27)*1000","v":1.7649790989317231},{"$f":"('2012'!R27/'2012 Rate'!$AA27)*1000","v":3.2977241058987459},{"$f":"('2012'!S27/'2012 Rate'!$AA27)*1000","v":1.8578727357176035},{"$f":"('2012'!T27/'2012 Rate'!$AA27)*1000","v":0.51091500232234088},{"$f":"('2012'!U27/'2012 Rate'!$AA27)*1000","v":1.8114259173246632},{"$f":"('2012'!V27/'2012 Rate'!$AA27)*1000","v":0.74314909428704135},null,null,{"$f":"IF('2012'!Y27=\"*\",\"\",('2012'!Y27/'2012 Rate'!$AA27)*1000)","v":0.23223409196470043},"Orkney Islands",21530]
[26,"Perth and Kinross",null,{"$f":"('2012'!D28/'2012 Rate'!$AA28)*1000","v":6.6332746717205904},{"$f":"('2012'!E28/'2012 Rate'!$AA28)*1000","v":2.0712061730066331},{"$f":"('2012'!F28/'2012 Rate'!$AA28)*1000","v":4.3590090699878168},{"$f":"('2012'!G28/'2012 Rate'!$AA28)*1000","v":0.2030594287261405},{"$f":"('2012'!H28/'2012 Rate'!$AA28)*1000","v":43.26519561391634},{"$f":"('2012'!I28/'2012 Rate'!$AA28)*1000","v":36.631920942195748},{"$f":"('2012'!J28/'2012 Rate'!$AA28)*1000","v":2.0915121158792473},{"$f":"('2012'!K28/'2012 Rate'!$AA28)*1000","v":24.928929199945852},{"$f":"('2012'!L28/'2012 Rate'!$AA28)*1000","v":22.837417084066605},{"$f":"('2012'!M28/'2012 Rate'!$AA28)*1000","v":1.4823338297008257},{"$f":"('2012'!N28/'2012 Rate'!$AA28)*1000","v":8.9684581020712066},{"$f":"('2012'!O28/'2012 Rate'!$AA28)*1000","v":7.4861242723703798},{"$f":"('2012'!P28/'2012 Rate'!$AA28)*1000","v":3.0594287261405171},{"$f":"('2012'!Q28/'2012 Rate'!$AA28)*1000","v":9.3678083118992816},{"$f":"('2012'!R28/'2012 Rate'!$AA28)*1000","v":6.3083795857587655},{"$f":"('2012'!S28/'2012 Rate'!$AA28)*1000","v":14.620278868282117},{"$f":"('2012'!T28/'2012 Rate'!$AA28)*1000","v":1.3604981724651415},{"$f":"('2012'!U28/'2012 Rate'!$AA28)*1000","v":3.5400027074590499},{"$f":"('2012'!V28/'2012 Rate'!$AA28)*1000","v":3.5129281169622311},null,null,{"$f":"IF('2012'!Y28=\"*\",\"\",('2012'!Y28/'2012 Rate'!$AA28)*1000)","v":0.5550291051847841},"Perth & Kinross",147740]
[27,"Renfrewshire",null,{"$f":"('2012'!D29/'2012 Rate'!$AA29)*1000","v":-2.2662076878944348},{"$f":"('2012'!E29/'2012 Rate'!$AA29)*1000","v":-0.37865748709122204},{"$f":"('2012'!F29/'2012 Rate'!$AA29)*1000","v":-1.853126792885829},{"$f":"('2012'!G29/'2012 Rate'!$AA29)*1000","v":-3.4423407917383825E-2},{"$f":"('2012'!H29/'2012 Rate'!$AA29)*1000","v":24.916810097532991},{"$f":"('2012'!I29/'2012 Rate'!$AA29)*1000","v":27.183017785427424},{"$f":"('2012'!J29/'2012 Rate'!$AA29)*1000","v":-1.5433161216293747},{"$f":"('2012'!K29/'2012 Rate'!$AA29)*1000","v":18.468158347676422},{"$f":"('2012'!L29/'2012 Rate'!$AA29)*1000","v":20.011474469305792},{"$f":"('2012'!M29/'2012 Rate'!$AA29)*1000","v":-0.24096385542168675},{"$f":"('2012'!N29/'2012 Rate'!$AA29)*1000","v":3.9931153184165233},{"$f":"('2012'!O29/'2012 Rate'!$AA29)*1000","v":4.23407917383821},{"$f":"('2012'!P29/'2012 Rate'!$AA29)*1000","v":-0.48192771084337349},{"$f":"('2012'!Q29/'2012 Rate'!$AA29)*1000","v":2.4555364314400459},{"$f":"('2012'!R29/'2012 Rate'!$AA29)*1000","v":2.9374641422834191},{"$f":"('2012'!S29/'2012 Rate'!$AA29)*1000","v":2.5817555938037868},{"$f":"('2012'!T29/'2012 Rate'!$AA29)*1000","v":1.0499139414802066},{"$f":"('2012'!U29/'2012 Rate'!$AA29)*1000","v":4.8020654044750435},{"$f":"('2012'!V29/'2012 Rate'!$AA29)*1000","v":1.853126792885829},null,null,{"$f":"IF('2012'!Y29=\"*\",\"\",('2012'!Y29/'2012 Rate'!$AA29)*1000)","v":0.57946069994262772},"Renfrewshire",174300]
[28,"Scottish Borders",null,{"$f":"('2012'!D30/'2012 Rate'!$AA30)*1000","v":0.39570875835385155},{"$f":"('2012'!E30/'2012 Rate'!$AA30)*1000","v":0.51002462187829756},{"$f":"('2012'!F30/'2012 Rate'!$AA30)*1000","v":0.114315863524446},{"$f":"('2012'!G30/'2012 Rate'!$AA30)*1000","v":-0.22863172704889201},{"$f":"('2012'!H30/'2012 Rate'!$AA30)*1000","v":35.103763629968341},{"$f":"('2012'!I30/'2012 Rate'!$AA30)*1000","v":34.708054871614493},{"$f":"('2012'!J30/'2012 Rate'!$AA30)*1000","v":-0.69468870911009495},{"$f":"('2012'!K30/'2012 Rate'!$AA30)*1000","v":18.545550474850511},{"$f":"('2012'!L30/'2012 Rate'!$AA30)*1000","v":19.240239183960608},{"$f":"('2012'!M30/'2012 Rate'!$AA30)*1000","v":1.6707703130495957},{"$f":"('2012'!N30/'2012 Rate'!$AA30)*1000","v":13.190291945128385},{"$f":"('2012'!O30/'2012 Rate'!$AA30)*1000","v":11.51952163207879},{"$f":"('2012'!P30/'2012 Rate'!$AA30)*1000","v":-0.58037284558564894},{"$f":"('2012'!Q30/'2012 Rate'!$AA30)*1000","v":3.3679212099894476},{"$f":"('2012'!R30/'2012 Rate'!$AA30)*1000","v":3.9482940555750963},{"$f":"('2012'!S30/'2012 Rate'!$AA30)*1000","v":2.9018642279282449},{"$f":"('2012'!T30/'2012 Rate'!$AA30)*1000","v":1.1871262750615545},{"$f":"('2012'!U30/'2012 Rate'!$AA30)*1000","v":2.8227224762574745},{"$f":"('2012'!V30/'2012 Rate'!$AA30)*1000","v":3.0513542033063668},null,null,{"$f":"IF('2012'!Y30=\"*\",\"\",('2012'!Y30/'2012 Rate'!$AA30)*1000)","v":0.4132958142806894},"Scottish Borders",113720]
[29,"Shetland Islands",null,{"$f":"('2012'!D31/'2012 Rate'!$AA31)*1000","v":-2.9297716501507973},{"$f":"('2012'!E31/'2012 Rate'!$AA31)*1000","v":-1.1632916846186989},{"$f":"('2012'!F31/'2012 Rate'!$AA31)*1000","v":-2.5420077552778975},{"$f":"('2012'!G31/'2012 Rate'!$AA31)*1000","v":0.77552778974579928},{"$f":"('2012'!H31/'2012 Rate'!$AA31)*1000","v":28.69452822059457},{"$f":"('2012'!I31/'2012 Rate'!$AA31)*1000","v":31.624299870745368},{"$f":"('2012'!J31/'2012 Rate'!$AA31)*1000","v":-4.4808272296423954},{"$f":"('2012'!K31/'2012 Rate'!$AA31)*1000","v":13.830245583800085},{"$f":"('2012'!L31/'2012 Rate'!$AA31)*1000","v":18.311072813442482},{"$f":"('2012'!M31/'2012 Rate'!$AA31)*1000","v":1.4648858250753987},{"$f":"('2012'!N31/'2012 Rate'!$AA31)*1000","v":10.94355881085739},{"$f":"('2012'!O31/'2012 Rate'!$AA31)*1000","v":9.4786729857819907},{"$f":"('2012'!P31/'2012 Rate'!$AA31)*1000","v":8.6169754416199909E-2},{"$f":"('2012'!Q31/'2012 Rate'!$AA31)*1000","v":3.9207238259370958},{"$f":"('2012'!R31/'2012 Rate'!$AA31)*1000","v":3.8345540715208961},{"$f":"('2012'!S31/'2012 Rate'!$AA31)*1000","v":4.3084877208099952},{"$f":"('2012'!T31/'2012 Rate'!$AA31)*1000","v":0.90478242137009912},{"$f":"('2012'!U31/'2012 Rate'!$AA31)*1000","v":3.7914691943127963},{"$f":"('2012'!V31/'2012 Rate'!$AA31)*1000","v":1.4218009478672986},null,null,{"$f":"IF('2012'!Y31=\"*\",\"\",('2012'!Y31/'2012 Rate'!$AA31)*1000)","v":0.47393364928909953},"Shetland Islands",23210]
[30,"South Ayrshire",null,{"$f":"('2012'!D32/'2012 Rate'!$AA32)*1000","v":3.1615302869287993},{"$f":"('2012'!E32/'2012 Rate'!$AA32)*1000","v":0.92100602196245129},{"$f":"('2012'!F32/'2012 Rate'!$AA32)*1000","v":1.3726532058094225},{"$f":"('2012'!G32/'2012 Rate'!$AA32)*1000","v":0.8678710591569252},{"$f":"('2012'!H32/'2012 Rate'!$AA32)*1000","v":31.83669854764435},{"$f":"('2012'!I32/'2012 Rate'!$AA32)*1000","v":28.675168260715552},{"$f":"('2012'!J32/'2012 Rate'!$AA32)*1000","v":2.630180658873539},{"$f":"('2012'!K32/'2012 Rate'!$AA32)*1000","v":22.272405242649661},{"$f":"('2012'!L32/'2012 Rate'!$AA32)*1000","v":19.642224583776123},{"$f":"('2012'!M32/'2012 Rate'!$AA32)*1000","v":1.4169323414806942},{"$f":"('2012'!N32/'2012 Rate'!$AA32)*1000","v":7.4300389656393904},{"$f":"('2012'!O32/'2012 Rate'!$AA32)*1000","v":6.0131066241586968},{"$f":"('2012'!P32/'2012 Rate'!$AA32)*1000","v":-0.88558271342543393},{"$f":"('2012'!Q32/'2012 Rate'!$AA32)*1000","v":2.1342543393552962},{"$f":"('2012'!R32/'2012 Rate'!$AA32)*1000","v":3.0198370527807299},{"$f":"('2012'!S32/'2012 Rate'!$AA32)*1000","v":1.7711654268508679},{"$f":"('2012'!T32/'2012 Rate'!$AA32)*1000","v":0.59334041799504078},{"$f":"('2012'!U32/'2012 Rate'!$AA32)*1000","v":2.6036131774707756},{"$f":"('2012'!V32/'2012 Rate'!$AA32)*1000","v":1.3195182430038965},null,null,{"$f":"IF('2012'!Y32=\"*\",\"\",('2012'!Y32/'2012 Rate'!$AA32)*1000)","v":0.28338646829613884},"South Ayrshire",112920]
[31,"South Lanarkshire",null,{"$f":"('2012'!D33/'2012 Rate'!$AA33)*1000","v":1.2979989183342346},{"$f":"('2012'!E33/'2012 Rate'!$AA33)*1000","v":0.79534247446950657},{"$f":"('2012'!F33/'2012 Rate'!$AA33)*1000","v":0.15588712499602328},{"$f":"('2012'!G33/'2012 Rate'!$AA33)*1000","v":0.34676931886870482},{"$f":"('2012'!H33/'2012 Rate'!$AA33)*1000","v":25.994973435561352},{"$f":"('2012'!I33/'2012 Rate'!$AA33)*1000","v":24.696974517227119},{"$f":"('2012'!J33/'2012 Rate'!$AA33)*1000","v":2.1028855024973754},{"$f":"('2012'!K33/'2012 Rate'!$AA33)*1000","v":20.045811726529443},{"$f":"('2012'!L33/'2012 Rate'!$AA33)*1000","v":17.942926224032067},{"$f":"('2012'!M33/'2012 Rate'!$AA33)*1000","v":0.21633315305570577},{"$f":"('2012'!N33/'2012 Rate'!$AA33)*1000","v":4.5207266248846754},{"$f":"('2012'!O33/'2012 Rate'!$AA33)*1000","v":4.3043934718289689},{"$f":"('2012'!P33/'2012 Rate'!$AA33)*1000","v":-1.0212197372188463},{"$f":"('2012'!Q33/'2012 Rate'!$AA33)*1000","v":1.4284350841472337},{"$f":"('2012'!R33/'2012 Rate'!$AA33)*1000","v":2.4496548213660803},{"$f":"('2012'!S33/'2012 Rate'!$AA33)*1000","v":1.1771068622148697},{"$f":"('2012'!T33/'2012 Rate'!$AA33)*1000","v":0.62672986988197121},{"$f":"('2012'!U33/'2012 Rate'!$AA33)*1000","v":4.6098049820252598},{"$f":"('2012'!V33/'2012 Rate'!$AA33)*1000","v":1.6224986479177934},null,null,{"$f":"IF('2012'!Y33=\"*\",\"\",('2012'!Y33/'2012 Rate'!$AA33)*1000)","v":0.52810740304775239},"South Lanarkshire",314330]
[32,"Stirling",null,{"$f":"('2012'!D34/'2012 Rate'!$AA34)*1000","v":8.5045599384682991},{"$f":"('2012'!E34/'2012 Rate'!$AA34)*1000","v":3.0326337765080762},{"$f":"('2012'!F34/'2012 Rate'!$AA34)*1000","v":5.8235358751785515},{"$f":"('2012'!G34/'2012 Rate'!$AA34)*1000","v":-0.35160971321832768},{"$f":"('2012'!H34/'2012 Rate'!$AA34)*1000","v":57.224480826282829},{"$f":"('2012'!I34/'2012 Rate'!$AA34)*1000","v":48.719920887814524},{"$f":"('2012'!J34/'2012 Rate'!$AA34)*1000","v":2.3294143500714206},{"$f":"('2012'!K34/'2012 Rate'!$AA34)*1000","v":34.622568948467197},{"$f":"('2012'!L34/'2012 Rate'!$AA34)*1000","v":32.29315459839578},{"$f":"('2012'!M34/'2012 Rate'!$AA34)*1000","v":1.6152071200966927},{"$f":"('2012'!N34/'2012 Rate'!$AA34)*1000","v":11.020766948686957},{"$f":"('2012'!O34/'2012 Rate'!$AA34)*1000","v":9.4055598285902651},{"$f":"('2012'!P34/'2012 Rate'!$AA34)*1000","v":4.5599384683001869},{"$f":"('2012'!Q34/'2012 Rate'!$AA34)*1000","v":11.581144929128667},{"$f":"('2012'!R34/'2012 Rate'!$AA34)*1000","v":7.0212064608284805},{"$f":"('2012'!S34/'2012 Rate'!$AA34)*1000","v":5.384023733655642},{"$f":"('2012'!T34/'2012 Rate'!$AA34)*1000","v":0.87902428304581914},{"$f":"('2012'!U34/'2012 Rate'!$AA34)*1000","v":4.6478408966047686},{"$f":"('2012'!V34/'2012 Rate'!$AA34)*1000","v":2.2964509394572024},null,null,{"$f":"IF('2012'!Y34=\"*\",\"\",('2012'!Y34/'2012 Rate'!$AA34)*1000)","v":0.48346335567520049},"Stirling",91010]
[33,"West Dunbartonshire",null,{"$f":"('2012'!D35/'2012 Rate'!$AA35)*1000","v":-3.0994022581359308},{"$f":"('2012'!E35/'2012 Rate'!$AA35)*1000","v":-0.43170245738321894},{"$f":"('2012'!F35/'2012 Rate'!$AA35)*1000","v":-1.815364179765331},{"$f":"('2012'!G35/'2012 Rate'!$AA35)*1000","v":-0.85233562098738103},{"$f":"('2012'!H35/'2012 Rate'!$AA35)*1000","v":23.721496568518926},{"$f":"('2012'!I35/'2012 Rate'!$AA35)*1000","v":26.820898826654858},{"$f":"('2012'!J35/'2012 Rate'!$AA35)*1000","v":-2.789462032322338},{"$f":"('2012'!K35/'2012 Rate'!$AA35)*1000","v":18.308611910560106},{"$f":"('2012'!L35/'2012 Rate'!$AA35)*1000","v":21.098073942882444},{"$f":"('2012'!M35/'2012 Rate'!$AA35)*1000","v":0.33207881337170686},{"$f":"('2012'!N35/'2012 Rate'!$AA35)*1000","v":4.1731237547044495},{"$f":"('2012'!O35/'2012 Rate'!$AA35)*1000","v":3.841044941332743},{"$f":"('2012'!P35/'2012 Rate'!$AA35)*1000","v":-0.6420190391852999},{"$f":"('2012'!Q35/'2012 Rate'!$AA35)*1000","v":1.2397609032543724},{"$f":"('2012'!R35/'2012 Rate'!$AA35)*1000","v":1.8817799424396724},{"$f":"('2012'!S35/'2012 Rate'!$AA35)*1000","v":1.1069293779056897},{"$f":"('2012'!T35/'2012 Rate'!$AA35)*1000","v":0.48704892627850338},{"$f":"('2012'!U35/'2012 Rate'!$AA35)*1000","v":3.2322337834846135},{"$f":"('2012'!V35/'2012 Rate'!$AA35)*1000","v":1.7157405357538189},null,null,{"$f":"IF('2012'!Y35=\"*\",\"\",('2012'!Y35/'2012 Rate'!$AA35)*1000)","v":0.36528669470887759},"West Dunbartonshire",90340]
[34,"West Lothian",null,{"$f":"('2012'!D36/'2012 Rate'!$AA36)*1000","v":0.87495028691551613},{"$f":"('2012'!E36/'2012 Rate'!$AA36)*1000","v":0.21021532867450712},{"$f":"('2012'!F36/'2012 Rate'!$AA36)*1000","v":0.49997159252315204},{"$f":"('2012'!G36/'2012 Rate'!$AA36)*1000","v":0.16476336571785694},{"$f":"('2012'!H36/'2012 Rate'!$AA36)*1000","v":27.873416283165728},{"$f":"('2012'!I36/'2012 Rate'!$AA36)*1000","v":26.998465996250214},{"$f":"('2012'!J36/'2012 Rate'!$AA36)*1000","v":-0.57383103232770871},{"$f":"('2012'!K36/'2012 Rate'!$AA36)*1000","v":18.538719390943697},{"$f":"('2012'!L36/'2012 Rate'!$AA36)*1000","v":19.112550423271408},{"$f":"('2012'!M36/'2012 Rate'!$AA36)*1000","v":-3.4088972217487641E-2},{"$f":"('2012'!N36/'2012 Rate'!$AA36)*1000","v":5.1133458326231471},{"$f":"('2012'!O36/'2012 Rate'!$AA36)*1000","v":5.1474348048406346},{"$f":"('2012'!P36/'2012 Rate'!$AA36)*1000","v":1.4828702914607124},{"$f":"('2012'!Q36/'2012 Rate'!$AA36)*1000","v":4.2213510595988861},{"$f":"('2012'!R36/'2012 Rate'!$AA36)*1000","v":2.738480768138174},{"$f":"('2012'!S36/'2012 Rate'!$AA36)*1000","v":4.715641156752457},{"$f":"('2012'!T36/'2012 Rate'!$AA36)*1000","v":1.7442190784614511},{"$f":"('2012'!U36/'2012 Rate'!$AA36)*1000","v":5.6985398556900178},{"$f":"('2012'!V36/'2012 Rate'!$AA36)*1000","v":4.0338617124027039},null,null,{"$f":"IF('2012'!Y36=\"*\",\"\",('2012'!Y36/'2012 Rate'!$AA36)*1000)","v":0.56246804158854613},"West Lothian",176010]
[]
[35,"Not specified"]
[36,"SCOTLAND",null,{"$f":"('2012'!D39/'2012 Rate'!$AA39)*1000","v":2.3972448057813911},{"$f":"('2012'!E39/'2012 Rate'!$AA39)*1000","v":0.30807738632941883},{"$f":"('2012'!F39/'2012 Rate'!$AA39)*1000","v":2.157106293285155},{"$f":"('2012'!G39/'2012 Rate'!$AA39)*1000","v":-6.793887383318277E-2},{"$f":"('2012'!H39/'2012 Rate'!$AA39)*1000","v":15.246913580246915},{"$f":"('2012'!I39/'2012 Rate'!$AA39)*1000","v":12.849668774465522},null,null,null,{"$f":"('2012'!M39/'2012 Rate'!$AA39)*1000","v":0.57174043962661847},{"$f":"('2012'!N39/'2012 Rate'!$AA39)*1000","v":8.4906654622101776},{"$f":"('2012'!O39/'2012 Rate'!$AA39)*1000","v":7.9189250225835588},{"$f":"('2012'!P39/'2012 Rate'!$AA39)*1000","v":1.8255043661547727},{"$f":"('2012'!Q39/'2012 Rate'!$AA39)*1000","v":6.7562481180367362},{"$f":"('2012'!R39/'2012 Rate'!$AA39)*1000","v":4.9307437518819635},null,{"$f":"('2012'!T39/'2012 Rate'!$AA39)*1000","v":1.5881887985546523},null,null,null,null,null,"SCOTLAND",{"$f":"AA4","v":5313600}]
[37,"Ayrshire and Arran",null,{"$f":"('2012'!D40/'2012 Rate'!$AA40)*1000","v":-0.32152617758962543},{"$f":"('2012'!E40/'2012 Rate'!$AA40)*1000","v":0.53587696264937568},{"$f":"('2012'!F40/'2012 Rate'!$AA40)*1000","v":-1.1092653126842076},{"$f":"('2012'!G40/'2012 Rate'!$AA40)*1000","v":0.25186217244520659},{"$f":"('2012'!H40/'2012 Rate'!$AA40)*1000","v":20.593751674615511},{"$f":"('2012'!I40/'2012 Rate'!$AA40)*1000","v":20.915277852205133},{"$f":"('2012'!J40/'2012 Rate'!$AA40)*1000","v":0.1232517014093564},{"$f":"('2012'!K40/'2012 Rate'!$AA40)*1000","v":13.027168962006323},{"$f":"('2012'!L40/'2012 Rate'!$AA40)*1000","v":12.903917260596966},{"$f":"('2012'!M40/'2012 Rate'!$AA40)*1000","v":0.78773913509458227},{"$f":"('2012'!N40/'2012 Rate'!$AA40)*1000","v":6.2188521515460051},{"$f":"('2012'!O40/'2012 Rate'!$AA40)*1000","v":5.4311130164514232},{"$f":"('2012'!P40/'2012 Rate'!$AA40)*1000","v":-1.232517014093564},{"$f":"('2012'!Q40/'2012 Rate'!$AA40)*1000","v":1.34773056106318},{"$f":"('2012'!R40/'2012 Rate'!$AA40)*1000","v":2.5802475751567444},null,{"$f":"('2012'!T40/'2012 Rate'!$AA40)*1000","v":0.49032742082417879},null,null,null,null,null,"Ayrshire & Arran",{"$f":"AA13+AA25+AA32","v":373220}]
[38,"Borders",null,{"$f":"('2012'!D41/'2012 Rate'!$AA41)*1000","v":0.39570875835385155},{"$f":"('2012'!E41/'2012 Rate'!$AA41)*1000","v":0.51002462187829756},{"$f":"('2012'!F41/'2012 Rate'!$AA41)*1000","v":0.114315863524446},{"$f":"('2012'!G41/'2012 Rate'!$AA41)*1000","v":-0.22863172704889201},{"$f":"('2012'!H41/'2012 Rate'!$AA41)*1000","v":35.103763629968341},{"$f":"('2012'!I41/'2012 Rate'!$AA41)*1000","v":34.708054871614493},{"$f":"('2012'!J41/'2012 Rate'!$AA41)*1000","v":-0.69468870911009495},{"$f":"('2012'!K41/'2012 Rate'!$AA41)*1000","v":18.545550474850511},{"$f":"('2012'!L41/'2012 Rate'!$AA41)*1000","v":19.240239183960608},{"$f":"('2012'!M41/'2012 Rate'!$AA41)*1000","v":1.6707703130495957},{"$f":"('2012'!N41/'2012 Rate'!$AA41)*1000","v":13.190291945128385},{"$f":"('2012'!O41/'2012 Rate'!$AA41)*1000","v":11.51952163207879},{"$f":"('2012'!P41/'2012 Rate'!$AA41)*1000","v":-0.58037284558564894},{"$f":"('2012'!Q41/'2012 Rate'!$AA41)*1000","v":3.3679212099894476},{"$f":"('2012'!R41/'2012 Rate'!$AA41)*1000","v":3.9482940555750963},null,{"$f":"('2012'!T41/'2012 Rate'!$AA41)*1000","v":1.1871262750615545},null,null,null,null,null,"Borders",{"$f":"AA30","v":113720}]
[39,"Dumfries and Galloway",null,{"$f":"('2012'!D42/'2012 Rate'!$AA42)*1000","v":-0.84858127817555029},{"$f":"('2012'!E42/'2012 Rate'!$AA42)*1000","v":-0.11270220100769027},{"$f":"('2012'!F42/'2012 Rate'!$AA42)*1000","v":-0.49721559268098647},{"$f":"('2012'!G42/'2012 Rate'!$AA42)*1000","v":-0.23866348448687352},{"$f":"('2012'!H42/'2012 Rate'!$AA42)*1000","v":25.424290639087776},{"$f":"('2012'!I42/'2012 Rate'!$AA42)*1000","v":26.272871917263323},{"$f":"('2012'!J42/'2012 Rate'!$AA42)*1000","v":-1.1270220100769028},{"$f":"('2012'!K42/'2012 Rate'!$AA42)*1000","v":11.39618138424821},{"$f":"('2012'!L42/'2012 Rate'!$AA42)*1000","v":12.523203394325112},{"$f":"('2012'!M42/'2012 Rate'!$AA42)*1000","v":2.1347122779103689},{"$f":"('2012'!N42/'2012 Rate'!$AA42)*1000","v":12.410501193317423},{"$f":"('2012'!O42/'2012 Rate'!$AA42)*1000","v":10.275788915407054},{"$f":"('2012'!P42/'2012 Rate'!$AA42)*1000","v":-1.8562715460090162},{"$f":"('2012'!Q42/'2012 Rate'!$AA42)*1000","v":1.6176080615221426},{"$f":"('2012'!R42/'2012 Rate'!$AA42)*1000","v":3.4738796075311589},null,{"$f":"('2012'!T42/'2012 Rate'!$AA42)*1000","v":0.59665871121718383},null,null,null,null,null,"Dumfries & Galloway",{"$f":"AA11","v":150840}]
[40,"Fife",null,{"$f":"('2012'!D43/'2012 Rate'!$AA43)*1000","v":1.7012096884301358},{"$f":"('2012'!E43/'2012 Rate'!$AA43)*1000","v":0.1693017667458562},{"$f":"('2012'!F43/'2012 Rate'!$AA43)*1000","v":1.2943393135086425},{"$f":"('2012'!G43/'2012 Rate'!$AA43)*1000","v":0.23756860817563694},{"$f":"('2012'!H43/'2012 Rate'!$AA43)*1000","v":29.330165751890991},{"$f":"('2012'!I43/'2012 Rate'!$AA43)*1000","v":27.628956063460855},{"$f":"('2012'!J43/'2012 Rate'!$AA43)*1000","v":0.54067338412386334},{"$f":"('2012'!K43/'2012 Rate'!$AA43)*1000","v":16.181972092515224},{"$f":"('2012'!L43/'2012 Rate'!$AA43)*1000","v":15.641298708391361},{"$f":"('2012'!M43/'2012 Rate'!$AA43)*1000","v":0.18022446137462111},{"$f":"('2012'!N43/'2012 Rate'!$AA43)*1000","v":7.7906119439665762},{"$f":"('2012'!O43/'2012 Rate'!$AA43)*1000","v":7.610387482591956},{"$f":"('2012'!P43/'2012 Rate'!$AA43)*1000","v":0.9803118429316513},{"$f":"('2012'!Q43/'2012 Rate'!$AA43)*1000","v":5.3575817154091911},{"$f":"('2012'!R43/'2012 Rate'!$AA43)*1000","v":4.3772698724775401},null,{"$f":"('2012'!T43/'2012 Rate'!$AA43)*1000","v":1.097730810190874},null,null,null,null,null,"Fife",{"$f":"AA18","v":366210}]
[41,"Forth Valley",null,{"$f":"('2012'!D44/'2012 Rate'!$AA44)*1000","v":2.922197331906784},{"$f":"('2012'!E44/'2012 Rate'!$AA44)*1000","v":0.47811695476278043},{"$f":"('2012'!F44/'2012 Rate'!$AA44)*1000","v":2.2668761911130431},{"$f":"('2012'!G44/'2012 Rate'!$AA44)*1000","v":0.17720418603096058},{"$f":"('2012'!H44/'2012 Rate'!$AA44)*1000","v":30.459059146076431},{"$f":"('2012'!I44/'2012 Rate'!$AA44)*1000","v":27.536861814169647},{"$f":"('2012'!J44/'2012 Rate'!$AA44)*1000","v":1.1000033434752081},{"$f":"('2012'!K44/'2012 Rate'!$AA44)*1000","v":18.770269818449297},{"$f":"('2012'!L44/'2012 Rate'!$AA44)*1000","v":17.670266474974088},{"$f":"('2012'!M44/'2012 Rate'!$AA44)*1000","v":0.695442843291317},{"$f":"('2012'!N44/'2012 Rate'!$AA44)*1000","v":6.7337590691765019},{"$f":"('2012'!O44/'2012 Rate'!$AA44)*1000","v":6.0383162258851852},{"$f":"('2012'!P44/'2012 Rate'!$AA44)*1000","v":1.1267511451402588},{"$f":"('2012'!Q44/'2012 Rate'!$AA44)*1000","v":4.9550302584506332},{"$f":"('2012'!R44/'2012 Rate'!$AA44)*1000","v":3.8282791133103751},null,{"$f":"('2012'!T44/'2012 Rate'!$AA44)*1000","v":0.96960781035808619},null,null,null,null,null,"Forth Valley",{"$f":"AA10+AA17+AA34","v":299090}]
[42,"Grampian",null,{"$f":"('2012'!D45/'2012 Rate'!$AA45)*1000","v":6.2085803976281833},{"$f":"('2012'!E45/'2012 Rate'!$AA45)*1000","v":1.3550749912800837},{"$f":"('2012'!F45/'2012 Rate'!$AA45)*1000","v":5.2563655388908268},{"$f":"('2012'!G45/'2012 Rate'!$AA45)*1000","v":-0.40286013254272762},{"$f":"('2012'!H45/'2012 Rate'!$AA45)*1000","v":33.589117544471577},{"$f":"('2012'!I45/'2012 Rate'!$AA45)*1000","v":27.380537146843391},{"$f":"('2012'!J45/'2012 Rate'!$AA45)*1000","v":1.0516219044297175},{"$f":"('2012'!K45/'2012 Rate'!$AA45)*1000","v":13.372863620509243},{"$f":"('2012'!L45/'2012 Rate'!$AA45)*1000","v":12.321241716079525},{"$f":"('2012'!M45/'2012 Rate'!$AA45)*1000","v":1.2992675270317404},{"$f":"('2012'!N45/'2012 Rate'!$AA45)*1000","v":10.116846878269969},{"$f":"('2012'!O45/'2012 Rate'!$AA45)*1000","v":8.8175793512382281},{"$f":"('2012'!P45/'2012 Rate'!$AA45)*1000","v":3.8576909661667247},{"$f":"('2012'!Q45/'2012 Rate'!$AA45)*1000","v":10.099407045692361},{"$f":"('2012'!R45/'2012 Rate'!$AA45)*1000","v":6.2417160795256361},null,{"$f":"('2012'!T45/'2012 Rate'!$AA45)*1000","v":2.3927450296477151},null,null,null,null,null,"Grampian",{"$f":"AA5+AA6+AA23","v":573400}]
[43,"Greater Glasgow and Clyde",null,{"$f":"('2012'!D46/'2012 Rate'!$AA46)*1000","v":0.54074490908451445},{"$f":"('2012'!E46/'2012 Rate'!$AA46)*1000","v":-0.41852776703126648},{"$f":"('2012'!F46/'2012 Rate'!$AA46)*1000","v":1.3074596419653219},{"$f":"('2012'!G46/'2012 Rate'!$AA46)*1000","v":-0.34818696584954101},{"$f":"('2012'!H46/'2012 Rate'!$AA46)*1000","v":28.23919389441846},{"$f":"('2012'!I46/'2012 Rate'!$AA46)*1000","v":27.698448985333943},{"$f":"('2012'!J46/'2012 Rate'!$AA46)*1000","v":-1.7426933492772483},{"$f":"('2012'!K46/'2012 Rate'!$AA46)*1000","v":13.034150458973729},{"$f":"('2012'!L46/'2012 Rate'!$AA46)*1000","v":14.776843808250977},{"$f":"('2012'!M46/'2012 Rate'!$AA46)*1000","v":-0.39830478669152042},{"$f":"('2012'!N46/'2012 Rate'!$AA46)*1000","v":6.9804452572714801},{"$f":"('2012'!O46/'2012 Rate'!$AA46)*1000","v":7.3787500439630005},{"$f":"('2012'!P46/'2012 Rate'!$AA46)*1000","v":2.6817430450532829},{"$f":"('2012'!Q46/'2012 Rate'!$AA46)*1000","v":8.2245981781732507},{"$f":"('2012'!R46/'2012 Rate'!$AA46)*1000","v":5.5428551331199669},null,{"$f":"('2012'!T46/'2012 Rate'!$AA46)*1000","v":2.0108676537825767},null,null,null,null,null,"Greater Glasgow & Clyde",{"$f":"AA16+AA21+AA29+AA35+AA14+AA19","v":1137320}]
[44,"Highland",null,{"$f":"('2012'!D47/'2012 Rate'!$AA47)*1000","v":-0.35959974984365228},{"$f":"('2012'!E47/'2012 Rate'!$AA47)*1000","v":-0.2032520325203252},{"$f":"('2012'!F47/'2012 Rate'!$AA47)*1000","v":0.18449030644152595},{"$f":"('2012'!G47/'2012 Rate'!$AA47)*1000","v":-0.34083802376485306},{"$f":"('2012'!H47/'2012 Rate'!$AA47)*1000","v":33.289555972482802},{"$f":"('2012'!I47/'2012 Rate'!$AA47)*1000","v":33.649155722326455},{"$f":"('2012'!J47/'2012 Rate'!$AA47)*1000","v":-1.3133208255159474},{"$f":"('2012'!K47/'2012 Rate'!$AA47)*1000","v":18.370856785490929},{"$f":"('2012'!L47/'2012 Rate'!$AA47)*1000","v":19.684177611006877},{"$f":"('2012'!M47/'2012 Rate'!$AA47)*1000","v":2.0356472795497185},{"$f":"('2012'!N47/'2012 Rate'!$AA47)*1000","v":11.588492808005004},{"$f":"('2012'!O47/'2012 Rate'!$AA47)*1000","v":9.5528455284552845},{"$f":"('2012'!P47/'2012 Rate'!$AA47)*1000","v":-1.0819262038774233},{"$f":"('2012'!Q47/'2012 Rate'!$AA47)*1000","v":3.3302063789868668},{"$f":"('2012'!R47/'2012 Rate'!$AA47)*1000","v":4.4121325828642899},null,{"$f":"('2012'!T47/'2012 Rate'!$AA47)*1000","v":1.2664165103189495},null,null,null,null,null,"Highland",{"$f":"AA20+AA8","v":319800}]
[45,"Lanarkshire",null,{"$f":"('2012'!D48/'2012 Rate'!$AA48)*1000","v":0.21005182300450767},{"$f":"('2012'!E48/'2012 Rate'!$AA48)*1000","v":0.50443102020790531},{"$f":"('2012'!F48/'2012 Rate'!$AA48)*1000","v":-0.35264174664990344},{"$f":"('2012'!G48/'2012 Rate'!$AA48)*1000","v":5.8262549446505781E-2},{"$f":"('2012'!H48/'2012 Rate'!$AA48)*1000","v":19.499555364754226},{"$f":"('2012'!I48/'2012 Rate'!$AA48)*1000","v":19.289503541749717},{"$f":"('2012'!J48/'2012 Rate'!$AA48)*1000","v":0.85093986691607126},{"$f":"('2012'!K48/'2012 Rate'!$AA48)*1000","v":14.053540216491369},{"$f":"('2012'!L48/'2012 Rate'!$AA48)*1000","v":13.202600349575295},{"$f":"('2012'!M48/'2012 Rate'!$AA48)*1000","v":0.1640550734414768},{"$f":"('2012'!N48/'2012 Rate'!$AA48)*1000","v":3.9480543374934838},{"$f":"('2012'!O48/'2012 Rate'!$AA48)*1000","v":3.783999264052007},{"$f":"('2012'!P48/'2012 Rate'!$AA48)*1000","v":-0.80494311735304036},{"$f":"('2012'!Q48/'2012 Rate'!$AA48)*1000","v":1.4979608107693723},{"$f":"('2012'!R48/'2012 Rate'!$AA48)*1000","v":2.3029039281224124},null,{"$f":"('2012'!T48/'2012 Rate'!$AA48)*1000","v":0.67001931863481645},null,null,null,null,null,"Lanarkshire",{"$f":"AA26+AA33","v":652220}]
[46,"Lothian",null,{"$f":"('2012'!D49/'2012 Rate'!$AA49)*1000","v":6.4782990020622471},{"$f":"('2012'!E49/'2012 Rate'!$AA49)*1000","v":0.4491905089245502},{"$f":"('2012'!F49/'2012 Rate'!$AA49)*1000","v":5.8785881906748525},{"$f":"('2012'!G49/'2012 Rate'!$AA49)*1000","v":0.15052030246284401},{"$f":"('2012'!H49/'2012 Rate'!$AA49)*1000","v":39.537061179984349},{"$f":"('2012'!I49/'2012 Rate'!$AA49)*1000","v":33.058762177922105},{"$f":"('2012'!J49/'2012 Rate'!$AA49)*1000","v":0.74786071538625642},{"$f":"('2012'!K49/'2012 Rate'!$AA49)*1000","v":14.868324365325812},{"$f":"('2012'!L49/'2012 Rate'!$AA49)*1000","v":14.120463649939555},{"$f":"('2012'!M49/'2012 Rate'!$AA49)*1000","v":0.44563491122857757},{"$f":"('2012'!N49/'2012 Rate'!$AA49)*1000","v":12.070068978595302},{"$f":"('2012'!O49/'2012 Rate'!$AA49)*1000","v":11.624434067366725},{"$f":"('2012'!P49/'2012 Rate'!$AA49)*1000","v":5.2848033754474129},{"$f":"('2012'!Q49/'2012 Rate'!$AA49)*1000","v":12.598667836063242},{"$f":"('2012'!R49/'2012 Rate'!$AA49)*1000","v":7.3138644606158287},null,{"$f":"('2012'!T49/'2012 Rate'!$AA49)*1000","v":2.5991419157560385},null,null,null,null,null,"Lothian",{"$f":"AA15+AA9+AA22+AA36","v":843740}]
[47,"Orkney",null,{"$f":"('2012'!D50/'2012 Rate'!$AA50)*1000","v":4.9233627496516483},{"$f":"('2012'!E50/'2012 Rate'!$AA50)*1000","v":1.8578727357176035},{"$f":"('2012'!F50/'2012 Rate'!$AA50)*1000","v":3.2512772875058058},{"$f":"('2012'!G50/'2012 Rate'!$AA50)*1000","v":-0.18578727357176034},{"$f":"('2012'!H50/'2012 Rate'!$AA50)*1000","v":34.138411518810962},{"$f":"('2012'!I50/'2012 Rate'!$AA50)*1000","v":29.215048769159313},{"$f":"('2012'!J50/'2012 Rate'!$AA50)*1000","v":2.0436600092893635},{"$f":"('2012'!K50/'2012 Rate'!$AA50)*1000","v":19.228982814677195},{"$f":"('2012'!L50/'2012 Rate'!$AA50)*1000","v":17.185322805387834},{"$f":"('2012'!M50/'2012 Rate'!$AA50)*1000","v":4.412447747329308},{"$f":"('2012'!N50/'2012 Rate'!$AA50)*1000","v":13.144449605202043},{"$f":"('2012'!O50/'2012 Rate'!$AA50)*1000","v":8.7320018578727367},{"$f":"('2012'!P50/'2012 Rate'!$AA50)*1000","v":-1.5327450069670228},{"$f":"('2012'!Q50/'2012 Rate'!$AA50)*1000","v":1.7649790989317231},{"$f":"('2012'!R50/'2012 Rate'!$AA50)*1000","v":3.2977241058987459},null,{"$f":"('2012'!T50/'2012 Rate'!$AA50)*1000","v":0.51091500232234088},null,null,null,null,null,"Orkney",{"$f":"AA27","v":21530}]
[48,"Shetland",null,{"$f":"('2012'!D51/'2012 Rate'!$AA51)*1000","v":-2.9297716501507973},{"$f":"('2012'!E51/'2012 Rate'!$AA51)*1000","v":-1.1632916846186989},{"$f":"('2012'!F51/'2012 Rate'!$AA51)*1000","v":-2.5420077552778975},{"$f":"('2012'!G51/'2012 Rate'!$AA51)*1000","v":0.77552778974579928},{"$f":"('2012'!H51/'2012 Rate'!$AA51)*1000","v":28.69452822059457},{"$f":"('2012'!I51/'2012 Rate'!$AA51)*1000","v":31.624299870745368},{"$f":"('2012'!J51/'2012 Rate'!$AA51)*1000","v":-4.4808272296423954},{"$f":"('2012'!K51/'2012 Rate'!$AA51)*1000","v":13.830245583800085},{"$f":"('2012'!L51/'2012 Rate'!$AA51)*1000","v":18.311072813442482},{"$f":"('2012'!M51/'2012 Rate'!$AA51)*1000","v":1.4648858250753987},{"$f":"('2012'!N51/'2012 Rate'!$AA51)*1000","v":10.94355881085739},{"$f":"('2012'!O51/'2012 Rate'!$AA51)*1000","v":9.4786729857819907},{"$f":"('2012'!P51/'2012 Rate'!$AA51)*1000","v":8.6169754416199909E-2},{"$f":"('2012'!Q51/'2012 Rate'!$AA51)*1000","v":3.9207238259370958},{"$f":"('2012'!R51/'2012 Rate'!$AA51)*1000","v":3.8345540715208961},null,{"$f":"('2012'!T51/'2012 Rate'!$AA51)*1000","v":0.90478242137009912},null,null,null,null,null,"Shetland",{"$f":"AA31","v":23210}]
[49,"Tayside",null,{"$f":"('2012'!D52/'2012 Rate'!$AA52)*1000","v":4.2016806722689077},{"$f":"('2012'!E52/'2012 Rate'!$AA52)*1000","v":0.50517316753290908},{"$f":"('2012'!F52/'2012 Rate'!$AA52)*1000","v":3.6697916160683928},{"$f":"('2012'!G52/'2012 Rate'!$AA52)*1000","v":2.6715888667605773E-2},{"$f":"('2012'!H52/'2012 Rate'!$AA52)*1000","v":34.028756011074947},{"$f":"('2012'!I52/'2012 Rate'!$AA52)*1000","v":29.827075338806043},{"$f":"('2012'!J52/'2012 Rate'!$AA52)*1000","v":0.92048380045659883},{"$f":"('2012'!K52/'2012 Rate'!$AA52)*1000","v":17.316753290911741},{"$f":"('2012'!L52/'2012 Rate'!$AA52)*1000","v":16.396269490455143},{"$f":"('2012'!M52/'2012 Rate'!$AA52)*1000","v":0.78447563996696945},{"$f":"('2012'!N52/'2012 Rate'!$AA52)*1000","v":8.6098023024238604},{"$f":"('2012'!O52/'2012 Rate'!$AA52)*1000","v":7.8253266624568898},{"$f":"('2012'!P52/'2012 Rate'!$AA52)*1000","v":2.4967212318453393},{"$f":"('2012'!Q52/'2012 Rate'!$AA52)*1000","v":8.1022004177393505},{"$f":"('2012'!R52/'2012 Rate'!$AA52)*1000","v":5.6054791858940112},null,{"$f":"('2012'!T52/'2012 Rate'!$AA52)*1000","v":1.4572302909603148},null,null,null,null,null,"Tayside",{"$f":"AA28+AA7+AA12","v":411740}]
[50,"Western Isles",null,{"$f":"('2012'!D53/'2012 Rate'!$AA53)*1000","v":0.47169811320754718},{"$f":"('2012'!E53/'2012 Rate'!$AA53)*1000","v":0.94339622641509435},{"$f":"('2012'!F53/'2012 Rate'!$AA53)*1000","v":-0.94339622641509435},{"$f":"('2012'!G53/'2012 Rate'!$AA53)*1000","v":0.47169811320754718},{"$f":"('2012'!H53/'2012 Rate'!$AA53)*1000","v":31.422351233671986},{"$f":"('2012'!I53/'2012 Rate'!$AA53)*1000","v":30.950653120464441},{"$f":"('2012'!J53/'2012 Rate'!$AA53)*1000","v":-1.0885341074020318},{"$f":"('2012'!K53/'2012 Rate'!$AA53)*1000","v":20.06531204644412},{"$f":"('2012'!L53/'2012 Rate'!$AA53)*1000","v":21.153846153846153},{"$f":"('2012'!M53/'2012 Rate'!$AA53)*1000","v":2.9027576197387517},{"$f":"('2012'!N53/'2012 Rate'!$AA53)*1000","v":9.7605224963715518},{"$f":"('2012'!O53/'2012 Rate'!$AA53)*1000","v":6.8577648766328005},{"$f":"('2012'!P53/'2012 Rate'!$AA53)*1000","v":-1.3425253991291726},{"$f":"('2012'!Q53/'2012 Rate'!$AA53)*1000","v":1.5965166908563135},{"$f":"('2012'!R53/'2012 Rate'!$AA53)*1000","v":2.9390420899854863},null,{"$f":"('2012'!T53/'2012 Rate'!$AA53)*1000","v":0.47169811320754718},null,null,null,null,null,"Western Isles",{"$f":"AA24","v":27560}]

{"sheet":"2013","index":37,"n_rows":53,"n_cols":25,"rows_kept":53,"cut":false,"hidden":true,"merged":[]}
[null,2013]
[null,null,"Not specified ",{"$f":"'Comparing Indicators'!$U8","v":"Total net migration"},{"$f":"'Comparing Indicators'!$U9","v":"Total net migration for ages 0-15"},{"$f":"'Comparing Indicators'!$U10","v":"Total net migration for ages 16-64"},{"$f":"'Comparing Indicators'!$U11","v":"Total net migration for people aged 65+"},{"$f":"'Comparing Indicators'!$U12","v":"Total in-migration"},{"$f":"'Comparing Indicators'!$U13","v":"Total out-migration"},{"$f":"'Comparing Indicators'!$U14","v":"Within Scotland net migration"},{"$f":"'Comparing Indicators'!$U15","v":"Within Scotland in-migration"},{"$f":"'Comparing Indicators'!$U16","v":"Within Scotland out-migration"},{"$f":"'Comparing Indicators'!$U17","v":"Rest of UK net migration"},{"$f":"'Comparing Indicators'!$U18","v":"Rest of UK in-migration"},{"$f":"'Comparing Indicators'!$U19","v":"Rest of UK out-migration"},{"$f":"'Comparing Indicators'!$U20","v":"Overseas net migration"},{"$f":"'Comparing Indicators'!$U21","v":"Overseas in-migration"},{"$f":"'Comparing Indicators'!$U22","v":"Overseas out-migration"},{"$f":"'Comparing Indicators'!$U23","v":"NINo Allocation"},{"$f":"'Comparing Indicators'!$U24","v":"Births to non-UK mothers"},{"$f":"'Comparing Indicators'!$U25","v":"Pupils from a minority ethnic group"},{"$f":"'Comparing Indicators'!$U26","v":"Pupils with English as an additional language"},{"$f":"'Comparing Indicators'!$U27","v":"Population born outside the UK"},{"$f":"'Comparing Indicators'!$U28","v":"Population with non-British nationality"},{"$f":"'Comparing Indicators'!$U29","v":"Citizenships"}]
[1,"Not specified"]
[2,"SCOTLAND",null,{"$f":"'Total net migration'!K4","v":9962},{"$f":"'Total net migration 0-15'!K4","v":1877},{"$f":"'Total net migration 16-64'!K4","v":8267},{"$f":"'Total net migration 65+'!K4","v":-182},{"$f":"'Total in-migration'!K4","v":75885},{"$f":"'Total out-migration'!K4","v":65923},"N/A","N/A","N/A",{"$f":"'Rest of UK net migration'!K4","v":7862},{"$f":"'Rest of UK in-migration'!K4","v":47685},{"$f":"'Rest of UK out-migration'!K4","v":39823},{"$f":"'Overseas net migration'!K4","v":2100},{"$f":"'Overseas in-migration'!K4","v":28200},{"$f":"'Overseas out-migration'!K4","v":26100},{"$f":"NINo!K5","v":39470},{"$f":"'Non-UK Births'!K5","v":8634},{"$f":"'Pupils ethnic group'!L5","v":39073},{"$f":"'Pupils with English as an add.'!I4","v":29532},{"$f":"'Pop born outside UK'!K5","v":353000},{"$f":"'Non-British Population'!K5","v":264000},{"$f":"Citizenships!K5","v":5716}]
[3,"Aberdeen City",null,{"$f":"'Total net migration'!K5","v":1664},{"$f":"'Total net migration 0-15'!K5","v":-296},{"$f":"'Total net migration 16-64'!K5","v":2079},{"$f":"'Total net migration 65+'!K5","v":-119},{"$f":"'Total in-migration'!K5","v":14041},{"$f":"'Total out-migration'!K5","v":12377},{"$f":"'Within Scotland net migration'!K5","v":-195},{"$f":"'Within Scotland in-migration'!K5","v":7418},{"$f":"'Within Scotland out-migration'!K5","v":7613},{"$f":"'Rest of UK net migration'!K5","v":557},{"$f":"'Rest of UK in-migration'!K5","v":2987},{"$f":"'Rest of UK out-migration'!K5","v":2430},{"$f":"'Overseas net migration'!K5","v":1302},{"$f":"'Overseas in-migration'!K5","v":3636},{"$f":"'Overseas out-migration'!K5","v":2334},{"$f":"NINo!K6","v":4930},{"$f":"'Non-UK Births'!K6","v":940},{"$f":"'Pupils ethnic group'!L6","v":2412},{"$f":"'Pupils with English as an add.'!I5","v":2132},{"$f":"'Pop born outside UK'!K6","v":42000},{"$f":"'Non-British Population'!K6","v":38000},{"$f":"Citizenships!K6","v":857}]
[4,"Aberdeenshire",null,{"$f":"'Total net migration'!K6","v":1664},{"$f":"'Total net migration 0-15'!K6","v":745},{"$f":"'Total net migration 16-64'!K6","v":1039},{"$f":"'Total net migration 65+'!K6","v":-120},{"$f":"'Total in-migration'!K6","v":9553},{"$f":"'Total out-migration'!K6","v":7889},{"$f":"'Within Scotland net migration'!K6","v":1183},{"$f":"'Within Scotland in-migration'!K6","v":6667},{"$f":"'Within Scotland out-migration'!K6","v":5484},{"$f":"'Rest of UK net migration'!K6","v":365},{"$f":"'Rest of UK in-migration'!K6","v":1908},{"$f":"'Rest of UK out-migration'!K6","v":1543},{"$f":"'Overseas net migration'!K6","v":116},{"$f":"'Overseas in-migration'!K6","v":978},{"$f":"'Overseas out-migration'!K6","v":862},{"$f":"NINo!K7","v":1610},{"$f":"'Non-UK Births'!K7","v":364},{"$f":"'Pupils ethnic group'!L7","v":811},{"$f":"'Pupils with English as an add.'!I6","v":1216},{"$f":"'Pop born outside UK'!K7","v":11000},{"$f":"'Non-British Population'!K7","v":7000},{"$f":"Citizenships!K7","v":220}]
[5,"Angus",null,{"$f":"'Total net migration'!K7","v":113},{"$f":"'Total net migration 0-15'!K7","v":67},{"$f":"'Total net migration 16-64'!K7","v":-36},{"$f":"'Total net migration 65+'!K7","v":82},{"$f":"'Total in-migration'!K7","v":3945},{"$f":"'Total out-migration'!K7","v":3832},{"$f":"'Within Scotland net migration'!K7","v":162},{"$f":"'Within Scotland in-migration'!K7","v":2931},{"$f":"'Within Scotland out-migration'!K7","v":2769},{"$f":"'Rest of UK net migration'!K7","v":38},{"$f":"'Rest of UK in-migration'!K7","v":735},{"$f":"'Rest of UK out-migration'!K7","v":697},{"$f":"'Overseas net migration'!K7","v":-87},{"$f":"'Overseas in-migration'!K7","v":279},{"$f":"'Overseas out-migration'!K7","v":366},{"$f":"NINo!K8","v":1240},{"$f":"'Non-UK Births'!K8","v":133},{"$f":"'Pupils ethnic group'!L8","v":322},{"$f":"'Pupils with English as an add.'!I7","v":379},{"$f":"'Pop born outside UK'!K8","v":6000},{"$f":"'Non-British Population'!K8","v":5000},{"$f":"Citizenships!K8","v":43}]
[6,"Argyll and Bute",null,{"$f":"'Total net migration'!K8","v":-23},{"$f":"'Total net migration 0-15'!K8","v":99},{"$f":"'Total net migration 16-64'!K8","v":-76},{"$f":"'Total net migration 65+'!K8","v":-46},{"$f":"'Total in-migration'!K8","v":3931},{"$f":"'Total out-migration'!K8","v":3954},{"$f":"'Within Scotland net migration'!K8","v":-196},{"$f":"'Within Scotland in-migration'!K8","v":2313},{"$f":"'Within Scotland out-migration'!K8","v":2509},{"$f":"'Rest of UK net migration'!K8","v":384},{"$f":"'Rest of UK in-migration'!K8","v":1383},{"$f":"'Rest of UK out-migration'!K8","v":999},{"$f":"'Overseas net migration'!K8","v":-211},{"$f":"'Overseas in-migration'!K8","v":235},{"$f":"'Overseas out-migration'!K8","v":446},{"$f":"NINo!K9","v":460},{"$f":"'Non-UK Births'!K9","v":70},{"$f":"'Pupils ethnic group'!L9","v":219},{"$f":"'Pupils with English as an add.'!I8","v":145},{"$f":"'Pop born outside UK'!K9","v":4000},{"$f":"'Non-British Population'!K9","v":2000},{"$f":"Citizenships!K9","v":36}]
[7,"City of Edinburgh",null,{"$f":"'Total net migration'!K9","v":2998},{"$f":"'Total net migration 0-15'!K9","v":-151},{"$f":"'Total net migration 16-64'!K9","v":3149},{"$f":"'Total net migration 65+'!K9","v":0},{"$f":"'Total in-migration'!K9","v":27834},{"$f":"'Total out-migration'!K9","v":24836},{"$f":"'Within Scotland net migration'!K9","v":-614},{"$f":"'Within Scotland in-migration'!K9","v":11500},{"$f":"'Within Scotland out-migration'!K9","v":12114},{"$f":"'Rest of UK net migration'!K9","v":1659},{"$f":"'Rest of UK in-migration'!K9","v":9083},{"$f":"'Rest of UK out-migration'!K9","v":7424},{"$f":"'Overseas net migration'!K9","v":1953},{"$f":"'Overseas in-migration'!K9","v":7251},{"$f":"'Overseas out-migration'!K9","v":5298},{"$f":"NINo!K10","v":11360},{"$f":"'Non-UK Births'!K10","v":1700},{"$f":"'Pupils ethnic group'!L10","v":6082},{"$f":"'Pupils with English as an add.'!I9","v":4861},{"$f":"'Pop born outside UK'!K10","v":67000},{"$f":"'Non-British Population'!K10","v":52000},{"$f":"Citizenships!K10","v":1054}]
[8,"Clackmannanshire",null,{"$f":"'Total net migration'!K10","v":-59},{"$f":"'Total net migration 0-15'!K10","v":45},{"$f":"'Total net migration 16-64'!K10","v":-119},{"$f":"'Total net migration 65+'!K10","v":15},{"$f":"'Total in-migration'!K10","v":1602},{"$f":"'Total out-migration'!K10","v":1661},{"$f":"'Within Scotland net migration'!K10","v":-85},{"$f":"'Within Scotland in-migration'!K10","v":1182},{"$f":"'Within Scotland out-migration'!K10","v":1267},{"$f":"'Rest of UK net migration'!K10","v":60},{"$f":"'Rest of UK in-migration'!K10","v":346},{"$f":"'Rest of UK out-migration'!K10","v":286},{"$f":"'Overseas net migration'!K10","v":-34},{"$f":"'Overseas in-migration'!K10","v":74},{"$f":"'Overseas out-migration'!K10","v":108},{"$f":"NINo!K11","v":140},{"$f":"'Non-UK Births'!K11","v":42},{"$f":"'Pupils ethnic group'!L11","v":200},{"$f":"'Pupils with English as an add.'!I10","v":139},{"$f":"'Pop born outside UK'!K11","v":2000},{"$f":"'Non-British Population'!K11","v":2000},{"$f":"Citizenships!K11","v":18}]
[9,"Dumfries and Galloway",null,{"$f":"'Total net migration'!K11","v":-6},{"$f":"'Total net migration 0-15'!K11","v":9},{"$f":"'Total net migration 16-64'!K11","v":19},{"$f":"'Total net migration 65+'!K11","v":-34},{"$f":"'Total in-migration'!K11","v":3981},{"$f":"'Total out-migration'!K11","v":3987},{"$f":"'Within Scotland net migration'!K11","v":-194},{"$f":"'Within Scotland in-migration'!K11","v":1734},{"$f":"'Within Scotland out-migration'!K11","v":1928},{"$f":"'Rest of UK net migration'!K11","v":523},{"$f":"'Rest of UK in-migration'!K11","v":2047},{"$f":"'Rest of UK out-migration'!K11","v":1524},{"$f":"'Overseas net migration'!K11","v":-335},{"$f":"'Overseas in-migration'!K11","v":200},{"$f":"'Overseas out-migration'!K11","v":535},{"$f":"NINo!K12","v":280},{"$f":"'Non-UK Births'!K12","v":98},{"$f":"'Pupils ethnic group'!L12","v":399},{"$f":"'Pupils with English as an add.'!I11","v":298},{"$f":"'Pop born outside UK'!K12","v":4000},{"$f":"'Non-British Population'!K12","v":2000},{"$f":"Citizenships!K12","v":42}]
[10,"Dundee City",null,{"$f":"'Total net migration'!K12","v":309},{"$f":"'Total net migration 0-15'!K12","v":-37},{"$f":"'Total net migration 16-64'!K12","v":395},{"$f":"'Total net migration 65+'!K12","v":-49},{"$f":"'Total in-migration'!K12","v":7071},{"$f":"'Total out-migration'!K12","v":6762},{"$f":"'Within Scotland net migration'!K12","v":-249},{"$f":"'Within Scotland in-migration'!K12","v":4170},{"$f":"'Within Scotland out-migration'!K12","v":4419},{"$f":"'Rest of UK net migration'!K12","v":238},{"$f":"'Rest of UK in-migration'!K12","v":1527},{"$f":"'Rest of UK out-migration'!K12","v":1289},{"$f":"'Overseas net migration'!K12","v":320},{"$f":"'Overseas in-migration'!K12","v":1374},{"$f":"'Overseas out-migration'!K12","v":1054},{"$f":"NINo!K13","v":1300},{"$f":"'Non-UK Births'!K13","v":238},{"$f":"'Pupils ethnic group'!L13","v":1440},{"$f":"'Pupils with English as an add.'!I12","v":959},{"$f":"'Pop born outside UK'!K13","v":15000},{"$f":"'Non-British Population'!K13","v":14000},{"$f":"Citizenships!K13","v":192}]
[11,"East Ayrshire",null,{"$f":"'Total net migration'!K13","v":-120},{"$f":"'Total net migration 0-15'!K13","v":-4},{"$f":"'Total net migration 16-64'!K13","v":-132},{"$f":"'Total net migration 65+'!K13","v":16},{"$f":"'Total in-migration'!K13","v":3108},{"$f":"'Total out-migration'!K13","v":3228},{"$f":"'Within Scotland net migration'!K13","v":-37},{"$f":"'Within Scotland in-migration'!K13","v":2366},{"$f":"'Within Scotland out-migration'!K13","v":2403},{"$f":"'Rest of UK net migration'!K13","v":78},{"$f":"'Rest of UK in-migration'!K13","v":664},{"$f":"'Rest of UK out-migration'!K13","v":586},{"$f":"'Overseas net migration'!K13","v":-161},{"$f":"'Overseas in-migration'!K13","v":78},{"$f":"'Overseas out-migration'!K13","v":239},{"$f":"NINo!K14","v":80},{"$f":"'Non-UK Births'!K14","v":45},{"$f":"'Pupils ethnic group'!L14","v":332},{"$f":"'Pupils with English as an add.'!I13","v":126},{"$f":"'Pop born outside UK'!K14","v":2000},{"$f":"'Non-British Population'!K14","v":1000},{"$f":"Citizenships!K14","v":28}]
[12,"East Dunbartonshire",null,{"$f":"'Total net migration'!K14","v":92},{"$f":"'Total net migration 0-15'!K14","v":251},{"$f":"'Total net migration 16-64'!K14","v":-177},{"$f":"'Total net migration 65+'!K14","v":18},{"$f":"'Total in-migration'!K14","v":3512},{"$f":"'Total out-migration'!K14","v":3420},{"$f":"'Within Scotland net migration'!K14","v":287},{"$f":"'Within Scotland in-migration'!K14","v":2984},{"$f":"'Within Scotland out-migration'!K14","v":2697},{"$f":"'Rest of UK net migration'!K14","v":-73},{"$f":"'Rest of UK in-migration'!K14","v":451},{"$f":"'Rest of UK out-migration'!K14","v":524},{"$f":"'Overseas net migration'!K14","v":-122},{"$f":"'Overseas in-migration'!K14","v":77},{"$f":"'Overseas out-migration'!K14","v":199},{"$f":"NINo!K15","v":90},{"$f":"'Non-UK Births'!K15","v":73},{"$f":"'Pupils ethnic group'!L15","v":1148},{"$f":"'Pupils with English as an add.'!I14","v":377},{"$f":"'Pop born outside UK'!K15","v":5000},{"$f":"'Non-British Population'!K15","v":3000},{"$f":"Citizenships!K15","v":74}]
[13,"East Lothian",null,{"$f":"'Total net migration'!K15","v":521},{"$f":"'Total net migration 0-15'!K15","v":154},{"$f":"'Total net migration 16-64'!K15","v":313},{"$f":"'Total net migration 65+'!K15","v":54},{"$f":"'Total in-migration'!K15","v":3775},{"$f":"'Total out-migration'!K15","v":3254},{"$f":"'Within Scotland net migration'!K15","v":496},{"$f":"'Within Scotland in-migration'!K15","v":2820},{"$f":"'Within Scotland out-migration'!K15","v":2324},{"$f":"'Rest of UK net migration'!K15","v":77},{"$f":"'Rest of UK in-migration'!K15","v":703},{"$f":"'Rest of UK out-migration'!K15","v":626},{"$f":"'Overseas net migration'!K15","v":-52},{"$f":"'Overseas in-migration'!K15","v":252},{"$f":"'Overseas out-migration'!K15","v":304},{"$f":"NINo!K16","v":370},{"$f":"'Non-UK Births'!K16","v":115},{"$f":"'Pupils ethnic group'!L16","v":330},{"$f":"'Pupils with English as an add.'!I15","v":221},{"$f":"'Pop born outside UK'!K16","v":6000},{"$f":"'Non-British Population'!K16","v":4000},{"$f":"Citizenships!K16","v":49}]
[14,"East Renfrewshire",null,{"$f":"'Total net migration'!K16","v":539},{"$f":"'Total net migration 0-15'!K16","v":584},{"$f":"'Total net migration 16-64'!K16","v":-24},{"$f":"'Total net migration 65+'!K16","v":-21},{"$f":"'Total in-migration'!K16","v":3665},{"$f":"'Total out-migration'!K16","v":3126},{"$f":"'Within Scotland net migration'!K16","v":698},{"$f":"'Within Scotland in-migration'!K16","v":3156},{"$f":"'Within Scotland out-migration'!K16","v":2458},{"$f":"'Rest of UK net migration'!K16","v":-51},{"$f":"'Rest of UK in-migration'!K16","v":421},{"$f":"'Rest of UK out-migration'!K16","v":472},{"$f":"'Overseas net migration'!K16","v":-108},{"$f":"'Overseas in-migration'!K16","v":88},{"$f":"'Overseas out-migration'!K16","v":196},{"$f":"NINo!K17","v":100},{"$f":"'Non-UK Births'!K17","v":87},{"$f":"'Pupils ethnic group'!L17","v":2407},{"$f":"'Pupils with English as an add.'!I16","v":818},{"$f":"'Pop born outside UK'!K17","v":3000},{"$f":"'Non-British Population'!K17","v":1000},{"$f":"Citizenships!K17","v":82}]
[15,"Falkirk",null,{"$f":"'Total net migration'!K17","v":375},{"$f":"'Total net migration 0-15'!K17","v":70},{"$f":"'Total net migration 16-64'!K17","v":226},{"$f":"'Total net migration 65+'!K17","v":79},{"$f":"'Total in-migration'!K17","v":4076},{"$f":"'Total out-migration'!K17","v":3701},{"$f":"'Within Scotland net migration'!K17","v":396},{"$f":"'Within Scotland in-migration'!K17","v":3170},{"$f":"'Within Scotland out-migration'!K17","v":2774},{"$f":"'Rest of UK net migration'!K17","v":107},{"$f":"'Rest of UK in-migration'!K17","v":671},{"$f":"'Rest of UK out-migration'!K17","v":564},{"$f":"'Overseas net migration'!K17","v":-128},{"$f":"'Overseas in-migration'!K17","v":235},{"$f":"'Overseas out-migration'!K17","v":363},{"$f":"NINo!K18","v":380},{"$f":"'Non-UK Births'!K18","v":149},{"$f":"'Pupils ethnic group'!L18","v":678},{"$f":"'Pupils with English as an add.'!I17","v":497},{"$f":"'Pop born outside UK'!K18","v":7000},{"$f":"'Non-British Population'!K18","v":5000},{"$f":"Citizenships!K18","v":76}]
[16,"Fife",null,{"$f":"'Total net migration'!K18","v":304},{"$f":"'Total net migration 0-15'!K18","v":169},{"$f":"'Total net migration 16-64'!K18","v":121},{"$f":"'Total net migration 65+'!K18","v":14},{"$f":"'Total in-migration'!K18","v":10459},{"$f":"'Total out-migration'!K18","v":10155},{"$f":"'Within Scotland net migration'!K18","v":-120},{"$f":"'Within Scotland in-migration'!K18","v":5733},{"$f":"'Within Scotland out-migration'!K18","v":5853},{"$f":"'Rest of UK net migration'!K18","v":478},{"$f":"'Rest of UK in-migration'!K18","v":3216},{"$f":"'Rest of UK out-migration'!K18","v":2738},{"$f":"'Overseas net migration'!K18","v":-54},{"$f":"'Overseas in-migration'!K18","v":1510},{"$f":"'Overseas out-migration'!K18","v":1564},{"$f":"NINo!K19","v":1970},{"$f":"'Non-UK Births'!K19","v":407},{"$f":"'Pupils ethnic group'!L19","v":1477},{"$f":"'Pupils with English as an add.'!I18","v":903},{"$f":"'Pop born outside UK'!K19","v":20000},{"$f":"'Non-British Population'!K19","v":15000},{"$f":"Citizenships!K19","v":177}]
[17,"Glasgow City",null,{"$f":"'Total net migration'!K19","v":439},{"$f":"'Total net migration 0-15'!K19","v":-923},{"$f":"'Total net migration 16-64'!K19","v":1679},{"$f":"'Total net migration 65+'!K19","v":-317},{"$f":"'Total in-migration'!K19","v":28008},{"$f":"'Total out-migration'!K19","v":27569},{"$f":"'Within Scotland net migration'!K19","v":-1801},{"$f":"'Within Scotland in-migration'!K19","v":14999},{"$f":"'Within Scotland out-migration'!K19","v":16800},{"$f":"'Rest of UK net migration'!K19","v":175},{"$f":"'Rest of UK in-migration'!K19","v":5921},{"$f":"'Rest of UK out-migration'!K19","v":5746},{"$f":"'Overseas net migration'!K19","v":2065},{"$f":"'Overseas in-migration'!K19","v":7088},{"$f":"'Overseas out-migration'!K19","v":5023},{"$f":"NINo!K20","v":6820},{"$f":"'Non-UK Births'!K20","v":1986},{"$f":"'Pupils ethnic group'!L20","v":11772},{"$f":"'Pupils with English as an add.'!I19","v":10445},{"$f":"'Pop born outside UK'!K20","v":66000},{"$f":"'Non-British Population'!K20","v":48000},{"$f":"Citizenships!K20","v":1518}]
[18,"Highland",null,{"$f":"'Total net migration'!K20","v":93},{"$f":"'Total net migration 0-15'!K20","v":166},{"$f":"'Total net migration 16-64'!K20","v":-30},{"$f":"'Total net migration 65+'!K20","v":-43},{"$f":"'Total in-migration'!K20","v":7078},{"$f":"'Total out-migration'!K20","v":6985},{"$f":"'Within Scotland net migration'!K20","v":-428},{"$f":"'Within Scotland in-migration'!K20","v":3974},{"$f":"'Within Scotland out-migration'!K20","v":4402},{"$f":"'Rest of UK net migration'!K20","v":764},{"$f":"'Rest of UK in-migration'!K20","v":2485},{"$f":"'Rest of UK out-migration'!K20","v":1721},{"$f":"'Overseas net migration'!K20","v":-243},{"$f":"'Overseas in-migration'!K20","v":619},{"$f":"'Overseas out-migration'!K20","v":862},{"$f":"NINo!K21","v":1290},{"$f":"'Non-UK Births'!K21","v":316},{"$f":"'Pupils ethnic group'!L21","v":714},{"$f":"'Pupils with English as an add.'!I20","v":867},{"$f":"'Pop born outside UK'!K21","v":11000},{"$f":"'Non-British Population'!K21","v":8000},{"$f":"Citizenships!K21","v":183}]
[19,"Inverclyde",null,{"$f":"'Total net migration'!K21","v":-160},{"$f":"'Total net migration 0-15'!K21","v":36},{"$f":"'Total net migration 16-64'!K21","v":-195},{"$f":"'Total net migration 65+'!K21","v":-1},{"$f":"'Total in-migration'!K21","v":1403},{"$f":"'Total out-migration'!K21","v":1563},{"$f":"'Within Scotland net migration'!K21","v":-153},{"$f":"'Within Scotland in-migration'!K21","v":983},{"$f":"'Within Scotland out-migration'!K21","v":1136},{"$f":"'Rest of UK net migration'!K21","v":50},{"$f":"'Rest of UK in-migration'!K21","v":349},{"$f":"'Rest of UK out-migration'!K21","v":299},{"$f":"'Overseas net migration'!K21","v":-57},{"$f":"'Overseas in-migration'!K21","v":71},{"$f":"'Overseas out-migration'!K21","v":128},{"$f":"NINo!K22","v":80},{"$f":"'Non-UK Births'!K22","v":33},{"$f":"'Pupils ethnic group'!L22","v":184},{"$f":"'Pupils with English as an add.'!I21","v":53},{"$f":"'Pop born outside UK'!K22","v":2000},{"$f":"'Non-British Population'!K22","v":2000},{"$f":"Citizenships!K22","v":31}]
[20,"Midlothian",null,{"$f":"'Total net migration'!K22","v":576},{"$f":"'Total net migration 0-15'!K22","v":147},{"$f":"'Total net migration 16-64'!K22","v":443},{"$f":"'Total net migration 65+'!K22","v":-14},{"$f":"'Total in-migration'!K22","v":2988},{"$f":"'Total out-migration'!K22","v":2412},{"$f":"'Within Scotland net migration'!K22","v":565},{"$f":"'Within Scotland in-migration'!K22","v":2461},{"$f":"'Within Scotland out-migration'!K22","v":1896},{"$f":"'Rest of UK net migration'!K22","v":56},{"$f":"'Rest of UK in-migration'!K22","v":439},{"$f":"'Rest of UK out-migration'!K22","v":383},{"$f":"'Overseas net migration'!K22","v":-45},{"$f":"'Overseas in-migration'!K22","v":88},{"$f":"'Overseas out-migration'!K22","v":133},{"$f":"NINo!K23","v":180},{"$f":"'Non-UK Births'!K23","v":85},{"$f":"'Pupils ethnic group'!L23","v":373},{"$f":"'Pupils with English as an add.'!I22","v":230},{"$f":"'Pop born outside UK'!K23","v":3000},{"$f":"'Non-British Population'!K23","v":2000},{"$f":"Citizenships!K23","v":60}]
[21,"Moray",null,{"$f":"'Total net migration'!K23","v":596},{"$f":"'Total net migration 0-15'!K23","v":163},{"$f":"'Total net migration 16-64'!K23","v":402},{"$f":"'Total net migration 65+'!K23","v":31},{"$f":"'Total in-migration'!K23","v":3528},{"$f":"'Total out-migration'!K23","v":2932},{"$f":"'Within Scotland net migration'!K23","v":127},{"$f":"'Within Scotland in-migration'!K23","v":1820},{"$f":"'Within Scotland out-migration'!K23","v":1693},{"$f":"'Rest of UK net migration'!K23","v":615},{"$f":"'Rest of UK in-migration'!K23","v":1481},{"$f":"'Rest of UK out-migration'!K23","v":866},{"$f":"'Overseas net migration'!K23","v":-146},{"$f":"'Overseas in-migration'!K23","v":227},{"$f":"'Overseas out-migration'!K23","v":373},{"$f":"NINo!K24","v":320},{"$f":"'Non-UK Births'!K24","v":112},{"$f":"'Pupils ethnic group'!L24","v":268},{"$f":"'Pupils with English as an add.'!I23","v":304},{"$f":"'Pop born outside UK'!K24","v":5000},{"$f":"'Non-British Population'!K24","v":3000},{"$f":"Citizenships!K24","v":35}]
[22,"Na h-Eileanan Siar",null,{"$f":"'Total net migration'!K24","v":-19},{"$f":"'Total net migration 0-15'!K24","v":-11},{"$f":"'Total net migration 16-64'!K24","v":-20},{"$f":"'Total net migration 65+'!K24","v":12},{"$f":"'Total in-migration'!K24","v":861},{"$f":"'Total out-migration'!K24","v":880},{"$f":"'Within Scotland net migration'!K24","v":-73},{"$f":"'Within Scotland in-migration'!K24","v":499},{"$f":"'Within Scotland out-migration'!K24","v":572},{"$f":"'Rest of UK net migration'!K24","v":113},{"$f":"'Rest of UK in-migration'!K24","v":334},{"$f":"'Rest of UK out-migration'!K24","v":221},{"$f":"'Overseas net migration'!K24","v":-59},{"$f":"'Overseas in-migration'!K24","v":28},{"$f":"'Overseas out-migration'!K24","v":87},{"$f":"NINo!K25","v":30},{"$f":"'Non-UK Births'!K25","v":21},{"$f":"'Pupils ethnic group'!L25","v":57},{"$f":"'Pupils with English as an add.'!I24","v":47},{"$f":"'Pop born outside UK'!K25","v":1000},{"$f":"'Non-British Population'!K25","v":"0~"},{"$f":"Citizenships!K25","v":19}]
[23,"North Ayrshire",null,{"$f":"'Total net migration'!K25","v":-308},{"$f":"'Total net migration 0-15'!K25","v":-13},{"$f":"'Total net migration 16-64'!K25","v":-333},{"$f":"'Total net migration 65+'!K25","v":38},{"$f":"'Total in-migration'!K25","v":3495},{"$f":"'Total out-migration'!K25","v":3803},{"$f":"'Within Scotland net migration'!K25","v":-197},{"$f":"'Within Scotland in-migration'!K25","v":2573},{"$f":"'Within Scotland out-migration'!K25","v":2770},{"$f":"'Rest of UK net migration'!K25","v":127},{"$f":"'Rest of UK in-migration'!K25","v":812},{"$f":"'Rest of UK out-migration'!K25","v":685},{"$f":"'Overseas net migration'!K25","v":-238},{"$f":"'Overseas in-migration'!K25","v":110},{"$f":"'Overseas out-migration'!K25","v":348},{"$f":"NINo!K26","v":130},{"$f":"'Non-UK Births'!K26","v":61},{"$f":"'Pupils ethnic group'!L26","v":296},{"$f":"'Pupils with English as an add.'!I25","v":108},{"$f":"'Pop born outside UK'!K26","v":4000},{"$f":"'Non-British Population'!K26","v":2000},{"$f":"Citizenships!K26","v":31}]
[24,"North Lanarkshire",null,{"$f":"'Total net migration'!K26","v":-385},{"$f":"'Total net migration 0-15'!K26","v":109},{"$f":"'Total net migration 16-64'!K26","v":-407},{"$f":"'Total net migration 65+'!K26","v":-87},{"$f":"'Total in-migration'!K26","v":6642},{"$f":"'Total out-migration'!K26","v":7027},{"$f":"'Within Scotland net migration'!K26","v":-182},{"$f":"'Within Scotland in-migration'!K26","v":5112},{"$f":"'Within Scotland out-migration'!K26","v":5294},{"$f":"'Rest of UK net migration'!K26","v":139},{"$f":"'Rest of UK in-migration'!K26","v":1120},{"$f":"'Rest of UK out-migration'!K26","v":981},{"$f":"'Overseas net migration'!K26","v":-342},{"$f":"'Overseas in-migration'!K26","v":410},{"$f":"'Overseas out-migration'!K26","v":752},{"$f":"NINo!K27","v":590},{"$f":"'Non-UK Births'!K27","v":265},{"$f":"'Pupils ethnic group'!L27","v":1697},{"$f":"'Pupils with English as an add.'!I26","v":1000},{"$f":"'Pop born outside UK'!K27","v":7000},{"$f":"'Non-British Population'!K27","v":6000},{"$f":"Citizenships!K27","v":140}]
[25,"Orkney Islands",null,{"$f":"'Total net migration'!K27","v":80},{"$f":"'Total net migration 0-15'!K27","v":35},{"$f":"'Total net migration 16-64'!K27","v":39},{"$f":"'Total net migration 65+'!K27","v":6},{"$f":"'Total in-migration'!K27","v":761},{"$f":"'Total out-migration'!K27","v":681},{"$f":"'Within Scotland net migration'!K27","v":20},{"$f":"'Within Scotland in-migration'!K27","v":429},{"$f":"'Within Scotland out-migration'!K27","v":409},{"$f":"'Rest of UK net migration'!K27","v":88},{"$f":"'Rest of UK in-migration'!K27","v":283},{"$f":"'Rest of UK out-migration'!K27","v":195},{"$f":"'Overseas net migration'!K27","v":-28},{"$f":"'Overseas in-migration'!K27","v":49},{"$f":"'Overseas out-migration'!K27","v":77},{"$f":"NINo!K28","v":70},{"$f":"'Non-UK Births'!K28","v":7},{"$f":"'Pupils ethnic group'!L28","v":38},{"$f":"'Pupils with English as an add.'!I27","v":15},{"$f":"'Pop born outside UK'!K28","v":"0~"},{"$f":"'Non-British Population'!K28","v":"*"},{"$f":"Citizenships!K28","v":7}]
[26,"Perth and Kinross",null,{"$f":"'Total net migration'!K28","v":377},{"$f":"'Total net migration 0-15'!K28","v":244},{"$f":"'Total net migration 16-64'!K28","v":81},{"$f":"'Total net migration 65+'!K28","v":52},{"$f":"'Total in-migration'!K28","v":5977},{"$f":"'Total out-migration'!K28","v":5600},{"$f":"'Within Scotland net migration'!K28","v":179},{"$f":"'Within Scotland in-migration'!K28","v":3904},{"$f":"'Within Scotland out-migration'!K28","v":3725},{"$f":"'Rest of UK net migration'!K28","v":208},{"$f":"'Rest of UK in-migration'!K28","v":1232},{"$f":"'Rest of UK out-migration'!K28","v":1024},{"$f":"'Overseas net migration'!K28","v":-10},{"$f":"'Overseas in-migration'!K28","v":841},{"$f":"'Overseas out-migration'!K28","v":851},{"$f":"NINo!K29","v":2350},{"$f":"'Non-UK Births'!K29","v":211},{"$f":"'Pupils ethnic group'!L29","v":542},{"$f":"'Pupils with English as an add.'!I28","v":578},{"$f":"'Pop born outside UK'!K29","v":11000},{"$f":"'Non-British Population'!K29","v":7000},{"$f":"Citizenships!K29","v":86}]
[27,"Renfrewshire",null,{"$f":"'Total net migration'!K29","v":-343},{"$f":"'Total net migration 0-15'!K29","v":-25},{"$f":"'Total net migration 16-64'!K29","v":-321},{"$f":"'Total net migration 65+'!K29","v":3},{"$f":"'Total in-migration'!K29","v":4407},{"$f":"'Total out-migration'!K29","v":4750},{"$f":"'Within Scotland net migration'!K29","v":-143},{"$f":"'Within Scotland in-migration'!K29","v":3331},{"$f":"'Within Scotland out-migration'!K29","v":3474},{"$f":"'Rest of UK net migration'!K29","v":6},{"$f":"'Rest of UK in-migration'!K29","v":745},{"$f":"'Rest of UK out-migration'!K29","v":739},{"$f":"'Overseas net migration'!K29","v":-206},{"$f":"'Overseas in-migration'!K29","v":331},{"$f":"'Overseas out-migration'!K29","v":537},{"$f":"NINo!K30","v":510},{"$f":"'Non-UK Births'!K30","v":176},{"$f":"'Pupils ethnic group'!L30","v":850},{"$f":"'Pupils with English as an add.'!I29","v":416},{"$f":"'Pop born outside UK'!K30","v":9000},{"$f":"'Non-British Population'!K30","v":7000},{"$f":"Citizenships!K30","v":128}]
[28,"Scottish Borders",null,{"$f":"'Total net migration'!K30","v":308},{"$f":"'Total net migration 0-15'!K30","v":101},{"$f":"'Total net migration 16-64'!K30","v":175},{"$f":"'Total net migration 65+'!K30","v":32},{"$f":"'Total in-migration'!K30","v":3973},{"$f":"'Total out-migration'!K30","v":3665},{"$f":"'Within Scotland net migration'!K30","v":-8},{"$f":"'Within Scotland in-migration'!K30","v":2151},{"$f":"'Within Scotland out-migration'!K30","v":2159},{"$f":"'Rest of UK net migration'!K30","v":489},{"$f":"'Rest of UK in-migration'!K30","v":1572},{"$f":"'Rest of UK out-migration'!K30","v":1083},{"$f":"'Overseas net migration'!K30","v":-173},{"$f":"'Overseas in-migration'!K30","v":250},{"$f":"'Overseas out-migration'!K30","v":423},{"$f":"NINo!K31","v":340},{"$f":"'Non-UK Births'!K31","v":130},{"$f":"'Pupils ethnic group'!L31","v":305},{"$f":"'Pupils with English as an add.'!I30","v":357},{"$f":"'Pop born outside UK'!K31","v":6000},{"$f":"'Non-British Population'!K31","v":4000},{"$f":"Citizenships!K31","v":51}]
[29,"Shetland Islands",null,{"$f":"'Total net migration'!K31","v":-89},{"$f":"'Total net migration 0-15'!K31","v":-43},{"$f":"'Total net migration 16-64'!K31","v":-23},{"$f":"'Total net migration 65+'!K31","v":-23},{"$f":"'Total in-migration'!K31","v":647},{"$f":"'Total out-migration'!K31","v":736},{"$f":"'Within Scotland net migration'!K31","v":-85},{"$f":"'Within Scotland in-migration'!K31","v":351},{"$f":"'Within Scotland out-migration'!K31","v":436},{"$f":"'Rest of UK net migration'!K31","v":28},{"$f":"'Rest of UK in-migration'!K31","v":236},{"$f":"'Rest of UK out-migration'!K31","v":208},{"$f":"'Overseas net migration'!K31","v":-32},{"$f":"'Overseas in-migration'!K31","v":60},{"$f":"'Overseas out-migration'!K31","v":92},{"$f":"NINo!K32","v":190},{"$f":"'Non-UK Births'!K32","v":22},{"$f":"'Pupils ethnic group'!L32","v":84},{"$f":"'Pupils with English as an add.'!I31","v":29},{"$f":"'Pop born outside UK'!K32","v":1000},{"$f":"'Non-British Population'!K32","v":"0~"},{"$f":"Citizenships!K32","v":18}]
[30,"South Ayrshire",null,{"$f":"'Total net migration'!K32","v":405},{"$f":"'Total net migration 0-15'!K32","v":128},{"$f":"'Total net migration 16-64'!K32","v":148},{"$f":"'Total net migration 65+'!K32","v":129},{"$f":"'Total in-migration'!K32","v":3726},{"$f":"'Total out-migration'!K32","v":3321},{"$f":"'Within Scotland net migration'!K32","v":333},{"$f":"'Within Scotland in-migration'!K32","v":2681},{"$f":"'Within Scotland out-migration'!K32","v":2348},{"$f":"'Rest of UK net migration'!K32","v":265},{"$f":"'Rest of UK in-migration'!K32","v":878},{"$f":"'Rest of UK out-migration'!K32","v":613},{"$f":"'Overseas net migration'!K32","v":-193},{"$f":"'Overseas in-migration'!K32","v":167},{"$f":"'Overseas out-migration'!K32","v":360},{"$f":"NINo!K33","v":220},{"$f":"'Non-UK Births'!K33","v":58},{"$f":"'Pupils ethnic group'!L33","v":295},{"$f":"'Pupils with English as an add.'!I32","v":148},{"$f":"'Pop born outside UK'!K33","v":3000},{"$f":"'Non-British Population'!K33","v":2000},{"$f":"Citizenships!K33","v":40}]
[31,"South Lanarkshire",null,{"$f":"'Total net migration'!K33","v":579},{"$f":"'Total net migration 0-15'!K33","v":97},{"$f":"'Total net migration 16-64'!K33","v":304},{"$f":"'Total net migration 65+'!K33","v":178},{"$f":"'Total in-migration'!K33","v":8207},{"$f":"'Total out-migration'!K33","v":7628},{"$f":"'Within Scotland net migration'!K33","v":948},{"$f":"'Within Scotland in-migration'!K33","v":6550},{"$f":"'Within Scotland out-migration'!K33","v":5602},{"$f":"'Rest of UK net migration'!K33","v":55},{"$f":"'Rest of UK in-migration'!K33","v":1349},{"$f":"'Rest of UK out-migration'!K33","v":1294},{"$f":"'Overseas net migration'!K33","v":-424},{"$f":"'Overseas in-migration'!K33","v":308},{"$f":"'Overseas out-migration'!K33","v":732},{"$f":"NINo!K34","v":500},{"$f":"'Non-UK Births'!K34","v":227},{"$f":"'Pupils ethnic group'!L34","v":1524},{"$f":"'Pupils with English as an add.'!I33","v":581},{"$f":"'Pop born outside UK'!K34","v":11000},{"$f":"'Non-British Population'!K34","v":7000},{"$f":"Citizenships!K34","v":198}]
[32,"Stirling",null,{"$f":"'Total net migration'!K34","v":253},{"$f":"'Total net migration 0-15'!K34","v":116},{"$f":"'Total net migration 16-64'!K34","v":226},{"$f":"'Total net migration 65+'!K34","v":-89},{"$f":"'Total in-migration'!K34","v":5033},{"$f":"'Total out-migration'!K34","v":4780},{"$f":"'Within Scotland net migration'!K34","v":107},{"$f":"'Within Scotland in-migration'!K34","v":3336},{"$f":"'Within Scotland out-migration'!K34","v":3229},{"$f":"'Rest of UK net migration'!K34","v":199},{"$f":"'Rest of UK in-migration'!K34","v":1012},{"$f":"'Rest of UK out-migration'!K34","v":813},{"$f":"'Overseas net migration'!K34","v":-53},{"$f":"'Overseas in-migration'!K34","v":685},{"$f":"'Overseas out-migration'!K34","v":738},{"$f":"NINo!K35","v":590},{"$f":"'Non-UK Births'!K35","v":84},{"$f":"'Pupils ethnic group'!L35","v":451},{"$f":"'Pupils with English as an add.'!I34","v":244},{"$f":"'Pop born outside UK'!K35","v":6000},{"$f":"'Non-British Population'!K35","v":4000},{"$f":"Citizenships!K35","v":48}]
[33,"West Dunbartonshire",null,{"$f":"'Total net migration'!K35","v":-424},{"$f":"'Total net migration 0-15'!K35","v":-118},{"$f":"'Total net migration 16-64'!K35","v":-257},{"$f":"'Total net migration 65+'!K35","v":-49},{"$f":"'Total in-migration'!K35","v":2170},{"$f":"'Total out-migration'!K35","v":2594},{"$f":"'Within Scotland net migration'!K35","v":-370},{"$f":"'Within Scotland in-migration'!K35","v":1653},{"$f":"'Within Scotland out-migration'!K35","v":2023},{"$f":"'Rest of UK net migration'!K35","v":43},{"$f":"'Rest of UK in-migration'!K35","v":416},{"$f":"'Rest of UK out-migration'!K35","v":373},{"$f":"'Overseas net migration'!K35","v":-97},{"$f":"'Overseas in-migration'!K35","v":101},{"$f":"'Overseas out-migration'!K35","v":198},{"$f":"NINo!K36","v":140},{"$f":"'Non-UK Births'!K36","v":68},{"$f":"'Pupils ethnic group'!L36","v":290},{"$f":"'Pupils with English as an add.'!I35","v":169},{"$f":"'Pop born outside UK'!K36","v":3000},{"$f":"'Non-British Population'!K36","v":2000},{"$f":"Citizenships!K36","v":50}]
[34,"West Lothian",null,{"$f":"'Total net migration'!K36","v":-387},{"$f":"'Total net migration 0-15'!K36","v":-37},{"$f":"'Total net migration 16-64'!K36","v":-421},{"$f":"'Total net migration 65+'!K36","v":71},{"$f":"'Total in-migration'!K36","v":4587},{"$f":"'Total out-migration'!K36","v":4974},{"$f":"'Within Scotland net migration'!K36","v":-371},{"$f":"'Within Scotland in-migration'!K36","v":3208},{"$f":"'Within Scotland out-migration'!K36","v":3579},{"$f":"'Rest of UK net migration'!K36","v":2},{"$f":"'Rest of UK in-migration'!K36","v":879},{"$f":"'Rest of UK out-migration'!K36","v":877},{"$f":"'Overseas net migration'!K36","v":-18},{"$f":"'Overseas in-migration'!K36","v":500},{"$f":"'Overseas out-migration'!K36","v":518},{"$f":"NINo!K37","v":810},{"$f":"'Non-UK Births'!K37","v":311},{"$f":"'Pupils ethnic group'!L37","v":1076},{"$f":"'Pupils with English as an add.'!I36","v":851},{"$f":"'Pop born outside UK'!K37","v":11000},{"$f":"'Non-British Population'!K37","v":8000},{"$f":"Citizenships!K37","v":125}]
[]
[35,"Not specified"]
[36,"SCOTLAND",null,{"$f":"'Total net migration'!K39","v":9962},{"$f":"'Total net migration 0-15'!K4","v":1877},{"$f":"'Total net migration 16-64'!K39","v":8267},{"$f":"'Total net migration 65+'!K39","v":-182},{"$f":"'Total in-migration'!K39","v":75885},{"$f":"'Total out-migration'!K39","v":65923},null,null,null,{"$f":"'Rest of UK net migration'!K39","v":7862},{"$f":"'Rest of UK in-migration'!K39","v":47685},{"$f":"'Rest of UK out-migration'!K39","v":39823},{"$f":"'Overseas net migration'!K39","v":2100},{"$f":"'Overseas in-migration'!K39","v":28200},{"$f":"'Overseas out-migration'!K39","v":26100},null,{"$f":"'Non-UK Births'!K40","v":8634}]
[37,"Ayrshire and Arran",null,{"$f":"'Total net migration'!K40","v":-23},{"$f":"'Total net migration 0-15'!K40","v":111},{"$f":"'Total net migration 16-64'!K40","v":-317},{"$f":"'Total net migration 65+'!K40","v":183},{"$f":"'Total in-migration'!K40","v":7816},{"$f":"'Total out-migration'!K40","v":7839},{"$f":"'Within Scotland net migration'!K40","v":99},{"$f":"'Within Scotland in-migration'!K40","v":5107},{"$f":"'Within Scotland out-migration'!K40","v":5008},{"$f":"'Rest of UK net migration'!K40","v":470},{"$f":"'Rest of UK in-migration'!K40","v":2354},{"$f":"'Rest of UK out-migration'!K40","v":1884},{"$f":"'Overseas net migration'!K40","v":-592},{"$f":"'Overseas in-migration'!K40","v":355},{"$f":"'Overseas out-migration'!K40","v":947},null,{"$f":"'Non-UK Births'!K41","v":164}]
[38,"Borders",null,{"$f":"'Total net migration'!K41","v":308},{"$f":"'Total net migration 0-15'!K41","v":101},{"$f":"'Total net migration 16-64'!K41","v":175},{"$f":"'Total net migration 65+'!K41","v":32},{"$f":"'Total in-migration'!K41","v":3973},{"$f":"'Total out-migration'!K41","v":3665},{"$f":"'Within Scotland net migration'!K41","v":-8},{"$f":"'Within Scotland in-migration'!K41","v":2151},{"$f":"'Within Scotland out-migration'!K41","v":2159},{"$f":"'Rest of UK net migration'!K41","v":489},{"$f":"'Rest of UK in-migration'!K41","v":1572},{"$f":"'Rest of UK out-migration'!K41","v":1083},{"$f":"'Overseas net migration'!K41","v":-173},{"$f":"'Overseas in-migration'!K41","v":250},{"$f":"'Overseas out-migration'!K41","v":423},null,{"$f":"'Non-UK Births'!K42","v":130}]
[39,"Dumfries and Galloway",null,{"$f":"'Total net migration'!K42","v":-6},{"$f":"'Total net migration 0-15'!K42","v":9},{"$f":"'Total net migration 16-64'!K42","v":19},{"$f":"'Total net migration 65+'!K42","v":-34},{"$f":"'Total in-migration'!K42","v":3981},{"$f":"'Total out-migration'!K42","v":3987},{"$f":"'Within Scotland net migration'!K42","v":-194},{"$f":"'Within Scotland in-migration'!K42","v":1734},{"$f":"'Within Scotland out-migration'!K42","v":1928},{"$f":"'Rest of UK net migration'!K42","v":523},{"$f":"'Rest of UK in-migration'!K42","v":2047},{"$f":"'Rest of UK out-migration'!K42","v":1524},{"$f":"'Overseas net migration'!K42","v":-335},{"$f":"'Overseas in-migration'!K42","v":200},{"$f":"'Overseas out-migration'!K42","v":535},null,{"$f":"'Non-UK Births'!K43","v":98}]
[40,"Fife",null,{"$f":"'Total net migration'!K43","v":304},{"$f":"'Total net migration 0-15'!K43","v":169},{"$f":"'Total net migration 16-64'!K43","v":121},{"$f":"'Total net migration 65+'!K43","v":14},{"$f":"'Total in-migration'!K43","v":10459},{"$f":"'Total out-migration'!K43","v":10155},{"$f":"'Within Scotland net migration'!K43","v":-120},{"$f":"'Within Scotland in-migration'!K43","v":5733},{"$f":"'Within Scotland out-migration'!K43","v":5853},{"$f":"'Rest of UK net migration'!K43","v":478},{"$f":"'Rest of UK in-migration'!K43","v":3216},{"$f":"'Rest of UK out-migration'!K43","v":2738},{"$f":"'Overseas net migration'!K43","v":-54},{"$f":"'Overseas in-migration'!K43","v":1510},{"$f":"'Overseas out-migration'!K43","v":1564},null,{"$f":"'Non-UK Births'!K44","v":407}]
[41,"Forth Valley",null,{"$f":"'Total net migration'!K44","v":569},{"$f":"'Total net migration 0-15'!K44","v":231},{"$f":"'Total net migration 16-64'!K44","v":333},{"$f":"'Total net migration 65+'!K44","v":5},{"$f":"'Total in-migration'!K44","v":9188},{"$f":"'Total out-migration'!K44","v":8619},{"$f":"'Within Scotland net migration'!K44","v":418},{"$f":"'Within Scotland in-migration'!K44","v":6165},{"$f":"'Within Scotland out-migration'!K44","v":5747},{"$f":"'Rest of UK net migration'!K44","v":366},{"$f":"'Rest of UK in-migration'!K44","v":2029},{"$f":"'Rest of UK out-migration'!K44","v":1663},{"$f":"'Overseas net migration'!K44","v":-215},{"$f":"'Overseas in-migration'!K44","v":994},{"$f":"'Overseas out-migration'!K44","v":1209},null,{"$f":"'Non-UK Births'!K45","v":275}]
[42,"Grampian",null,{"$f":"'Total net migration'!K45","v":3924},{"$f":"'Total net migration 0-15'!K45","v":612},{"$f":"'Total net migration 16-64'!K45","v":3520},{"$f":"'Total net migration 65+'!K45","v":-208},{"$f":"'Total in-migration'!K45","v":19500},{"$f":"'Total out-migration'!K45","v":15576},{"$f":"'Within Scotland net migration'!K45","v":1115},{"$f":"'Within Scotland in-migration'!K45","v":8283},{"$f":"'Within Scotland out-migration'!K45","v":7168},{"$f":"'Rest of UK net migration'!K45","v":1537},{"$f":"'Rest of UK in-migration'!K45","v":6376},{"$f":"'Rest of UK out-migration'!K45","v":4839},{"$f":"'Overseas net migration'!K45","v":1272},{"$f":"'Overseas in-migration'!K45","v":4841},{"$f":"'Overseas out-migration'!K45","v":3569},null,{"$f":"'Non-UK Births'!K46","v":1416}]
[43,"Greater Glasgow and Clyde",null,{"$f":"'Total net migration'!K46","v":143},{"$f":"'Total net migration 0-15'!K46","v":-195},{"$f":"'Total net migration 16-64'!K46","v":705},{"$f":"'Total net migration 65+'!K46","v":-367},{"$f":"'Total in-migration'!K46","v":31621},{"$f":"'Total out-migration'!K46","v":31478},{"$f":"'Within Scotland net migration'!K46","v":-1482},{"$f":"'Within Scotland in-migration'!K46","v":15562},{"$f":"'Within Scotland out-migration'!K46","v":17044},{"$f":"'Rest of UK net migration'!K46","v":150},{"$f":"'Rest of UK in-migration'!K46","v":8303},{"$f":"'Rest of UK out-migration'!K46","v":8153},{"$f":"'Overseas net migration'!K46","v":1475},{"$f":"'Overseas in-migration'!K46","v":7756},{"$f":"'Overseas out-migration'!K46","v":6281},null,{"$f":"'Non-UK Births'!K47","v":2423}]
[44,"Highland",null,{"$f":"'Total net migration'!K47","v":70},{"$f":"'Total net migration 0-15'!K47","v":265},{"$f":"'Total net migration 16-64'!K47","v":-106},{"$f":"'Total net migration 65+'!K47","v":-89},{"$f":"'Total in-migration'!K47","v":10658},{"$f":"'Total out-migration'!K47","v":10588},{"$f":"'Within Scotland net migration'!K47","v":-624},{"$f":"'Within Scotland in-migration'!K47","v":5936},{"$f":"'Within Scotland out-migration'!K47","v":6560},{"$f":"'Rest of UK net migration'!K47","v":1148},{"$f":"'Rest of UK in-migration'!K47","v":3868},{"$f":"'Rest of UK out-migration'!K47","v":2720},{"$f":"'Overseas net migration'!K47","v":-454},{"$f":"'Overseas in-migration'!K47","v":854},{"$f":"'Overseas out-migration'!K47","v":1308},null,{"$f":"'Non-UK Births'!K48","v":386}]
[45,"Lanarkshire",null,{"$f":"'Total net migration'!K48","v":194},{"$f":"'Total net migration 0-15'!K48","v":206},{"$f":"'Total net migration 16-64'!K48","v":-103},{"$f":"'Total net migration 65+'!K48","v":91},{"$f":"'Total in-migration'!K48","v":12520},{"$f":"'Total out-migration'!K48","v":12326},{"$f":"'Within Scotland net migration'!K48","v":766},{"$f":"'Within Scotland in-migration'!K48","v":9333},{"$f":"'Within Scotland out-migration'!K48","v":8567},{"$f":"'Rest of UK net migration'!K48","v":194},{"$f":"'Rest of UK in-migration'!K48","v":2469},{"$f":"'Rest of UK out-migration'!K48","v":2275},{"$f":"'Overseas net migration'!K48","v":-766},{"$f":"'Overseas in-migration'!K48","v":718},{"$f":"'Overseas out-migration'!K48","v":1484},null,{"$f":"'Non-UK Births'!K49","v":492}]
[46,"Lothian",null,{"$f":"'Total net migration'!K49","v":3708},{"$f":"'Total net migration 0-15'!K49","v":113},{"$f":"'Total net migration 16-64'!K49","v":3484},{"$f":"'Total net migration 65+'!K49","v":111},{"$f":"'Total in-migration'!K49","v":31516},{"$f":"'Total out-migration'!K49","v":27808},{"$f":"'Within Scotland net migration'!K49","v":76},{"$f":"'Within Scotland in-migration'!K49","v":12321},{"$f":"'Within Scotland out-migration'!K49","v":12245},{"$f":"'Rest of UK net migration'!K49","v":1794},{"$f":"'Rest of UK in-migration'!K49","v":11104},{"$f":"'Rest of UK out-migration'!K49","v":9310},{"$f":"'Overseas net migration'!K49","v":1838},{"$f":"'Overseas in-migration'!K49","v":8091},{"$f":"'Overseas out-migration'!K49","v":6253},null,{"$f":"'Non-UK Births'!K50","v":2211}]
[47,"Orkney",null,{"$f":"'Total net migration'!K50","v":80},{"$f":"'Total net migration 0-15'!K50","v":35},{"$f":"'Total net migration 16-64'!K50","v":39},{"$f":"'Total net migration 65+'!K50","v":6},{"$f":"'Total in-migration'!K50","v":761},{"$f":"'Total out-migration'!K50","v":681},{"$f":"'Within Scotland net migration'!K50","v":20},{"$f":"'Within Scotland in-migration'!K50","v":429},{"$f":"'Within Scotland out-migration'!K50","v":409},{"$f":"'Rest of UK net migration'!K50","v":88},{"$f":"'Rest of UK in-migration'!K50","v":283},{"$f":"'Rest of UK out-migration'!K50","v":195},{"$f":"'Overseas net migration'!K50","v":-28},{"$f":"'Overseas in-migration'!K50","v":49},{"$f":"'Overseas out-migration'!K50","v":77},null,{"$f":"'Non-UK Births'!K51","v":7}]
[48,"Shetland",null,{"$f":"'Total net migration'!K51","v":-89},{"$f":"'Total net migration 0-15'!K51","v":-43},{"$f":"'Total net migration 16-64'!K51","v":-23},{"$f":"'Total net migration 65+'!K51","v":-23},{"$f":"'Total in-migration'!K51","v":647},{"$f":"'Total out-migration'!K51","v":736},{"$f":"'Within Scotland net migration'!K51","v":-85},{"$f":"'Within Scotland in-migration'!K51","v":351},{"$f":"'Within Scotland out-migration'!K51","v":436},{"$f":"'Rest of UK net migration'!K51","v":28},{"$f":"'Rest of UK in-migration'!K51","v":236},{"$f":"'Rest of UK out-migration'!K51","v":208},{"$f":"'Overseas net migration'!K51","v":-32},{"$f":"'Overseas in-migration'!K51","v":60},{"$f":"'Overseas out-migration'!K51","v":92},null,{"$f":"'Non-UK Births'!K52","v":22}]
[49,"Tayside",null,{"$f":"'Total net migration'!K52","v":799},{"$f":"'Total net migration 0-15'!K52","v":274},{"$f":"'Total net migration 16-64'!K52","v":440},{"$f":"'Total net migration 65+'!K52","v":85},{"$f":"'Total in-migration'!K52","v":13469},{"$f":"'Total out-migration'!K52","v":12670},{"$f":"'Within Scotland net migration'!K52","v":92},{"$f":"'Within Scotland in-migration'!K52","v":7481},{"$f":"'Within Scotland out-migration'!K52","v":7389},{"$f":"'Rest of UK net migration'!K52","v":484},{"$f":"'Rest of UK in-migration'!K52","v":3494},{"$f":"'Rest of UK out-migration'!K52","v":3010},{"$f":"'Overseas net migration'!K52","v":223},{"$f":"'Overseas in-migration'!K52","v":2494},{"$f":"'Overseas out-migration'!K52","v":2271},null,{"$f":"'Non-UK Births'!K53","v":582}]
[50,"Western Isles",null,{"$f":"'Total net migration'!K53","v":-19},{"$f":"'Total net migration 0-15'!K53","v":-11},{"$f":"'Total net migration 16-64'!K53","v":-20},{"$f":"'Total net migration 65+'!K53","v":12},{"$f":"'Total in-migration'!K53","v":861},{"$f":"'Total out-migration'!K53","v":880},{"$f":"'Within Scotland net migration'!K53","v":-73},{"$f":"'Within Scotland in-migration'!K53","v":499},{"$f":"'Within Scotland out-migration'!K53","v":572},{"$f":"'Rest of UK net migration'!K53","v":113},{"$f":"'Rest of UK in-migration'!K53","v":334},{"$f":"'Rest of UK out-migration'!K53","v":221},{"$f":"'Overseas net migration'!K53","v":-59},{"$f":"'Overseas in-migration'!K53","v":28},{"$f":"'Overseas out-migration'!K53","v":87},null,{"$f":"'Non-UK Births'!K54","v":21}]

{"sheet":"2013 Rate","index":38,"n_rows":53,"n_cols":28,"rows_kept":53,"cut":false,"hidden":true,"merged":[]}
[null,2013,"RATE"]
[null,null,"Not specified ",{"$f":"'Comparing Indicators'!$U8","v":"Total net migration"},{"$f":"'Comparing Indicators'!$U9","v":"Total net migration for ages 0-15"},{"$f":"'Comparing Indicators'!$U10","v":"Total net migration for ages 16-64"},{"$f":"'Comparing Indicators'!$U11","v":"Total net migration for people aged 65+"},{"$f":"'Comparing Indicators'!$U12","v":"Total in-migration"},{"$f":"'Comparing Indicators'!$U13","v":"Total out-migration"},{"$f":"'Comparing Indicators'!$U14","v":"Within Scotland net migration"},{"$f":"'Comparing Indicators'!$U15","v":"Within Scotland in-migration"},{"$f":"'Comparing Indicators'!$U16","v":"Within Scotland out-migration"},{"$f":"'Comparing Indicators'!$U17","v":"Rest of UK net migration"},{"$f":"'Comparing Indicators'!$U18","v":"Rest of UK in-migration"},{"$f":"'Comparing Indicators'!$U19","v":"Rest of UK out-migration"},{"$f":"'Comparing Indicators'!$U20","v":"Overseas net migration"},{"$f":"'Comparing Indicators'!$U21","v":"Overseas in-migration"},{"$f":"'Comparing Indicators'!$U22","v":"Overseas out-migration"},{"$f":"'Comparing Indicators'!$U23","v":"NINo Allocation"},{"$f":"'Comparing Indicators'!$U24","v":"Births to non-UK mothers"},{"$f":"'Comparing Indicators'!$U25","v":"Pupils from a minority ethnic group"},{"$f":"'Comparing Indicators'!$U26","v":"Pupils with English as an additional language"},{"$f":"'Comparing Indicators'!$U27","v":"Population born outside the UK"},{"$f":"'Comparing Indicators'!$U28","v":"Population with non-British nationality"},{"$f":"'Comparing Indicators'!$U29","v":"Citizenships"},null,null,"Mid-year population estimate"]
[1,"Not specified"]
[2,"SCOTLAND",null,{"$f":"('2013'!D4/'2013 Rate'!$AB4)*1000","v":1.8698500290932296},{"$f":"('2013'!E4/'2013 Rate'!$AB4)*1000","v":0.35230962704356478},{"$f":"('2013'!F4/'2013 Rate'!$AB4)*1000","v":1.5517014846932071},{"$f":"('2013'!G4/'2013 Rate'!$AB4)*1000","v":-3.4161082643542243E-2},{"$f":"('2013'!H4/'2013 Rate'!$AB4)*1000","v":14.243482178050566},{"$f":"('2013'!I4/'2013 Rate'!$AB4)*1000","v":12.373632148957336},"N/A","N/A","N/A",{"$f":"('2013'!M4/'2013 Rate'!$AB4)*1000","v":1.4756836908985116},{"$f":"('2013'!N4/'2013 Rate'!$AB4)*1000","v":8.9503913508643507},{"$f":"('2013'!O4/'2013 Rate'!$AB4)*1000","v":7.4747076599658389},{"$f":"('2013'!P4/'2013 Rate'!$AB4)*1000","v":0.39416633819471814},{"$f":"('2013'!Q4/'2013 Rate'!$AB4)*1000","v":5.2930908271862158},{"$f":"('2013'!R4/'2013 Rate'!$AB4)*1000","v":4.8989244889914971},{"$f":"('2013'!S4/'2013 Rate'!$AB4)*1000","v":7.4084501754978689},{"$f":"('2013'!T4/'2013 Rate'!$AB4)*1000","v":1.6205867447491413},{"$f":"('2013'!U4/'2013 Rate'!$AB4)*1000","v":7.3339339677534401},{"$f":"('2013'!V4/'2013 Rate'!$AB4)*1000","v":5.5431049045554364},null,null,{"$f":"('2013'!Y4/'2013 Rate'!$AB4)*1000","v":1.0728832329147662},null,"Scotland",5327700]
[3,"Aberdeen City",null,{"$f":"('2013'!D5/'2013 Rate'!$AB5)*1000","v":7.328136697934557},{"$f":"('2013'!E5/'2013 Rate'!$AB5)*1000","v":-1.3035627779979744},{"$f":"('2013'!F5/'2013 Rate'!$AB5)*1000","v":9.1557669441141503},{"$f":"('2013'!G5/'2013 Rate'!$AB5)*1000","v":-0.52406746818161798},{"$f":"('2013'!H5/'2013 Rate'!$AB5)*1000","v":61.835557317126877},{"$f":"('2013'!I5/'2013 Rate'!$AB5)*1000","v":54.507420619192317},{"$f":"('2013'!J5/'2013 Rate'!$AB5)*1000","v":-0.85876601928920593},{"$f":"('2013'!K5/'2013 Rate'!$AB5)*1000","v":32.6683401594222},{"$f":"('2013'!L5/'2013 Rate'!$AB5)*1000","v":33.527106178711406},{"$f":"('2013'!M5/'2013 Rate'!$AB5)*1000","v":2.4529880653542957},{"$f":"('2013'!N5/'2013 Rate'!$AB5)*1000","v":13.154533844189016},{"$f":"('2013'!O5/'2013 Rate'!$AB5)*1000","v":10.701545778834721},{"$f":"('2013'!P5/'2013 Rate'!$AB5)*1000","v":5.7339146518694681},{"$f":"('2013'!Q5/'2013 Rate'!$AB5)*1000","v":16.012683313515659},{"$f":"('2013'!R5/'2013 Rate'!$AB5)*1000","v":10.278768661646188},{"$f":"('2013'!S5/'2013 Rate'!$AB5)*1000","v":21.711366538952745},{"$f":"('2013'!T5/'2013 Rate'!$AB5)*1000","v":4.1396926058043775},{"$f":"('2013'!U5/'2013 Rate'!$AB5)*1000","v":10.622275069361871},{"$f":"('2013'!V5/'2013 Rate'!$AB5)*1000","v":9.389175144228652},null,null,{"$f":"('2013'!Y5/'2013 Rate'!$AB5)*1000","v":3.774166556568459},null,"Aberdeen City",227070]
[4,"Aberdeenshire",null,{"$f":"('2013'!D6/'2013 Rate'!$AB6)*1000","v":6.4553671878030805},{"$f":"('2013'!E6/'2013 Rate'!$AB6)*1000","v":2.8901734104046239},{"$f":"('2013'!F6/'2013 Rate'!$AB6)*1000","v":4.0307250649804089},{"$f":"('2013'!G6/'2013 Rate'!$AB6)*1000","v":-0.46553128758195295},{"$f":"('2013'!H6/'2013 Rate'!$AB6)*1000","v":37.060169918919968},{"$f":"('2013'!I6/'2013 Rate'!$AB6)*1000","v":30.604802731116887},{"$f":"('2013'!J6/'2013 Rate'!$AB6)*1000","v":4.5893626100787523},{"$f":"('2013'!K6/'2013 Rate'!$AB6)*1000","v":25.864142452573997},{"$f":"('2013'!L6/'2013 Rate'!$AB6)*1000","v":21.274779842495249},{"$f":"('2013'!M6/'2013 Rate'!$AB6)*1000","v":1.4159909997284401},{"$f":"('2013'!N6/'2013 Rate'!$AB6)*1000","v":7.4019474725530516},{"$f":"('2013'!O6/'2013 Rate'!$AB6)*1000","v":5.9859564728246104},{"$f":"('2013'!P6/'2013 Rate'!$AB6)*1000","v":0.45001357799588776},{"$f":"('2013'!Q6/'2013 Rate'!$AB6)*1000","v":3.7940799937929159},{"$f":"('2013'!R6/'2013 Rate'!$AB6)*1000","v":3.3440664157970286},{"$f":"('2013'!S6/'2013 Rate'!$AB6)*1000","v":6.2458781083912012},{"$f":"('2013'!T6/'2013 Rate'!$AB6)*1000","v":1.4121115723319237},{"$f":"('2013'!U6/'2013 Rate'!$AB6)*1000","v":3.1462156185746983},{"$f":"('2013'!V6/'2013 Rate'!$AB6)*1000","v":4.7173837141637893},null,null,{"$f":"('2013'!Y6/'2013 Rate'!$AB6)*1000","v":0.85347402723358035},null,"Aberdeenshire",257770]
[5,"Angus",null,{"$f":"('2013'!D7/'2013 Rate'!$AB7)*1000","v":0.97170865938601769},{"$f":"('2013'!E7/'2013 Rate'!$AB7)*1000","v":0.57614584229082466},{"$f":"('2013'!F7/'2013 Rate'!$AB7)*1000","v":-0.30957090033536849},{"$f":"('2013'!G7/'2013 Rate'!$AB7)*1000","v":0.70513371743056152},{"$f":"('2013'!H7/'2013 Rate'!$AB7)*1000","v":33.923811161750798},{"$f":"('2013'!I7/'2013 Rate'!$AB7)*1000","v":32.952102502364781},{"$f":"('2013'!J7/'2013 Rate'!$AB7)*1000","v":1.3930690515091582},{"$f":"('2013'!K7/'2013 Rate'!$AB7)*1000","v":25.204230802304586},{"$f":"('2013'!L7/'2013 Rate'!$AB7)*1000","v":23.811161750795428},{"$f":"('2013'!M7/'2013 Rate'!$AB7)*1000","v":0.32676928368733338},{"$f":"('2013'!N7/'2013 Rate'!$AB7)*1000","v":6.3204058818471056},{"$f":"('2013'!O7/'2013 Rate'!$AB7)*1000","v":5.9936365981597728},{"$f":"('2013'!P7/'2013 Rate'!$AB7)*1000","v":-0.74812967581047385},{"$f":"('2013'!Q7/'2013 Rate'!$AB7)*1000","v":2.3991744775991055},{"$f":"('2013'!R7/'2013 Rate'!$AB7)*1000","v":3.1473041534095794},{"$f":"('2013'!S7/'2013 Rate'!$AB7)*1000","v":10.662997678218249},{"$f":"('2013'!T7/'2013 Rate'!$AB7)*1000","v":1.1436924929056669},{"$f":"('2013'!U7/'2013 Rate'!$AB7)*1000","v":2.7689397196663514},{"$f":"('2013'!V7/'2013 Rate'!$AB7)*1000","v":3.2590936451973516},null,null,{"$f":"('2013'!Y7/'2013 Rate'!$AB7)*1000","v":0.3697652420672457},null,"Angus",116290]
[6,"Argyll and Bute",null,{"$f":"('2013'!D8/'2013 Rate'!$AB8)*1000","v":-0.26121521862578079},{"$f":"('2013'!E8/'2013 Rate'!$AB8)*1000","v":1.1243611584327087},{"$f":"('2013'!F8/'2013 Rate'!$AB8)*1000","v":-0.86314593980692789},{"$f":"('2013'!G8/'2013 Rate'!$AB8)*1000","v":-0.52243043725156157},{"$f":"('2013'!H8/'2013 Rate'!$AB8)*1000","v":44.645088018171492},{"$f":"('2013'!I8/'2013 Rate'!$AB8)*1000","v":44.906303236797271},{"$f":"('2013'!J8/'2013 Rate'!$AB8)*1000","v":-2.2260079500283929},{"$f":"('2013'!K8/'2013 Rate'!$AB8)*1000","v":26.269165247018741},{"$f":"('2013'!L8/'2013 Rate'!$AB8)*1000","v":28.49517319704713},{"$f":"('2013'!M8/'2013 Rate'!$AB8)*1000","v":4.3611584327086881},{"$f":"('2013'!N8/'2013 Rate'!$AB8)*1000","v":15.706984667802386},{"$f":"('2013'!O8/'2013 Rate'!$AB8)*1000","v":11.345826235093696},{"$f":"('2013'!P8/'2013 Rate'!$AB8)*1000","v":-2.3963657013060762},{"$f":"('2013'!Q8/'2013 Rate'!$AB8)*1000","v":2.668938103350369},{"$f":"('2013'!R8/'2013 Rate'!$AB8)*1000","v":5.0653038046564447},{"$f":"('2013'!S8/'2013 Rate'!$AB8)*1000","v":5.2243043725156166},{"$f":"('2013'!T8/'2013 Rate'!$AB8)*1000","v":0.79500283929585469},{"$f":"('2013'!U8/'2013 Rate'!$AB8)*1000","v":2.4872231686541739},{"$f":"('2013'!V8/'2013 Rate'!$AB8)*1000","v":1.6467915956842702},null,null,{"$f":"('2013'!Y8/'2013 Rate'!$AB8)*1000","v":0.40885860306643951},null,"Argyll & Bute",88050]
[7,"City of Edinburgh",null,{"$f":"('2013'!D9/'2013 Rate'!$AB9)*1000","v":6.1502482254954245},{"$f":"('2013'!E9/'2013 Rate'!$AB9)*1000","v":-0.30976900668772822},{"$f":"('2013'!F9/'2013 Rate'!$AB9)*1000","v":6.4600172321831533},{"$f":"('2013'!G9/'2013 Rate'!$AB9)*1000","v":0},{"$f":"('2013'!H9/'2013 Rate'!$AB9)*1000","v":57.100069749312759},{"$f":"('2013'!I9/'2013 Rate'!$AB9)*1000","v":50.949821523817334},{"$f":"('2013'!J9/'2013 Rate'!$AB9)*1000","v":-1.259590530505067},{"$f":"('2013'!K9/'2013 Rate'!$AB9)*1000","v":23.591679317277315},{"$f":"('2013'!L9/'2013 Rate'!$AB9)*1000","v":24.85126984778238},{"$f":"('2013'!M9/'2013 Rate'!$AB9)*1000","v":3.4033561728141799},{"$f":"('2013'!N9/'2013 Rate'!$AB9)*1000","v":18.63332375989825},{"$f":"('2013'!O9/'2013 Rate'!$AB9)*1000","v":15.229967587084067},{"$f":"('2013'!P9/'2013 Rate'!$AB9)*1000","v":4.0064825831863127},{"$f":"('2013'!Q9/'2013 Rate'!$AB9)*1000","v":14.875066672137201},{"$f":"('2013'!R9/'2013 Rate'!$AB9)*1000","v":10.86858408895089},{"$f":"('2013'!S9/'2013 Rate'!$AB9)*1000","v":23.304476264719156},{"$f":"('2013'!T9/'2013 Rate'!$AB9)*1000","v":3.4874656382062117},{"$f":"('2013'!U9/'2013 Rate'!$AB9)*1000","v":12.476921183276577},{"$f":"('2013'!V9/'2013 Rate'!$AB9)*1000","v":9.9721002748943501},null,null,{"$f":"('2013'!Y9/'2013 Rate'!$AB9)*1000","v":2.1622286956878516},null,"City of Edinburgh",487460]
[8,"Clackmannanshire",null,{"$f":"('2013'!D10/'2013 Rate'!$AB10)*1000","v":-1.1505460218408736},{"$f":"('2013'!E10/'2013 Rate'!$AB10)*1000","v":0.87753510140405622},{"$f":"('2013'!F10/'2013 Rate'!$AB10)*1000","v":-2.3205928237129485},{"$f":"('2013'!G10/'2013 Rate'!$AB10)*1000","v":0.29251170046801872},{"$f":"('2013'!H10/'2013 Rate'!$AB10)*1000","v":31.240249609984399},{"$f":"('2013'!I10/'2013 Rate'!$AB10)*1000","v":32.39079563182527},{"$f":"('2013'!J10/'2013 Rate'!$AB10)*1000","v":-1.6575663026521061},{"$f":"('2013'!K10/'2013 Rate'!$AB10)*1000","v":23.049921996879874},{"$f":"('2013'!L10/'2013 Rate'!$AB10)*1000","v":24.707488299531981},{"$f":"('2013'!M10/'2013 Rate'!$AB10)*1000","v":1.1700468018720749},{"$f":"('2013'!N10/'2013 Rate'!$AB10)*1000","v":6.7472698907956321},{"$f":"('2013'!O10/'2013 Rate'!$AB10)*1000","v":5.5772230889235566},{"$f":"('2013'!P10/'2013 Rate'!$AB10)*1000","v":-0.66302652106084237},{"$f":"('2013'!Q10/'2013 Rate'!$AB10)*1000","v":1.4430577223088923},{"$f":"('2013'!R10/'2013 Rate'!$AB10)*1000","v":2.1060842433697347},{"$f":"('2013'!S10/'2013 Rate'!$AB10)*1000","v":2.7301092043681749},{"$f":"('2013'!T10/'2013 Rate'!$AB10)*1000","v":0.81903276131045244},{"$f":"('2013'!U10/'2013 Rate'!$AB10)*1000","v":3.9001560062402496},{"$f":"('2013'!V10/'2013 Rate'!$AB10)*1000","v":2.7106084243369732},null,null,{"$f":"('2013'!Y10/'2013 Rate'!$AB10)*1000","v":0.35101404056162244},null,"Clackmannanshire",51280]
[9,"Dumfries and Galloway",null,{"$f":"('2013'!D11/'2013 Rate'!$AB11)*1000","v":-3.9925472451424006E-2},{"$f":"('2013'!E11/'2013 Rate'!$AB11)*1000","v":5.9888208677136019E-2},{"$f":"('2013'!F11/'2013 Rate'!$AB11)*1000","v":0.1264306627628427},{"$f":"('2013'!G11/'2013 Rate'!$AB11)*1000","v":-0.22624434389140272},{"$f":"('2013'!H11/'2013 Rate'!$AB11)*1000","v":26.490550971519827},{"$f":"('2013'!I11/'2013 Rate'!$AB11)*1000","v":26.530476443971253},{"$f":"('2013'!J11/'2013 Rate'!$AB11)*1000","v":-1.2909236092627094},{"$f":"('2013'!K11/'2013 Rate'!$AB11)*1000","v":11.538461538461538},{"$f":"('2013'!L11/'2013 Rate'!$AB11)*1000","v":12.829385147724249},{"$f":"('2013'!M11/'2013 Rate'!$AB11)*1000","v":3.4801703486824596},{"$f":"('2013'!N11/'2013 Rate'!$AB11)*1000","v":13.621240351344158},{"$f":"('2013'!O11/'2013 Rate'!$AB11)*1000","v":10.141070002661698},{"$f":"('2013'!P11/'2013 Rate'!$AB11)*1000","v":-2.2291722118711741},{"$f":"('2013'!Q11/'2013 Rate'!$AB11)*1000","v":1.3308490817141336},{"$f":"('2013'!R11/'2013 Rate'!$AB11)*1000","v":3.5600212935853075},{"$f":"('2013'!S11/'2013 Rate'!$AB11)*1000","v":1.8631887143997872},{"$f":"('2013'!T11/'2013 Rate'!$AB11)*1000","v":0.65211605003992545},{"$f":"('2013'!U11/'2013 Rate'!$AB11)*1000","v":2.6550439180196963},{"$f":"('2013'!V11/'2013 Rate'!$AB11)*1000","v":1.9829651317540593},null,null,{"$f":"('2013'!Y11/'2013 Rate'!$AB11)*1000","v":0.27947830715996808},null,"Dumfries & Galloway",150280]
[10,"Dundee City",null,{"$f":"('2013'!D12/'2013 Rate'!$AB12)*1000","v":2.0864280891289666},{"$f":"('2013'!E12/'2013 Rate'!$AB12)*1000","v":-0.24983119513841998},{"$f":"('2013'!F12/'2013 Rate'!$AB12)*1000","v":2.6671168129642133},{"$f":"('2013'!G12/'2013 Rate'!$AB12)*1000","v":-0.3308575286968265},{"$f":"('2013'!H12/'2013 Rate'!$AB12)*1000","v":47.744767049291013},{"$f":"('2013'!I12/'2013 Rate'!$AB12)*1000","v":45.658338960162055},{"$f":"('2013'!J12/'2013 Rate'!$AB12)*1000","v":-1.6812964213369344},{"$f":"('2013'!K12/'2013 Rate'!$AB12)*1000","v":28.156650911546254},{"$f":"('2013'!L12/'2013 Rate'!$AB12)*1000","v":29.837947332883186},{"$f":"('2013'!M12/'2013 Rate'!$AB12)*1000","v":1.6070222822417286},{"$f":"('2013'!N12/'2013 Rate'!$AB12)*1000","v":10.310600945307225},{"$f":"('2013'!O12/'2013 Rate'!$AB12)*1000","v":8.7035786630654961},{"$f":"('2013'!P12/'2013 Rate'!$AB12)*1000","v":2.1607022282241726},{"$f":"('2013'!Q12/'2013 Rate'!$AB12)*1000","v":9.2775151924375425},{"$f":"('2013'!R12/'2013 Rate'!$AB12)*1000","v":7.1168129642133691},{"$f":"('2013'!S12/'2013 Rate'!$AB12)*1000","v":8.7778528021607016},{"$f":"('2013'!T12/'2013 Rate'!$AB12)*1000","v":1.6070222822417286},{"$f":"('2013'!U12/'2013 Rate'!$AB12)*1000","v":9.7231600270087792},{"$f":"('2013'!V12/'2013 Rate'!$AB12)*1000","v":6.4753544902093187},null,null,{"$f":"('2013'!Y12/'2013 Rate'!$AB12)*1000","v":1.2964213369345039},null,"Dundee City",148100]
[11,"East Ayrshire",null,{"$f":"('2013'!D13/'2013 Rate'!$AB13)*1000","v":-0.98015192354814995},{"$f":"('2013'!E13/'2013 Rate'!$AB13)*1000","v":-3.2671730784938333E-2},{"$f":"('2013'!F13/'2013 Rate'!$AB13)*1000","v":-1.0781671159029651},{"$f":"('2013'!G13/'2013 Rate'!$AB13)*1000","v":0.13068692313975333},{"$f":"('2013'!H13/'2013 Rate'!$AB13)*1000","v":25.385934819897084},{"$f":"('2013'!I13/'2013 Rate'!$AB13)*1000","v":26.366086743445234},{"$f":"('2013'!J13/'2013 Rate'!$AB13)*1000","v":-0.30221350976067957},{"$f":"('2013'!K13/'2013 Rate'!$AB13)*1000","v":19.325328759291025},{"$f":"('2013'!L13/'2013 Rate'!$AB13)*1000","v":19.627542269051702},{"$f":"('2013'!M13/'2013 Rate'!$AB13)*1000","v":0.63709875030629748},{"$f":"('2013'!N13/'2013 Rate'!$AB13)*1000","v":5.4235073102997635},{"$f":"('2013'!O13/'2013 Rate'!$AB13)*1000","v":4.7864085599934656},{"$f":"('2013'!P13/'2013 Rate'!$AB13)*1000","v":-1.3150371640937679},{"$f":"('2013'!Q13/'2013 Rate'!$AB13)*1000","v":0.63709875030629748},{"$f":"('2013'!R13/'2013 Rate'!$AB13)*1000","v":1.9521359144000652},{"$f":"('2013'!S13/'2013 Rate'!$AB13)*1000","v":0.6534346156987666},{"$f":"('2013'!T13/'2013 Rate'!$AB13)*1000","v":0.36755697133055626},{"$f":"('2013'!U13/'2013 Rate'!$AB13)*1000","v":2.7117536551498818},{"$f":"('2013'!V13/'2013 Rate'!$AB13)*1000","v":1.0291595197255574},null,null,{"$f":"('2013'!Y13/'2013 Rate'!$AB13)*1000","v":0.22870211549456831},null,"East Ayrshire",122430]
[12,"East Dunbartonshire",null,{"$f":"('2013'!D14/'2013 Rate'!$AB14)*1000","v":0.86923658352229771},{"$f":"('2013'!E14/'2013 Rate'!$AB14)*1000","v":2.371504157218443},{"$f":"('2013'!F14/'2013 Rate'!$AB14)*1000","v":-1.6723356009070294},{"$f":"('2013'!G14/'2013 Rate'!$AB14)*1000","v":0.17006802721088435},{"$f":"('2013'!H14/'2013 Rate'!$AB14)*1000","v":33.182161753590321},{"$f":"('2013'!I14/'2013 Rate'!$AB14)*1000","v":32.312925170068027},{"$f":"('2013'!J14/'2013 Rate'!$AB14)*1000","v":2.7116402116402116},{"$f":"('2013'!K14/'2013 Rate'!$AB14)*1000","v":28.193499622071052},{"$f":"('2013'!L14/'2013 Rate'!$AB14)*1000","v":25.481859410430836},{"$f":"('2013'!M14/'2013 Rate'!$AB14)*1000","v":-0.68972033257747545},{"$f":"('2013'!N14/'2013 Rate'!$AB14)*1000","v":4.2611489040060473},{"$f":"('2013'!O14/'2013 Rate'!$AB14)*1000","v":4.9508692365835216},{"$f":"('2013'!P14/'2013 Rate'!$AB14)*1000","v":-1.1526832955404382},{"$f":"('2013'!Q14/'2013 Rate'!$AB14)*1000","v":0.72751322751322745},{"$f":"('2013'!R14/'2013 Rate'!$AB14)*1000","v":1.8801965230536659},{"$f":"('2013'!S14/'2013 Rate'!$AB14)*1000","v":0.85034013605442171},{"$f":"('2013'!T14/'2013 Rate'!$AB14)*1000","v":0.68972033257747545},{"$f":"('2013'!U14/'2013 Rate'!$AB14)*1000","v":10.846560846560847},{"$f":"('2013'!V14/'2013 Rate'!$AB14)*1000","v":3.5619803476946332},null,null,{"$f":"('2013'!Y14/'2013 Rate'!$AB14)*1000","v":0.6991685563114135},null,"East Dunbartonshire",105840]
[13,"East Lothian",null,{"$f":"('2013'!D15/'2013 Rate'!$AB15)*1000","v":5.1385738238485059},{"$f":"('2013'!E15/'2013 Rate'!$AB15)*1000","v":1.518887464246967},{"$f":"('2013'!F15/'2013 Rate'!$AB15)*1000","v":3.0870894565539011},{"$f":"('2013'!G15/'2013 Rate'!$AB15)*1000","v":0.53259690304763785},{"$f":"('2013'!H15/'2013 Rate'!$AB15)*1000","v":37.232468685274682},{"$f":"('2013'!I15/'2013 Rate'!$AB15)*1000","v":32.093894861426179},{"$f":"('2013'!J15/'2013 Rate'!$AB15)*1000","v":4.8920011835486736},{"$f":"('2013'!K15/'2013 Rate'!$AB15)*1000","v":27.813393825821088},{"$f":"('2013'!L15/'2013 Rate'!$AB15)*1000","v":22.921392642272416},{"$f":"('2013'!M15/'2013 Rate'!$AB15)*1000","v":0.75944373212348348},{"$f":"('2013'!N15/'2013 Rate'!$AB15)*1000","v":6.933622645231285},{"$f":"('2013'!O15/'2013 Rate'!$AB15)*1000","v":6.1741789131078022},{"$f":"('2013'!P15/'2013 Rate'!$AB15)*1000","v":-0.5128710918236512},{"$f":"('2013'!Q15/'2013 Rate'!$AB15)*1000","v":2.4854522142223101},{"$f":"('2013'!R15/'2013 Rate'!$AB15)*1000","v":2.9983233060459611},{"$f":"('2013'!S15/'2013 Rate'!$AB15)*1000","v":3.6492750764375188},{"$f":"('2013'!T15/'2013 Rate'!$AB15)*1000","v":1.1342341453792286},{"$f":"('2013'!U15/'2013 Rate'!$AB15)*1000","v":3.2547588519577868},{"$f":"('2013'!V15/'2013 Rate'!$AB15)*1000","v":2.1797021402505177},null,null,{"$f":"('2013'!Y15/'2013 Rate'!$AB15)*1000","v":0.48328237498767135},null,"East Lothian",101390]
[14,"East Renfrewshire",null,{"$f":"('2013'!D16/'2013 Rate'!$AB16)*1000","v":5.8887796350923196},{"$f":"('2013'!E16/'2013 Rate'!$AB16)*1000","v":6.3804217196547581},{"$f":"('2013'!F16/'2013 Rate'!$AB16)*1000","v":-0.26220911176663386},{"$f":"('2013'!G16/'2013 Rate'!$AB16)*1000","v":-0.22943297279580466},{"$f":"('2013'!H16/'2013 Rate'!$AB16)*1000","v":40.041516442696384},{"$f":"('2013'!I16/'2013 Rate'!$AB16)*1000","v":34.152736807604064},{"$f":"('2013'!J16/'2013 Rate'!$AB16)*1000","v":7.6259150005462688},{"$f":"('2013'!K16/'2013 Rate'!$AB16)*1000","v":34.480498197312357},{"$f":"('2013'!L16/'2013 Rate'!$AB16)*1000","v":26.854583196766086},{"$f":"('2013'!M16/'2013 Rate'!$AB16)*1000","v":-0.55719436250409704},{"$f":"('2013'!N16/'2013 Rate'!$AB16)*1000","v":4.5995848355730367},{"$f":"('2013'!O16/'2013 Rate'!$AB16)*1000","v":5.1567791980771327},{"$f":"('2013'!P16/'2013 Rate'!$AB16)*1000","v":-1.1799410029498525},{"$f":"('2013'!Q16/'2013 Rate'!$AB16)*1000","v":0.9614334098109909},{"$f":"('2013'!R16/'2013 Rate'!$AB16)*1000","v":2.1413744127608436},{"$f":"('2013'!S16/'2013 Rate'!$AB16)*1000","v":1.0925379656943079},{"$f":"('2013'!T16/'2013 Rate'!$AB16)*1000","v":0.95050803015404783},{"$f":"('2013'!U16/'2013 Rate'!$AB16)*1000","v":26.297388834261991},{"$f":"('2013'!V16/'2013 Rate'!$AB16)*1000","v":8.9369605593794379},null,null,{"$f":"('2013'!Y16/'2013 Rate'!$AB16)*1000","v":0.89588113186933249},null,"East Renfrewshire",91530]
[15,"Falkirk",null,{"$f":"('2013'!D17/'2013 Rate'!$AB17)*1000","v":2.3861033341817257},{"$f":"('2013'!E17/'2013 Rate'!$AB17)*1000","v":0.44540595571392211},{"$f":"('2013'!F17/'2013 Rate'!$AB17)*1000","v":1.4380249427335199},{"$f":"('2013'!G17/'2013 Rate'!$AB17)*1000","v":0.50267243573428355},{"$f":"('2013'!H17/'2013 Rate'!$AB17)*1000","v":25.935352506999237},{"$f":"('2013'!I17/'2013 Rate'!$AB17)*1000","v":23.549249172817511},{"$f":"('2013'!J17/'2013 Rate'!$AB17)*1000","v":2.5197251208959024},{"$f":"('2013'!K17/'2013 Rate'!$AB17)*1000","v":20.170526851616188},{"$f":"('2013'!L17/'2013 Rate'!$AB17)*1000","v":17.650801730720282},{"$f":"('2013'!M17/'2013 Rate'!$AB17)*1000","v":0.68083481801985235},{"$f":"('2013'!N17/'2013 Rate'!$AB17)*1000","v":4.2695342326291676},{"$f":"('2013'!O17/'2013 Rate'!$AB17)*1000","v":3.5886994146093154},{"$f":"('2013'!P17/'2013 Rate'!$AB17)*1000","v":-0.81445660473402903},{"$f":"('2013'!Q17/'2013 Rate'!$AB17)*1000","v":1.4952914227538814},{"$f":"('2013'!R17/'2013 Rate'!$AB17)*1000","v":2.3097480274879105},{"$f":"('2013'!S17/'2013 Rate'!$AB17)*1000","v":2.4179180453041487},{"$f":"('2013'!T17/'2013 Rate'!$AB17)*1000","v":0.9480783914482056},{"$f":"('2013'!U17/'2013 Rate'!$AB17)*1000","v":4.3140748282005594},{"$f":"('2013'!V17/'2013 Rate'!$AB17)*1000","v":3.1623822855688468},null,null,{"$f":"('2013'!Y17/'2013 Rate'!$AB17)*1000","v":0.4835836090608297},null,"Falkirk",157160]
[16,"Fife",null,{"$f":"('2013'!D18/'2013 Rate'!$AB18)*1000","v":0.8285636413191606},{"$f":"('2013'!E18/'2013 Rate'!$AB18)*1000","v":0.46061597165440171},{"$f":"('2013'!F18/'2013 Rate'!$AB18)*1000","v":0.32979013355137637},{"$f":"('2013'!G18/'2013 Rate'!$AB18)*1000","v":3.8157536113382393E-2},{"$f":"('2013'!H18/'2013 Rate'!$AB18)*1000","v":28.506405014990463},{"$f":"('2013'!I18/'2013 Rate'!$AB18)*1000","v":27.677841373671299},{"$f":"('2013'!J18/'2013 Rate'!$AB18)*1000","v":-0.32706459525756337},{"$f":"('2013'!K18/'2013 Rate'!$AB18)*1000","v":15.625511038430091},{"$f":"('2013'!L18/'2013 Rate'!$AB18)*1000","v":15.952575633687655},{"$f":"('2013'!M18/'2013 Rate'!$AB18)*1000","v":1.3028073044426274},{"$f":"('2013'!N18/'2013 Rate'!$AB18)*1000","v":8.7653311529026983},{"$f":"('2013'!O18/'2013 Rate'!$AB18)*1000","v":7.4625238484600711},{"$f":"('2013'!P18/'2013 Rate'!$AB18)*1000","v":-0.14717906786590351},{"$f":"('2013'!Q18/'2013 Rate'!$AB18)*1000","v":4.1155628236576725},{"$f":"('2013'!R18/'2013 Rate'!$AB18)*1000","v":4.262741891523576},{"$f":"('2013'!S18/'2013 Rate'!$AB18)*1000","v":5.3693104388116657},{"$f":"('2013'!T18/'2013 Rate'!$AB18)*1000","v":1.1092940855819025},{"$f":"('2013'!U18/'2013 Rate'!$AB18)*1000","v":4.0256200599618426},{"$f":"('2013'!V18/'2013 Rate'!$AB18)*1000","v":2.4611610793131646},null,null,{"$f":"('2013'!Y18/'2013 Rate'!$AB18)*1000","v":0.482420278004906},null,"Fife",366900]
[17,"Glasgow City",null,{"$f":"('2013'!D19/'2013 Rate'!$AB19)*1000","v":0.73593509018976733},{"$f":"('2013'!E19/'2013 Rate'!$AB19)*1000","v":-1.5473077180983035},{"$f":"('2013'!F19/'2013 Rate'!$AB19)*1000","v":2.8146583517736206},{"$f":"('2013'!G19/'2013 Rate'!$AB19)*1000","v":-0.53141554348554954},{"$f":"('2013'!H19/'2013 Rate'!$AB19)*1000","v":46.952323476161737},{"$f":"('2013'!I19/'2013 Rate'!$AB19)*1000","v":46.216388385971975},{"$f":"('2013'!J19/'2013 Rate'!$AB19)*1000","v":-3.0191778984778384},{"$f":"('2013'!K19/'2013 Rate'!$AB19)*1000","v":25.144169516529203},{"$f":"('2013'!L19/'2013 Rate'!$AB19)*1000","v":28.163347415007042},{"$f":"('2013'!M19/'2013 Rate'!$AB19)*1000","v":0.29336820223965665},{"$f":"('2013'!N19/'2013 Rate'!$AB19)*1000","v":9.9259035740628985},{"$f":"('2013'!O19/'2013 Rate'!$AB19)*1000","v":9.6325353718232414},{"$f":"('2013'!P19/'2013 Rate'!$AB19)*1000","v":3.4617447864279489},{"$f":"('2013'!Q19/'2013 Rate'!$AB19)*1000","v":11.882250385569638},{"$f":"('2013'!R19/'2013 Rate'!$AB19)*1000","v":8.4205055991416877},{"$f":"('2013'!S19/'2013 Rate'!$AB19)*1000","v":11.432977938711192},{"$f":"('2013'!T19/'2013 Rate'!$AB19)*1000","v":3.3293099979883327},{"$f":"('2013'!U19/'2013 Rate'!$AB19)*1000","v":19.734459867229933},{"$f":"('2013'!V19/'2013 Rate'!$AB19)*1000","v":17.509890699389793},null,null,{"$f":"('2013'!Y19/'2013 Rate'!$AB19)*1000","v":2.5447596057131361},null,"Glasgow City",596520]
[18,"Highland",null,{"$f":"('2013'!D20/'2013 Rate'!$AB20)*1000","v":0.39926158073240886},{"$f":"('2013'!E20/'2013 Rate'!$AB20)*1000","v":0.71266045593096639},{"$f":"('2013'!F20/'2013 Rate'!$AB20)*1000","v":-0.12879405830077706},{"$f":"('2013'!G20/'2013 Rate'!$AB20)*1000","v":-0.18460481689778047},{"$f":"('2013'!H20/'2013 Rate'!$AB20)*1000","v":30.386811488430002},{"$f":"('2013'!I20/'2013 Rate'!$AB20)*1000","v":29.987549907697591},{"$f":"('2013'!J20/'2013 Rate'!$AB20)*1000","v":-1.8374618984244193},{"$f":"('2013'!K20/'2013 Rate'!$AB20)*1000","v":17.060919589576265},{"$f":"('2013'!L20/'2013 Rate'!$AB20)*1000","v":18.898381488000688},{"$f":"('2013'!M20/'2013 Rate'!$AB20)*1000","v":3.2799553513931223},{"$f":"('2013'!N20/'2013 Rate'!$AB20)*1000","v":10.668441162581033},{"$f":"('2013'!O20/'2013 Rate'!$AB20)*1000","v":7.3884858111879108},{"$f":"('2013'!P20/'2013 Rate'!$AB20)*1000","v":-1.0432318722362941},{"$f":"('2013'!Q20/'2013 Rate'!$AB20)*1000","v":2.6574507362727},{"$f":"('2013'!R20/'2013 Rate'!$AB20)*1000","v":3.7006826085089939},{"$f":"('2013'!S20/'2013 Rate'!$AB20)*1000","v":5.5381445069334134},{"$f":"('2013'!T20/'2013 Rate'!$AB20)*1000","v":1.3566307474348516},{"$f":"('2013'!U20/'2013 Rate'!$AB20)*1000","v":3.0652985875584937},{"$f":"('2013'!V20/'2013 Rate'!$AB20)*1000","v":3.722148284892457},null,null,{"$f":"('2013'!Y20/'2013 Rate'!$AB20)*1000","v":0.78564375563474009},null,"Highland",232930]
[19,"Inverclyde",null,{"$f":"('2013'!D21/'2013 Rate'!$AB21)*1000","v":-1.9915359721184964},{"$f":"('2013'!E21/'2013 Rate'!$AB21)*1000","v":0.44809559372666169},{"$f":"('2013'!F21/'2013 Rate'!$AB21)*1000","v":-2.4271844660194173},{"$f":"('2013'!G21/'2013 Rate'!$AB21)*1000","v":-1.2447099825740602E-2},{"$f":"('2013'!H21/'2013 Rate'!$AB21)*1000","v":17.463281055514067},{"$f":"('2013'!I21/'2013 Rate'!$AB21)*1000","v":19.454817027632561},{"$f":"('2013'!J21/'2013 Rate'!$AB21)*1000","v":-1.9044062733383122},{"$f":"('2013'!K21/'2013 Rate'!$AB21)*1000","v":12.235499128703012},{"$f":"('2013'!L21/'2013 Rate'!$AB21)*1000","v":14.139905402041325},{"$f":"('2013'!M21/'2013 Rate'!$AB21)*1000","v":0.62235499128703009},{"$f":"('2013'!N21/'2013 Rate'!$AB21)*1000","v":4.3440378391834704},{"$f":"('2013'!O21/'2013 Rate'!$AB21)*1000","v":3.7216828478964401},{"$f":"('2013'!P21/'2013 Rate'!$AB21)*1000","v":-0.70948469006721437},{"$f":"('2013'!Q21/'2013 Rate'!$AB21)*1000","v":0.88374408762758283},{"$f":"('2013'!R21/'2013 Rate'!$AB21)*1000","v":1.5932287776947971},{"$f":"('2013'!S21/'2013 Rate'!$AB21)*1000","v":0.99576798605924821},{"$f":"('2013'!T21/'2013 Rate'!$AB21)*1000","v":0.41075429424943988},{"$f":"('2013'!U21/'2013 Rate'!$AB21)*1000","v":2.2902663679362707},{"$f":"('2013'!V21/'2013 Rate'!$AB21)*1000","v":0.65969629076425196},null,null,{"$f":"('2013'!Y21/'2013 Rate'!$AB21)*1000","v":0.38586009459795867},null,"Inverclyde",80340]
[20,"Midlothian",null,{"$f":"('2013'!D22/'2013 Rate'!$AB22)*1000","v":6.7996694605123364},{"$f":"('2013'!E22/'2013 Rate'!$AB22)*1000","v":1.7353323102349192},{"$f":"('2013'!F22/'2013 Rate'!$AB22)*1000","v":5.2296068941093141},{"$f":"('2013'!G22/'2013 Rate'!$AB22)*1000","v":-0.16526974383189708},{"$f":"('2013'!H22/'2013 Rate'!$AB22)*1000","v":35.273285326407745},{"$f":"('2013'!I22/'2013 Rate'!$AB22)*1000","v":28.473615865895407},{"$f":"('2013'!J22/'2013 Rate'!$AB22)*1000","v":6.6698146617872736},{"$f":"('2013'!K22/'2013 Rate'!$AB22)*1000","v":29.052059969307045},{"$f":"('2013'!L22/'2013 Rate'!$AB22)*1000","v":22.382245307519771},{"$f":"('2013'!M22/'2013 Rate'!$AB22)*1000","v":0.6610789753275883},{"$f":"('2013'!N22/'2013 Rate'!$AB22)*1000","v":5.182386967300201},{"$f":"('2013'!O22/'2013 Rate'!$AB22)*1000","v":4.5213079919726118},{"$f":"('2013'!P22/'2013 Rate'!$AB22)*1000","v":-0.5312241766025263},{"$f":"('2013'!Q22/'2013 Rate'!$AB22)*1000","v":1.0388383898004958},{"$f":"('2013'!R22/'2013 Rate'!$AB22)*1000","v":1.5700625664030221},{"$f":"('2013'!S22/'2013 Rate'!$AB22)*1000","v":2.1248967064101052},{"$f":"('2013'!T22/'2013 Rate'!$AB22)*1000","v":1.0034234446936607},{"$f":"('2013'!U22/'2013 Rate'!$AB22)*1000","v":4.403258174949829},{"$f":"('2013'!V22/'2013 Rate'!$AB22)*1000","v":2.7151457915240229},null,null,{"$f":"('2013'!Y22/'2013 Rate'!$AB22)*1000","v":0.70829890213670166},null,"Midlothian",84710]
[21,"Moray",null,{"$f":"('2013'!D23/'2013 Rate'!$AB23)*1000","v":6.3162356930902925},{"$f":"('2013'!E23/'2013 Rate'!$AB23)*1000","v":1.7274268757948283},{"$f":"('2013'!F23/'2013 Rate'!$AB23)*1000","v":4.2602797795676128},{"$f":"('2013'!G23/'2013 Rate'!$AB23)*1000","v":0.3285290377278508},{"$f":"('2013'!H23/'2013 Rate'!$AB23)*1000","v":37.388724035608305},{"$f":"('2013'!I23/'2013 Rate'!$AB23)*1000","v":31.072488342518017},{"$f":"('2013'!J23/'2013 Rate'!$AB23)*1000","v":1.3459092835947435},{"$f":"('2013'!K23/'2013 Rate'!$AB23)*1000","v":19.287833827893174},{"$f":"('2013'!L23/'2013 Rate'!$AB23)*1000","v":17.941924544298431},{"$f":"('2013'!M23/'2013 Rate'!$AB23)*1000","v":6.5175922000847821},{"$f":"('2013'!N23/'2013 Rate'!$AB23)*1000","v":15.695209834675708},{"$f":"('2013'!O23/'2013 Rate'!$AB23)*1000","v":9.1776176345909288},{"$f":"('2013'!P23/'2013 Rate'!$AB23)*1000","v":-1.5472657905892326},{"$f":"('2013'!Q23/'2013 Rate'!$AB23)*1000","v":2.4056803730394236},{"$f":"('2013'!R23/'2013 Rate'!$AB23)*1000","v":3.9529461636286563},{"$f":"('2013'!S23/'2013 Rate'!$AB23)*1000","v":3.3912674862229757},{"$f":"('2013'!T23/'2013 Rate'!$AB23)*1000","v":1.1869436201780414},{"$f":"('2013'!U23/'2013 Rate'!$AB23)*1000","v":2.8401865197117422},{"$f":"('2013'!V23/'2013 Rate'!$AB23)*1000","v":3.2217041119118273},null,null,{"$f":"('2013'!Y23/'2013 Rate'!$AB23)*1000","v":0.37091988130563802},null,"Moray",94360]
[22,"Na h-Eileanan Siar",null,{"$f":"('2013'!D24/'2013 Rate'!$AB24)*1000","v":-0.6934306569343065},{"$f":"('2013'!E24/'2013 Rate'!$AB24)*1000","v":-0.40145985401459849},{"$f":"('2013'!F24/'2013 Rate'!$AB24)*1000","v":-0.72992700729927007},{"$f":"('2013'!G24/'2013 Rate'!$AB24)*1000","v":0.43795620437956201},{"$f":"('2013'!H24/'2013 Rate'!$AB24)*1000","v":31.423357664233578},{"$f":"('2013'!I24/'2013 Rate'!$AB24)*1000","v":32.116788321167881},{"$f":"('2013'!J24/'2013 Rate'!$AB24)*1000","v":-2.6642335766423355},{"$f":"('2013'!K24/'2013 Rate'!$AB24)*1000","v":18.211678832116789},{"$f":"('2013'!L24/'2013 Rate'!$AB24)*1000","v":20.875912408759124},{"$f":"('2013'!M24/'2013 Rate'!$AB24)*1000","v":4.1240875912408761},{"$f":"('2013'!N24/'2013 Rate'!$AB24)*1000","v":12.18978102189781},{"$f":"('2013'!O24/'2013 Rate'!$AB24)*1000","v":8.0656934306569337},{"$f":"('2013'!P24/'2013 Rate'!$AB24)*1000","v":-2.1532846715328469},{"$f":"('2013'!Q24/'2013 Rate'!$AB24)*1000","v":1.0218978102189782},{"$f":"('2013'!R24/'2013 Rate'!$AB24)*1000","v":3.175182481751825},{"$f":"('2013'!S24/'2013 Rate'!$AB24)*1000","v":1.0948905109489051},{"$f":"('2013'!T24/'2013 Rate'!$AB24)*1000","v":0.76642335766423353},{"$f":"('2013'!U24/'2013 Rate'!$AB24)*1000","v":2.0802919708029197},{"$f":"('2013'!V24/'2013 Rate'!$AB24)*1000","v":1.7153284671532847},null,null,{"$f":"('2013'!Y24/'2013 Rate'!$AB24)*1000","v":0.6934306569343065},null,"Na h-Eileanan Siar",27400]
[23,"North Ayrshire",null,{"$f":"('2013'!D25/'2013 Rate'!$AB25)*1000","v":-2.2491602161530597},{"$f":"('2013'!E25/'2013 Rate'!$AB25)*1000","v":-9.4932087045421359E-2},{"$f":"('2013'!F25/'2013 Rate'!$AB25)*1000","v":-2.4317219220096393},{"$f":"('2013'!G25/'2013 Rate'!$AB25)*1000","v":0.27749379290200088},{"$f":"('2013'!H25/'2013 Rate'!$AB25)*1000","v":25.522126478749815},{"$f":"('2013'!I25/'2013 Rate'!$AB25)*1000","v":27.771286694902876},{"$f":"('2013'!J25/'2013 Rate'!$AB25)*1000","v":-1.4385862421498465},{"$f":"('2013'!K25/'2013 Rate'!$AB25)*1000","v":18.789250766759164},{"$f":"('2013'!L25/'2013 Rate'!$AB25)*1000","v":20.22783700890901},{"$f":"('2013'!M25/'2013 Rate'!$AB25)*1000","v":0.92741346575142392},{"$f":"('2013'!N25/'2013 Rate'!$AB25)*1000","v":5.9296042062217023},{"$f":"('2013'!O25/'2013 Rate'!$AB25)*1000","v":5.0021907404702786},{"$f":"('2013'!P25/'2013 Rate'!$AB25)*1000","v":-1.7379874397546371},{"$f":"('2013'!Q25/'2013 Rate'!$AB25)*1000","v":0.8032715057689499},{"$f":"('2013'!R25/'2013 Rate'!$AB25)*1000","v":2.541258945523587},{"$f":"('2013'!S25/'2013 Rate'!$AB25)*1000","v":0.94932087045421354},{"$f":"('2013'!T25/'2013 Rate'!$AB25)*1000","v":0.44545056229005403},{"$f":"('2013'!U25/'2013 Rate'!$AB25)*1000","v":2.1615305973419017},{"$f":"('2013'!V25/'2013 Rate'!$AB25)*1000","v":0.78866656930042356},null,null,{"$f":"('2013'!Y25/'2013 Rate'!$AB25)*1000","v":0.2263765152621586},null,"North Ayrshire",136940]
[24,"North Lanarkshire",null,{"$f":"('2013'!D26/'2013 Rate'!$AB26)*1000","v":-1.139795132926757},{"$f":"('2013'!E26/'2013 Rate'!$AB26)*1000","v":0.32269524542601691},{"$f":"('2013'!F26/'2013 Rate'!$AB26)*1000","v":-1.2049262833797147},{"$f":"('2013'!G26/'2013 Rate'!$AB26)*1000","v":-0.25756409497305938},{"$f":"('2013'!H26/'2013 Rate'!$AB26)*1000","v":19.663686423115635},{"$f":"('2013'!I26/'2013 Rate'!$AB26)*1000","v":20.803481556042396},{"$f":"('2013'!J26/'2013 Rate'!$AB26)*1000","v":-0.53881224465628519},{"$f":"('2013'!K26/'2013 Rate'!$AB26)*1000","v":15.134110959796317},{"$f":"('2013'!L26/'2013 Rate'!$AB26)*1000","v":15.672923204452603},{"$f":"('2013'!M26/'2013 Rate'!$AB26)*1000","v":0.41151045058914082},{"$f":"('2013'!N26/'2013 Rate'!$AB26)*1000","v":3.315767659423293},{"$f":"('2013'!O26/'2013 Rate'!$AB26)*1000","v":2.9042572088341525},{"$f":"('2013'!P26/'2013 Rate'!$AB26)*1000","v":-1.0124933388596129},{"$f":"('2013'!Q26/'2013 Rate'!$AB26)*1000","v":1.2138078038960269},{"$f":"('2013'!R26/'2013 Rate'!$AB26)*1000","v":2.2263011427556396},{"$f":"('2013'!S26/'2013 Rate'!$AB26)*1000","v":1.7466990348747706},{"$f":"('2013'!T26/'2013 Rate'!$AB26)*1000","v":0.7845343122742614},{"$f":"('2013'!U26/'2013 Rate'!$AB26)*1000","v":5.0239801053940436},{"$f":"('2013'!V26/'2013 Rate'!$AB26)*1000","v":2.9605068387707973},null,null,{"$f":"('2013'!Y26/'2013 Rate'!$AB26)*1000","v":0.41447095742791162},null,"North Lanarkshire",337780]
[25,"Orkney Islands",null,{"$f":"('2013'!D27/'2013 Rate'!$AB27)*1000","v":3.7105751391465676},{"$f":"('2013'!E27/'2013 Rate'!$AB27)*1000","v":1.6233766233766236},{"$f":"('2013'!F27/'2013 Rate'!$AB27)*1000","v":1.8089053803339519},{"$f":"('2013'!G27/'2013 Rate'!$AB27)*1000","v":0.2782931354359926},{"$f":"('2013'!H27/'2013 Rate'!$AB27)*1000","v":35.296846011131727},{"$f":"('2013'!I27/'2013 Rate'!$AB27)*1000","v":31.586270871985157},{"$f":"('2013'!J27/'2013 Rate'!$AB27)*1000","v":0.92764378478664189},{"$f":"('2013'!K27/'2013 Rate'!$AB27)*1000","v":19.897959183673468},{"$f":"('2013'!L27/'2013 Rate'!$AB27)*1000","v":18.970315398886829},{"$f":"('2013'!M27/'2013 Rate'!$AB27)*1000","v":4.0816326530612246},{"$f":"('2013'!N27/'2013 Rate'!$AB27)*1000","v":13.126159554730984},{"$f":"('2013'!O27/'2013 Rate'!$AB27)*1000","v":9.0445269016697587},{"$f":"('2013'!P27/'2013 Rate'!$AB27)*1000","v":-1.2987012987012987},{"$f":"('2013'!Q27/'2013 Rate'!$AB27)*1000","v":2.2727272727272725},{"$f":"('2013'!R27/'2013 Rate'!$AB27)*1000","v":3.5714285714285712},{"$f":"('2013'!S27/'2013 Rate'!$AB27)*1000","v":3.2467532467532472},{"$f":"('2013'!T27/'2013 Rate'!$AB27)*1000","v":0.32467532467532467},{"$f":"('2013'!U27/'2013 Rate'!$AB27)*1000","v":1.7625231910946197},{"$f":"('2013'!V27/'2013 Rate'!$AB27)*1000","v":0.69573283858998147},null,null,{"$f":"('2013'!Y27/'2013 Rate'!$AB27)*1000","v":0.32467532467532467},null,"Orkney Islands",21560]
[26,"Perth and Kinross",null,{"$f":"('2013'!D28/'2013 Rate'!$AB28)*1000","v":2.5512620965013193},{"$f":"('2013'!E28/'2013 Rate'!$AB28)*1000","v":1.6512147255870608},{"$f":"('2013'!F28/'2013 Rate'!$AB28)*1000","v":0.54814915070718007},{"$f":"('2013'!G28/'2013 Rate'!$AB28)*1000","v":0.35189822020707856},{"$f":"('2013'!H28/'2013 Rate'!$AB28)*1000","v":40.447993503417479},{"$f":"('2013'!I28/'2013 Rate'!$AB28)*1000","v":37.896731406916153},{"$f":"('2013'!J28/'2013 Rate'!$AB28)*1000","v":1.2113419503282128},{"$f":"('2013'!K28/'2013 Rate'!$AB28)*1000","v":26.419435609392973},{"$f":"('2013'!L28/'2013 Rate'!$AB28)*1000","v":25.208093659064762},{"$f":"('2013'!M28/'2013 Rate'!$AB28)*1000","v":1.4075928808283142},{"$f":"('2013'!N28/'2013 Rate'!$AB28)*1000","v":8.3372809095215548},{"$f":"('2013'!O28/'2013 Rate'!$AB28)*1000","v":6.9296880286932394},{"$f":"('2013'!P28/'2013 Rate'!$AB28)*1000","v":-6.7672734655207428E-2},{"$f":"('2013'!Q28/'2013 Rate'!$AB28)*1000","v":5.6912769845029443},{"$f":"('2013'!R28/'2013 Rate'!$AB28)*1000","v":5.7589497191581511},{"$f":"('2013'!S28/'2013 Rate'!$AB28)*1000","v":15.903092643973743},{"$f":"('2013'!T28/'2013 Rate'!$AB28)*1000","v":1.4278947012248764},{"$f":"('2013'!U28/'2013 Rate'!$AB28)*1000","v":3.667862218312242},{"$f":"('2013'!V28/'2013 Rate'!$AB28)*1000","v":3.9114840630709882},null,null,{"$f":"('2013'!Y28/'2013 Rate'!$AB28)*1000","v":0.58198551803478382},null,"Perth & Kinross",147770]
[27,"Renfrewshire",null,{"$f":"('2013'!D29/'2013 Rate'!$AB29)*1000","v":-1.9725113577549027},{"$f":"('2013'!E29/'2013 Rate'!$AB29)*1000","v":-0.14376904939904536},{"$f":"('2013'!F29/'2013 Rate'!$AB29)*1000","v":-1.8459945942837426},{"$f":"('2013'!G29/'2013 Rate'!$AB29)*1000","v":1.7252285927885445E-2},{"$f":"('2013'!H29/'2013 Rate'!$AB29)*1000","v":25.343608028063716},{"$f":"('2013'!I29/'2013 Rate'!$AB29)*1000","v":27.31611938581862},{"$f":"('2013'!J29/'2013 Rate'!$AB29)*1000","v":-0.8223589625625396},{"$f":"('2013'!K29/'2013 Rate'!$AB29)*1000","v":19.155788141928806},{"$f":"('2013'!L29/'2013 Rate'!$AB29)*1000","v":19.978147104491345},{"$f":"('2013'!M29/'2013 Rate'!$AB29)*1000","v":3.4504571855770889E-2},{"$f":"('2013'!N29/'2013 Rate'!$AB29)*1000","v":4.2843176720915519},{"$f":"('2013'!O29/'2013 Rate'!$AB29)*1000","v":4.2498131002357811},{"$f":"('2013'!P29/'2013 Rate'!$AB29)*1000","v":-1.1846569670481339},{"$f":"('2013'!Q29/'2013 Rate'!$AB29)*1000","v":1.9035022140433608},{"$f":"('2013'!R29/'2013 Rate'!$AB29)*1000","v":3.0881591810914948},{"$f":"('2013'!S29/'2013 Rate'!$AB29)*1000","v":2.9328886077405256},{"$f":"('2013'!T29/'2013 Rate'!$AB29)*1000","v":1.0121341077692794},{"$f":"('2013'!U29/'2013 Rate'!$AB29)*1000","v":4.8881476795675427},{"$f":"('2013'!V29/'2013 Rate'!$AB29)*1000","v":2.3923169820001151},null,null,{"$f":"('2013'!Y29/'2013 Rate'!$AB29)*1000","v":0.73609753292311231},null,"Renfrewshire",173890]
[28,"Scottish Borders",null,{"$f":"('2013'!D30/'2013 Rate'!$AB30)*1000","v":2.7046013347383209},{"$f":"('2013'!E30/'2013 Rate'!$AB30)*1000","v":0.88689848963821571},{"$f":"('2013'!F30/'2013 Rate'!$AB30)*1000","v":1.5367053038285916},{"$f":"('2013'!G30/'2013 Rate'!$AB30)*1000","v":0.28099754127151388},{"$f":"('2013'!H30/'2013 Rate'!$AB30)*1000","v":34.887600983491396},{"$f":"('2013'!I30/'2013 Rate'!$AB30)*1000","v":32.182999648753075},{"$f":"('2013'!J30/'2013 Rate'!$AB30)*1000","v":-7.0249385317878471E-2},{"$f":"('2013'!K30/'2013 Rate'!$AB30)*1000","v":18.888303477344571},{"$f":"('2013'!L30/'2013 Rate'!$AB30)*1000","v":18.958552862662451},{"$f":"('2013'!M30/'2013 Rate'!$AB30)*1000","v":4.2939936775553216},{"$f":"('2013'!N30/'2013 Rate'!$AB30)*1000","v":13.804004214963118},{"$f":"('2013'!O30/'2013 Rate'!$AB30)*1000","v":9.5100105374077977},{"$f":"('2013'!P30/'2013 Rate'!$AB30)*1000","v":-1.519142957499122},{"$f":"('2013'!Q30/'2013 Rate'!$AB30)*1000","v":2.1952932911837024},{"$f":"('2013'!R30/'2013 Rate'!$AB30)*1000","v":3.7144362486828242},{"$f":"('2013'!S30/'2013 Rate'!$AB30)*1000","v":2.9855988760098349},{"$f":"('2013'!T30/'2013 Rate'!$AB30)*1000","v":1.1415525114155249},{"$f":"('2013'!U30/'2013 Rate'!$AB30)*1000","v":2.6782578152441165},{"$f":"('2013'!V30/'2013 Rate'!$AB30)*1000","v":3.1348788198103268},null,null,{"$f":"('2013'!Y30/'2013 Rate'!$AB30)*1000","v":0.44783983140147521},null,"Scottish Borders",113880]
[29,"Shetland Islands",null,{"$f":"('2013'!D31/'2013 Rate'!$AB31)*1000","v":-3.8362068965517242},{"$f":"('2013'!E31/'2013 Rate'!$AB31)*1000","v":-1.853448275862069},{"$f":"('2013'!F31/'2013 Rate'!$AB31)*1000","v":-0.99137931034482762},{"$f":"('2013'!G31/'2013 Rate'!$AB31)*1000","v":-0.99137931034482762},{"$f":"('2013'!H31/'2013 Rate'!$AB31)*1000","v":27.887931034482758},{"$f":"('2013'!I31/'2013 Rate'!$AB31)*1000","v":31.724137931034484},{"$f":"('2013'!J31/'2013 Rate'!$AB31)*1000","v":-3.6637931034482758},{"$f":"('2013'!K31/'2013 Rate'!$AB31)*1000","v":15.129310344827587},{"$f":"('2013'!L31/'2013 Rate'!$AB31)*1000","v":18.793103448275861},{"$f":"('2013'!M31/'2013 Rate'!$AB31)*1000","v":1.2068965517241379},{"$f":"('2013'!N31/'2013 Rate'!$AB31)*1000","v":10.172413793103447},{"$f":"('2013'!O31/'2013 Rate'!$AB31)*1000","v":8.9655172413793096},{"$f":"('2013'!P31/'2013 Rate'!$AB31)*1000","v":-1.3793103448275861},{"$f":"('2013'!Q31/'2013 Rate'!$AB31)*1000","v":2.5862068965517242},{"$f":"('2013'!R31/'2013 Rate'!$AB31)*1000","v":3.9655172413793105},{"$f":"('2013'!S31/'2013 Rate'!$AB31)*1000","v":8.1896551724137936},{"$f":"('2013'!T31/'2013 Rate'!$AB31)*1000","v":0.94827586206896552},{"$f":"('2013'!U31/'2013 Rate'!$AB31)*1000","v":3.6206896551724141},{"$f":"('2013'!V31/'2013 Rate'!$AB31)*1000","v":1.25},null,null,{"$f":"('2013'!Y31/'2013 Rate'!$AB31)*1000","v":0.77586206896551724},null,"Shetland Islands",23200]
[30,"South Ayrshire",null,{"$f":"('2013'!D32/'2013 Rate'!$AB32)*1000","v":3.588198812793479},{"$f":"('2013'!E32/'2013 Rate'!$AB32)*1000","v":1.1340480198458405},{"$f":"('2013'!F32/'2013 Rate'!$AB32)*1000","v":1.3112430229467529},{"$f":"('2013'!G32/'2013 Rate'!$AB32)*1000","v":1.1429077700008861},{"$f":"('2013'!H32/'2013 Rate'!$AB32)*1000","v":33.011429077700008},{"$f":"('2013'!I32/'2013 Rate'!$AB32)*1000","v":29.423230264906529},{"$f":"('2013'!J32/'2013 Rate'!$AB32)*1000","v":2.950296801630194},{"$f":"('2013'!K32/'2013 Rate'!$AB32)*1000","v":23.752990165677328},{"$f":"('2013'!L32/'2013 Rate'!$AB32)*1000","v":20.802693364047133},{"$f":"('2013'!M32/'2013 Rate'!$AB32)*1000","v":2.3478337910870914},{"$f":"('2013'!N32/'2013 Rate'!$AB32)*1000","v":7.7788606361300614},{"$f":"('2013'!O32/'2013 Rate'!$AB32)*1000","v":5.43102684504297},{"$f":"('2013'!P32/'2013 Rate'!$AB32)*1000","v":-1.7099317799238061},{"$f":"('2013'!Q32/'2013 Rate'!$AB32)*1000","v":1.4795782758926197},{"$f":"('2013'!R32/'2013 Rate'!$AB32)*1000","v":3.189510055816426},{"$f":"('2013'!S32/'2013 Rate'!$AB32)*1000","v":1.9491450341100383},{"$f":"('2013'!T32/'2013 Rate'!$AB32)*1000","v":0.51386550899264638},{"$f":"('2013'!U32/'2013 Rate'!$AB32)*1000","v":2.6136262957384599},{"$f":"('2013'!V32/'2013 Rate'!$AB32)*1000","v":1.3112430229467529},null,null,{"$f":"('2013'!Y32/'2013 Rate'!$AB32)*1000","v":0.35439000620182515},null,"South Ayrshire",112870]
[31,"South Lanarkshire",null,{"$f":"('2013'!D33/'2013 Rate'!$AB33)*1000","v":1.8392045995997586},{"$f":"('2013'!E33/'2013 Rate'!$AB33)*1000","v":0.30812235951843969},{"$f":"('2013'!F33/'2013 Rate'!$AB33)*1000","v":0.96566182776913068},{"$f":"('2013'!G33/'2013 Rate'!$AB33)*1000","v":0.56542041231218831},{"$f":"('2013'!H33/'2013 Rate'!$AB33)*1000","v":26.069692830596232},{"$f":"('2013'!I33/'2013 Rate'!$AB33)*1000","v":24.230488230996475},{"$f":"('2013'!J33/'2013 Rate'!$AB33)*1000","v":3.0113401734379468},{"$f":"('2013'!K33/'2013 Rate'!$AB33)*1000","v":20.806200565420411},{"$f":"('2013'!L33/'2013 Rate'!$AB33)*1000","v":17.794860391982468},{"$f":"('2013'!M33/'2013 Rate'!$AB33)*1000","v":0.17470855436612562},{"$f":"('2013'!N33/'2013 Rate'!$AB33)*1000","v":4.2851243607255167},{"$f":"('2013'!O33/'2013 Rate'!$AB33)*1000","v":4.1104158063593914},{"$f":"('2013'!P33/'2013 Rate'!$AB33)*1000","v":-1.3468441282043138},{"$f":"('2013'!Q33/'2013 Rate'!$AB33)*1000","v":0.97836790445030342},{"$f":"('2013'!R33/'2013 Rate'!$AB33)*1000","v":2.3252120326546168},{"$f":"('2013'!S33/'2013 Rate'!$AB33)*1000","v":1.5882595851465964},{"$f":"('2013'!T33/'2013 Rate'!$AB33)*1000","v":0.72106985165655468},{"$f":"('2013'!U33/'2013 Rate'!$AB33)*1000","v":4.8410152155268253},{"$f":"('2013'!V33/'2013 Rate'!$AB33)*1000","v":1.8455576379403449},null,null,{"$f":"('2013'!Y33/'2013 Rate'!$AB33)*1000","v":0.62895079571805224},null,"South Lanarkshire",314810]
[32,"Stirling",null,{"$f":"('2013'!D34/'2013 Rate'!$AB34)*1000","v":2.7732105666995506},{"$f":"('2013'!E34/'2013 Rate'!$AB34)*1000","v":1.2715115641784502},{"$f":"('2013'!F34/'2013 Rate'!$AB34)*1000","v":2.4772552888304284},{"$f":"('2013'!G34/'2013 Rate'!$AB34)*1000","v":-0.97555628630932811},{"$f":"('2013'!H34/'2013 Rate'!$AB34)*1000","v":55.168256056121891},{"$f":"('2013'!I34/'2013 Rate'!$AB34)*1000","v":52.395045489422337},{"$f":"('2013'!J34/'2013 Rate'!$AB34)*1000","v":1.1728598048887426},{"$f":"('2013'!K34/'2013 Rate'!$AB34)*1000","v":36.56691877671819},{"$f":"('2013'!L34/'2013 Rate'!$AB34)*1000","v":35.394058971829445},{"$f":"('2013'!M34/'2013 Rate'!$AB34)*1000","v":2.1813000109613068},{"$f":"('2013'!N34/'2013 Rate'!$AB34)*1000","v":11.092842266798202},{"$f":"('2013'!O34/'2013 Rate'!$AB34)*1000","v":8.9115422558368973},{"$f":"('2013'!P34/'2013 Rate'!$AB34)*1000","v":-0.58094924915049873},{"$f":"('2013'!Q34/'2013 Rate'!$AB34)*1000","v":7.5084950126055023},{"$f":"('2013'!R34/'2013 Rate'!$AB34)*1000","v":8.0894442617560021},{"$f":"('2013'!S34/'2013 Rate'!$AB34)*1000","v":6.4671708867697033},{"$f":"('2013'!T34/'2013 Rate'!$AB34)*1000","v":0.92074975337060183},{"$f":"('2013'!U34/'2013 Rate'!$AB34)*1000","v":4.9435492710731124},{"$f":"('2013'!V34/'2013 Rate'!$AB34)*1000","v":2.6745588074098436},null,null,{"$f":"('2013'!Y34/'2013 Rate'!$AB34)*1000","v":0.52614271621177244},null,"Stirling",91230]
[33,"West Dunbartonshire",null,{"$f":"('2013'!D35/'2013 Rate'!$AB35)*1000","v":-4.7216035634743871},{"$f":"('2013'!E35/'2013 Rate'!$AB35)*1000","v":-1.3140311804008908},{"$f":"('2013'!F35/'2013 Rate'!$AB35)*1000","v":-2.8619153674832964},{"$f":"('2013'!G35/'2013 Rate'!$AB35)*1000","v":-0.54565701559020041},{"$f":"('2013'!H35/'2013 Rate'!$AB35)*1000","v":24.164810690423163},{"$f":"('2013'!I35/'2013 Rate'!$AB35)*1000","v":28.886414253897552},{"$f":"('2013'!J35/'2013 Rate'!$AB35)*1000","v":-4.1202672605790651},{"$f":"('2013'!K35/'2013 Rate'!$AB35)*1000","v":18.407572383073497},{"$f":"('2013'!L35/'2013 Rate'!$AB35)*1000","v":22.527839643652563},{"$f":"('2013'!M35/'2013 Rate'!$AB35)*1000","v":0.47884187082405349},{"$f":"('2013'!N35/'2013 Rate'!$AB35)*1000","v":4.632516703786191},{"$f":"('2013'!O35/'2013 Rate'!$AB35)*1000","v":4.153674832962138},{"$f":"('2013'!P35/'2013 Rate'!$AB35)*1000","v":-1.0801781737193763},{"$f":"('2013'!Q35/'2013 Rate'!$AB35)*1000","v":1.1247216035634744},{"$f":"('2013'!R35/'2013 Rate'!$AB35)*1000","v":2.2048997772828507},{"$f":"('2013'!S35/'2013 Rate'!$AB35)*1000","v":1.5590200445434299},{"$f":"('2013'!T35/'2013 Rate'!$AB35)*1000","v":0.75723830734966591},{"$f":"('2013'!U35/'2013 Rate'!$AB35)*1000","v":3.2293986636971046},{"$f":"('2013'!V35/'2013 Rate'!$AB35)*1000","v":1.8819599109131404},null,null,{"$f":"('2013'!Y35/'2013 Rate'!$AB35)*1000","v":0.55679287305122493},null,"West Dunbartonshire",89800]
[34,"West Lothian",null,{"$f":"('2013'!D36/'2013 Rate'!$AB36)*1000","v":-2.1968664850136239},{"$f":"('2013'!E36/'2013 Rate'!$AB36)*1000","v":-0.21003633060853771},{"$f":"('2013'!F36/'2013 Rate'!$AB36)*1000","v":-2.3898728428701181},{"$f":"('2013'!G36/'2013 Rate'!$AB36)*1000","v":0.40304268846503177},{"$f":"('2013'!H36/'2013 Rate'!$AB36)*1000","v":26.038828337874659},{"$f":"('2013'!I36/'2013 Rate'!$AB36)*1000","v":28.235694822888284},{"$f":"('2013'!J36/'2013 Rate'!$AB36)*1000","v":-2.1060399636693914},{"$f":"('2013'!K36/'2013 Rate'!$AB36)*1000","v":18.210717529518618},{"$f":"('2013'!L36/'2013 Rate'!$AB36)*1000","v":20.316757493188014},{"$f":"('2013'!M36/'2013 Rate'!$AB36)*1000","v":1.1353315168029064E-2},{"$f":"('2013'!N36/'2013 Rate'!$AB36)*1000","v":4.9897820163487738},{"$f":"('2013'!O36/'2013 Rate'!$AB36)*1000","v":4.9784287011807447},{"$f":"('2013'!P36/'2013 Rate'!$AB36)*1000","v":-0.10217983651226159},{"$f":"('2013'!Q36/'2013 Rate'!$AB36)*1000","v":2.8383287920072662},{"$f":"('2013'!R36/'2013 Rate'!$AB36)*1000","v":2.9405086285195279},{"$f":"('2013'!S36/'2013 Rate'!$AB36)*1000","v":4.5980926430517712},{"$f":"('2013'!T36/'2013 Rate'!$AB36)*1000","v":1.7654405086285196},{"$f":"('2013'!U36/'2013 Rate'!$AB36)*1000","v":6.1080835603996366},{"$f":"('2013'!V36/'2013 Rate'!$AB36)*1000","v":4.8308356039963671},null,null,{"$f":"('2013'!Y36/'2013 Rate'!$AB36)*1000","v":0.70958219800181654},null,"West Lothian",176160]
[]
[35,"Not specified"]
[36,"SCOTLAND",null,{"$f":"('2013'!D39/'2013 Rate'!$AB39)*1000","v":1.8698500290932296},{"$f":"('2013'!E39/'2013 Rate'!$AB39)*1000","v":0.35230962704356478},{"$f":"('2013'!F39/'2013 Rate'!$AB39)*1000","v":1.5517014846932071},{"$f":"('2013'!G39/'2013 Rate'!$AB39)*1000","v":-3.4161082643542243E-2},{"$f":"('2013'!H39/'2013 Rate'!$AB39)*1000","v":14.243482178050566},{"$f":"('2013'!I39/'2013 Rate'!$AB39)*1000","v":12.373632148957336},null,null,null,{"$f":"('2013'!M39/'2013 Rate'!$AB39)*1000","v":1.4756836908985116},{"$f":"('2013'!N39/'2013 Rate'!$AB39)*1000","v":8.9503913508643507},{"$f":"('2013'!O39/'2013 Rate'!$AB39)*1000","v":7.4747076599658389},{"$f":"('2013'!P39/'2013 Rate'!$AB39)*1000","v":0.39416633819471814},{"$f":"('2013'!Q39/'2013 Rate'!$AB39)*1000","v":5.2930908271862158},{"$f":"('2013'!R39/'2013 Rate'!$AB39)*1000","v":4.8989244889914971},null,{"$f":"('2013'!T39/'2013 Rate'!$AB39)*1000","v":1.6205867447491413},null,null,null,null,null,null,"SCOTLAND",{"$f":"AB4","v":5327700}]
[37,"Ayrshire and Arran",null,{"$f":"('2013'!D40/'2013 Rate'!$AB40)*1000","v":-6.1788093702987316E-2},{"$f":"('2013'!E40/'2013 Rate'!$AB40)*1000","v":0.29819471308833012},{"$f":"('2013'!F40/'2013 Rate'!$AB40)*1000","v":-0.85160111755856438},{"$f":"('2013'!G40/'2013 Rate'!$AB40)*1000","v":0.49161831076724699},{"$f":"('2013'!H40/'2013 Rate'!$AB40)*1000","v":20.997206103589082},{"$f":"('2013'!I40/'2013 Rate'!$AB40)*1000","v":21.058994197292069},{"$f":"('2013'!J40/'2013 Rate'!$AB40)*1000","v":0.26595744680851063},{"$f":"('2013'!K40/'2013 Rate'!$AB40)*1000","v":13.719643240919837},{"$f":"('2013'!L40/'2013 Rate'!$AB40)*1000","v":13.453685794111326},{"$f":"('2013'!M40/'2013 Rate'!$AB40)*1000","v":1.2626262626262628},{"$f":"('2013'!N40/'2013 Rate'!$AB40)*1000","v":6.3238770685579189},{"$f":"('2013'!O40/'2013 Rate'!$AB40)*1000","v":5.0612508059316568},{"$f":"('2013'!P40/'2013 Rate'!$AB40)*1000","v":-1.5903718031377607},{"$f":"('2013'!Q40/'2013 Rate'!$AB40)*1000","v":0.95368579411132592},{"$f":"('2013'!R40/'2013 Rate'!$AB40)*1000","v":2.5440575972490866},null,{"$f":"('2013'!T40/'2013 Rate'!$AB40)*1000","v":0.44057597249086611},null,null,null,null,null,null,"Ayrshire & Arran",{"$f":"AB13+AB25+AB32","v":372240}]
[38,"Borders",null,{"$f":"('2013'!D41/'2013 Rate'!$AB41)*1000","v":2.7046013347383209},{"$f":"('2013'!E41/'2013 Rate'!$AB41)*1000","v":0.88689848963821571},{"$f":"('2013'!F41/'2013 Rate'!$AB41)*1000","v":1.5367053038285916},{"$f":"('2013'!G41/'2013 Rate'!$AB41)*1000","v":0.28099754127151388},{"$f":"('2013'!H41/'2013 Rate'!$AB41)*1000","v":34.887600983491396},{"$f":"('2013'!I41/'2013 Rate'!$AB41)*1000","v":32.182999648753075},{"$f":"('2013'!J41/'2013 Rate'!$AB41)*1000","v":-7.0249385317878471E-2},{"$f":"('2013'!K41/'2013 Rate'!$AB41)*1000","v":18.888303477344571},{"$f":"('2013'!L41/'2013 Rate'!$AB41)*1000","v":18.958552862662451},{"$f":"('2013'!M41/'2013 Rate'!$AB41)*1000","v":4.2939936775553216},{"$f":"('2013'!N41/'2013 Rate'!$AB41)*1000","v":13.804004214963118},{"$f":"('2013'!O41/'2013 Rate'!$AB41)*1000","v":9.5100105374077977},{"$f":"('2013'!P41/'2013 Rate'!$AB41)*1000","v":-1.519142957499122},{"$f":"('2013'!Q41/'2013 Rate'!$AB41)*1000","v":2.1952932911837024},{"$f":"('2013'!R41/'2013 Rate'!$AB41)*1000","v":3.7144362486828242},null,{"$f":"('2013'!T41/'2013 Rate'!$AB41)*1000","v":1.1415525114155249},null,null,null,null,null,null,"Borders",{"$f":"AB30","v":113880}]
[39,"Dumfries and Galloway",null,{"$f":"('2013'!D42/'2013 Rate'!$AB42)*1000","v":-3.9925472451424006E-2},{"$f":"('2013'!E42/'2013 Rate'!$AB42)*1000","v":5.9888208677136019E-2},{"$f":"('2013'!F42/'2013 Rate'!$AB42)*1000","v":0.1264306627628427},{"$f":"('2013'!G42/'2013 Rate'!$AB42)*1000","v":-0.22624434389140272},{"$f":"('2013'!H42/'2013 Rate'!$AB42)*1000","v":26.490550971519827},{"$f":"('2013'!I42/'2013 Rate'!$AB42)*1000","v":26.530476443971253},{"$f":"('2013'!J42/'2013 Rate'!$AB42)*1000","v":-1.2909236092627094},{"$f":"('2013'!K42/'2013 Rate'!$AB42)*1000","v":11.538461538461538},{"$f":"('2013'!L42/'2013 Rate'!$AB42)*1000","v":12.829385147724249},{"$f":"('2013'!M42/'2013 Rate'!$AB42)*1000","v":3.4801703486824596},{"$f":"('2013'!N42/'2013 Rate'!$AB42)*1000","v":13.621240351344158},{"$f":"('2013'!O42/'2013 Rate'!$AB42)*1000","v":10.141070002661698},{"$f":"('2013'!P42/'2013 Rate'!$AB42)*1000","v":-2.2291722118711741},{"$f":"('2013'!Q42/'2013 Rate'!$AB42)*1000","v":1.3308490817141336},{"$f":"('2013'!R42/'2013 Rate'!$AB42)*1000","v":3.5600212935853075},null,{"$f":"('2013'!T42/'2013 Rate'!$AB42)*1000","v":0.65211605003992545},null,null,null,null,null,null,"Dumfries & Galloway",{"$f":"AB11","v":150280}]
[40,"Fife",null,{"$f":"('2013'!D43/'2013 Rate'!$AB43)*1000","v":0.8285636413191606},{"$f":"('2013'!E43/'2013 Rate'!$AB43)*1000","v":0.46061597165440171},{"$f":"('2013'!F43/'2013 Rate'!$AB43)*1000","v":0.32979013355137637},{"$f":"('2013'!G43/'2013 Rate'!$AB43)*1000","v":3.8157536113382393E-2},{"$f":"('2013'!H43/'2013 Rate'!$AB43)*1000","v":28.506405014990463},{"$f":"('2013'!I43/'2013 Rate'!$AB43)*1000","v":27.677841373671299},{"$f":"('2013'!J43/'2013 Rate'!$AB43)*1000","v":-0.32706459525756337},{"$f":"('2013'!K43/'2013 Rate'!$AB43)*1000","v":15.625511038430091},{"$f":"('2013'!L43/'2013 Rate'!$AB43)*1000","v":15.952575633687655},{"$f":"('2013'!M43/'2013 Rate'!$AB43)*1000","v":1.3028073044426274},{"$f":"('2013'!N43/'2013 Rate'!$AB43)*1000","v":8.7653311529026983},{"$f":"('2013'!O43/'2013 Rate'!$AB43)*1000","v":7.4625238484600711},{"$f":"('2013'!P43/'2013 Rate'!$AB43)*1000","v":-0.14717906786590351},{"$f":"('2013'!Q43/'2013 Rate'!$AB43)*1000","v":4.1155628236576725},{"$f":"('2013'!R43/'2013 Rate'!$AB43)*1000","v":4.262741891523576},null,{"$f":"('2013'!T43/'2013 Rate'!$AB43)*1000","v":1.1092940855819025},null,null,null,null,null,null,"Fife",{"$f":"AB18","v":366900}]
[41,"Forth Valley",null,{"$f":"('2013'!D44/'2013 Rate'!$AB44)*1000","v":1.8987552974939099},{"$f":"('2013'!E44/'2013 Rate'!$AB44)*1000","v":0.77084793272599861},{"$f":"('2013'!F44/'2013 Rate'!$AB44)*1000","v":1.111222344579037},{"$f":"('2013'!G44/'2013 Rate'!$AB44)*1000","v":1.6685020188874428E-2},{"$f":"('2013'!H44/'2013 Rate'!$AB44)*1000","v":30.660393099075652},{"$f":"('2013'!I44/'2013 Rate'!$AB44)*1000","v":28.761637801581742},{"$f":"('2013'!J44/'2013 Rate'!$AB44)*1000","v":1.3948676877899022},{"$f":"('2013'!K44/'2013 Rate'!$AB44)*1000","v":20.572629892882169},{"$f":"('2013'!L44/'2013 Rate'!$AB44)*1000","v":19.177762205092268},{"$f":"('2013'!M44/'2013 Rate'!$AB44)*1000","v":1.2213434778256083},{"$f":"('2013'!N44/'2013 Rate'!$AB44)*1000","v":6.7707811926452433},{"$f":"('2013'!O44/'2013 Rate'!$AB44)*1000","v":5.5494377148196348},{"$f":"('2013'!P44/'2013 Rate'!$AB44)*1000","v":-0.71745586812160045},{"$f":"('2013'!Q44/'2013 Rate'!$AB44)*1000","v":3.3169820135482362},{"$f":"('2013'!R44/'2013 Rate'!$AB44)*1000","v":4.0344378816698372},null,{"$f":"('2013'!T44/'2013 Rate'!$AB44)*1000","v":0.9176761103880936},null,null,null,null,null,null,"Forth Valley",{"$f":"AB10+AB17+AB34","v":299670}]
[42,"Grampian",null,{"$f":"('2013'!D45/'2013 Rate'!$AB45)*1000","v":6.7748618784530388},{"$f":"('2013'!E45/'2013 Rate'!$AB45)*1000","v":1.0566298342541438},{"$f":"('2013'!F45/'2013 Rate'!$AB45)*1000","v":6.0773480662983426},{"$f":"('2013'!G45/'2013 Rate'!$AB45)*1000","v":-0.35911602209944754},{"$f":"('2013'!H45/'2013 Rate'!$AB45)*1000","v":33.667127071823202},{"$f":"('2013'!I45/'2013 Rate'!$AB45)*1000","v":26.892265193370164},{"$f":"('2013'!J45/'2013 Rate'!$AB45)*1000","v":1.9250690607734806},{"$f":"('2013'!K45/'2013 Rate'!$AB45)*1000","v":14.300759668508286},{"$f":"('2013'!L45/'2013 Rate'!$AB45)*1000","v":12.375690607734807},{"$f":"('2013'!M45/'2013 Rate'!$AB45)*1000","v":2.6536602209944751},{"$f":"('2013'!N45/'2013 Rate'!$AB45)*1000","v":11.00828729281768},{"$f":"('2013'!O45/'2013 Rate'!$AB45)*1000","v":8.3546270718232059},{"$f":"('2013'!P45/'2013 Rate'!$AB45)*1000","v":2.1961325966850826},{"$f":"('2013'!Q45/'2013 Rate'!$AB45)*1000","v":8.3580801104972373},{"$f":"('2013'!R45/'2013 Rate'!$AB45)*1000","v":6.1619475138121542},null,{"$f":"('2013'!T45/'2013 Rate'!$AB45)*1000","v":2.4447513812154695},null,null,null,null,null,null,"Grampian",{"$f":"AB5+AB6+AB23","v":579200}]
[43,"Greater Glasgow and Clyde",null,{"$f":"('2013'!D46/'2013 Rate'!$AB46)*1000","v":0.12566788526434197},{"$f":"('2013'!E46/'2013 Rate'!$AB46)*1000","v":-0.17136529808773904},{"$f":"('2013'!F46/'2013 Rate'!$AB46)*1000","v":0.61955146231721037},{"$f":"('2013'!G46/'2013 Rate'!$AB46)*1000","v":-0.32251827896512936},{"$f":"('2013'!H46/'2013 Rate'!$AB46)*1000","v":27.788420978627673},{"$f":"('2013'!I46/'2013 Rate'!$AB46)*1000","v":27.662753093363328},{"$f":"('2013'!J46/'2013 Rate'!$AB46)*1000","v":-1.3023762654668165},{"$f":"('2013'!K46/'2013 Rate'!$AB46)*1000","v":13.675829583802024},{"$f":"('2013'!L46/'2013 Rate'!$AB46)*1000","v":14.978205849268841},{"$f":"('2013'!M46/'2013 Rate'!$AB46)*1000","v":0.13181946006749157},{"$f":"('2013'!N46/'2013 Rate'!$AB46)*1000","v":7.2966465129358831},{"$f":"('2013'!O46/'2013 Rate'!$AB46)*1000","v":7.1648270528683913},{"$f":"('2013'!P46/'2013 Rate'!$AB46)*1000","v":1.296224690663667},{"$f":"('2013'!Q46/'2013 Rate'!$AB46)*1000","v":6.8159448818897639},{"$f":"('2013'!R46/'2013 Rate'!$AB46)*1000","v":5.5197201912260967},null,{"$f":"('2013'!T46/'2013 Rate'!$AB46)*1000","v":2.1293236782902136},null,null,null,null,null,null,"Greater Glasgow & Clyde",{"$f":"AB16+AB21+AB29+AB35+AB14+AB19","v":1137920}]
[44,"Highland",null,{"$f":"('2013'!D47/'2013 Rate'!$AB47)*1000","v":0.2180821234967911},{"$f":"('2013'!E47/'2013 Rate'!$AB47)*1000","v":0.82559661038070908},{"$f":"('2013'!F47/'2013 Rate'!$AB47)*1000","v":-0.33023864415228366},{"$f":"('2013'!G47/'2013 Rate'!$AB47)*1000","v":-0.27727584273163436},{"$f":"('2013'!H47/'2013 Rate'!$AB47)*1000","v":33.204561031839987},{"$f":"('2013'!I47/'2013 Rate'!$AB47)*1000","v":32.986478908343202},{"$f":"('2013'!J47/'2013 Rate'!$AB47)*1000","v":-1.9440463580285376},{"$f":"('2013'!K47/'2013 Rate'!$AB47)*1000","v":18.493364072527886},{"$f":"('2013'!L47/'2013 Rate'!$AB47)*1000","v":20.437410430556419},{"$f":"('2013'!M47/'2013 Rate'!$AB47)*1000","v":3.5765468253473736},{"$f":"('2013'!N47/'2013 Rate'!$AB47)*1000","v":12.050595052651255},{"$f":"('2013'!O47/'2013 Rate'!$AB47)*1000","v":8.4740482273038822},{"$f":"('2013'!P47/'2013 Rate'!$AB47)*1000","v":-1.414418343822045},{"$f":"('2013'!Q47/'2013 Rate'!$AB47)*1000","v":2.6606019066608515},{"$f":"('2013'!R47/'2013 Rate'!$AB47)*1000","v":4.0750202504828961},null,{"$f":"('2013'!T47/'2013 Rate'!$AB47)*1000","v":1.2025671381394478},null,null,null,null,null,null,"Highland",{"$f":"AB20+AB8","v":320980}]
[45,"Lanarkshire",null,{"$f":"('2013'!D48/'2013 Rate'!$AB48)*1000","v":0.29727700393815415},{"$f":"('2013'!E48/'2013 Rate'!$AB48)*1000","v":0.3156652722229884},{"$f":"('2013'!F48/'2013 Rate'!$AB48)*1000","v":-0.1578326361114942},{"$f":"('2013'!G48/'2013 Rate'!$AB48)*1000","v":0.13944436782665992},{"$f":"('2013'!H48/'2013 Rate'!$AB48)*1000","v":19.185093243843763},{"$f":"('2013'!I48/'2013 Rate'!$AB48)*1000","v":18.887816239905607},{"$f":"('2013'!J48/'2013 Rate'!$AB48)*1000","v":1.173784458848588},{"$f":"('2013'!K48/'2013 Rate'!$AB48)*1000","v":14.301475658529858},{"$f":"('2013'!L48/'2013 Rate'!$AB48)*1000","v":13.127691199681269},{"$f":"('2013'!M48/'2013 Rate'!$AB48)*1000","v":0.29727700393815415},{"$f":"('2013'!N48/'2013 Rate'!$AB48)*1000","v":3.7833861996046525},{"$f":"('2013'!O48/'2013 Rate'!$AB48)*1000","v":3.486109195666498},{"$f":"('2013'!P48/'2013 Rate'!$AB48)*1000","v":-1.173784458848588},{"$f":"('2013'!Q48/'2013 Rate'!$AB48)*1000","v":1.1002313857092509},{"$f":"('2013'!R48/'2013 Rate'!$AB48)*1000","v":2.2740158445578391},null,{"$f":"('2013'!T48/'2013 Rate'!$AB48)*1000","v":0.7539189996782053},null,null,null,null,null,null,"Lanarkshire",{"$f":"AB26+AB33","v":652590}]
[46,"Lothian",null,{"$f":"('2013'!D49/'2013 Rate'!$AB49)*1000","v":4.363790425081203},{"$f":"('2013'!E49/'2013 Rate'!$AB49)*1000","v":0.13298498328861272},{"$f":"('2013'!F49/'2013 Rate'!$AB49)*1000","v":4.1001741750223601},{"$f":"('2013'!G49/'2013 Rate'!$AB49)*1000","v":0.13063126677023021},{"$f":"('2013'!H49/'2013 Rate'!$AB49)*1000","v":37.089864896671848},{"$f":"('2013'!I49/'2013 Rate'!$AB49)*1000","v":32.726074471590643},{"$f":"('2013'!J49/'2013 Rate'!$AB49)*1000","v":8.9441227698535977E-2},{"$f":"('2013'!K49/'2013 Rate'!$AB49)*1000","v":14.50007061149555},{"$f":"('2013'!L49/'2013 Rate'!$AB49)*1000","v":14.410629383797016},{"$f":"('2013'!M49/'2013 Rate'!$AB49)*1000","v":2.1112837169891261},{"$f":"('2013'!N49/'2013 Rate'!$AB49)*1000","v":13.067834110059785},{"$f":"('2013'!O49/'2013 Rate'!$AB49)*1000","v":10.956550393070659},{"$f":"('2013'!P49/'2013 Rate'!$AB49)*1000","v":2.1630654803935414},{"$f":"('2013'!Q49/'2013 Rate'!$AB49)*1000","v":9.5219601751165097},{"$f":"('2013'!R49/'2013 Rate'!$AB49)*1000","v":7.3588946947229683},null,{"$f":"('2013'!T49/'2013 Rate'!$AB49)*1000","v":2.6020336110718825},null,null,null,null,null,null,"Lothian",{"$f":"AB15+AB9+AB22+AB36","v":849720}]
[47,"Orkney",null,{"$f":"('2013'!D50/'2013 Rate'!$AB50)*1000","v":3.7105751391465676},{"$f":"('2013'!E50/'2013 Rate'!$AB50)*1000","v":1.6233766233766236},{"$f":"('2013'!F50/'2013 Rate'!$AB50)*1000","v":1.8089053803339519},{"$f":"('2013'!G50/'2013 Rate'!$AB50)*1000","v":0.2782931354359926},{"$f":"('2013'!H50/'2013 Rate'!$AB50)*1000","v":35.296846011131727},{"$f":"('2013'!I50/'2013 Rate'!$AB50)*1000","v":31.586270871985157},{"$f":"('2013'!J50/'2013 Rate'!$AB50)*1000","v":0.92764378478664189},{"$f":"('2013'!K50/'2013 Rate'!$AB50)*1000","v":19.897959183673468},{"$f":"('2013'!L50/'2013 Rate'!$AB50)*1000","v":18.970315398886829},{"$f":"('2013'!M50/'2013 Rate'!$AB50)*1000","v":4.0816326530612246},{"$f":"('2013'!N50/'2013 Rate'!$AB50)*1000","v":13.126159554730984},{"$f":"('2013'!O50/'2013 Rate'!$AB50)*1000","v":9.0445269016697587},{"$f":"('2013'!P50/'2013 Rate'!$AB50)*1000","v":-1.2987012987012987},{"$f":"('2013'!Q50/'2013 Rate'!$AB50)*1000","v":2.2727272727272725},{"$f":"('2013'!R50/'2013 Rate'!$AB50)*1000","v":3.5714285714285712},null,{"$f":"('2013'!T50/'2013 Rate'!$AB50)*1000","v":0.32467532467532467},null,null,null,null,null,null,"Orkney",{"$f":"AB27","v":21560}]
[48,"Shetland",null,{"$f":"('2013'!D51/'2013 Rate'!$AB51)*1000","v":-3.8362068965517242},{"$f":"('2013'!E51/'2013 Rate'!$AB51)*1000","v":-1.853448275862069},{"$f":"('2013'!F51/'2013 Rate'!$AB51)*1000","v":-0.99137931034482762},{"$f":"('2013'!G51/'2013 Rate'!$AB51)*1000","v":-0.99137931034482762},{"$f":"('2013'!H51/'2013 Rate'!$AB51)*1000","v":27.887931034482758},{"$f":"('2013'!I51/'2013 Rate'!$AB51)*1000","v":31.724137931034484},{"$f":"('2013'!J51/'2013 Rate'!$AB51)*1000","v":-3.6637931034482758},{"$f":"('2013'!K51/'2013 Rate'!$AB51)*1000","v":15.129310344827587},{"$f":"('2013'!L51/'2013 Rate'!$AB51)*1000","v":18.793103448275861},{"$f":"('2013'!M51/'2013 Rate'!$AB51)*1000","v":1.2068965517241379},{"$f":"('2013'!N51/'2013 Rate'!$AB51)*1000","v":10.172413793103447},{"$f":"('2013'!O51/'2013 Rate'!$AB51)*1000","v":8.9655172413793096},{"$f":"('2013'!P51/'2013 Rate'!$AB51)*1000","v":-1.3793103448275861},{"$f":"('2013'!Q51/'2013 Rate'!$AB51)*1000","v":2.5862068965517242},{"$f":"('2013'!R51/'2013 Rate'!$AB51)*1000","v":3.9655172413793105},null,{"$f":"('2013'!T51/'2013 Rate'!$AB51)*1000","v":0.94827586206896552},null,null,null,null,null,null,"Shetland",{"$f":"AB31","v":23200}]
[49,"Tayside",null,{"$f":"('2013'!D52/'2013 Rate'!$AB52)*1000","v":1.9385675465838508},{"$f":"('2013'!E52/'2013 Rate'!$AB52)*1000","v":0.66479037267080743},{"$f":"('2013'!F52/'2013 Rate'!$AB52)*1000","v":1.0675465838509317},{"$f":"('2013'!G52/'2013 Rate'!$AB52)*1000","v":0.20623059006211181},{"$f":"('2013'!H52/'2013 Rate'!$AB52)*1000","v":32.679056677018636},{"$f":"('2013'!I52/'2013 Rate'!$AB52)*1000","v":30.740489130434785},{"$f":"('2013'!J52/'2013 Rate'!$AB52)*1000","v":0.2232142857142857},{"$f":"('2013'!K52/'2013 Rate'!$AB52)*1000","v":18.150718167701861},{"$f":"('2013'!L52/'2013 Rate'!$AB52)*1000","v":17.927503881987576},{"$f":"('2013'!M52/'2013 Rate'!$AB52)*1000","v":1.1743012422360248},{"$f":"('2013'!N52/'2013 Rate'!$AB52)*1000","v":8.477290372670808},{"$f":"('2013'!O52/'2013 Rate'!$AB52)*1000","v":7.3029891304347831},{"$f":"('2013'!P52/'2013 Rate'!$AB52)*1000","v":0.54105201863354035},{"$f":"('2013'!Q52/'2013 Rate'!$AB52)*1000","v":6.0510481366459627},{"$f":"('2013'!R52/'2013 Rate'!$AB52)*1000","v":5.5099961180124222},null,{"$f":"('2013'!T52/'2013 Rate'!$AB52)*1000","v":1.4120729813664596},null,null,null,null,null,null,"Tayside",{"$f":"AB28+AB7+AB12","v":412160}]
[50,"Western Isles",null,{"$f":"('2013'!D53/'2013 Rate'!$AB53)*1000","v":-0.6934306569343065},{"$f":"('2013'!E53/'2013 Rate'!$AB53)*1000","v":-0.40145985401459849},{"$f":"('2013'!F53/'2013 Rate'!$AB53)*1000","v":-0.72992700729927007},{"$f":"('2013'!G53/'2013 Rate'!$AB53)*1000","v":0.43795620437956201},{"$f":"('2013'!H53/'2013 Rate'!$AB53)*1000","v":31.423357664233578},{"$f":"('2013'!I53/'2013 Rate'!$AB53)*1000","v":32.116788321167881},{"$f":"('2013'!J53/'2013 Rate'!$AB53)*1000","v":-2.6642335766423355},{"$f":"('2013'!K53/'2013 Rate'!$AB53)*1000","v":18.211678832116789},{"$f":"('2013'!L53/'2013 Rate'!$AB53)*1000","v":20.875912408759124},{"$f":"('2013'!M53/'2013 Rate'!$AB53)*1000","v":4.1240875912408761},{"$f":"('2013'!N53/'2013 Rate'!$AB53)*1000","v":12.18978102189781},{"$f":"('2013'!O53/'2013 Rate'!$AB53)*1000","v":8.0656934306569337},{"$f":"('2013'!P53/'2013 Rate'!$AB53)*1000","v":-2.1532846715328469},{"$f":"('2013'!Q53/'2013 Rate'!$AB53)*1000","v":1.0218978102189782},{"$f":"('2013'!R53/'2013 Rate'!$AB53)*1000","v":3.175182481751825},null,{"$f":"('2013'!T53/'2013 Rate'!$AB53)*1000","v":0.76642335766423353},null,null,null,null,null,null,"Western Isles",{"$f":"AB24","v":27400}]

{"sheet":"2014","index":39,"n_rows":53,"n_cols":25,"rows_kept":53,"cut":false,"hidden":true,"merged":[]}
[null,2014]
[null,null,"Not specified ",{"$f":"'Comparing Indicators'!$U8","v":"Total net migration"},{"$f":"'Comparing Indicators'!$U9","v":"Total net migration for ages 0-15"},{"$f":"'Comparing Indicators'!$U10","v":"Total net migration for ages 16-64"},{"$f":"'Comparing Indicators'!$U11","v":"Total net migration for people aged 65+"},{"$f":"'Comparing Indicators'!$U12","v":"Total in-migration"},{"$f":"'Comparing Indicators'!$U13","v":"Total out-migration"},{"$f":"'Comparing Indicators'!$U14","v":"Within Scotland net migration"},{"$f":"'Comparing Indicators'!$U15","v":"Within Scotland in-migration"},{"$f":"'Comparing Indicators'!$U16","v":"Within Scotland out-migration"},{"$f":"'Comparing Indicators'!$U17","v":"Rest of UK net migration"},{"$f":"'Comparing Indicators'!$U18","v":"Rest of UK in-migration"},{"$f":"'Comparing Indicators'!$U19","v":"Rest of UK out-migration"},{"$f":"'Comparing Indicators'!$U20","v":"Overseas net migration"},{"$f":"'Comparing Indicators'!$U21","v":"Overseas in-migration"},{"$f":"'Comparing Indicators'!$U22","v":"Overseas out-migration"},{"$f":"'Comparing Indicators'!$U23","v":"NINo Allocation"},{"$f":"'Comparing Indicators'!$U24","v":"Births to non-UK mothers"},{"$f":"'Comparing Indicators'!$U25","v":"Pupils from a minority ethnic group"},{"$f":"'Comparing Indicators'!$U26","v":"Pupils with English as an additional language"},{"$f":"'Comparing Indicators'!$U27","v":"Population born outside the UK"},{"$f":"'Comparing Indicators'!$U28","v":"Population with non-British nationality"},{"$f":"'Comparing Indicators'!$U29","v":"Citizenships"}]
[1,"Not specified"]
[2,"SCOTLAND",null,{"$f":"'Total net migration'!L4","v":17585},{"$f":"'Total net migration 0-15'!L4","v":3092},{"$f":"'Total net migration 16-64'!L4","v":14470},{"$f":"'Total net migration 65+'!L4","v":23},{"$f":"'Total in-migration'!L4","v":82442},{"$f":"'Total out-migration'!L4","v":64857},"N/A","N/A","N/A",{"$f":"'Rest of UK net migration'!L4","v":9585},{"$f":"'Rest of UK in-migration'!L4","v":49242},{"$f":"'Rest of UK out-migration'!L4","v":39657},{"$f":"'Overseas net migration'!L4","v":8000},{"$f":"'Overseas in-migration'!L4","v":33200},{"$f":"'Overseas out-migration'!L4","v":25200},{"$f":"NINo!L5","v":43600},{"$f":"'Non-UK Births'!L5","v":9178},{"$f":"'Pupils ethnic group'!M5","v":41849},{"$f":"'Pupils with English as an add.'!J4","v":32509},{"$f":"'Pop born outside UK'!L5","v":381000},{"$f":"'Non-British Population'!L5","v":282000},{"$f":"Citizenships!L5","v":3956}]
[3,"Aberdeen City",null,{"$f":"'Total net migration'!L5","v":1412},{"$f":"'Total net migration 0-15'!L5","v":-303},{"$f":"'Total net migration 16-64'!L5","v":1928},{"$f":"'Total net migration 65+'!L5","v":-213},{"$f":"'Total in-migration'!L5","v":14206},{"$f":"'Total out-migration'!L5","v":12794},{"$f":"'Within Scotland net migration'!L5","v":-1140},{"$f":"'Within Scotland in-migration'!L5","v":7043},{"$f":"'Within Scotland out-migration'!L5","v":8183},{"$f":"'Rest of UK net migration'!L5","v":587},{"$f":"'Rest of UK in-migration'!L5","v":2961},{"$f":"'Rest of UK out-migration'!L5","v":2374},{"$f":"'Overseas net migration'!L5","v":1965},{"$f":"'Overseas in-migration'!L5","v":4202},{"$f":"'Overseas out-migration'!L5","v":2237},{"$f":"NINo!L6","v":5460},{"$f":"'Non-UK Births'!L6","v":986},{"$f":"'Pupils ethnic group'!M6","v":2655},{"$f":"'Pupils with English as an add.'!J5","v":2444},{"$f":"'Pop born outside UK'!L6","v":42000},{"$f":"'Non-British Population'!L6","v":39000},{"$f":"Citizenships!L6","v":720}]
[4,"Aberdeenshire",null,{"$f":"'Total net migration'!L6","v":2041},{"$f":"'Total net migration 0-15'!L6","v":835},{"$f":"'Total net migration 16-64'!L6","v":1374},{"$f":"'Total net migration 65+'!L6","v":-168},{"$f":"'Total in-migration'!L6","v":10342},{"$f":"'Total out-migration'!L6","v":8301},{"$f":"'Within Scotland net migration'!L6","v":1642},{"$f":"'Within Scotland in-migration'!L6","v":7233},{"$f":"'Within Scotland out-migration'!L6","v":5591},{"$f":"'Rest of UK net migration'!L6","v":275},{"$f":"'Rest of UK in-migration'!L6","v":2047},{"$f":"'Rest of UK out-migration'!L6","v":1772},{"$f":"'Overseas net migration'!L6","v":124},{"$f":"'Overseas in-migration'!L6","v":1062},{"$f":"'Overseas out-migration'!L6","v":938},{"$f":"NINo!L7","v":1680},{"$f":"'Non-UK Births'!L7","v":450},{"$f":"'Pupils ethnic group'!M7","v":946},{"$f":"'Pupils with English as an add.'!J6","v":1356},{"$f":"'Pop born outside UK'!L7","v":13000},{"$f":"'Non-British Population'!L7","v":10000},{"$f":"Citizenships!L7","v":194}]
[5,"Angus",null,{"$f":"'Total net migration'!L7","v":645},{"$f":"'Total net migration 0-15'!L7","v":181},{"$f":"'Total net migration 16-64'!L7","v":394},{"$f":"'Total net migration 65+'!L7","v":70},{"$f":"'Total in-migration'!L7","v":4230},{"$f":"'Total out-migration'!L7","v":3585},{"$f":"'Within Scotland net migration'!L7","v":426},{"$f":"'Within Scotland in-migration'!L7","v":3133},{"$f":"'Within Scotland out-migration'!L7","v":2707},{"$f":"'Rest of UK net migration'!L7","v":192},{"$f":"'Rest of UK in-migration'!L7","v":757},{"$f":"'Rest of UK out-migration'!L7","v":565},{"$f":"'Overseas net migration'!L7","v":27},{"$f":"'Overseas in-migration'!L7","v":340},{"$f":"'Overseas out-migration'!L7","v":313},{"$f":"NINo!L8","v":1220},{"$f":"'Non-UK Births'!L8","v":135},{"$f":"'Pupils ethnic group'!M8","v":359},{"$f":"'Pupils with English as an add.'!J7","v":431},{"$f":"'Pop born outside UK'!L8","v":5000},{"$f":"'Non-British Population'!L8","v":5000},{"$f":"Citizenships!L8","v":27}]
[6,"Argyll and Bute",null,{"$f":"'Total net migration'!L8","v":-275},{"$f":"'Total net migration 0-15'!L8","v":55},{"$f":"'Total net migration 16-64'!L8","v":-269},{"$f":"'Total net migration 65+'!L8","v":-61},{"$f":"'Total in-migration'!L8","v":3785},{"$f":"'Total out-migration'!L8","v":4060},{"$f":"'Within Scotland net migration'!L8","v":-444},{"$f":"'Within Scotland in-migration'!L8","v":2165},{"$f":"'Within Scotland out-migration'!L8","v":2609},{"$f":"'Rest of UK net migration'!L8","v":403},{"$f":"'Rest of UK in-migration'!L8","v":1381},{"$f":"'Rest of UK out-migration'!L8","v":978},{"$f":"'Overseas net migration'!L8","v":-234},{"$f":"'Overseas in-migration'!L8","v":239},{"$f":"'Overseas out-migration'!L8","v":473},{"$f":"NINo!L9","v":460},{"$f":"'Non-UK Births'!L9","v":81},{"$f":"'Pupils ethnic group'!M9","v":233},{"$f":"'Pupils with English as an add.'!J8","v":164},{"$f":"'Pop born outside UK'!L9","v":4000},{"$f":"'Non-British Population'!L9","v":2000},{"$f":"Citizenships!L9","v":27}]
[7,"City of Edinburgh",null,{"$f":"'Total net migration'!L9","v":3296},{"$f":"'Total net migration 0-15'!L9","v":-364},{"$f":"'Total net migration 16-64'!L9","v":3621},{"$f":"'Total net migration 65+'!L9","v":39},{"$f":"'Total in-migration'!L9","v":29439},{"$f":"'Total out-migration'!L9","v":26143},{"$f":"'Within Scotland net migration'!L9","v":-1711},{"$f":"'Within Scotland in-migration'!L9","v":11533},{"$f":"'Within Scotland out-migration'!L9","v":13244},{"$f":"'Rest of UK net migration'!L9","v":1733},{"$f":"'Rest of UK in-migration'!L9","v":9444},{"$f":"'Rest of UK out-migration'!L9","v":7711},{"$f":"'Overseas net migration'!L9","v":3274},{"$f":"'Overseas in-migration'!L9","v":8462},{"$f":"'Overseas out-migration'!L9","v":5188},{"$f":"NINo!L10","v":11340},{"$f":"'Non-UK Births'!L10","v":1880},{"$f":"'Pupils ethnic group'!M10","v":6538},{"$f":"'Pupils with English as an add.'!J9","v":5227},{"$f":"'Pop born outside UK'!L10","v":65000},{"$f":"'Non-British Population'!L10","v":51000},{"$f":"Citizenships!L10","v":766}]
[8,"Clackmannanshire",null,{"$f":"'Total net migration'!L10","v":-82},{"$f":"'Total net migration 0-15'!L10","v":-24},{"$f":"'Total net migration 16-64'!L10","v":-73},{"$f":"'Total net migration 65+'!L10","v":15},{"$f":"'Total in-migration'!L10","v":1733},{"$f":"'Total out-migration'!L10","v":1815},{"$f":"'Within Scotland net migration'!L10","v":-57},{"$f":"'Within Scotland in-migration'!L10","v":1278},{"$f":"'Within Scotland out-migration'!L10","v":1335},{"$f":"'Rest of UK net migration'!L10","v":1},{"$f":"'Rest of UK in-migration'!L10","v":327},{"$f":"'Rest of UK out-migration'!L10","v":326},{"$f":"'Overseas net migration'!L10","v":-26},{"$f":"'Overseas in-migration'!L10","v":128},{"$f":"'Overseas out-migration'!L10","v":154},{"$f":"NINo!L11","v":90},{"$f":"'Non-UK Births'!L11","v":49},{"$f":"'Pupils ethnic group'!M11","v":212},{"$f":"'Pupils with English as an add.'!J10","v":156},{"$f":"'Pop born outside UK'!L11","v":3000},{"$f":"'Non-British Population'!L11","v":2000},{"$f":"Citizenships!L11","v":13}]
[9,"Dumfries and Galloway",null,{"$f":"'Total net migration'!L11","v":334},{"$f":"'Total net migration 0-15'!L11","v":169},{"$f":"'Total net migration 16-64'!L11","v":105},{"$f":"'Total net migration 65+'!L11","v":60},{"$f":"'Total in-migration'!L11","v":4047},{"$f":"'Total out-migration'!L11","v":3713},{"$f":"'Within Scotland net migration'!L11","v":-110},{"$f":"'Within Scotland in-migration'!L11","v":1725},{"$f":"'Within Scotland out-migration'!L11","v":1835},{"$f":"'Rest of UK net migration'!L11","v":711},{"$f":"'Rest of UK in-migration'!L11","v":2110},{"$f":"'Rest of UK out-migration'!L11","v":1399},{"$f":"'Overseas net migration'!L11","v":-267},{"$f":"'Overseas in-migration'!L11","v":212},{"$f":"'Overseas out-migration'!L11","v":479},{"$f":"NINo!L12","v":310},{"$f":"'Non-UK Births'!L12","v":91},{"$f":"'Pupils ethnic group'!M12","v":408},{"$f":"'Pupils with English as an add.'!J11","v":331},{"$f":"'Pop born outside UK'!L12","v":5000},{"$f":"'Non-British Population'!L12","v":3000},{"$f":"Citizenships!L12","v":25}]
[10,"Dundee City",null,{"$f":"'Total net migration'!L12","v":-12},{"$f":"'Total net migration 0-15'!L12","v":-79},{"$f":"'Total net migration 16-64'!L12","v":154},{"$f":"'Total net migration 65+'!L12","v":-87},{"$f":"'Total in-migration'!L12","v":6857},{"$f":"'Total out-migration'!L12","v":6869},{"$f":"'Within Scotland net migration'!L12","v":-308},{"$f":"'Within Scotland in-migration'!L12","v":4199},{"$f":"'Within Scotland out-migration'!L12","v":4507},{"$f":"'Rest of UK net migration'!L12","v":41},{"$f":"'Rest of UK in-migration'!L12","v":1382},{"$f":"'Rest of UK out-migration'!L12","v":1341},{"$f":"'Overseas net migration'!L12","v":255},{"$f":"'Overseas in-migration'!L12","v":1276},{"$f":"'Overseas out-migration'!L12","v":1021},{"$f":"NINo!L13","v":1240},{"$f":"'Non-UK Births'!L13","v":310},{"$f":"'Pupils ethnic group'!M13","v":1532},{"$f":"'Pupils with English as an add.'!J12","v":1096},{"$f":"'Pop born outside UK'!L13","v":18000},{"$f":"'Non-British Population'!L13","v":17000},{"$f":"Citizenships!L13","v":121}]
[11,"East Ayrshire",null,{"$f":"'Total net migration'!L13","v":-90},{"$f":"'Total net migration 0-15'!L13","v":16},{"$f":"'Total net migration 16-64'!L13","v":-76},{"$f":"'Total net migration 65+'!L13","v":-30},{"$f":"'Total in-migration'!L13","v":3249},{"$f":"'Total out-migration'!L13","v":3339},{"$f":"'Within Scotland net migration'!L13","v":43},{"$f":"'Within Scotland in-migration'!L13","v":2486},{"$f":"'Within Scotland out-migration'!L13","v":2443},{"$f":"'Rest of UK net migration'!L13","v":41},{"$f":"'Rest of UK in-migration'!L13","v":669},{"$f":"'Rest of UK out-migration'!L13","v":628},{"$f":"'Overseas net migration'!L13","v":-174},{"$f":"'Overseas in-migration'!L13","v":94},{"$f":"'Overseas out-migration'!L13","v":268},{"$f":"NINo!L14","v":90},{"$f":"'Non-UK Births'!L14","v":44},{"$f":"'Pupils ethnic group'!M14","v":362},{"$f":"'Pupils with English as an add.'!J13","v":158},{"$f":"'Pop born outside UK'!L14","v":3000},{"$f":"'Non-British Population'!L14","v":2000},{"$f":"Citizenships!L14","v":15}]
[12,"East Dunbartonshire",null,{"$f":"'Total net migration'!L14","v":909},{"$f":"'Total net migration 0-15'!L14","v":496},{"$f":"'Total net migration 16-64'!L14","v":339},{"$f":"'Total net migration 65+'!L14","v":74},{"$f":"'Total in-migration'!L14","v":4047},{"$f":"'Total out-migration'!L14","v":3138},{"$f":"'Within Scotland net migration'!L14","v":1063},{"$f":"'Within Scotland in-migration'!L14","v":3490},{"$f":"'Within Scotland out-migration'!L14","v":2427},{"$f":"'Rest of UK net migration'!L14","v":-46},{"$f":"'Rest of UK in-migration'!L14","v":455},{"$f":"'Rest of UK out-migration'!L14","v":501},{"$f":"'Overseas net migration'!L14","v":-108},{"$f":"'Overseas in-migration'!L14","v":102},{"$f":"'Overseas out-migration'!L14","v":210},{"$f":"NINo!L15","v":110},{"$f":"'Non-UK Births'!L15","v":87},{"$f":"'Pupils ethnic group'!M15","v":1241},{"$f":"'Pupils with English as an add.'!J14","v":400},{"$f":"'Pop born outside UK'!L15","v":6000},{"$f":"'Non-British Population'!L15","v":2000},{"$f":"Citizenships!L15","v":54}]
[13,"East Lothian",null,{"$f":"'Total net migration'!L15","v":712},{"$f":"'Total net migration 0-15'!L15","v":249},{"$f":"'Total net migration 16-64'!L15","v":374},{"$f":"'Total net migration 65+'!L15","v":89},{"$f":"'Total in-migration'!L15","v":4135},{"$f":"'Total out-migration'!L15","v":3423},{"$f":"'Within Scotland net migration'!L15","v":559},{"$f":"'Within Scotland in-migration'!L15","v":3057},{"$f":"'Within Scotland out-migration'!L15","v":2498},{"$f":"'Rest of UK net migration'!L15","v":122},{"$f":"'Rest of UK in-migration'!L15","v":737},{"$f":"'Rest of UK out-migration'!L15","v":615},{"$f":"'Overseas net migration'!L15","v":31},{"$f":"'Overseas in-migration'!L15","v":341},{"$f":"'Overseas out-migration'!L15","v":310},{"$f":"NINo!L16","v":450},{"$f":"'Non-UK Births'!L16","v":126},{"$f":"'Pupils ethnic group'!M16","v":375},{"$f":"'Pupils with English as an add.'!J15","v":263},{"$f":"'Pop born outside UK'!L16","v":5000},{"$f":"'Non-British Population'!L16","v":4000},{"$f":"Citizenships!L16","v":27}]
[14,"East Renfrewshire",null,{"$f":"'Total net migration'!L16","v":890},{"$f":"'Total net migration 0-15'!L16","v":635},{"$f":"'Total net migration 16-64'!L16","v":230},{"$f":"'Total net migration 65+'!L16","v":25},{"$f":"'Total in-migration'!L16","v":3823},{"$f":"'Total out-migration'!L16","v":2933},{"$f":"'Within Scotland net migration'!L16","v":938},{"$f":"'Within Scotland in-migration'!L16","v":3291},{"$f":"'Within Scotland out-migration'!L16","v":2353},{"$f":"'Rest of UK net migration'!L16","v":5},{"$f":"'Rest of UK in-migration'!L16","v":407},{"$f":"'Rest of UK out-migration'!L16","v":402},{"$f":"'Overseas net migration'!L16","v":-53},{"$f":"'Overseas in-migration'!L16","v":125},{"$f":"'Overseas out-migration'!L16","v":178},{"$f":"NINo!L17","v":120},{"$f":"'Non-UK Births'!L17","v":78},{"$f":"'Pupils ethnic group'!M17","v":2621},{"$f":"'Pupils with English as an add.'!J16","v":831},{"$f":"'Pop born outside UK'!L17","v":4000},{"$f":"'Non-British Population'!L17","v":2000},{"$f":"Citizenships!L17","v":61}]
[15,"Falkirk",null,{"$f":"'Total net migration'!L17","v":415},{"$f":"'Total net migration 0-15'!L17","v":82},{"$f":"'Total net migration 16-64'!L17","v":318},{"$f":"'Total net migration 65+'!L17","v":15},{"$f":"'Total in-migration'!L17","v":4173},{"$f":"'Total out-migration'!L17","v":3758},{"$f":"'Within Scotland net migration'!L17","v":172},{"$f":"'Within Scotland in-migration'!L17","v":3055},{"$f":"'Within Scotland out-migration'!L17","v":2883},{"$f":"'Rest of UK net migration'!L17","v":228},{"$f":"'Rest of UK in-migration'!L17","v":791},{"$f":"'Rest of UK out-migration'!L17","v":563},{"$f":"'Overseas net migration'!L17","v":15},{"$f":"'Overseas in-migration'!L17","v":327},{"$f":"'Overseas out-migration'!L17","v":312},{"$f":"NINo!L18","v":410},{"$f":"'Non-UK Births'!L18","v":164},{"$f":"'Pupils ethnic group'!M18","v":724},{"$f":"'Pupils with English as an add.'!J17","v":581},{"$f":"'Pop born outside UK'!L18","v":7000},{"$f":"'Non-British Population'!L18","v":5000},{"$f":"Citizenships!L18","v":48}]
[16,"Fife",null,{"$f":"'Total net migration'!L18","v":650},{"$f":"'Total net migration 0-15'!L18","v":101},{"$f":"'Total net migration 16-64'!L18","v":363},{"$f":"'Total net migration 65+'!L18","v":186},{"$f":"'Total in-migration'!L18","v":10894},{"$f":"'Total out-migration'!L18","v":10244},{"$f":"'Within Scotland net migration'!L18","v":-88},{"$f":"'Within Scotland in-migration'!L18","v":6036},{"$f":"'Within Scotland out-migration'!L18","v":6124},{"$f":"'Rest of UK net migration'!L18","v":629},{"$f":"'Rest of UK in-migration'!L18","v":3229},{"$f":"'Rest of UK out-migration'!L18","v":2600},{"$f":"'Overseas net migration'!L18","v":109},{"$f":"'Overseas in-migration'!L18","v":1629},{"$f":"'Overseas out-migration'!L18","v":1520},{"$f":"NINo!L19","v":2450},{"$f":"'Non-UK Births'!L19","v":408},{"$f":"'Pupils ethnic group'!M19","v":1568},{"$f":"'Pupils with English as an add.'!J18","v":1004},{"$f":"'Pop born outside UK'!L19","v":18000},{"$f":"'Non-British Population'!L19","v":12000},{"$f":"Citizenships!L19","v":145}]
[17,"Glasgow City",null,{"$f":"'Total net migration'!L19","v":2047},{"$f":"'Total net migration 0-15'!L19","v":-1001},{"$f":"'Total net migration 16-64'!L19","v":3303},{"$f":"'Total net migration 65+'!L19","v":-255},{"$f":"'Total in-migration'!L19","v":30312},{"$f":"'Total out-migration'!L19","v":28265},{"$f":"'Within Scotland net migration'!L19","v":-2681},{"$f":"'Within Scotland in-migration'!L19","v":14980},{"$f":"'Within Scotland out-migration'!L19","v":17661},{"$f":"'Rest of UK net migration'!L19","v":732},{"$f":"'Rest of UK in-migration'!L19","v":6435},{"$f":"'Rest of UK out-migration'!L19","v":5703},{"$f":"'Overseas net migration'!L19","v":3996},{"$f":"'Overseas in-migration'!L19","v":8897},{"$f":"'Overseas out-migration'!L19","v":4901},{"$f":"NINo!L20","v":8400},{"$f":"'Non-UK Births'!L20","v":2037},{"$f":"'Pupils ethnic group'!M20","v":12552},{"$f":"'Pupils with English as an add.'!J19","v":11190},{"$f":"'Pop born outside UK'!L20","v":80000},{"$f":"'Non-British Population'!L20","v":55000},{"$f":"Citizenships!L20","v":915}]
[18,"Highland",null,{"$f":"'Total net migration'!L20","v":239},{"$f":"'Total net migration 0-15'!L20","v":111},{"$f":"'Total net migration 16-64'!L20","v":172},{"$f":"'Total net migration 65+'!L20","v":-44},{"$f":"'Total in-migration'!L20","v":7243},{"$f":"'Total out-migration'!L20","v":7004},{"$f":"'Within Scotland net migration'!L20","v":-410},{"$f":"'Within Scotland in-migration'!L20","v":4058},{"$f":"'Within Scotland out-migration'!L20","v":4468},{"$f":"'Rest of UK net migration'!L20","v":737},{"$f":"'Rest of UK in-migration'!L20","v":2466},{"$f":"'Rest of UK out-migration'!L20","v":1729},{"$f":"'Overseas net migration'!L20","v":-88},{"$f":"'Overseas in-migration'!L20","v":719},{"$f":"'Overseas out-migration'!L20","v":807},{"$f":"NINo!L21","v":1600},{"$f":"'Non-UK Births'!L21","v":337},{"$f":"'Pupils ethnic group'!M21","v":738},{"$f":"'Pupils with English as an add.'!J20","v":976},{"$f":"'Pop born outside UK'!L21","v":15000},{"$f":"'Non-British Population'!L21","v":8000},{"$f":"Citizenships!L21","v":75}]
[19,"Inverclyde",null,{"$f":"'Total net migration'!L21","v":-270},{"$f":"'Total net migration 0-15'!L21","v":-3},{"$f":"'Total net migration 16-64'!L21","v":-236},{"$f":"'Total net migration 65+'!L21","v":-31},{"$f":"'Total in-migration'!L21","v":1376},{"$f":"'Total out-migration'!L21","v":1646},{"$f":"'Within Scotland net migration'!L21","v":-287},{"$f":"'Within Scotland in-migration'!L21","v":939},{"$f":"'Within Scotland out-migration'!L21","v":1226},{"$f":"'Rest of UK net migration'!L21","v":80},{"$f":"'Rest of UK in-migration'!L21","v":367},{"$f":"'Rest of UK out-migration'!L21","v":287},{"$f":"'Overseas net migration'!L21","v":-63},{"$f":"'Overseas in-migration'!L21","v":70},{"$f":"'Overseas out-migration'!L21","v":133},{"$f":"NINo!L22","v":90},{"$f":"'Non-UK Births'!L22","v":28},{"$f":"'Pupils ethnic group'!M22","v":189},{"$f":"'Pupils with English as an add.'!J21","v":44},{"$f":"'Pop born outside UK'!L22","v":2000},{"$f":"'Non-British Population'!L22","v":1000},{"$f":"Citizenships!L22","v":17}]
[20,"Midlothian",null,{"$f":"'Total net migration'!L22","v":1020},{"$f":"'Total net migration 0-15'!L22","v":275},{"$f":"'Total net migration 16-64'!L22","v":753},{"$f":"'Total net migration 65+'!L22","v":-8},{"$f":"'Total in-migration'!L22","v":3527},{"$f":"'Total out-migration'!L22","v":2507},{"$f":"'Within Scotland net migration'!L22","v":947},{"$f":"'Within Scotland in-migration'!L22","v":2866},{"$f":"'Within Scotland out-migration'!L22","v":1919},{"$f":"'Rest of UK net migration'!L22","v":113},{"$f":"'Rest of UK in-migration'!L22","v":512},{"$f":"'Rest of UK out-migration'!L22","v":399},{"$f":"'Overseas net migration'!L22","v":-40},{"$f":"'Overseas in-migration'!L22","v":149},{"$f":"'Overseas out-migration'!L22","v":189},{"$f":"NINo!L23","v":260},{"$f":"'Non-UK Births'!L23","v":99},{"$f":"'Pupils ethnic group'!M23","v":406},{"$f":"'Pupils with English as an add.'!J22","v":266},{"$f":"'Pop born outside UK'!L23","v":4000},{"$f":"'Non-British Population'!L23","v":3000},{"$f":"Citizenships!L23","v":50}]
[21,"Moray",null,{"$f":"'Total net migration'!L23","v":467},{"$f":"'Total net migration 0-15'!L23","v":162},{"$f":"'Total net migration 16-64'!L23","v":198},{"$f":"'Total net migration 65+'!L23","v":107},{"$f":"'Total in-migration'!L23","v":3479},{"$f":"'Total out-migration'!L23","v":3012},{"$f":"'Within Scotland net migration'!L23","v":184},{"$f":"'Within Scotland in-migration'!L23","v":1901},{"$f":"'Within Scotland out-migration'!L23","v":1717},{"$f":"'Rest of UK net migration'!L23","v":325},{"$f":"'Rest of UK in-migration'!L23","v":1296},{"$f":"'Rest of UK out-migration'!L23","v":971},{"$f":"'Overseas net migration'!L23","v":-42},{"$f":"'Overseas in-migration'!L23","v":282},{"$f":"'Overseas out-migration'!L23","v":324},{"$f":"NINo!L24","v":310},{"$f":"'Non-UK Births'!L24","v":107},{"$f":"'Pupils ethnic group'!M24","v":291},{"$f":"'Pupils with English as an add.'!J23","v":381},{"$f":"'Pop born outside UK'!L24","v":4000},{"$f":"'Non-British Population'!L24","v":2000},{"$f":"Citizenships!L24","v":29}]
[22,"Na h-Eileanan Siar",null,{"$f":"'Total net migration'!L24","v":-88},{"$f":"'Total net migration 0-15'!L24","v":0},{"$f":"'Total net migration 16-64'!L24","v":-90},{"$f":"'Total net migration 65+'!L24","v":2},{"$f":"'Total in-migration'!L24","v":818},{"$f":"'Total out-migration'!L24","v":906},{"$f":"'Within Scotland net migration'!L24","v":-60},{"$f":"'Within Scotland in-migration'!L24","v":557},{"$f":"'Within Scotland out-migration'!L24","v":617},{"$f":"'Rest of UK net migration'!L24","v":20},{"$f":"'Rest of UK in-migration'!L24","v":229},{"$f":"'Rest of UK out-migration'!L24","v":209},{"$f":"'Overseas net migration'!L24","v":-48},{"$f":"'Overseas in-migration'!L24","v":32},{"$f":"'Overseas out-migration'!L24","v":80},{"$f":"NINo!L25","v":60},{"$f":"'Non-UK Births'!L25","v":17},{"$f":"'Pupils ethnic group'!M25","v":62},{"$f":"'Pupils with English as an add.'!J24","v":54},{"$f":"'Pop born outside UK'!L25","v":1000},{"$f":"'Non-British Population'!L25","v":"*"},{"$f":"Citizenships!L25","v":9}]
[23,"North Ayrshire",null,{"$f":"'Total net migration'!L25","v":-137},{"$f":"'Total net migration 0-15'!L25","v":91},{"$f":"'Total net migration 16-64'!L25","v":-271},{"$f":"'Total net migration 65+'!L25","v":43},{"$f":"'Total in-migration'!L25","v":3550},{"$f":"'Total out-migration'!L25","v":3687},{"$f":"'Within Scotland net migration'!L25","v":-210},{"$f":"'Within Scotland in-migration'!L25","v":2537},{"$f":"'Within Scotland out-migration'!L25","v":2747},{"$f":"'Rest of UK net migration'!L25","v":241},{"$f":"'Rest of UK in-migration'!L25","v":877},{"$f":"'Rest of UK out-migration'!L25","v":636},{"$f":"'Overseas net migration'!L25","v":-168},{"$f":"'Overseas in-migration'!L25","v":136},{"$f":"'Overseas out-migration'!L25","v":304},{"$f":"NINo!L26","v":130},{"$f":"'Non-UK Births'!L26","v":56},{"$f":"'Pupils ethnic group'!M26","v":327},{"$f":"'Pupils with English as an add.'!J25","v":117},{"$f":"'Pop born outside UK'!L26","v":3000},{"$f":"'Non-British Population'!L26","v":2000},{"$f":"Citizenships!L26","v":21}]
[24,"North Lanarkshire",null,{"$f":"'Total net migration'!L26","v":-86},{"$f":"'Total net migration 0-15'!L26","v":81},{"$f":"'Total net migration 16-64'!L26","v":-138},{"$f":"'Total net migration 65+'!L26","v":-29},{"$f":"'Total in-migration'!L26","v":6920},{"$f":"'Total out-migration'!L26","v":7006},{"$f":"'Within Scotland net migration'!L26","v":-181},{"$f":"'Within Scotland in-migration'!L26","v":5184},{"$f":"'Within Scotland out-migration'!L26","v":5365},{"$f":"'Rest of UK net migration'!L26","v":260},{"$f":"'Rest of UK in-migration'!L26","v":1246},{"$f":"'Rest of UK out-migration'!L26","v":986},{"$f":"'Overseas net migration'!L26","v":-165},{"$f":"'Overseas in-migration'!L26","v":490},{"$f":"'Overseas out-migration'!L26","v":655},{"$f":"NINo!L27","v":790},{"$f":"'Non-UK Births'!L27","v":273},{"$f":"'Pupils ethnic group'!M27","v":1795},{"$f":"'Pupils with English as an add.'!J26","v":1121},{"$f":"'Pop born outside UK'!L27","v":11000},{"$f":"'Non-British Population'!L27","v":9000},{"$f":"Citizenships!L27","v":80}]
[25,"Orkney Islands",null,{"$f":"'Total net migration'!L27","v":67},{"$f":"'Total net migration 0-15'!L27","v":44},{"$f":"'Total net migration 16-64'!L27","v":14},{"$f":"'Total net migration 65+'!L27","v":9},{"$f":"'Total in-migration'!L27","v":747},{"$f":"'Total out-migration'!L27","v":680},{"$f":"'Within Scotland net migration'!L27","v":-41},{"$f":"'Within Scotland in-migration'!L27","v":378},{"$f":"'Within Scotland out-migration'!L27","v":419},{"$f":"'Rest of UK net migration'!L27","v":124},{"$f":"'Rest of UK in-migration'!L27","v":317},{"$f":"'Rest of UK out-migration'!L27","v":193},{"$f":"'Overseas net migration'!L27","v":-16},{"$f":"'Overseas in-migration'!L27","v":52},{"$f":"'Overseas out-migration'!L27","v":68},{"$f":"NINo!L28","v":50},{"$f":"'Non-UK Births'!L28","v":11},{"$f":"'Pupils ethnic group'!M28","v":42},{"$f":"'Pupils with English as an add.'!J27","v":14},{"$f":"'Pop born outside UK'!L28","v":"0~"},{"$f":"'Non-British Population'!L28","v":"*"},{"$f":"Citizenships!L28","v":5}]
[26,"Perth and Kinross",null,{"$f":"'Total net migration'!L28","v":1407},{"$f":"'Total net migration 0-15'!L28","v":424},{"$f":"'Total net migration 16-64'!L28","v":945},{"$f":"'Total net migration 65+'!L28","v":38},{"$f":"'Total in-migration'!L28","v":6759},{"$f":"'Total out-migration'!L28","v":5352},{"$f":"'Within Scotland net migration'!L28","v":613},{"$f":"'Within Scotland in-migration'!L28","v":4138},{"$f":"'Within Scotland out-migration'!L28","v":3525},{"$f":"'Rest of UK net migration'!L28","v":327},{"$f":"'Rest of UK in-migration'!L28","v":1380},{"$f":"'Rest of UK out-migration'!L28","v":1053},{"$f":"'Overseas net migration'!L28","v":467},{"$f":"'Overseas in-migration'!L28","v":1241},{"$f":"'Overseas out-migration'!L28","v":774},{"$f":"NINo!L29","v":2460},{"$f":"'Non-UK Births'!L29","v":233},{"$f":"'Pupils ethnic group'!M29","v":572},{"$f":"'Pupils with English as an add.'!J28","v":630},{"$f":"'Pop born outside UK'!L29","v":11000},{"$f":"'Non-British Population'!L29","v":8000},{"$f":"Citizenships!L29","v":54}]
[27,"Renfrewshire",null,{"$f":"'Total net migration'!L29","v":372},{"$f":"'Total net migration 0-15'!L29","v":52},{"$f":"'Total net migration 16-64'!L29","v":254},{"$f":"'Total net migration 65+'!L29","v":66},{"$f":"'Total in-migration'!L29","v":5028},{"$f":"'Total out-migration'!L29","v":4656},{"$f":"'Within Scotland net migration'!L29","v":381},{"$f":"'Within Scotland in-migration'!L29","v":3895},{"$f":"'Within Scotland out-migration'!L29","v":3514},{"$f":"'Rest of UK net migration'!L29","v":-1},{"$f":"'Rest of UK in-migration'!L29","v":702},{"$f":"'Rest of UK out-migration'!L29","v":703},{"$f":"'Overseas net migration'!L29","v":-8},{"$f":"'Overseas in-migration'!L29","v":431},{"$f":"'Overseas out-migration'!L29","v":439},{"$f":"NINo!L30","v":670},{"$f":"'Non-UK Births'!L30","v":186},{"$f":"'Pupils ethnic group'!M30","v":891},{"$f":"'Pupils with English as an add.'!J29","v":480},{"$f":"'Pop born outside UK'!L30","v":11000},{"$f":"'Non-British Population'!L30","v":9000},{"$f":"Citizenships!L30","v":75}]
[28,"Scottish Borders",null,{"$f":"'Total net migration'!L30","v":280},{"$f":"'Total net migration 0-15'!L30","v":172},{"$f":"'Total net migration 16-64'!L30","v":173},{"$f":"'Total net migration 65+'!L30","v":-65},{"$f":"'Total in-migration'!L30","v":4196},{"$f":"'Total out-migration'!L30","v":3916},{"$f":"'Within Scotland net migration'!L30","v":67},{"$f":"'Within Scotland in-migration'!L30","v":2315},{"$f":"'Within Scotland out-migration'!L30","v":2248},{"$f":"'Rest of UK net migration'!L30","v":386},{"$f":"'Rest of UK in-migration'!L30","v":1598},{"$f":"'Rest of UK out-migration'!L30","v":1212},{"$f":"'Overseas net migration'!L30","v":-173},{"$f":"'Overseas in-migration'!L30","v":283},{"$f":"'Overseas out-migration'!L30","v":456},{"$f":"NINo!L31","v":360},{"$f":"'Non-UK Births'!L31","v":121},{"$f":"'Pupils ethnic group'!M31","v":322},{"$f":"'Pupils with English as an add.'!J30","v":394},{"$f":"'Pop born outside UK'!L31","v":6000},{"$f":"'Non-British Population'!L31","v":5000},{"$f":"Citizenships!L31","v":27}]
[29,"Shetland Islands",null,{"$f":"'Total net migration'!L31","v":-5},{"$f":"'Total net migration 0-15'!L31","v":4},{"$f":"'Total net migration 16-64'!L31","v":-1},{"$f":"'Total net migration 65+'!L31","v":-8},{"$f":"'Total in-migration'!L31","v":674},{"$f":"'Total out-migration'!L31","v":679},{"$f":"'Within Scotland net migration'!L31","v":-30},{"$f":"'Within Scotland in-migration'!L31","v":357},{"$f":"'Within Scotland out-migration'!L31","v":387},{"$f":"'Rest of UK net migration'!L31","v":64},{"$f":"'Rest of UK in-migration'!L31","v":266},{"$f":"'Rest of UK out-migration'!L31","v":202},{"$f":"'Overseas net migration'!L31","v":-39},{"$f":"'Overseas in-migration'!L31","v":51},{"$f":"'Overseas out-migration'!L31","v":90},{"$f":"NINo!L32","v":540},{"$f":"'Non-UK Births'!L32","v":28},{"$f":"'Pupils ethnic group'!M32","v":88},{"$f":"'Pupils with English as an add.'!J31","v":49},{"$f":"'Pop born outside UK'!L32","v":1000},{"$f":"'Non-British Population'!L32","v":"0~"},{"$f":"Citizenships!L32","v":9}]
[30,"South Ayrshire",null,{"$f":"'Total net migration'!L32","v":103},{"$f":"'Total net migration 0-15'!L32","v":86},{"$f":"'Total net migration 16-64'!L32","v":-86},{"$f":"'Total net migration 65+'!L32","v":103},{"$f":"'Total in-migration'!L32","v":3431},{"$f":"'Total out-migration'!L32","v":3328},{"$f":"'Within Scotland net migration'!L32","v":100},{"$f":"'Within Scotland in-migration'!L32","v":2477},{"$f":"'Within Scotland out-migration'!L32","v":2377},{"$f":"'Rest of UK net migration'!L32","v":169},{"$f":"'Rest of UK in-migration'!L32","v":788},{"$f":"'Rest of UK out-migration'!L32","v":619},{"$f":"'Overseas net migration'!L32","v":-166},{"$f":"'Overseas in-migration'!L32","v":166},{"$f":"'Overseas out-migration'!L32","v":332},{"$f":"NINo!L33","v":240},{"$f":"'Non-UK Births'!L33","v":59},{"$f":"'Pupils ethnic group'!M33","v":287},{"$f":"'Pupils with English as an add.'!J32","v":174},{"$f":"'Pop born outside UK'!L33","v":4000},{"$f":"'Non-British Population'!L33","v":2000},{"$f":"Citizenships!L33","v":35}]
[31,"South Lanarkshire",null,{"$f":"'Total net migration'!L33","v":511},{"$f":"'Total net migration 0-15'!L33","v":146},{"$f":"'Total net migration 16-64'!L33","v":318},{"$f":"'Total net migration 65+'!L33","v":47},{"$f":"'Total in-migration'!L33","v":8294},{"$f":"'Total out-migration'!L33","v":7783},{"$f":"'Within Scotland net migration'!L33","v":536},{"$f":"'Within Scotland in-migration'!L33","v":6411},{"$f":"'Within Scotland out-migration'!L33","v":5875},{"$f":"'Rest of UK net migration'!L33","v":348},{"$f":"'Rest of UK in-migration'!L33","v":1512},{"$f":"'Rest of UK out-migration'!L33","v":1164},{"$f":"'Overseas net migration'!L33","v":-373},{"$f":"'Overseas in-migration'!L33","v":371},{"$f":"'Overseas out-migration'!L33","v":744},{"$f":"NINo!L34","v":640},{"$f":"'Non-UK Births'!L34","v":239},{"$f":"'Pupils ethnic group'!M34","v":1595},{"$f":"'Pupils with English as an add.'!J33","v":660},{"$f":"'Pop born outside UK'!L34","v":9000},{"$f":"'Non-British Population'!L34","v":6000},{"$f":"Citizenships!L34","v":138}]
[32,"Stirling",null,{"$f":"'Total net migration'!L34","v":467},{"$f":"'Total net migration 0-15'!L34","v":230},{"$f":"'Total net migration 16-64'!L34","v":235},{"$f":"'Total net migration 65+'!L34","v":2},{"$f":"'Total in-migration'!L34","v":5133},{"$f":"'Total out-migration'!L34","v":4666},{"$f":"'Within Scotland net migration'!L34","v":61},{"$f":"'Within Scotland in-migration'!L34","v":3315},{"$f":"'Within Scotland out-migration'!L34","v":3254},{"$f":"'Rest of UK net migration'!L34","v":450},{"$f":"'Rest of UK in-migration'!L34","v":1204},{"$f":"'Rest of UK out-migration'!L34","v":754},{"$f":"'Overseas net migration'!L34","v":-44},{"$f":"'Overseas in-migration'!L34","v":614},{"$f":"'Overseas out-migration'!L34","v":658},{"$f":"NINo!L35","v":580},{"$f":"'Non-UK Births'!L35","v":109},{"$f":"'Pupils ethnic group'!M35","v":443},{"$f":"'Pupils with English as an add.'!J34","v":264},{"$f":"'Pop born outside UK'!L35","v":7000},{"$f":"'Non-British Population'!L35","v":6000},{"$f":"Citizenships!L35","v":46}]
[33,"West Dunbartonshire",null,{"$f":"'Total net migration'!L35","v":-98},{"$f":"'Total net migration 0-15'!L35","v":-27},{"$f":"'Total net migration 16-64'!L35","v":-51},{"$f":"'Total net migration 65+'!L35","v":-20},{"$f":"'Total in-migration'!L35","v":2256},{"$f":"'Total out-migration'!L35","v":2354},{"$f":"'Within Scotland net migration'!L35","v":-133},{"$f":"'Within Scotland in-migration'!L35","v":1759},{"$f":"'Within Scotland out-migration'!L35","v":1892},{"$f":"'Rest of UK net migration'!L35","v":66},{"$f":"'Rest of UK in-migration'!L35","v":381},{"$f":"'Rest of UK out-migration'!L35","v":315},{"$f":"'Overseas net migration'!L35","v":-31},{"$f":"'Overseas in-migration'!L35","v":116},{"$f":"'Overseas out-migration'!L35","v":147},{"$f":"NINo!L36","v":170},{"$f":"'Non-UK Births'!L36","v":51},{"$f":"'Pupils ethnic group'!M36","v":309},{"$f":"'Pupils with English as an add.'!J35","v":201},{"$f":"'Pop born outside UK'!L36","v":3000},{"$f":"'Non-British Population'!L36","v":2000},{"$f":"Citizenships!L36","v":23}]
[34,"West Lothian",null,{"$f":"'Total net migration'!L36","v":444},{"$f":"'Total net migration 0-15'!L36","v":196},{"$f":"'Total net migration 16-64'!L36","v":196},{"$f":"'Total net migration 65+'!L36","v":52},{"$f":"'Total in-migration'!L36","v":5233},{"$f":"'Total out-migration'!L36","v":4789},{"$f":"'Within Scotland net migration'!L36","v":159},{"$f":"'Within Scotland in-migration'!L36","v":3703},{"$f":"'Within Scotland out-migration'!L36","v":3544},{"$f":"'Rest of UK net migration'!L36","v":222},{"$f":"'Rest of UK in-migration'!L36","v":969},{"$f":"'Rest of UK out-migration'!L36","v":747},{"$f":"'Overseas net migration'!L36","v":63},{"$f":"'Overseas in-migration'!L36","v":561},{"$f":"'Overseas out-migration'!L36","v":498},{"$f":"NINo!L37","v":850},{"$f":"'Non-UK Births'!L37","v":298},{"$f":"'Pupils ethnic group'!M37","v":1166},{"$f":"'Pupils with English as an add.'!J36","v":1033},{"$f":"'Pop born outside UK'!L37","v":10000},{"$f":"'Non-British Population'!L37","v":8000},{"$f":"Citizenships!L37","v":105}]
[]
[35,"Not specified"]
[36,"SCOTLAND",null,{"$f":"'Total net migration'!L4","v":17585},{"$f":"'Total net migration 0-15'!L4","v":3092},{"$f":"'Total net migration 16-64'!L4","v":14470},{"$f":"'Total net migration 65+'!L4","v":23},{"$f":"'Total in-migration'!L4","v":82442},{"$f":"'Total out-migration'!L4","v":64857},null,null,null,{"$f":"'Rest of UK net migration'!L39","v":9585},{"$f":"'Rest of UK in-migration'!L39","v":49242},{"$f":"'Rest of UK out-migration'!L39","v":39657},{"$f":"'Overseas net migration'!L39","v":8000},{"$f":"'Overseas in-migration'!L39","v":33200},{"$f":"'Overseas out-migration'!L39","v":25200},null,{"$f":"'Non-UK Births'!L40","v":9178}]
[37,"Ayrshire and Arran",null,{"$f":"'Total net migration'!L40","v":-124},{"$f":"'Total net migration 0-15'!L40","v":193},{"$f":"'Total net migration 16-64'!L40","v":-433},{"$f":"'Total net migration 65+'!L40","v":116},{"$f":"'Total in-migration'!L40","v":7778},{"$f":"'Total out-migration'!L40","v":7902},{"$f":"'Within Scotland net migration'!L40","v":-67},{"$f":"'Within Scotland in-migration'!L40","v":5048},{"$f":"'Within Scotland out-migration'!L40","v":5115},{"$f":"'Rest of UK net migration'!L40","v":451},{"$f":"'Rest of UK in-migration'!L40","v":2334},{"$f":"'Rest of UK out-migration'!L40","v":1883},{"$f":"'Overseas net migration'!L40","v":-508},{"$f":"'Overseas in-migration'!L40","v":396},{"$f":"'Overseas out-migration'!L40","v":904},null,{"$f":"'Non-UK Births'!L41","v":159}]
[38,"Borders",null,{"$f":"'Total net migration'!L41","v":280},{"$f":"'Total net migration 0-15'!L41","v":172},{"$f":"'Total net migration 16-64'!L41","v":173},{"$f":"'Total net migration 65+'!L41","v":-65},{"$f":"'Total in-migration'!L41","v":4196},{"$f":"'Total out-migration'!L41","v":3916},{"$f":"'Within Scotland net migration'!L41","v":67},{"$f":"'Within Scotland in-migration'!L41","v":2315},{"$f":"'Within Scotland out-migration'!L41","v":2248},{"$f":"'Rest of UK net migration'!L41","v":386},{"$f":"'Rest of UK in-migration'!L41","v":1598},{"$f":"'Rest of UK out-migration'!L41","v":1212},{"$f":"'Overseas net migration'!L41","v":-173},{"$f":"'Overseas in-migration'!L41","v":283},{"$f":"'Overseas out-migration'!L41","v":456},null,{"$f":"'Non-UK Births'!L42","v":121}]
[39,"Dumfries and Galloway",null,{"$f":"'Total net migration'!L42","v":334},{"$f":"'Total net migration 0-15'!L42","v":169},{"$f":"'Total net migration 16-64'!L42","v":105},{"$f":"'Total net migration 65+'!L42","v":60},{"$f":"'Total in-migration'!L42","v":4047},{"$f":"'Total out-migration'!L42","v":3713},{"$f":"'Within Scotland net migration'!L42","v":-110},{"$f":"'Within Scotland in-migration'!L42","v":1725},{"$f":"'Within Scotland out-migration'!L42","v":1835},{"$f":"'Rest of UK net migration'!L42","v":711},{"$f":"'Rest of UK in-migration'!L42","v":2110},{"$f":"'Rest of UK out-migration'!L42","v":1399},{"$f":"'Overseas net migration'!L42","v":-267},{"$f":"'Overseas in-migration'!L42","v":212},{"$f":"'Overseas out-migration'!L42","v":479},null,{"$f":"'Non-UK Births'!L43","v":91}]
[40,"Fife",null,{"$f":"'Total net migration'!L43","v":650},{"$f":"'Total net migration 0-15'!L43","v":101},{"$f":"'Total net migration 16-64'!L43","v":363},{"$f":"'Total net migration 65+'!L43","v":186},{"$f":"'Total in-migration'!L43","v":10894},{"$f":"'Total out-migration'!L43","v":10244},{"$f":"'Within Scotland net migration'!L43","v":-88},{"$f":"'Within Scotland in-migration'!L43","v":6036},{"$f":"'Within Scotland out-migration'!L43","v":6124},{"$f":"'Rest of UK net migration'!L43","v":629},{"$f":"'Rest of UK in-migration'!L43","v":3229},{"$f":"'Rest of UK out-migration'!L43","v":2600},{"$f":"'Overseas net migration'!L43","v":109},{"$f":"'Overseas in-migration'!L43","v":1629},{"$f":"'Overseas out-migration'!L43","v":1520},null,{"$f":"'Non-UK Births'!L44","v":408}]
[41,"Forth Valley",null,{"$f":"'Total net migration'!L44","v":800},{"$f":"'Total net migration 0-15'!L44","v":288},{"$f":"'Total net migration 16-64'!L44","v":480},{"$f":"'Total net migration 65+'!L44","v":32},{"$f":"'Total in-migration'!L44","v":9446},{"$f":"'Total out-migration'!L44","v":8646},{"$f":"'Within Scotland net migration'!L44","v":176},{"$f":"'Within Scotland in-migration'!L44","v":6055},{"$f":"'Within Scotland out-migration'!L44","v":5879},{"$f":"'Rest of UK net migration'!L44","v":679},{"$f":"'Rest of UK in-migration'!L44","v":2322},{"$f":"'Rest of UK out-migration'!L44","v":1643},{"$f":"'Overseas net migration'!L44","v":-55},{"$f":"'Overseas in-migration'!L44","v":1069},{"$f":"'Overseas out-migration'!L44","v":1124},null,{"$f":"'Non-UK Births'!L45","v":322}]
[42,"Grampian",null,{"$f":"'Total net migration'!L45","v":3920},{"$f":"'Total net migration 0-15'!L45","v":694},{"$f":"'Total net migration 16-64'!L45","v":3500},{"$f":"'Total net migration 65+'!L45","v":-274},{"$f":"'Total in-migration'!L45","v":20218},{"$f":"'Total out-migration'!L45","v":16298},{"$f":"'Within Scotland net migration'!L45","v":686},{"$f":"'Within Scotland in-migration'!L45","v":8368},{"$f":"'Within Scotland out-migration'!L45","v":7682},{"$f":"'Rest of UK net migration'!L45","v":1187},{"$f":"'Rest of UK in-migration'!L45","v":6304},{"$f":"'Rest of UK out-migration'!L45","v":5117},{"$f":"'Overseas net migration'!L45","v":2047},{"$f":"'Overseas in-migration'!L45","v":5546},{"$f":"'Overseas out-migration'!L45","v":3499},null,{"$f":"'Non-UK Births'!L46","v":1543}]
[43,"Greater Glasgow and Clyde",null,{"$f":"'Total net migration'!L46","v":3850},{"$f":"'Total net migration 0-15'!L46","v":152},{"$f":"'Total net migration 16-64'!L46","v":3839},{"$f":"'Total net migration 65+'!L46","v":-141},{"$f":"'Total in-migration'!L46","v":34840},{"$f":"'Total out-migration'!L46","v":30990},{"$f":"'Within Scotland net migration'!L46","v":-719},{"$f":"'Within Scotland in-migration'!L46","v":16352},{"$f":"'Within Scotland out-migration'!L46","v":17071},{"$f":"'Rest of UK net migration'!L46","v":836},{"$f":"'Rest of UK in-migration'!L46","v":8747},{"$f":"'Rest of UK out-migration'!L46","v":7911},{"$f":"'Overseas net migration'!L46","v":3733},{"$f":"'Overseas in-migration'!L46","v":9741},{"$f":"'Overseas out-migration'!L46","v":6008},null,{"$f":"'Non-UK Births'!L47","v":2467}]
[44,"Highland",null,{"$f":"'Total net migration'!L47","v":-36},{"$f":"'Total net migration 0-15'!L47","v":166},{"$f":"'Total net migration 16-64'!L47","v":-97},{"$f":"'Total net migration 65+'!L47","v":-105},{"$f":"'Total in-migration'!L47","v":10686},{"$f":"'Total out-migration'!L47","v":10722},{"$f":"'Within Scotland net migration'!L47","v":-854},{"$f":"'Within Scotland in-migration'!L47","v":5881},{"$f":"'Within Scotland out-migration'!L47","v":6735},{"$f":"'Rest of UK net migration'!L47","v":1140},{"$f":"'Rest of UK in-migration'!L47","v":3847},{"$f":"'Rest of UK out-migration'!L47","v":2707},{"$f":"'Overseas net migration'!L47","v":-322},{"$f":"'Overseas in-migration'!L47","v":958},{"$f":"'Overseas out-migration'!L47","v":1280},null,{"$f":"'Non-UK Births'!L48","v":418}]
[45,"Lanarkshire",null,{"$f":"'Total net migration'!L48","v":425},{"$f":"'Total net migration 0-15'!L48","v":227},{"$f":"'Total net migration 16-64'!L48","v":180},{"$f":"'Total net migration 65+'!L48","v":18},{"$f":"'Total in-migration'!L48","v":12932},{"$f":"'Total out-migration'!L48","v":12507},{"$f":"'Within Scotland net migration'!L48","v":355},{"$f":"'Within Scotland in-migration'!L48","v":9313},{"$f":"'Within Scotland out-migration'!L48","v":8958},{"$f":"'Rest of UK net migration'!L48","v":608},{"$f":"'Rest of UK in-migration'!L48","v":2758},{"$f":"'Rest of UK out-migration'!L48","v":2150},{"$f":"'Overseas net migration'!L48","v":-538},{"$f":"'Overseas in-migration'!L48","v":861},{"$f":"'Overseas out-migration'!L48","v":1399},null,{"$f":"'Non-UK Births'!L49","v":512}]
[46,"Lothian",null,{"$f":"'Total net migration'!L49","v":5472},{"$f":"'Total net migration 0-15'!L49","v":356},{"$f":"'Total net migration 16-64'!L49","v":4944},{"$f":"'Total net migration 65+'!L49","v":172},{"$f":"'Total in-migration'!L49","v":33965},{"$f":"'Total out-migration'!L49","v":28493},{"$f":"'Within Scotland net migration'!L49","v":-46},{"$f":"'Within Scotland in-migration'!L49","v":12790},{"$f":"'Within Scotland out-migration'!L49","v":12836},{"$f":"'Rest of UK net migration'!L49","v":2190},{"$f":"'Rest of UK in-migration'!L49","v":11662},{"$f":"'Rest of UK out-migration'!L49","v":9472},{"$f":"'Overseas net migration'!L49","v":3328},{"$f":"'Overseas in-migration'!L49","v":9513},{"$f":"'Overseas out-migration'!L49","v":6185},null,{"$f":"'Non-UK Births'!L50","v":2403}]
[47,"Orkney",null,{"$f":"'Total net migration'!L50","v":67},{"$f":"'Total net migration 0-15'!L50","v":44},{"$f":"'Total net migration 16-64'!L50","v":14},{"$f":"'Total net migration 65+'!L50","v":9},{"$f":"'Total in-migration'!L50","v":747},{"$f":"'Total out-migration'!L50","v":680},{"$f":"'Within Scotland net migration'!L50","v":-41},{"$f":"'Within Scotland in-migration'!L50","v":378},{"$f":"'Within Scotland out-migration'!L50","v":419},{"$f":"'Rest of UK net migration'!L50","v":124},{"$f":"'Rest of UK in-migration'!L50","v":317},{"$f":"'Rest of UK out-migration'!L50","v":193},{"$f":"'Overseas net migration'!L50","v":-16},{"$f":"'Overseas in-migration'!L50","v":52},{"$f":"'Overseas out-migration'!L50","v":68},null,{"$f":"'Non-UK Births'!L51","v":11}]
[48,"Shetland",null,{"$f":"'Total net migration'!L51","v":-5},{"$f":"'Total net migration 0-15'!L51","v":4},{"$f":"'Total net migration 16-64'!L51","v":-1},{"$f":"'Total net migration 65+'!L51","v":-8},{"$f":"'Total in-migration'!L51","v":674},{"$f":"'Total out-migration'!L51","v":679},{"$f":"'Within Scotland net migration'!L51","v":-30},{"$f":"'Within Scotland in-migration'!L51","v":357},{"$f":"'Within Scotland out-migration'!L51","v":387},{"$f":"'Rest of UK net migration'!L51","v":64},{"$f":"'Rest of UK in-migration'!L51","v":266},{"$f":"'Rest of UK out-migration'!L51","v":202},{"$f":"'Overseas net migration'!L51","v":-39},{"$f":"'Overseas in-migration'!L51","v":51},{"$f":"'Overseas out-migration'!L51","v":90},null,{"$f":"'Non-UK Births'!L52","v":28}]
[49,"Tayside",null,{"$f":"'Total net migration'!L52","v":2040},{"$f":"'Total net migration 0-15'!L52","v":526},{"$f":"'Total net migration 16-64'!L52","v":1493},{"$f":"'Total net migration 65+'!L52","v":21},{"$f":"'Total in-migration'!L52","v":14433},{"$f":"'Total out-migration'!L52","v":12393},{"$f":"'Within Scotland net migration'!L52","v":731},{"$f":"'Within Scotland in-migration'!L52","v":8057},{"$f":"'Within Scotland out-migration'!L52","v":7326},{"$f":"'Rest of UK net migration'!L52","v":560},{"$f":"'Rest of UK in-migration'!L52","v":3519},{"$f":"'Rest of UK out-migration'!L52","v":2959},{"$f":"'Overseas net migration'!L52","v":749},{"$f":"'Overseas in-migration'!L52","v":2857},{"$f":"'Overseas out-migration'!L52","v":2108},null,{"$f":"'Non-UK Births'!L53","v":678}]
[50,"Western Isles",null,{"$f":"'Total net migration'!L53","v":-88},{"$f":"'Total net migration 0-15'!L53","v":0},{"$f":"'Total net migration 16-64'!L53","v":-90},{"$f":"'Total net migration 65+'!L53","v":2},{"$f":"'Total in-migration'!L53","v":818},{"$f":"'Total out-migration'!L53","v":906},{"$f":"'Within Scotland net migration'!L53","v":-60},{"$f":"'Within Scotland in-migration'!L53","v":557},{"$f":"'Within Scotland out-migration'!L53","v":617},{"$f":"'Rest of UK net migration'!L53","v":20},{"$f":"'Rest of UK in-migration'!L53","v":229},{"$f":"'Rest of UK out-migration'!L53","v":209},{"$f":"'Overseas net migration'!L53","v":-48},{"$f":"'Overseas in-migration'!L53","v":32},{"$f":"'Overseas out-migration'!L53","v":80},null,{"$f":"'Non-UK Births'!L54","v":17}]

{"sheet":"2014 Rate","index":40,"n_rows":53,"n_cols":27,"rows_kept":53,"cut":false,"hidden":true,"merged":[]}
[null,2014,"RATE"]
[null,null,"Not specified ",{"$f":"'Comparing Indicators'!$U8","v":"Total net migration"},{"$f":"'Comparing Indicators'!$U9","v":"Total net migration for ages 0-15"},{"$f":"'Comparing Indicators'!$U10","v":"Total net migration for ages 16-64"},{"$f":"'Comparing Indicators'!$U11","v":"Total net migration for people aged 65+"},{"$f":"'Comparing Indicators'!$U12","v":"Total in-migration"},{"$f":"'Comparing Indicators'!$U13","v":"Total out-migration"},{"$f":"'Comparing Indicators'!$U14","v":"Within Scotland net migration"},{"$f":"'Comparing Indicators'!$U15","v":"Within Scotland in-migration"},{"$f":"'Comparing Indicators'!$U16","v":"Within Scotland out-migration"},{"$f":"'Comparing Indicators'!$U17","v":"Rest of UK net migration"},{"$f":"'Comparing Indicators'!$U18","v":"Rest of UK in-migration"},{"$f":"'Comparing Indicators'!$U19","v":"Rest of UK out-migration"},{"$f":"'Comparing Indicators'!$U20","v":"Overseas net migration"},{"$f":"'Comparing Indicators'!$U21","v":"Overseas in-migration"},{"$f":"'Comparing Indicators'!$U22","v":"Overseas out-migration"},{"$f":"'Comparing Indicators'!$U23","v":"NINo Allocation"},{"$f":"'Comparing Indicators'!$U24","v":"Births to non-UK mothers"},{"$f":"'Comparing Indicators'!$U25","v":"Pupils from a minority ethnic group"},{"$f":"'Comparing Indicators'!$U26","v":"Pupils with English as an additional language"},{"$f":"'Comparing Indicators'!$U27","v":"Population born outside the UK"},{"$f":"'Comparing Indicators'!$U28","v":"Population with non-British nationality"},{"$f":"'Comparing Indicators'!$U29","v":"Citizenships"},null,"Mid-year population estimate"]
[1,"Not specified"]
[2,"SCOTLAND",null,{"$f":"('2014'!D4/'2014 Rate'!$AA4)*1000","v":3.2883910539307353},{"$f":"('2014'!E4/'2014 Rate'!$AA4)*1000","v":0.57820330615603266},{"$f":"('2014'!F4/'2014 Rate'!$AA4)*1000","v":2.7058867529358968},{"$f":"('2014'!G4/'2014 Rate'!$AA4)*1000","v":4.3009948388061936E-3},{"$f":"('2014'!H4/'2014 Rate'!$AA4)*1000","v":15.416635500037399},{"$f":"('2014'!I4/'2014 Rate'!$AA4)*1000","v":12.128244446106665},"N/A","N/A","N/A",{"$f":"('2014'!M4/'2014 Rate'!$AA4)*1000","v":1.7923928491285812},{"$f":"('2014'!N4/'2014 Rate'!$AA4)*1000","v":9.2082429501084597},{"$f":"('2014'!O4/'2014 Rate'!$AA4)*1000","v":7.4158501009798785},{"$f":"('2014'!P4/'2014 Rate'!$AA4)*1000","v":1.4959982048021543},{"$f":"('2014'!Q4/'2014 Rate'!$AA4)*1000","v":6.2083925499289405},{"$f":"('2014'!R4/'2014 Rate'!$AA4)*1000","v":4.7123943451267856},{"$f":"('2014'!S4/'2014 Rate'!$AA4)*1000","v":8.1531902161717422},{"$f":"('2014'!T4/'2014 Rate'!$AA4)*1000","v":1.7162839404592716},{"$f":"('2014'!U4/'2014 Rate'!$AA4)*1000","v":7.8257536090956696},{"$f":"('2014'!V4/'2014 Rate'!$AA4)*1000","v":6.0791757049891535},null,null,{"$f":"('2014'!Y4/'2014 Rate'!$AA4)*1000","v":0.73977111227466519},"Scotland",5347600]
[3,"Aberdeen City",null,{"$f":"('2014'!D5/'2014 Rate'!$AA5)*1000","v":6.1680936571728111},{"$f":"('2014'!E5/'2014 Rate'!$AA5)*1000","v":-1.3236065000873667},{"$f":"('2014'!F5/'2014 Rate'!$AA5)*1000","v":8.4221562117770397},{"$f":"('2014'!G5/'2014 Rate'!$AA5)*1000","v":-0.93045605451686175},{"$f":"('2014'!H5/'2014 Rate'!$AA5)*1000","v":62.05661366416215},{"$f":"('2014'!I5/'2014 Rate'!$AA5)*1000","v":55.888520006989346},{"$f":"('2014'!J5/'2014 Rate'!$AA5)*1000","v":-4.9799056438930629},{"$f":"('2014'!K5/'2014 Rate'!$AA5)*1000","v":30.766206535034073},{"$f":"('2014'!L5/'2014 Rate'!$AA5)*1000","v":35.746112178927135},{"$f":"('2014'!M5/'2014 Rate'!$AA5)*1000","v":2.5642145727765158},{"$f":"('2014'!N5/'2014 Rate'!$AA5)*1000","v":12.934649659269613},{"$f":"('2014'!O5/'2014 Rate'!$AA5)*1000","v":10.370435086493098},{"$f":"('2014'!P5/'2014 Rate'!$AA5)*1000","v":8.5837847282893573},{"$f":"('2014'!Q5/'2014 Rate'!$AA5)*1000","v":18.355757469858464},{"$f":"('2014'!R5/'2014 Rate'!$AA5)*1000","v":9.7719727415691064},{"$f":"('2014'!S5/'2014 Rate'!$AA5)*1000","v":23.851127031277304},{"$f":"('2014'!T5/'2014 Rate'!$AA5)*1000","v":4.3071815481390878},{"$f":"('2014'!U5/'2014 Rate'!$AA5)*1000","v":11.597938144329897},{"$f":"('2014'!V5/'2014 Rate'!$AA5)*1000","v":10.676218766381268},null,null,{"$f":"('2014'!Y5/'2014 Rate'!$AA5)*1000","v":3.1452035645640395},"Aberdeen City",228920]
[4,"Aberdeenshire",null,{"$f":"('2014'!D6/'2014 Rate'!$AA6)*1000","v":7.834030629869881},{"$f":"('2014'!E6/'2014 Rate'!$AA6)*1000","v":3.2050051817449048},{"$f":"('2014'!F6/'2014 Rate'!$AA6)*1000","v":5.2738648140329323},{"$f":"('2014'!G6/'2014 Rate'!$AA6)*1000","v":-0.64483936590795687},{"$f":"('2014'!H6/'2014 Rate'!$AA6)*1000","v":39.696004298929104},{"$f":"('2014'!I6/'2014 Rate'!$AA6)*1000","v":31.861973669059225},{"$f":"('2014'!J6/'2014 Rate'!$AA6)*1000","v":6.3025371358384836},{"$f":"('2014'!K6/'2014 Rate'!$AA6)*1000","v":27.762637700072929},{"$f":"('2014'!L6/'2014 Rate'!$AA6)*1000","v":21.460100564234448},{"$f":"('2014'!M6/'2014 Rate'!$AA6)*1000","v":1.0555406287183817},{"$f":"('2014'!N6/'2014 Rate'!$AA6)*1000","v":7.8570606072237359},{"$f":"('2014'!O6/'2014 Rate'!$AA6)*1000","v":6.8015199785053548},{"$f":"('2014'!P6/'2014 Rate'!$AA6)*1000","v":0.47595286531301578},{"$f":"('2014'!Q6/'2014 Rate'!$AA6)*1000","v":4.0763059916324416},{"$f":"('2014'!R6/'2014 Rate'!$AA6)*1000","v":3.6003531263194262},{"$f":"('2014'!S6/'2014 Rate'!$AA6)*1000","v":6.448393659079569},{"$f":"('2014'!T6/'2014 Rate'!$AA6)*1000","v":1.7272483015391702},{"$f":"('2014'!U6/'2014 Rate'!$AA6)*1000","v":3.6310597627912333},{"$f":"('2014'!V6/'2014 Rate'!$AA6)*1000","v":5.2047748819713666},null,null,{"$f":"('2014'!Y6/'2014 Rate'!$AA6)*1000","v":0.74463593444133114},"Aberdeenshire",260530]
[5,"Angus",null,{"$f":"('2014'!D7/'2014 Rate'!$AA7)*1000","v":5.5250985095083092},{"$f":"('2014'!E7/'2014 Rate'!$AA7)*1000","v":1.5504540003426419},{"$f":"('2014'!F7/'2014 Rate'!$AA7)*1000","v":3.3750214151105022},{"$f":"('2014'!G7/'2014 Rate'!$AA7)*1000","v":0.59962309405516534},{"$f":"('2014'!H7/'2014 Rate'!$AA7)*1000","v":36.234366969333564},{"$f":"('2014'!I7/'2014 Rate'!$AA7)*1000","v":30.709268459825253},{"$f":"('2014'!J7/'2014 Rate'!$AA7)*1000","v":3.6491348295357207},{"$f":"('2014'!K7/'2014 Rate'!$AA7)*1000","v":26.837416481069042},{"$f":"('2014'!L7/'2014 Rate'!$AA7)*1000","v":23.188281651533323},{"$f":"('2014'!M7/'2014 Rate'!$AA7)*1000","v":1.6446804865513107},{"$f":"('2014'!N7/'2014 Rate'!$AA7)*1000","v":6.4844954599965741},{"$f":"('2014'!O7/'2014 Rate'!$AA7)*1000","v":4.8398149734452636},{"$f":"('2014'!P7/'2014 Rate'!$AA7)*1000","v":0.23128319342127807},{"$f":"('2014'!Q7/'2014 Rate'!$AA7)*1000","v":2.9124550282679458},{"$f":"('2014'!R7/'2014 Rate'!$AA7)*1000","v":2.6811718348466678},{"$f":"('2014'!S7/'2014 Rate'!$AA7)*1000","v":10.450573924961452},{"$f":"('2014'!T7/'2014 Rate'!$AA7)*1000","v":1.1564159671063903},{"$f":"('2014'!U7/'2014 Rate'!$AA7)*1000","v":3.075209868082919},{"$f":"('2014'!V7/'2014 Rate'!$AA7)*1000","v":3.6919650505396606},null,null,{"$f":"('2014'!Y7/'2014 Rate'!$AA7)*1000","v":0.23128319342127807},"Angus",116740]
[6,"Argyll and Bute",null,{"$f":"('2014'!D8/'2014 Rate'!$AA8)*1000","v":-3.1374786081003996},{"$f":"('2014'!E8/'2014 Rate'!$AA8)*1000","v":0.62749572162007983},{"$f":"('2014'!F8/'2014 Rate'!$AA8)*1000","v":-3.069024529378209},{"$f":"('2014'!G8/'2014 Rate'!$AA8)*1000","v":-0.69594980034227039},{"$f":"('2014'!H8/'2014 Rate'!$AA8)*1000","v":43.183114660581865},{"$f":"('2014'!I8/'2014 Rate'!$AA8)*1000","v":46.320593268682259},{"$f":"('2014'!J8/'2014 Rate'!$AA8)*1000","v":-5.0656018254420996},{"$f":"('2014'!K8/'2014 Rate'!$AA8)*1000","v":24.700513405590417},{"$f":"('2014'!L8/'2014 Rate'!$AA8)*1000","v":29.766115231032515},{"$f":"('2014'!M8/'2014 Rate'!$AA8)*1000","v":4.5978322875071305},{"$f":"('2014'!N8/'2014 Rate'!$AA8)*1000","v":15.755847119224185},{"$f":"('2014'!O8/'2014 Rate'!$AA8)*1000","v":11.158014831717058},{"$f":"('2014'!P8/'2014 Rate'!$AA8)*1000","v":-2.6697090701654309},{"$f":"('2014'!Q8/'2014 Rate'!$AA8)*1000","v":2.7267541357672562},{"$f":"('2014'!R8/'2014 Rate'!$AA8)*1000","v":5.3964632059326867},{"$f":"('2014'!S8/'2014 Rate'!$AA8)*1000","v":5.2481460353679408},{"$f":"('2014'!T8/'2014 Rate'!$AA8)*1000","v":0.9241300627495721},{"$f":"('2014'!U8/'2014 Rate'!$AA8)*1000","v":2.6583000570450652},{"$f":"('2014'!V8/'2014 Rate'!$AA8)*1000","v":1.8710781517398745},null,null,{"$f":"('2014'!Y8/'2014 Rate'!$AA8)*1000","v":0.3080433542498574},"Argyll & Bute",87650]
[7,"City of Edinburgh",null,{"$f":"('2014'!D9/'2014 Rate'!$AA9)*1000","v":6.6908913745153367},{"$f":"('2014'!E9/'2014 Rate'!$AA9)*1000","v":-0.73892125616613558},{"$f":"('2014'!F9/'2014 Rate'!$AA9)*1000","v":7.3506424960922434},{"$f":"('2014'!G9/'2014 Rate'!$AA9)*1000","v":7.9170134589228808E-2},{"$f":"('2014'!H9/'2014 Rate'!$AA9)*1000","v":59.761271594161713},{"$f":"('2014'!I9/'2014 Rate'!$AA9)*1000","v":53.070380219646374},{"$f":"('2014'!J9/'2014 Rate'!$AA9)*1000","v":-3.4733359046710377},{"$f":"('2014'!K9/'2014 Rate'!$AA9)*1000","v":23.412029800450661},{"$f":"('2014'!L9/'2014 Rate'!$AA9)*1000","v":26.8853657051217},{"$f":"('2014'!M9/'2014 Rate'!$AA9)*1000","v":3.5179959805931671},{"$f":"('2014'!N9/'2014 Rate'!$AA9)*1000","v":19.171352591299403},{"$f":"('2014'!O9/'2014 Rate'!$AA9)*1000","v":15.65335661070624},{"$f":"('2014'!P9/'2014 Rate'!$AA9)*1000","v":6.6462312985932073},{"$f":"('2014'!Q9/'2014 Rate'!$AA9)*1000","v":17.177889202411645},{"$f":"('2014'!R9/'2014 Rate'!$AA9)*1000","v":10.531657903818436},{"$f":"('2014'!S9/'2014 Rate'!$AA9)*1000","v":23.02023913440653},{"$f":"('2014'!T9/'2014 Rate'!$AA9)*1000","v":3.8164064878910291},{"$f":"('2014'!U9/'2014 Rate'!$AA9)*1000","v":13.272162562676355},{"$f":"('2014'!V9/'2014 Rate'!$AA9)*1000","v":10.610828038407664},null,null,{"$f":"('2014'!Y9/'2014 Rate'!$AA9)*1000","v":1.5549826434704939},"City of Edinburgh",492610]
[8,"Clackmannanshire",null,{"$f":"('2014'!D10/'2014 Rate'!$AA10)*1000","v":-1.601875366282477},{"$f":"('2014'!E10/'2014 Rate'!$AA10)*1000","v":-0.46884157061926157},{"$f":"('2014'!F10/'2014 Rate'!$AA10)*1000","v":-1.4260597773002541},{"$f":"('2014'!G10/'2014 Rate'!$AA10)*1000","v":0.29302598163703852},{"$f":"('2014'!H10/'2014 Rate'!$AA10)*1000","v":33.854268411799175},{"$f":"('2014'!I10/'2014 Rate'!$AA10)*1000","v":35.45614377808166},{"$f":"('2014'!J10/'2014 Rate'!$AA10)*1000","v":-1.1134987302207462},{"$f":"('2014'!K10/'2014 Rate'!$AA10)*1000","v":24.96581363547568},{"$f":"('2014'!L10/'2014 Rate'!$AA10)*1000","v":26.079312365696424},{"$f":"('2014'!M10/'2014 Rate'!$AA10)*1000","v":1.9535065442469232E-2},{"$f":"('2014'!N10/'2014 Rate'!$AA10)*1000","v":6.3879663996874383},{"$f":"('2014'!O10/'2014 Rate'!$AA10)*1000","v":6.3684313342449697},{"$f":"('2014'!P10/'2014 Rate'!$AA10)*1000","v":-0.50791170150419995},{"$f":"('2014'!Q10/'2014 Rate'!$AA10)*1000","v":2.5004883766360617},{"$f":"('2014'!R10/'2014 Rate'!$AA10)*1000","v":3.0084000781402618},{"$f":"('2014'!S10/'2014 Rate'!$AA10)*1000","v":1.7581558898222309},{"$f":"('2014'!T10/'2014 Rate'!$AA10)*1000","v":0.95721820668099233},{"$f":"('2014'!U10/'2014 Rate'!$AA10)*1000","v":4.1414338738034777},{"$f":"('2014'!V10/'2014 Rate'!$AA10)*1000","v":3.0474702090252004},null,null,{"$f":"('2014'!Y10/'2014 Rate'!$AA10)*1000","v":0.25395585075209998},"Clackmannanshire",51190]
[9,"Dumfries and Galloway",null,{"$f":"('2014'!D11/'2014 Rate'!$AA11)*1000","v":2.2272606028274207},{"$f":"('2014'!E11/'2014 Rate'!$AA11)*1000","v":1.1269671912510002},{"$f":"('2014'!F11/'2014 Rate'!$AA11)*1000","v":0.70018671645772201},{"$f":"('2014'!G11/'2014 Rate'!$AA11)*1000","v":0.40010669511869834},{"$f":"('2014'!H11/'2014 Rate'!$AA11)*1000","v":26.987196585756202},{"$f":"('2014'!I11/'2014 Rate'!$AA11)*1000","v":24.759935982928781},{"$f":"('2014'!J11/'2014 Rate'!$AA11)*1000","v":-0.7335289410509469},{"$f":"('2014'!K11/'2014 Rate'!$AA11)*1000","v":11.503067484662576},{"$f":"('2014'!L11/'2014 Rate'!$AA11)*1000","v":12.236596425713524},{"$f":"('2014'!M11/'2014 Rate'!$AA11)*1000","v":4.7412643371565757},{"$f":"('2014'!N11/'2014 Rate'!$AA11)*1000","v":14.07041877834089},{"$f":"('2014'!O11/'2014 Rate'!$AA11)*1000","v":9.3291544411843166},{"$f":"('2014'!P11/'2014 Rate'!$AA11)*1000","v":-1.7804747932782075},{"$f":"('2014'!Q11/'2014 Rate'!$AA11)*1000","v":1.4137103227527341},{"$f":"('2014'!R11/'2014 Rate'!$AA11)*1000","v":3.1941851160309418},{"$f":"('2014'!S11/'2014 Rate'!$AA11)*1000","v":2.0672179247799414},{"$f":"('2014'!T11/'2014 Rate'!$AA11)*1000","v":0.60682848759669239},{"$f":"('2014'!U11/'2014 Rate'!$AA11)*1000","v":2.7207255268071484},{"$f":"('2014'!V11/'2014 Rate'!$AA11)*1000","v":2.2072552680714854},null,null,{"$f":"('2014'!Y11/'2014 Rate'!$AA11)*1000","v":0.16671112296612431},"Dumfries & Galloway",149960]
[10,"Dundee City",null,{"$f":"('2014'!D12/'2014 Rate'!$AA12)*1000","v":-8.1009923715655158E-2},{"$f":"('2014'!E12/'2014 Rate'!$AA12)*1000","v":-0.53331533112806317},{"$f":"('2014'!F12/'2014 Rate'!$AA12)*1000","v":1.039627354350908},{"$f":"('2014'!G12/'2014 Rate'!$AA12)*1000","v":-0.58732194693849993},{"$f":"('2014'!H12/'2014 Rate'!$AA12)*1000","v":46.290420576520624},{"$f":"('2014'!I12/'2014 Rate'!$AA12)*1000","v":46.371430500236279},{"$f":"('2014'!J12/'2014 Rate'!$AA12)*1000","v":-2.0792547087018161},{"$f":"('2014'!K12/'2014 Rate'!$AA12)*1000","v":28.346722473503007},{"$f":"('2014'!L12/'2014 Rate'!$AA12)*1000","v":30.425977182204822},{"$f":"('2014'!M12/'2014 Rate'!$AA12)*1000","v":0.27678390602848846},{"$f":"('2014'!N12/'2014 Rate'!$AA12)*1000","v":9.329642881252953},{"$f":"('2014'!O12/'2014 Rate'!$AA12)*1000","v":9.0528589752244653},{"$f":"('2014'!P12/'2014 Rate'!$AA12)*1000","v":1.7214608789576722},{"$f":"('2014'!Q12/'2014 Rate'!$AA12)*1000","v":8.6140552217646658},{"$f":"('2014'!R12/'2014 Rate'!$AA12)*1000","v":6.8925943428069942},{"$f":"('2014'!S12/'2014 Rate'!$AA12)*1000","v":8.3710254506177009},{"$f":"('2014'!T12/'2014 Rate'!$AA12)*1000","v":2.0927563626544252},{"$f":"('2014'!U12/'2014 Rate'!$AA12)*1000","v":10.342266927698644},{"$f":"('2014'!V12/'2014 Rate'!$AA12)*1000","v":7.3989063660298386},null,null,{"$f":"('2014'!Y12/'2014 Rate'!$AA12)*1000","v":0.81685006413285632},"Dundee City",148130]
[11,"East Ayrshire",null,{"$f":"('2014'!D13/'2014 Rate'!$AA13)*1000","v":-0.73691967575534267},{"$f":"('2014'!E13/'2014 Rate'!$AA13)*1000","v":0.13100794235650537},{"$f":"('2014'!F13/'2014 Rate'!$AA13)*1000","v":-0.62228772619340045},{"$f":"('2014'!G13/'2014 Rate'!$AA13)*1000","v":-0.24563989191844754},{"$f":"('2014'!H13/'2014 Rate'!$AA13)*1000","v":26.602800294767871},{"$f":"('2014'!I13/'2014 Rate'!$AA13)*1000","v":27.339719970523213},{"$f":"('2014'!J13/'2014 Rate'!$AA13)*1000","v":0.35208384508310814},{"$f":"('2014'!K13/'2014 Rate'!$AA13)*1000","v":20.355359043642022},{"$f":"('2014'!L13/'2014 Rate'!$AA13)*1000","v":20.003275198558914},{"$f":"('2014'!M13/'2014 Rate'!$AA13)*1000","v":0.33570785228854499},{"$f":"('2014'!N13/'2014 Rate'!$AA13)*1000","v":5.4777695897813805},{"$f":"('2014'!O13/'2014 Rate'!$AA13)*1000","v":5.1420617374928357},{"$f":"('2014'!P13/'2014 Rate'!$AA13)*1000","v":-1.4247113731269958},{"$f":"('2014'!Q13/'2014 Rate'!$AA13)*1000","v":0.76967166134446896},{"$f":"('2014'!R13/'2014 Rate'!$AA13)*1000","v":2.194383034471465},{"$f":"('2014'!S13/'2014 Rate'!$AA13)*1000","v":0.73691967575534267},{"$f":"('2014'!T13/'2014 Rate'!$AA13)*1000","v":0.36027184148038977},{"$f":"('2014'!U13/'2014 Rate'!$AA13)*1000","v":2.9640546958159337},{"$f":"('2014'!V13/'2014 Rate'!$AA13)*1000","v":1.2937034307704904},null,null,{"$f":"('2014'!Y13/'2014 Rate'!$AA13)*1000","v":0.12281994595922377},"East Ayrshire",122130]
[12,"East Dunbartonshire",null,{"$f":"('2014'!D14/'2014 Rate'!$AA14)*1000","v":8.5184143941523764},{"$f":"('2014'!E14/'2014 Rate'!$AA14)*1000","v":4.6481117046199989},{"$f":"('2014'!F14/'2014 Rate'!$AA14)*1000","v":3.1768344110205229},{"$f":"('2014'!G14/'2014 Rate'!$AA14)*1000","v":0.69346827851185455},{"$f":"('2014'!H14/'2014 Rate'!$AA14)*1000","v":37.925217880236154},{"$f":"('2014'!I14/'2014 Rate'!$AA14)*1000","v":29.406803486083781},{"$f":"('2014'!J14/'2014 Rate'!$AA14)*1000","v":9.9615781088932636},{"$f":"('2014'!K14/'2014 Rate'!$AA14)*1000","v":32.705463405491521},{"$f":"('2014'!L14/'2014 Rate'!$AA14)*1000","v":22.743885296598258},{"$f":"('2014'!M14/'2014 Rate'!$AA14)*1000","v":-0.4310748758316934},{"$f":"('2014'!N14/'2014 Rate'!$AA14)*1000","v":4.2638927935526194},{"$f":"('2014'!O14/'2014 Rate'!$AA14)*1000","v":4.6949676693843125},{"$f":"('2014'!P14/'2014 Rate'!$AA14)*1000","v":-1.0120888389091931},{"$f":"('2014'!Q14/'2014 Rate'!$AA14)*1000","v":0.95586168119201576},{"$f":"('2014'!R14/'2014 Rate'!$AA14)*1000","v":1.9679505201012091},{"$f":"('2014'!S14/'2014 Rate'!$AA14)*1000","v":1.030831224814919},{"$f":"('2014'!T14/'2014 Rate'!$AA14)*1000","v":0.81529378689907228},{"$f":"('2014'!U14/'2014 Rate'!$AA14)*1000","v":11.629650454502858},{"$f":"('2014'!V14/'2014 Rate'!$AA14)*1000","v":3.7484771811451596},null,null,{"$f":"('2014'!Y14/'2014 Rate'!$AA14)*1000","v":0.50604441945459655},"East Dunbartonshire",106710]
[13,"East Lothian",null,{"$f":"('2014'!D15/'2014 Rate'!$AA15)*1000","v":6.9742384170829661},{"$f":"('2014'!E15/'2014 Rate'!$AA15)*1000","v":2.4390243902439024},{"$f":"('2014'!F15/'2014 Rate'!$AA15)*1000","v":3.6634342247036931},{"$f":"('2014'!G15/'2014 Rate'!$AA15)*1000","v":0.87177980213537076},{"$f":"('2014'!H15/'2014 Rate'!$AA15)*1000","v":40.503477323929864},{"$f":"('2014'!I15/'2014 Rate'!$AA15)*1000","v":33.529238906846899},{"$f":"('2014'!J15/'2014 Rate'!$AA15)*1000","v":5.4755607797041819},{"$f":"('2014'!K15/'2014 Rate'!$AA15)*1000","v":29.944166911548631},{"$f":"('2014'!L15/'2014 Rate'!$AA15)*1000","v":24.468606131844453},{"$f":"('2014'!M15/'2014 Rate'!$AA15)*1000","v":1.1950239984327555},{"$f":"('2014'!N15/'2014 Rate'!$AA15)*1000","v":7.2191203839749241},{"$f":"('2014'!O15/'2014 Rate'!$AA15)*1000","v":6.024096385542169},{"$f":"('2014'!P15/'2014 Rate'!$AA15)*1000","v":0.30365363894602798},{"$f":"('2014'!Q15/'2014 Rate'!$AA15)*1000","v":3.3401900284063077},{"$f":"('2014'!R15/'2014 Rate'!$AA15)*1000","v":3.0365363894602804},{"$f":"('2014'!S15/'2014 Rate'!$AA15)*1000","v":4.407875404055245},{"$f":"('2014'!T15/'2014 Rate'!$AA15)*1000","v":1.2342051131354685},{"$f":"('2014'!U15/'2014 Rate'!$AA15)*1000","v":3.6732295033793712},{"$f":"('2014'!V15/'2014 Rate'!$AA15)*1000","v":2.5761582917033992},null,null,{"$f":"('2014'!Y15/'2014 Rate'!$AA15)*1000","v":0.26447252424331474},"East Lothian",102090]
[14,"East Renfrewshire",null,{"$f":"('2014'!D16/'2014 Rate'!$AA16)*1000","v":9.6309923168488272},{"$f":"('2014'!E16/'2014 Rate'!$AA16)*1000","v":6.87155069797641},{"$f":"('2014'!F16/'2014 Rate'!$AA16)*1000","v":2.4889081268261011},{"$f":"('2014'!G16/'2014 Rate'!$AA16)*1000","v":0.27053349204631538},{"$f":"('2014'!H16/'2014 Rate'!$AA16)*1000","v":41.369981603722543},{"$f":"('2014'!I16/'2014 Rate'!$AA16)*1000","v":31.738989286873714},{"$f":"('2014'!J16/'2014 Rate'!$AA16)*1000","v":10.150416621577751},{"$f":"('2014'!K16/'2014 Rate'!$AA16)*1000","v":35.613028892976949},{"$f":"('2014'!L16/'2014 Rate'!$AA16)*1000","v":25.462612271399202},{"$f":"('2014'!M16/'2014 Rate'!$AA16)*1000","v":5.410669840926307E-2},{"$f":"('2014'!N16/'2014 Rate'!$AA16)*1000","v":4.4042852505140138},{"$f":"('2014'!O16/'2014 Rate'!$AA16)*1000","v":4.3501785521047509},{"$f":"('2014'!P16/'2014 Rate'!$AA16)*1000","v":-0.57353100313818861},{"$f":"('2014'!Q16/'2014 Rate'!$AA16)*1000","v":1.3526674602315767},{"$f":"('2014'!R16/'2014 Rate'!$AA16)*1000","v":1.9261984633697651},{"$f":"('2014'!S16/'2014 Rate'!$AA16)*1000","v":1.2985607618223136},{"$f":"('2014'!T16/'2014 Rate'!$AA16)*1000","v":0.84406449518450377},{"$f":"('2014'!U16/'2014 Rate'!$AA16)*1000","v":28.3627313061357},{"$f":"('2014'!V16/'2014 Rate'!$AA16)*1000","v":8.9925332756195218},null,null,{"$f":"('2014'!Y16/'2014 Rate'!$AA16)*1000","v":0.66010172059300942},"East Renfrewshire",92410]
[15,"Falkirk",null,{"$f":"('2014'!D17/'2014 Rate'!$AA17)*1000","v":2.6317458304267869},{"$f":"('2014'!E17/'2014 Rate'!$AA17)*1000","v":0.52000760986746153},{"$f":"('2014'!F17/'2014 Rate'!$AA17)*1000","v":2.0166148772908872},{"$f":"('2014'!G17/'2014 Rate'!$AA17)*1000","v":9.5123343268438076E-2},{"$f":"('2014'!H17/'2014 Rate'!$AA17)*1000","v":26.463314097279472},{"$f":"('2014'!I17/'2014 Rate'!$AA17)*1000","v":23.831568266852688},{"$f":"('2014'!J17/'2014 Rate'!$AA17)*1000","v":1.09074766947809},{"$f":"('2014'!K17/'2014 Rate'!$AA17)*1000","v":19.373454245671887},{"$f":"('2014'!L17/'2014 Rate'!$AA17)*1000","v":18.282706576193796},{"$f":"('2014'!M17/'2014 Rate'!$AA17)*1000","v":1.4458748176802587},{"$f":"('2014'!N17/'2014 Rate'!$AA17)*1000","v":5.0161709683556346},{"$f":"('2014'!O17/'2014 Rate'!$AA17)*1000","v":3.5702961506753756},{"$f":"('2014'!P17/'2014 Rate'!$AA17)*1000","v":9.5123343268438076E-2},{"$f":"('2014'!Q17/'2014 Rate'!$AA17)*1000","v":2.07368888325195},{"$f":"('2014'!R17/'2014 Rate'!$AA17)*1000","v":1.9785655399835123},{"$f":"('2014'!S17/'2014 Rate'!$AA17)*1000","v":2.6000380493373076},{"$f":"('2014'!T17/'2014 Rate'!$AA17)*1000","v":1.0400152197349231},{"$f":"('2014'!U17/'2014 Rate'!$AA17)*1000","v":4.5912867017566112},{"$f":"('2014'!V17/'2014 Rate'!$AA17)*1000","v":3.6844441625975013},null,null,{"$f":"('2014'!Y17/'2014 Rate'!$AA17)*1000","v":0.30439469845900186},"Falkirk",157690]
[16,"Fife",null,{"$f":"('2014'!D18/'2014 Rate'!$AA18)*1000","v":1.7699115044247788},{"$f":"('2014'!E18/'2014 Rate'!$AA18)*1000","v":0.27501701837985021},{"$f":"('2014'!F18/'2014 Rate'!$AA18)*1000","v":0.98842750170183791},{"$f":"('2014'!G18/'2014 Rate'!$AA18)*1000","v":0.50646698434309056},{"$f":"('2014'!H18/'2014 Rate'!$AA18)*1000","v":29.66371681415929},{"$f":"('2014'!I18/'2014 Rate'!$AA18)*1000","v":27.893805309734514},{"$f":"('2014'!J18/'2014 Rate'!$AA18)*1000","v":-0.23961878829135466},{"$f":"('2014'!K18/'2014 Rate'!$AA18)*1000","v":16.435670524166099},{"$f":"('2014'!L18/'2014 Rate'!$AA18)*1000","v":16.675289312457455},{"$f":"('2014'!M18/'2014 Rate'!$AA18)*1000","v":1.7127297481279782},{"$f":"('2014'!N18/'2014 Rate'!$AA18)*1000","v":8.7923757658270922},{"$f":"('2014'!O18/'2014 Rate'!$AA18)*1000","v":7.0796460176991154},{"$f":"('2014'!P18/'2014 Rate'!$AA18)*1000","v":0.29680054458815525},{"$f":"('2014'!Q18/'2014 Rate'!$AA18)*1000","v":4.4356705241660999},{"$f":"('2014'!R18/'2014 Rate'!$AA18)*1000","v":4.1388699795779438},{"$f":"('2014'!S18/'2014 Rate'!$AA18)*1000","v":6.6712049012933967},{"$f":"('2014'!T18/'2014 Rate'!$AA18)*1000","v":1.1109598366235536},{"$f":"('2014'!U18/'2014 Rate'!$AA18)*1000","v":4.269571136827774},{"$f":"('2014'!V18/'2014 Rate'!$AA18)*1000","v":2.7338325391422735},null,null,{"$f":"('2014'!Y18/'2014 Rate'!$AA18)*1000","v":0.39482641252552753},"Fife",367250]
[17,"Glasgow City",null,{"$f":"('2014'!D19/'2014 Rate'!$AA19)*1000","v":3.4137148956040293},{"$f":"('2014'!E19/'2014 Rate'!$AA19)*1000","v":-1.6693349342939099},{"$f":"('2014'!F19/'2014 Rate'!$AA19)*1000","v":5.5083049829897943},{"$f":"('2014'!G19/'2014 Rate'!$AA19)*1000","v":-0.42525515309185508},{"$f":"('2014'!H19/'2014 Rate'!$AA19)*1000","v":50.550330198118871},{"$f":"('2014'!I19/'2014 Rate'!$AA19)*1000","v":47.136615302514841},{"$f":"('2014'!J19/'2014 Rate'!$AA19)*1000","v":-4.471015942899073},{"$f":"('2014'!K19/'2014 Rate'!$AA19)*1000","v":24.981655660062703},{"$f":"('2014'!L19/'2014 Rate'!$AA19)*1000","v":29.452671602961779},{"$f":"('2014'!M19/'2014 Rate'!$AA19)*1000","v":1.220732439463678},{"$f":"('2014'!N19/'2014 Rate'!$AA19)*1000","v":10.731438863317992},{"$f":"('2014'!O19/'2014 Rate'!$AA19)*1000","v":9.5107064238543124},{"$f":"('2014'!P19/'2014 Rate'!$AA19)*1000","v":6.663998399039424},{"$f":"('2014'!Q19/'2014 Rate'!$AA19)*1000","v":14.837235674738176},{"$f":"('2014'!R19/'2014 Rate'!$AA19)*1000","v":8.1732372756987512},{"$f":"('2014'!S19/'2014 Rate'!$AA19)*1000","v":14.008405043025816},{"$f":"('2014'!T19/'2014 Rate'!$AA19)*1000","v":3.3970382229337601},{"$f":"('2014'!U19/'2014 Rate'!$AA19)*1000","v":20.932559535721431},{"$f":"('2014'!V19/'2014 Rate'!$AA19)*1000","v":18.661196718030816},null,null,{"$f":"('2014'!Y19/'2014 Rate'!$AA19)*1000","v":1.5259155493295977},"Glasgow City",599640]
[18,"Highland",null,{"$f":"('2014'!D20/'2014 Rate'!$AA20)*1000","v":1.0253990046336023},{"$f":"('2014'!E20/'2014 Rate'!$AA20)*1000","v":0.47623133688004121},{"$f":"('2014'!F20/'2014 Rate'!$AA20)*1000","v":0.73794405354384751},{"$f":"('2014'!G20/'2014 Rate'!$AA20)*1000","v":-0.1887763857902866},{"$f":"('2014'!H20/'2014 Rate'!$AA20)*1000","v":31.075167324523768},{"$f":"('2014'!I20/'2014 Rate'!$AA20)*1000","v":30.049768319890166},{"$f":"('2014'!J20/'2014 Rate'!$AA20)*1000","v":-1.759052685773125},{"$f":"('2014'!K20/'2014 Rate'!$AA20)*1000","v":17.410331216749611},{"$f":"('2014'!L20/'2014 Rate'!$AA20)*1000","v":19.169383902522739},{"$f":"('2014'!M20/'2014 Rate'!$AA20)*1000","v":3.1620044619873005},{"$f":"('2014'!N20/'2014 Rate'!$AA20)*1000","v":10.580058349064698},{"$f":"('2014'!O20/'2014 Rate'!$AA20)*1000","v":7.4180538870773987},{"$f":"('2014'!P20/'2014 Rate'!$AA20)*1000","v":-0.37755277158057321},{"$f":"('2014'!Q20/'2014 Rate'!$AA20)*1000","v":3.084777758709456},{"$f":"('2014'!R20/'2014 Rate'!$AA20)*1000","v":3.4623305302900294},{"$f":"('2014'!S20/'2014 Rate'!$AA20)*1000","v":6.8645958469195119},{"$f":"('2014'!T20/'2014 Rate'!$AA20)*1000","v":1.4458555002574223},{"$f":"('2014'!U20/'2014 Rate'!$AA20)*1000","v":3.1662948343916253},{"$f":"('2014'!V20/'2014 Rate'!$AA20)*1000","v":4.1874034666209026},null,null,{"$f":"('2014'!Y20/'2014 Rate'!$AA20)*1000","v":0.32177793032435215},"Highland",233080]
[19,"Inverclyde",null,{"$f":"('2014'!D21/'2014 Rate'!$AA21)*1000","v":-3.3796470146451369},{"$f":"('2014'!E21/'2014 Rate'!$AA21)*1000","v":-3.7551633496057078E-2},{"$f":"('2014'!F21/'2014 Rate'!$AA21)*1000","v":-2.9540618350231571},{"$f":"('2014'!G21/'2014 Rate'!$AA21)*1000","v":-0.38803354612592317},{"$f":"('2014'!H21/'2014 Rate'!$AA21)*1000","v":17.223682563524847},{"$f":"('2014'!I21/'2014 Rate'!$AA21)*1000","v":20.603329578169983},{"$f":"('2014'!J21/'2014 Rate'!$AA21)*1000","v":-3.5924396044561271},{"$f":"('2014'!K21/'2014 Rate'!$AA21)*1000","v":11.753661284265867},{"$f":"('2014'!L21/'2014 Rate'!$AA21)*1000","v":15.346100888721994},{"$f":"('2014'!M21/'2014 Rate'!$AA21)*1000","v":1.0013768932281888},{"$f":"('2014'!N21/'2014 Rate'!$AA21)*1000","v":4.5938164976843163},{"$f":"('2014'!O21/'2014 Rate'!$AA21)*1000","v":3.5924396044561271},{"$f":"('2014'!P21/'2014 Rate'!$AA21)*1000","v":-0.78858430341719865},{"$f":"('2014'!Q21/'2014 Rate'!$AA21)*1000","v":0.87620478157466508},{"$f":"('2014'!R21/'2014 Rate'!$AA21)*1000","v":1.6647890849918638},{"$f":"('2014'!S21/'2014 Rate'!$AA21)*1000","v":1.1265490048817124},{"$f":"('2014'!T21/'2014 Rate'!$AA21)*1000","v":0.35048191262986605},{"$f":"('2014'!U21/'2014 Rate'!$AA21)*1000","v":2.365752910251596},{"$f":"('2014'!V21/'2014 Rate'!$AA21)*1000","v":0.55075729127550388},null,null,{"$f":"('2014'!Y21/'2014 Rate'!$AA21)*1000","v":0.21279258981099011},"Inverclyde",79890]
[20,"Midlothian",null,{"$f":"('2014'!D22/'2014 Rate'!$AA22)*1000","v":11.830201809324983},{"$f":"('2014'!E22/'2014 Rate'!$AA22)*1000","v":3.1895151936905592},{"$f":"('2014'!F22/'2014 Rate'!$AA22)*1000","v":8.7334725121781496},{"$f":"('2014'!G22/'2014 Rate'!$AA22)*1000","v":-9.2785896543725349E-2},{"$f":"('2014'!H22/'2014 Rate'!$AA22)*1000","v":40.906982138714916},{"$f":"('2014'!I22/'2014 Rate'!$AA22)*1000","v":29.076780329389933},{"$f":"('2014'!J22/'2014 Rate'!$AA22)*1000","v":10.983530503363488},{"$f":"('2014'!K22/'2014 Rate'!$AA22)*1000","v":33.240547436789605},{"$f":"('2014'!L22/'2014 Rate'!$AA22)*1000","v":22.257016933426119},{"$f":"('2014'!M22/'2014 Rate'!$AA22)*1000","v":1.3106007886801208},{"$f":"('2014'!N22/'2014 Rate'!$AA22)*1000","v":5.9382973787984223},{"$f":"('2014'!O22/'2014 Rate'!$AA22)*1000","v":4.627696590118302},{"$f":"('2014'!P22/'2014 Rate'!$AA22)*1000","v":-0.46392948271862677},{"$f":"('2014'!Q22/'2014 Rate'!$AA22)*1000","v":1.7281373231268846},{"$f":"('2014'!R22/'2014 Rate'!$AA22)*1000","v":2.1920668058455113},{"$f":"('2014'!S22/'2014 Rate'!$AA22)*1000","v":3.015541637671074},{"$f":"('2014'!T22/'2014 Rate'!$AA22)*1000","v":1.1482254697286012},{"$f":"('2014'!U22/'2014 Rate'!$AA22)*1000","v":4.7088842495940613},{"$f":"('2014'!V22/'2014 Rate'!$AA22)*1000","v":3.0851310600788682},null,null,{"$f":"('2014'!Y22/'2014 Rate'!$AA22)*1000","v":0.57991185339828344},"Midlothian",86220]
[21,"Moray",null,{"$f":"('2014'!D23/'2014 Rate'!$AA23)*1000","v":4.9277197425345571},{"$f":"('2014'!E23/'2014 Rate'!$AA23)*1000","v":1.7094017094017093},{"$f":"('2014'!F23/'2014 Rate'!$AA23)*1000","v":2.0892687559354228},{"$f":"('2014'!G23/'2014 Rate'!$AA23)*1000","v":1.1290492771974254},{"$f":"('2014'!H23/'2014 Rate'!$AA23)*1000","v":36.709929302521893},{"$f":"('2014'!I23/'2014 Rate'!$AA23)*1000","v":31.78220955998734},{"$f":"('2014'!J23/'2014 Rate'!$AA23)*1000","v":1.941542682283423},{"$f":"('2014'!K23/'2014 Rate'!$AA23)*1000","v":20.059090429460799},{"$f":"('2014'!L23/'2014 Rate'!$AA23)*1000","v":18.117547747177376},{"$f":"('2014'!M23/'2014 Rate'!$AA23)*1000","v":3.4293552812071328},{"$f":"('2014'!N23/'2014 Rate'!$AA23)*1000","v":13.675213675213675},{"$f":"('2014'!O23/'2014 Rate'!$AA23)*1000","v":10.245858394006543},{"$f":"('2014'!P23/'2014 Rate'!$AA23)*1000","v":-0.44317822095599874},{"$f":"('2014'!Q23/'2014 Rate'!$AA23)*1000","v":2.9756251978474202},{"$f":"('2014'!R23/'2014 Rate'!$AA23)*1000","v":3.4188034188034186},{"$f":"('2014'!S23/'2014 Rate'!$AA23)*1000","v":3.2710773451514195},{"$f":"('2014'!T23/'2014 Rate'!$AA23)*1000","v":1.1290492771974254},{"$f":"('2014'!U23/'2014 Rate'!$AA23)*1000","v":3.0705919594808484},{"$f":"('2014'!V23/'2014 Rate'!$AA23)*1000","v":4.0202595758151318},null,null,{"$f":"('2014'!Y23/'2014 Rate'!$AA23)*1000","v":0.30600400970771341},"Moray",94770]
[22,"Na h-Eileanan Siar",null,{"$f":"('2014'!D24/'2014 Rate'!$AA24)*1000","v":-3.2293577981651378},{"$f":"('2014'!E24/'2014 Rate'!$AA24)*1000","v":0},{"$f":"('2014'!F24/'2014 Rate'!$AA24)*1000","v":-3.3027522935779818},{"$f":"('2014'!G24/'2014 Rate'!$AA24)*1000","v":7.3394495412844027E-2},{"$f":"('2014'!H24/'2014 Rate'!$AA24)*1000","v":30.018348623853214},{"$f":"('2014'!I24/'2014 Rate'!$AA24)*1000","v":33.247706422018346},{"$f":"('2014'!J24/'2014 Rate'!$AA24)*1000","v":-2.2018348623853212},{"$f":"('2014'!K24/'2014 Rate'!$AA24)*1000","v":20.440366972477065},{"$f":"('2014'!L24/'2014 Rate'!$AA24)*1000","v":22.642201834862384},{"$f":"('2014'!M24/'2014 Rate'!$AA24)*1000","v":0.73394495412844041},{"$f":"('2014'!N24/'2014 Rate'!$AA24)*1000","v":8.4036697247706424},{"$f":"('2014'!O24/'2014 Rate'!$AA24)*1000","v":7.669724770642202},{"$f":"('2014'!P24/'2014 Rate'!$AA24)*1000","v":-1.761467889908257},{"$f":"('2014'!Q24/'2014 Rate'!$AA24)*1000","v":1.1743119266055044},{"$f":"('2014'!R24/'2014 Rate'!$AA24)*1000","v":2.9357798165137616},{"$f":"('2014'!S24/'2014 Rate'!$AA24)*1000","v":2.2018348623853212},{"$f":"('2014'!T24/'2014 Rate'!$AA24)*1000","v":0.62385321100917424},{"$f":"('2014'!U24/'2014 Rate'!$AA24)*1000","v":2.2752293577981648},{"$f":"('2014'!V24/'2014 Rate'!$AA24)*1000","v":1.9816513761467891},null,null,{"$f":"('2014'!Y24/'2014 Rate'!$AA24)*1000","v":0.33027522935779813},"Na h-Eileanan Siar",27250]
[23,"North Ayrshire",null,{"$f":"('2014'!D25/'2014 Rate'!$AA25)*1000","v":-1.003810082063306},{"$f":"('2014'!E25/'2014 Rate'!$AA25)*1000","v":0.66676436107854631},{"$f":"('2014'!F25/'2014 Rate'!$AA25)*1000","v":-1.9856389214536929},{"$f":"('2014'!G25/'2014 Rate'!$AA25)*1000","v":0.31506447831184053},{"$f":"('2014'!H25/'2014 Rate'!$AA25)*1000","v":26.011137162954277},{"$f":"('2014'!I25/'2014 Rate'!$AA25)*1000","v":27.014947245017584},{"$f":"('2014'!J25/'2014 Rate'!$AA25)*1000","v":-1.5386869871043376},{"$f":"('2014'!K25/'2014 Rate'!$AA25)*1000","v":18.588804220398593},{"$f":"('2014'!L25/'2014 Rate'!$AA25)*1000","v":20.127491207502931},{"$f":"('2014'!M25/'2014 Rate'!$AA25)*1000","v":1.7658264947245017},{"$f":"('2014'!N25/'2014 Rate'!$AA25)*1000","v":6.425849941383353},{"$f":"('2014'!O25/'2014 Rate'!$AA25)*1000","v":4.6600234466588519},{"$f":"('2014'!P25/'2014 Rate'!$AA25)*1000","v":-1.2309495896834701},{"$f":"('2014'!Q25/'2014 Rate'!$AA25)*1000","v":0.99648300117233291},{"$f":"('2014'!R25/'2014 Rate'!$AA25)*1000","v":2.2274325908558033},{"$f":"('2014'!S25/'2014 Rate'!$AA25)*1000","v":0.95252051582649466},{"$f":"('2014'!T25/'2014 Rate'!$AA25)*1000","v":0.41031652989449002},{"$f":"('2014'!U25/'2014 Rate'!$AA25)*1000","v":2.3959554513481827},{"$f":"('2014'!V25/'2014 Rate'!$AA25)*1000","v":0.85726846424384529},null,null,{"$f":"('2014'!Y25/'2014 Rate'!$AA25)*1000","v":0.15386869871043377},"North Ayrshire",136480]
[24,"North Lanarkshire",null,{"$f":"('2014'!D26/'2014 Rate'!$AA26)*1000","v":-0.25443786982248517},{"$f":"('2014'!E26/'2014 Rate'!$AA26)*1000","v":0.23964497041420119},{"$f":"('2014'!F26/'2014 Rate'!$AA26)*1000","v":-0.40828402366863908},{"$f":"('2014'!G26/'2014 Rate'!$AA26)*1000","v":-8.5798816568047331E-2},{"$f":"('2014'!H26/'2014 Rate'!$AA26)*1000","v":20.473372781065088},{"$f":"('2014'!I26/'2014 Rate'!$AA26)*1000","v":20.727810650887573},{"$f":"('2014'!J26/'2014 Rate'!$AA26)*1000","v":-0.53550295857988173},{"$f":"('2014'!K26/'2014 Rate'!$AA26)*1000","v":15.337278106508876},{"$f":"('2014'!L26/'2014 Rate'!$AA26)*1000","v":15.872781065088756},{"$f":"('2014'!M26/'2014 Rate'!$AA26)*1000","v":0.76923076923076927},{"$f":"('2014'!N26/'2014 Rate'!$AA26)*1000","v":3.6863905325443787},{"$f":"('2014'!O26/'2014 Rate'!$AA26)*1000","v":2.9171597633136095},{"$f":"('2014'!P26/'2014 Rate'!$AA26)*1000","v":-0.48816568047337278},{"$f":"('2014'!Q26/'2014 Rate'!$AA26)*1000","v":1.4497041420118344},{"$f":"('2014'!R26/'2014 Rate'!$AA26)*1000","v":1.9378698224852071},{"$f":"('2014'!S26/'2014 Rate'!$AA26)*1000","v":2.3372781065088759},{"$f":"('2014'!T26/'2014 Rate'!$AA26)*1000","v":0.80769230769230771},{"$f":"('2014'!U26/'2014 Rate'!$AA26)*1000","v":5.3106508875739644},{"$f":"('2014'!V26/'2014 Rate'!$AA26)*1000","v":3.3165680473372778},null,null,{"$f":"('2014'!Y26/'2014 Rate'!$AA26)*1000","v":0.23668639053254437},"North Lanarkshire",338000]
[25,"Orkney Islands",null,{"$f":"('2014'!D27/'2014 Rate'!$AA27)*1000","v":3.1047265987025026},{"$f":"('2014'!E27/'2014 Rate'!$AA27)*1000","v":2.0389249304911954},{"$f":"('2014'!F27/'2014 Rate'!$AA27)*1000","v":0.64874884151992585},{"$f":"('2014'!G27/'2014 Rate'!$AA27)*1000","v":0.41705282669138088},{"$f":"('2014'!H27/'2014 Rate'!$AA27)*1000","v":34.61538461538462},{"$f":"('2014'!I27/'2014 Rate'!$AA27)*1000","v":31.510658016682111},{"$f":"('2014'!J27/'2014 Rate'!$AA27)*1000","v":-1.8999073215940685},{"$f":"('2014'!K27/'2014 Rate'!$AA27)*1000","v":17.516218721037998},{"$f":"('2014'!L27/'2014 Rate'!$AA27)*1000","v":19.416126042632065},{"$f":"('2014'!M27/'2014 Rate'!$AA27)*1000","v":5.7460611677479143},{"$f":"('2014'!N27/'2014 Rate'!$AA27)*1000","v":14.68952734012975},{"$f":"('2014'!O27/'2014 Rate'!$AA27)*1000","v":8.9434661723818358},{"$f":"('2014'!P27/'2014 Rate'!$AA27)*1000","v":-0.74142724745134381},{"$f":"('2014'!Q27/'2014 Rate'!$AA27)*1000","v":2.4096385542168677},{"$f":"('2014'!R27/'2014 Rate'!$AA27)*1000","v":3.1510658016682114},{"$f":"('2014'!S27/'2014 Rate'!$AA27)*1000","v":2.3169601482854492},{"$f":"('2014'!T27/'2014 Rate'!$AA27)*1000","v":0.50973123262279885},{"$f":"('2014'!U27/'2014 Rate'!$AA27)*1000","v":1.9462465245597775},{"$f":"('2014'!V27/'2014 Rate'!$AA27)*1000","v":0.64874884151992585},null,null,{"$f":"('2014'!Y27/'2014 Rate'!$AA27)*1000","v":0.23169601482854496},"Orkney Islands",21580]
[26,"Perth and Kinross",null,{"$f":"('2014'!D28/'2014 Rate'!$AA28)*1000","v":9.4473913919290951},{"$f":"('2014'!E28/'2014 Rate'!$AA28)*1000","v":2.8469750889679717},{"$f":"('2014'!F28/'2014 Rate'!$AA28)*1000","v":6.3452628751762568},{"$f":"('2014'!G28/'2014 Rate'!$AA28)*1000","v":0.25515342778486533},{"$f":"('2014'!H28/'2014 Rate'!$AA28)*1000","v":45.383737326260658},{"$f":"('2014'!I28/'2014 Rate'!$AA28)*1000","v":35.936345934331563},{"$f":"('2014'!J28/'2014 Rate'!$AA28)*1000","v":4.116027664003223},{"$f":"('2014'!K28/'2014 Rate'!$AA28)*1000","v":27.784865372994023},{"$f":"('2014'!L28/'2014 Rate'!$AA28)*1000","v":23.6688377089908},{"$f":"('2014'!M28/'2014 Rate'!$AA28)*1000","v":2.1956623917276574},{"$f":"('2014'!N28/'2014 Rate'!$AA28)*1000","v":9.2660981669240581},{"$f":"('2014'!O28/'2014 Rate'!$AA28)*1000","v":7.0704357751964011},{"$f":"('2014'!P28/'2014 Rate'!$AA28)*1000","v":3.1357013361982142},{"$f":"('2014'!Q28/'2014 Rate'!$AA28)*1000","v":8.3327737863425781},{"$f":"('2014'!R28/'2014 Rate'!$AA28)*1000","v":5.197072450144363},{"$f":"('2014'!S28/'2014 Rate'!$AA28)*1000","v":16.517827167125496},{"$f":"('2014'!T28/'2014 Rate'!$AA28)*1000","v":1.5644933861545691},{"$f":"('2014'!U28/'2014 Rate'!$AA28)*1000","v":3.8407305445511315},{"$f":"('2014'!V28/'2014 Rate'!$AA28)*1000","v":4.2301752501175045},null,null,{"$f":"('2014'!Y28/'2014 Rate'!$AA28)*1000","v":0.36258645001007184},"Perth & Kinross",148930]
[27,"Renfrewshire",null,{"$f":"('2014'!D29/'2014 Rate'!$AA29)*1000","v":2.1351087642771049},{"$f":"('2014'!E29/'2014 Rate'!$AA29)*1000","v":0.29845606382368134},{"$f":"('2014'!F29/'2014 Rate'!$AA29)*1000","v":1.457843080984905},{"$f":"('2014'!G29/'2014 Rate'!$AA29)*1000","v":0.3788096194685186},{"$f":"('2014'!H29/'2014 Rate'!$AA29)*1000","v":28.85840555587442},{"$f":"('2014'!I29/'2014 Rate'!$AA29)*1000","v":26.723296791597313},{"$f":"('2014'!J29/'2014 Rate'!$AA29)*1000","v":2.1867646214773573},{"$f":"('2014'!K29/'2014 Rate'!$AA29)*1000","v":22.355507088331517},{"$f":"('2014'!L29/'2014 Rate'!$AA29)*1000","v":20.168742466854159},{"$f":"('2014'!M29/'2014 Rate'!$AA29)*1000","v":-5.7395396889169488E-3},{"$f":"('2014'!N29/'2014 Rate'!$AA29)*1000","v":4.0291568616196987},{"$f":"('2014'!O29/'2014 Rate'!$AA29)*1000","v":4.0348964013086155},{"$f":"('2014'!P29/'2014 Rate'!$AA29)*1000","v":-4.591631751133559E-2},{"$f":"('2014'!Q29/'2014 Rate'!$AA29)*1000","v":2.4737416059232049},{"$f":"('2014'!R29/'2014 Rate'!$AA29)*1000","v":2.5196579234345404},{"$f":"('2014'!S29/'2014 Rate'!$AA29)*1000","v":3.8454915915743557},{"$f":"('2014'!T29/'2014 Rate'!$AA29)*1000","v":1.0675543821385525},{"$f":"('2014'!U29/'2014 Rate'!$AA29)*1000","v":5.1139298628250014},{"$f":"('2014'!V29/'2014 Rate'!$AA29)*1000","v":2.7549790506801353},null,null,{"$f":"('2014'!Y29/'2014 Rate'!$AA29)*1000","v":0.43046547666877116},"Renfrewshire",174230]
[28,"Scottish Borders",null,{"$f":"('2014'!D30/'2014 Rate'!$AA30)*1000","v":2.4552788495264819},{"$f":"('2014'!E30/'2014 Rate'!$AA30)*1000","v":1.5082427218519818},{"$f":"('2014'!F30/'2014 Rate'!$AA30)*1000","v":1.5170115748860049},{"$f":"('2014'!G30/'2014 Rate'!$AA30)*1000","v":-0.56997544721150473},{"$f":"('2014'!H30/'2014 Rate'!$AA30)*1000","v":36.794107330761136},{"$f":"('2014'!I30/'2014 Rate'!$AA30)*1000","v":34.33882848123465},{"$f":"('2014'!J30/'2014 Rate'!$AA30)*1000","v":0.58751315327955111},{"$f":"('2014'!K30/'2014 Rate'!$AA30)*1000","v":20.29989477376359},{"$f":"('2014'!L30/'2014 Rate'!$AA30)*1000","v":19.712381620484042},{"$f":"('2014'!M30/'2014 Rate'!$AA30)*1000","v":3.3847772711329358},{"$f":"('2014'!N30/'2014 Rate'!$AA30)*1000","v":14.012627148368994},{"$f":"('2014'!O30/'2014 Rate'!$AA30)*1000","v":10.627849877236057},{"$f":"('2014'!P30/'2014 Rate'!$AA30)*1000","v":-1.5170115748860049},{"$f":"('2014'!Q30/'2014 Rate'!$AA30)*1000","v":2.4815854086285514},{"$f":"('2014'!R30/'2014 Rate'!$AA30)*1000","v":3.9985969835145565},{"$f":"('2014'!S30/'2014 Rate'!$AA30)*1000","v":3.1567870922483339},{"$f":"('2014'!T30/'2014 Rate'!$AA30)*1000","v":1.061031217116801},{"$f":"('2014'!U30/'2014 Rate'!$AA30)*1000","v":2.8235706769554545},{"$f":"('2014'!V30/'2014 Rate'!$AA30)*1000","v":3.4549280954051214},null,null,{"$f":"('2014'!Y30/'2014 Rate'!$AA30)*1000","v":0.23675903191862505},"Scottish Borders",114040]
[29,"Shetland Islands",null,{"$f":"('2014'!D31/'2014 Rate'!$AA31)*1000","v":-0.2153316106804479},{"$f":"('2014'!E31/'2014 Rate'!$AA31)*1000","v":0.1722652885443583},{"$f":"('2014'!F31/'2014 Rate'!$AA31)*1000","v":-4.3066322136089574E-2},{"$f":"('2014'!G31/'2014 Rate'!$AA31)*1000","v":-0.34453057708871659},{"$f":"('2014'!H31/'2014 Rate'!$AA31)*1000","v":29.026701119724375},{"$f":"('2014'!I31/'2014 Rate'!$AA31)*1000","v":29.242032730404823},{"$f":"('2014'!J31/'2014 Rate'!$AA31)*1000","v":-1.2919896640826873},{"$f":"('2014'!K31/'2014 Rate'!$AA31)*1000","v":15.374677002583979},{"$f":"('2014'!L31/'2014 Rate'!$AA31)*1000","v":16.666666666666668},{"$f":"('2014'!M31/'2014 Rate'!$AA31)*1000","v":2.7562446167097328},{"$f":"('2014'!N31/'2014 Rate'!$AA31)*1000","v":11.455641688199828},{"$f":"('2014'!O31/'2014 Rate'!$AA31)*1000","v":8.699397071490095},{"$f":"('2014'!P31/'2014 Rate'!$AA31)*1000","v":-1.6795865633074936},{"$f":"('2014'!Q31/'2014 Rate'!$AA31)*1000","v":2.1963824289405687},{"$f":"('2014'!R31/'2014 Rate'!$AA31)*1000","v":3.8759689922480618},{"$f":"('2014'!S31/'2014 Rate'!$AA31)*1000","v":23.255813953488371},{"$f":"('2014'!T31/'2014 Rate'!$AA31)*1000","v":1.2058570198105081},{"$f":"('2014'!U31/'2014 Rate'!$AA31)*1000","v":3.789836347975883},{"$f":"('2014'!V31/'2014 Rate'!$AA31)*1000","v":2.1102497846683894},null,null,{"$f":"('2014'!Y31/'2014 Rate'!$AA31)*1000","v":0.38759689922480622},"Shetland Islands",23220]
[30,"South Ayrshire",null,{"$f":"('2014'!D32/'2014 Rate'!$AA32)*1000","v":0.91531147249622324},{"$f":"('2014'!E32/'2014 Rate'!$AA32)*1000","v":0.76424064693859417},{"$f":"('2014'!F32/'2014 Rate'!$AA32)*1000","v":-0.76424064693859417},{"$f":"('2014'!G32/'2014 Rate'!$AA32)*1000","v":0.91531147249622324},{"$f":"('2014'!H32/'2014 Rate'!$AA32)*1000","v":30.489647205189726},{"$f":"('2014'!I32/'2014 Rate'!$AA32)*1000","v":29.574335732693502},{"$f":"('2014'!J32/'2014 Rate'!$AA32)*1000","v":0.88865191504487695},{"$f":"('2014'!K32/'2014 Rate'!$AA32)*1000","v":22.011907935661601},{"$f":"('2014'!L32/'2014 Rate'!$AA32)*1000","v":21.123256020616722},{"$f":"('2014'!M32/'2014 Rate'!$AA32)*1000","v":1.5018217364258419},{"$f":"('2014'!N32/'2014 Rate'!$AA32)*1000","v":7.00257709055363},{"$f":"('2014'!O32/'2014 Rate'!$AA32)*1000","v":5.5007553541277883},{"$f":"('2014'!P32/'2014 Rate'!$AA32)*1000","v":-1.4751621789744958},{"$f":"('2014'!Q32/'2014 Rate'!$AA32)*1000","v":1.4751621789744958},{"$f":"('2014'!R32/'2014 Rate'!$AA32)*1000","v":2.9503243579489915},{"$f":"('2014'!S32/'2014 Rate'!$AA32)*1000","v":2.1327645961077044},{"$f":"('2014'!T32/'2014 Rate'!$AA32)*1000","v":0.52430462987647741},{"$f":"('2014'!U32/'2014 Rate'!$AA32)*1000","v":2.5504309961787968},{"$f":"('2014'!V32/'2014 Rate'!$AA32)*1000","v":1.5462543321780857},null,null,{"$f":"('2014'!Y32/'2014 Rate'!$AA32)*1000","v":0.31102817026570695},"South Ayrshire",112530]
[31,"South Lanarkshire",null,{"$f":"('2014'!D33/'2014 Rate'!$AA33)*1000","v":1.6206787186806217},{"$f":"('2014'!E33/'2014 Rate'!$AA33)*1000","v":0.46305106248017763},{"$f":"('2014'!F33/'2014 Rate'!$AA33)*1000","v":1.0085632730732634},{"$f":"('2014'!G33/'2014 Rate'!$AA33)*1000","v":0.14906438312718048},{"$f":"('2014'!H33/'2014 Rate'!$AA33)*1000","v":26.305106248017761},{"$f":"('2014'!I33/'2014 Rate'!$AA33)*1000","v":24.684427529337139},{"$f":"('2014'!J33/'2014 Rate'!$AA33)*1000","v":1.6999682841738029},{"$f":"('2014'!K33/'2014 Rate'!$AA33)*1000","v":20.333016175071361},{"$f":"('2014'!L33/'2014 Rate'!$AA33)*1000","v":18.633047890897558},{"$f":"('2014'!M33/'2014 Rate'!$AA33)*1000","v":1.1037107516650808},{"$f":"('2014'!N33/'2014 Rate'!$AA33)*1000","v":4.7954329210275928},{"$f":"('2014'!O33/'2014 Rate'!$AA33)*1000","v":3.691722169362512},{"$f":"('2014'!P33/'2014 Rate'!$AA33)*1000","v":-1.1830003171582619},{"$f":"('2014'!Q33/'2014 Rate'!$AA33)*1000","v":1.1766571519188074},{"$f":"('2014'!R33/'2014 Rate'!$AA33)*1000","v":2.3596574690770695},{"$f":"('2014'!S33/'2014 Rate'!$AA33)*1000","v":2.029812876625436},{"$f":"('2014'!T33/'2014 Rate'!$AA33)*1000","v":0.75800824611481121},{"$f":"('2014'!U33/'2014 Rate'!$AA33)*1000","v":5.0586742784649541},{"$f":"('2014'!V33/'2014 Rate'!$AA33)*1000","v":2.0932445290199806},null,null,{"$f":"('2014'!Y33/'2014 Rate'!$AA33)*1000","v":0.43767840152235971},"South Lanarkshire",315300]
[32,"Stirling",null,{"$f":"('2014'!D34/'2014 Rate'!$AA34)*1000","v":5.10270979020979},{"$f":"('2014'!E34/'2014 Rate'!$AA34)*1000","v":2.5131118881118879},{"$f":"('2014'!F34/'2014 Rate'!$AA34)*1000","v":2.567744755244755},{"$f":"('2014'!G34/'2014 Rate'!$AA34)*1000","v":2.1853146853146852E-2},{"$f":"('2014'!H34/'2014 Rate'!$AA34)*1000","v":56.0861013986014},{"$f":"('2014'!I34/'2014 Rate'!$AA34)*1000","v":50.983391608391614},{"$f":"('2014'!J34/'2014 Rate'!$AA34)*1000","v":0.66652097902097907},{"$f":"('2014'!K34/'2014 Rate'!$AA34)*1000","v":36.221590909090914},{"$f":"('2014'!L34/'2014 Rate'!$AA34)*1000","v":35.555069930069934},{"$f":"('2014'!M34/'2014 Rate'!$AA34)*1000","v":4.9169580419580416},{"$f":"('2014'!N34/'2014 Rate'!$AA34)*1000","v":13.155594405594405},{"$f":"('2014'!O34/'2014 Rate'!$AA34)*1000","v":8.2386363636363633},{"$f":"('2014'!P34/'2014 Rate'!$AA34)*1000","v":-0.48076923076923078},{"$f":"('2014'!Q34/'2014 Rate'!$AA34)*1000","v":6.7089160839160842},{"$f":"('2014'!R34/'2014 Rate'!$AA34)*1000","v":7.189685314685315},{"$f":"('2014'!S34/'2014 Rate'!$AA34)*1000","v":6.3374125874125866},{"$f":"('2014'!T34/'2014 Rate'!$AA34)*1000","v":1.1909965034965035},{"$f":"('2014'!U34/'2014 Rate'!$AA34)*1000","v":4.8404720279720275},{"$f":"('2014'!V34/'2014 Rate'!$AA34)*1000","v":2.8846153846153846},null,null,{"$f":"('2014'!Y34/'2014 Rate'!$AA34)*1000","v":0.5026223776223776},"Stirling",91520]
[33,"West Dunbartonshire",null,{"$f":"('2014'!D35/'2014 Rate'!$AA35)*1000","v":-1.0924088730353361},{"$f":"('2014'!E35/'2014 Rate'!$AA35)*1000","v":-0.30096979155055176},{"$f":"('2014'!F35/'2014 Rate'!$AA35)*1000","v":-0.56849849515104223},{"$f":"('2014'!G35/'2014 Rate'!$AA35)*1000","v":-0.22294058633374206},{"$f":"('2014'!H35/'2014 Rate'!$AA35)*1000","v":25.147698138446106},{"$f":"('2014'!I35/'2014 Rate'!$AA35)*1000","v":26.240107011481438},{"$f":"('2014'!J35/'2014 Rate'!$AA35)*1000","v":-1.4825548991193847},{"$f":"('2014'!K35/'2014 Rate'!$AA35)*1000","v":19.607624568052614},{"$f":"('2014'!L35/'2014 Rate'!$AA35)*1000","v":21.090179467172},{"$f":"('2014'!M35/'2014 Rate'!$AA35)*1000","v":0.73570393490134878},{"$f":"('2014'!N35/'2014 Rate'!$AA35)*1000","v":4.2470181696577862},{"$f":"('2014'!O35/'2014 Rate'!$AA35)*1000","v":3.5113142347564374},{"$f":"('2014'!P35/'2014 Rate'!$AA35)*1000","v":-0.3455579088173002},{"$f":"('2014'!Q35/'2014 Rate'!$AA35)*1000","v":1.293055400735704},{"$f":"('2014'!R35/'2014 Rate'!$AA35)*1000","v":1.638613309553004},{"$f":"('2014'!S35/'2014 Rate'!$AA35)*1000","v":1.8949949838368074},{"$f":"('2014'!T35/'2014 Rate'!$AA35)*1000","v":0.56849849515104223},{"$f":"('2014'!U35/'2014 Rate'!$AA35)*1000","v":3.4444320588563149},{"$f":"('2014'!V35/'2014 Rate'!$AA35)*1000","v":2.2405528926541076},null,null,{"$f":"('2014'!Y35/'2014 Rate'!$AA35)*1000","v":0.25638167428380337},"West Dunbartonshire",89710]
[34,"West Lothian",null,{"$f":"('2014'!D36/'2014 Rate'!$AA36)*1000","v":2.5056433408577878},{"$f":"('2014'!E36/'2014 Rate'!$AA36)*1000","v":1.1060948081264108},{"$f":"('2014'!F36/'2014 Rate'!$AA36)*1000","v":1.1060948081264108},{"$f":"('2014'!G36/'2014 Rate'!$AA36)*1000","v":0.29345372460496616},{"$f":"('2014'!H36/'2014 Rate'!$AA36)*1000","v":29.531602708803611},{"$f":"('2014'!I36/'2014 Rate'!$AA36)*1000","v":27.025959367945827},{"$f":"('2014'!J36/'2014 Rate'!$AA36)*1000","v":0.89729119638826182},{"$f":"('2014'!K36/'2014 Rate'!$AA36)*1000","v":20.897291196388263},{"$f":"('2014'!L36/'2014 Rate'!$AA36)*1000","v":20},{"$f":"('2014'!M36/'2014 Rate'!$AA36)*1000","v":1.2528216704288939},{"$f":"('2014'!N36/'2014 Rate'!$AA36)*1000","v":5.4683972911963883},{"$f":"('2014'!O36/'2014 Rate'!$AA36)*1000","v":4.2155756207674946},{"$f":"('2014'!P36/'2014 Rate'!$AA36)*1000","v":0.35553047404063204},{"$f":"('2014'!Q36/'2014 Rate'!$AA36)*1000","v":3.1659142212189617},{"$f":"('2014'!R36/'2014 Rate'!$AA36)*1000","v":2.8103837471783297},{"$f":"('2014'!S36/'2014 Rate'!$AA36)*1000","v":4.7968397291196387},{"$f":"('2014'!T36/'2014 Rate'!$AA36)*1000","v":1.6817155756207676},{"$f":"('2014'!U36/'2014 Rate'!$AA36)*1000","v":6.5801354401805874},{"$f":"('2014'!V36/'2014 Rate'!$AA36)*1000","v":5.8295711060948081},null,null,{"$f":"('2014'!Y36/'2014 Rate'!$AA36)*1000","v":0.59255079006772005},"West Lothian",177200]
[]
[35,"Not specified"]
[36,"SCOTLAND",null,{"$f":"('2014'!D39/'2014 Rate'!$AA39)*1000","v":3.2883910539307353},{"$f":"('2014'!E39/'2014 Rate'!$AA39)*1000","v":0.57820330615603266},{"$f":"('2014'!F39/'2014 Rate'!$AA39)*1000","v":2.7058867529358968},{"$f":"('2014'!G39/'2014 Rate'!$AA39)*1000","v":4.3009948388061936E-3},{"$f":"('2014'!H39/'2014 Rate'!$AA39)*1000","v":15.416635500037399},{"$f":"('2014'!I39/'2014 Rate'!$AA39)*1000","v":12.128244446106665},null,null,null,{"$f":"('2014'!M39/'2014 Rate'!$AA39)*1000","v":1.7923928491285812},{"$f":"('2014'!N39/'2014 Rate'!$AA39)*1000","v":9.2082429501084597},{"$f":"('2014'!O39/'2014 Rate'!$AA39)*1000","v":7.4158501009798785},{"$f":"('2014'!P39/'2014 Rate'!$AA39)*1000","v":1.4959982048021543},{"$f":"('2014'!Q39/'2014 Rate'!$AA39)*1000","v":6.2083925499289405},{"$f":"('2014'!R39/'2014 Rate'!$AA39)*1000","v":4.7123943451267856},null,{"$f":"('2014'!T39/'2014 Rate'!$AA39)*1000","v":1.7162839404592716},null,null,null,null,null,"SCOTLAND",{"$f":"AA4","v":5347600}]
[37,"Ayrshire and Arran",null,{"$f":"('2014'!D40/'2014 Rate'!$AA40)*1000","v":-0.33410572829659968},{"$f":"('2014'!E40/'2014 Rate'!$AA40)*1000","v":0.52001939968744948},{"$f":"('2014'!F40/'2014 Rate'!$AA40)*1000","v":-1.1666756480034488},{"$f":"('2014'!G40/'2014 Rate'!$AA40)*1000","v":0.3125505200193997},{"$f":"('2014'!H40/'2014 Rate'!$AA40)*1000","v":20.957051247507678},{"$f":"('2014'!I40/'2014 Rate'!$AA40)*1000","v":21.291156975804281},{"$f":"('2014'!J40/'2014 Rate'!$AA40)*1000","v":-0.18052486932154982},{"$f":"('2014'!K40/'2014 Rate'!$AA40)*1000","v":13.601336422913185},{"$f":"('2014'!L40/'2014 Rate'!$AA40)*1000","v":13.781861292234735},{"$f":"('2014'!M40/'2014 Rate'!$AA40)*1000","v":1.2151748666271489},{"$f":"('2014'!N40/'2014 Rate'!$AA40)*1000","v":6.2887320148730943},{"$f":"('2014'!O40/'2014 Rate'!$AA40)*1000","v":5.0735571482459454},{"$f":"('2014'!P40/'2014 Rate'!$AA40)*1000","v":-1.3687557256021987},{"$f":"('2014'!Q40/'2014 Rate'!$AA40)*1000","v":1.0669828097213989},{"$f":"('2014'!R40/'2014 Rate'!$AA40)*1000","v":2.4357385353235976},null,{"$f":"('2014'!T40/'2014 Rate'!$AA40)*1000","v":0.42840976450934959},null,null,null,null,null,"Ayrshire & Arran",{"$f":"AA13+AA25+AA32","v":371140}]
[38,"Borders",null,{"$f":"('2014'!D41/'2014 Rate'!$AA41)*1000","v":2.4552788495264819},{"$f":"('2014'!E41/'2014 Rate'!$AA41)*1000","v":1.5082427218519818},{"$f":"('2014'!F41/'2014 Rate'!$AA41)*1000","v":1.5170115748860049},{"$f":"('2014'!G41/'2014 Rate'!$AA41)*1000","v":-0.56997544721150473},{"$f":"('2014'!H41/'2014 Rate'!$AA41)*1000","v":36.794107330761136},{"$f":"('2014'!I41/'2014 Rate'!$AA41)*1000","v":34.33882848123465},{"$f":"('2014'!J41/'2014 Rate'!$AA41)*1000","v":0.58751315327955111},{"$f":"('2014'!K41/'2014 Rate'!$AA41)*1000","v":20.29989477376359},{"$f":"('2014'!L41/'2014 Rate'!$AA41)*1000","v":19.712381620484042},{"$f":"('2014'!M41/'2014 Rate'!$AA41)*1000","v":3.3847772711329358},{"$f":"('2014'!N41/'2014 Rate'!$AA41)*1000","v":14.012627148368994},{"$f":"('2014'!O41/'2014 Rate'!$AA41)*1000","v":10.627849877236057},{"$f":"('2014'!P41/'2014 Rate'!$AA41)*1000","v":-1.5170115748860049},{"$f":"('2014'!Q41/'2014 Rate'!$AA41)*1000","v":2.4815854086285514},{"$f":"('2014'!R41/'2014 Rate'!$AA41)*1000","v":3.9985969835145565},null,{"$f":"('2014'!T41/'2014 Rate'!$AA41)*1000","v":1.061031217116801},null,null,null,null,null,"Borders",{"$f":"AA30","v":114040}]
[39,"Dumfries and Galloway",null,{"$f":"('2014'!D42/'2014 Rate'!$AA42)*1000","v":2.2272606028274207},{"$f":"('2014'!E42/'2014 Rate'!$AA42)*1000","v":1.1269671912510002},{"$f":"('2014'!F42/'2014 Rate'!$AA42)*1000","v":0.70018671645772201},{"$f":"('2014'!G42/'2014 Rate'!$AA42)*1000","v":0.40010669511869834},{"$f":"('2014'!H42/'2014 Rate'!$AA42)*1000","v":26.987196585756202},{"$f":"('2014'!I42/'2014 Rate'!$AA42)*1000","v":24.759935982928781},{"$f":"('2014'!J42/'2014 Rate'!$AA42)*1000","v":-0.7335289410509469},{"$f":"('2014'!K42/'2014 Rate'!$AA42)*1000","v":11.503067484662576},{"$f":"('2014'!L42/'2014 Rate'!$AA42)*1000","v":12.236596425713524},{"$f":"('2014'!M42/'2014 Rate'!$AA42)*1000","v":4.7412643371565757},{"$f":"('2014'!N42/'2014 Rate'!$AA42)*1000","v":14.07041877834089},{"$f":"('2014'!O42/'2014 Rate'!$AA42)*1000","v":9.3291544411843166},{"$f":"('2014'!P42/'2014 Rate'!$AA42)*1000","v":-1.7804747932782075},{"$f":"('2014'!Q42/'2014 Rate'!$AA42)*1000","v":1.4137103227527341},{"$f":"('2014'!R42/'2014 Rate'!$AA42)*1000","v":3.1941851160309418},null,{"$f":"('2014'!T42/'2014 Rate'!$AA42)*1000","v":0.60682848759669239},null,null,null,null,null,"Dumfries & Galloway",{"$f":"AA11","v":149960}]
[40,"Fife",null,{"$f":"('2014'!D43/'2014 Rate'!$AA43)*1000","v":1.7699115044247788},{"$f":"('2014'!E43/'2014 Rate'!$AA43)*1000","v":0.27501701837985021},{"$f":"('2014'!F43/'2014 Rate'!$AA43)*1000","v":0.98842750170183791},{"$f":"('2014'!G43/'2014 Rate'!$AA43)*1000","v":0.50646698434309056},{"$f":"('2014'!H43/'2014 Rate'!$AA43)*1000","v":29.66371681415929},{"$f":"('2014'!I43/'2014 Rate'!$AA43)*1000","v":27.893805309734514},{"$f":"('2014'!J43/'2014 Rate'!$AA43)*1000","v":-0.23961878829135466},{"$f":"('2014'!K43/'2014 Rate'!$AA43)*1000","v":16.435670524166099},{"$f":"('2014'!L43/'2014 Rate'!$AA43)*1000","v":16.675289312457455},{"$f":"('2014'!M43/'2014 Rate'!$AA43)*1000","v":1.7127297481279782},{"$f":"('2014'!N43/'2014 Rate'!$AA43)*1000","v":8.7923757658270922},{"$f":"('2014'!O43/'2014 Rate'!$AA43)*1000","v":7.0796460176991154},{"$f":"('2014'!P43/'2014 Rate'!$AA43)*1000","v":0.29680054458815525},{"$f":"('2014'!Q43/'2014 Rate'!$AA43)*1000","v":4.4356705241660999},{"$f":"('2014'!R43/'2014 Rate'!$AA43)*1000","v":4.1388699795779438},null,{"$f":"('2014'!T43/'2014 Rate'!$AA43)*1000","v":1.1109598366235536},null,null,null,null,null,"Fife",{"$f":"AA18","v":367250}]
[41,"Forth Valley",null,{"$f":"('2014'!D44/'2014 Rate'!$AA44)*1000","v":2.6631158455392812},{"$f":"('2014'!E44/'2014 Rate'!$AA44)*1000","v":0.95872170439414117},{"$f":"('2014'!F44/'2014 Rate'!$AA44)*1000","v":1.5978695073235687},{"$f":"('2014'!G44/'2014 Rate'!$AA44)*1000","v":0.10652463382157124},{"$f":"('2014'!H44/'2014 Rate'!$AA44)*1000","v":31.444740346205055},{"$f":"('2014'!I44/'2014 Rate'!$AA44)*1000","v":28.781624500665778},{"$f":"('2014'!J44/'2014 Rate'!$AA44)*1000","v":0.58588548601864188},{"$f":"('2014'!K44/'2014 Rate'!$AA44)*1000","v":20.156458055925434},{"$f":"('2014'!L44/'2014 Rate'!$AA44)*1000","v":19.570572569906791},{"$f":"('2014'!M44/'2014 Rate'!$AA44)*1000","v":2.260319573901465},{"$f":"('2014'!N44/'2014 Rate'!$AA44)*1000","v":7.7296937416777629},{"$f":"('2014'!O44/'2014 Rate'!$AA44)*1000","v":5.4693741677762979},{"$f":"('2014'!P44/'2014 Rate'!$AA44)*1000","v":-0.18308921438082557},{"$f":"('2014'!Q44/'2014 Rate'!$AA44)*1000","v":3.5585885486018642},{"$f":"('2014'!R44/'2014 Rate'!$AA44)*1000","v":3.7416777629826896},null,{"$f":"('2014'!T44/'2014 Rate'!$AA44)*1000","v":1.0719041278295605},null,null,null,null,null,"Forth Valley",{"$f":"AA10+AA17+AA34","v":300400}]
[42,"Grampian",null,{"$f":"('2014'!D45/'2014 Rate'!$AA45)*1000","v":6.7098011023244668},{"$f":"('2014'!E45/'2014 Rate'!$AA45)*1000","v":1.1879086645441785},{"$f":"('2014'!F45/'2014 Rate'!$AA45)*1000","v":5.9908938413611308},{"$f":"('2014'!G45/'2014 Rate'!$AA45)*1000","v":-0.4690014035808428},{"$f":"('2014'!H45/'2014 Rate'!$AA45)*1000","v":34.606826195611241},{"$f":"('2014'!I45/'2014 Rate'!$AA45)*1000","v":27.897025093286775},{"$f":"('2014'!J45/'2014 Rate'!$AA45)*1000","v":1.1742151929067817},{"$f":"('2014'!K45/'2014 Rate'!$AA45)*1000","v":14.323371332717128},{"$f":"('2014'!L45/'2014 Rate'!$AA45)*1000","v":13.149156139810346},{"$f":"('2014'!M45/'2014 Rate'!$AA45)*1000","v":2.0317688541987606},{"$f":"('2014'!N45/'2014 Rate'!$AA45)*1000","v":10.790455650268735},{"$f":"('2014'!O45/'2014 Rate'!$AA45)*1000","v":8.7586867960699735},{"$f":"('2014'!P45/'2014 Rate'!$AA45)*1000","v":3.5038170552189243},{"$f":"('2014'!Q45/'2014 Rate'!$AA45)*1000","v":9.4929992126253815},{"$f":"('2014'!R45/'2014 Rate'!$AA45)*1000","v":5.9891821574064572},null,{"$f":"('2014'!T45/'2014 Rate'!$AA45)*1000","v":2.6411283420629212},null,null,null,null,null,"Grampian",{"$f":"AA5+AA6+AA23","v":584220}]
[43,"Greater Glasgow and Clyde",null,{"$f":"('2014'!D46/'2014 Rate'!$AA46)*1000","v":3.369537629420877},{"$f":"('2014'!E46/'2014 Rate'!$AA46)*1000","v":0.13303109601869437},{"$f":"('2014'!F46/'2014 Rate'!$AA46)*1000","v":3.3599103790511031},{"$f":"('2014'!G46/'2014 Rate'!$AA46)*1000","v":-0.12340384564892044},{"$f":"('2014'!H46/'2014 Rate'!$AA46)*1000","v":30.492127534811264},{"$f":"('2014'!I46/'2014 Rate'!$AA46)*1000","v":27.122589905390388},{"$f":"('2014'!J46/'2014 Rate'!$AA46)*1000","v":-0.62927209235158721},{"$f":"('2014'!K46/'2014 Rate'!$AA46)*1000","v":14.311345276958489},{"$f":"('2014'!L46/'2014 Rate'!$AA46)*1000","v":14.940617369310075},{"$f":"('2014'!M46/'2014 Rate'!$AA46)*1000","v":0.73167102810281903},{"$f":"('2014'!N46/'2014 Rate'!$AA46)*1000","v":7.6554144531284187},{"$f":"('2014'!O46/'2014 Rate'!$AA46)*1000","v":6.9237434250255996},{"$f":"('2014'!P46/'2014 Rate'!$AA46)*1000","v":3.2671386936696454},{"$f":"('2014'!Q46/'2014 Rate'!$AA46)*1000","v":8.525367804724354},{"$f":"('2014'!R46/'2014 Rate'!$AA46)*1000","v":5.2582291110547095},null,{"$f":"('2014'!T46/'2014 Rate'!$AA46)*1000","v":2.1591296965665725},null,null,null,null,null,"Greater Glasgow & Clyde",{"$f":"AA16+AA21+AA29+AA35+AA14+AA19","v":1142590}]
[44,"Highland",null,{"$f":"('2014'!D47/'2014 Rate'!$AA47)*1000","v":-0.11224394350388177},{"$f":"('2014'!E47/'2014 Rate'!$AA47)*1000","v":0.51756929504567706},{"$f":"('2014'!F47/'2014 Rate'!$AA47)*1000","v":-0.30243506999657033},{"$f":"('2014'!G47/'2014 Rate'!$AA47)*1000","v":-0.32737816855298846},{"$f":"('2014'!H47/'2014 Rate'!$AA47)*1000","v":33.317743896735571},{"$f":"('2014'!I47/'2014 Rate'!$AA47)*1000","v":33.429987840239455},{"$f":"('2014'!J47/'2014 Rate'!$AA47)*1000","v":-2.6626757708976396},{"$f":"('2014'!K47/'2014 Rate'!$AA47)*1000","v":18.336295326286908},{"$f":"('2014'!L47/'2014 Rate'!$AA47)*1000","v":20.998971097184548},{"$f":"('2014'!M47/'2014 Rate'!$AA47)*1000","v":3.5543915442895897},{"$f":"('2014'!N47/'2014 Rate'!$AA47)*1000","v":11.994512518317586},{"$f":"('2014'!O47/'2014 Rate'!$AA47)*1000","v":8.4401209740279999},{"$f":"('2014'!P47/'2014 Rate'!$AA47)*1000","v":-1.0039597168958314},{"$f":"('2014'!Q47/'2014 Rate'!$AA47)*1000","v":2.9869360521310759},{"$f":"('2014'!R47/'2014 Rate'!$AA47)*1000","v":3.9908957690269076},null,{"$f":"('2014'!T47/'2014 Rate'!$AA47)*1000","v":1.3032768995728494},null,null,null,null,null,"Highland",{"$f":"AA20+AA8","v":320730}]
[45,"Lanarkshire",null,{"$f":"('2014'!D48/'2014 Rate'!$AA48)*1000","v":0.65054339507117709},{"$f":"('2014'!E48/'2014 Rate'!$AA48)*1000","v":0.3474667074850758},{"$f":"('2014'!F48/'2014 Rate'!$AA48)*1000","v":0.27552426144191028},{"$f":"('2014'!G48/'2014 Rate'!$AA48)*1000","v":2.7552426144191032E-2},{"$f":"('2014'!H48/'2014 Rate'!$AA48)*1000","v":19.79488749425991},{"$f":"('2014'!I48/'2014 Rate'!$AA48)*1000","v":19.144344099188736},{"$f":"('2014'!J48/'2014 Rate'!$AA48)*1000","v":0.54339507117710095},{"$f":"('2014'!K48/'2014 Rate'!$AA48)*1000","v":14.25531914893617},{"$f":"('2014'!L48/'2014 Rate'!$AA48)*1000","v":13.711924077759068},{"$f":"('2014'!M48/'2014 Rate'!$AA48)*1000","v":0.93065972753711923},{"$f":"('2014'!N48/'2014 Rate'!$AA48)*1000","v":4.2216439614266026},{"$f":"('2014'!O48/'2014 Rate'!$AA48)*1000","v":3.2909842338894841},{"$f":"('2014'!P48/'2014 Rate'!$AA48)*1000","v":-0.82351140364304298},{"$f":"('2014'!Q48/'2014 Rate'!$AA48)*1000","v":1.3179243838971377},{"$f":"('2014'!R48/'2014 Rate'!$AA48)*1000","v":2.1414357875401806},null,{"$f":"('2014'!T48/'2014 Rate'!$AA48)*1000","v":0.7837134547681005},null,null,null,null,null,"Lanarkshire",{"$f":"AA26+AA33","v":653300}]
[46,"Lothian",null,{"$f":"('2014'!D49/'2014 Rate'!$AA49)*1000","v":6.3767305271989931},{"$f":"('2014'!E49/'2014 Rate'!$AA49)*1000","v":0.41486039248589945},{"$f":"('2014'!F49/'2014 Rate'!$AA49)*1000","v":5.7614319675569847},{"$f":"('2014'!G49/'2014 Rate'!$AA49)*1000","v":0.20043816715610868},{"$f":"('2014'!H49/'2014 Rate'!$AA49)*1000","v":39.580711322425771},{"$f":"('2014'!I49/'2014 Rate'!$AA49)*1000","v":33.203980795226776},{"$f":"('2014'!J49/'2014 Rate'!$AA49)*1000","v":-5.3605556332447679E-2},{"$f":"('2014'!K49/'2014 Rate'!$AA49)*1000","v":14.904675336782734},{"$f":"('2014'!L49/'2014 Rate'!$AA49)*1000","v":14.958280893115182},{"$f":"('2014'!M49/'2014 Rate'!$AA49)*1000","v":2.5520906166969657},{"$f":"('2014'!N49/'2014 Rate'!$AA49)*1000","v":13.590173868456626},{"$f":"('2014'!O49/'2014 Rate'!$AA49)*1000","v":11.038083251759661},{"$f":"('2014'!P49/'2014 Rate'!$AA49)*1000","v":3.8782454668344752},{"$f":"('2014'!Q49/'2014 Rate'!$AA49)*1000","v":11.085862117186409},{"$f":"('2014'!R49/'2014 Rate'!$AA49)*1000","v":7.2076166503519321},null,{"$f":"('2014'!T49/'2014 Rate'!$AA49)*1000","v":2.8003076492798211},null,null,null,null,null,"Lothian",{"$f":"AA15+AA9+AA22+AA36","v":858120}]
[47,"Orkney",null,{"$f":"('2014'!D50/'2014 Rate'!$AA50)*1000","v":3.1047265987025026},{"$f":"('2014'!E50/'2014 Rate'!$AA50)*1000","v":2.0389249304911954},{"$f":"('2014'!F50/'2014 Rate'!$AA50)*1000","v":0.64874884151992585},{"$f":"('2014'!G50/'2014 Rate'!$AA50)*1000","v":0.41705282669138088},{"$f":"('2014'!H50/'2014 Rate'!$AA50)*1000","v":34.61538461538462},{"$f":"('2014'!I50/'2014 Rate'!$AA50)*1000","v":31.510658016682111},{"$f":"('2014'!J50/'2014 Rate'!$AA50)*1000","v":-1.8999073215940685},{"$f":"('2014'!K50/'2014 Rate'!$AA50)*1000","v":17.516218721037998},{"$f":"('2014'!L50/'2014 Rate'!$AA50)*1000","v":19.416126042632065},{"$f":"('2014'!M50/'2014 Rate'!$AA50)*1000","v":5.7460611677479143},{"$f":"('2014'!N50/'2014 Rate'!$AA50)*1000","v":14.68952734012975},{"$f":"('2014'!O50/'2014 Rate'!$AA50)*1000","v":8.9434661723818358},{"$f":"('2014'!P50/'2014 Rate'!$AA50)*1000","v":-0.74142724745134381},{"$f":"('2014'!Q50/'2014 Rate'!$AA50)*1000","v":2.4096385542168677},{"$f":"('2014'!R50/'2014 Rate'!$AA50)*1000","v":3.1510658016682114},null,{"$f":"('2014'!T50/'2014 Rate'!$AA50)*1000","v":0.50973123262279885},null,null,null,null,null,"Orkney",{"$f":"AA27","v":21580}]
[48,"Shetland",null,{"$f":"('2014'!D51/'2014 Rate'!$AA51)*1000","v":-0.2153316106804479},{"$f":"('2014'!E51/'2014 Rate'!$AA51)*1000","v":0.1722652885443583},{"$f":"('2014'!F51/'2014 Rate'!$AA51)*1000","v":-4.3066322136089574E-2},{"$f":"('2014'!G51/'2014 Rate'!$AA51)*1000","v":-0.34453057708871659},{"$f":"('2014'!H51/'2014 Rate'!$AA51)*1000","v":29.026701119724375},{"$f":"('2014'!I51/'2014 Rate'!$AA51)*1000","v":29.242032730404823},{"$f":"('2014'!J51/'2014 Rate'!$AA51)*1000","v":-1.2919896640826873},{"$f":"('2014'!K51/'2014 Rate'!$AA51)*1000","v":15.374677002583979},{"$f":"('2014'!L51/'2014 Rate'!$AA51)*1000","v":16.666666666666668},{"$f":"('2014'!M51/'2014 Rate'!$AA51)*1000","v":2.7562446167097328},{"$f":"('2014'!N51/'2014 Rate'!$AA51)*1000","v":11.455641688199828},{"$f":"('2014'!O51/'2014 Rate'!$AA51)*1000","v":8.699397071490095},{"$f":"('2014'!P51/'2014 Rate'!$AA51)*1000","v":-1.6795865633074936},{"$f":"('2014'!Q51/'2014 Rate'!$AA51)*1000","v":2.1963824289405687},{"$f":"('2014'!R51/'2014 Rate'!$AA51)*1000","v":3.8759689922480618},null,{"$f":"('2014'!T51/'2014 Rate'!$AA51)*1000","v":1.2058570198105081},null,null,null,null,null,"Shetland",{"$f":"AA31","v":23220}]
[49,"Tayside",null,{"$f":"('2014'!D52/'2014 Rate'!$AA52)*1000","v":4.9299178347027546},{"$f":"('2014'!E52/'2014 Rate'!$AA52)*1000","v":1.2711454809086515},{"$f":"('2014'!F52/'2014 Rate'!$AA52)*1000","v":3.6080231996133398},{"$f":"('2014'!G52/'2014 Rate'!$AA52)*1000","v":5.0749154180763652E-2},{"$f":"('2014'!H52/'2014 Rate'!$AA52)*1000","v":34.879168680521985},{"$f":"('2014'!I52/'2014 Rate'!$AA52)*1000","v":29.949250845819236},{"$f":"('2014'!J52/'2014 Rate'!$AA52)*1000","v":1.766553890768487},{"$f":"('2014'!K52/'2014 Rate'!$AA52)*1000","v":19.470758820686321},{"$f":"('2014'!L52/'2014 Rate'!$AA52)*1000","v":17.704204929917836},{"$f":"('2014'!M52/'2014 Rate'!$AA52)*1000","v":1.3533107781536975},{"$f":"('2014'!N52/'2014 Rate'!$AA52)*1000","v":8.5041082648622517},{"$f":"('2014'!O52/'2014 Rate'!$AA52)*1000","v":7.1507974867085551},{"$f":"('2014'!P52/'2014 Rate'!$AA52)*1000","v":1.8100531657805703},{"$f":"('2014'!Q52/'2014 Rate'!$AA52)*1000","v":6.9043015949734166},{"$f":"('2014'!R52/'2014 Rate'!$AA52)*1000","v":5.0942484291928469},null,{"$f":"('2014'!T52/'2014 Rate'!$AA52)*1000","v":1.638472692121798},null,null,null,null,null,"Tayside",{"$f":"AA28+AA7+AA12","v":413800}]
[50,"Western Isles",null,{"$f":"('2014'!D53/'2014 Rate'!$AA53)*1000","v":-3.2293577981651378},{"$f":"('2014'!E53/'2014 Rate'!$AA53)*1000","v":0},{"$f":"('2014'!F53/'2014 Rate'!$AA53)*1000","v":-3.3027522935779818},{"$f":"('2014'!G53/'2014 Rate'!$AA53)*1000","v":7.3394495412844027E-2},{"$f":"('2014'!H53/'2014 Rate'!$AA53)*1000","v":30.018348623853214},{"$f":"('2014'!I53/'2014 Rate'!$AA53)*1000","v":33.247706422018346},{"$f":"('2014'!J53/'2014 Rate'!$AA53)*1000","v":-2.2018348623853212},{"$f":"('2014'!K53/'2014 Rate'!$AA53)*1000","v":20.440366972477065},{"$f":"('2014'!L53/'2014 Rate'!$AA53)*1000","v":22.642201834862384},{"$f":"('2014'!M53/'2014 Rate'!$AA53)*1000","v":0.73394495412844041},{"$f":"('2014'!N53/'2014 Rate'!$AA53)*1000","v":8.4036697247706424},{"$f":"('2014'!O53/'2014 Rate'!$AA53)*1000","v":7.669724770642202},{"$f":"('2014'!P53/'2014 Rate'!$AA53)*1000","v":-1.761467889908257},{"$f":"('2014'!Q53/'2014 Rate'!$AA53)*1000","v":1.1743119266055044},{"$f":"('2014'!R53/'2014 Rate'!$AA53)*1000","v":2.9357798165137616},null,{"$f":"('2014'!T53/'2014 Rate'!$AA53)*1000","v":0.62385321100917424},null,null,null,null,null,"Western Isles",{"$f":"AA24","v":27250}]

{"sheet":"2015","index":41,"n_rows":53,"n_cols":25,"rows_kept":53,"cut":false,"hidden":true,"merged":[]}
[null,2015]
[null,null,"Not specified ",{"$f":"'Comparing Indicators'!$U8","v":"Total net migration"},{"$f":"'Comparing Indicators'!$U9","v":"Total net migration for ages 0-15"},{"$f":"'Comparing Indicators'!$U10","v":"Total net migration for ages 16-64"},{"$f":"'Comparing Indicators'!$U11","v":"Total net migration for people aged 65+"},{"$f":"'Comparing Indicators'!$U12","v":"Total in-migration"},{"$f":"'Comparing Indicators'!$U13","v":"Total out-migration"},{"$f":"'Comparing Indicators'!$U14","v":"Within Scotland net migration"},{"$f":"'Comparing Indicators'!$U15","v":"Within Scotland in-migration"},{"$f":"'Comparing Indicators'!$U16","v":"Within Scotland out-migration"},{"$f":"'Comparing Indicators'!$U17","v":"Rest of UK net migration"},{"$f":"'Comparing Indicators'!$U18","v":"Rest of UK in-migration"},{"$f":"'Comparing Indicators'!$U19","v":"Rest of UK out-migration"},{"$f":"'Comparing Indicators'!$U20","v":"Overseas net migration"},{"$f":"'Comparing Indicators'!$U21","v":"Overseas in-migration"},{"$f":"'Comparing Indicators'!$U22","v":"Overseas out-migration"},{"$f":"'Comparing Indicators'!$U23","v":"NINo Allocation"},{"$f":"'Comparing Indicators'!$U24","v":"Births to non-UK mothers"},{"$f":"'Comparing Indicators'!$U25","v":"Pupils from a minority ethnic group"},{"$f":"'Comparing Indicators'!$U26","v":"Pupils with English as an additional language"},{"$f":"'Comparing Indicators'!$U27","v":"Population born outside the UK"},{"$f":"'Comparing Indicators'!$U28","v":"Population with non-British nationality"},{"$f":"'Comparing Indicators'!$U29","v":"Citizenships"}]
[1,"Not specified"]
[2,"SCOTLAND",null,{"$f":"'Total net migration'!M4","v":27968},{"$f":"'Total net migration 0-15'!M4","v":4093},{"$f":"'Total net migration 16-64'!M4","v":23858},{"$f":"'Total net migration 65+'!M4","v":17},{"$f":"'Total in-migration'!M4","v":84954},{"$f":"'Total out-migration'!M4","v":56986},"N/A","N/A","N/A",{"$f":"'Rest of UK net migration'!M4","v":8368},{"$f":"'Rest of UK in-migration'!M4","v":47154},{"$f":"'Rest of UK out-migration'!M4","v":38786},{"$f":"'Overseas net migration'!M4","v":19600},{"$f":"'Overseas in-migration'!M4","v":37800},{"$f":"'Overseas out-migration'!M4","v":18200},{"$f":"NINo!M5","v":46570},{"$f":"'Non-UK Births'!M5","v":8998},{"$f":"'Pupils ethnic group'!N5","v":44348},{"$f":"'Pupils with English as an add.'!K4","v":35441},{"$f":"'Pop born outside UK'!M5","v":393000},{"$f":"'Non-British Population'!M5","v":295000},{"$f":"Citizenships!M5","v":3542}]
[3,"Aberdeen City",null,{"$f":"'Total net migration'!M5","v":1085},{"$f":"'Total net migration 0-15'!M5","v":-337},{"$f":"'Total net migration 16-64'!M5","v":1625},{"$f":"'Total net migration 65+'!M5","v":-203},{"$f":"'Total in-migration'!M5","v":14060},{"$f":"'Total out-migration'!M5","v":12975},{"$f":"'Within Scotland net migration'!M5","v":-2221},{"$f":"'Within Scotland in-migration'!M5","v":6807},{"$f":"'Within Scotland out-migration'!M5","v":9028},{"$f":"'Rest of UK net migration'!M5","v":117},{"$f":"'Rest of UK in-migration'!M5","v":2663},{"$f":"'Rest of UK out-migration'!M5","v":2546},{"$f":"'Overseas net migration'!M5","v":3189},{"$f":"'Overseas in-migration'!M5","v":4590},{"$f":"'Overseas out-migration'!M5","v":1401},{"$f":"NINo!M6","v":5210},{"$f":"'Non-UK Births'!M6","v":992},{"$f":"'Pupils ethnic group'!N6","v":2858},{"$f":"'Pupils with English as an add.'!K5","v":3054},{"$f":"'Pop born outside UK'!M6","v":39000},{"$f":"'Non-British Population'!M6","v":36000},{"$f":"Citizenships!M6","v":629}]
[4,"Aberdeenshire",null,{"$f":"'Total net migration'!M6","v":986},{"$f":"'Total net migration 0-15'!M6","v":463},{"$f":"'Total net migration 16-64'!M6","v":719},{"$f":"'Total net migration 65+'!M6","v":-196},{"$f":"'Total in-migration'!M6","v":9488},{"$f":"'Total out-migration'!M6","v":8502},{"$f":"'Within Scotland net migration'!M6","v":951},{"$f":"'Within Scotland in-migration'!M6","v":6869},{"$f":"'Within Scotland out-migration'!M6","v":5918},{"$f":"'Rest of UK net migration'!M6","v":-221},{"$f":"'Rest of UK in-migration'!M6","v":1539},{"$f":"'Rest of UK out-migration'!M6","v":1760},{"$f":"'Overseas net migration'!M6","v":256},{"$f":"'Overseas in-migration'!M6","v":1080},{"$f":"'Overseas out-migration'!M6","v":824},{"$f":"NINo!M7","v":1730},{"$f":"'Non-UK Births'!M7","v":434},{"$f":"'Pupils ethnic group'!N7","v":994},{"$f":"'Pupils with English as an add.'!K6","v":1566},{"$f":"'Pop born outside UK'!M7","v":13000},{"$f":"'Non-British Population'!M7","v":9000},{"$f":"Citizenships!M7","v":211}]
[5,"Angus",null,{"$f":"'Total net migration'!M7","v":537},{"$f":"'Total net migration 0-15'!M7","v":194},{"$f":"'Total net migration 16-64'!M7","v":307},{"$f":"'Total net migration 65+'!M7","v":36},{"$f":"'Total in-migration'!M7","v":4306},{"$f":"'Total out-migration'!M7","v":3769},{"$f":"'Within Scotland net migration'!M7","v":441},{"$f":"'Within Scotland in-migration'!M7","v":3282},{"$f":"'Within Scotland out-migration'!M7","v":2841},{"$f":"'Rest of UK net migration'!M7","v":107},{"$f":"'Rest of UK in-migration'!M7","v":734},{"$f":"'Rest of UK out-migration'!M7","v":627},{"$f":"'Overseas net migration'!M7","v":-11},{"$f":"'Overseas in-migration'!M7","v":290},{"$f":"'Overseas out-migration'!M7","v":301},{"$f":"NINo!M8","v":1310},{"$f":"'Non-UK Births'!M8","v":115},{"$f":"'Pupils ethnic group'!N8","v":366},{"$f":"'Pupils with English as an add.'!K7","v":476},{"$f":"'Pop born outside UK'!M8","v":6000},{"$f":"'Non-British Population'!M8","v":5000},{"$f":"Citizenships!M8","v":18}]
[6,"Argyll and Bute",null,{"$f":"'Total net migration'!M8","v":-233},{"$f":"'Total net migration 0-15'!M8","v":26},{"$f":"'Total net migration 16-64'!M8","v":-198},{"$f":"'Total net migration 65+'!M8","v":-61},{"$f":"'Total in-migration'!M8","v":3913},{"$f":"'Total out-migration'!M8","v":4146},{"$f":"'Within Scotland net migration'!M8","v":-444},{"$f":"'Within Scotland in-migration'!M8","v":2273},{"$f":"'Within Scotland out-migration'!M8","v":2717},{"$f":"'Rest of UK net migration'!M8","v":296},{"$f":"'Rest of UK in-migration'!M8","v":1341},{"$f":"'Rest of UK out-migration'!M8","v":1045},{"$f":"'Overseas net migration'!M8","v":-85},{"$f":"'Overseas in-migration'!M8","v":299},{"$f":"'Overseas out-migration'!M8","v":384},{"$f":"NINo!M9","v":570},{"$f":"'Non-UK Births'!M9","v":87},{"$f":"'Pupils ethnic group'!N9","v":255},{"$f":"'Pupils with English as an add.'!K8","v":175},{"$f":"'Pop born outside UK'!M9","v":3000},{"$f":"'Non-British Population'!M9","v":2000},{"$f":"Citizenships!M9","v":22}]
[7,"City of Edinburgh",null,{"$f":"'Total net migration'!M9","v":6261},{"$f":"'Total net migration 0-15'!M9","v":-258},{"$f":"'Total net migration 16-64'!M9","v":6593},{"$f":"'Total net migration 65+'!M9","v":-74},{"$f":"'Total in-migration'!M9","v":31436},{"$f":"'Total out-migration'!M9","v":25175},{"$f":"'Within Scotland net migration'!M9","v":-1927},{"$f":"'Within Scotland in-migration'!M9","v":12285},{"$f":"'Within Scotland out-migration'!M9","v":14212},{"$f":"'Rest of UK net migration'!M9","v":2139},{"$f":"'Rest of UK in-migration'!M9","v":9501},{"$f":"'Rest of UK out-migration'!M9","v":7362},{"$f":"'Overseas net migration'!M9","v":6049},{"$f":"'Overseas in-migration'!M9","v":9650},{"$f":"'Overseas out-migration'!M9","v":3601},{"$f":"NINo!M10","v":11930},{"$f":"'Non-UK Births'!M10","v":1821},{"$f":"'Pupils ethnic group'!N10","v":6887},{"$f":"'Pupils with English as an add.'!K9","v":5685},{"$f":"'Pop born outside UK'!M10","v":77000},{"$f":"'Non-British Population'!M10","v":60000},{"$f":"Citizenships!M10","v":760}]
[8,"Clackmannanshire",null,{"$f":"'Total net migration'!M10","v":142},{"$f":"'Total net migration 0-15'!M10","v":8},{"$f":"'Total net migration 16-64'!M10","v":51},{"$f":"'Total net migration 65+'!M10","v":83},{"$f":"'Total in-migration'!M10","v":1860},{"$f":"'Total out-migration'!M10","v":1718},{"$f":"'Within Scotland net migration'!M10","v":67},{"$f":"'Within Scotland in-migration'!M10","v":1459},{"$f":"'Within Scotland out-migration'!M10","v":1392},{"$f":"'Rest of UK net migration'!M10","v":79},{"$f":"'Rest of UK in-migration'!M10","v":303},{"$f":"'Rest of UK out-migration'!M10","v":224},{"$f":"'Overseas net migration'!M10","v":-4},{"$f":"'Overseas in-migration'!M10","v":98},{"$f":"'Overseas out-migration'!M10","v":102},{"$f":"NINo!M11","v":110},{"$f":"'Non-UK Births'!M11","v":40},{"$f":"'Pupils ethnic group'!N11","v":203},{"$f":"'Pupils with English as an add.'!K10","v":167},{"$f":"'Pop born outside UK'!M11","v":3000},{"$f":"'Non-British Population'!M11","v":2000},{"$f":"Citizenships!M11","v":12}]
[9,"Dumfries and Galloway",null,{"$f":"'Total net migration'!M11","v":330},{"$f":"'Total net migration 0-15'!M11","v":74},{"$f":"'Total net migration 16-64'!M11","v":206},{"$f":"'Total net migration 65+'!M11","v":50},{"$f":"'Total in-migration'!M11","v":3928},{"$f":"'Total out-migration'!M11","v":3598},{"$f":"'Within Scotland net migration'!M11","v":-103},{"$f":"'Within Scotland in-migration'!M11","v":1734},{"$f":"'Within Scotland out-migration'!M11","v":1837},{"$f":"'Rest of UK net migration'!M11","v":505},{"$f":"'Rest of UK in-migration'!M11","v":1913},{"$f":"'Rest of UK out-migration'!M11","v":1408},{"$f":"'Overseas net migration'!M11","v":-72},{"$f":"'Overseas in-migration'!M11","v":281},{"$f":"'Overseas out-migration'!M11","v":353},{"$f":"NINo!M12","v":340},{"$f":"'Non-UK Births'!M12","v":87},{"$f":"'Pupils ethnic group'!N12","v":411},{"$f":"'Pupils with English as an add.'!K11","v":341},{"$f":"'Pop born outside UK'!M12","v":5000},{"$f":"'Non-British Population'!M12","v":2000},{"$f":"Citizenships!M12","v":29}]
[10,"Dundee City",null,{"$f":"'Total net migration'!M12","v":209},{"$f":"'Total net migration 0-15'!M12","v":-145},{"$f":"'Total net migration 16-64'!M12","v":410},{"$f":"'Total net migration 65+'!M12","v":-56},{"$f":"'Total in-migration'!M12","v":7019},{"$f":"'Total out-migration'!M12","v":6810},{"$f":"'Within Scotland net migration'!M12","v":-515},{"$f":"'Within Scotland in-migration'!M12","v":4252},{"$f":"'Within Scotland out-migration'!M12","v":4767},{"$f":"'Rest of UK net migration'!M12","v":53},{"$f":"'Rest of UK in-migration'!M12","v":1379},{"$f":"'Rest of UK out-migration'!M12","v":1326},{"$f":"'Overseas net migration'!M12","v":671},{"$f":"'Overseas in-migration'!M12","v":1388},{"$f":"'Overseas out-migration'!M12","v":717},{"$f":"NINo!M13","v":1340},{"$f":"'Non-UK Births'!M13","v":267},{"$f":"'Pupils ethnic group'!N13","v":1595},{"$f":"'Pupils with English as an add.'!K12","v":1137},{"$f":"'Pop born outside UK'!M13","v":17000},{"$f":"'Non-British Population'!M13","v":14000},{"$f":"Citizenships!M13","v":124}]
[11,"East Ayrshire",null,{"$f":"'Total net migration'!M13","v":62},{"$f":"'Total net migration 0-15'!M13","v":71},{"$f":"'Total net migration 16-64'!M13","v":10},{"$f":"'Total net migration 65+'!M13","v":-19},{"$f":"'Total in-migration'!M13","v":3352},{"$f":"'Total out-migration'!M13","v":3290},{"$f":"'Within Scotland net migration'!M13","v":-15},{"$f":"'Within Scotland in-migration'!M13","v":2605},{"$f":"'Within Scotland out-migration'!M13","v":2620},{"$f":"'Rest of UK net migration'!M13","v":168},{"$f":"'Rest of UK in-migration'!M13","v":657},{"$f":"'Rest of UK out-migration'!M13","v":489},{"$f":"'Overseas net migration'!M13","v":-91},{"$f":"'Overseas in-migration'!M13","v":90},{"$f":"'Overseas out-migration'!M13","v":181},{"$f":"NINo!M14","v":90},{"$f":"'Non-UK Births'!M14","v":56},{"$f":"'Pupils ethnic group'!N14","v":382},{"$f":"'Pupils with English as an add.'!K13","v":169},{"$f":"'Pop born outside UK'!M14","v":2000},{"$f":"'Non-British Population'!M14","v":2000},{"$f":"Citizenships!M14","v":16}]
[12,"East Dunbartonshire",null,{"$f":"'Total net migration'!M14","v":549},{"$f":"'Total net migration 0-15'!M14","v":513},{"$f":"'Total net migration 16-64'!M14","v":60},{"$f":"'Total net migration 65+'!M14","v":-24},{"$f":"'Total in-migration'!M14","v":4197},{"$f":"'Total out-migration'!M14","v":3648},{"$f":"'Within Scotland net migration'!M14","v":607},{"$f":"'Within Scotland in-migration'!M14","v":3615},{"$f":"'Within Scotland out-migration'!M14","v":3008},{"$f":"'Rest of UK net migration'!M14","v":55},{"$f":"'Rest of UK in-migration'!M14","v":477},{"$f":"'Rest of UK out-migration'!M14","v":422},{"$f":"'Overseas net migration'!M14","v":-113},{"$f":"'Overseas in-migration'!M14","v":105},{"$f":"'Overseas out-migration'!M14","v":218},{"$f":"NINo!M15","v":110},{"$f":"'Non-UK Births'!M15","v":86},{"$f":"'Pupils ethnic group'!N15","v":1293},{"$f":"'Pupils with English as an add.'!K14","v":406},{"$f":"'Pop born outside UK'!M15","v":5000},{"$f":"'Non-British Population'!M15","v":2000},{"$f":"Citizenships!M15","v":52}]
[13,"East Lothian",null,{"$f":"'Total net migration'!M15","v":961},{"$f":"'Total net migration 0-15'!M15","v":222},{"$f":"'Total net migration 16-64'!M15","v":606},{"$f":"'Total net migration 65+'!M15","v":133},{"$f":"'Total in-migration'!M15","v":4337},{"$f":"'Total out-migration'!M15","v":3376},{"$f":"'Within Scotland net migration'!M15","v":684},{"$f":"'Within Scotland in-migration'!M15","v":3231},{"$f":"'Within Scotland out-migration'!M15","v":2547},{"$f":"'Rest of UK net migration'!M15","v":120},{"$f":"'Rest of UK in-migration'!M15","v":694},{"$f":"'Rest of UK out-migration'!M15","v":574},{"$f":"'Overseas net migration'!M15","v":157},{"$f":"'Overseas in-migration'!M15","v":412},{"$f":"'Overseas out-migration'!M15","v":255},{"$f":"NINo!M16","v":510},{"$f":"'Non-UK Births'!M16","v":125},{"$f":"'Pupils ethnic group'!N16","v":393},{"$f":"'Pupils with English as an add.'!K15","v":283},{"$f":"'Pop born outside UK'!M16","v":5000},{"$f":"'Non-British Population'!M16","v":3000},{"$f":"Citizenships!M16","v":32}]
[14,"East Renfrewshire",null,{"$f":"'Total net migration'!M16","v":627},{"$f":"'Total net migration 0-15'!M16","v":567},{"$f":"'Total net migration 16-64'!M16","v":-74},{"$f":"'Total net migration 65+'!M16","v":134},{"$f":"'Total in-migration'!M16","v":3943},{"$f":"'Total out-migration'!M16","v":3316},{"$f":"'Within Scotland net migration'!M16","v":708},{"$f":"'Within Scotland in-migration'!M16","v":3416},{"$f":"'Within Scotland out-migration'!M16","v":2708},{"$f":"'Rest of UK net migration'!M16","v":2},{"$f":"'Rest of UK in-migration'!M16","v":400},{"$f":"'Rest of UK out-migration'!M16","v":398},{"$f":"'Overseas net migration'!M16","v":-83},{"$f":"'Overseas in-migration'!M16","v":127},{"$f":"'Overseas out-migration'!M16","v":210},{"$f":"NINo!M17","v":140},{"$f":"'Non-UK Births'!M17","v":92},{"$f":"'Pupils ethnic group'!N17","v":2795},{"$f":"'Pupils with English as an add.'!K16","v":837},{"$f":"'Pop born outside UK'!M17","v":6000},{"$f":"'Non-British Population'!M17","v":4000},{"$f":"Citizenships!M17","v":44}]
[15,"Falkirk",null,{"$f":"'Total net migration'!M17","v":734},{"$f":"'Total net migration 0-15'!M17","v":129},{"$f":"'Total net migration 16-64'!M17","v":571},{"$f":"'Total net migration 65+'!M17","v":34},{"$f":"'Total in-migration'!M17","v":4478},{"$f":"'Total out-migration'!M17","v":3744},{"$f":"'Within Scotland net migration'!M17","v":391},{"$f":"'Within Scotland in-migration'!M17","v":3367},{"$f":"'Within Scotland out-migration'!M17","v":2976},{"$f":"'Rest of UK net migration'!M17","v":216},{"$f":"'Rest of UK in-migration'!M17","v":734},{"$f":"'Rest of UK out-migration'!M17","v":518},{"$f":"'Overseas net migration'!M17","v":127},{"$f":"'Overseas in-migration'!M17","v":377},{"$f":"'Overseas out-migration'!M17","v":250},{"$f":"NINo!M18","v":540},{"$f":"'Non-UK Births'!M18","v":171},{"$f":"'Pupils ethnic group'!N18","v":752},{"$f":"'Pupils with English as an add.'!K17","v":648},{"$f":"'Pop born outside UK'!M18","v":8000},{"$f":"'Non-British Population'!M18","v":6000},{"$f":"Citizenships!M18","v":46}]
[16,"Fife",null,{"$f":"'Total net migration'!M18","v":1228},{"$f":"'Total net migration 0-15'!M18","v":279},{"$f":"'Total net migration 16-64'!M18","v":901},{"$f":"'Total net migration 65+'!M18","v":48},{"$f":"'Total in-migration'!M18","v":11289},{"$f":"'Total out-migration'!M18","v":10061},{"$f":"'Within Scotland net migration'!M18","v":-68},{"$f":"'Within Scotland in-migration'!M18","v":6390},{"$f":"'Within Scotland out-migration'!M18","v":6458},{"$f":"'Rest of UK net migration'!M18","v":468},{"$f":"'Rest of UK in-migration'!M18","v":2981},{"$f":"'Rest of UK out-migration'!M18","v":2513},{"$f":"'Overseas net migration'!M18","v":828},{"$f":"'Overseas in-migration'!M18","v":1918},{"$f":"'Overseas out-migration'!M18","v":1090},{"$f":"NINo!M19","v":2620},{"$f":"'Non-UK Births'!M19","v":443},{"$f":"'Pupils ethnic group'!N19","v":1731},{"$f":"'Pupils with English as an add.'!K18","v":1150},{"$f":"'Pop born outside UK'!M19","v":20000},{"$f":"'Non-British Population'!M19","v":14000},{"$f":"Citizenships!M19","v":130}]
[17,"Glasgow City",null,{"$f":"'Total net migration'!M19","v":5840},{"$f":"'Total net migration 0-15'!M19","v":-698},{"$f":"'Total net migration 16-64'!M19","v":6790},{"$f":"'Total net migration 65+'!M19","v":-252},{"$f":"'Total in-migration'!M19","v":33301},{"$f":"'Total out-migration'!M19","v":27461},{"$f":"'Within Scotland net migration'!M19","v":-2417},{"$f":"'Within Scotland in-migration'!M19","v":16288},{"$f":"'Within Scotland out-migration'!M19","v":18705},{"$f":"'Rest of UK net migration'!M19","v":1180},{"$f":"'Rest of UK in-migration'!M19","v":6604},{"$f":"'Rest of UK out-migration'!M19","v":5424},{"$f":"'Overseas net migration'!M19","v":7077},{"$f":"'Overseas in-migration'!M19","v":10409},{"$f":"'Overseas out-migration'!M19","v":3332},{"$f":"NINo!M20","v":9310},{"$f":"'Non-UK Births'!M20","v":1952},{"$f":"'Pupils ethnic group'!N20","v":13161},{"$f":"'Pupils with English as an add.'!K19","v":11483},{"$f":"'Pop born outside UK'!M20","v":83000},{"$f":"'Non-British Population'!M20","v":67000},{"$f":"Citizenships!M20","v":723}]
[18,"Highland",null,{"$f":"'Total net migration'!M20","v":1115},{"$f":"'Total net migration 0-15'!M20","v":339},{"$f":"'Total net migration 16-64'!M20","v":819},{"$f":"'Total net migration 65+'!M20","v":-43},{"$f":"'Total in-migration'!M20","v":7722},{"$f":"'Total out-migration'!M20","v":6607},{"$f":"'Within Scotland net migration'!M20","v":-28},{"$f":"'Within Scotland in-migration'!M20","v":4330},{"$f":"'Within Scotland out-migration'!M20","v":4358},{"$f":"'Rest of UK net migration'!M20","v":814},{"$f":"'Rest of UK in-migration'!M20","v":2474},{"$f":"'Rest of UK out-migration'!M20","v":1660},{"$f":"'Overseas net migration'!M20","v":329},{"$f":"'Overseas in-migration'!M20","v":918},{"$f":"'Overseas out-migration'!M20","v":589},{"$f":"NINo!M21","v":1680},{"$f":"'Non-UK Births'!M21","v":314},{"$f":"'Pupils ethnic group'!N21","v":829},{"$f":"'Pupils with English as an add.'!K20","v":1225},{"$f":"'Pop born outside UK'!M21","v":10000},{"$f":"'Non-British Population'!M21","v":6000},{"$f":"Citizenships!M21","v":78}]
[19,"Inverclyde",null,{"$f":"'Total net migration'!M21","v":-136},{"$f":"'Total net migration 0-15'!M21","v":6},{"$f":"'Total net migration 16-64'!M21","v":-148},{"$f":"'Total net migration 65+'!M21","v":6},{"$f":"'Total in-migration'!M21","v":1456},{"$f":"'Total out-migration'!M21","v":1592},{"$f":"'Within Scotland net migration'!M21","v":-253},{"$f":"'Within Scotland in-migration'!M21","v":1003},{"$f":"'Within Scotland out-migration'!M21","v":1256},{"$f":"'Rest of UK net migration'!M21","v":103},{"$f":"'Rest of UK in-migration'!M21","v":353},{"$f":"'Rest of UK out-migration'!M21","v":250},{"$f":"'Overseas net migration'!M21","v":14},{"$f":"'Overseas in-migration'!M21","v":100},{"$f":"'Overseas out-migration'!M21","v":86},{"$f":"NINo!M22","v":100},{"$f":"'Non-UK Births'!M22","v":30},{"$f":"'Pupils ethnic group'!N22","v":192},{"$f":"'Pupils with English as an add.'!K21","v":29},{"$f":"'Pop born outside UK'!M22","v":2000},{"$f":"'Non-British Population'!M22","v":1000},{"$f":"Citizenships!M22","v":4}]
[20,"Midlothian",null,{"$f":"'Total net migration'!M22","v":987},{"$f":"'Total net migration 0-15'!M22","v":250},{"$f":"'Total net migration 16-64'!M22","v":689},{"$f":"'Total net migration 65+'!M22","v":48},{"$f":"'Total in-migration'!M22","v":3645},{"$f":"'Total out-migration'!M22","v":2658},{"$f":"'Within Scotland net migration'!M22","v":1034},{"$f":"'Within Scotland in-migration'!M22","v":3073},{"$f":"'Within Scotland out-migration'!M22","v":2039},{"$f":"'Rest of UK net migration'!M22","v":-27},{"$f":"'Rest of UK in-migration'!M22","v":401},{"$f":"'Rest of UK out-migration'!M22","v":428},{"$f":"'Overseas net migration'!M22","v":-20},{"$f":"'Overseas in-migration'!M22","v":171},{"$f":"'Overseas out-migration'!M22","v":191},{"$f":"NINo!M23","v":240},{"$f":"'Non-UK Births'!M23","v":114},{"$f":"'Pupils ethnic group'!N23","v":462},{"$f":"'Pupils with English as an add.'!K22","v":307},{"$f":"'Pop born outside UK'!M23","v":4000},{"$f":"'Non-British Population'!M23","v":3000},{"$f":"Citizenships!M23","v":49}]
[21,"Moray",null,{"$f":"'Total net migration'!M23","v":410},{"$f":"'Total net migration 0-15'!M23","v":126},{"$f":"'Total net migration 16-64'!M23","v":249},{"$f":"'Total net migration 65+'!M23","v":35},{"$f":"'Total in-migration'!M23","v":3680},{"$f":"'Total out-migration'!M23","v":3270},{"$f":"'Within Scotland net migration'!M23","v":274},{"$f":"'Within Scotland in-migration'!M23","v":2091},{"$f":"'Within Scotland out-migration'!M23","v":1817},{"$f":"'Rest of UK net migration'!M23","v":258},{"$f":"'Rest of UK in-migration'!M23","v":1257},{"$f":"'Rest of UK out-migration'!M23","v":999},{"$f":"'Overseas net migration'!M23","v":-122},{"$f":"'Overseas in-migration'!M23","v":332},{"$f":"'Overseas out-migration'!M23","v":454},{"$f":"NINo!M24","v":310},{"$f":"'Non-UK Births'!M24","v":98},{"$f":"'Pupils ethnic group'!N24","v":318},{"$f":"'Pupils with English as an add.'!K23","v":415},{"$f":"'Pop born outside UK'!M24","v":4000},{"$f":"'Non-British Population'!M24","v":3000},{"$f":"Citizenships!M24","v":36}]
[22,"Na h-Eileanan Siar",null,{"$f":"'Total net migration'!M24","v":-5},{"$f":"'Total net migration 0-15'!M24","v":22},{"$f":"'Total net migration 16-64'!M24","v":-18},{"$f":"'Total net migration 65+'!M24","v":-9},{"$f":"'Total in-migration'!M24","v":881},{"$f":"'Total out-migration'!M24","v":886},{"$f":"'Within Scotland net migration'!M24","v":-46},{"$f":"'Within Scotland in-migration'!M24","v":604},{"$f":"'Within Scotland out-migration'!M24","v":650},{"$f":"'Rest of UK net migration'!M24","v":39},{"$f":"'Rest of UK in-migration'!M24","v":222},{"$f":"'Rest of UK out-migration'!M24","v":183},{"$f":"'Overseas net migration'!M24","v":2},{"$f":"'Overseas in-migration'!M24","v":55},{"$f":"'Overseas out-migration'!M24","v":53},{"$f":"NINo!M25","v":70},{"$f":"'Non-UK Births'!M25","v":8},{"$f":"'Pupils ethnic group'!N25","v":65},{"$f":"'Pupils with English as an add.'!K24","v":53},{"$f":"'Pop born outside UK'!M25","v":"0~"},{"$f":"'Non-British Population'!M25","v":"*"},{"$f":"Citizenships!M25","v":5}]
[23,"North Ayrshire",null,{"$f":"'Total net migration'!M25","v":60},{"$f":"'Total net migration 0-15'!M25","v":101},{"$f":"'Total net migration 16-64'!M25","v":-41},{"$f":"'Total net migration 65+'!M25","v":0},{"$f":"'Total in-migration'!M25","v":3725},{"$f":"'Total out-migration'!M25","v":3665},{"$f":"'Within Scotland net migration'!M25","v":-74},{"$f":"'Within Scotland in-migration'!M25","v":2816},{"$f":"'Within Scotland out-migration'!M25","v":2890},{"$f":"'Rest of UK net migration'!M25","v":176},{"$f":"'Rest of UK in-migration'!M25","v":751},{"$f":"'Rest of UK out-migration'!M25","v":575},{"$f":"'Overseas net migration'!M25","v":-42},{"$f":"'Overseas in-migration'!M25","v":158},{"$f":"'Overseas out-migration'!M25","v":200},{"$f":"NINo!M26","v":180},{"$f":"'Non-UK Births'!M26","v":62},{"$f":"'Pupils ethnic group'!N26","v":331},{"$f":"'Pupils with English as an add.'!K25","v":121},{"$f":"'Pop born outside UK'!M26","v":2000},{"$f":"'Non-British Population'!M26","v":1000},{"$f":"Citizenships!M26","v":23}]
[24,"North Lanarkshire",null,{"$f":"'Total net migration'!M26","v":140},{"$f":"'Total net migration 0-15'!M26","v":107},{"$f":"'Total net migration 16-64'!M26","v":-29},{"$f":"'Total net migration 65+'!M26","v":62},{"$f":"'Total in-migration'!M26","v":7581},{"$f":"'Total out-migration'!M26","v":7441},{"$f":"'Within Scotland net migration'!M26","v":-152},{"$f":"'Within Scotland in-migration'!M26","v":5780},{"$f":"'Within Scotland out-migration'!M26","v":5932},{"$f":"'Rest of UK net migration'!M26","v":127},{"$f":"'Rest of UK in-migration'!M26","v":1178},{"$f":"'Rest of UK out-migration'!M26","v":1051},{"$f":"'Overseas net migration'!M26","v":165},{"$f":"'Overseas in-migration'!M26","v":623},{"$f":"'Overseas out-migration'!M26","v":458},{"$f":"NINo!M27","v":1030},{"$f":"'Non-UK Births'!M27","v":237},{"$f":"'Pupils ethnic group'!N27","v":1928},{"$f":"'Pupils with English as an add.'!K26","v":1271},{"$f":"'Pop born outside UK'!M27","v":14000},{"$f":"'Non-British Population'!M27","v":9000},{"$f":"Citizenships!M27","v":67}]
[25,"Orkney Islands",null,{"$f":"'Total net migration'!M27","v":100},{"$f":"'Total net migration 0-15'!M27","v":35},{"$f":"'Total net migration 16-64'!M27","v":63},{"$f":"'Total net migration 65+'!M27","v":2},{"$f":"'Total in-migration'!M27","v":711},{"$f":"'Total out-migration'!M27","v":611},{"$f":"'Within Scotland net migration'!M27","v":-35},{"$f":"'Within Scotland in-migration'!M27","v":389},{"$f":"'Within Scotland out-migration'!M27","v":424},{"$f":"'Rest of UK net migration'!M27","v":132},{"$f":"'Rest of UK in-migration'!M27","v":269},{"$f":"'Rest of UK out-migration'!M27","v":137},{"$f":"'Overseas net migration'!M27","v":3},{"$f":"'Overseas in-migration'!M27","v":53},{"$f":"'Overseas out-migration'!M27","v":50},{"$f":"NINo!M28","v":60},{"$f":"'Non-UK Births'!M28","v":9},{"$f":"'Pupils ethnic group'!N28","v":38},{"$f":"'Pupils with English as an add.'!K27","v":20},{"$f":"'Pop born outside UK'!M28","v":"0~"},{"$f":"'Non-British Population'!M28","v":"*"},{"$f":"Citizenships!M28","v":2}]
[26,"Perth and Kinross",null,{"$f":"'Total net migration'!M28","v":1263},{"$f":"'Total net migration 0-15'!M28","v":500},{"$f":"'Total net migration 16-64'!M28","v":649},{"$f":"'Total net migration 65+'!M28","v":114},{"$f":"'Total in-migration'!M28","v":6512},{"$f":"'Total out-migration'!M28","v":5249},{"$f":"'Within Scotland net migration'!M28","v":468},{"$f":"'Within Scotland in-migration'!M28","v":4209},{"$f":"'Within Scotland out-migration'!M28","v":3741},{"$f":"'Rest of UK net migration'!M28","v":332},{"$f":"'Rest of UK in-migration'!M28","v":1355},{"$f":"'Rest of UK out-migration'!M28","v":1023},{"$f":"'Overseas net migration'!M28","v":463},{"$f":"'Overseas in-migration'!M28","v":948},{"$f":"'Overseas out-migration'!M28","v":485},{"$f":"NINo!M29","v":2730},{"$f":"'Non-UK Births'!M29","v":233},{"$f":"'Pupils ethnic group'!N29","v":622},{"$f":"'Pupils with English as an add.'!K28","v":740},{"$f":"'Pop born outside UK'!M29","v":14000},{"$f":"'Non-British Population'!M29","v":10000},{"$f":"Citizenships!M29","v":53}]
[27,"Renfrewshire",null,{"$f":"'Total net migration'!M29","v":591},{"$f":"'Total net migration 0-15'!M29","v":98},{"$f":"'Total net migration 16-64'!M29","v":459},{"$f":"'Total net migration 65+'!M29","v":34},{"$f":"'Total in-migration'!M29","v":5410},{"$f":"'Total out-migration'!M29","v":4819},{"$f":"'Within Scotland net migration'!M29","v":203},{"$f":"'Within Scotland in-migration'!M29","v":4075},{"$f":"'Within Scotland out-migration'!M29","v":3872},{"$f":"'Rest of UK net migration'!M29","v":110},{"$f":"'Rest of UK in-migration'!M29","v":787},{"$f":"'Rest of UK out-migration'!M29","v":677},{"$f":"'Overseas net migration'!M29","v":278},{"$f":"'Overseas in-migration'!M29","v":548},{"$f":"'Overseas out-migration'!M29","v":270},{"$f":"NINo!M30","v":750},{"$f":"'Non-UK Births'!M30","v":185},{"$f":"'Pupils ethnic group'!N30","v":979},{"$f":"'Pupils with English as an add.'!K29","v":563},{"$f":"'Pop born outside UK'!M30","v":9000},{"$f":"'Non-British Population'!M30","v":8000},{"$f":"Citizenships!M30","v":86}]
[28,"Scottish Borders",null,{"$f":"'Total net migration'!M30","v":435},{"$f":"'Total net migration 0-15'!M30","v":130},{"$f":"'Total net migration 16-64'!M30","v":282},{"$f":"'Total net migration 65+'!M30","v":23},{"$f":"'Total in-migration'!M30","v":4130},{"$f":"'Total out-migration'!M30","v":3695},{"$f":"'Within Scotland net migration'!M30","v":91},{"$f":"'Within Scotland in-migration'!M30","v":2286},{"$f":"'Within Scotland out-migration'!M30","v":2195},{"$f":"'Rest of UK net migration'!M30","v":394},{"$f":"'Rest of UK in-migration'!M30","v":1580},{"$f":"'Rest of UK out-migration'!M30","v":1186},{"$f":"'Overseas net migration'!M30","v":-50},{"$f":"'Overseas in-migration'!M30","v":264},{"$f":"'Overseas out-migration'!M30","v":314},{"$f":"NINo!M31","v":450},{"$f":"'Non-UK Births'!M31","v":121},{"$f":"'Pupils ethnic group'!N31","v":330},{"$f":"'Pupils with English as an add.'!K30","v":411},{"$f":"'Pop born outside UK'!M31","v":6000},{"$f":"'Non-British Population'!M31","v":4000},{"$f":"Citizenships!M31","v":28}]
[29,"Shetland Islands",null,{"$f":"'Total net migration'!M31","v":-36},{"$f":"'Total net migration 0-15'!M31","v":-7},{"$f":"'Total net migration 16-64'!M31","v":4},{"$f":"'Total net migration 65+'!M31","v":-33},{"$f":"'Total in-migration'!M31","v":705},{"$f":"'Total out-migration'!M31","v":741},{"$f":"'Within Scotland net migration'!M31","v":-99},{"$f":"'Within Scotland in-migration'!M31","v":390},{"$f":"'Within Scotland out-migration'!M31","v":489},{"$f":"'Rest of UK net migration'!M31","v":31},{"$f":"'Rest of UK in-migration'!M31","v":222},{"$f":"'Rest of UK out-migration'!M31","v":191},{"$f":"'Overseas net migration'!M31","v":32},{"$f":"'Overseas in-migration'!M31","v":93},{"$f":"'Overseas out-migration'!M31","v":61},{"$f":"NINo!M32","v":300},{"$f":"'Non-UK Births'!M32","v":24},{"$f":"'Pupils ethnic group'!N32","v":101},{"$f":"'Pupils with English as an add.'!K31","v":57},{"$f":"'Pop born outside UK'!M32","v":"0~"},{"$f":"'Non-British Population'!M32","v":"0~"},{"$f":"Citizenships!M32","v":9}]
[30,"South Ayrshire",null,{"$f":"'Total net migration'!M32","v":311},{"$f":"'Total net migration 0-15'!M32","v":183},{"$f":"'Total net migration 16-64'!M32","v":28},{"$f":"'Total net migration 65+'!M32","v":100},{"$f":"'Total in-migration'!M32","v":3749},{"$f":"'Total out-migration'!M32","v":3438},{"$f":"'Within Scotland net migration'!M32","v":112},{"$f":"'Within Scotland in-migration'!M32","v":2684},{"$f":"'Within Scotland out-migration'!M32","v":2572},{"$f":"'Rest of UK net migration'!M32","v":185},{"$f":"'Rest of UK in-migration'!M32","v":811},{"$f":"'Rest of UK out-migration'!M32","v":626},{"$f":"'Overseas net migration'!M32","v":14},{"$f":"'Overseas in-migration'!M32","v":254},{"$f":"'Overseas out-migration'!M32","v":240},{"$f":"NINo!M33","v":280},{"$f":"'Non-UK Births'!M33","v":78},{"$f":"'Pupils ethnic group'!N33","v":318},{"$f":"'Pupils with English as an add.'!K32","v":177},{"$f":"'Pop born outside UK'!M33","v":4000},{"$f":"'Non-British Population'!M33","v":2000},{"$f":"Citizenships!M33","v":26}]
[31,"South Lanarkshire",null,{"$f":"'Total net migration'!M33","v":1034},{"$f":"'Total net migration 0-15'!M33","v":388},{"$f":"'Total net migration 16-64'!M33","v":616},{"$f":"'Total net migration 65+'!M33","v":30},{"$f":"'Total in-migration'!M33","v":9169},{"$f":"'Total out-migration'!M33","v":8135},{"$f":"'Within Scotland net migration'!M33","v":1228},{"$f":"'Within Scotland in-migration'!M33","v":7455},{"$f":"'Within Scotland out-migration'!M33","v":6227},{"$f":"'Rest of UK net migration'!M33","v":-33},{"$f":"'Rest of UK in-migration'!M33","v":1260},{"$f":"'Rest of UK out-migration'!M33","v":1293},{"$f":"'Overseas net migration'!M33","v":-161},{"$f":"'Overseas in-migration'!M33","v":454},{"$f":"'Overseas out-migration'!M33","v":615},{"$f":"NINo!M34","v":710},{"$f":"'Non-UK Births'!M34","v":221},{"$f":"'Pupils ethnic group'!N34","v":1698},{"$f":"'Pupils with English as an add.'!K33","v":711},{"$f":"'Pop born outside UK'!M34","v":11000},{"$f":"'Non-British Population'!M34","v":7000},{"$f":"Citizenships!M34","v":110}]
[32,"Stirling",null,{"$f":"'Total net migration'!M34","v":1412},{"$f":"'Total net migration 0-15'!M34","v":357},{"$f":"'Total net migration 16-64'!M34","v":1092},{"$f":"'Total net migration 65+'!M34","v":-37},{"$f":"'Total in-migration'!M34","v":5938},{"$f":"'Total out-migration'!M34","v":4526},{"$f":"'Within Scotland net migration'!M34","v":413},{"$f":"'Within Scotland in-migration'!M34","v":3793},{"$f":"'Within Scotland out-migration'!M34","v":3380},{"$f":"'Rest of UK net migration'!M34","v":362},{"$f":"'Rest of UK in-migration'!M34","v":1112},{"$f":"'Rest of UK out-migration'!M34","v":750},{"$f":"'Overseas net migration'!M34","v":637},{"$f":"'Overseas in-migration'!M34","v":1033},{"$f":"'Overseas out-migration'!M34","v":396},{"$f":"NINo!M35","v":750},{"$f":"'Non-UK Births'!M35","v":104},{"$f":"'Pupils ethnic group'!N35","v":464},{"$f":"'Pupils with English as an add.'!K34","v":304},{"$f":"'Pop born outside UK'!M35","v":8000},{"$f":"'Non-British Population'!M35","v":7000},{"$f":"Citizenships!M35","v":27}]
[33,"West Dunbartonshire",null,{"$f":"'Total net migration'!M35","v":79},{"$f":"'Total net migration 0-15'!M35","v":60},{"$f":"'Total net migration 16-64'!M35","v":30},{"$f":"'Total net migration 65+'!M35","v":-11},{"$f":"'Total in-migration'!M35","v":2551},{"$f":"'Total out-migration'!M35","v":2472},{"$f":"'Within Scotland net migration'!M35","v":92},{"$f":"'Within Scotland in-migration'!M35","v":2083},{"$f":"'Within Scotland out-migration'!M35","v":1991},{"$f":"'Rest of UK net migration'!M35","v":20},{"$f":"'Rest of UK in-migration'!M35","v":347},{"$f":"'Rest of UK out-migration'!M35","v":327},{"$f":"'Overseas net migration'!M35","v":-33},{"$f":"'Overseas in-migration'!M35","v":121},{"$f":"'Overseas out-migration'!M35","v":154},{"$f":"NINo!M36","v":190},{"$f":"'Non-UK Births'!M36","v":72},{"$f":"'Pupils ethnic group'!N36","v":328},{"$f":"'Pupils with English as an add.'!K35","v":213},{"$f":"'Pop born outside UK'!M36","v":2000},{"$f":"'Non-British Population'!M36","v":1000},{"$f":"Citizenships!M36","v":11}]
[34,"West Lothian",null,{"$f":"'Total net migration'!M36","v":890},{"$f":"'Total net migration 0-15'!M36","v":290},{"$f":"'Total net migration 16-64'!M36","v":537},{"$f":"'Total net migration 65+'!M36","v":63},{"$f":"'Total in-migration'!M36","v":5724},{"$f":"'Total out-migration'!M36","v":4834},{"$f":"'Within Scotland net migration'!M36","v":633},{"$f":"'Within Scotland in-migration'!M36","v":4308},{"$f":"'Within Scotland out-migration'!M36","v":3675},{"$f":"'Rest of UK net migration'!M36","v":61},{"$f":"'Rest of UK in-migration'!M36","v":855},{"$f":"'Rest of UK out-migration'!M36","v":794},{"$f":"'Overseas net migration'!M36","v":196},{"$f":"'Overseas in-migration'!M36","v":561},{"$f":"'Overseas out-migration'!M36","v":365},{"$f":"NINo!M37","v":880},{"$f":"'Non-UK Births'!M37","v":320},{"$f":"'Pupils ethnic group'!N37","v":1269},{"$f":"'Pupils with English as an add.'!K36","v":1211},{"$f":"'Pop born outside UK'!M37","v":10000},{"$f":"'Non-British Population'!M37","v":8000},{"$f":"Citizenships!M37","v":80}]
[]
[35,"Not specified"]
[36,"SCOTLAND",null,{"$f":"'Total net migration'!M39","v":27968},{"$f":"'Total net migration 0-15'!M39","v":4093},{"$f":"'Total net migration 16-64'!M39","v":23858},{"$f":"'Total net migration 65+'!M39","v":17},{"$f":"'Total in-migration'!M39","v":84954},{"$f":"'Total out-migration'!M39","v":56986},null,null,null,{"$f":"'Rest of UK net migration'!M39","v":8368},{"$f":"'Rest of UK in-migration'!M39","v":47154},{"$f":"'Rest of UK out-migration'!M39","v":38786},{"$f":"'Overseas net migration'!M39","v":19600},{"$f":"'Overseas in-migration'!M39","v":37800},{"$f":"'Overseas out-migration'!M39","v":18200},null,{"$f":"'Non-UK Births'!M40","v":8998}]
[37,"Ayrshire and Arran",null,{"$f":"'Total net migration'!M40","v":433},{"$f":"'Total net migration 0-15'!M40","v":355},{"$f":"'Total net migration 16-64'!M40","v":-3},{"$f":"'Total net migration 65+'!M40","v":81},{"$f":"'Total in-migration'!M40","v":8024},{"$f":"'Total out-migration'!M40","v":7591},{"$f":"'Within Scotland net migration'!M40","v":23},{"$f":"'Within Scotland in-migration'!M40","v":5303},{"$f":"'Within Scotland out-migration'!M40","v":5280},{"$f":"'Rest of UK net migration'!M40","v":529},{"$f":"'Rest of UK in-migration'!M40","v":2219},{"$f":"'Rest of UK out-migration'!M40","v":1690},{"$f":"'Overseas net migration'!M40","v":-119},{"$f":"'Overseas in-migration'!M40","v":502},{"$f":"'Overseas out-migration'!M40","v":621},null,{"$f":"'Non-UK Births'!M41","v":196}]
[38,"Borders",null,{"$f":"'Total net migration'!M41","v":435},{"$f":"'Total net migration 0-15'!M41","v":130},{"$f":"'Total net migration 16-64'!M41","v":282},{"$f":"'Total net migration 65+'!M41","v":23},{"$f":"'Total in-migration'!M41","v":4130},{"$f":"'Total out-migration'!M41","v":3695},{"$f":"'Within Scotland net migration'!M41","v":91},{"$f":"'Within Scotland in-migration'!M41","v":2286},{"$f":"'Within Scotland out-migration'!M41","v":2195},{"$f":"'Rest of UK net migration'!M41","v":394},{"$f":"'Rest of UK in-migration'!M41","v":1580},{"$f":"'Rest of UK out-migration'!M41","v":1186},{"$f":"'Overseas net migration'!M41","v":-50},{"$f":"'Overseas in-migration'!M41","v":264},{"$f":"'Overseas out-migration'!M41","v":314},null,{"$f":"'Non-UK Births'!M42","v":121}]
[39,"Dumfries and Galloway",null,{"$f":"'Total net migration'!M42","v":330},{"$f":"'Total net migration 0-15'!M42","v":74},{"$f":"'Total net migration 16-64'!M42","v":206},{"$f":"'Total net migration 65+'!M42","v":50},{"$f":"'Total in-migration'!M42","v":3928},{"$f":"'Total out-migration'!M42","v":3598},{"$f":"'Within Scotland net migration'!M42","v":-103},{"$f":"'Within Scotland in-migration'!M42","v":1734},{"$f":"'Within Scotland out-migration'!M42","v":1837},{"$f":"'Rest of UK net migration'!M42","v":505},{"$f":"'Rest of UK in-migration'!M42","v":1913},{"$f":"'Rest of UK out-migration'!M42","v":1408},{"$f":"'Overseas net migration'!M42","v":-72},{"$f":"'Overseas in-migration'!M42","v":281},{"$f":"'Overseas out-migration'!M42","v":353},null,{"$f":"'Non-UK Births'!M43","v":87}]
[40,"Fife",null,{"$f":"'Total net migration'!M43","v":1228},{"$f":"'Total net migration 0-15'!M43","v":279},{"$f":"'Total net migration 16-64'!M43","v":901},{"$f":"'Total net migration 65+'!M43","v":48},{"$f":"'Total in-migration'!M43","v":11289},{"$f":"'Total out-migration'!M43","v":10061},{"$f":"'Within Scotland net migration'!M43","v":-68},{"$f":"'Within Scotland in-migration'!M43","v":6390},{"$f":"'Within Scotland out-migration'!M43","v":6458},{"$f":"'Rest of UK net migration'!M43","v":468},{"$f":"'Rest of UK in-migration'!M43","v":2981},{"$f":"'Rest of UK out-migration'!M43","v":2513},{"$f":"'Overseas net migration'!M43","v":828},{"$f":"'Overseas in-migration'!M43","v":1918},{"$f":"'Overseas out-migration'!M43","v":1090},null,{"$f":"'Non-UK Births'!M44","v":443}]
[41,"Forth Valley",null,{"$f":"'Total net migration'!M44","v":2288},{"$f":"'Total net migration 0-15'!M44","v":494},{"$f":"'Total net migration 16-64'!M44","v":1714},{"$f":"'Total net migration 65+'!M44","v":80},{"$f":"'Total in-migration'!M44","v":10572},{"$f":"'Total out-migration'!M44","v":8284},{"$f":"'Within Scotland net migration'!M44","v":871},{"$f":"'Within Scotland in-migration'!M44","v":6915},{"$f":"'Within Scotland out-migration'!M44","v":6044},{"$f":"'Rest of UK net migration'!M44","v":657},{"$f":"'Rest of UK in-migration'!M44","v":2149},{"$f":"'Rest of UK out-migration'!M44","v":1492},{"$f":"'Overseas net migration'!M44","v":760},{"$f":"'Overseas in-migration'!M44","v":1508},{"$f":"'Overseas out-migration'!M44","v":748},null,{"$f":"'Non-UK Births'!M45","v":315}]
[42,"Grampian",null,{"$f":"'Total net migration'!M45","v":2481},{"$f":"'Total net migration 0-15'!M45","v":252},{"$f":"'Total net migration 16-64'!M45","v":2593},{"$f":"'Total net migration 65+'!M45","v":-364},{"$f":"'Total in-migration'!M45","v":19204},{"$f":"'Total out-migration'!M45","v":16723},{"$f":"'Within Scotland net migration'!M45","v":-996},{"$f":"'Within Scotland in-migration'!M45","v":7743},{"$f":"'Within Scotland out-migration'!M45","v":8739},{"$f":"'Rest of UK net migration'!M45","v":154},{"$f":"'Rest of UK in-migration'!M45","v":5459},{"$f":"'Rest of UK out-migration'!M45","v":5305},{"$f":"'Overseas net migration'!M45","v":3323},{"$f":"'Overseas in-migration'!M45","v":6002},{"$f":"'Overseas out-migration'!M45","v":2679},null,{"$f":"'Non-UK Births'!M46","v":1524}]
[43,"Greater Glasgow and Clyde",null,{"$f":"'Total net migration'!M46","v":7550},{"$f":"'Total net migration 0-15'!M46","v":546},{"$f":"'Total net migration 16-64'!M46","v":7117},{"$f":"'Total net migration 65+'!M46","v":-113},{"$f":"'Total in-migration'!M46","v":37643},{"$f":"'Total out-migration'!M46","v":30093},{"$f":"'Within Scotland net migration'!M46","v":-1060},{"$f":"'Within Scotland in-migration'!M46","v":17265},{"$f":"'Within Scotland out-migration'!M46","v":18325},{"$f":"'Rest of UK net migration'!M46","v":1470},{"$f":"'Rest of UK in-migration'!M46","v":8968},{"$f":"'Rest of UK out-migration'!M46","v":7498},{"$f":"'Overseas net migration'!M46","v":7140},{"$f":"'Overseas in-migration'!M46","v":11410},{"$f":"'Overseas out-migration'!M46","v":4270},null,{"$f":"'Non-UK Births'!M47","v":2417}]
[44,"Highland",null,{"$f":"'Total net migration'!M47","v":882},{"$f":"'Total net migration 0-15'!M47","v":365},{"$f":"'Total net migration 16-64'!M47","v":621},{"$f":"'Total net migration 65+'!M47","v":-104},{"$f":"'Total in-migration'!M47","v":11308},{"$f":"'Total out-migration'!M47","v":10426},{"$f":"'Within Scotland net migration'!M47","v":-472},{"$f":"'Within Scotland in-migration'!M47","v":6276},{"$f":"'Within Scotland out-migration'!M47","v":6748},{"$f":"'Rest of UK net migration'!M47","v":1110},{"$f":"'Rest of UK in-migration'!M47","v":3815},{"$f":"'Rest of UK out-migration'!M47","v":2705},{"$f":"'Overseas net migration'!M47","v":244},{"$f":"'Overseas in-migration'!M47","v":1217},{"$f":"'Overseas out-migration'!M47","v":973},null,{"$f":"'Non-UK Births'!M48","v":401}]
[45,"Lanarkshire",null,{"$f":"'Total net migration'!M48","v":1174},{"$f":"'Total net migration 0-15'!M48","v":495},{"$f":"'Total net migration 16-64'!M48","v":587},{"$f":"'Total net migration 65+'!M48","v":92},{"$f":"'Total in-migration'!M48","v":14153},{"$f":"'Total out-migration'!M48","v":12979},{"$f":"'Within Scotland net migration'!M48","v":1076},{"$f":"'Within Scotland in-migration'!M48","v":10638},{"$f":"'Within Scotland out-migration'!M48","v":9562},{"$f":"'Rest of UK net migration'!M48","v":94},{"$f":"'Rest of UK in-migration'!M48","v":2438},{"$f":"'Rest of UK out-migration'!M48","v":2344},{"$f":"'Overseas net migration'!M48","v":4},{"$f":"'Overseas in-migration'!M48","v":1077},{"$f":"'Overseas out-migration'!M48","v":1073},null,{"$f":"'Non-UK Births'!M49","v":458}]
[46,"Lothian",null,{"$f":"'Total net migration'!M49","v":9099},{"$f":"'Total net migration 0-15'!M49","v":504},{"$f":"'Total net migration 16-64'!M49","v":8425},{"$f":"'Total net migration 65+'!M49","v":170},{"$f":"'Total in-migration'!M49","v":35907},{"$f":"'Total out-migration'!M49","v":26808},{"$f":"'Within Scotland net migration'!M49","v":424},{"$f":"'Within Scotland in-migration'!M49","v":13662},{"$f":"'Within Scotland out-migration'!M49","v":13238},{"$f":"'Rest of UK net migration'!M49","v":2293},{"$f":"'Rest of UK in-migration'!M49","v":11451},{"$f":"'Rest of UK out-migration'!M49","v":9158},{"$f":"'Overseas net migration'!M49","v":6382},{"$f":"'Overseas in-migration'!M49","v":10794},{"$f":"'Overseas out-migration'!M49","v":4412},null,{"$f":"'Non-UK Births'!M50","v":2380}]
[47,"Orkney",null,{"$f":"'Total net migration'!M50","v":100},{"$f":"'Total net migration 0-15'!M50","v":35},{"$f":"'Total net migration 16-64'!M50","v":63},{"$f":"'Total net migration 65+'!M50","v":2},{"$f":"'Total in-migration'!M50","v":711},{"$f":"'Total out-migration'!M50","v":611},{"$f":"'Within Scotland net migration'!M50","v":-35},{"$f":"'Within Scotland in-migration'!M50","v":389},{"$f":"'Within Scotland out-migration'!M50","v":424},{"$f":"'Rest of UK net migration'!M50","v":132},{"$f":"'Rest of UK in-migration'!M50","v":269},{"$f":"'Rest of UK out-migration'!M50","v":137},{"$f":"'Overseas net migration'!M50","v":3},{"$f":"'Overseas in-migration'!M50","v":53},{"$f":"'Overseas out-migration'!M50","v":50},null,{"$f":"'Non-UK Births'!M51","v":9}]
[48,"Shetland",null,{"$f":"'Total net migration'!M51","v":-36},{"$f":"'Total net migration 0-15'!M51","v":-7},{"$f":"'Total net migration 16-64'!M51","v":4},{"$f":"'Total net migration 65+'!M51","v":-33},{"$f":"'Total in-migration'!M51","v":705},{"$f":"'Total out-migration'!M51","v":741},{"$f":"'Within Scotland net migration'!M51","v":-99},{"$f":"'Within Scotland in-migration'!M51","v":390},{"$f":"'Within Scotland out-migration'!M51","v":489},{"$f":"'Rest of UK net migration'!M51","v":31},{"$f":"'Rest of UK in-migration'!M51","v":222},{"$f":"'Rest of UK out-migration'!M51","v":191},{"$f":"'Overseas net migration'!M51","v":32},{"$f":"'Overseas in-migration'!M51","v":93},{"$f":"'Overseas out-migration'!M51","v":61},null,{"$f":"'Non-UK Births'!M52","v":24}]
[49,"Tayside",null,{"$f":"'Total net migration'!M52","v":2009},{"$f":"'Total net migration 0-15'!M52","v":549},{"$f":"'Total net migration 16-64'!M52","v":1366},{"$f":"'Total net migration 65+'!M52","v":94},{"$f":"'Total in-migration'!M52","v":14314},{"$f":"'Total out-migration'!M52","v":12305},{"$f":"'Within Scotland net migration'!M52","v":394},{"$f":"'Within Scotland in-migration'!M52","v":8220},{"$f":"'Within Scotland out-migration'!M52","v":7826},{"$f":"'Rest of UK net migration'!M52","v":492},{"$f":"'Rest of UK in-migration'!M52","v":3468},{"$f":"'Rest of UK out-migration'!M52","v":2976},{"$f":"'Overseas net migration'!M52","v":1123},{"$f":"'Overseas in-migration'!M52","v":2626},{"$f":"'Overseas out-migration'!M52","v":1503},null,{"$f":"'Non-UK Births'!M53","v":615}]
[50,"Western Isles",null,{"$f":"'Total net migration'!M53","v":-5},{"$f":"'Total net migration 0-15'!M53","v":22},{"$f":"'Total net migration 16-64'!M53","v":-18},{"$f":"'Total net migration 65+'!M53","v":-9},{"$f":"'Total in-migration'!M53","v":881},{"$f":"'Total out-migration'!M53","v":886},{"$f":"'Within Scotland net migration'!M53","v":-46},{"$f":"'Within Scotland in-migration'!M53","v":604},{"$f":"'Within Scotland out-migration'!M53","v":650},{"$f":"'Rest of UK net migration'!M53","v":39},{"$f":"'Rest of UK in-migration'!M53","v":222},{"$f":"'Rest of UK out-migration'!M53","v":183},{"$f":"'Overseas net migration'!M53","v":2},{"$f":"'Overseas in-migration'!M53","v":55},{"$f":"'Overseas out-migration'!M53","v":53},null,{"$f":"'Non-UK Births'!M54","v":8}]

{"sheet":"2015 Rate","index":42,"n_rows":53,"n_cols":27,"rows_kept":53,"cut":false,"hidden":true,"merged":[]}
[null,2015,"RATE"]
[null,null,"Not specified ",{"$f":"'Comparing Indicators'!$U8","v":"Total net migration"},{"$f":"'Comparing Indicators'!$U9","v":"Total net migration for ages 0-15"},{"$f":"'Comparing Indicators'!$U10","v":"Total net migration for ages 16-64"},{"$f":"'Comparing Indicators'!$U11","v":"Total net migration for people aged 65+"},{"$f":"'Comparing Indicators'!$U12","v":"Total in-migration"},{"$f":"'Comparing Indicators'!$U13","v":"Total out-migration"},{"$f":"'Comparing Indicators'!$U14","v":"Within Scotland net migration"},{"$f":"'Comparing Indicators'!$U15","v":"Within Scotland in-migration"},{"$f":"'Comparing Indicators'!$U16","v":"Within Scotland out-migration"},{"$f":"'Comparing Indicators'!$U17","v":"Rest of UK net migration"},{"$f":"'Comparing Indicators'!$U18","v":"Rest of UK in-migration"},{"$f":"'Comparing Indicators'!$U19","v":"Rest of UK out-migration"},{"$f":"'Comparing Indicators'!$U20","v":"Overseas net migration"},{"$f":"'Comparing Indicators'!$U21","v":"Overseas in-migration"},{"$f":"'Comparing Indicators'!$U22","v":"Overseas out-migration"},{"$f":"'Comparing Indicators'!$U23","v":"NINo Allocation"},{"$f":"'Comparing Indicators'!$U24","v":"Births to non-UK mothers"},{"$f":"'Comparing Indicators'!$U25","v":"Pupils from a minority ethnic group"},{"$f":"'Comparing Indicators'!$U26","v":"Pupils with English as an additional language"},{"$f":"'Comparing Indicators'!$U27","v":"Population born outside the UK"},{"$f":"'Comparing Indicators'!$U28","v":"Population with non-British nationality"},{"$f":"'Comparing Indicators'!$U29","v":"Citizenships"},null,"Mid-year population estimate"]
[1,"Not specified"]
[2,"SCOTLAND",null,{"$f":"('2015'!D4/'2015 Rate'!$AA4)*1000","v":5.2052856876977485},{"$f":"('2015'!E4/'2015 Rate'!$AA4)*1000","v":0.76177182207332961},{"$f":"('2015'!F4/'2015 Rate'!$AA4)*1000","v":4.4403498976363291},{"$f":"('2015'!G4/'2015 Rate'!$AA4)*1000","v":3.1639679880885912E-3},{"$f":"('2015'!H4/'2015 Rate'!$AA4)*1000","v":15.811278615298717},{"$f":"('2015'!I4/'2015 Rate'!$AA4)*1000","v":10.605992927600967},"N/A","N/A","N/A",{"$f":"('2015'!M4/'2015 Rate'!$AA4)*1000","v":1.5574167131956076},{"$f":"('2015'!N4/'2015 Rate'!$AA4)*1000","v":8.7761027359017305},{"$f":"('2015'!O4/'2015 Rate'!$AA4)*1000","v":7.218686022706124},{"$f":"('2015'!P4/'2015 Rate'!$AA4)*1000","v":3.6478689745021402},{"$f":"('2015'!Q4/'2015 Rate'!$AA4)*1000","v":7.0351758793969852},{"$f":"('2015'!R4/'2015 Rate'!$AA4)*1000","v":3.3873069048948445},{"$f":"('2015'!S4/'2015 Rate'!$AA4)*1000","v":8.6674111297226872},{"$f":"('2015'!T4/'2015 Rate'!$AA4)*1000","v":1.6746696445188907},{"$f":"('2015'!U4/'2015 Rate'!$AA4)*1000","v":8.2538619021031092},{"$f":"('2015'!V4/'2015 Rate'!$AA4)*1000","v":6.5961287921086917},null,null,{"$f":"('2015'!Y4/'2015 Rate'!$AA4)*1000","v":0.65922203610645824},"Scotland",5373000]
[3,"Aberdeen City",null,{"$f":"('2015'!D5/'2015 Rate'!$AA5)*1000","v":4.7102235728239634},{"$f":"('2015'!E5/'2015 Rate'!$AA5)*1000","v":-1.4629911004992402},{"$f":"('2015'!F5/'2015 Rate'!$AA5)*1000","v":7.0544823095289777},{"$f":"('2015'!G5/'2015 Rate'!$AA5)*1000","v":-0.88126763620577386},{"$f":"('2015'!H5/'2015 Rate'!$AA5)*1000","v":61.037551551986105},{"$f":"('2015'!I5/'2015 Rate'!$AA5)*1000","v":56.327327979162142},{"$f":"('2015'!J5/'2015 Rate'!$AA5)*1000","v":-9.6418493596700667},{"$f":"('2015'!K5/'2015 Rate'!$AA5)*1000","v":29.55068374213154},{"$f":"('2015'!L5/'2015 Rate'!$AA5)*1000","v":39.192533101801601},{"$f":"('2015'!M5/'2015 Rate'!$AA5)*1000","v":0.50792272628608637},{"$f":"('2015'!N5/'2015 Rate'!$AA5)*1000","v":11.560668547861949},{"$f":"('2015'!O5/'2015 Rate'!$AA5)*1000","v":11.052745821575861},{"$f":"('2015'!P5/'2015 Rate'!$AA5)*1000","v":13.844150206207944},{"$f":"('2015'!Q5/'2015 Rate'!$AA5)*1000","v":19.926199261992622},{"$f":"('2015'!R5/'2015 Rate'!$AA5)*1000","v":6.0820490557846751},{"$f":"('2015'!S5/'2015 Rate'!$AA5)*1000","v":22.617755589320598},{"$f":"('2015'!T5/'2015 Rate'!$AA5)*1000","v":4.3064901237247675},{"$f":"('2015'!U5/'2015 Rate'!$AA5)*1000","v":12.407206425005427},{"$f":"('2015'!V5/'2015 Rate'!$AA5)*1000","v":13.258085522031692},null,null,{"$f":"('2015'!Y5/'2015 Rate'!$AA5)*1000","v":2.7306273062730626},"Aberdeen City",230350]
[4,"Aberdeenshire",null,{"$f":"('2015'!D6/'2015 Rate'!$AA6)*1000","v":3.7639334249503742},{"$f":"('2015'!E6/'2015 Rate'!$AA6)*1000","v":1.7674454115132081},{"$f":"('2015'!F6/'2015 Rate'!$AA6)*1000","v":2.7446938463887616},{"$f":"('2015'!G6/'2015 Rate'!$AA6)*1000","v":-0.74820583295159571},{"$f":"('2015'!H6/'2015 Rate'!$AA6)*1000","v":36.219270117575206},{"$f":"('2015'!I6/'2015 Rate'!$AA6)*1000","v":32.455336692624826},{"$f":"('2015'!J6/'2015 Rate'!$AA6)*1000","v":3.6303252404947322},{"$f":"('2015'!K6/'2015 Rate'!$AA6)*1000","v":26.221560543594443},{"$f":"('2015'!L6/'2015 Rate'!$AA6)*1000","v":22.591235303099708},{"$f":"('2015'!M6/'2015 Rate'!$AA6)*1000","v":-0.84364025041991142},{"$f":"('2015'!N6/'2015 Rate'!$AA6)*1000","v":5.8749427393495193},{"$f":"('2015'!O6/'2015 Rate'!$AA6)*1000","v":6.7185829897694305},{"$f":"('2015'!P6/'2015 Rate'!$AA6)*1000","v":0.97724843487555357},{"$f":"('2015'!Q6/'2015 Rate'!$AA6)*1000","v":4.1227668346312418},{"$f":"('2015'!R6/'2015 Rate'!$AA6)*1000","v":3.1455183997556877},{"$f":"('2015'!S6/'2015 Rate'!$AA6)*1000","v":6.6040616888074517},{"$f":"('2015'!T6/'2015 Rate'!$AA6)*1000","v":1.6567414872499617},{"$f":"('2015'!U6/'2015 Rate'!$AA6)*1000","v":3.7944724385402351},{"$f":"('2015'!V6/'2015 Rate'!$AA6)*1000","v":5.9780119102153},null,null,{"$f":"('2015'!Y6/'2015 Rate'!$AA6)*1000","v":0.80546648343258509},"Aberdeenshire",261960]
[5,"Angus",null,{"$f":"('2015'!D7/'2015 Rate'!$AA7)*1000","v":4.5936698032506413},{"$f":"('2015'!E7/'2015 Rate'!$AA7)*1000","v":1.6595380667236954},{"$f":"('2015'!F7/'2015 Rate'!$AA7)*1000","v":2.6261762189905906},{"$f":"('2015'!G7/'2015 Rate'!$AA7)*1000","v":0.30795551753635586},{"$f":"('2015'!H7/'2015 Rate'!$AA7)*1000","v":36.834901625320782},{"$f":"('2015'!I7/'2015 Rate'!$AA7)*1000","v":32.241231822070141},{"$f":"('2015'!J7/'2015 Rate'!$AA7)*1000","v":3.772455089820359},{"$f":"('2015'!K7/'2015 Rate'!$AA7)*1000","v":28.075278015397775},{"$f":"('2015'!L7/'2015 Rate'!$AA7)*1000","v":24.302822925577416},{"$f":"('2015'!M7/'2015 Rate'!$AA7)*1000","v":0.91531223267750206},{"$f":"('2015'!N7/'2015 Rate'!$AA7)*1000","v":6.2788708297690334},{"$f":"('2015'!O7/'2015 Rate'!$AA7)*1000","v":5.363558597091532},{"$f":"('2015'!P7/'2015 Rate'!$AA7)*1000","v":-9.4097519247219846E-2},{"$f":"('2015'!Q7/'2015 Rate'!$AA7)*1000","v":2.4807527801539777},{"$f":"('2015'!R7/'2015 Rate'!$AA7)*1000","v":2.5748502994011973},{"$f":"('2015'!S7/'2015 Rate'!$AA7)*1000","v":11.206159110350727},{"$f":"('2015'!T7/'2015 Rate'!$AA7)*1000","v":0.98374679213002558},{"$f":"('2015'!U7/'2015 Rate'!$AA7)*1000","v":3.1308810949529513},{"$f":"('2015'!V7/'2015 Rate'!$AA7)*1000","v":4.0718562874251498},null,null,{"$f":"('2015'!Y7/'2015 Rate'!$AA7)*1000","v":0.15397775876817793},"Angus",116900]
[6,"Argyll and Bute",null,{"$f":"('2015'!D8/'2015 Rate'!$AA8)*1000","v":-2.6815513868109107},{"$f":"('2015'!E8/'2015 Rate'!$AA8)*1000","v":0.29922891011623892},{"$f":"('2015'!F8/'2015 Rate'!$AA8)*1000","v":-2.2787432385775115},{"$f":"('2015'!G8/'2015 Rate'!$AA8)*1000","v":-0.70203705834963748},{"$f":"('2015'!H8/'2015 Rate'!$AA8)*1000","v":45.033950972493955},{"$f":"('2015'!I8/'2015 Rate'!$AA8)*1000","v":47.715502359304871},{"$f":"('2015'!J8/'2015 Rate'!$AA8)*1000","v":-5.1099090804465419},{"$f":"('2015'!K8/'2015 Rate'!$AA8)*1000","v":26.159512026700426},{"$f":"('2015'!L8/'2015 Rate'!$AA8)*1000","v":31.269421107146972},{"$f":"('2015'!M8/'2015 Rate'!$AA8)*1000","v":3.4066060536310276},{"$f":"('2015'!N8/'2015 Rate'!$AA8)*1000","v":15.433306479456784},{"$f":"('2015'!O8/'2015 Rate'!$AA8)*1000","v":12.026700425825757},{"$f":"('2015'!P8/'2015 Rate'!$AA8)*1000","v":-0.9782483599953965},{"$f":"('2015'!Q8/'2015 Rate'!$AA8)*1000","v":3.441132466336748},{"$f":"('2015'!R8/'2015 Rate'!$AA8)*1000","v":4.4193808263321435},{"$f":"('2015'!S8/'2015 Rate'!$AA8)*1000","v":6.5600184140867759},{"$f":"('2015'!T8/'2015 Rate'!$AA8)*1000","v":1.0012659684658765},{"$f":"('2015'!U8/'2015 Rate'!$AA8)*1000","v":2.9347450799861896},{"$f":"('2015'!V8/'2015 Rate'!$AA8)*1000","v":2.0140407411669927},null,null,{"$f":"('2015'!Y8/'2015 Rate'!$AA8)*1000","v":0.25319369317527907},"Argyll & Bute",86890]
[7,"City of Edinburgh",null,{"$f":"('2015'!D9/'2015 Rate'!$AA9)*1000","v":12.55187345883202},{"$f":"('2015'!E9/'2015 Rate'!$AA9)*1000","v":-0.51723100980333192},{"$f":"('2015'!F9/'2015 Rate'!$AA9)*1000","v":13.217457548966541},{"$f":"('2015'!G9/'2015 Rate'!$AA9)*1000","v":-0.14835308033118824},{"$f":"('2015'!H9/'2015 Rate'!$AA9)*1000","v":63.021992341773412},{"$f":"('2015'!I9/'2015 Rate'!$AA9)*1000","v":50.470118882941399},{"$f":"('2015'!J9/'2015 Rate'!$AA9)*1000","v":-3.8631944026783747},{"$f":"('2015'!K9/'2015 Rate'!$AA9)*1000","v":24.628616106333073},{"$f":"('2015'!L9/'2015 Rate'!$AA9)*1000","v":28.491810509011447},{"$f":"('2015'!M9/'2015 Rate'!$AA9)*1000","v":4.288205930113671},{"$f":"('2015'!N9/'2015 Rate'!$AA9)*1000","v":19.04733265171107},{"$f":"('2015'!O9/'2015 Rate'!$AA9)*1000","v":14.759126721597402},{"$f":"('2015'!P9/'2015 Rate'!$AA9)*1000","v":12.126861931396725},{"$f":"('2015'!Q9/'2015 Rate'!$AA9)*1000","v":19.346043583729276},{"$f":"('2015'!R9/'2015 Rate'!$AA9)*1000","v":7.2191816523325514},{"$f":"('2015'!S9/'2015 Rate'!$AA9)*1000","v":23.916922275014535},{"$f":"('2015'!T9/'2015 Rate'!$AA9)*1000","v":3.6506886389607263},{"$f":"('2015'!U9/'2015 Rate'!$AA9)*1000","v":13.80686032757964},{"$f":"('2015'!V9/'2015 Rate'!$AA9)*1000","v":11.397125157875745},null,null,{"$f":"('2015'!Y9/'2015 Rate'!$AA9)*1000","v":1.5236262304284196},"City of Edinburgh",498810]
[8,"Clackmannanshire",null,{"$f":"('2015'!D10/'2015 Rate'!$AA10)*1000","v":2.7647975077881619},{"$f":"('2015'!E10/'2015 Rate'!$AA10)*1000","v":0.15576323987538943},{"$f":"('2015'!F10/'2015 Rate'!$AA10)*1000","v":0.9929906542056075},{"$f":"('2015'!G10/'2015 Rate'!$AA10)*1000","v":1.6160436137071652},{"$f":"('2015'!H10/'2015 Rate'!$AA10)*1000","v":36.214953271028037},{"$f":"('2015'!I10/'2015 Rate'!$AA10)*1000","v":33.450155763239877},{"$f":"('2015'!J10/'2015 Rate'!$AA10)*1000","v":1.3045171339563864},{"$f":"('2015'!K10/'2015 Rate'!$AA10)*1000","v":28.407320872274141},{"$f":"('2015'!L10/'2015 Rate'!$AA10)*1000","v":27.102803738317757},{"$f":"('2015'!M10/'2015 Rate'!$AA10)*1000","v":1.5381619937694704},{"$f":"('2015'!N10/'2015 Rate'!$AA10)*1000","v":5.8995327102803738},{"$f":"('2015'!O10/'2015 Rate'!$AA10)*1000","v":4.361370716510903},{"$f":"('2015'!P10/'2015 Rate'!$AA10)*1000","v":-7.7881619937694713E-2},{"$f":"('2015'!Q10/'2015 Rate'!$AA10)*1000","v":1.9080996884735202},{"$f":"('2015'!R10/'2015 Rate'!$AA10)*1000","v":1.985981308411215},{"$f":"('2015'!S10/'2015 Rate'!$AA10)*1000","v":2.1417445482866042},{"$f":"('2015'!T10/'2015 Rate'!$AA10)*1000","v":0.77881619937694702},{"$f":"('2015'!U10/'2015 Rate'!$AA10)*1000","v":3.9524922118380066},{"$f":"('2015'!V10/'2015 Rate'!$AA10)*1000","v":3.2515576323987538},null,null,{"$f":"('2015'!Y10/'2015 Rate'!$AA10)*1000","v":0.23364485981308411},"Clackmannanshire",51360]
[9,"Dumfries and Galloway",null,{"$f":"('2015'!D11/'2015 Rate'!$AA11)*1000","v":2.2048506714772502},{"$f":"('2015'!E11/'2015 Rate'!$AA11)*1000","v":0.49442105966459543},{"$f":"('2015'!F11/'2015 Rate'!$AA11)*1000","v":1.3763613282554954},{"$f":"('2015'!G11/'2015 Rate'!$AA11)*1000","v":0.33406828355715906},{"$f":"('2015'!H11/'2015 Rate'!$AA11)*1000","v":26.244404356250417},{"$f":"('2015'!I11/'2015 Rate'!$AA11)*1000","v":24.039553684773168},{"$f":"('2015'!J11/'2015 Rate'!$AA11)*1000","v":-0.6881806641277477},{"$f":"('2015'!K11/'2015 Rate'!$AA11)*1000","v":11.585488073762278},{"$f":"('2015'!L11/'2015 Rate'!$AA11)*1000","v":12.273668737890025},{"$f":"('2015'!M11/'2015 Rate'!$AA11)*1000","v":3.3740896639273066},{"$f":"('2015'!N11/'2015 Rate'!$AA11)*1000","v":12.781452528896907},{"$f":"('2015'!O11/'2015 Rate'!$AA11)*1000","v":9.4073628649696008},{"$f":"('2015'!P11/'2015 Rate'!$AA11)*1000","v":-0.4810583283223091},{"$f":"('2015'!Q11/'2015 Rate'!$AA11)*1000","v":1.8774637535912342},{"$f":"('2015'!R11/'2015 Rate'!$AA11)*1000","v":2.3585220819135433},{"$f":"('2015'!S11/'2015 Rate'!$AA11)*1000","v":2.2716643281886815},{"$f":"('2015'!T11/'2015 Rate'!$AA11)*1000","v":0.58127881338945675},{"$f":"('2015'!U11/'2015 Rate'!$AA11)*1000","v":2.7460412908398477},{"$f":"('2015'!V11/'2015 Rate'!$AA11)*1000","v":2.278345693859825},null,null,{"$f":"('2015'!Y11/'2015 Rate'!$AA11)*1000","v":0.19375960446315227},"Dumfries & Galloway",149670]
[10,"Dundee City",null,{"$f":"('2015'!D12/'2015 Rate'!$AA12)*1000","v":1.4101612576749207},{"$f":"('2015'!E12/'2015 Rate'!$AA12)*1000","v":-0.97834154240604543},{"$f":"('2015'!F12/'2015 Rate'!$AA12)*1000","v":2.766345050941232},{"$f":"('2015'!G12/'2015 Rate'!$AA12)*1000","v":-0.37784225086026585},{"$f":"('2015'!H12/'2015 Rate'!$AA12)*1000","v":47.358477835503678},{"$f":"('2015'!I12/'2015 Rate'!$AA12)*1000","v":45.948316577828756},{"$f":"('2015'!J12/'2015 Rate'!$AA12)*1000","v":-3.4747992713042306},{"$f":"('2015'!K12/'2015 Rate'!$AA12)*1000","v":28.689022333175899},{"$f":"('2015'!L12/'2015 Rate'!$AA12)*1000","v":32.163821604480127},{"$f":"('2015'!M12/'2015 Rate'!$AA12)*1000","v":0.35760070170703734},{"$f":"('2015'!N12/'2015 Rate'!$AA12)*1000","v":9.3043654274340462},{"$f":"('2015'!O12/'2015 Rate'!$AA12)*1000","v":8.9467647257270091},{"$f":"('2015'!P12/'2015 Rate'!$AA12)*1000","v":4.5273598272721136},{"$f":"('2015'!Q12/'2015 Rate'!$AA12)*1000","v":9.3650900748937307},{"$f":"('2015'!R12/'2015 Rate'!$AA12)*1000","v":4.837730247621618},{"$f":"('2015'!S12/'2015 Rate'!$AA12)*1000","v":9.0412252884420763},{"$f":"('2015'!T12/'2015 Rate'!$AA12)*1000","v":1.8014978746373389},{"$f":"('2015'!U12/'2015 Rate'!$AA12)*1000","v":10.7617569664665},{"$f":"('2015'!V12/'2015 Rate'!$AA12)*1000","v":7.6715471290736117},null,null,{"$f":"('2015'!Y12/'2015 Rate'!$AA12)*1000","v":0.83665069833344574},"Dundee City",148210]
[11,"East Ayrshire",null,{"$f":"('2015'!D13/'2015 Rate'!$AA13)*1000","v":0.50794691135507131},{"$f":"('2015'!E13/'2015 Rate'!$AA13)*1000","v":0.58168114042274288},{"$f":"('2015'!F13/'2015 Rate'!$AA13)*1000","v":8.1926921186301821E-2},{"$f":"('2015'!G13/'2015 Rate'!$AA13)*1000","v":-0.15566115025397345},{"$f":"('2015'!H13/'2015 Rate'!$AA13)*1000","v":27.461903981648369},{"$f":"('2015'!I13/'2015 Rate'!$AA13)*1000","v":26.953957070293299},{"$f":"('2015'!J13/'2015 Rate'!$AA13)*1000","v":-0.12289038177945273},{"$f":"('2015'!K13/'2015 Rate'!$AA13)*1000","v":21.341962969031623},{"$f":"('2015'!L13/'2015 Rate'!$AA13)*1000","v":21.464853350811076},{"$f":"('2015'!M13/'2015 Rate'!$AA13)*1000","v":1.3763722759298707},{"$f":"('2015'!N13/'2015 Rate'!$AA13)*1000","v":5.3825987219400293},{"$f":"('2015'!O13/'2015 Rate'!$AA13)*1000","v":4.0062264460101593},{"$f":"('2015'!P13/'2015 Rate'!$AA13)*1000","v":-0.74553498279534658},{"$f":"('2015'!Q13/'2015 Rate'!$AA13)*1000","v":0.73734229067671642},{"$f":"('2015'!R13/'2015 Rate'!$AA13)*1000","v":1.482877273472063},{"$f":"('2015'!S13/'2015 Rate'!$AA13)*1000","v":0.73734229067671642},{"$f":"('2015'!T13/'2015 Rate'!$AA13)*1000","v":0.45879075864329016},{"$f":"('2015'!U13/'2015 Rate'!$AA13)*1000","v":3.1296083893167292},{"$f":"('2015'!V13/'2015 Rate'!$AA13)*1000","v":1.3845649680485008},null,null,{"$f":"('2015'!Y13/'2015 Rate'!$AA13)*1000","v":0.13108307389808291},"East Ayrshire",122060]
[12,"East Dunbartonshire",null,{"$f":"('2015'!D14/'2015 Rate'!$AA14)*1000","v":5.1327599102468211},{"$f":"('2015'!E14/'2015 Rate'!$AA14)*1000","v":4.7961854899027676},{"$f":"('2015'!F14/'2015 Rate'!$AA14)*1000","v":0.56095736724008971},{"$f":"('2015'!G14/'2015 Rate'!$AA14)*1000","v":-0.22438294689603591},{"$f":"('2015'!H14/'2015 Rate'!$AA14)*1000","v":39.238967838444282},{"$f":"('2015'!I14/'2015 Rate'!$AA14)*1000","v":34.106207928197456},{"$f":"('2015'!J14/'2015 Rate'!$AA14)*1000","v":5.6750186985789082},{"$f":"('2015'!K14/'2015 Rate'!$AA14)*1000","v":33.797681376215408},{"$f":"('2015'!L14/'2015 Rate'!$AA14)*1000","v":28.122662677636498},{"$f":"('2015'!M14/'2015 Rate'!$AA14)*1000","v":0.51421091997008228},{"$f":"('2015'!N14/'2015 Rate'!$AA14)*1000","v":4.4596110695587132},{"$f":"('2015'!O14/'2015 Rate'!$AA14)*1000","v":3.9454001495886315},{"$f":"('2015'!P14/'2015 Rate'!$AA14)*1000","v":-1.056469708302169},{"$f":"('2015'!Q14/'2015 Rate'!$AA14)*1000","v":0.98167539267015702},{"$f":"('2015'!R14/'2015 Rate'!$AA14)*1000","v":2.0381451009723262},{"$f":"('2015'!S14/'2015 Rate'!$AA14)*1000","v":1.0284218399401646},{"$f":"('2015'!T14/'2015 Rate'!$AA14)*1000","v":0.80403889304412868},{"$f":"('2015'!U14/'2015 Rate'!$AA14)*1000","v":12.088631264023933},{"$f":"('2015'!V14/'2015 Rate'!$AA14)*1000","v":3.7958115183246073},null,null,{"$f":"('2015'!Y14/'2015 Rate'!$AA14)*1000","v":0.48616305160807782},"East Dunbartonshire",106960]
[13,"East Lothian",null,{"$f":"('2015'!D15/'2015 Rate'!$AA15)*1000","v":9.3255701115963117},{"$f":"('2015'!E15/'2015 Rate'!$AA15)*1000","v":2.1542940320232895},{"$f":"('2015'!F15/'2015 Rate'!$AA15)*1000","v":5.880640465793304},{"$f":"('2015'!G15/'2015 Rate'!$AA15)*1000","v":1.2906356137797186},{"$f":"('2015'!H15/'2015 Rate'!$AA15)*1000","v":42.086365841824353},{"$f":"('2015'!I15/'2015 Rate'!$AA15)*1000","v":32.760795730228047},{"$f":"('2015'!J15/'2015 Rate'!$AA15)*1000","v":6.6375545851528379},{"$f":"('2015'!K15/'2015 Rate'!$AA15)*1000","v":31.353711790393014},{"$f":"('2015'!L15/'2015 Rate'!$AA15)*1000","v":24.716157205240176},{"$f":"('2015'!M15/'2015 Rate'!$AA15)*1000","v":1.1644832605531297},{"$f":"('2015'!N15/'2015 Rate'!$AA15)*1000","v":6.7345948568655993},{"$f":"('2015'!O15/'2015 Rate'!$AA15)*1000","v":5.5701115963124694},{"$f":"('2015'!P15/'2015 Rate'!$AA15)*1000","v":1.5235322658903445},{"$f":"('2015'!Q15/'2015 Rate'!$AA15)*1000","v":3.9980591945657444},{"$f":"('2015'!R15/'2015 Rate'!$AA15)*1000","v":2.4745269286754006},{"$f":"('2015'!S15/'2015 Rate'!$AA15)*1000","v":4.9490538573508012},{"$f":"('2015'!T15/'2015 Rate'!$AA15)*1000","v":1.2130033964095099},{"$f":"('2015'!U15/'2015 Rate'!$AA15)*1000","v":3.813682678311499},{"$f":"('2015'!V15/'2015 Rate'!$AA15)*1000","v":2.7462396894711305},null,null,{"$f":"('2015'!Y15/'2015 Rate'!$AA15)*1000","v":0.31052886948083458},"East Lothian",103050]
[14,"East Renfrewshire",null,{"$f":"('2015'!D16/'2015 Rate'!$AA16)*1000","v":6.7462879276952874},{"$f":"('2015'!E16/'2015 Rate'!$AA16)*1000","v":6.1007101355713358},{"$f":"('2015'!F16/'2015 Rate'!$AA16)*1000","v":-0.79621261028620616},{"$f":"('2015'!G16/'2015 Rate'!$AA16)*1000","v":1.4417904024101571},{"$f":"('2015'!H16/'2015 Rate'!$AA16)*1000","v":42.425220572412314},{"$f":"('2015'!I16/'2015 Rate'!$AA16)*1000","v":35.678932644717023},{"$f":"('2015'!J16/'2015 Rate'!$AA16)*1000","v":7.6178179470626208},{"$f":"('2015'!K16/'2015 Rate'!$AA16)*1000","v":36.754895631590273},{"$f":"('2015'!L16/'2015 Rate'!$AA16)*1000","v":29.13707768452765},{"$f":"('2015'!M16/'2015 Rate'!$AA16)*1000","v":2.1519259737465032E-2},{"$f":"('2015'!N16/'2015 Rate'!$AA16)*1000","v":4.3038519474930057},{"$f":"('2015'!O16/'2015 Rate'!$AA16)*1000","v":4.2823326877555417},{"$f":"('2015'!P16/'2015 Rate'!$AA16)*1000","v":-0.89304927910479881},{"$f":"('2015'!Q16/'2015 Rate'!$AA16)*1000","v":1.3664729933290296},{"$f":"('2015'!R16/'2015 Rate'!$AA16)*1000","v":2.2595222724338284},{"$f":"('2015'!S16/'2015 Rate'!$AA16)*1000","v":1.5063481816225521},{"$f":"('2015'!T16/'2015 Rate'!$AA16)*1000","v":0.98988594792339146},{"$f":"('2015'!U16/'2015 Rate'!$AA16)*1000","v":30.073165483107381},{"$f":"('2015'!V16/'2015 Rate'!$AA16)*1000","v":9.0058102001291154},null,null,{"$f":"('2015'!Y16/'2015 Rate'!$AA16)*1000","v":0.47342371422423069},"East Renfrewshire",92940]
[15,"Falkirk",null,{"$f":"('2015'!D17/'2015 Rate'!$AA17)*1000","v":4.6320838066388994},{"$f":"('2015'!E17/'2015 Rate'!$AA17)*1000","v":0.81408557364634615},{"$f":"('2015'!F17/'2015 Rate'!$AA17)*1000","v":3.6034330430392529},{"$f":"('2015'!G17/'2015 Rate'!$AA17)*1000","v":0.21456518995330051},{"$f":"('2015'!H17/'2015 Rate'!$AA17)*1000","v":28.259497665025872},{"$f":"('2015'!I17/'2015 Rate'!$AA17)*1000","v":23.627413858386976},{"$f":"('2015'!J17/'2015 Rate'!$AA17)*1000","v":2.4674996844629562},{"$f":"('2015'!K17/'2015 Rate'!$AA17)*1000","v":21.24826454625773},{"$f":"('2015'!L17/'2015 Rate'!$AA17)*1000","v":18.780764861794776},{"$f":"('2015'!M17/'2015 Rate'!$AA17)*1000","v":1.3631200302915563},{"$f":"('2015'!N17/'2015 Rate'!$AA17)*1000","v":4.6320838066388994},{"$f":"('2015'!O17/'2015 Rate'!$AA17)*1000","v":3.2689637763473431},{"$f":"('2015'!P17/'2015 Rate'!$AA17)*1000","v":0.80146409188438728},{"$f":"('2015'!Q17/'2015 Rate'!$AA17)*1000","v":2.3791493121292442},{"$f":"('2015'!R17/'2015 Rate'!$AA17)*1000","v":1.5776852202448568},{"$f":"('2015'!S17/'2015 Rate'!$AA17)*1000","v":3.4078000757288907},{"$f":"('2015'!T17/'2015 Rate'!$AA17)*1000","v":1.079136690647482},{"$f":"('2015'!U17/'2015 Rate'!$AA17)*1000","v":4.7456771424965289},{"$f":"('2015'!V17/'2015 Rate'!$AA17)*1000","v":4.0893600908746688},null,null,{"$f":"('2015'!Y17/'2015 Rate'!$AA17)*1000","v":0.29029408052505368},"Falkirk",158460]
[16,"Fife",null,{"$f":"('2015'!D18/'2015 Rate'!$AA18)*1000","v":3.336231254075201},{"$f":"('2015'!E18/'2015 Rate'!$AA18)*1000","v":0.75798739404477289},{"$f":"('2015'!F18/'2015 Rate'!$AA18)*1000","v":2.4478374266463816},{"$f":"('2015'!G18/'2015 Rate'!$AA18)*1000","v":0.13040643338404695},{"$f":"('2015'!H18/'2015 Rate'!$AA18)*1000","v":30.669963051510539},{"$f":"('2015'!I18/'2015 Rate'!$AA18)*1000","v":27.333731797435341},{"$f":"('2015'!J18/'2015 Rate'!$AA18)*1000","v":-0.1847424472940665},{"$f":"('2015'!K18/'2015 Rate'!$AA18)*1000","v":17.360356444251252},{"$f":"('2015'!L18/'2015 Rate'!$AA18)*1000","v":17.545098891545315},{"$f":"('2015'!M18/'2015 Rate'!$AA18)*1000","v":1.2714627254944577},{"$f":"('2015'!N18/'2015 Rate'!$AA18)*1000","v":8.0987828732884157},{"$f":"('2015'!O18/'2015 Rate'!$AA18)*1000","v":6.8273201477939578},{"$f":"('2015'!P18/'2015 Rate'!$AA18)*1000","v":2.2495109758748097},{"$f":"('2015'!Q18/'2015 Rate'!$AA18)*1000","v":5.2108237339708765},{"$f":"('2015'!R18/'2015 Rate'!$AA18)*1000","v":2.9613127580960663},{"$f":"('2015'!S18/'2015 Rate'!$AA18)*1000","v":7.118017822212563},{"$f":"('2015'!T18/'2015 Rate'!$AA18)*1000","v":1.2035427081069332},{"$f":"('2015'!U18/'2015 Rate'!$AA18)*1000","v":4.7027820039121924},{"$f":"('2015'!V18/'2015 Rate'!$AA18)*1000","v":3.1243207998261249},null,null,{"$f":"('2015'!Y18/'2015 Rate'!$AA18)*1000","v":0.35318409041512716},"Fife",368080]
[17,"Glasgow City",null,{"$f":"('2015'!D19/'2015 Rate'!$AA19)*1000","v":9.6315598509087295},{"$f":"('2015'!E19/'2015 Rate'!$AA19)*1000","v":-1.1511693109476531},{"$f":"('2015'!F19/'2015 Rate'!$AA19)*1000","v":11.198337566381896},{"$f":"('2015'!G19/'2015 Rate'!$AA19)*1000","v":-0.41560840452551379},{"$f":"('2015'!H19/'2015 Rate'!$AA19)*1000","v":54.921331266286238},{"$f":"('2015'!I19/'2015 Rate'!$AA19)*1000","v":45.289771415377508},{"$f":"('2015'!J19/'2015 Rate'!$AA19)*1000","v":-3.9862123561038358},{"$f":"('2015'!K19/'2015 Rate'!$AA19)*1000","v":26.862816241712572},{"$f":"('2015'!L19/'2015 Rate'!$AA19)*1000","v":30.849028597816407},{"$f":"('2015'!M19/'2015 Rate'!$AA19)*1000","v":1.946102846587723},{"$f":"('2015'!N19/'2015 Rate'!$AA19)*1000","v":10.891578982089257},{"$f":"('2015'!O19/'2015 Rate'!$AA19)*1000","v":8.9454761355015346},{"$f":"('2015'!P19/'2015 Rate'!$AA19)*1000","v":11.671669360424843},{"$f":"('2015'!Q19/'2015 Rate'!$AA19)*1000","v":17.166936042484416},{"$f":"('2015'!R19/'2015 Rate'!$AA19)*1000","v":5.4952666820595706},{"$f":"('2015'!S19/'2015 Rate'!$AA19)*1000","v":15.354421611637035},{"$f":"('2015'!T19/'2015 Rate'!$AA19)*1000","v":3.2193158953722332},{"$f":"('2015'!U19/'2015 Rate'!$AA19)*1000","v":21.705643698255102},{"$f":"('2015'!V19/'2015 Rate'!$AA19)*1000","v":18.938219480819342},null,null,{"$f":"('2015'!Y19/'2015 Rate'!$AA19)*1000","v":1.1924003034601049},"Glasgow City",606340]
[18,"Highland",null,{"$f":"('2015'!D20/'2015 Rate'!$AA20)*1000","v":4.7627183802486011},{"$f":"('2015'!E20/'2015 Rate'!$AA20)*1000","v":1.448037247447781},{"$f":"('2015'!F20/'2015 Rate'!$AA20)*1000","v":3.4983554739225151},{"$f":"('2015'!G20/'2015 Rate'!$AA20)*1000","v":-0.18367434112169492},{"$f":"('2015'!H20/'2015 Rate'!$AA20)*1000","v":32.984494468412286},{"$f":"('2015'!I20/'2015 Rate'!$AA20)*1000","v":28.221776088163686},{"$f":"('2015'!J20/'2015 Rate'!$AA20)*1000","v":-0.11960189654435949},{"$f":"('2015'!K20/'2015 Rate'!$AA20)*1000","v":18.495579001324163},{"$f":"('2015'!L20/'2015 Rate'!$AA20)*1000","v":18.615180897868523},{"$f":"('2015'!M20/'2015 Rate'!$AA20)*1000","v":3.4769979923967367},{"$f":"('2015'!N20/'2015 Rate'!$AA20)*1000","v":10.567681858955192},{"$f":"('2015'!O20/'2015 Rate'!$AA20)*1000","v":7.0906838665584555},{"$f":"('2015'!P20/'2015 Rate'!$AA20)*1000","v":1.4053222843962241},{"$f":"('2015'!Q20/'2015 Rate'!$AA20)*1000","v":3.9212336081329289},{"$f":"('2015'!R20/'2015 Rate'!$AA20)*1000","v":2.515911323736705},{"$f":"('2015'!S20/'2015 Rate'!$AA20)*1000","v":7.1761137926615692},{"$f":"('2015'!T20/'2015 Rate'!$AA20)*1000","v":1.3412498398188886},{"$f":"('2015'!U20/'2015 Rate'!$AA20)*1000","v":3.541070436974072},{"$f":"('2015'!V20/'2015 Rate'!$AA20)*1000","v":5.2325829738157275},null,null,{"$f":"('2015'!Y20/'2015 Rate'!$AA20)*1000","v":0.33317671180214425},"Highland",234110]
[19,"Inverclyde",null,{"$f":"('2015'!D21/'2015 Rate'!$AA21)*1000","v":-1.7106918238993711},{"$f":"('2015'!E21/'2015 Rate'!$AA21)*1000","v":7.5471698113207558E-2},{"$f":"('2015'!F21/'2015 Rate'!$AA21)*1000","v":-1.8616352201257862},{"$f":"('2015'!G21/'2015 Rate'!$AA21)*1000","v":7.5471698113207558E-2},{"$f":"('2015'!H21/'2015 Rate'!$AA21)*1000","v":18.314465408805031},{"$f":"('2015'!I21/'2015 Rate'!$AA21)*1000","v":20.025157232704402},{"$f":"('2015'!J21/'2015 Rate'!$AA21)*1000","v":-3.1823899371069184},{"$f":"('2015'!K21/'2015 Rate'!$AA21)*1000","v":12.616352201257861},{"$f":"('2015'!L21/'2015 Rate'!$AA21)*1000","v":15.798742138364778},{"$f":"('2015'!M21/'2015 Rate'!$AA21)*1000","v":1.2955974842767295},{"$f":"('2015'!N21/'2015 Rate'!$AA21)*1000","v":4.4402515723270444},{"$f":"('2015'!O21/'2015 Rate'!$AA21)*1000","v":3.1446540880503147},{"$f":"('2015'!P21/'2015 Rate'!$AA21)*1000","v":0.1761006289308176},{"$f":"('2015'!Q21/'2015 Rate'!$AA21)*1000","v":1.2578616352201257},{"$f":"('2015'!R21/'2015 Rate'!$AA21)*1000","v":1.0817610062893082},{"$f":"('2015'!S21/'2015 Rate'!$AA21)*1000","v":1.2578616352201257},{"$f":"('2015'!T21/'2015 Rate'!$AA21)*1000","v":0.37735849056603771},{"$f":"('2015'!U21/'2015 Rate'!$AA21)*1000","v":2.4150943396226419},{"$f":"('2015'!V21/'2015 Rate'!$AA21)*1000","v":0.36477987421383651},null,null,{"$f":"('2015'!Y21/'2015 Rate'!$AA21)*1000","v":5.0314465408805034E-2},"Inverclyde",79500]
[20,"Midlothian",null,{"$f":"('2015'!D22/'2015 Rate'!$AA22)*1000","v":11.294198420871954},{"$f":"('2015'!E22/'2015 Rate'!$AA22)*1000","v":2.8607392150131594},{"$f":"('2015'!F22/'2015 Rate'!$AA22)*1000","v":7.884197276576268},{"$f":"('2015'!G22/'2015 Rate'!$AA22)*1000","v":0.5492619292825266},{"$f":"('2015'!H22/'2015 Rate'!$AA22)*1000","v":41.70957775489186},{"$f":"('2015'!I22/'2015 Rate'!$AA22)*1000","v":30.41537933401991},{"$f":"('2015'!J22/'2015 Rate'!$AA22)*1000","v":11.832017393294427},{"$f":"('2015'!K22/'2015 Rate'!$AA22)*1000","v":35.164206430941761},{"$f":"('2015'!L22/'2015 Rate'!$AA22)*1000","v":23.332189037647328},{"$f":"('2015'!M22/'2015 Rate'!$AA22)*1000","v":-0.30895983522142118},{"$f":"('2015'!N22/'2015 Rate'!$AA22)*1000","v":4.5886257008811073},{"$f":"('2015'!O22/'2015 Rate'!$AA22)*1000","v":4.8975855361025289},{"$f":"('2015'!P22/'2015 Rate'!$AA22)*1000","v":-0.22885913720105275},{"$f":"('2015'!Q22/'2015 Rate'!$AA22)*1000","v":1.956745623069001},{"$f":"('2015'!R22/'2015 Rate'!$AA22)*1000","v":2.1856047602700537},{"$f":"('2015'!S22/'2015 Rate'!$AA22)*1000","v":2.7463096464126333},{"$f":"('2015'!T22/'2015 Rate'!$AA22)*1000","v":1.3044970820460007},{"$f":"('2015'!U22/'2015 Rate'!$AA22)*1000","v":5.286646069344318},{"$f":"('2015'!V22/'2015 Rate'!$AA22)*1000","v":3.5129877560361598},null,null,{"$f":"('2015'!Y22/'2015 Rate'!$AA22)*1000","v":0.56070488614257918},"Midlothian",87390]
[21,"Moray",null,{"$f":"('2015'!D23/'2015 Rate'!$AA23)*1000","v":4.2927442152654169},{"$f":"('2015'!E23/'2015 Rate'!$AA23)*1000","v":1.3192335881059576},{"$f":"('2015'!F23/'2015 Rate'!$AA23)*1000","v":2.6070568526855826},{"$f":"('2015'!G23/'2015 Rate'!$AA23)*1000","v":0.36645377447387711},{"$f":"('2015'!H23/'2015 Rate'!$AA23)*1000","v":38.529996858967642},{"$f":"('2015'!I23/'2015 Rate'!$AA23)*1000","v":34.237252643702234},{"$f":"('2015'!J23/'2015 Rate'!$AA23)*1000","v":2.8688095487383518},{"$f":"('2015'!K23/'2015 Rate'!$AA23)*1000","v":21.892995497853629},{"$f":"('2015'!L23/'2015 Rate'!$AA23)*1000","v":19.024185949115274},{"$f":"('2015'!M23/'2015 Rate'!$AA23)*1000","v":2.7012878232645794},{"$f":"('2015'!N23/'2015 Rate'!$AA23)*1000","v":13.160925557533242},{"$f":"('2015'!O23/'2015 Rate'!$AA23)*1000","v":10.459637734268663},{"$f":"('2015'!P23/'2015 Rate'!$AA23)*1000","v":-1.2773531567375145},{"$f":"('2015'!Q23/'2015 Rate'!$AA23)*1000","v":3.4760758035807768},{"$f":"('2015'!R23/'2015 Rate'!$AA23)*1000","v":4.753428960318292},{"$f":"('2015'!S23/'2015 Rate'!$AA23)*1000","v":3.2457334310543402},{"$f":"('2015'!T23/'2015 Rate'!$AA23)*1000","v":1.0260705685268559},{"$f":"('2015'!U23/'2015 Rate'!$AA23)*1000","v":3.329494293791226},{"$f":"('2015'!V23/'2015 Rate'!$AA23)*1000","v":4.345094754475971},null,null,{"$f":"('2015'!Y23/'2015 Rate'!$AA23)*1000","v":0.37692388231598783},"Moray",95510]
[22,"Na h-Eileanan Siar",null,{"$f":"('2015'!D24/'2015 Rate'!$AA24)*1000","v":-0.1847063169560399},{"$f":"('2015'!E24/'2015 Rate'!$AA24)*1000","v":0.8127077946065755},{"$f":"('2015'!F24/'2015 Rate'!$AA24)*1000","v":-0.66494274104174367},{"$f":"('2015'!G24/'2015 Rate'!$AA24)*1000","v":-0.33247137052087183},{"$f":"('2015'!H24/'2015 Rate'!$AA24)*1000","v":32.545253047654228},{"$f":"('2015'!I24/'2015 Rate'!$AA24)*1000","v":32.729959364610266},{"$f":"('2015'!J24/'2015 Rate'!$AA24)*1000","v":-1.6992981159955669},{"$f":"('2015'!K24/'2015 Rate'!$AA24)*1000","v":22.31252308828962},{"$f":"('2015'!L24/'2015 Rate'!$AA24)*1000","v":24.011821204285184},{"$f":"('2015'!M24/'2015 Rate'!$AA24)*1000","v":1.4407092722571113},{"$f":"('2015'!N24/'2015 Rate'!$AA24)*1000","v":8.2009604728481715},{"$f":"('2015'!O24/'2015 Rate'!$AA24)*1000","v":6.7602512005910604},{"$f":"('2015'!P24/'2015 Rate'!$AA24)*1000","v":7.3882526782415955E-2},{"$f":"('2015'!Q24/'2015 Rate'!$AA24)*1000","v":2.0317694865164388},{"$f":"('2015'!R24/'2015 Rate'!$AA24)*1000","v":1.9578869597340229},{"$f":"('2015'!S24/'2015 Rate'!$AA24)*1000","v":2.5858884373845585},{"$f":"('2015'!T24/'2015 Rate'!$AA24)*1000","v":0.29553010712966382},{"$f":"('2015'!U24/'2015 Rate'!$AA24)*1000","v":2.4011821204285186},{"$f":"('2015'!V24/'2015 Rate'!$AA24)*1000","v":1.9578869597340229},null,null,{"$f":"('2015'!Y24/'2015 Rate'!$AA24)*1000","v":0.1847063169560399},"Na h-Eileanan Siar",27070]
[23,"North Ayrshire",null,{"$f":"('2015'!D25/'2015 Rate'!$AA25)*1000","v":0.44075516050833763},{"$f":"('2015'!E25/'2015 Rate'!$AA25)*1000","v":0.74193785352236841},{"$f":"('2015'!F25/'2015 Rate'!$AA25)*1000","v":-0.30118269301403072},{"$f":"('2015'!G25/'2015 Rate'!$AA25)*1000","v":0},{"$f":"('2015'!H25/'2015 Rate'!$AA25)*1000","v":27.363549548225961},{"$f":"('2015'!I25/'2015 Rate'!$AA25)*1000","v":26.922794387717623},{"$f":"('2015'!J25/'2015 Rate'!$AA25)*1000","v":-0.54359803129361639},{"$f":"('2015'!K25/'2015 Rate'!$AA25)*1000","v":20.686108866524645},{"$f":"('2015'!L25/'2015 Rate'!$AA25)*1000","v":21.229706897818261},{"$f":"('2015'!M25/'2015 Rate'!$AA25)*1000","v":1.2928818041577903},{"$f":"('2015'!N25/'2015 Rate'!$AA25)*1000","v":5.5167854256960256},{"$f":"('2015'!O25/'2015 Rate'!$AA25)*1000","v":4.2239036215382351},{"$f":"('2015'!P25/'2015 Rate'!$AA25)*1000","v":-0.30852861235583628},{"$f":"('2015'!Q25/'2015 Rate'!$AA25)*1000","v":1.160655256005289},{"$f":"('2015'!R25/'2015 Rate'!$AA25)*1000","v":1.4691838683611254},{"$f":"('2015'!S25/'2015 Rate'!$AA25)*1000","v":1.3222654815250128},{"$f":"('2015'!T25/'2015 Rate'!$AA25)*1000","v":0.45544699919194886},{"$f":"('2015'!U25/'2015 Rate'!$AA25)*1000","v":2.4314993021376625},{"$f":"('2015'!V25/'2015 Rate'!$AA25)*1000","v":0.88885624035848088},null,null,{"$f":"('2015'!Y25/'2015 Rate'!$AA25)*1000","v":0.16895614486152943},"North Ayrshire",136130]
[24,"North Lanarkshire",null,{"$f":"('2015'!D26/'2015 Rate'!$AA26)*1000","v":0.4138828120380772},{"$f":"('2015'!E26/'2015 Rate'!$AA26)*1000","v":0.31632472062910189},{"$f":"('2015'!F26/'2015 Rate'!$AA26)*1000","v":-8.5732868207887419E-2},{"$f":"('2015'!G26/'2015 Rate'!$AA26)*1000","v":0.18329095961686276},{"$f":"('2015'!H26/'2015 Rate'!$AA26)*1000","v":22.411754271861884},{"$f":"('2015'!I26/'2015 Rate'!$AA26)*1000","v":21.997871459823802},{"$f":"('2015'!J26/'2015 Rate'!$AA26)*1000","v":-0.44935848164134096},{"$f":"('2015'!K26/'2015 Rate'!$AA26)*1000","v":17.087447525572045},{"$f":"('2015'!L26/'2015 Rate'!$AA26)*1000","v":17.536806007213386},{"$f":"('2015'!M26/'2015 Rate'!$AA26)*1000","v":0.37545083663454148},{"$f":"('2015'!N26/'2015 Rate'!$AA26)*1000","v":3.4825282327203926},{"$f":"('2015'!O26/'2015 Rate'!$AA26)*1000","v":3.1070773960858511},{"$f":"('2015'!P26/'2015 Rate'!$AA26)*1000","v":0.48779045704487672},{"$f":"('2015'!Q26/'2015 Rate'!$AA26)*1000","v":1.8417785135694436},{"$f":"('2015'!R26/'2015 Rate'!$AA26)*1000","v":1.353988056524567},{"$f":"('2015'!S26/'2015 Rate'!$AA26)*1000","v":3.0449949742801397},{"$f":"('2015'!T26/'2015 Rate'!$AA26)*1000","v":0.70064447466445923},{"$f":"('2015'!U26/'2015 Rate'!$AA26)*1000","v":5.6997575829243781},{"$f":"('2015'!V26/'2015 Rate'!$AA26)*1000","v":3.7574646721456868},null,null,{"$f":"('2015'!Y26/'2015 Rate'!$AA26)*1000","v":0.19807248861822266},"North Lanarkshire",338260]
[25,"Orkney Islands",null,{"$f":"('2015'!D27/'2015 Rate'!$AA27)*1000","v":4.6146746654360866},{"$f":"('2015'!E27/'2015 Rate'!$AA27)*1000","v":1.6151361329026304},{"$f":"('2015'!F27/'2015 Rate'!$AA27)*1000","v":2.9072450392247347},{"$f":"('2015'!G27/'2015 Rate'!$AA27)*1000","v":9.2293493308721733E-2},{"$f":"('2015'!H27/'2015 Rate'!$AA27)*1000","v":32.810336871250577},{"$f":"('2015'!I27/'2015 Rate'!$AA27)*1000","v":28.195662205814489},{"$f":"('2015'!J27/'2015 Rate'!$AA27)*1000","v":-1.6151361329026304},{"$f":"('2015'!K27/'2015 Rate'!$AA27)*1000","v":17.951084448546375},{"$f":"('2015'!L27/'2015 Rate'!$AA27)*1000","v":19.566220581449009},{"$f":"('2015'!M27/'2015 Rate'!$AA27)*1000","v":6.0913705583756341},{"$f":"('2015'!N27/'2015 Rate'!$AA27)*1000","v":12.413474850023073},{"$f":"('2015'!O27/'2015 Rate'!$AA27)*1000","v":6.322104291647439},{"$f":"('2015'!P27/'2015 Rate'!$AA27)*1000","v":0.13844023996308258},{"$f":"('2015'!Q27/'2015 Rate'!$AA27)*1000","v":2.4457775726811262},{"$f":"('2015'!R27/'2015 Rate'!$AA27)*1000","v":2.3073373327180433},{"$f":"('2015'!S27/'2015 Rate'!$AA27)*1000","v":2.7688047992616522},{"$f":"('2015'!T27/'2015 Rate'!$AA27)*1000","v":0.41532071988924785},{"$f":"('2015'!U27/'2015 Rate'!$AA27)*1000","v":1.7535763728657128},{"$f":"('2015'!V27/'2015 Rate'!$AA27)*1000","v":0.9229349330872173},null,null,{"$f":"('2015'!Y27/'2015 Rate'!$AA27)*1000","v":9.2293493308721733E-2},"Orkney Islands",21670]
[26,"Perth and Kinross",null,{"$f":"('2015'!D28/'2015 Rate'!$AA28)*1000","v":8.4239311678783437},{"$f":"('2015'!E28/'2015 Rate'!$AA28)*1000","v":3.3348896151537386},{"$f":"('2015'!F28/'2015 Rate'!$AA28)*1000","v":4.3286867204695518},{"$f":"('2015'!G28/'2015 Rate'!$AA28)*1000","v":0.7603548322550524},{"$f":"('2015'!H28/'2015 Rate'!$AA28)*1000","v":43.433602347762289},{"$f":"('2015'!I28/'2015 Rate'!$AA28)*1000","v":35.009671179883945},{"$f":"('2015'!J28/'2015 Rate'!$AA28)*1000","v":3.1214566797838992},{"$f":"('2015'!K28/'2015 Rate'!$AA28)*1000","v":28.073100780364168},{"$f":"('2015'!L28/'2015 Rate'!$AA28)*1000","v":24.951644100580271},{"$f":"('2015'!M28/'2015 Rate'!$AA28)*1000","v":2.2143667044620821},{"$f":"('2015'!N28/'2015 Rate'!$AA28)*1000","v":9.0375508570666305},{"$f":"('2015'!O28/'2015 Rate'!$AA28)*1000","v":6.8231841526045489},{"$f":"('2015'!P28/'2015 Rate'!$AA28)*1000","v":3.0881077836323616},{"$f":"('2015'!Q28/'2015 Rate'!$AA28)*1000","v":6.3229507103314884},{"$f":"('2015'!R28/'2015 Rate'!$AA28)*1000","v":3.2348429266991263},{"$f":"('2015'!S28/'2015 Rate'!$AA28)*1000","v":18.208497298739413},{"$f":"('2015'!T28/'2015 Rate'!$AA28)*1000","v":1.5540585606616422},{"$f":"('2015'!U28/'2015 Rate'!$AA28)*1000","v":4.1486026812512504},{"$f":"('2015'!V28/'2015 Rate'!$AA28)*1000","v":4.9356366304275321},null,null,{"$f":"('2015'!Y28/'2015 Rate'!$AA28)*1000","v":0.35349829920629627},"Perth & Kinross",149930]
[27,"Renfrewshire",null,{"$f":"('2015'!D29/'2015 Rate'!$AA29)*1000","v":3.385655362053162},{"$f":"('2015'!E29/'2015 Rate'!$AA29)*1000","v":0.56141154903758017},{"$f":"('2015'!F29/'2015 Rate'!$AA29)*1000","v":2.629468377635197},{"$f":"('2015'!G29/'2015 Rate'!$AA29)*1000","v":0.19477543538038497},{"$f":"('2015'!H29/'2015 Rate'!$AA29)*1000","v":30.992208982584785},{"$f":"('2015'!I29/'2015 Rate'!$AA29)*1000","v":27.606553620531621},{"$f":"('2015'!J29/'2015 Rate'!$AA29)*1000","v":1.1629239230064161},{"$f":"('2015'!K29/'2015 Rate'!$AA29)*1000","v":23.344408799266727},{"$f":"('2015'!L29/'2015 Rate'!$AA29)*1000","v":22.181484876260313},{"$f":"('2015'!M29/'2015 Rate'!$AA29)*1000","v":0.63015582034830431},{"$f":"('2015'!N29/'2015 Rate'!$AA29)*1000","v":4.5084784601283223},{"$f":"('2015'!O29/'2015 Rate'!$AA29)*1000","v":3.8783226397800186},{"$f":"('2015'!P29/'2015 Rate'!$AA29)*1000","v":1.5925756186984419},{"$f":"('2015'!Q29/'2015 Rate'!$AA29)*1000","v":3.1393217231897341},{"$f":"('2015'!R29/'2015 Rate'!$AA29)*1000","v":1.5467461044912925},{"$f":"('2015'!S29/'2015 Rate'!$AA29)*1000","v":4.2965169569202564},{"$f":"('2015'!T29/'2015 Rate'!$AA29)*1000","v":1.05980751604033},{"$f":"('2015'!U29/'2015 Rate'!$AA29)*1000","v":5.6083868010999085},{"$f":"('2015'!V29/'2015 Rate'!$AA29)*1000","v":3.2252520623281393},null,null,{"$f":"('2015'!Y29/'2015 Rate'!$AA29)*1000","v":0.49266727772685609},"Renfrewshire",174560]
[28,"Scottish Borders",null,{"$f":"('2015'!D30/'2015 Rate'!$AA30)*1000","v":3.8147855827413841},{"$f":"('2015'!E30/'2015 Rate'!$AA30)*1000","v":1.14005086380777},{"$f":"('2015'!F30/'2015 Rate'!$AA30)*1000","v":2.4730334122599316},{"$f":"('2015'!G30/'2015 Rate'!$AA30)*1000","v":0.20170130667368236},{"$f":"('2015'!H30/'2015 Rate'!$AA30)*1000","v":36.218538980969917},{"$f":"('2015'!I30/'2015 Rate'!$AA30)*1000","v":32.403753398228531},{"$f":"('2015'!J30/'2015 Rate'!$AA30)*1000","v":0.79803560466543888},{"$f":"('2015'!K30/'2015 Rate'!$AA30)*1000","v":20.047355958958168},{"$f":"('2015'!L30/'2015 Rate'!$AA30)*1000","v":19.249320354292731},{"$f":"('2015'!M30/'2015 Rate'!$AA30)*1000","v":3.4552310795404719},{"$f":"('2015'!N30/'2015 Rate'!$AA30)*1000","v":13.856002806279049},{"$f":"('2015'!O30/'2015 Rate'!$AA30)*1000","v":10.400771726738578},{"$f":"('2015'!P30/'2015 Rate'!$AA30)*1000","v":-0.4384811014645269},{"$f":"('2015'!Q30/'2015 Rate'!$AA30)*1000","v":2.3151802157327022},{"$f":"('2015'!R30/'2015 Rate'!$AA30)*1000","v":2.7536613171972286},{"$f":"('2015'!S30/'2015 Rate'!$AA30)*1000","v":3.9463299131807421},{"$f":"('2015'!T30/'2015 Rate'!$AA30)*1000","v":1.0611242655441551},{"$f":"('2015'!U30/'2015 Rate'!$AA30)*1000","v":2.8939752696658774},{"$f":"('2015'!V30/'2015 Rate'!$AA30)*1000","v":3.604314654038411},null,null,{"$f":"('2015'!Y30/'2015 Rate'!$AA30)*1000","v":0.24554941682013506},"Scottish Borders",114030]
[29,"Shetland Islands",null,{"$f":"('2015'!D31/'2015 Rate'!$AA31)*1000","v":-1.5517241379310345},{"$f":"('2015'!E31/'2015 Rate'!$AA31)*1000","v":-0.30172413793103448},{"$f":"('2015'!F31/'2015 Rate'!$AA31)*1000","v":0.17241379310344826},{"$f":"('2015'!G31/'2015 Rate'!$AA31)*1000","v":-1.4224137931034484},{"$f":"('2015'!H31/'2015 Rate'!$AA31)*1000","v":30.387931034482758},{"$f":"('2015'!I31/'2015 Rate'!$AA31)*1000","v":31.939655172413797},{"$f":"('2015'!J31/'2015 Rate'!$AA31)*1000","v":-4.2672413793103452},{"$f":"('2015'!K31/'2015 Rate'!$AA31)*1000","v":16.810344827586206},{"$f":"('2015'!L31/'2015 Rate'!$AA31)*1000","v":21.077586206896552},{"$f":"('2015'!M31/'2015 Rate'!$AA31)*1000","v":1.336206896551724},{"$f":"('2015'!N31/'2015 Rate'!$AA31)*1000","v":9.568965517241379},{"$f":"('2015'!O31/'2015 Rate'!$AA31)*1000","v":8.2327586206896548},{"$f":"('2015'!P31/'2015 Rate'!$AA31)*1000","v":1.3793103448275861},{"$f":"('2015'!Q31/'2015 Rate'!$AA31)*1000","v":4.0086206896551726},{"$f":"('2015'!R31/'2015 Rate'!$AA31)*1000","v":2.6293103448275863},{"$f":"('2015'!S31/'2015 Rate'!$AA31)*1000","v":12.931034482758621},{"$f":"('2015'!T31/'2015 Rate'!$AA31)*1000","v":1.0344827586206897},{"$f":"('2015'!U31/'2015 Rate'!$AA31)*1000","v":4.3534482758620685},{"$f":"('2015'!V31/'2015 Rate'!$AA31)*1000","v":2.4568965517241379},null,null,{"$f":"('2015'!Y31/'2015 Rate'!$AA31)*1000","v":0.38793103448275862},"Shetland Islands",23200]
[30,"South Ayrshire",null,{"$f":"('2015'!D32/'2015 Rate'!$AA32)*1000","v":2.7669039145907472},{"$f":"('2015'!E32/'2015 Rate'!$AA32)*1000","v":1.6281138790035588},{"$f":"('2015'!F32/'2015 Rate'!$AA32)*1000","v":0.24911032028469751},{"$f":"('2015'!G32/'2015 Rate'!$AA32)*1000","v":0.88967971530249101},{"$f":"('2015'!H32/'2015 Rate'!$AA32)*1000","v":33.354092526690394},{"$f":"('2015'!I32/'2015 Rate'!$AA32)*1000","v":30.587188612099641},{"$f":"('2015'!J32/'2015 Rate'!$AA32)*1000","v":0.99644128113879005},{"$f":"('2015'!K32/'2015 Rate'!$AA32)*1000","v":23.87900355871886},{"$f":"('2015'!L32/'2015 Rate'!$AA32)*1000","v":22.882562277580071},{"$f":"('2015'!M32/'2015 Rate'!$AA32)*1000","v":1.6459074733096086},{"$f":"('2015'!N32/'2015 Rate'!$AA32)*1000","v":7.2153024911032029},{"$f":"('2015'!O32/'2015 Rate'!$AA32)*1000","v":5.5693950177935942},{"$f":"('2015'!P32/'2015 Rate'!$AA32)*1000","v":0.12455516014234876},{"$f":"('2015'!Q32/'2015 Rate'!$AA32)*1000","v":2.2597864768683276},{"$f":"('2015'!R32/'2015 Rate'!$AA32)*1000","v":2.1352313167259789},{"$f":"('2015'!S32/'2015 Rate'!$AA32)*1000","v":2.4911032028469751},{"$f":"('2015'!T32/'2015 Rate'!$AA32)*1000","v":0.69395017793594305},{"$f":"('2015'!U32/'2015 Rate'!$AA32)*1000","v":2.8291814946619218},{"$f":"('2015'!V32/'2015 Rate'!$AA32)*1000","v":1.5747330960854091},null,null,{"$f":"('2015'!Y32/'2015 Rate'!$AA32)*1000","v":0.23131672597864769},"South Ayrshire",112400]
[31,"South Lanarkshire",null,{"$f":"('2015'!D33/'2015 Rate'!$AA33)*1000","v":3.2697720013913925},{"$f":"('2015'!E33/'2015 Rate'!$AA33)*1000","v":1.2269550643518958},{"$f":"('2015'!F33/'2015 Rate'!$AA33)*1000","v":1.9479492774246592},{"$f":"('2015'!G33/'2015 Rate'!$AA33)*1000","v":9.4867659614837299E-2},{"$f":"('2015'!H33/'2015 Rate'!$AA33)*1000","v":28.994719033614771},{"$f":"('2015'!I33/'2015 Rate'!$AA33)*1000","v":25.724947032223383},{"$f":"('2015'!J33/'2015 Rate'!$AA33)*1000","v":3.8832495335673403},{"$f":"('2015'!K33/'2015 Rate'!$AA33)*1000","v":23.574613414287072},{"$f":"('2015'!L33/'2015 Rate'!$AA33)*1000","v":19.691363880719731},{"$f":"('2015'!M33/'2015 Rate'!$AA33)*1000","v":-0.10435442557632103},{"$f":"('2015'!N33/'2015 Rate'!$AA33)*1000","v":3.9844417038231663},{"$f":"('2015'!O33/'2015 Rate'!$AA33)*1000","v":4.0887961293994879},{"$f":"('2015'!P33/'2015 Rate'!$AA33)*1000","v":-0.50912310659962678},{"$f":"('2015'!Q33/'2015 Rate'!$AA33)*1000","v":1.4356639155045379},{"$f":"('2015'!R33/'2015 Rate'!$AA33)*1000","v":1.9447870221041648},{"$f":"('2015'!S33/'2015 Rate'!$AA33)*1000","v":2.2452012775511498},{"$f":"('2015'!T33/'2015 Rate'!$AA33)*1000","v":0.69885842582930136},{"$f":"('2015'!U33/'2015 Rate'!$AA33)*1000","v":5.3695095341997909},{"$f":"('2015'!V33/'2015 Rate'!$AA33)*1000","v":2.248363532871644},null,null,{"$f":"('2015'!Y33/'2015 Rate'!$AA33)*1000","v":0.34784808525440347},"South Lanarkshire",316230]
[32,"Stirling",null,{"$f":"('2015'!D34/'2015 Rate'!$AA34)*1000","v":15.210600021544758},{"$f":"('2015'!E34/'2015 Rate'!$AA34)*1000","v":3.845739523860821},{"$f":"('2015'!F34/'2015 Rate'!$AA34)*1000","v":11.763438543574274},{"$f":"('2015'!G34/'2015 Rate'!$AA34)*1000","v":-0.39857804589033718},{"$f":"('2015'!H34/'2015 Rate'!$AA34)*1000","v":63.966390175589794},{"$f":"('2015'!I34/'2015 Rate'!$AA34)*1000","v":48.75579015404503},{"$f":"('2015'!J34/'2015 Rate'!$AA34)*1000","v":4.4489927825056554},{"$f":"('2015'!K34/'2015 Rate'!$AA34)*1000","v":40.859635893568893},{"$f":"('2015'!L34/'2015 Rate'!$AA34)*1000","v":36.410643111063237},{"$f":"('2015'!M34/'2015 Rate'!$AA34)*1000","v":3.8996014219541095},{"$f":"('2015'!N34/'2015 Rate'!$AA34)*1000","v":11.978886135947432},{"$f":"('2015'!O34/'2015 Rate'!$AA34)*1000","v":8.0792847139933226},{"$f":"('2015'!P34/'2015 Rate'!$AA34)*1000","v":6.8620058170849942},{"$f":"('2015'!Q34/'2015 Rate'!$AA34)*1000","v":11.127868146073469},{"$f":"('2015'!R34/'2015 Rate'!$AA34)*1000","v":4.2658623289884732},{"$f":"('2015'!S34/'2015 Rate'!$AA34)*1000","v":8.0792847139933226},{"$f":"('2015'!T34/'2015 Rate'!$AA34)*1000","v":1.1203274803404071},{"$f":"('2015'!U34/'2015 Rate'!$AA34)*1000","v":4.9983841430572014},{"$f":"('2015'!V34/'2015 Rate'!$AA34)*1000","v":3.2748034040719598},null,null,{"$f":"('2015'!Y34/'2015 Rate'!$AA34)*1000","v":0.29085424970375956},"Stirling",92830]
[33,"West Dunbartonshire",null,{"$f":"('2015'!D35/'2015 Rate'!$AA35)*1000","v":0.88179484317446144},{"$f":"('2015'!E35/'2015 Rate'!$AA35)*1000","v":0.66971760241098344},{"$f":"('2015'!F35/'2015 Rate'!$AA35)*1000","v":0.33485880120549172},{"$f":"('2015'!G35/'2015 Rate'!$AA35)*1000","v":-0.12278156044201363},{"$f":"('2015'!H35/'2015 Rate'!$AA35)*1000","v":28.474160062506979},{"$f":"('2015'!I35/'2015 Rate'!$AA35)*1000","v":27.592365219332514},{"$f":"('2015'!J35/'2015 Rate'!$AA35)*1000","v":1.026900323696841},{"$f":"('2015'!K35/'2015 Rate'!$AA35)*1000","v":23.250362763701308},{"$f":"('2015'!L35/'2015 Rate'!$AA35)*1000","v":22.223462440004468},{"$f":"('2015'!M35/'2015 Rate'!$AA35)*1000","v":0.22323920080366114},{"$f":"('2015'!N35/'2015 Rate'!$AA35)*1000","v":3.8732001339435205},{"$f":"('2015'!O35/'2015 Rate'!$AA35)*1000","v":3.6499609331398597},{"$f":"('2015'!P35/'2015 Rate'!$AA35)*1000","v":-0.36834468132604081},{"$f":"('2015'!Q35/'2015 Rate'!$AA35)*1000","v":1.3505971648621498},{"$f":"('2015'!R35/'2015 Rate'!$AA35)*1000","v":1.7189418461881907},{"$f":"('2015'!S35/'2015 Rate'!$AA35)*1000","v":2.1207724076347803},{"$f":"('2015'!T35/'2015 Rate'!$AA35)*1000","v":0.80366112289318004},{"$f":"('2015'!U35/'2015 Rate'!$AA35)*1000","v":3.6611228931800421},{"$f":"('2015'!V35/'2015 Rate'!$AA35)*1000","v":2.377497488558991},null,null,{"$f":"('2015'!Y35/'2015 Rate'!$AA35)*1000","v":0.12278156044201363},"West Dunbartonshire",89590]
[34,"West Lothian",null,{"$f":"('2015'!D36/'2015 Rate'!$AA36)*1000","v":4.9845981517782132},{"$f":"('2015'!E36/'2015 Rate'!$AA36)*1000","v":1.6241949033884067},{"$f":"('2015'!F36/'2015 Rate'!$AA36)*1000","v":3.0075609073088772},{"$f":"('2015'!G36/'2015 Rate'!$AA36)*1000","v":0.35284234108092971},{"$f":"('2015'!H36/'2015 Rate'!$AA36)*1000","v":32.058246989638761},{"$f":"('2015'!I36/'2015 Rate'!$AA36)*1000","v":27.073648837860542},{"$f":"('2015'!J36/'2015 Rate'!$AA36)*1000","v":3.5452254270512462},{"$f":"('2015'!K36/'2015 Rate'!$AA36)*1000","v":24.127695323438811},{"$f":"('2015'!L36/'2015 Rate'!$AA36)*1000","v":20.582469896387568},{"$f":"('2015'!M36/'2015 Rate'!$AA36)*1000","v":0.34164099691963035},{"$f":"('2015'!N36/'2015 Rate'!$AA36)*1000","v":4.7885746289554749},{"$f":"('2015'!O36/'2015 Rate'!$AA36)*1000","v":4.4469336320358437},{"$f":"('2015'!P36/'2015 Rate'!$AA36)*1000","v":1.0977317278073371},{"$f":"('2015'!Q36/'2015 Rate'!$AA36)*1000","v":3.1419770372444695},{"$f":"('2015'!R36/'2015 Rate'!$AA36)*1000","v":2.0442453094371325},{"$f":"('2015'!S36/'2015 Rate'!$AA36)*1000","v":4.928591430971716},{"$f":"('2015'!T36/'2015 Rate'!$AA36)*1000","v":1.7922150658078968},{"$f":"('2015'!U36/'2015 Rate'!$AA36)*1000","v":7.1072528703444409},{"$f":"('2015'!V36/'2015 Rate'!$AA36)*1000","v":6.7824138896667598},null,null,{"$f":"('2015'!Y36/'2015 Rate'!$AA36)*1000","v":0.4480537664519742},"West Lothian",178550]
[]
[35,"Not specified"]
[36,"SCOTLAND",null,{"$f":"('2015'!D39/'2015 Rate'!$AA39)*1000","v":5.2052856876977485},{"$f":"('2015'!E39/'2015 Rate'!$AA39)*1000","v":0.76177182207332961},{"$f":"('2015'!F39/'2015 Rate'!$AA39)*1000","v":4.4403498976363291},{"$f":"('2015'!G39/'2015 Rate'!$AA39)*1000","v":3.1639679880885912E-3},{"$f":"('2015'!H39/'2015 Rate'!$AA39)*1000","v":15.811278615298717},{"$f":"('2015'!I39/'2015 Rate'!$AA39)*1000","v":10.605992927600967},null,null,null,{"$f":"('2015'!M39/'2015 Rate'!$AA39)*1000","v":1.5574167131956076},{"$f":"('2015'!N39/'2015 Rate'!$AA39)*1000","v":8.7761027359017305},{"$f":"('2015'!O39/'2015 Rate'!$AA39)*1000","v":7.218686022706124},{"$f":"('2015'!P39/'2015 Rate'!$AA39)*1000","v":3.6478689745021402},{"$f":"('2015'!Q39/'2015 Rate'!$AA39)*1000","v":7.0351758793969852},{"$f":"('2015'!R39/'2015 Rate'!$AA39)*1000","v":3.3873069048948445},null,{"$f":"('2015'!T39/'2015 Rate'!$AA39)*1000","v":1.6746696445188907},null,null,null,null,null,"SCOTLAND",{"$f":"AA4","v":5373000}]
[37,"Ayrshire and Arran",null,{"$f":"('2015'!D40/'2015 Rate'!$AA40)*1000","v":1.1684071345692004},{"$f":"('2015'!E40/'2015 Rate'!$AA40)*1000","v":0.95793194635581091},{"$f":"('2015'!F40/'2015 Rate'!$AA40)*1000","v":-8.0951995466688256E-3},{"$f":"('2015'!G40/'2015 Rate'!$AA40)*1000","v":0.2185703877600583},{"$f":"('2015'!H40/'2015 Rate'!$AA40)*1000","v":21.651960387490217},{"$f":"('2015'!I40/'2015 Rate'!$AA40)*1000","v":20.48355325292102},{"$f":"('2015'!J40/'2015 Rate'!$AA40)*1000","v":6.206319652446099E-2},{"$f":"('2015'!K40/'2015 Rate'!$AA40)*1000","v":14.309614398661592},{"$f":"('2015'!L40/'2015 Rate'!$AA40)*1000","v":14.247551202137132},{"$f":"('2015'!M40/'2015 Rate'!$AA40)*1000","v":1.4274535200626031},{"$f":"('2015'!N40/'2015 Rate'!$AA40)*1000","v":5.9877492646860411},{"$f":"('2015'!O40/'2015 Rate'!$AA40)*1000","v":4.5602957446234385},{"$f":"('2015'!P40/'2015 Rate'!$AA40)*1000","v":-0.32110958201786338},{"$f":"('2015'!Q40/'2015 Rate'!$AA40)*1000","v":1.3545967241425834},{"$f":"('2015'!R40/'2015 Rate'!$AA40)*1000","v":1.6757063061604469},null,{"$f":"('2015'!T40/'2015 Rate'!$AA40)*1000","v":0.52888637038236319},null,null,null,null,null,"Ayrshire & Arran",{"$f":"AA13+AA25+AA32","v":370590}]
[38,"Borders",null,{"$f":"('2015'!D41/'2015 Rate'!$AA41)*1000","v":3.8147855827413841},{"$f":"('2015'!E41/'2015 Rate'!$AA41)*1000","v":1.14005086380777},{"$f":"('2015'!F41/'2015 Rate'!$AA41)*1000","v":2.4730334122599316},{"$f":"('2015'!G41/'2015 Rate'!$AA41)*1000","v":0.20170130667368236},{"$f":"('2015'!H41/'2015 Rate'!$AA41)*1000","v":36.218538980969917},{"$f":"('2015'!I41/'2015 Rate'!$AA41)*1000","v":32.403753398228531},{"$f":"('2015'!J41/'2015 Rate'!$AA41)*1000","v":0.79803560466543888},{"$f":"('2015'!K41/'2015 Rate'!$AA41)*1000","v":20.047355958958168},{"$f":"('2015'!L41/'2015 Rate'!$AA41)*1000","v":19.249320354292731},{"$f":"('2015'!M41/'2015 Rate'!$AA41)*1000","v":3.4552310795404719},{"$f":"('2015'!N41/'2015 Rate'!$AA41)*1000","v":13.856002806279049},{"$f":"('2015'!O41/'2015 Rate'!$AA41)*1000","v":10.400771726738578},{"$f":"('2015'!P41/'2015 Rate'!$AA41)*1000","v":-0.4384811014645269},{"$f":"('2015'!Q41/'2015 Rate'!$AA41)*1000","v":2.3151802157327022},{"$f":"('2015'!R41/'2015 Rate'!$AA41)*1000","v":2.7536613171972286},null,{"$f":"('2015'!T41/'2015 Rate'!$AA41)*1000","v":1.0611242655441551},null,null,null,null,null,"Borders",{"$f":"AA30","v":114030}]
[39,"Dumfries and Galloway",null,{"$f":"('2015'!D42/'2015 Rate'!$AA42)*1000","v":2.2048506714772502},{"$f":"('2015'!E42/'2015 Rate'!$AA42)*1000","v":0.49442105966459543},{"$f":"('2015'!F42/'2015 Rate'!$AA42)*1000","v":1.3763613282554954},{"$f":"('2015'!G42/'2015 Rate'!$AA42)*1000","v":0.33406828355715906},{"$f":"('2015'!H42/'2015 Rate'!$AA42)*1000","v":26.244404356250417},{"$f":"('2015'!I42/'2015 Rate'!$AA42)*1000","v":24.039553684773168},{"$f":"('2015'!J42/'2015 Rate'!$AA42)*1000","v":-0.6881806641277477},{"$f":"('2015'!K42/'2015 Rate'!$AA42)*1000","v":11.585488073762278},{"$f":"('2015'!L42/'2015 Rate'!$AA42)*1000","v":12.273668737890025},{"$f":"('2015'!M42/'2015 Rate'!$AA42)*1000","v":3.3740896639273066},{"$f":"('2015'!N42/'2015 Rate'!$AA42)*1000","v":12.781452528896907},{"$f":"('2015'!O42/'2015 Rate'!$AA42)*1000","v":9.4073628649696008},{"$f":"('2015'!P42/'2015 Rate'!$AA42)*1000","v":-0.4810583283223091},{"$f":"('2015'!Q42/'2015 Rate'!$AA42)*1000","v":1.8774637535912342},{"$f":"('2015'!R42/'2015 Rate'!$AA42)*1000","v":2.3585220819135433},null,{"$f":"('2015'!T42/'2015 Rate'!$AA42)*1000","v":0.58127881338945675},null,null,null,null,null,"Dumfries & Galloway",{"$f":"AA11","v":149670}]
[40,"Fife",null,{"$f":"('2015'!D43/'2015 Rate'!$AA43)*1000","v":3.336231254075201},{"$f":"('2015'!E43/'2015 Rate'!$AA43)*1000","v":0.75798739404477289},{"$f":"('2015'!F43/'2015 Rate'!$AA43)*1000","v":2.4478374266463816},{"$f":"('2015'!G43/'2015 Rate'!$AA43)*1000","v":0.13040643338404695},{"$f":"('2015'!H43/'2015 Rate'!$AA43)*1000","v":30.669963051510539},{"$f":"('2015'!I43/'2015 Rate'!$AA43)*1000","v":27.333731797435341},{"$f":"('2015'!J43/'2015 Rate'!$AA43)*1000","v":-0.1847424472940665},{"$f":"('2015'!K43/'2015 Rate'!$AA43)*1000","v":17.360356444251252},{"$f":"('2015'!L43/'2015 Rate'!$AA43)*1000","v":17.545098891545315},{"$f":"('2015'!M43/'2015 Rate'!$AA43)*1000","v":1.2714627254944577},{"$f":"('2015'!N43/'2015 Rate'!$AA43)*1000","v":8.0987828732884157},{"$f":"('2015'!O43/'2015 Rate'!$AA43)*1000","v":6.8273201477939578},{"$f":"('2015'!P43/'2015 Rate'!$AA43)*1000","v":2.2495109758748097},{"$f":"('2015'!Q43/'2015 Rate'!$AA43)*1000","v":5.2108237339708765},{"$f":"('2015'!R43/'2015 Rate'!$AA43)*1000","v":2.9613127580960663},null,{"$f":"('2015'!T43/'2015 Rate'!$AA43)*1000","v":1.2035427081069332},null,null,null,null,null,"Fife",{"$f":"AA18","v":368080}]
[41,"Forth Valley",null,{"$f":"('2015'!D44/'2015 Rate'!$AA44)*1000","v":7.5598876590120598},{"$f":"('2015'!E44/'2015 Rate'!$AA44)*1000","v":1.6322484718321493},{"$f":"('2015'!F44/'2015 Rate'!$AA44)*1000","v":5.6633074508508177},{"$f":"('2015'!G44/'2015 Rate'!$AA44)*1000","v":0.26433173632909301},{"$f":"('2015'!H44/'2015 Rate'!$AA44)*1000","v":34.931438955889639},{"$f":"('2015'!I44/'2015 Rate'!$AA44)*1000","v":27.371551296877584},{"$f":"('2015'!J44/'2015 Rate'!$AA44)*1000","v":2.877911779283},{"$f":"('2015'!K44/'2015 Rate'!$AA44)*1000","v":22.848174458945977},{"$f":"('2015'!L44/'2015 Rate'!$AA44)*1000","v":19.970262679662977},{"$f":"('2015'!M44/'2015 Rate'!$AA44)*1000","v":2.1708243846026765},{"$f":"('2015'!N44/'2015 Rate'!$AA44)*1000","v":7.1006112671402608},{"$f":"('2015'!O44/'2015 Rate'!$AA44)*1000","v":4.9297868825375852},{"$f":"('2015'!P44/'2015 Rate'!$AA44)*1000","v":2.5111514951263834},{"$f":"('2015'!Q44/'2015 Rate'!$AA44)*1000","v":4.982653229803403},{"$f":"('2015'!R44/'2015 Rate'!$AA44)*1000","v":2.4715017346770196},null,{"$f":"('2015'!T44/'2015 Rate'!$AA44)*1000","v":1.0408062117958037},null,null,null,null,null,"Forth Valley",{"$f":"AA10+AA17+AA34","v":302650}]
[42,"Grampian",null,{"$f":"('2015'!D45/'2015 Rate'!$AA45)*1000","v":4.2206797999387566},{"$f":"('2015'!E45/'2015 Rate'!$AA45)*1000","v":0.42870266408084107},{"$f":"('2015'!F45/'2015 Rate'!$AA45)*1000","v":4.4112143173080192},{"$f":"('2015'!G45/'2015 Rate'!$AA45)*1000","v":-0.61923718145010376},{"$f":"('2015'!H45/'2015 Rate'!$AA45)*1000","v":32.669864924636791},{"$f":"('2015'!I45/'2015 Rate'!$AA45)*1000","v":28.449185124698037},{"$f":"('2015'!J45/'2015 Rate'!$AA45)*1000","v":-1.6943962437480862},{"$f":"('2015'!K45/'2015 Rate'!$AA45)*1000","v":13.172399714198225},{"$f":"('2015'!L45/'2015 Rate'!$AA45)*1000","v":14.866795957946309},{"$f":"('2015'!M45/'2015 Rate'!$AA45)*1000","v":0.26198496138273619},{"$f":"('2015'!N45/'2015 Rate'!$AA45)*1000","v":9.2868565207036173},{"$f":"('2015'!O45/'2015 Rate'!$AA45)*1000","v":9.0248715593208804},{"$f":"('2015'!P45/'2015 Rate'!$AA45)*1000","v":5.6530910823041065},{"$f":"('2015'!Q45/'2015 Rate'!$AA45)*1000","v":10.210608689734952},{"$f":"('2015'!R45/'2015 Rate'!$AA45)*1000","v":4.5575176074308468},null,{"$f":"('2015'!T45/'2015 Rate'!$AA45)*1000","v":2.5926303970603244},null,null,null,null,null,"Grampian",{"$f":"AA5+AA6+AA23","v":587820}]
[43,"Greater Glasgow and Clyde",null,{"$f":"('2015'!D46/'2015 Rate'!$AA46)*1000","v":6.56584542869318},{"$f":"('2015'!E46/'2015 Rate'!$AA46)*1000","v":0.47482802702867233},{"$f":"('2015'!F46/'2015 Rate'!$AA46)*1000","v":6.1892876709946165},{"$f":"('2015'!G46/'2015 Rate'!$AA46)*1000","v":-9.827026933010985E-2},{"$f":"('2015'!H46/'2015 Rate'!$AA46)*1000","v":32.736174764542696},{"$f":"('2015'!I46/'2015 Rate'!$AA46)*1000","v":26.170329335849516},{"$f":"('2015'!J46/'2015 Rate'!$AA46)*1000","v":-0.92182730522049938},{"$f":"('2015'!K46/'2015 Rate'!$AA46)*1000","v":15.01447964587917},{"$f":"('2015'!L46/'2015 Rate'!$AA46)*1000","v":15.936306951099672},{"$f":"('2015'!M46/'2015 Rate'!$AA46)*1000","v":1.2783831496925793},{"$f":"('2015'!N46/'2015 Rate'!$AA46)*1000","v":7.7990068615258847},{"$f":"('2015'!O46/'2015 Rate'!$AA46)*1000","v":6.5206237118333057},{"$f":"('2015'!P46/'2015 Rate'!$AA46)*1000","v":6.2092895842210991},{"$f":"('2015'!Q46/'2015 Rate'!$AA46)*1000","v":9.92268825713764},{"$f":"('2015'!R46/'2015 Rate'!$AA46)*1000","v":3.71339867291654},null,{"$f":"('2015'!T46/'2015 Rate'!$AA46)*1000","v":2.1019401855829689},null,null,null,null,null,"Greater Glasgow & Clyde",{"$f":"AA16+AA21+AA29+AA35+AA14+AA19","v":1149890}]
[44,"Highland",null,{"$f":"('2015'!D47/'2015 Rate'!$AA47)*1000","v":2.7476635514018692},{"$f":"('2015'!E47/'2015 Rate'!$AA47)*1000","v":1.1370716510903425},{"$f":"('2015'!F47/'2015 Rate'!$AA47)*1000","v":1.9345794392523363},{"$f":"('2015'!G47/'2015 Rate'!$AA47)*1000","v":-0.32398753894080995},{"$f":"('2015'!H47/'2015 Rate'!$AA47)*1000","v":35.227414330218068},{"$f":"('2015'!I47/'2015 Rate'!$AA47)*1000","v":32.479750778816204},{"$f":"('2015'!J47/'2015 Rate'!$AA47)*1000","v":-1.4704049844236762},{"$f":"('2015'!K47/'2015 Rate'!$AA47)*1000","v":19.55140186915888},{"$f":"('2015'!L47/'2015 Rate'!$AA47)*1000","v":21.021806853582557},{"$f":"('2015'!M47/'2015 Rate'!$AA47)*1000","v":3.4579439252336446},{"$f":"('2015'!N47/'2015 Rate'!$AA47)*1000","v":11.884735202492212},{"$f":"('2015'!O47/'2015 Rate'!$AA47)*1000","v":8.426791277258566},{"$f":"('2015'!P47/'2015 Rate'!$AA47)*1000","v":0.76012461059190028},{"$f":"('2015'!Q47/'2015 Rate'!$AA47)*1000","v":3.7912772585669781},{"$f":"('2015'!R47/'2015 Rate'!$AA47)*1000","v":3.0311526479750777},null,{"$f":"('2015'!T47/'2015 Rate'!$AA47)*1000","v":1.2492211838006229},null,null,null,null,null,"Highland",{"$f":"AA20+AA8","v":321000}]
[45,"Lanarkshire",null,{"$f":"('2015'!D48/'2015 Rate'!$AA48)*1000","v":1.7937630827056181},{"$f":"('2015'!E48/'2015 Rate'!$AA48)*1000","v":0.7563140766092683},{"$f":"('2015'!F48/'2015 Rate'!$AA48)*1000","v":0.89688154135280906},{"$f":"('2015'!G48/'2015 Rate'!$AA48)*1000","v":0.14056746474354076},{"$f":"('2015'!H48/'2015 Rate'!$AA48)*1000","v":21.62447096212318},{"$f":"('2015'!I48/'2015 Rate'!$AA48)*1000","v":19.830707879417563},{"$f":"('2015'!J48/'2015 Rate'!$AA48)*1000","v":1.6440281746092378},{"$f":"('2015'!K48/'2015 Rate'!$AA48)*1000","v":16.253877064584639},{"$f":"('2015'!L48/'2015 Rate'!$AA48)*1000","v":14.609848889975401},{"$f":"('2015'!M48/'2015 Rate'!$AA48)*1000","v":0.14362327919448731},{"$f":"('2015'!N48/'2015 Rate'!$AA48)*1000","v":3.7250378157038306},{"$f":"('2015'!O48/'2015 Rate'!$AA48)*1000","v":3.5814145365093433},{"$f":"('2015'!P48/'2015 Rate'!$AA48)*1000","v":6.1116289018930776E-3},{"$f":"('2015'!Q48/'2015 Rate'!$AA48)*1000","v":1.645556081834711},{"$f":"('2015'!R48/'2015 Rate'!$AA48)*1000","v":1.6394444529328178},null,{"$f":"('2015'!T48/'2015 Rate'!$AA48)*1000","v":0.69978150926675731},null,null,null,null,null,"Lanarkshire",{"$f":"AA26+AA33","v":654490}]
[46,"Lothian",null,{"$f":"('2015'!D49/'2015 Rate'!$AA49)*1000","v":10.485134823692096},{"$f":"('2015'!E49/'2015 Rate'!$AA49)*1000","v":0.58077898133210415},{"$f":"('2015'!F49/'2015 Rate'!$AA49)*1000","v":9.7084581700852741},{"$f":"('2015'!G49/'2015 Rate'!$AA49)*1000","v":0.19589767227471766},{"$f":"('2015'!H49/'2015 Rate'!$AA49)*1000","v":41.377045402166395},{"$f":"('2015'!I49/'2015 Rate'!$AA49)*1000","v":30.891910578474302},{"$f":"('2015'!J49/'2015 Rate'!$AA49)*1000","v":0.4885918414381194},{"$f":"('2015'!K49/'2015 Rate'!$AA49)*1000","v":15.743258815395251},{"$f":"('2015'!L49/'2015 Rate'!$AA49)*1000","v":15.254666973957134},{"$f":"('2015'!M49/'2015 Rate'!$AA49)*1000","v":2.6423138972113391},{"$f":"('2015'!N49/'2015 Rate'!$AA49)*1000","v":13.195436736575248},{"$f":"('2015'!O49/'2015 Rate'!$AA49)*1000","v":10.553122839363908},{"$f":"('2015'!P49/'2015 Rate'!$AA49)*1000","v":7.3542290850426362},{"$f":"('2015'!Q49/'2015 Rate'!$AA49)*1000","v":12.438349850195898},{"$f":"('2015'!R49/'2015 Rate'!$AA49)*1000","v":5.0841207651532612},null,{"$f":"('2015'!T49/'2015 Rate'!$AA49)*1000","v":2.7425674118460472},null,null,null,null,null,"Lothian",{"$f":"AA15+AA9+AA22+AA36","v":867800}]
[47,"Orkney",null,{"$f":"('2015'!D50/'2015 Rate'!$AA50)*1000","v":4.6146746654360866},{"$f":"('2015'!E50/'2015 Rate'!$AA50)*1000","v":1.6151361329026304},{"$f":"('2015'!F50/'2015 Rate'!$AA50)*1000","v":2.9072450392247347},{"$f":"('2015'!G50/'2015 Rate'!$AA50)*1000","v":9.2293493308721733E-2},{"$f":"('2015'!H50/'2015 Rate'!$AA50)*1000","v":32.810336871250577},{"$f":"('2015'!I50/'2015 Rate'!$AA50)*1000","v":28.195662205814489},{"$f":"('2015'!J50/'2015 Rate'!$AA50)*1000","v":-1.6151361329026304},{"$f":"('2015'!K50/'2015 Rate'!$AA50)*1000","v":17.951084448546375},{"$f":"('2015'!L50/'2015 Rate'!$AA50)*1000","v":19.566220581449009},{"$f":"('2015'!M50/'2015 Rate'!$AA50)*1000","v":6.0913705583756341},{"$f":"('2015'!N50/'2015 Rate'!$AA50)*1000","v":12.413474850023073},{"$f":"('2015'!O50/'2015 Rate'!$AA50)*1000","v":6.322104291647439},{"$f":"('2015'!P50/'2015 Rate'!$AA50)*1000","v":0.13844023996308258},{"$f":"('2015'!Q50/'2015 Rate'!$AA50)*1000","v":2.4457775726811262},{"$f":"('2015'!R50/'2015 Rate'!$AA50)*1000","v":2.3073373327180433},null,{"$f":"('2015'!T50/'2015 Rate'!$AA50)*1000","v":0.41532071988924785},null,null,null,null,null,"Orkney",{"$f":"AA27","v":21670}]
[48,"Shetland",null,{"$f":"('2015'!D51/'2015 Rate'!$AA51)*1000","v":-1.5517241379310345},{"$f":"('2015'!E51/'2015 Rate'!$AA51)*1000","v":-0.30172413793103448},{"$f":"('2015'!F51/'2015 Rate'!$AA51)*1000","v":0.17241379310344826},{"$f":"('2015'!G51/'2015 Rate'!$AA51)*1000","v":-1.4224137931034484},{"$f":"('2015'!H51/'2015 Rate'!$AA51)*1000","v":30.387931034482758},{"$f":"('2015'!I51/'2015 Rate'!$AA51)*1000","v":31.939655172413797},{"$f":"('2015'!J51/'2015 Rate'!$AA51)*1000","v":-4.2672413793103452},{"$f":"('2015'!K51/'2015 Rate'!$AA51)*1000","v":16.810344827586206},{"$f":"('2015'!L51/'2015 Rate'!$AA51)*1000","v":21.077586206896552},{"$f":"('2015'!M51/'2015 Rate'!$AA51)*1000","v":1.336206896551724},{"$f":"('2015'!N51/'2015 Rate'!$AA51)*1000","v":9.568965517241379},{"$f":"('2015'!O51/'2015 Rate'!$AA51)*1000","v":8.2327586206896548},{"$f":"('2015'!P51/'2015 Rate'!$AA51)*1000","v":1.3793103448275861},{"$f":"('2015'!Q51/'2015 Rate'!$AA51)*1000","v":4.0086206896551726},{"$f":"('2015'!R51/'2015 Rate'!$AA51)*1000","v":2.6293103448275863},null,{"$f":"('2015'!T51/'2015 Rate'!$AA51)*1000","v":1.0344827586206897},null,null,null,null,null,"Shetland",{"$f":"AA31","v":23200}]
[49,"Tayside",null,{"$f":"('2015'!D52/'2015 Rate'!$AA52)*1000","v":4.8404973014649189},{"$f":"('2015'!E52/'2015 Rate'!$AA52)*1000","v":1.3227640709329223},{"$f":"('2015'!F52/'2015 Rate'!$AA52)*1000","v":3.2912490362374709},{"$f":"('2015'!G52/'2015 Rate'!$AA52)*1000","v":0.22648419429452582},{"$f":"('2015'!H52/'2015 Rate'!$AA52)*1000","v":34.488242097147264},{"$f":"('2015'!I52/'2015 Rate'!$AA52)*1000","v":29.647744795682343},{"$f":"('2015'!J52/'2015 Rate'!$AA52)*1000","v":0.94930609097918273},{"$f":"('2015'!K52/'2015 Rate'!$AA52)*1000","v":19.805319969159598},{"$f":"('2015'!L52/'2015 Rate'!$AA52)*1000","v":18.856013878180416},{"$f":"('2015'!M52/'2015 Rate'!$AA52)*1000","v":1.1854279105628374},{"$f":"('2015'!N52/'2015 Rate'!$AA52)*1000","v":8.355821125674634},{"$f":"('2015'!O52/'2015 Rate'!$AA52)*1000","v":7.1703932151117957},{"$f":"('2015'!P52/'2015 Rate'!$AA52)*1000","v":2.7057632999228991},{"$f":"('2015'!Q52/'2015 Rate'!$AA52)*1000","v":6.3271010023130296},{"$f":"('2015'!R52/'2015 Rate'!$AA52)*1000","v":3.621337702390131},null,{"$f":"('2015'!T52/'2015 Rate'!$AA52)*1000","v":1.4817848882035467},null,null,null,null,null,"Tayside",{"$f":"AA28+AA7+AA12","v":415040}]
[50,"Western Isles",null,{"$f":"('2015'!D53/'2015 Rate'!$AA53)*1000","v":-0.1847063169560399},{"$f":"('2015'!E53/'2015 Rate'!$AA53)*1000","v":0.8127077946065755},{"$f":"('2015'!F53/'2015 Rate'!$AA53)*1000","v":-0.66494274104174367},{"$f":"('2015'!G53/'2015 Rate'!$AA53)*1000","v":-0.33247137052087183},{"$f":"('2015'!H53/'2015 Rate'!$AA53)*1000","v":32.545253047654228},{"$f":"('2015'!I53/'2015 Rate'!$AA53)*1000","v":32.729959364610266},{"$f":"('2015'!J53/'2015 Rate'!$AA53)*1000","v":-1.6992981159955669},{"$f":"('2015'!K53/'2015 Rate'!$AA53)*1000","v":22.31252308828962},{"$f":"('2015'!L53/'2015 Rate'!$AA53)*1000","v":24.011821204285184},{"$f":"('2015'!M53/'2015 Rate'!$AA53)*1000","v":1.4407092722571113},{"$f":"('2015'!N53/'2015 Rate'!$AA53)*1000","v":8.2009604728481715},{"$f":"('2015'!O53/'2015 Rate'!$AA53)*1000","v":6.7602512005910604},{"$f":"('2015'!P53/'2015 Rate'!$AA53)*1000","v":7.3882526782415955E-2},{"$f":"('2015'!Q53/'2015 Rate'!$AA53)*1000","v":2.0317694865164388},{"$f":"('2015'!R53/'2015 Rate'!$AA53)*1000","v":1.9578869597340229},null,{"$f":"('2015'!T53/'2015 Rate'!$AA53)*1000","v":0.29553010712966382},null,null,null,null,null,"Western Isles",{"$f":"AA24","v":27070}]

{"sheet":"2016","index":43,"n_rows":53,"n_cols":25,"rows_kept":53,"cut":false,"hidden":true,"merged":[]}
[null,2016]
[null,null,"Not specified ",{"$f":"'Comparing Indicators'!$U8","v":"Total net migration"},{"$f":"'Comparing Indicators'!$U9","v":"Total net migration for ages 0-15"},{"$f":"'Comparing Indicators'!$U10","v":"Total net migration for ages 16-64"},{"$f":"'Comparing Indicators'!$U11","v":"Total net migration for people aged 65+"},{"$f":"'Comparing Indicators'!$U12","v":"Total in-migration"},{"$f":"'Comparing Indicators'!$U13","v":"Total out-migration"},{"$f":"'Comparing Indicators'!$U14","v":"Within Scotland net migration"},{"$f":"'Comparing Indicators'!$U15","v":"Within Scotland in-migration"},{"$f":"'Comparing Indicators'!$U16","v":"Within Scotland out-migration"},{"$f":"'Comparing Indicators'!$U17","v":"Rest of UK net migration"},{"$f":"'Comparing Indicators'!$U18","v":"Rest of UK in-migration"},{"$f":"'Comparing Indicators'!$U19","v":"Rest of UK out-migration"},{"$f":"'Comparing Indicators'!$U20","v":"Overseas net migration"},{"$f":"'Comparing Indicators'!$U21","v":"Overseas in-migration"},{"$f":"'Comparing Indicators'!$U22","v":"Overseas out-migration"},{"$f":"'Comparing Indicators'!$U23","v":"NINo Allocation"},{"$f":"'Comparing Indicators'!$U24","v":"Births to non-UK mothers"},{"$f":"'Comparing Indicators'!$U25","v":"Pupils from a minority ethnic group"},{"$f":"'Comparing Indicators'!$U26","v":"Pupils with English as an additional language"},{"$f":"'Comparing Indicators'!$U27","v":"Population born outside the UK"},{"$f":"'Comparing Indicators'!$U28","v":"Population with non-British nationality"},{"$f":"'Comparing Indicators'!$U29","v":"Citizenships"}]
[1,"Not specified"]
[2,"SCOTLAND",null,{"$f":"'Total net migration'!N4","v":31693},{"$f":"'Total net migration 0-15'!N4","v":5201},{"$f":"'Total net migration 16-64'!N4","v":26475},{"$f":"'Total net migration 65+'!N4","v":17},{"$f":"'Total in-migration'!N4","v":86705},{"$f":"'Total out-migration'!N4","v":55012},"N/A","N/A","N/A",{"$f":"'Rest of UK net migration'!N4","v":8793},{"$f":"'Rest of UK in-migration'!N4","v":46305},{"$f":"'Rest of UK out-migration'!N4","v":37512},{"$f":"'Overseas net migration'!N4","v":22900},{"$f":"'Overseas in-migration'!N4","v":40400},{"$f":"'Overseas out-migration'!N4","v":17500},{"$f":"NINo!N5","v":45190},{"$f":"'Non-UK Births'!N5","v":9296},{"$f":"'Pupils ethnic group'!O5","v":47814},{"$f":"'Pupils with English as an add.'!L4","v":39331},{"$f":"'Pop born outside UK'!N5","v":457000},{"$f":"'Non-British Population'!N5","v":337000},{"$f":"Citizenships!N5","v":4453}]
[3,"Aberdeen City",null,{"$f":"'Total net migration'!N5","v":-969},{"$f":"'Total net migration 0-15'!N5","v":-318},{"$f":"'Total net migration 16-64'!N5","v":-531},{"$f":"'Total net migration 65+'!N5","v":-120},{"$f":"'Total in-migration'!N5","v":12305},{"$f":"'Total out-migration'!N5","v":13274},{"$f":"'Within Scotland net migration'!N5","v":-2664},{"$f":"'Within Scotland in-migration'!N5","v":6177},{"$f":"'Within Scotland out-migration'!N5","v":8841},{"$f":"'Rest of UK net migration'!N5","v":-779},{"$f":"'Rest of UK in-migration'!N5","v":1971},{"$f":"'Rest of UK out-migration'!N5","v":2750},{"$f":"'Overseas net migration'!N5","v":2474},{"$f":"'Overseas in-migration'!N5","v":4157},{"$f":"'Overseas out-migration'!N5","v":1683},{"$f":"NINo!N6","v":4140},{"$f":"'Non-UK Births'!N6","v":988},{"$f":"'Pupils ethnic group'!O6","v":3014},{"$f":"'Pupils with English as an add.'!L5","v":3459},{"$f":"'Pop born outside UK'!N6","v":48000},{"$f":"'Non-British Population'!N6","v":43000},{"$f":"Citizenships!N6","v":650}]
[4,"Aberdeenshire",null,{"$f":"'Total net migration'!N6","v":-354},{"$f":"'Total net migration 0-15'!N6","v":120},{"$f":"'Total net migration 16-64'!N6","v":-358},{"$f":"'Total net migration 65+'!N6","v":-116},{"$f":"'Total in-migration'!N6","v":8157},{"$f":"'Total out-migration'!N6","v":8511},{"$f":"'Within Scotland net migration'!N6","v":-68},{"$f":"'Within Scotland in-migration'!N6","v":5935},{"$f":"'Within Scotland out-migration'!N6","v":6003},{"$f":"'Rest of UK net migration'!N6","v":-602},{"$f":"'Rest of UK in-migration'!N6","v":1244},{"$f":"'Rest of UK out-migration'!N6","v":1846},{"$f":"'Overseas net migration'!N6","v":316},{"$f":"'Overseas in-migration'!N6","v":978},{"$f":"'Overseas out-migration'!N6","v":662},{"$f":"NINo!N7","v":1450},{"$f":"'Non-UK Births'!N7","v":454},{"$f":"'Pupils ethnic group'!O7","v":1100},{"$f":"'Pupils with English as an add.'!L6","v":1671},{"$f":"'Pop born outside UK'!N7","v":23000},{"$f":"'Non-British Population'!N7","v":16000},{"$f":"Citizenships!N7","v":193}]
[5,"Angus",null,{"$f":"'Total net migration'!N7","v":68},{"$f":"'Total net migration 0-15'!N7","v":59},{"$f":"'Total net migration 16-64'!N7","v":18},{"$f":"'Total net migration 65+'!N7","v":-9},{"$f":"'Total in-migration'!N7","v":3911},{"$f":"'Total out-migration'!N7","v":3843},{"$f":"'Within Scotland net migration'!N7","v":66},{"$f":"'Within Scotland in-migration'!N7","v":2943},{"$f":"'Within Scotland out-migration'!N7","v":2877},{"$f":"'Rest of UK net migration'!N7","v":-71},{"$f":"'Rest of UK in-migration'!N7","v":622},{"$f":"'Rest of UK out-migration'!N7","v":693},{"$f":"'Overseas net migration'!N7","v":73},{"$f":"'Overseas in-migration'!N7","v":346},{"$f":"'Overseas out-migration'!N7","v":273},{"$f":"NINo!N8","v":1180},{"$f":"'Non-UK Births'!N8","v":139},{"$f":"'Pupils ethnic group'!O8","v":402},{"$f":"'Pupils with English as an add.'!L7","v":527},{"$f":"'Pop born outside UK'!N8","v":6000},{"$f":"'Non-British Population'!N8","v":4000},{"$f":"Citizenships!N8","v":30}]
[6,"Argyll and Bute",null,{"$f":"'Total net migration'!N8","v":234},{"$f":"'Total net migration 0-15'!N8","v":131},{"$f":"'Total net migration 16-64'!N8","v":278},{"$f":"'Total net migration 65+'!N8","v":-175},{"$f":"'Total in-migration'!N8","v":4110},{"$f":"'Total out-migration'!N8","v":3876},{"$f":"'Within Scotland net migration'!N8","v":-283},{"$f":"'Within Scotland in-migration'!N8","v":2390},{"$f":"'Within Scotland out-migration'!N8","v":2673},{"$f":"'Rest of UK net migration'!N8","v":479},{"$f":"'Rest of UK in-migration'!N8","v":1369},{"$f":"'Rest of UK out-migration'!N8","v":890},{"$f":"'Overseas net migration'!N8","v":38},{"$f":"'Overseas in-migration'!N8","v":351},{"$f":"'Overseas out-migration'!N8","v":313},{"$f":"NINo!N9","v":560},{"$f":"'Non-UK Births'!N9","v":87},{"$f":"'Pupils ethnic group'!O9","v":288},{"$f":"'Pupils with English as an add.'!L8","v":214},{"$f":"'Pop born outside UK'!N9","v":5000},{"$f":"'Non-British Population'!N9","v":3000},{"$f":"Citizenships!N9","v":29}]
[7,"City of Edinburgh",null,{"$f":"'Total net migration'!N9","v":7659},{"$f":"'Total net migration 0-15'!N9","v":226},{"$f":"'Total net migration 16-64'!N9","v":7365},{"$f":"'Total net migration 65+'!N9","v":68},{"$f":"'Total in-migration'!N9","v":32387},{"$f":"'Total out-migration'!N9","v":24728},{"$f":"'Within Scotland net migration'!N9","v":-1483},{"$f":"'Within Scotland in-migration'!N9","v":12286},{"$f":"'Within Scotland out-migration'!N9","v":13769},{"$f":"'Rest of UK net migration'!N9","v":2351},{"$f":"'Rest of UK in-migration'!N9","v":9634},{"$f":"'Rest of UK out-migration'!N9","v":7283},{"$f":"'Overseas net migration'!N9","v":6791},{"$f":"'Overseas in-migration'!N9","v":10467},{"$f":"'Overseas out-migration'!N9","v":3676},{"$f":"NINo!N10","v":12000},{"$f":"'Non-UK Births'!N10","v":1836},{"$f":"'Pupils ethnic group'!O10","v":7474},{"$f":"'Pupils with English as an add.'!L9","v":6096},{"$f":"'Pop born outside UK'!N10","v":90000},{"$f":"'Non-British Population'!N10","v":69000},{"$f":"Citizenships!N10","v":952}]
[8,"Clackmannanshire",null,{"$f":"'Total net migration'!N10","v":12},{"$f":"'Total net migration 0-15'!N10","v":70},{"$f":"'Total net migration 16-64'!N10","v":-53},{"$f":"'Total net migration 65+'!N10","v":-5},{"$f":"'Total in-migration'!N10","v":1757},{"$f":"'Total out-migration'!N10","v":1745},{"$f":"'Within Scotland net migration'!N10","v":-113},{"$f":"'Within Scotland in-migration'!N10","v":1310},{"$f":"'Within Scotland out-migration'!N10","v":1423},{"$f":"'Rest of UK net migration'!N10","v":62},{"$f":"'Rest of UK in-migration'!N10","v":290},{"$f":"'Rest of UK out-migration'!N10","v":228},{"$f":"'Overseas net migration'!N10","v":63},{"$f":"'Overseas in-migration'!N10","v":157},{"$f":"'Overseas out-migration'!N10","v":94},{"$f":"NINo!N11","v":140},{"$f":"'Non-UK Births'!N11","v":41},{"$f":"'Pupils ethnic group'!O11","v":217},{"$f":"'Pupils with English as an add.'!L10","v":179},{"$f":"'Pop born outside UK'!N11","v":4000},{"$f":"'Non-British Population'!N11","v":2000},{"$f":"Citizenships!N11","v":10}]
[9,"Dumfries and Galloway",null,{"$f":"'Total net migration'!N11","v":394},{"$f":"'Total net migration 0-15'!N11","v":164},{"$f":"'Total net migration 16-64'!N11","v":229},{"$f":"'Total net migration 65+'!N11","v":1},{"$f":"'Total in-migration'!N11","v":3884},{"$f":"'Total out-migration'!N11","v":3490},{"$f":"'Within Scotland net migration'!N11","v":-176},{"$f":"'Within Scotland in-migration'!N11","v":1679},{"$f":"'Within Scotland out-migration'!N11","v":1855},{"$f":"'Rest of UK net migration'!N11","v":558},{"$f":"'Rest of UK in-migration'!N11","v":1865},{"$f":"'Rest of UK out-migration'!N11","v":1307},{"$f":"'Overseas net migration'!N11","v":12},{"$f":"'Overseas in-migration'!N11","v":340},{"$f":"'Overseas out-migration'!N11","v":328},{"$f":"NINo!N12","v":380},{"$f":"'Non-UK Births'!N12","v":96},{"$f":"'Pupils ethnic group'!O12","v":422},{"$f":"'Pupils with English as an add.'!L11","v":395},{"$f":"'Pop born outside UK'!N12","v":6000},{"$f":"'Non-British Population'!N12","v":3000},{"$f":"Citizenships!N12","v":41}]
[10,"Dundee City",null,{"$f":"'Total net migration'!N12","v":177},{"$f":"'Total net migration 0-15'!N12","v":-62},{"$f":"'Total net migration 16-64'!N12","v":244},{"$f":"'Total net migration 65+'!N12","v":-5},{"$f":"'Total in-migration'!N12","v":6872},{"$f":"'Total out-migration'!N12","v":6695},{"$f":"'Within Scotland net migration'!N12","v":-607},{"$f":"'Within Scotland in-migration'!N12","v":4170},{"$f":"'Within Scotland out-migration'!N12","v":4777},{"$f":"'Rest of UK net migration'!N12","v":-18},{"$f":"'Rest of UK in-migration'!N12","v":1263},{"$f":"'Rest of UK out-migration'!N12","v":1281},{"$f":"'Overseas net migration'!N12","v":802},{"$f":"'Overseas in-migration'!N12","v":1439},{"$f":"'Overseas out-migration'!N12","v":637},{"$f":"NINo!N13","v":1340},{"$f":"'Non-UK Births'!N13","v":307},{"$f":"'Pupils ethnic group'!O13","v":1684},{"$f":"'Pupils with English as an add.'!L12","v":1195},{"$f":"'Pop born outside UK'!N13","v":12000},{"$f":"'Non-British Population'!N13","v":10000},{"$f":"Citizenships!N13","v":128}]
[11,"East Ayrshire",null,{"$f":"'Total net migration'!N13","v":151},{"$f":"'Total net migration 0-15'!N13","v":101},{"$f":"'Total net migration 16-64'!N13","v":17},{"$f":"'Total net migration 65+'!N13","v":33},{"$f":"'Total in-migration'!N13","v":3386},{"$f":"'Total out-migration'!N13","v":3235},{"$f":"'Within Scotland net migration'!N13","v":62},{"$f":"'Within Scotland in-migration'!N13","v":2668},{"$f":"'Within Scotland out-migration'!N13","v":2606},{"$f":"'Rest of UK net migration'!N13","v":127},{"$f":"'Rest of UK in-migration'!N13","v":604},{"$f":"'Rest of UK out-migration'!N13","v":477},{"$f":"'Overseas net migration'!N13","v":-38},{"$f":"'Overseas in-migration'!N13","v":114},{"$f":"'Overseas out-migration'!N13","v":152},{"$f":"NINo!N14","v":160},{"$f":"'Non-UK Births'!N14","v":58},{"$f":"'Pupils ethnic group'!O14","v":411},{"$f":"'Pupils with English as an add.'!L13","v":172},{"$f":"'Pop born outside UK'!N14","v":4000},{"$f":"'Non-British Population'!N14","v":3000},{"$f":"Citizenships!N14","v":16}]
[12,"East Dunbartonshire",null,{"$f":"'Total net migration'!N14","v":706},{"$f":"'Total net migration 0-15'!N14","v":538},{"$f":"'Total net migration 16-64'!N14","v":170},{"$f":"'Total net migration 65+'!N14","v":-2},{"$f":"'Total in-migration'!N14","v":4196},{"$f":"'Total out-migration'!N14","v":3490},{"$f":"'Within Scotland net migration'!N14","v":585},{"$f":"'Within Scotland in-migration'!N14","v":3535},{"$f":"'Within Scotland out-migration'!N14","v":2950},{"$f":"'Rest of UK net migration'!N14","v":71},{"$f":"'Rest of UK in-migration'!N14","v":475},{"$f":"'Rest of UK out-migration'!N14","v":404},{"$f":"'Overseas net migration'!N14","v":50},{"$f":"'Overseas in-migration'!N14","v":186},{"$f":"'Overseas out-migration'!N14","v":136},{"$f":"NINo!N15","v":170},{"$f":"'Non-UK Births'!N15","v":66},{"$f":"'Pupils ethnic group'!O15","v":1367},{"$f":"'Pupils with English as an add.'!L14","v":437},{"$f":"'Pop born outside UK'!N15","v":5000},{"$f":"'Non-British Population'!N15","v":2000},{"$f":"Citizenships!N15","v":54}]
[13,"East Lothian",null,{"$f":"'Total net migration'!N15","v":960},{"$f":"'Total net migration 0-15'!N15","v":169},{"$f":"'Total net migration 16-64'!N15","v":667},{"$f":"'Total net migration 65+'!N15","v":124},{"$f":"'Total in-migration'!N15","v":4005},{"$f":"'Total out-migration'!N15","v":3045},{"$f":"'Within Scotland net migration'!N15","v":499},{"$f":"'Within Scotland in-migration'!N15","v":2869},{"$f":"'Within Scotland out-migration'!N15","v":2370},{"$f":"'Rest of UK net migration'!N15","v":172},{"$f":"'Rest of UK in-migration'!N15","v":681},{"$f":"'Rest of UK out-migration'!N15","v":509},{"$f":"'Overseas net migration'!N15","v":289},{"$f":"'Overseas in-migration'!N15","v":455},{"$f":"'Overseas out-migration'!N15","v":166},{"$f":"NINo!N16","v":550},{"$f":"'Non-UK Births'!N16","v":130},{"$f":"'Pupils ethnic group'!O16","v":423},{"$f":"'Pupils with English as an add.'!L15","v":344},{"$f":"'Pop born outside UK'!N16","v":5000},{"$f":"'Non-British Population'!N16","v":3000},{"$f":"Citizenships!N16","v":39}]
[14,"East Renfrewshire",null,{"$f":"'Total net migration'!N16","v":819},{"$f":"'Total net migration 0-15'!N16","v":626},{"$f":"'Total net migration 16-64'!N16","v":159},{"$f":"'Total net migration 65+'!N16","v":34},{"$f":"'Total in-migration'!N16","v":4076},{"$f":"'Total out-migration'!N16","v":3257},{"$f":"'Within Scotland net migration'!N16","v":725},{"$f":"'Within Scotland in-migration'!N16","v":3482},{"$f":"'Within Scotland out-migration'!N16","v":2757},{"$f":"'Rest of UK net migration'!N16","v":43},{"$f":"'Rest of UK in-migration'!N16","v":415},{"$f":"'Rest of UK out-migration'!N16","v":372},{"$f":"'Overseas net migration'!N16","v":51},{"$f":"'Overseas in-migration'!N16","v":179},{"$f":"'Overseas out-migration'!N16","v":128},{"$f":"NINo!N17","v":170},{"$f":"'Non-UK Births'!N17","v":108},{"$f":"'Pupils ethnic group'!O17","v":2997},{"$f":"'Pupils with English as an add.'!L16","v":886},{"$f":"'Pop born outside UK'!N17","v":7000},{"$f":"'Non-British Population'!N17","v":4000},{"$f":"Citizenships!N17","v":83}]
[15,"Falkirk",null,{"$f":"'Total net migration'!N17","v":940},{"$f":"'Total net migration 0-15'!N17","v":166},{"$f":"'Total net migration 16-64'!N17","v":744},{"$f":"'Total net migration 65+'!N17","v":30},{"$f":"'Total in-migration'!N17","v":4549},{"$f":"'Total out-migration'!N17","v":3609},{"$f":"'Within Scotland net migration'!N17","v":590},{"$f":"'Within Scotland in-migration'!N17","v":3469},{"$f":"'Within Scotland out-migration'!N17","v":2879},{"$f":"'Rest of UK net migration'!N17","v":195},{"$f":"'Rest of UK in-migration'!N17","v":697},{"$f":"'Rest of UK out-migration'!N17","v":502},{"$f":"'Overseas net migration'!N17","v":155},{"$f":"'Overseas in-migration'!N17","v":383},{"$f":"'Overseas out-migration'!N17","v":228},{"$f":"NINo!N18","v":460},{"$f":"'Non-UK Births'!N18","v":173},{"$f":"'Pupils ethnic group'!O18","v":805},{"$f":"'Pupils with English as an add.'!L17","v":730},{"$f":"'Pop born outside UK'!N18","v":9000},{"$f":"'Non-British Population'!N18","v":6000},{"$f":"Citizenships!N18","v":66}]
[16,"Fife",null,{"$f":"'Total net migration'!N18","v":1608},{"$f":"'Total net migration 0-15'!N18","v":338},{"$f":"'Total net migration 16-64'!N18","v":1182},{"$f":"'Total net migration 65+'!N18","v":88},{"$f":"'Total in-migration'!N18","v":11404},{"$f":"'Total out-migration'!N18","v":9796},{"$f":"'Within Scotland net migration'!N18","v":124},{"$f":"'Within Scotland in-migration'!N18","v":6484},{"$f":"'Within Scotland out-migration'!N18","v":6360},{"$f":"'Rest of UK net migration'!N18","v":442},{"$f":"'Rest of UK in-migration'!N18","v":2869},{"$f":"'Rest of UK out-migration'!N18","v":2427},{"$f":"'Overseas net migration'!N18","v":1042},{"$f":"'Overseas in-migration'!N18","v":2051},{"$f":"'Overseas out-migration'!N18","v":1009},{"$f":"NINo!N19","v":2330},{"$f":"'Non-UK Births'!N19","v":485},{"$f":"'Pupils ethnic group'!O19","v":1884},{"$f":"'Pupils with English as an add.'!L18","v":1336},{"$f":"'Pop born outside UK'!N19","v":30000},{"$f":"'Non-British Population'!N19","v":21000},{"$f":"Citizenships!N19","v":159}]
[17,"Glasgow City",null,{"$f":"'Total net migration'!N19","v":7963},{"$f":"'Total net migration 0-15'!N19","v":-351},{"$f":"'Total net migration 16-64'!N19","v":8515},{"$f":"'Total net migration 65+'!N19","v":-201},{"$f":"'Total in-migration'!N19","v":34966},{"$f":"'Total out-migration'!N19","v":27003},{"$f":"'Within Scotland net migration'!N19","v":-1818},{"$f":"'Within Scotland in-migration'!N19","v":16773},{"$f":"'Within Scotland out-migration'!N19","v":18591},{"$f":"'Rest of UK net migration'!N19","v":1846},{"$f":"'Rest of UK in-migration'!N19","v":6731},{"$f":"'Rest of UK out-migration'!N19","v":4885},{"$f":"'Overseas net migration'!N19","v":7935},{"$f":"'Overseas in-migration'!N19","v":11462},{"$f":"'Overseas out-migration'!N19","v":3527},{"$f":"NINo!N20","v":8940},{"$f":"'Non-UK Births'!N20","v":1940},{"$f":"'Pupils ethnic group'!O20","v":14117},{"$f":"'Pupils with English as an add.'!L19","v":12743},{"$f":"'Pop born outside UK'!N20","v":91000},{"$f":"'Non-British Population'!N20","v":69000},{"$f":"Citizenships!N20","v":1075}]
[18,"Highland",null,{"$f":"'Total net migration'!N20","v":1196},{"$f":"'Total net migration 0-15'!N20","v":312},{"$f":"'Total net migration 16-64'!N20","v":1016},{"$f":"'Total net migration 65+'!N20","v":-132},{"$f":"'Total in-migration'!N20","v":7637},{"$f":"'Total out-migration'!N20","v":6441},{"$f":"'Within Scotland net migration'!N20","v":-38},{"$f":"'Within Scotland in-migration'!N20","v":4179},{"$f":"'Within Scotland out-migration'!N20","v":4217},{"$f":"'Rest of UK net migration'!N20","v":885},{"$f":"'Rest of UK in-migration'!N20","v":6731},{"$f":"'Rest of UK out-migration'!N20","v":1653},{"$f":"'Overseas net migration'!N20","v":349},{"$f":"'Overseas in-migration'!N20","v":920},{"$f":"'Overseas out-migration'!N20","v":571},{"$f":"NINo!N21","v":1730},{"$f":"'Non-UK Births'!N21","v":322},{"$f":"'Pupils ethnic group'!O21","v":917},{"$f":"'Pupils with English as an add.'!L20","v":1352},{"$f":"'Pop born outside UK'!N21","v":13000},{"$f":"'Non-British Population'!N21","v":8000},{"$f":"Citizenships!N21","v":101}]
[19,"Inverclyde",null,{"$f":"'Total net migration'!N21","v":-56},{"$f":"'Total net migration 0-15'!N21","v":53},{"$f":"'Total net migration 16-64'!N21","v":-153},{"$f":"'Total net migration 65+'!N21","v":44},{"$f":"'Total in-migration'!N21","v":1530},{"$f":"'Total out-migration'!N21","v":1586},{"$f":"'Within Scotland net migration'!N21","v":-141},{"$f":"'Within Scotland in-migration'!N21","v":1092},{"$f":"'Within Scotland out-migration'!N21","v":1233},{"$f":"'Rest of UK net migration'!N21","v":46},{"$f":"'Rest of UK in-migration'!N21","v":307},{"$f":"'Rest of UK out-migration'!N21","v":261},{"$f":"'Overseas net migration'!N21","v":39},{"$f":"'Overseas in-migration'!N21","v":131},{"$f":"'Overseas out-migration'!N21","v":92},{"$f":"NINo!N22","v":180},{"$f":"'Non-UK Births'!N22","v":35},{"$f":"'Pupils ethnic group'!O22","v":202},{"$f":"'Pupils with English as an add.'!L21","v":59},{"$f":"'Pop born outside UK'!N22","v":2000},{"$f":"'Non-British Population'!N22","v":1000},{"$f":"Citizenships!N22","v":19}]
[20,"Midlothian",null,{"$f":"'Total net migration'!N22","v":1008},{"$f":"'Total net migration 0-15'!N22","v":210},{"$f":"'Total net migration 16-64'!N22","v":783},{"$f":"'Total net migration 65+'!N22","v":15},{"$f":"'Total in-migration'!N22","v":3631},{"$f":"'Total out-migration'!N22","v":2623},{"$f":"'Within Scotland net migration'!N22","v":855},{"$f":"'Within Scotland in-migration'!N22","v":3016},{"$f":"'Within Scotland out-migration'!N22","v":2161},{"$f":"'Rest of UK net migration'!N22","v":68},{"$f":"'Rest of UK in-migration'!N22","v":408},{"$f":"'Rest of UK out-migration'!N22","v":340},{"$f":"'Overseas net migration'!N22","v":85},{"$f":"'Overseas in-migration'!N22","v":207},{"$f":"'Overseas out-migration'!N22","v":122},{"$f":"NINo!N23","v":290},{"$f":"'Non-UK Births'!N23","v":128},{"$f":"'Pupils ethnic group'!O23","v":515},{"$f":"'Pupils with English as an add.'!L22","v":353},{"$f":"'Pop born outside UK'!N23","v":4000},{"$f":"'Non-British Population'!N23","v":3000},{"$f":"Citizenships!N23","v":59}]
[21,"Moray",null,{"$f":"'Total net migration'!N23","v":553},{"$f":"'Total net migration 0-15'!N23","v":170},{"$f":"'Total net migration 16-64'!N23","v":343},{"$f":"'Total net migration 65+'!N23","v":40},{"$f":"'Total in-migration'!N23","v":3563},{"$f":"'Total out-migration'!N23","v":3010},{"$f":"'Within Scotland net migration'!N23","v":197},{"$f":"'Within Scotland in-migration'!N23","v":2058},{"$f":"'Within Scotland out-migration'!N23","v":1861},{"$f":"'Rest of UK net migration'!N23","v":276},{"$f":"'Rest of UK in-migration'!N23","v":1184},{"$f":"'Rest of UK out-migration'!N23","v":908},{"$f":"'Overseas net migration'!N23","v":80},{"$f":"'Overseas in-migration'!N23","v":321},{"$f":"'Overseas out-migration'!N23","v":241},{"$f":"NINo!N24","v":260},{"$f":"'Non-UK Births'!N24","v":113},{"$f":"'Pupils ethnic group'!O24","v":342},{"$f":"'Pupils with English as an add.'!L23","v":471},{"$f":"'Pop born outside UK'!N24","v":5000},{"$f":"'Non-British Population'!N24","v":4000},{"$f":"Citizenships!N24","v":37}]
[22,"Na h-Eileanan Siar",null,{"$f":"'Total net migration'!N24","v":-67},{"$f":"'Total net migration 0-15'!N24","v":8},{"$f":"'Total net migration 16-64'!N24","v":-65},{"$f":"'Total net migration 65+'!N24","v":-10},{"$f":"'Total in-migration'!N24","v":837},{"$f":"'Total out-migration'!N24","v":904},{"$f":"'Within Scotland net migration'!N24","v":-120},{"$f":"'Within Scotland in-migration'!N24","v":534},{"$f":"'Within Scotland out-migration'!N24","v":654},{"$f":"'Rest of UK net migration'!N24","v":34},{"$f":"'Rest of UK in-migration'!N24","v":231},{"$f":"'Rest of UK out-migration'!N24","v":197},{"$f":"'Overseas net migration'!N24","v":19},{"$f":"'Overseas in-migration'!N24","v":72},{"$f":"'Overseas out-migration'!N24","v":53},{"$f":"NINo!N25","v":60},{"$f":"'Non-UK Births'!N25","v":26},{"$f":"'Pupils ethnic group'!O25","v":67},{"$f":"'Pupils with English as an add.'!L24","v":62},{"$f":"'Pop born outside UK'!N25","v":1000},{"$f":"'Non-British Population'!N25","v":"0~"},{"$f":"Citizenships!N25","v":6}]
[23,"North Ayrshire",null,{"$f":"'Total net migration'!N25","v":65},{"$f":"'Total net migration 0-15'!N25","v":131},{"$f":"'Total net migration 16-64'!N25","v":21},{"$f":"'Total net migration 65+'!N25","v":-87},{"$f":"'Total in-migration'!N25","v":3742},{"$f":"'Total out-migration'!N25","v":3677},{"$f":"'Within Scotland net migration'!N25","v":-108},{"$f":"'Within Scotland in-migration'!N25","v":2752},{"$f":"'Within Scotland out-migration'!N25","v":2860},{"$f":"'Rest of UK net migration'!N25","v":213},{"$f":"'Rest of UK in-migration'!N25","v":806},{"$f":"'Rest of UK out-migration'!N25","v":593},{"$f":"'Overseas net migration'!N25","v":-40},{"$f":"'Overseas in-migration'!N25","v":184},{"$f":"'Overseas out-migration'!N25","v":224},{"$f":"NINo!N26","v":210},{"$f":"'Non-UK Births'!N26","v":49},{"$f":"'Pupils ethnic group'!O26","v":390},{"$f":"'Pupils with English as an add.'!L25","v":155},{"$f":"'Pop born outside UK'!N26","v":4000},{"$f":"'Non-British Population'!N26","v":2000},{"$f":"Citizenships!N26","v":27}]
[24,"North Lanarkshire",null,{"$f":"'Total net migration'!N26","v":982},{"$f":"'Total net migration 0-15'!N26","v":367},{"$f":"'Total net migration 16-64'!N26","v":726},{"$f":"'Total net migration 65+'!N26","v":-111},{"$f":"'Total in-migration'!N26","v":8061},{"$f":"'Total out-migration'!N26","v":7079},{"$f":"'Within Scotland net migration'!N26","v":549},{"$f":"'Within Scotland in-migration'!N26","v":6155},{"$f":"'Within Scotland out-migration'!N26","v":5606},{"$f":"'Rest of UK net migration'!N26","v":167},{"$f":"'Rest of UK in-migration'!N26","v":1171},{"$f":"'Rest of UK out-migration'!N26","v":1004},{"$f":"'Overseas net migration'!N26","v":266},{"$f":"'Overseas in-migration'!N26","v":735},{"$f":"'Overseas out-migration'!N26","v":469},{"$f":"NINo!N27","v":1300},{"$f":"'Non-UK Births'!N27","v":288},{"$f":"'Pupils ethnic group'!O27","v":2051},{"$f":"'Pupils with English as an add.'!L26","v":1428},{"$f":"'Pop born outside UK'!N27","v":15000},{"$f":"'Non-British Population'!N27","v":9000},{"$f":"Citizenships!N27","v":103}]
[25,"Orkney Islands",null,{"$f":"'Total net migration'!N27","v":223},{"$f":"'Total net migration 0-15'!N27","v":74},{"$f":"'Total net migration 16-64'!N27","v":127},{"$f":"'Total net migration 65+'!N27","v":22},{"$f":"'Total in-migration'!N27","v":858},{"$f":"'Total out-migration'!N27","v":635},{"$f":"'Within Scotland net migration'!N27","v":-17},{"$f":"'Within Scotland in-migration'!N27","v":421},{"$f":"'Within Scotland out-migration'!N27","v":438},{"$f":"'Rest of UK net migration'!N27","v":237},{"$f":"'Rest of UK in-migration'!N27","v":385},{"$f":"'Rest of UK out-migration'!N27","v":148},{"$f":"'Overseas net migration'!N27","v":3},{"$f":"'Overseas in-migration'!N27","v":52},{"$f":"'Overseas out-migration'!N27","v":49},{"$f":"NINo!N28","v":60},{"$f":"'Non-UK Births'!N28","v":13},{"$f":"'Pupils ethnic group'!O28","v":39},{"$f":"'Pupils with English as an add.'!L27","v":22},{"$f":"'Pop born outside UK'!N28","v":1000},{"$f":"'Non-British Population'!N28","v":"0~"},{"$f":"Citizenships!N28","v":8}]
[26,"Perth and Kinross",null,{"$f":"'Total net migration'!N28","v":1062},{"$f":"'Total net migration 0-15'!N28","v":335},{"$f":"'Total net migration 16-64'!N28","v":631},{"$f":"'Total net migration 65+'!N28","v":96},{"$f":"'Total in-migration'!N28","v":6329},{"$f":"'Total out-migration'!N28","v":5267},{"$f":"'Within Scotland net migration'!N28","v":404},{"$f":"'Within Scotland in-migration'!N28","v":4240},{"$f":"'Within Scotland out-migration'!N28","v":3836},{"$f":"'Rest of UK net migration'!N28","v":238},{"$f":"'Rest of UK in-migration'!N28","v":1151},{"$f":"'Rest of UK out-migration'!N28","v":913},{"$f":"'Overseas net migration'!N28","v":420},{"$f":"'Overseas in-migration'!N28","v":938},{"$f":"'Overseas out-migration'!N28","v":518},{"$f":"NINo!N29","v":2670},{"$f":"'Non-UK Births'!N29","v":223},{"$f":"'Pupils ethnic group'!O29","v":696},{"$f":"'Pupils with English as an add.'!L28","v":867},{"$f":"'Pop born outside UK'!N29","v":10000},{"$f":"'Non-British Population'!N29","v":8000},{"$f":"Citizenships!N29","v":63}]
[27,"Renfrewshire",null,{"$f":"'Total net migration'!N29","v":1614},{"$f":"'Total net migration 0-15'!N29","v":294},{"$f":"'Total net migration 16-64'!N29","v":1233},{"$f":"'Total net migration 65+'!N29","v":87},{"$f":"'Total in-migration'!N29","v":6162},{"$f":"'Total out-migration'!N29","v":4548},{"$f":"'Within Scotland net migration'!N29","v":911},{"$f":"'Within Scotland in-migration'!N29","v":4509},{"$f":"'Within Scotland out-migration'!N29","v":3598},{"$f":"'Rest of UK net migration'!N29","v":191},{"$f":"'Rest of UK in-migration'!N29","v":849},{"$f":"'Rest of UK out-migration'!N29","v":658},{"$f":"'Overseas net migration'!N29","v":512},{"$f":"'Overseas in-migration'!N29","v":804},{"$f":"'Overseas out-migration'!N29","v":292},{"$f":"NINo!N30","v":890},{"$f":"'Non-UK Births'!N30","v":224},{"$f":"'Pupils ethnic group'!O30","v":1076},{"$f":"'Pupils with English as an add.'!L29","v":630},{"$f":"'Pop born outside UK'!N30","v":12000},{"$f":"'Non-British Population'!N30","v":10000},{"$f":"Citizenships!N30","v":89}]
[28,"Scottish Borders",null,{"$f":"'Total net migration'!N30","v":690},{"$f":"'Total net migration 0-15'!N30","v":230},{"$f":"'Total net migration 16-64'!N30","v":500},{"$f":"'Total net migration 65+'!N30","v":-40},{"$f":"'Total in-migration'!N30","v":4394},{"$f":"'Total out-migration'!N30","v":3704},{"$f":"'Within Scotland net migration'!N30","v":357},{"$f":"'Within Scotland in-migration'!N30","v":2499},{"$f":"'Within Scotland out-migration'!N30","v":2142},{"$f":"'Rest of UK net migration'!N30","v":330},{"$f":"'Rest of UK in-migration'!N30","v":1580},{"$f":"'Rest of UK out-migration'!N30","v":1250},{"$f":"'Overseas net migration'!N30","v":3},{"$f":"'Overseas in-migration'!N30","v":315},{"$f":"'Overseas out-migration'!N30","v":312},{"$f":"NINo!N31","v":370},{"$f":"'Non-UK Births'!N31","v":129},{"$f":"'Pupils ethnic group'!O31","v":340},{"$f":"'Pupils with English as an add.'!L30","v":446},{"$f":"'Pop born outside UK'!N31","v":6000},{"$f":"'Non-British Population'!N31","v":4000},{"$f":"Citizenships!N31","v":26}]
[29,"Shetland Islands",null,{"$f":"'Total net migration'!N31","v":-15},{"$f":"'Total net migration 0-15'!N31","v":14},{"$f":"'Total net migration 16-64'!N31","v":-30},{"$f":"'Total net migration 65+'!N31","v":1},{"$f":"'Total in-migration'!N31","v":676},{"$f":"'Total out-migration'!N31","v":691},{"$f":"'Within Scotland net migration'!N31","v":-155},{"$f":"'Within Scotland in-migration'!N31","v":315},{"$f":"'Within Scotland out-migration'!N31","v":470},{"$f":"'Rest of UK net migration'!N31","v":101},{"$f":"'Rest of UK in-migration'!N31","v":270},{"$f":"'Rest of UK out-migration'!N31","v":169},{"$f":"'Overseas net migration'!N31","v":39},{"$f":"'Overseas in-migration'!N31","v":91},{"$f":"'Overseas out-migration'!N31","v":52},{"$f":"NINo!N32","v":140},{"$f":"'Non-UK Births'!N32","v":24},{"$f":"'Pupils ethnic group'!O32","v":102},{"$f":"'Pupils with English as an add.'!L31","v":74},{"$f":"'Pop born outside UK'!N32","v":"0~"},{"$f":"'Non-British Population'!N32","v":"0~"},{"$f":"Citizenships!N32","v":9}]
[30,"South Ayrshire",null,{"$f":"'Total net migration'!N32","v":546},{"$f":"'Total net migration 0-15'!N32","v":145},{"$f":"'Total net migration 16-64'!N32","v":239},{"$f":"'Total net migration 65+'!N32","v":162},{"$f":"'Total in-migration'!N32","v":3786},{"$f":"'Total out-migration'!N32","v":3240},{"$f":"'Within Scotland net migration'!N32","v":249},{"$f":"'Within Scotland in-migration'!N32","v":2688},{"$f":"'Within Scotland out-migration'!N32","v":2439},{"$f":"'Rest of UK net migration'!N32","v":259},{"$f":"'Rest of UK in-migration'!N32","v":842},{"$f":"'Rest of UK out-migration'!N32","v":583},{"$f":"'Overseas net migration'!N32","v":38},{"$f":"'Overseas in-migration'!N32","v":256},{"$f":"'Overseas out-migration'!N32","v":218},{"$f":"NINo!N33","v":320},{"$f":"'Non-UK Births'!N33","v":53},{"$f":"'Pupils ethnic group'!O33","v":347},{"$f":"'Pupils with English as an add.'!L32","v":209},{"$f":"'Pop born outside UK'!N33","v":4000},{"$f":"'Non-British Population'!N33","v":3000},{"$f":"Citizenships!N33","v":36}]
[31,"South Lanarkshire",null,{"$f":"'Total net migration'!N33","v":1097},{"$f":"'Total net migration 0-15'!N33","v":243},{"$f":"'Total net migration 16-64'!N33","v":744},{"$f":"'Total net migration 65+'!N33","v":110},{"$f":"'Total in-migration'!N33","v":9165},{"$f":"'Total out-migration'!N33","v":8068},{"$f":"'Within Scotland net migration'!N33","v":773},{"$f":"'Within Scotland in-migration'!N33","v":7076},{"$f":"'Within Scotland out-migration'!N33","v":6303},{"$f":"'Rest of UK net migration'!N33","v":191},{"$f":"'Rest of UK in-migration'!N33","v":1449},{"$f":"'Rest of UK out-migration'!N33","v":1258},{"$f":"'Overseas net migration'!N33","v":133},{"$f":"'Overseas in-migration'!N33","v":640},{"$f":"'Overseas out-migration'!N33","v":507},{"$f":"NINo!N34","v":900},{"$f":"'Non-UK Births'!N34","v":264},{"$f":"'Pupils ethnic group'!O34","v":1868},{"$f":"'Pupils with English as an add.'!L33","v":824},{"$f":"'Pop born outside UK'!N34","v":12000},{"$f":"'Non-British Population'!N34","v":7000},{"$f":"Citizenships!N34","v":136}]
[32,"Stirling",null,{"$f":"'Total net migration'!N34","v":1012},{"$f":"'Total net migration 0-15'!N34","v":277},{"$f":"'Total net migration 16-64'!N34","v":743},{"$f":"'Total net migration 65+'!N34","v":-8},{"$f":"'Total in-migration'!N34","v":5545},{"$f":"'Total out-migration'!N34","v":4533},{"$f":"'Within Scotland net migration'!N34","v":210},{"$f":"'Within Scotland in-migration'!N34","v":3603},{"$f":"'Within Scotland out-migration'!N34","v":3393},{"$f":"'Rest of UK net migration'!N34","v":361},{"$f":"'Rest of UK in-migration'!N34","v":1124},{"$f":"'Rest of UK out-migration'!N34","v":763},{"$f":"'Overseas net migration'!N34","v":441},{"$f":"'Overseas in-migration'!N34","v":818},{"$f":"'Overseas out-migration'!N34","v":377},{"$f":"NINo!N35","v":710},{"$f":"'Non-UK Births'!N35","v":107},{"$f":"'Pupils ethnic group'!O35","v":488},{"$f":"'Pupils with English as an add.'!L34","v":315},{"$f":"'Pop born outside UK'!N35","v":6000},{"$f":"'Non-British Population'!N35","v":4000},{"$f":"Citizenships!N35","v":41}]
[33,"West Dunbartonshire",null,{"$f":"'Total net migration'!N35","v":288},{"$f":"'Total net migration 0-15'!N35","v":63},{"$f":"'Total net migration 16-64'!N35","v":213},{"$f":"'Total net migration 65+'!N35","v":12},{"$f":"'Total in-migration'!N35","v":2556},{"$f":"'Total out-migration'!N35","v":2268},{"$f":"'Within Scotland net migration'!N35","v":121},{"$f":"'Within Scotland in-migration'!N35","v":1992},{"$f":"'Within Scotland out-migration'!N35","v":1871},{"$f":"'Rest of UK net migration'!N35","v":81},{"$f":"'Rest of UK in-migration'!N35","v":370},{"$f":"'Rest of UK out-migration'!N35","v":289},{"$f":"'Overseas net migration'!N35","v":86},{"$f":"'Overseas in-migration'!N35","v":194},{"$f":"'Overseas out-migration'!N35","v":108},{"$f":"NINo!N36","v":150},{"$f":"'Non-UK Births'!N36","v":61},{"$f":"'Pupils ethnic group'!O36","v":370},{"$f":"'Pupils with English as an add.'!L35","v":266},{"$f":"'Pop born outside UK'!N36","v":4000},{"$f":"'Non-British Population'!N36","v":2000},{"$f":"Citizenships!N36","v":31}]
[34,"West Lothian",null,{"$f":"'Total net migration'!N36","v":1127},{"$f":"'Total net migration 0-15'!N36","v":298},{"$f":"'Total net migration 16-64'!N36","v":758},{"$f":"'Total net migration 65+'!N36","v":71},{"$f":"'Total in-migration'!N36","v":5662},{"$f":"'Total out-migration'!N36","v":4535},{"$f":"'Within Scotland net migration'!N36","v":514},{"$f":"'Within Scotland in-migration'!N36","v":4095},{"$f":"'Within Scotland out-migration'!N36","v":3581},{"$f":"'Rest of UK net migration'!N36","v":239},{"$f":"'Rest of UK in-migration'!N36","v":910},{"$f":"'Rest of UK out-migration'!N36","v":671},{"$f":"'Overseas net migration'!N36","v":374},{"$f":"'Overseas in-migration'!N36","v":657},{"$f":"'Overseas out-migration'!N36","v":283},{"$f":"NINo!N37","v":980},{"$f":"'Non-UK Births'!N37","v":329},{"$f":"'Pupils ethnic group'!O37","v":1399},{"$f":"'Pupils with English as an add.'!L36","v":1414},{"$f":"'Pop born outside UK'!N37","v":15000},{"$f":"'Non-British Population'!N37","v":12000},{"$f":"Citizenships!N37","v":137}]
[]
[35,"Not specified"]
[36,"SCOTLAND",null,{"$f":"'Total net migration'!N39","v":31693},{"$f":"'Total net migration 0-15'!N39","v":5201},{"$f":"'Total net migration 16-64'!N39","v":26475},{"$f":"'Total net migration 65+'!N39","v":17},{"$f":"'Total in-migration'!N39","v":86705},{"$f":"'Total out-migration'!N39","v":55012},null,null,null,{"$f":"'Rest of UK net migration'!N39","v":8793},{"$f":"'Rest of UK in-migration'!N39","v":46305},{"$f":"'Rest of UK out-migration'!N39","v":37512},{"$f":"'Overseas net migration'!N39","v":22900},{"$f":"'Overseas in-migration'!N39","v":40400},{"$f":"'Overseas out-migration'!N39","v":17500},null,{"$f":"'Non-UK Births'!N40","v":9296}]
[37,"Ayrshire and Arran",null,{"$f":"'Total net migration'!N40","v":762},{"$f":"'Total net migration 0-15'!N40","v":377},{"$f":"'Total net migration 16-64'!N40","v":277},{"$f":"'Total net migration 65+'!N40","v":108},{"$f":"'Total in-migration'!N40","v":8171},{"$f":"'Total out-migration'!N40","v":7409},{"$f":"'Within Scotland net migration'!N40","v":203},{"$f":"'Within Scotland in-migration'!N40","v":5365},{"$f":"'Within Scotland out-migration'!N40","v":5162},{"$f":"'Rest of UK net migration'!N40","v":599},{"$f":"'Rest of UK in-migration'!N40","v":2252},{"$f":"'Rest of UK out-migration'!N40","v":1653},{"$f":"'Overseas net migration'!N40","v":-40},{"$f":"'Overseas in-migration'!N40","v":554},{"$f":"'Overseas out-migration'!N40","v":594},null,{"$f":"'Non-UK Births'!N41","v":160}]
[38,"Borders",null,{"$f":"'Total net migration'!N41","v":690},{"$f":"'Total net migration 0-15'!N41","v":230},{"$f":"'Total net migration 16-64'!N41","v":500},{"$f":"'Total net migration 65+'!N41","v":-40},{"$f":"'Total in-migration'!N41","v":4394},{"$f":"'Total out-migration'!N41","v":3704},{"$f":"'Within Scotland net migration'!N41","v":357},{"$f":"'Within Scotland in-migration'!N41","v":2499},{"$f":"'Within Scotland out-migration'!N41","v":2142},{"$f":"'Rest of UK net migration'!N41","v":330},{"$f":"'Rest of UK in-migration'!N41","v":1580},{"$f":"'Rest of UK out-migration'!N41","v":1250},{"$f":"'Overseas net migration'!N41","v":3},{"$f":"'Overseas in-migration'!N41","v":315},{"$f":"'Overseas out-migration'!N41","v":312},null,{"$f":"'Non-UK Births'!N42","v":129}]
[39,"Dumfries and Galloway",null,{"$f":"'Total net migration'!N42","v":394},{"$f":"'Total net migration 0-15'!N42","v":164},{"$f":"'Total net migration 16-64'!N42","v":229},{"$f":"'Total net migration 65+'!N42","v":1},{"$f":"'Total in-migration'!N42","v":3884},{"$f":"'Total out-migration'!N42","v":3490},{"$f":"'Within Scotland net migration'!N42","v":-176},{"$f":"'Within Scotland in-migration'!N42","v":1679},{"$f":"'Within Scotland out-migration'!N42","v":1855},{"$f":"'Rest of UK net migration'!N42","v":558},{"$f":"'Rest of UK in-migration'!N42","v":1865},{"$f":"'Rest of UK out-migration'!N42","v":1307},{"$f":"'Overseas net migration'!N42","v":12},{"$f":"'Overseas in-migration'!N42","v":340},{"$f":"'Overseas out-migration'!N42","v":328},null,{"$f":"'Non-UK Births'!N43","v":96}]
[40,"Fife",null,{"$f":"'Total net migration'!N43","v":1608},{"$f":"'Total net migration 0-15'!N43","v":338},{"$f":"'Total net migration 16-64'!N43","v":1182},{"$f":"'Total net migration 65+'!N43","v":88},{"$f":"'Total in-migration'!N43","v":11404},{"$f":"'Total out-migration'!N43","v":9796},{"$f":"'Within Scotland net migration'!N43","v":124},{"$f":"'Within Scotland in-migration'!N43","v":6484},{"$f":"'Within Scotland out-migration'!N43","v":6360},{"$f":"'Rest of UK net migration'!N43","v":442},{"$f":"'Rest of UK in-migration'!N43","v":2869},{"$f":"'Rest of UK out-migration'!N43","v":2427},{"$f":"'Overseas net migration'!N43","v":1042},{"$f":"'Overseas in-migration'!N43","v":2051},{"$f":"'Overseas out-migration'!N43","v":1009},null,{"$f":"'Non-UK Births'!N44","v":485}]
[41,"Forth Valley",null,{"$f":"'Total net migration'!N44","v":1964},{"$f":"'Total net migration 0-15'!N44","v":513},{"$f":"'Total net migration 16-64'!N44","v":1434},{"$f":"'Total net migration 65+'!N44","v":17},{"$f":"'Total in-migration'!N44","v":10251},{"$f":"'Total out-migration'!N44","v":8287},{"$f":"'Within Scotland net migration'!N44","v":687},{"$f":"'Within Scotland in-migration'!N44","v":6782},{"$f":"'Within Scotland out-migration'!N44","v":6095},{"$f":"'Rest of UK net migration'!N44","v":618},{"$f":"'Rest of UK in-migration'!N44","v":2111},{"$f":"'Rest of UK out-migration'!N44","v":1493},{"$f":"'Overseas net migration'!N44","v":659},{"$f":"'Overseas in-migration'!N44","v":1358},{"$f":"'Overseas out-migration'!N44","v":699},null,{"$f":"'Non-UK Births'!N45","v":321}]
[42,"Grampian",null,{"$f":"'Total net migration'!N45","v":-770},{"$f":"'Total net migration 0-15'!N45","v":-28},{"$f":"'Total net migration 16-64'!N45","v":-546},{"$f":"'Total net migration 65+'!N45","v":-196},{"$f":"'Total in-migration'!N45","v":16797},{"$f":"'Total out-migration'!N45","v":17567},{"$f":"'Within Scotland net migration'!N45","v":-2535},{"$f":"'Within Scotland in-migration'!N45","v":6942},{"$f":"'Within Scotland out-migration'!N45","v":9477},{"$f":"'Rest of UK net migration'!N45","v":-1105},{"$f":"'Rest of UK in-migration'!N45","v":4399},{"$f":"'Rest of UK out-migration'!N45","v":5504},{"$f":"'Overseas net migration'!N45","v":2870},{"$f":"'Overseas in-migration'!N45","v":5456},{"$f":"'Overseas out-migration'!N45","v":2586},null,{"$f":"'Non-UK Births'!N46","v":1555}]
[43,"Greater Glasgow and Clyde",null,{"$f":"'Total net migration'!N46","v":11334},{"$f":"'Total net migration 0-15'!N46","v":1223},{"$f":"'Total net migration 16-64'!N46","v":10137},{"$f":"'Total net migration 65+'!N46","v":-26},{"$f":"'Total in-migration'!N46","v":40458},{"$f":"'Total out-migration'!N46","v":29124},{"$f":"'Within Scotland net migration'!N46","v":383},{"$f":"'Within Scotland in-migration'!N46","v":18355},{"$f":"'Within Scotland out-migration'!N46","v":17972},{"$f":"'Rest of UK net migration'!N46","v":2278},{"$f":"'Rest of UK in-migration'!N46","v":9147},{"$f":"'Rest of UK out-migration'!N46","v":6869},{"$f":"'Overseas net migration'!N46","v":8673},{"$f":"'Overseas in-migration'!N46","v":12956},{"$f":"'Overseas out-migration'!N46","v":4283},null,{"$f":"'Non-UK Births'!N47","v":2434}]
[44,"Highland",null,{"$f":"'Total net migration'!N47","v":1430},{"$f":"'Total net migration 0-15'!N47","v":443},{"$f":"'Total net migration 16-64'!N47","v":1294},{"$f":"'Total net migration 65+'!N47","v":-307},{"$f":"'Total in-migration'!N47","v":11428},{"$f":"'Total out-migration'!N47","v":9998},{"$f":"'Within Scotland net migration'!N47","v":-321},{"$f":"'Within Scotland in-migration'!N47","v":6250},{"$f":"'Within Scotland out-migration'!N47","v":6571},{"$f":"'Rest of UK net migration'!N47","v":1364},{"$f":"'Rest of UK in-migration'!N47","v":3907},{"$f":"'Rest of UK out-migration'!N47","v":2543},{"$f":"'Overseas net migration'!N47","v":387},{"$f":"'Overseas in-migration'!N47","v":1271},{"$f":"'Overseas out-migration'!N47","v":884},null,{"$f":"'Non-UK Births'!N48","v":409}]
[45,"Lanarkshire",null,{"$f":"'Total net migration'!N48","v":2079},{"$f":"'Total net migration 0-15'!N48","v":610},{"$f":"'Total net migration 16-64'!N48","v":1470},{"$f":"'Total net migration 65+'!N48","v":-1},{"$f":"'Total in-migration'!N48","v":14710},{"$f":"'Total out-migration'!N48","v":12631},{"$f":"'Within Scotland net migration'!N48","v":1322},{"$f":"'Within Scotland in-migration'!N48","v":10715},{"$f":"'Within Scotland out-migration'!N48","v":9393},{"$f":"'Rest of UK net migration'!N48","v":358},{"$f":"'Rest of UK in-migration'!N48","v":2620},{"$f":"'Rest of UK out-migration'!N48","v":2262},{"$f":"'Overseas net migration'!N48","v":399},{"$f":"'Overseas in-migration'!N48","v":1375},{"$f":"'Overseas out-migration'!N48","v":976},null,{"$f":"'Non-UK Births'!N49","v":552}]
[46,"Lothian",null,{"$f":"'Total net migration'!N49","v":10754},{"$f":"'Total net migration 0-15'!N49","v":903},{"$f":"'Total net migration 16-64'!N49","v":9573},{"$f":"'Total net migration 65+'!N49","v":278},{"$f":"'Total in-migration'!N49","v":37059},{"$f":"'Total out-migration'!N49","v":26305},{"$f":"'Within Scotland net migration'!N49","v":385},{"$f":"'Within Scotland in-migration'!N49","v":13640},{"$f":"'Within Scotland out-migration'!N49","v":13255},{"$f":"'Rest of UK net migration'!N49","v":2830},{"$f":"'Rest of UK in-migration'!N49","v":11633},{"$f":"'Rest of UK out-migration'!N49","v":8803},{"$f":"'Overseas net migration'!N49","v":7539},{"$f":"'Overseas in-migration'!N49","v":11786},{"$f":"'Overseas out-migration'!N49","v":4247},null,{"$f":"'Non-UK Births'!N50","v":2423}]
[47,"Orkney",null,{"$f":"'Total net migration'!N50","v":223},{"$f":"'Total net migration 0-15'!N50","v":74},{"$f":"'Total net migration 16-64'!N50","v":127},{"$f":"'Total net migration 65+'!N50","v":22},{"$f":"'Total in-migration'!N50","v":858},{"$f":"'Total out-migration'!N50","v":635},{"$f":"'Within Scotland net migration'!N50","v":-17},{"$f":"'Within Scotland in-migration'!N50","v":421},{"$f":"'Within Scotland out-migration'!N50","v":438},{"$f":"'Rest of UK net migration'!N50","v":237},{"$f":"'Rest of UK in-migration'!N50","v":385},{"$f":"'Rest of UK out-migration'!N50","v":148},{"$f":"'Overseas net migration'!N50","v":3},{"$f":"'Overseas in-migration'!N50","v":52},{"$f":"'Overseas out-migration'!N50","v":49},null,{"$f":"'Non-UK Births'!N51","v":13}]
[48,"Shetland",null,{"$f":"'Total net migration'!N51","v":-15},{"$f":"'Total net migration 0-15'!N51","v":14},{"$f":"'Total net migration 16-64'!N51","v":-30},{"$f":"'Total net migration 65+'!N51","v":1},{"$f":"'Total in-migration'!N51","v":676},{"$f":"'Total out-migration'!N51","v":691},{"$f":"'Within Scotland net migration'!N51","v":-155},{"$f":"'Within Scotland in-migration'!N51","v":315},{"$f":"'Within Scotland out-migration'!N51","v":470},{"$f":"'Rest of UK net migration'!N51","v":101},{"$f":"'Rest of UK in-migration'!N51","v":270},{"$f":"'Rest of UK out-migration'!N51","v":169},{"$f":"'Overseas net migration'!N51","v":39},{"$f":"'Overseas in-migration'!N51","v":91},{"$f":"'Overseas out-migration'!N51","v":52},null,{"$f":"'Non-UK Births'!N52","v":24}]
[49,"Tayside",null,{"$f":"'Total net migration'!N52","v":1307},{"$f":"'Total net migration 0-15'!N52","v":332},{"$f":"'Total net migration 16-64'!N52","v":893},{"$f":"'Total net migration 65+'!N52","v":82},{"$f":"'Total in-migration'!N52","v":13812},{"$f":"'Total out-migration'!N52","v":12505},{"$f":"'Within Scotland net migration'!N52","v":-137},{"$f":"'Within Scotland in-migration'!N52","v":8053},{"$f":"'Within Scotland out-migration'!N52","v":8190},{"$f":"'Rest of UK net migration'!N52","v":149},{"$f":"'Rest of UK in-migration'!N52","v":3036},{"$f":"'Rest of UK out-migration'!N52","v":2887},{"$f":"'Overseas net migration'!N52","v":1295},{"$f":"'Overseas in-migration'!N52","v":2723},{"$f":"'Overseas out-migration'!N52","v":1428},null,{"$f":"'Non-UK Births'!N53","v":669}]
[50,"Western Isles",null,{"$f":"'Total net migration'!N53","v":-67},{"$f":"'Total net migration 0-15'!N53","v":8},{"$f":"'Total net migration 16-64'!N53","v":-65},{"$f":"'Total net migration 65+'!N53","v":-10},{"$f":"'Total in-migration'!N53","v":837},{"$f":"'Total out-migration'!N53","v":904},{"$f":"'Within Scotland net migration'!N53","v":-120},{"$f":"'Within Scotland in-migration'!N53","v":534},{"$f":"'Within Scotland out-migration'!N53","v":654},{"$f":"'Rest of UK net migration'!N53","v":34},{"$f":"'Rest of UK in-migration'!N53","v":231},{"$f":"'Rest of UK out-migration'!N53","v":197},{"$f":"'Overseas net migration'!N53","v":19},{"$f":"'Overseas in-migration'!N53","v":72},{"$f":"'Overseas out-migration'!N53","v":53},null,{"$f":"'Non-UK Births'!N54","v":26}]

{"sheet":"2016 Rate","index":44,"n_rows":53,"n_cols":27,"rows_kept":53,"cut":false,"hidden":true,"merged":[]}
[null,2016,"RATE"]
[null,null,"Not specified ",{"$f":"'Comparing Indicators'!$U8","v":"Total net migration"},{"$f":"'Comparing Indicators'!$U9","v":"Total net migration for ages 0-15"},{"$f":"'Comparing Indicators'!$U10","v":"Total net migration for ages 16-64"},{"$f":"'Comparing Indicators'!$U11","v":"Total net migration for people aged 65+"},{"$f":"'Comparing Indicators'!$U12","v":"Total in-migration"},{"$f":"'Comparing Indicators'!$U13","v":"Total out-migration"},{"$f":"'Comparing Indicators'!$U14","v":"Within Scotland net migration"},{"$f":"'Comparing Indicators'!$U15","v":"Within Scotland in-migration"},{"$f":"'Comparing Indicators'!$U16","v":"Within Scotland out-migration"},{"$f":"'Comparing Indicators'!$U17","v":"Rest of UK net migration"},{"$f":"'Comparing Indicators'!$U18","v":"Rest of UK in-migration"},{"$f":"'Comparing Indicators'!$U19","v":"Rest of UK out-migration"},{"$f":"'Comparing Indicators'!$U20","v":"Overseas net migration"},{"$f":"'Comparing Indicators'!$U21","v":"Overseas in-migration"},{"$f":"'Comparing Indicators'!$U22","v":"Overseas out-migration"},{"$f":"'Comparing Indicators'!$U23","v":"NINo Allocation"},{"$f":"'Comparing Indicators'!$U24","v":"Births to non-UK mothers"},{"$f":"'Comparing Indicators'!$U25","v":"Pupils from a minority ethnic group"},{"$f":"'Comparing Indicators'!$U26","v":"Pupils with English as an additional language"},{"$f":"'Comparing Indicators'!$U27","v":"Population born outside the UK"},{"$f":"'Comparing Indicators'!$U28","v":"Population with non-British nationality"},{"$f":"'Comparing Indicators'!$U29","v":"Citizenships"},null,"Mid-year population estimate"]
[1,"Not specified"]
[2,"SCOTLAND",null,{"$f":"('2016'!D4/'2016 Rate'!$AA4)*1000","v":5.8639702481173792},{"$f":"('2016'!E4/'2016 Rate'!$AA4)*1000","v":0.96231058153088977},{"$f":"('2016'!F4/'2016 Rate'!$AA4)*1000","v":4.8985142561104222},{"$f":"('2016'!G4/'2016 Rate'!$AA4)*1000","v":3.1454104760671267E-3},{"$f":"('2016'!H4/'2016 Rate'!$AA4)*1000","v":16.0425185486706},{"$f":"('2016'!I4/'2016 Rate'!$AA4)*1000","v":10.178548300553222},"N/A","N/A","N/A",{"$f":"('2016'!M4/'2016 Rate'!$AA4)*1000","v":1.6269173127093086},{"$f":"('2016'!N4/'2016 Rate'!$AA4)*1000","v":8.5675430643699002},{"$f":"('2016'!O4/'2016 Rate'!$AA4)*1000","v":6.9406257516605923},{"$f":"('2016'!P4/'2016 Rate'!$AA4)*1000","v":4.2370529354080713},{"$f":"('2016'!Q4/'2016 Rate'!$AA4)*1000","v":7.4749754843007015},{"$f":"('2016'!R4/'2016 Rate'!$AA4)*1000","v":3.2379225488926302},{"$f":"('2016'!S4/'2016 Rate'!$AA4)*1000","v":8.3612411419690265},{"$f":"('2016'!T4/'2016 Rate'!$AA4)*1000","v":1.7199844579717654},{"$f":"('2016'!U4/'2016 Rate'!$AA4)*1000","v":8.8467445001572695},{"$f":"('2016'!V4/'2016 Rate'!$AA4)*1000","v":7.2771846725997742},null,null,{"$f":"('2016'!Y4/'2016 Rate'!$AA4)*1000","v":0.82391252058393616},"Scotland",5404700]
[3,"Aberdeen City",null,{"$f":"('2016'!D5/'2016 Rate'!$AA5)*1000","v":-4.2159763313609471},{"$f":"('2016'!E5/'2016 Rate'!$AA5)*1000","v":-1.3835711799512704},{"$f":"('2016'!F5/'2016 Rate'!$AA5)*1000","v":-2.310302819352593},{"$f":"('2016'!G5/'2016 Rate'!$AA5)*1000","v":-0.52210233205708323},{"$f":"('2016'!H5/'2016 Rate'!$AA5)*1000","v":53.537243299686736},{"$f":"('2016'!I5/'2016 Rate'!$AA5)*1000","v":57.753219631047685},{"$f":"('2016'!J5/'2016 Rate'!$AA5)*1000","v":-11.590671771667246},{"$f":"('2016'!K5/'2016 Rate'!$AA5)*1000","v":26.875217542638357},{"$f":"('2016'!L5/'2016 Rate'!$AA5)*1000","v":38.465889314305606},{"$f":"('2016'!M5/'2016 Rate'!$AA5)*1000","v":-3.3893143056038983},{"$f":"('2016'!N5/'2016 Rate'!$AA5)*1000","v":8.5755308040375908},{"$f":"('2016'!O5/'2016 Rate'!$AA5)*1000","v":11.964845109641491},{"$f":"('2016'!P5/'2016 Rate'!$AA5)*1000","v":10.764009745910197},{"$f":"('2016'!Q5/'2016 Rate'!$AA5)*1000","v":18.086494953010789},{"$f":"('2016'!R5/'2016 Rate'!$AA5)*1000","v":7.3224852071005921},{"$f":"('2016'!S5/'2016 Rate'!$AA5)*1000","v":18.012530455969369},{"$f":"('2016'!T5/'2016 Rate'!$AA5)*1000","v":4.2986425339366523},{"$f":"('2016'!U5/'2016 Rate'!$AA5)*1000","v":13.113470240167072},{"$f":"('2016'!V5/'2016 Rate'!$AA5)*1000","v":15.049599721545423},null,null,{"$f":"('2016'!Y5/'2016 Rate'!$AA5)*1000","v":2.8280542986425337},"Aberdeen City",229840]
[4,"Aberdeenshire",null,{"$f":"('2016'!D6/'2016 Rate'!$AA6)*1000","v":-1.3501659102177812},{"$f":"('2016'!E6/'2016 Rate'!$AA6)*1000","v":0.45768335939585797},{"$f":"('2016'!F6/'2016 Rate'!$AA6)*1000","v":-1.3654220221976427},{"$f":"('2016'!G6/'2016 Rate'!$AA6)*1000","v":-0.44242724741599604},{"$f":"('2016'!H6/'2016 Rate'!$AA6)*1000","v":31.111026354933443},{"$f":"('2016'!I6/'2016 Rate'!$AA6)*1000","v":32.461192265151226},{"$f":"('2016'!J6/'2016 Rate'!$AA6)*1000","v":-0.25935390365765287},{"$f":"('2016'!K6/'2016 Rate'!$AA6)*1000","v":22.636256150120143},{"$f":"('2016'!L6/'2016 Rate'!$AA6)*1000","v":22.895610053777794},{"$f":"('2016'!M6/'2016 Rate'!$AA6)*1000","v":-2.2960448529692208},{"$f":"('2016'!N6/'2016 Rate'!$AA6)*1000","v":4.744650825737061},{"$f":"('2016'!O6/'2016 Rate'!$AA6)*1000","v":7.0406956787062818},{"$f":"('2016'!P6/'2016 Rate'!$AA6)*1000","v":1.2052328464090927},{"$f":"('2016'!Q6/'2016 Rate'!$AA6)*1000","v":3.7301193790762421},{"$f":"('2016'!R6/'2016 Rate'!$AA6)*1000","v":2.5248865326671495},{"$f":"('2016'!S6/'2016 Rate'!$AA6)*1000","v":5.5303405926999503},{"$f":"('2016'!T6/'2016 Rate'!$AA6)*1000","v":1.7315687097143293},{"$f":"('2016'!U6/'2016 Rate'!$AA6)*1000","v":4.1954307944620322},{"$f":"('2016'!V6/'2016 Rate'!$AA6)*1000","v":6.3732407795873227},null,null,{"$f":"('2016'!Y6/'2016 Rate'!$AA6)*1000","v":0.73610740302833821},"Aberdeenshire",262190]
[5,"Angus",null,{"$f":"('2016'!D7/'2016 Rate'!$AA7)*1000","v":0.58359079986268447},{"$f":"('2016'!E7/'2016 Rate'!$AA7)*1000","v":0.50635084105732919},{"$f":"('2016'!F7/'2016 Rate'!$AA7)*1000","v":0.15447991761071059},{"$f":"('2016'!G7/'2016 Rate'!$AA7)*1000","v":-7.7239958805355294E-2},{"$f":"('2016'!H7/'2016 Rate'!$AA7)*1000","v":33.565053209749394},{"$f":"('2016'!I7/'2016 Rate'!$AA7)*1000","v":32.981462409886717},{"$f":"('2016'!J7/'2016 Rate'!$AA7)*1000","v":0.56642636457260553},{"$f":"('2016'!K7/'2016 Rate'!$AA7)*1000","v":25.257466529351184},{"$f":"('2016'!L7/'2016 Rate'!$AA7)*1000","v":24.691040164778578},{"$f":"('2016'!M7/'2016 Rate'!$AA7)*1000","v":-0.60933745279780305},{"$f":"('2016'!N7/'2016 Rate'!$AA7)*1000","v":5.3381393752145554},{"$f":"('2016'!O7/'2016 Rate'!$AA7)*1000","v":5.9474768280123582},{"$f":"('2016'!P7/'2016 Rate'!$AA7)*1000","v":0.62650188808788188},{"$f":"('2016'!Q7/'2016 Rate'!$AA7)*1000","v":2.9694473051836598},{"$f":"('2016'!R7/'2016 Rate'!$AA7)*1000","v":2.3429454170957777},{"$f":"('2016'!S7/'2016 Rate'!$AA7)*1000","v":10.127016821146583},{"$f":"('2016'!T7/'2016 Rate'!$AA7)*1000","v":1.1929282526604874},{"$f":"('2016'!U7/'2016 Rate'!$AA7)*1000","v":3.4500514933058701},{"$f":"('2016'!V7/'2016 Rate'!$AA7)*1000","v":4.5228286989358049},null,null,{"$f":"('2016'!Y7/'2016 Rate'!$AA7)*1000","v":0.25746652935118436},"Angus",116520]
[6,"Argyll and Bute",null,{"$f":"('2016'!D8/'2016 Rate'!$AA8)*1000","v":2.6856421439228737},{"$f":"('2016'!E8/'2016 Rate'!$AA8)*1000","v":1.5035005164696431},{"$f":"('2016'!F8/'2016 Rate'!$AA8)*1000","v":3.1906346838058073},{"$f":"('2016'!G8/'2016 Rate'!$AA8)*1000","v":-2.0084930563525769},{"$f":"('2016'!H8/'2016 Rate'!$AA8)*1000","v":47.170894066337652},{"$f":"('2016'!I8/'2016 Rate'!$AA8)*1000","v":44.485251922414783},{"$f":"('2016'!J8/'2016 Rate'!$AA8)*1000","v":-3.2480201997015956},{"$f":"('2016'!K8/'2016 Rate'!$AA8)*1000","v":27.430276598186619},{"$f":"('2016'!L8/'2016 Rate'!$AA8)*1000","v":30.678296797888216},{"$f":"('2016'!M8/'2016 Rate'!$AA8)*1000","v":5.497532422816481},{"$f":"('2016'!N8/'2016 Rate'!$AA8)*1000","v":15.712154252266727},{"$f":"('2016'!O8/'2016 Rate'!$AA8)*1000","v":10.214621829450246},{"$f":"('2016'!P8/'2016 Rate'!$AA8)*1000","v":0.43612992080798807},{"$f":"('2016'!Q8/'2016 Rate'!$AA8)*1000","v":4.0284632158843108},{"$f":"('2016'!R8/'2016 Rate'!$AA8)*1000","v":3.5923332950763229},{"$f":"('2016'!S8/'2016 Rate'!$AA8)*1000","v":6.427177780328245},{"$f":"('2016'!T8/'2016 Rate'!$AA8)*1000","v":0.99850797658670953},{"$f":"('2016'!U8/'2016 Rate'!$AA8)*1000","v":3.3054057155973835},{"$f":"('2016'!V8/'2016 Rate'!$AA8)*1000","v":2.4561000803397226},null,null,{"$f":"('2016'!Y8/'2016 Rate'!$AA8)*1000","v":0.33283599219556981},"Argyll & Bute",87130]
[7,"City of Edinburgh",null,{"$f":"('2016'!D9/'2016 Rate'!$AA9)*1000","v":15.101445274759943},{"$f":"('2016'!E9/'2016 Rate'!$AA9)*1000","v":0.44560995327010666},{"$f":"('2016'!F9/'2016 Rate'!$AA9)*1000","v":14.521757990417415},{"$f":"('2016'!G9/'2016 Rate'!$AA9)*1000","v":0.13407733107242148},{"$f":"('2016'!H9/'2016 Rate'!$AA9)*1000","v":63.858272374154616},{"$f":"('2016'!I9/'2016 Rate'!$AA9)*1000","v":48.756827099394684},{"$f":"('2016'!J9/'2016 Rate'!$AA9)*1000","v":-2.9240688526529568},{"$f":"('2016'!K9/'2016 Rate'!$AA9)*1000","v":24.224618964055445},{"$f":"('2016'!L9/'2016 Rate'!$AA9)*1000","v":27.148687816708399},{"$f":"('2016'!M9/'2016 Rate'!$AA9)*1000","v":4.635526549283278},{"$f":"('2016'!N9/'2016 Rate'!$AA9)*1000","v":18.995603052231008},{"$f":"('2016'!O9/'2016 Rate'!$AA9)*1000","v":14.360076502947729},{"$f":"('2016'!P9/'2016 Rate'!$AA9)*1000","v":13.389987578129622},{"$f":"('2016'!Q9/'2016 Rate'!$AA9)*1000","v":20.63805035786817},{"$f":"('2016'!R9/'2016 Rate'!$AA9)*1000","v":7.2480627797385493},{"$f":"('2016'!S9/'2016 Rate'!$AA9)*1000","v":23.660705483368496},{"$f":"('2016'!T9/'2016 Rate'!$AA9)*1000","v":3.6200879389553799},{"$f":"('2016'!U9/'2016 Rate'!$AA9)*1000","v":14.736676065224678},{"$f":"('2016'!V9/'2016 Rate'!$AA9)*1000","v":12.019638385551197},null,null,{"$f":"('2016'!Y9/'2016 Rate'!$AA9)*1000","v":1.8770826350139005},"City of Edinburgh",507170]
[8,"Clackmannanshire",null,{"$f":"('2016'!D10/'2016 Rate'!$AA10)*1000","v":0.23369036027263876},{"$f":"('2016'!E10/'2016 Rate'!$AA10)*1000","v":1.3631937682570594},{"$f":"('2016'!F10/'2016 Rate'!$AA10)*1000","v":-1.0321324245374879},{"$f":"('2016'!G10/'2016 Rate'!$AA10)*1000","v":-9.7370983446932818E-2},{"$f":"('2016'!H10/'2016 Rate'!$AA10)*1000","v":34.21616358325219},{"$f":"('2016'!I10/'2016 Rate'!$AA10)*1000","v":33.98247322297955},{"$f":"('2016'!J10/'2016 Rate'!$AA10)*1000","v":-2.2005842259006818},{"$f":"('2016'!K10/'2016 Rate'!$AA10)*1000","v":25.511197663096397},{"$f":"('2016'!L10/'2016 Rate'!$AA10)*1000","v":27.711781888997077},{"$f":"('2016'!M10/'2016 Rate'!$AA10)*1000","v":1.2074001947419668},{"$f":"('2016'!N10/'2016 Rate'!$AA10)*1000","v":5.6475170399221035},{"$f":"('2016'!O10/'2016 Rate'!$AA10)*1000","v":4.4401168451801363},{"$f":"('2016'!P10/'2016 Rate'!$AA10)*1000","v":1.2268743914313534},{"$f":"('2016'!Q10/'2016 Rate'!$AA10)*1000","v":3.0574488802336908},{"$f":"('2016'!R10/'2016 Rate'!$AA10)*1000","v":1.830574488802337},{"$f":"('2016'!S10/'2016 Rate'!$AA10)*1000","v":2.7263875365141188},{"$f":"('2016'!T10/'2016 Rate'!$AA10)*1000","v":0.79844206426484909},{"$f":"('2016'!U10/'2016 Rate'!$AA10)*1000","v":4.225900681596884},{"$f":"('2016'!V10/'2016 Rate'!$AA10)*1000","v":3.4858812074001948},null,null,{"$f":"('2016'!Y10/'2016 Rate'!$AA10)*1000","v":0.19474196689386564},"Clackmannanshire",51350]
[9,"Dumfries and Galloway",null,{"$f":"('2016'!D11/'2016 Rate'!$AA11)*1000","v":2.6350989834135903},{"$f":"('2016'!E11/'2016 Rate'!$AA11)*1000","v":1.0968432316746923},{"$f":"('2016'!F11/'2016 Rate'!$AA11)*1000","v":1.5315676832530765},{"$f":"('2016'!G11/'2016 Rate'!$AA11)*1000","v":6.6880684858212948E-3},{"$f":"('2016'!H11/'2016 Rate'!$AA11)*1000","v":25.976457998929909},{"$f":"('2016'!I11/'2016 Rate'!$AA11)*1000","v":23.341359015516321},{"$f":"('2016'!J11/'2016 Rate'!$AA11)*1000","v":-1.1771000535045479},{"$f":"('2016'!K11/'2016 Rate'!$AA11)*1000","v":11.229266987693954},{"$f":"('2016'!L11/'2016 Rate'!$AA11)*1000","v":12.406367041198502},{"$f":"('2016'!M11/'2016 Rate'!$AA11)*1000","v":3.7319422150882824},{"$f":"('2016'!N11/'2016 Rate'!$AA11)*1000","v":12.473247726056714},{"$f":"('2016'!O11/'2016 Rate'!$AA11)*1000","v":8.7413055109684326},{"$f":"('2016'!P11/'2016 Rate'!$AA11)*1000","v":8.0256821829855537E-2},{"$f":"('2016'!Q11/'2016 Rate'!$AA11)*1000","v":2.2739432851792403},{"$f":"('2016'!R11/'2016 Rate'!$AA11)*1000","v":2.1936864633493847},{"$f":"('2016'!S11/'2016 Rate'!$AA11)*1000","v":2.5414660246120917},{"$f":"('2016'!T11/'2016 Rate'!$AA11)*1000","v":0.6420545746388443},{"$f":"('2016'!U11/'2016 Rate'!$AA11)*1000","v":2.8223649010165865},{"$f":"('2016'!V11/'2016 Rate'!$AA11)*1000","v":2.6417870518994113},null,null,{"$f":"('2016'!Y11/'2016 Rate'!$AA11)*1000","v":0.27421080791867308},"Dumfries & Galloway",149520]
[10,"Dundee City",null,{"$f":"('2016'!D12/'2016 Rate'!$AA12)*1000","v":1.1937681257165982},{"$f":"('2016'!E12/'2016 Rate'!$AA12)*1000","v":-0.41815606663519256},{"$f":"('2016'!F12/'2016 Rate'!$AA12)*1000","v":1.6456464557901127},{"$f":"('2016'!G12/'2016 Rate'!$AA12)*1000","v":-3.3722263438321978E-2},{"$f":"('2016'!H12/'2016 Rate'!$AA12)*1000","v":46.347878869629731},{"$f":"('2016'!I12/'2016 Rate'!$AA12)*1000","v":45.15411074391313},{"$f":"('2016'!J12/'2016 Rate'!$AA12)*1000","v":-4.0938827814122885},{"$f":"('2016'!K12/'2016 Rate'!$AA12)*1000","v":28.124367707560531},{"$f":"('2016'!L12/'2016 Rate'!$AA12)*1000","v":32.218250488972821},{"$f":"('2016'!M12/'2016 Rate'!$AA12)*1000","v":-0.12140014837795912},{"$f":"('2016'!N12/'2016 Rate'!$AA12)*1000","v":8.5182437445201327},{"$f":"('2016'!O12/'2016 Rate'!$AA12)*1000","v":8.639643892898091},{"$f":"('2016'!P12/'2016 Rate'!$AA12)*1000","v":5.4090510555068452},{"$f":"('2016'!Q12/'2016 Rate'!$AA12)*1000","v":9.7052674175490665},{"$f":"('2016'!R12/'2016 Rate'!$AA12)*1000","v":4.2962163620422205},{"$f":"('2016'!S12/'2016 Rate'!$AA12)*1000","v":9.0375666014702905},{"$f":"('2016'!T12/'2016 Rate'!$AA12)*1000","v":2.0705469751129693},{"$f":"('2016'!U12/'2016 Rate'!$AA12)*1000","v":11.357658326026842},{"$f":"('2016'!V12/'2016 Rate'!$AA12)*1000","v":8.059620961758954},null,null,{"$f":"('2016'!Y12/'2016 Rate'!$AA12)*1000","v":0.86328994402104275},"Dundee City",148270]
[11,"East Ayrshire",null,{"$f":"('2016'!D13/'2016 Rate'!$AA13)*1000","v":1.2356792144026187},{"$f":"('2016'!E13/'2016 Rate'!$AA13)*1000","v":0.82651391162029464},{"$f":"('2016'!F13/'2016 Rate'!$AA13)*1000","v":0.13911620294599017},{"$f":"('2016'!G13/'2016 Rate'!$AA13)*1000","v":0.27004909983633385},{"$f":"('2016'!H13/'2016 Rate'!$AA13)*1000","v":27.708674304418984},{"$f":"('2016'!I13/'2016 Rate'!$AA13)*1000","v":26.472995090016365},{"$f":"('2016'!J13/'2016 Rate'!$AA13)*1000","v":0.50736497545008186},{"$f":"('2016'!K13/'2016 Rate'!$AA13)*1000","v":21.833060556464812},{"$f":"('2016'!L13/'2016 Rate'!$AA13)*1000","v":21.325695581014731},{"$f":"('2016'!M13/'2016 Rate'!$AA13)*1000","v":1.0392798690671032},{"$f":"('2016'!N13/'2016 Rate'!$AA13)*1000","v":4.942716857610475},{"$f":"('2016'!O13/'2016 Rate'!$AA13)*1000","v":3.9034369885433713},{"$f":"('2016'!P13/'2016 Rate'!$AA13)*1000","v":-0.31096563011456629},{"$f":"('2016'!Q13/'2016 Rate'!$AA13)*1000","v":0.93289689034369883},{"$f":"('2016'!R13/'2016 Rate'!$AA13)*1000","v":1.2438625204582652},{"$f":"('2016'!S13/'2016 Rate'!$AA13)*1000","v":1.3093289689034371},{"$f":"('2016'!T13/'2016 Rate'!$AA13)*1000","v":0.4746317512274959},{"$f":"('2016'!U13/'2016 Rate'!$AA13)*1000","v":3.3633387888707036},{"$f":"('2016'!V13/'2016 Rate'!$AA13)*1000","v":1.4075286415711947},null,null,{"$f":"('2016'!Y13/'2016 Rate'!$AA13)*1000","v":0.13093289689034371},"East Ayrshire",122200]
[12,"East Dunbartonshire",null,{"$f":"('2016'!D14/'2016 Rate'!$AA14)*1000","v":6.5649990701134469},{"$f":"('2016'!E14/'2016 Rate'!$AA14)*1000","v":5.0027896596615209},{"$f":"('2016'!F14/'2016 Rate'!$AA14)*1000","v":1.5808071415287335},{"$f":"('2016'!G14/'2016 Rate'!$AA14)*1000","v":-1.8597731076808632E-2},{"$f":"('2016'!H14/'2016 Rate'!$AA14)*1000","v":39.018039799144503},{"$f":"('2016'!I14/'2016 Rate'!$AA14)*1000","v":32.453040729031059},{"$f":"('2016'!J14/'2016 Rate'!$AA14)*1000","v":5.4398363399665239},{"$f":"('2016'!K14/'2016 Rate'!$AA14)*1000","v":32.871489678259252},{"$f":"('2016'!L14/'2016 Rate'!$AA14)*1000","v":27.431653338292726},{"$f":"('2016'!M14/'2016 Rate'!$AA14)*1000","v":0.66021945322670639},{"$f":"('2016'!N14/'2016 Rate'!$AA14)*1000","v":4.4169611307420498},{"$f":"('2016'!O14/'2016 Rate'!$AA14)*1000","v":3.7567416775153428},{"$f":"('2016'!P14/'2016 Rate'!$AA14)*1000","v":0.46494327692021575},{"$f":"('2016'!Q14/'2016 Rate'!$AA14)*1000","v":1.7295889901432024},{"$f":"('2016'!R14/'2016 Rate'!$AA14)*1000","v":1.2646457132229867},{"$f":"('2016'!S14/'2016 Rate'!$AA14)*1000","v":1.5808071415287335},{"$f":"('2016'!T14/'2016 Rate'!$AA14)*1000","v":0.61372512553468472},{"$f":"('2016'!U14/'2016 Rate'!$AA14)*1000","v":12.711549190998699},{"$f":"('2016'!V14/'2016 Rate'!$AA14)*1000","v":4.0636042402826851},null,null,{"$f":"('2016'!Y14/'2016 Rate'!$AA14)*1000","v":0.502138739073833},"East Dunbartonshire",107540]
[13,"East Lothian",null,{"$f":"('2016'!D15/'2016 Rate'!$AA15)*1000","v":9.2227879719473531},{"$f":"('2016'!E15/'2016 Rate'!$AA15)*1000","v":1.6235949658948987},{"$f":"('2016'!F15/'2016 Rate'!$AA15)*1000","v":6.4079162263425884},{"$f":"('2016'!G15/'2016 Rate'!$AA15)*1000","v":1.1912767797098665},{"$f":"('2016'!H15/'2016 Rate'!$AA15)*1000","v":38.476318570467861},{"$f":"('2016'!I15/'2016 Rate'!$AA15)*1000","v":29.253530598520509},{"$f":"('2016'!J15/'2016 Rate'!$AA15)*1000","v":4.7939283312518013},{"$f":"('2016'!K15/'2016 Rate'!$AA15)*1000","v":27.562686136996831},{"$f":"('2016'!L15/'2016 Rate'!$AA15)*1000","v":22.768757805745025},{"$f":"('2016'!M15/'2016 Rate'!$AA15)*1000","v":1.652416178307234},{"$f":"('2016'!N15/'2016 Rate'!$AA15)*1000","v":6.5424152176001531},{"$f":"('2016'!O15/'2016 Rate'!$AA15)*1000","v":4.8899990392929196},{"$f":"('2016'!P15/'2016 Rate'!$AA15)*1000","v":2.7764434623883179},{"$f":"('2016'!Q15/'2016 Rate'!$AA15)*1000","v":4.3712172158708809},{"$f":"('2016'!R15/'2016 Rate'!$AA15)*1000","v":1.594773753482563},{"$f":"('2016'!S15/'2016 Rate'!$AA15)*1000","v":5.2838889422615045},{"$f":"('2016'!T15/'2016 Rate'!$AA15)*1000","v":1.2489192045345374},{"$f":"('2016'!U15/'2016 Rate'!$AA15)*1000","v":4.0637909501393024},{"$f":"('2016'!V15/'2016 Rate'!$AA15)*1000","v":3.3048323566144679},null,null,{"$f":"('2016'!Y15/'2016 Rate'!$AA15)*1000","v":0.37467576136036124},"East Lothian",104090]
[14,"East Renfrewshire",null,{"$f":"('2016'!D16/'2016 Rate'!$AA16)*1000","v":8.7304125359769742},{"$f":"('2016'!E16/'2016 Rate'!$AA16)*1000","v":6.6730625732864297},{"$f":"('2016'!F16/'2016 Rate'!$AA16)*1000","v":1.6949152542372881},{"$f":"('2016'!G16/'2016 Rate'!$AA16)*1000","v":0.36243470845325659},{"$f":"('2016'!H16/'2016 Rate'!$AA16)*1000","v":43.449525636925699},{"$f":"('2016'!I16/'2016 Rate'!$AA16)*1000","v":34.719113100948725},{"$f":"('2016'!J16/'2016 Rate'!$AA16)*1000","v":7.7283871655473826},{"$f":"('2016'!K16/'2016 Rate'!$AA16)*1000","v":37.117578083359987},{"$f":"('2016'!L16/'2016 Rate'!$AA16)*1000","v":29.389190917812599},{"$f":"('2016'!M16/'2016 Rate'!$AA16)*1000","v":0.45837330774970686},{"$f":"('2016'!N16/'2016 Rate'!$AA16)*1000","v":4.423835412002985},{"$f":"('2016'!O16/'2016 Rate'!$AA16)*1000","v":3.9654621042532781},{"$f":"('2016'!P16/'2016 Rate'!$AA16)*1000","v":0.54365206267988486},{"$f":"('2016'!Q16/'2016 Rate'!$AA16)*1000","v":1.9081121415627331},{"$f":"('2016'!R16/'2016 Rate'!$AA16)*1000","v":1.3644600788828483},{"$f":"('2016'!S16/'2016 Rate'!$AA16)*1000","v":1.812173542266283},{"$f":"('2016'!T16/'2016 Rate'!$AA16)*1000","v":1.1512631915574032},{"$f":"('2016'!U16/'2016 Rate'!$AA16)*1000","v":31.947553565717943},{"$f":"('2016'!V16/'2016 Rate'!$AA16)*1000","v":9.4446221085172155},null,null,{"$f":"('2016'!Y16/'2016 Rate'!$AA16)*1000","v":0.88476708240059698},"East Renfrewshire",93810]
[15,"Falkirk",null,{"$f":"('2016'!D17/'2016 Rate'!$AA17)*1000","v":5.8978541849667456},{"$f":"('2016'!E17/'2016 Rate'!$AA17)*1000","v":1.0415359518132765},{"$f":"('2016'!F17/'2016 Rate'!$AA17)*1000","v":4.6680888442715522},{"$f":"('2016'!G17/'2016 Rate'!$AA17)*1000","v":0.18822938888191743},{"$f":"('2016'!H17/'2016 Rate'!$AA17)*1000","v":28.541849667461413},{"$f":"('2016'!I17/'2016 Rate'!$AA17)*1000","v":22.643995482494667},{"$f":"('2016'!J17/'2016 Rate'!$AA17)*1000","v":3.701844648011043},{"$f":"('2016'!K17/'2016 Rate'!$AA17)*1000","v":21.765591667712386},{"$f":"('2016'!L17/'2016 Rate'!$AA17)*1000","v":18.063747019701342},{"$f":"('2016'!M17/'2016 Rate'!$AA17)*1000","v":1.2234910277324631},{"$f":"('2016'!N17/'2016 Rate'!$AA17)*1000","v":4.3731961350232149},{"$f":"('2016'!O17/'2016 Rate'!$AA17)*1000","v":3.1497051072907518},{"$f":"('2016'!P17/'2016 Rate'!$AA17)*1000","v":0.97251850922324012},{"$f":"('2016'!Q17/'2016 Rate'!$AA17)*1000","v":2.4030618647258124},{"$f":"('2016'!R17/'2016 Rate'!$AA17)*1000","v":1.4305433555025726},{"$f":"('2016'!S17/'2016 Rate'!$AA17)*1000","v":2.8861839628560673},{"$f":"('2016'!T17/'2016 Rate'!$AA17)*1000","v":1.0854561425523905},{"$f":"('2016'!U17/'2016 Rate'!$AA17)*1000","v":5.0508219349981172},{"$f":"('2016'!V17/'2016 Rate'!$AA17)*1000","v":4.5802484627933238},null,null,{"$f":"('2016'!Y17/'2016 Rate'!$AA17)*1000","v":0.41410465554021836},"Falkirk",159380]
[16,"Fife",null,{"$f":"('2016'!D18/'2016 Rate'!$AA18)*1000","v":4.3420732859881728},{"$f":"('2016'!E18/'2016 Rate'!$AA18)*1000","v":0.91269948424378256},{"$f":"('2016'!F18/'2016 Rate'!$AA18)*1000","v":3.1917479005211566},{"$f":"('2016'!G18/'2016 Rate'!$AA18)*1000","v":0.23762590122323335},{"$f":"('2016'!H18/'2016 Rate'!$AA18)*1000","v":30.794156563065375},{"$f":"('2016'!I18/'2016 Rate'!$AA18)*1000","v":26.452083277077204},{"$f":"('2016'!J18/'2016 Rate'!$AA18)*1000","v":0.33483649717819242},{"$f":"('2016'!K18/'2016 Rate'!$AA18)*1000","v":17.508708449220965},{"$f":"('2016'!L18/'2016 Rate'!$AA18)*1000","v":17.17387195204277},{"$f":"('2016'!M18/'2016 Rate'!$AA18)*1000","v":1.1935300947803311},{"$f":"('2016'!N18/'2016 Rate'!$AA18)*1000","v":7.7471444387438231},{"$f":"('2016'!O18/'2016 Rate'!$AA18)*1000","v":6.553614343963492},{"$f":"('2016'!P18/'2016 Rate'!$AA18)*1000","v":2.8137066940296491},{"$f":"('2016'!Q18/'2016 Rate'!$AA18)*1000","v":5.5383036751005861},{"$f":"('2016'!R18/'2016 Rate'!$AA18)*1000","v":2.724596981070937},{"$f":"('2016'!S18/'2016 Rate'!$AA18)*1000","v":6.2916857937515189},{"$f":"('2016'!T18/'2016 Rate'!$AA18)*1000","v":1.3096427510598656},{"$f":"('2016'!U18/'2016 Rate'!$AA18)*1000","v":5.0873545216428591},{"$f":"('2016'!V18/'2016 Rate'!$AA18)*1000","v":3.6075932276618152},null,null,{"$f":"('2016'!Y18/'2016 Rate'!$AA18)*1000","v":0.42934679880106935},"Fife",370330]
[17,"Glasgow City",null,{"$f":"('2016'!D19/'2016 Rate'!$AA19)*1000","v":12.946493895003821},{"$f":"('2016'!E19/'2016 Rate'!$AA19)*1000","v":-0.57066675337766437},{"$f":"('2016'!F19/'2016 Rate'!$AA19)*1000","v":13.843952720828524},{"$f":"('2016'!G19/'2016 Rate'!$AA19)*1000","v":-0.32679207244703856},{"$f":"('2016'!H19/'2016 Rate'!$AA19)*1000","v":56.848813956135075},{"$f":"('2016'!I19/'2016 Rate'!$AA19)*1000","v":43.902320061131256},{"$f":"('2016'!J19/'2016 Rate'!$AA19)*1000","v":-2.9557611328791844},{"$f":"('2016'!K19/'2016 Rate'!$AA19)*1000","v":27.270066821662574},{"$f":"('2016'!L19/'2016 Rate'!$AA19)*1000","v":30.22582795454176},{"$f":"('2016'!M19/'2016 Rate'!$AA19)*1000","v":3.0012844066529012},{"$f":"('2016'!N19/'2016 Rate'!$AA19)*1000","v":10.943469848960282},{"$f":"('2016'!O19/'2016 Rate'!$AA19)*1000","v":7.9421854423073794},{"$f":"('2016'!P19/'2016 Rate'!$AA19)*1000","v":12.900970621230103},{"$f":"('2016'!Q19/'2016 Rate'!$AA19)*1000","v":18.635277285512217},{"$f":"('2016'!R19/'2016 Rate'!$AA19)*1000","v":5.7343066642821148},{"$f":"('2016'!S19/'2016 Rate'!$AA19)*1000","v":14.534930983465296},{"$f":"('2016'!T19/'2016 Rate'!$AA19)*1000","v":3.1541125400360932},{"$f":"('2016'!U19/'2016 Rate'!$AA19)*1000","v":22.951859137984297},{"$f":"('2016'!V19/'2016 Rate'!$AA19)*1000","v":20.717967060659763},null,null,{"$f":"('2016'!Y19/'2016 Rate'!$AA19)*1000","v":1.7477685466694848},"Glasgow City",615070]
[18,"Highland",null,{"$f":"('2016'!D20/'2016 Rate'!$AA20)*1000","v":5.0943476594113388},{"$f":"('2016'!E20/'2016 Rate'!$AA20)*1000","v":1.328960258976871},{"$f":"('2016'!F20/'2016 Rate'!$AA20)*1000","v":4.327639817693913},{"$f":"('2016'!G20/'2016 Rate'!$AA20)*1000","v":-0.56225241725944541},{"$f":"('2016'!H20/'2016 Rate'!$AA20)*1000","v":32.529709928866552},{"$f":"('2016'!I20/'2016 Rate'!$AA20)*1000","v":27.435362269455212},{"$f":"('2016'!J20/'2016 Rate'!$AA20)*1000","v":-0.16186054436256761},{"$f":"('2016'!K20/'2016 Rate'!$AA20)*1000","v":17.800400391872895},{"$f":"('2016'!L20/'2016 Rate'!$AA20)*1000","v":17.962260936235467},{"$f":"('2016'!M20/'2016 Rate'!$AA20)*1000","v":3.7696468884440093},{"$f":"('2016'!N20/'2016 Rate'!$AA20)*1000","v":28.670613792222174},{"$f":"('2016'!O20/'2016 Rate'!$AA20)*1000","v":7.0409336797716913},{"$f":"('2016'!P20/'2016 Rate'!$AA20)*1000","v":1.4865613153298973},{"$f":"('2016'!Q20/'2016 Rate'!$AA20)*1000","v":3.9187289687779527},{"$f":"('2016'!R20/'2016 Rate'!$AA20)*1000","v":2.4321676534480554},{"$f":"('2016'!S20/'2016 Rate'!$AA20)*1000","v":7.3689142565063683},{"$f":"('2016'!T20/'2016 Rate'!$AA20)*1000","v":1.3715551390722833},{"$f":"('2016'!U20/'2016 Rate'!$AA20)*1000","v":3.9059505047493293},{"$f":"('2016'!V20/'2016 Rate'!$AA20)*1000","v":5.7588277888997741},null,null,{"$f":"('2016'!Y20/'2016 Rate'!$AA20)*1000","v":0.43020828896366659},"Highland",234770]
[19,"Inverclyde",null,{"$f":"('2016'!D21/'2016 Rate'!$AA21)*1000","v":-0.70742799393633149},{"$f":"('2016'!E21/'2016 Rate'!$AA21)*1000","v":0.66953006568974227},{"$f":"('2016'!F21/'2016 Rate'!$AA21)*1000","v":-1.9327943405760486},{"$f":"('2016'!G21/'2016 Rate'!$AA21)*1000","v":0.55583628094997473},{"$f":"('2016'!H21/'2016 Rate'!$AA21)*1000","v":19.327943405760486},{"$f":"('2016'!I21/'2016 Rate'!$AA21)*1000","v":20.035371399696817},{"$f":"('2016'!J21/'2016 Rate'!$AA21)*1000","v":-1.7812026275896917},{"$f":"('2016'!K21/'2016 Rate'!$AA21)*1000","v":13.794845881758462},{"$f":"('2016'!L21/'2016 Rate'!$AA21)*1000","v":15.576048509348157},{"$f":"('2016'!M21/'2016 Rate'!$AA21)*1000","v":0.58110156644770095},{"$f":"('2016'!N21/'2016 Rate'!$AA21)*1000","v":3.8782213239009602},{"$f":"('2016'!O21/'2016 Rate'!$AA21)*1000","v":3.2971197574532591},{"$f":"('2016'!P21/'2016 Rate'!$AA21)*1000","v":0.49267306720565945},{"$f":"('2016'!Q21/'2016 Rate'!$AA21)*1000","v":1.6548762001010611},{"$f":"('2016'!R21/'2016 Rate'!$AA21)*1000","v":1.1622031328954019},{"$f":"('2016'!S21/'2016 Rate'!$AA21)*1000","v":2.2738756947953513},{"$f":"('2016'!T21/'2016 Rate'!$AA21)*1000","v":0.44214249621020718},{"$f":"('2016'!U21/'2016 Rate'!$AA21)*1000","v":2.5517938352703387},{"$f":"('2016'!V21/'2016 Rate'!$AA21)*1000","v":0.74532592218292071},null,null,{"$f":"('2016'!Y21/'2016 Rate'!$AA21)*1000","v":0.24002021222839817},"Inverclyde",79160]
[20,"Midlothian",null,{"$f":"('2016'!D22/'2016 Rate'!$AA22)*1000","v":11.37569123123801},{"$f":"('2016'!E22/'2016 Rate'!$AA22)*1000","v":2.3699356731745853},{"$f":"('2016'!F22/'2016 Rate'!$AA22)*1000","v":8.8364744385509528},{"$f":"('2016'!G22/'2016 Rate'!$AA22)*1000","v":0.16928111951247035},{"$f":"('2016'!H22/'2016 Rate'!$AA22)*1000","v":40.977316329985328},{"$f":"('2016'!I22/'2016 Rate'!$AA22)*1000","v":29.60162509874732},{"$f":"('2016'!J22/'2016 Rate'!$AA22)*1000","v":9.6490238122108121},{"$f":"('2016'!K22/'2016 Rate'!$AA22)*1000","v":34.036790429974047},{"$f":"('2016'!L22/'2016 Rate'!$AA22)*1000","v":24.38776661776323},{"$f":"('2016'!M22/'2016 Rate'!$AA22)*1000","v":0.7674077417898657},{"$f":"('2016'!N22/'2016 Rate'!$AA22)*1000","v":4.6044464507391938},{"$f":"('2016'!O22/'2016 Rate'!$AA22)*1000","v":3.8370387089493287},{"$f":"('2016'!P22/'2016 Rate'!$AA22)*1000","v":0.95925967723733219},{"$f":"('2016'!Q22/'2016 Rate'!$AA22)*1000","v":2.3360794492720913},{"$f":"('2016'!R22/'2016 Rate'!$AA22)*1000","v":1.376819772034759},{"$f":"('2016'!S22/'2016 Rate'!$AA22)*1000","v":3.2727683105744272},{"$f":"('2016'!T22/'2016 Rate'!$AA22)*1000","v":1.4445322198397472},{"$f":"('2016'!U22/'2016 Rate'!$AA22)*1000","v":5.8119851032614829},{"$f":"('2016'!V22/'2016 Rate'!$AA22)*1000","v":3.9837490125268027},null,null,{"$f":"('2016'!Y22/'2016 Rate'!$AA22)*1000","v":0.66583907008238341},"Midlothian",88610]
[21,"Moray",null,{"$f":"('2016'!D23/'2016 Rate'!$AA23)*1000","v":5.75621942333715},{"$f":"('2016'!E23/'2016 Rate'!$AA23)*1000","v":1.7695430415322162},{"$f":"('2016'!F23/'2016 Rate'!$AA23)*1000","v":3.5703133132091183},{"$f":"('2016'!G23/'2016 Rate'!$AA23)*1000","v":0.41636306859581557},{"$f":"('2016'!H23/'2016 Rate'!$AA23)*1000","v":37.087540335172264},{"$f":"('2016'!I23/'2016 Rate'!$AA23)*1000","v":31.331320911835117},{"$f":"('2016'!J23/'2016 Rate'!$AA23)*1000","v":2.0505881128343915},{"$f":"('2016'!K23/'2016 Rate'!$AA23)*1000","v":21.421879879254707},{"$f":"('2016'!L23/'2016 Rate'!$AA23)*1000","v":19.371291766420317},{"$f":"('2016'!M23/'2016 Rate'!$AA23)*1000","v":2.8729051733111275},{"$f":"('2016'!N23/'2016 Rate'!$AA23)*1000","v":12.32434683043614},{"$f":"('2016'!O23/'2016 Rate'!$AA23)*1000","v":9.4514416571250131},{"$f":"('2016'!P23/'2016 Rate'!$AA23)*1000","v":0.83272613719163113},{"$f":"('2016'!Q23/'2016 Rate'!$AA23)*1000","v":3.34131362548142},{"$f":"('2016'!R23/'2016 Rate'!$AA23)*1000","v":2.5085874882897889},{"$f":"('2016'!S23/'2016 Rate'!$AA23)*1000","v":2.7063599458728014},{"$f":"('2016'!T23/'2016 Rate'!$AA23)*1000","v":1.1762256687831789},{"$f":"('2016'!U23/'2016 Rate'!$AA23)*1000","v":3.5599042364942233},{"$f":"('2016'!V23/'2016 Rate'!$AA23)*1000","v":4.9026751327157276},null,null,{"$f":"('2016'!Y23/'2016 Rate'!$AA23)*1000","v":0.38513583845112936},"Moray",96070]
[22,"Na h-Eileanan Siar",null,{"$f":"('2016'!D24/'2016 Rate'!$AA24)*1000","v":-2.490706319702602},{"$f":"('2016'!E24/'2016 Rate'!$AA24)*1000","v":0.29739776951672864},{"$f":"('2016'!F24/'2016 Rate'!$AA24)*1000","v":-2.4163568773234201},{"$f":"('2016'!G24/'2016 Rate'!$AA24)*1000","v":-0.37174721189591076},{"$f":"('2016'!H24/'2016 Rate'!$AA24)*1000","v":31.115241635687735},{"$f":"('2016'!I24/'2016 Rate'!$AA24)*1000","v":33.605947955390334},{"$f":"('2016'!J24/'2016 Rate'!$AA24)*1000","v":-4.4609665427509295},{"$f":"('2016'!K24/'2016 Rate'!$AA24)*1000","v":19.851301115241633},{"$f":"('2016'!L24/'2016 Rate'!$AA24)*1000","v":24.312267657992564},{"$f":"('2016'!M24/'2016 Rate'!$AA24)*1000","v":1.2639405204460967},{"$f":"('2016'!N24/'2016 Rate'!$AA24)*1000","v":8.5873605947955394},{"$f":"('2016'!O24/'2016 Rate'!$AA24)*1000","v":7.3234200743494418},{"$f":"('2016'!P24/'2016 Rate'!$AA24)*1000","v":0.70631970260223043},{"$f":"('2016'!Q24/'2016 Rate'!$AA24)*1000","v":2.6765799256505578},{"$f":"('2016'!R24/'2016 Rate'!$AA24)*1000","v":1.9702602230483268},{"$f":"('2016'!S24/'2016 Rate'!$AA24)*1000","v":2.2304832713754648},{"$f":"('2016'!T24/'2016 Rate'!$AA24)*1000","v":0.96654275092936803},{"$f":"('2016'!U24/'2016 Rate'!$AA24)*1000","v":2.490706319702602},{"$f":"('2016'!V24/'2016 Rate'!$AA24)*1000","v":2.3048327137546467},null,null,{"$f":"('2016'!Y24/'2016 Rate'!$AA24)*1000","v":0.22304832713754646},"Na h-Eileanan Siar",26900]
[23,"North Ayrshire",null,{"$f":"('2016'!D25/'2016 Rate'!$AA25)*1000","v":0.47832805945985724},{"$f":"('2016'!E25/'2016 Rate'!$AA25)*1000","v":0.96401501214217378},{"$f":"('2016'!F25/'2016 Rate'!$AA25)*1000","v":0.15453675767164618},{"$f":"('2016'!G25/'2016 Rate'!$AA25)*1000","v":-0.64022371035396286},{"$f":"('2016'!H25/'2016 Rate'!$AA25)*1000","v":27.536978438442858},{"$f":"('2016'!I25/'2016 Rate'!$AA25)*1000","v":27.058650378983},{"$f":"('2016'!J25/'2016 Rate'!$AA25)*1000","v":-0.79476046802560896},{"$f":"('2016'!K25/'2016 Rate'!$AA25)*1000","v":20.25167414820811},{"$f":"('2016'!L25/'2016 Rate'!$AA25)*1000","v":21.046434616233718},{"$f":"('2016'!M25/'2016 Rate'!$AA25)*1000","v":1.5674442563838398},{"$f":"('2016'!N25/'2016 Rate'!$AA25)*1000","v":5.9312679373022297},{"$f":"('2016'!O25/'2016 Rate'!$AA25)*1000","v":4.3638236809183892},{"$f":"('2016'!P25/'2016 Rate'!$AA25)*1000","v":-0.29435572889837369},{"$f":"('2016'!Q25/'2016 Rate'!$AA25)*1000","v":1.354036352932519},{"$f":"('2016'!R25/'2016 Rate'!$AA25)*1000","v":1.6483920818308926},{"$f":"('2016'!S25/'2016 Rate'!$AA25)*1000","v":1.5453675767164619},{"$f":"('2016'!T25/'2016 Rate'!$AA25)*1000","v":0.36058576790050773},{"$f":"('2016'!U25/'2016 Rate'!$AA25)*1000","v":2.8699683567591436},{"$f":"('2016'!V25/'2016 Rate'!$AA25)*1000","v":1.140628449481198},null,null,{"$f":"('2016'!Y25/'2016 Rate'!$AA25)*1000","v":0.19869011700640224},"North Ayrshire",135890]
[24,"North Lanarkshire",null,{"$f":"('2016'!D26/'2016 Rate'!$AA26)*1000","v":2.8934264415569109},{"$f":"('2016'!E26/'2016 Rate'!$AA26)*1000","v":1.0813518371195379},{"$f":"('2016'!F26/'2016 Rate'!$AA26)*1000","v":2.139131972067533},{"$f":"('2016'!G26/'2016 Rate'!$AA26)*1000","v":-0.32705736763015997},{"$f":"('2016'!H26/'2016 Rate'!$AA26)*1000","v":23.751436400601076},{"$f":"('2016'!I26/'2016 Rate'!$AA26)*1000","v":20.858009959044168},{"$f":"('2016'!J26/'2016 Rate'!$AA26)*1000","v":1.6176080615221426},{"$f":"('2016'!K26/'2016 Rate'!$AA26)*1000","v":18.135478358230944},{"$f":"('2016'!L26/'2016 Rate'!$AA26)*1000","v":16.5178702967088},{"$f":"('2016'!M26/'2016 Rate'!$AA26)*1000","v":0.49205928283096145},{"$f":"('2016'!N26/'2016 Rate'!$AA26)*1000","v":3.4503079053596157},{"$f":"('2016'!O26/'2016 Rate'!$AA26)*1000","v":2.9582486225286542},{"$f":"('2016'!P26/'2016 Rate'!$AA26)*1000","v":0.78375909720380688},{"$f":"('2016'!Q26/'2016 Rate'!$AA26)*1000","v":2.1656501370105188},{"$f":"('2016'!R26/'2016 Rate'!$AA26)*1000","v":1.3818910398067121},{"$f":"('2016'!S26/'2016 Rate'!$AA26)*1000","v":3.8304016028757477},{"$f":"('2016'!T26/'2016 Rate'!$AA26)*1000","v":0.84858127817555029},{"$f":"('2016'!U26/'2016 Rate'!$AA26)*1000","v":6.0431951442293528},{"$f":"('2016'!V26/'2016 Rate'!$AA26)*1000","v":4.2075488376204371},null,null,{"$f":"('2016'!Y26/'2016 Rate'!$AA26)*1000","v":0.30348566545861688},"North Lanarkshire",339390]
[25,"Orkney Islands",null,{"$f":"('2016'!D27/'2016 Rate'!$AA27)*1000","v":10.205949656750573},{"$f":"('2016'!E27/'2016 Rate'!$AA27)*1000","v":3.3867276887871851},{"$f":"('2016'!F27/'2016 Rate'!$AA27)*1000","v":5.8123569794050338},{"$f":"('2016'!G27/'2016 Rate'!$AA27)*1000","v":1.0068649885583525},{"$f":"('2016'!H27/'2016 Rate'!$AA27)*1000","v":39.267734553775746},{"$f":"('2016'!I27/'2016 Rate'!$AA27)*1000","v":29.061784897025174},{"$f":"('2016'!J27/'2016 Rate'!$AA27)*1000","v":-0.77803203661327236},{"$f":"('2016'!K27/'2016 Rate'!$AA27)*1000","v":19.267734553775743},{"$f":"('2016'!L27/'2016 Rate'!$AA27)*1000","v":20.045766590389015},{"$f":"('2016'!M27/'2016 Rate'!$AA27)*1000","v":10.846681922196797},{"$f":"('2016'!N27/'2016 Rate'!$AA27)*1000","v":17.620137299771166},{"$f":"('2016'!O27/'2016 Rate'!$AA27)*1000","v":6.7734553775743702},{"$f":"('2016'!P27/'2016 Rate'!$AA27)*1000","v":0.13729977116704806},{"$f":"('2016'!Q27/'2016 Rate'!$AA27)*1000","v":2.3798627002288328},{"$f":"('2016'!R27/'2016 Rate'!$AA27)*1000","v":2.2425629290617848},{"$f":"('2016'!S27/'2016 Rate'!$AA27)*1000","v":2.7459954233409611},{"$f":"('2016'!T27/'2016 Rate'!$AA27)*1000","v":0.59496567505720821},{"$f":"('2016'!U27/'2016 Rate'!$AA27)*1000","v":1.7848970251716247},{"$f":"('2016'!V27/'2016 Rate'!$AA27)*1000","v":1.0068649885583525},null,null,{"$f":"('2016'!Y27/'2016 Rate'!$AA27)*1000","v":0.36613272311212813},"Orkney Islands",21850]
[26,"Perth and Kinross",null,{"$f":"('2016'!D28/'2016 Rate'!$AA28)*1000","v":7.048048845234935},{"$f":"('2016'!E28/'2016 Rate'!$AA28)*1000","v":2.2232545792407752},{"$f":"('2016'!F28/'2016 Rate'!$AA28)*1000","v":4.1876825059729228},{"$f":"('2016'!G28/'2016 Rate'!$AA28)*1000","v":0.63711176002123704},{"$f":"('2016'!H28/'2016 Rate'!$AA28)*1000","v":42.002920095566765},{"$f":"('2016'!I28/'2016 Rate'!$AA28)*1000","v":34.954871250331827},{"$f":"('2016'!J28/'2016 Rate'!$AA28)*1000","v":2.6811786567560389},{"$f":"('2016'!K28/'2016 Rate'!$AA28)*1000","v":28.139102734271301},{"$f":"('2016'!L28/'2016 Rate'!$AA28)*1000","v":25.457924077515266},{"$f":"('2016'!M28/'2016 Rate'!$AA28)*1000","v":1.5795062383859835},{"$f":"('2016'!N28/'2016 Rate'!$AA28)*1000","v":7.6387045394212905},{"$f":"('2016'!O28/'2016 Rate'!$AA28)*1000","v":6.0591983010353072},{"$f":"('2016'!P28/'2016 Rate'!$AA28)*1000","v":2.7873639500929119},{"$f":"('2016'!Q28/'2016 Rate'!$AA28)*1000","v":6.2251128218741707},{"$f":"('2016'!R28/'2016 Rate'!$AA28)*1000","v":3.4377488717812583},{"$f":"('2016'!S28/'2016 Rate'!$AA28)*1000","v":17.719670825590654},{"$f":"('2016'!T28/'2016 Rate'!$AA28)*1000","v":1.4799575258826652},{"$f":"('2016'!U28/'2016 Rate'!$AA28)*1000","v":4.6190602601539688},{"$f":"('2016'!V28/'2016 Rate'!$AA28)*1000","v":5.7539155826917971},null,null,{"$f":"('2016'!Y28/'2016 Rate'!$AA28)*1000","v":0.41810459251393683},"Perth & Kinross",150680]
[27,"Renfrewshire",null,{"$f":"('2016'!D29/'2016 Rate'!$AA29)*1000","v":9.1741033365543121},{"$f":"('2016'!E29/'2016 Rate'!$AA29)*1000","v":1.6711191951344286},{"$f":"('2016'!F29/'2016 Rate'!$AA29)*1000","v":7.0084692775535729},{"$f":"('2016'!G29/'2016 Rate'!$AA29)*1000","v":0.49451486386631044},{"$f":"('2016'!H29/'2016 Rate'!$AA29)*1000","v":35.025294151082818},{"$f":"('2016'!I29/'2016 Rate'!$AA29)*1000","v":25.851190814528508},{"$f":"('2016'!J29/'2016 Rate'!$AA29)*1000","v":5.1781958733587219},{"$f":"('2016'!K29/'2016 Rate'!$AA29)*1000","v":25.62951173762292},{"$f":"('2016'!L29/'2016 Rate'!$AA29)*1000","v":20.451315864264195},{"$f":"('2016'!M29/'2016 Rate'!$AA29)*1000","v":1.0856590689478771},{"$f":"('2016'!N29/'2016 Rate'!$AA29)*1000","v":4.8257829818677882},{"$f":"('2016'!O29/'2016 Rate'!$AA29)*1000","v":3.7401239129199113},{"$f":"('2016'!P29/'2016 Rate'!$AA29)*1000","v":2.910248394247712},{"$f":"('2016'!Q29/'2016 Rate'!$AA29)*1000","v":4.5699994315921098},{"$f":"('2016'!R29/'2016 Rate'!$AA29)*1000","v":1.6597510373443982},{"$f":"('2016'!S29/'2016 Rate'!$AA29)*1000","v":5.0588302165634058},{"$f":"('2016'!T29/'2016 Rate'!$AA29)*1000","v":1.2732336724833739},{"$f":"('2016'!U29/'2016 Rate'!$AA29)*1000","v":6.1160688910362069},{"$f":"('2016'!V29/'2016 Rate'!$AA29)*1000","v":3.5809697038594894},null,null,{"$f":"('2016'!Y29/'2016 Rate'!$AA29)*1000","v":0.50588302165634058},"Renfrewshire",175930]
[28,"Scottish Borders",null,{"$f":"('2016'!D30/'2016 Rate'!$AA30)*1000","v":6.0246223696847991},{"$f":"('2016'!E30/'2016 Rate'!$AA30)*1000","v":2.0082074565615993},{"$f":"('2016'!F30/'2016 Rate'!$AA30)*1000","v":4.365668383829564},{"$f":"('2016'!G30/'2016 Rate'!$AA30)*1000","v":-0.34925347070636514},{"$f":"('2016'!H30/'2016 Rate'!$AA30)*1000","v":38.365493757094214},{"$f":"('2016'!I30/'2016 Rate'!$AA30)*1000","v":32.340871387409408},{"$f":"('2016'!J30/'2016 Rate'!$AA30)*1000","v":3.1170872260543092},{"$f":"('2016'!K30/'2016 Rate'!$AA30)*1000","v":21.819610582380161},{"$f":"('2016'!L30/'2016 Rate'!$AA30)*1000","v":18.702523356325852},{"$f":"('2016'!M30/'2016 Rate'!$AA30)*1000","v":2.8813411333275125},{"$f":"('2016'!N30/'2016 Rate'!$AA30)*1000","v":13.795512092901424},{"$f":"('2016'!O30/'2016 Rate'!$AA30)*1000","v":10.91417095957391},{"$f":"('2016'!P30/'2016 Rate'!$AA30)*1000","v":2.6194010302977383E-2},{"$f":"('2016'!Q30/'2016 Rate'!$AA30)*1000","v":2.7503710818126255},{"$f":"('2016'!R30/'2016 Rate'!$AA30)*1000","v":2.7241770715096481},{"$f":"('2016'!S30/'2016 Rate'!$AA30)*1000","v":3.2305946040338775},{"$f":"('2016'!T30/'2016 Rate'!$AA30)*1000","v":1.1263424430280278},{"$f":"('2016'!U30/'2016 Rate'!$AA30)*1000","v":2.9686545010041039},{"$f":"('2016'!V30/'2016 Rate'!$AA30)*1000","v":3.8941761983759715},null,null,{"$f":"('2016'!Y30/'2016 Rate'!$AA30)*1000","v":0.22701475595913734},"Scottish Borders",114530]
[29,"Shetland Islands",null,{"$f":"('2016'!D31/'2016 Rate'!$AA31)*1000","v":-0.64655172413793105},{"$f":"('2016'!E31/'2016 Rate'!$AA31)*1000","v":0.60344827586206895},{"$f":"('2016'!F31/'2016 Rate'!$AA31)*1000","v":-1.2931034482758621},{"$f":"('2016'!G31/'2016 Rate'!$AA31)*1000","v":4.3103448275862065E-2},{"$f":"('2016'!H31/'2016 Rate'!$AA31)*1000","v":29.137931034482758},{"$f":"('2016'!I31/'2016 Rate'!$AA31)*1000","v":29.784482758620687},{"$f":"('2016'!J31/'2016 Rate'!$AA31)*1000","v":-6.681034482758621},{"$f":"('2016'!K31/'2016 Rate'!$AA31)*1000","v":13.577586206896552},{"$f":"('2016'!L31/'2016 Rate'!$AA31)*1000","v":20.258620689655171},{"$f":"('2016'!M31/'2016 Rate'!$AA31)*1000","v":4.3534482758620685},{"$f":"('2016'!N31/'2016 Rate'!$AA31)*1000","v":11.63793103448276},{"$f":"('2016'!O31/'2016 Rate'!$AA31)*1000","v":7.2844827586206895},{"$f":"('2016'!P31/'2016 Rate'!$AA31)*1000","v":1.6810344827586208},{"$f":"('2016'!Q31/'2016 Rate'!$AA31)*1000","v":3.922413793103448},{"$f":"('2016'!R31/'2016 Rate'!$AA31)*1000","v":2.2413793103448274},{"$f":"('2016'!S31/'2016 Rate'!$AA31)*1000","v":6.0344827586206895},{"$f":"('2016'!T31/'2016 Rate'!$AA31)*1000","v":1.0344827586206897},{"$f":"('2016'!U31/'2016 Rate'!$AA31)*1000","v":4.3965517241379315},{"$f":"('2016'!V31/'2016 Rate'!$AA31)*1000","v":3.1896551724137931},null,null,{"$f":"('2016'!Y31/'2016 Rate'!$AA31)*1000","v":0.38793103448275862},"Shetland Islands",23200]
[30,"South Ayrshire",null,{"$f":"('2016'!D32/'2016 Rate'!$AA32)*1000","v":4.8546279007735391},{"$f":"('2016'!E32/'2016 Rate'!$AA32)*1000","v":1.2892326842713613},{"$f":"('2016'!F32/'2016 Rate'!$AA32)*1000","v":2.1250111140748644},{"$f":"('2016'!G32/'2016 Rate'!$AA32)*1000","v":1.4403841024273139},{"$f":"('2016'!H32/'2016 Rate'!$AA32)*1000","v":33.66230994931982},{"$f":"('2016'!I32/'2016 Rate'!$AA32)*1000","v":28.80768204854628},{"$f":"('2016'!J32/'2016 Rate'!$AA32)*1000","v":2.2139237129901304},{"$f":"('2016'!K32/'2016 Rate'!$AA32)*1000","v":23.89970658842358},{"$f":"('2016'!L32/'2016 Rate'!$AA32)*1000","v":21.68578287543345},{"$f":"('2016'!M32/'2016 Rate'!$AA32)*1000","v":2.3028363119053967},{"$f":"('2016'!N32/'2016 Rate'!$AA32)*1000","v":7.4864408286654216},{"$f":"('2016'!O32/'2016 Rate'!$AA32)*1000","v":5.1836045167600249},{"$f":"('2016'!P32/'2016 Rate'!$AA32)*1000","v":0.33786787587801193},{"$f":"('2016'!Q32/'2016 Rate'!$AA32)*1000","v":2.276162532230817},{"$f":"('2016'!R32/'2016 Rate'!$AA32)*1000","v":1.9382946563528052},{"$f":"('2016'!S32/'2016 Rate'!$AA32)*1000","v":2.8452031652885212},{"$f":"('2016'!T32/'2016 Rate'!$AA32)*1000","v":0.47123677425091137},{"$f":"('2016'!U32/'2016 Rate'!$AA32)*1000","v":3.0852671823597402},{"$f":"('2016'!V32/'2016 Rate'!$AA32)*1000","v":1.8582733173290655},null,null,{"$f":"('2016'!Y32/'2016 Rate'!$AA32)*1000","v":0.32008535609495864},"South Ayrshire",112470]
[31,"South Lanarkshire",null,{"$f":"('2016'!D33/'2016 Rate'!$AA33)*1000","v":3.4594765058341221},{"$f":"('2016'!E33/'2016 Rate'!$AA33)*1000","v":0.76631977294228948},{"$f":"('2016'!F33/'2016 Rate'!$AA33)*1000","v":2.3462630085146641},{"$f":"('2016'!G33/'2016 Rate'!$AA33)*1000","v":0.34689372437716809},{"$f":"('2016'!H33/'2016 Rate'!$AA33)*1000","v":28.902554399243144},{"$f":"('2016'!I33/'2016 Rate'!$AA33)*1000","v":25.443077893409018},{"$f":"('2016'!J33/'2016 Rate'!$AA33)*1000","v":2.4377168085777359},{"$f":"('2016'!K33/'2016 Rate'!$AA33)*1000","v":22.314727215389468},{"$f":"('2016'!L33/'2016 Rate'!$AA33)*1000","v":19.877010406811731},{"$f":"('2016'!M33/'2016 Rate'!$AA33)*1000","v":0.6023336486912646},{"$f":"('2016'!N33/'2016 Rate'!$AA33)*1000","v":4.5695364238410594},{"$f":"('2016'!O33/'2016 Rate'!$AA33)*1000","v":3.9672027751497954},{"$f":"('2016'!P33/'2016 Rate'!$AA33)*1000","v":0.41942604856512139},{"$f":"('2016'!Q33/'2016 Rate'!$AA33)*1000","v":2.0182907600126141},{"$f":"('2016'!R33/'2016 Rate'!$AA33)*1000","v":1.598864711447493},{"$f":"('2016'!S33/'2016 Rate'!$AA33)*1000","v":2.838221381267739},{"$f":"('2016'!T33/'2016 Rate'!$AA33)*1000","v":0.83254493850520339},{"$f":"('2016'!U33/'2016 Rate'!$AA33)*1000","v":5.8908861557868182},{"$f":"('2016'!V33/'2016 Rate'!$AA33)*1000","v":2.5985493535162409},null,null,{"$f":"('2016'!Y33/'2016 Rate'!$AA33)*1000","v":0.42888678650268053},"South Lanarkshire",317100]
[32,"Stirling",null,{"$f":"('2016'!D34/'2016 Rate'!$AA34)*1000","v":10.794666666666666},{"$f":"('2016'!E34/'2016 Rate'!$AA34)*1000","v":2.9546666666666668},{"$f":"('2016'!F34/'2016 Rate'!$AA34)*1000","v":7.9253333333333327},{"$f":"('2016'!G34/'2016 Rate'!$AA34)*1000","v":-8.5333333333333344E-2},{"$f":"('2016'!H34/'2016 Rate'!$AA34)*1000","v":59.146666666666668},{"$f":"('2016'!I34/'2016 Rate'!$AA34)*1000","v":48.351999999999997},{"$f":"('2016'!J34/'2016 Rate'!$AA34)*1000","v":2.2399999999999998},{"$f":"('2016'!K34/'2016 Rate'!$AA34)*1000","v":38.432000000000002},{"$f":"('2016'!L34/'2016 Rate'!$AA34)*1000","v":36.192},{"$f":"('2016'!M34/'2016 Rate'!$AA34)*1000","v":3.8506666666666667},{"$f":"('2016'!N34/'2016 Rate'!$AA34)*1000","v":11.989333333333333},{"$f":"('2016'!O34/'2016 Rate'!$AA34)*1000","v":8.1386666666666674},{"$f":"('2016'!P34/'2016 Rate'!$AA34)*1000","v":4.7039999999999997},{"$f":"('2016'!Q34/'2016 Rate'!$AA34)*1000","v":8.7253333333333334},{"$f":"('2016'!R34/'2016 Rate'!$AA34)*1000","v":4.0213333333333336},{"$f":"('2016'!S34/'2016 Rate'!$AA34)*1000","v":7.5733333333333333},{"$f":"('2016'!T34/'2016 Rate'!$AA34)*1000","v":1.1413333333333333},{"$f":"('2016'!U34/'2016 Rate'!$AA34)*1000","v":5.2053333333333338},{"$f":"('2016'!V34/'2016 Rate'!$AA34)*1000","v":3.3600000000000003},null,null,{"$f":"('2016'!Y34/'2016 Rate'!$AA34)*1000","v":0.43733333333333335},"Stirling",93750]
[33,"West Dunbartonshire",null,{"$f":"('2016'!D35/'2016 Rate'!$AA35)*1000","v":3.2049855330514134},{"$f":"('2016'!E35/'2016 Rate'!$AA35)*1000","v":0.70109058535499669},{"$f":"('2016'!F35/'2016 Rate'!$AA35)*1000","v":2.3703538838192744},{"$f":"('2016'!G35/'2016 Rate'!$AA35)*1000","v":0.13354106387714224},{"$f":"('2016'!H35/'2016 Rate'!$AA35)*1000","v":28.444246605831296},{"$f":"('2016'!I35/'2016 Rate'!$AA35)*1000","v":25.239261072779879},{"$f":"('2016'!J35/'2016 Rate'!$AA35)*1000","v":1.346539060761184},{"$f":"('2016'!K35/'2016 Rate'!$AA35)*1000","v":22.167816603605608},{"$f":"('2016'!L35/'2016 Rate'!$AA35)*1000","v":20.821277542844424},{"$f":"('2016'!M35/'2016 Rate'!$AA35)*1000","v":0.90140218117071003},{"$f":"('2016'!N35/'2016 Rate'!$AA35)*1000","v":4.1175161362118855},{"$f":"('2016'!O35/'2016 Rate'!$AA35)*1000","v":3.216113955041175},{"$f":"('2016'!P35/'2016 Rate'!$AA35)*1000","v":0.95704429111951916},{"$f":"('2016'!Q35/'2016 Rate'!$AA35)*1000","v":2.1589138660137994},{"$f":"('2016'!R35/'2016 Rate'!$AA35)*1000","v":1.2018695748942798},{"$f":"('2016'!S35/'2016 Rate'!$AA35)*1000","v":1.6692632984642779},{"$f":"('2016'!T35/'2016 Rate'!$AA35)*1000","v":0.67883374137547292},{"$f":"('2016'!U35/'2016 Rate'!$AA35)*1000","v":4.1175161362118855},{"$f":"('2016'!V35/'2016 Rate'!$AA35)*1000","v":2.9601602492766528},null,null,{"$f":"('2016'!Y35/'2016 Rate'!$AA35)*1000","v":0.34498108168261737},"West Dunbartonshire",89860]
[34,"West Lothian",null,{"$f":"('2016'!D36/'2016 Rate'!$AA36)*1000","v":6.2565924610003893},{"$f":"('2016'!E36/'2016 Rate'!$AA36)*1000","v":1.6543607394659412},{"$f":"('2016'!F36/'2016 Rate'!$AA36)*1000","v":4.2080719480375288},{"$f":"('2016'!G36/'2016 Rate'!$AA36)*1000","v":0.39415977349691889},{"$f":"('2016'!H36/'2016 Rate'!$AA36)*1000","v":31.432854049852882},{"$f":"('2016'!I36/'2016 Rate'!$AA36)*1000","v":25.176261588852498},{"$f":"('2016'!J36/'2016 Rate'!$AA36)*1000","v":2.8534946982734692},{"$f":"('2016'!K36/'2016 Rate'!$AA36)*1000","v":22.733581302392718},{"$f":"('2016'!L36/'2016 Rate'!$AA36)*1000","v":19.880086604119246},{"$f":"('2016'!M36/'2016 Rate'!$AA36)*1000","v":1.3268195192361072},{"$f":"('2016'!N36/'2016 Rate'!$AA36)*1000","v":5.0519069560872705},{"$f":"('2016'!O36/'2016 Rate'!$AA36)*1000","v":3.7250874368511631},{"$f":"('2016'!P36/'2016 Rate'!$AA36)*1000","v":2.0762782434908122},{"$f":"('2016'!Q36/'2016 Rate'!$AA36)*1000","v":3.6473657913728976},{"$f":"('2016'!R36/'2016 Rate'!$AA36)*1000","v":1.5710875478820852},{"$f":"('2016'!S36/'2016 Rate'!$AA36)*1000","v":5.440515183478599},{"$f":"('2016'!T36/'2016 Rate'!$AA36)*1000","v":1.8264586687392439},{"$f":"('2016'!U36/'2016 Rate'!$AA36)*1000","v":7.7666130017209793},{"$f":"('2016'!V36/'2016 Rate'!$AA36)*1000","v":7.8498861933048358},null,null,{"$f":"('2016'!Y36/'2016 Rate'!$AA36)*1000","v":0.76056181646588572},"West Lothian",180130]
[]
[35,"Not specified"]
[36,"SCOTLAND",null,{"$f":"('2016'!D39/'2016 Rate'!$AA39)*1000","v":5.8639702481173792},{"$f":"('2016'!E39/'2016 Rate'!$AA39)*1000","v":0.96231058153088977},{"$f":"('2016'!F39/'2016 Rate'!$AA39)*1000","v":4.8985142561104222},{"$f":"('2016'!G39/'2016 Rate'!$AA39)*1000","v":3.1454104760671267E-3},{"$f":"('2016'!H39/'2016 Rate'!$AA39)*1000","v":16.0425185486706},{"$f":"('2016'!I39/'2016 Rate'!$AA39)*1000","v":10.178548300553222},{"$f":"('2016'!J39/'2016 Rate'!$AA39)*1000","v":0},{"$f":"('2016'!K39/'2016 Rate'!$AA39)*1000","v":0},{"$f":"('2016'!L39/'2016 Rate'!$AA39)*1000","v":0},{"$f":"('2016'!M39/'2016 Rate'!$AA39)*1000","v":1.6269173127093086},{"$f":"('2016'!N39/'2016 Rate'!$AA39)*1000","v":8.5675430643699002},{"$f":"('2016'!O39/'2016 Rate'!$AA39)*1000","v":6.9406257516605923},{"$f":"('2016'!P39/'2016 Rate'!$AA39)*1000","v":4.2370529354080713},{"$f":"('2016'!Q39/'2016 Rate'!$AA39)*1000","v":7.4749754843007015},{"$f":"('2016'!R39/'2016 Rate'!$AA39)*1000","v":3.2379225488926302},null,{"$f":"('2016'!T39/'2016 Rate'!$AA39)*1000","v":1.7199844579717654},null,null,null,null,null,"SCOTLAND",{"$f":"AA4","v":5404700}]
[37,"Ayrshire and Arran",null,{"$f":"('2016'!D40/'2016 Rate'!$AA40)*1000","v":2.0563471502590676},{"$f":"('2016'!E40/'2016 Rate'!$AA40)*1000","v":1.0173791018998273},{"$f":"('2016'!F40/'2016 Rate'!$AA40)*1000","v":0.74751727115716748},{"$f":"('2016'!G40/'2016 Rate'!$AA40)*1000","v":0.29145077720207252},{"$f":"('2016'!H40/'2016 Rate'!$AA40)*1000","v":22.050410189982731},{"$f":"('2016'!I40/'2016 Rate'!$AA40)*1000","v":19.99406303972366},{"$f":"('2016'!J40/'2016 Rate'!$AA40)*1000","v":0.54781951640759941},{"$f":"('2016'!K40/'2016 Rate'!$AA40)*1000","v":14.478087219343697},{"$f":"('2016'!L40/'2016 Rate'!$AA40)*1000","v":13.930267702936096},{"$f":"('2016'!M40/'2016 Rate'!$AA40)*1000","v":1.6164723661485318},{"$f":"('2016'!N40/'2016 Rate'!$AA40)*1000","v":6.0772884283246977},{"$f":"('2016'!O40/'2016 Rate'!$AA40)*1000","v":4.4608160621761659},{"$f":"('2016'!P40/'2016 Rate'!$AA40)*1000","v":-0.1079447322970639},{"$f":"('2016'!Q40/'2016 Rate'!$AA40)*1000","v":1.495034542314335},{"$f":"('2016'!R40/'2016 Rate'!$AA40)*1000","v":1.6029792746113989},null,{"$f":"('2016'!T40/'2016 Rate'!$AA40)*1000","v":0.43177892918825561},null,null,null,null,null,"Ayrshire & Arran",{"$f":"AA13+AA25+AA32","v":370560}]
[38,"Borders",null,{"$f":"('2016'!D41/'2016 Rate'!$AA41)*1000","v":6.0246223696847991},{"$f":"('2016'!E41/'2016 Rate'!$AA41)*1000","v":2.0082074565615993},{"$f":"('2016'!F41/'2016 Rate'!$AA41)*1000","v":4.365668383829564},{"$f":"('2016'!G41/'2016 Rate'!$AA41)*1000","v":-0.34925347070636514},{"$f":"('2016'!H41/'2016 Rate'!$AA41)*1000","v":38.365493757094214},{"$f":"('2016'!I41/'2016 Rate'!$AA41)*1000","v":32.340871387409408},{"$f":"('2016'!J41/'2016 Rate'!$AA41)*1000","v":3.1170872260543092},{"$f":"('2016'!K41/'2016 Rate'!$AA41)*1000","v":21.819610582380161},{"$f":"('2016'!L41/'2016 Rate'!$AA41)*1000","v":18.702523356325852},{"$f":"('2016'!M41/'2016 Rate'!$AA41)*1000","v":2.8813411333275125},{"$f":"('2016'!N41/'2016 Rate'!$AA41)*1000","v":13.795512092901424},{"$f":"('2016'!O41/'2016 Rate'!$AA41)*1000","v":10.91417095957391},{"$f":"('2016'!P41/'2016 Rate'!$AA41)*1000","v":2.6194010302977383E-2},{"$f":"('2016'!Q41/'2016 Rate'!$AA41)*1000","v":2.7503710818126255},{"$f":"('2016'!R41/'2016 Rate'!$AA41)*1000","v":2.7241770715096481},null,{"$f":"('2016'!T41/'2016 Rate'!$AA41)*1000","v":1.1263424430280278},null,null,null,null,null,"Borders",{"$f":"AA30","v":114530}]
[39,"Dumfries and Galloway",null,{"$f":"('2016'!D42/'2016 Rate'!$AA42)*1000","v":2.6350989834135903},{"$f":"('2016'!E42/'2016 Rate'!$AA42)*1000","v":1.0968432316746923},{"$f":"('2016'!F42/'2016 Rate'!$AA42)*1000","v":1.5315676832530765},{"$f":"('2016'!G42/'2016 Rate'!$AA42)*1000","v":6.6880684858212948E-3},{"$f":"('2016'!H42/'2016 Rate'!$AA42)*1000","v":25.976457998929909},{"$f":"('2016'!I42/'2016 Rate'!$AA42)*1000","v":23.341359015516321},{"$f":"('2016'!J42/'2016 Rate'!$AA42)*1000","v":-1.1771000535045479},{"$f":"('2016'!K42/'2016 Rate'!$AA42)*1000","v":11.229266987693954},{"$f":"('2016'!L42/'2016 Rate'!$AA42)*1000","v":12.406367041198502},{"$f":"('2016'!M42/'2016 Rate'!$AA42)*1000","v":3.7319422150882824},{"$f":"('2016'!N42/'2016 Rate'!$AA42)*1000","v":12.473247726056714},{"$f":"('2016'!O42/'2016 Rate'!$AA42)*1000","v":8.7413055109684326},{"$f":"('2016'!P42/'2016 Rate'!$AA42)*1000","v":8.0256821829855537E-2},{"$f":"('2016'!Q42/'2016 Rate'!$AA42)*1000","v":2.2739432851792403},{"$f":"('2016'!R42/'2016 Rate'!$AA42)*1000","v":2.1936864633493847},null,{"$f":"('2016'!T42/'2016 Rate'!$AA42)*1000","v":0.6420545746388443},null,null,null,null,null,"Dumfries & Galloway",{"$f":"AA11","v":149520}]
[40,"Fife",null,{"$f":"('2016'!D43/'2016 Rate'!$AA43)*1000","v":4.3420732859881728},{"$f":"('2016'!E43/'2016 Rate'!$AA43)*1000","v":0.91269948424378256},{"$f":"('2016'!F43/'2016 Rate'!$AA43)*1000","v":3.1917479005211566},{"$f":"('2016'!G43/'2016 Rate'!$AA43)*1000","v":0.23762590122323335},{"$f":"('2016'!H43/'2016 Rate'!$AA43)*1000","v":30.794156563065375},{"$f":"('2016'!I43/'2016 Rate'!$AA43)*1000","v":26.452083277077204},{"$f":"('2016'!J43/'2016 Rate'!$AA43)*1000","v":0.33483649717819242},{"$f":"('2016'!K43/'2016 Rate'!$AA43)*1000","v":17.508708449220965},{"$f":"('2016'!L43/'2016 Rate'!$AA43)*1000","v":17.17387195204277},{"$f":"('2016'!M43/'2016 Rate'!$AA43)*1000","v":1.1935300947803311},{"$f":"('2016'!N43/'2016 Rate'!$AA43)*1000","v":7.7471444387438231},{"$f":"('2016'!O43/'2016 Rate'!$AA43)*1000","v":6.553614343963492},{"$f":"('2016'!P43/'2016 Rate'!$AA43)*1000","v":2.8137066940296491},{"$f":"('2016'!Q43/'2016 Rate'!$AA43)*1000","v":5.5383036751005861},{"$f":"('2016'!R43/'2016 Rate'!$AA43)*1000","v":2.724596981070937},null,{"$f":"('2016'!T43/'2016 Rate'!$AA43)*1000","v":1.3096427510598656},null,null,null,null,null,"Fife",{"$f":"AA18","v":370330}]
[41,"Forth Valley",null,{"$f":"('2016'!D44/'2016 Rate'!$AA44)*1000","v":6.4503415659485022},{"$f":"('2016'!E44/'2016 Rate'!$AA44)*1000","v":1.6848397267472413},{"$f":"('2016'!F44/'2016 Rate'!$AA44)*1000","v":4.7096689437729893},{"$f":"('2016'!G44/'2016 Rate'!$AA44)*1000","v":5.5832895428271155E-2},{"$f":"('2016'!H44/'2016 Rate'!$AA44)*1000","v":33.667235943247505},{"$f":"('2016'!I44/'2016 Rate'!$AA44)*1000","v":27.216894377299003},{"$f":"('2016'!J44/'2016 Rate'!$AA44)*1000","v":2.256305832895428},{"$f":"('2016'!K44/'2016 Rate'!$AA44)*1000","v":22.274040987913818},{"$f":"('2016'!L44/'2016 Rate'!$AA44)*1000","v":20.017735155018393},{"$f":"('2016'!M44/'2016 Rate'!$AA44)*1000","v":2.0296899632159748},{"$f":"('2016'!N44/'2016 Rate'!$AA44)*1000","v":6.9331318970047295},{"$f":"('2016'!O44/'2016 Rate'!$AA44)*1000","v":4.9034419337887547},{"$f":"('2016'!P44/'2016 Rate'!$AA44)*1000","v":2.1643457698370994},{"$f":"('2016'!Q44/'2016 Rate'!$AA44)*1000","v":4.460063058328954},{"$f":"('2016'!R44/'2016 Rate'!$AA44)*1000","v":2.2957172884918551},null,{"$f":"('2016'!T44/'2016 Rate'!$AA44)*1000","v":1.0542564372044141},null,null,null,null,null,"Forth Valley",{"$f":"AA10+AA17+AA34","v":304480}]
[42,"Grampian",null,{"$f":"('2016'!D45/'2016 Rate'!$AA45)*1000","v":-1.3093011392620302},{"$f":"('2016'!E45/'2016 Rate'!$AA45)*1000","v":-4.7610950518619286E-2},{"$f":"('2016'!F45/'2016 Rate'!$AA45)*1000","v":-0.928413535113076},{"$f":"('2016'!G45/'2016 Rate'!$AA45)*1000","v":-0.33327665363033498},{"$f":"('2016'!H45/'2016 Rate'!$AA45)*1000","v":28.561469137901717},{"$f":"('2016'!I45/'2016 Rate'!$AA45)*1000","v":29.870770277163746},{"$f":"('2016'!J45/'2016 Rate'!$AA45)*1000","v":-4.3104914130249954},{"$f":"('2016'!K45/'2016 Rate'!$AA45)*1000","v":11.80411494643768},{"$f":"('2016'!L45/'2016 Rate'!$AA45)*1000","v":16.114606359462677},{"$f":"('2016'!M45/'2016 Rate'!$AA45)*1000","v":-1.8789321543955109},{"$f":"('2016'!N45/'2016 Rate'!$AA45)*1000","v":7.4800204046930796},{"$f":"('2016'!O45/'2016 Rate'!$AA45)*1000","v":9.3589525590885891},{"$f":"('2016'!P45/'2016 Rate'!$AA45)*1000","v":4.8801224281584767},{"$f":"('2016'!Q45/'2016 Rate'!$AA45)*1000","v":9.2773337867709582},{"$f":"('2016'!R45/'2016 Rate'!$AA45)*1000","v":4.3972113586124806},null,{"$f":"('2016'!T45/'2016 Rate'!$AA45)*1000","v":2.644108144873321},null,null,null,null,null,"Grampian",{"$f":"AA5+AA6+AA23","v":588100}]
[43,"Greater Glasgow and Clyde",null,{"$f":"('2016'!D46/'2016 Rate'!$AA46)*1000","v":9.7591637462651857},{"$f":"('2016'!E46/'2016 Rate'!$AA46)*1000","v":1.0530666368168629},{"$f":"('2016'!F46/'2016 Rate'!$AA46)*1000","v":8.7284844623160591},{"$f":"('2016'!G46/'2016 Rate'!$AA46)*1000","v":-2.2387352867733797E-2},{"$f":"('2016'!H46/'2016 Rate'!$AA46)*1000","v":34.836443166260537},{"$f":"('2016'!I46/'2016 Rate'!$AA46)*1000","v":25.077279419995353},{"$f":"('2016'!J46/'2016 Rate'!$AA46)*1000","v":0.3297829287823863},{"$f":"('2016'!K46/'2016 Rate'!$AA46)*1000","v":15.804610072586687},{"$f":"('2016'!L46/'2016 Rate'!$AA46)*1000","v":15.474827143804299},{"$f":"('2016'!M46/'2016 Rate'!$AA46)*1000","v":1.9614765320268304},{"$f":"('2016'!N46/'2016 Rate'!$AA46)*1000","v":7.8760429492754254},{"$f":"('2016'!O46/'2016 Rate'!$AA46)*1000","v":5.9145664172485946},{"$f":"('2016'!P46/'2016 Rate'!$AA46)*1000","v":7.4679042854559707},{"$f":"('2016'!Q46/'2016 Rate'!$AA46)*1000","v":11.155790144398425},{"$f":"('2016'!R46/'2016 Rate'!$AA46)*1000","v":3.6878858589424559},null,{"$f":"('2016'!T46/'2016 Rate'!$AA46)*1000","v":2.0958006492332331},null,null,null,null,null,"Greater Glasgow & Clyde",{"$f":"AA16+AA21+AA29+AA35+AA14+AA19","v":1161370}]
[44,"Highland",null,{"$f":"('2016'!D47/'2016 Rate'!$AA47)*1000","v":4.4423734078906492},{"$f":"('2016'!E47/'2016 Rate'!$AA47)*1000","v":1.3762037899968935},{"$f":"('2016'!F47/'2016 Rate'!$AA47)*1000","v":4.0198819509164334},{"$f":"('2016'!G47/'2016 Rate'!$AA47)*1000","v":-0.95371233302267777},{"$f":"('2016'!H47/'2016 Rate'!$AA47)*1000","v":35.501708605156885},{"$f":"('2016'!I47/'2016 Rate'!$AA47)*1000","v":31.059335197266233},{"$f":"('2016'!J47/'2016 Rate'!$AA47)*1000","v":-0.99720410065237641},{"$f":"('2016'!K47/'2016 Rate'!$AA47)*1000","v":19.41596769182976},{"$f":"('2016'!L47/'2016 Rate'!$AA47)*1000","v":20.413171792482135},{"$f":"('2016'!M47/'2016 Rate'!$AA47)*1000","v":4.2373407890649268},{"$f":"('2016'!N47/'2016 Rate'!$AA47)*1000","v":12.137309723516621},{"$f":"('2016'!O47/'2016 Rate'!$AA47)*1000","v":7.8999689344516932},{"$f":"('2016'!P47/'2016 Rate'!$AA47)*1000","v":1.2022367194780987},{"$f":"('2016'!Q47/'2016 Rate'!$AA47)*1000","v":3.9484311898105005},{"$f":"('2016'!R47/'2016 Rate'!$AA47)*1000","v":2.7461944703324015},null,{"$f":"('2016'!T47/'2016 Rate'!$AA47)*1000","v":1.2705809257533396},null,null,null,null,null,"Highland",{"$f":"AA20+AA8","v":321900}]
[45,"Lanarkshire",null,{"$f":"('2016'!D48/'2016 Rate'!$AA48)*1000","v":3.1668418406982588},{"$f":"('2016'!E48/'2016 Rate'!$AA48)*1000","v":0.92918399366326976},{"$f":"('2016'!F48/'2016 Rate'!$AA48)*1000","v":2.2391810994836172},{"$f":"('2016'!G48/'2016 Rate'!$AA48)*1000","v":-1.5232524486283113E-3},{"$f":"('2016'!H48/'2016 Rate'!$AA48)*1000","v":22.407043519322457},{"$f":"('2016'!I48/'2016 Rate'!$AA48)*1000","v":19.240201678624196},{"$f":"('2016'!J48/'2016 Rate'!$AA48)*1000","v":2.0137397370866275},{"$f":"('2016'!K48/'2016 Rate'!$AA48)*1000","v":16.321649987052353},{"$f":"('2016'!L48/'2016 Rate'!$AA48)*1000","v":14.307910249965728},{"$f":"('2016'!M48/'2016 Rate'!$AA48)*1000","v":0.5453243766089354},{"$f":"('2016'!N48/'2016 Rate'!$AA48)*1000","v":3.9909214154061754},{"$f":"('2016'!O48/'2016 Rate'!$AA48)*1000","v":3.4455970387972399},{"$f":"('2016'!P48/'2016 Rate'!$AA48)*1000","v":0.60777772700269617},{"$f":"('2016'!Q48/'2016 Rate'!$AA48)*1000","v":2.094472116863928},{"$f":"('2016'!R48/'2016 Rate'!$AA48)*1000","v":1.4866943898612317},null,{"$f":"('2016'!T48/'2016 Rate'!$AA48)*1000","v":0.84083535164282774},null,null,null,null,null,"Lanarkshire",{"$f":"AA26+AA33","v":656490}]
[46,"Lothian",null,{"$f":"('2016'!D49/'2016 Rate'!$AA49)*1000","v":12.220454545454544},{"$f":"('2016'!E49/'2016 Rate'!$AA49)*1000","v":1.0261363636363636},{"$f":"('2016'!F49/'2016 Rate'!$AA49)*1000","v":10.878409090909091},{"$f":"('2016'!G49/'2016 Rate'!$AA49)*1000","v":0.31590909090909092},{"$f":"('2016'!H49/'2016 Rate'!$AA49)*1000","v":42.112499999999997},{"$f":"('2016'!I49/'2016 Rate'!$AA49)*1000","v":29.892045454545457},{"$f":"('2016'!J49/'2016 Rate'!$AA49)*1000","v":0.4375},{"$f":"('2016'!K49/'2016 Rate'!$AA49)*1000","v":15.5},{"$f":"('2016'!L49/'2016 Rate'!$AA49)*1000","v":15.0625},{"$f":"('2016'!M49/'2016 Rate'!$AA49)*1000","v":3.2159090909090908},{"$f":"('2016'!N49/'2016 Rate'!$AA49)*1000","v":13.219318181818181},{"$f":"('2016'!O49/'2016 Rate'!$AA49)*1000","v":10.003409090909091},{"$f":"('2016'!P49/'2016 Rate'!$AA49)*1000","v":8.567045454545454},{"$f":"('2016'!Q49/'2016 Rate'!$AA49)*1000","v":13.393181818181818},{"$f":"('2016'!R49/'2016 Rate'!$AA49)*1000","v":4.8261363636363637},null,{"$f":"('2016'!T49/'2016 Rate'!$AA49)*1000","v":2.7534090909090909},null,null,null,null,null,"Lothian",{"$f":"AA15+AA9+AA22+AA36","v":880000}]
[47,"Orkney",null,{"$f":"('2016'!D50/'2016 Rate'!$AA50)*1000","v":10.205949656750573},{"$f":"('2016'!E50/'2016 Rate'!$AA50)*1000","v":3.3867276887871851},{"$f":"('2016'!F50/'2016 Rate'!$AA50)*1000","v":5.8123569794050338},{"$f":"('2016'!G50/'2016 Rate'!$AA50)*1000","v":1.0068649885583525},{"$f":"('2016'!H50/'2016 Rate'!$AA50)*1000","v":39.267734553775746},{"$f":"('2016'!I50/'2016 Rate'!$AA50)*1000","v":29.061784897025174},{"$f":"('2016'!J50/'2016 Rate'!$AA50)*1000","v":-0.77803203661327236},{"$f":"('2016'!K50/'2016 Rate'!$AA50)*1000","v":19.267734553775743},{"$f":"('2016'!L50/'2016 Rate'!$AA50)*1000","v":20.045766590389015},{"$f":"('2016'!M50/'2016 Rate'!$AA50)*1000","v":10.846681922196797},{"$f":"('2016'!N50/'2016 Rate'!$AA50)*1000","v":17.620137299771166},{"$f":"('2016'!O50/'2016 Rate'!$AA50)*1000","v":6.7734553775743702},{"$f":"('2016'!P50/'2016 Rate'!$AA50)*1000","v":0.13729977116704806},{"$f":"('2016'!Q50/'2016 Rate'!$AA50)*1000","v":2.3798627002288328},{"$f":"('2016'!R50/'2016 Rate'!$AA50)*1000","v":2.2425629290617848},null,{"$f":"('2016'!T50/'2016 Rate'!$AA50)*1000","v":0.59496567505720821},null,null,null,null,null,"Orkney",{"$f":"AA27","v":21850}]
[48,"Shetland",null,{"$f":"('2016'!D51/'2016 Rate'!$AA51)*1000","v":-0.64655172413793105},{"$f":"('2016'!E51/'2016 Rate'!$AA51)*1000","v":0.60344827586206895},{"$f":"('2016'!F51/'2016 Rate'!$AA51)*1000","v":-1.2931034482758621},{"$f":"('2016'!G51/'2016 Rate'!$AA51)*1000","v":4.3103448275862065E-2},{"$f":"('2016'!H51/'2016 Rate'!$AA51)*1000","v":29.137931034482758},{"$f":"('2016'!I51/'2016 Rate'!$AA51)*1000","v":29.784482758620687},{"$f":"('2016'!J51/'2016 Rate'!$AA51)*1000","v":-6.681034482758621},{"$f":"('2016'!K51/'2016 Rate'!$AA51)*1000","v":13.577586206896552},{"$f":"('2016'!L51/'2016 Rate'!$AA51)*1000","v":20.258620689655171},{"$f":"('2016'!M51/'2016 Rate'!$AA51)*1000","v":4.3534482758620685},{"$f":"('2016'!N51/'2016 Rate'!$AA51)*1000","v":11.63793103448276},{"$f":"('2016'!O51/'2016 Rate'!$AA51)*1000","v":7.2844827586206895},{"$f":"('2016'!P51/'2016 Rate'!$AA51)*1000","v":1.6810344827586208},{"$f":"('2016'!Q51/'2016 Rate'!$AA51)*1000","v":3.922413793103448},{"$f":"('2016'!R51/'2016 Rate'!$AA51)*1000","v":2.2413793103448274},null,{"$f":"('2016'!T51/'2016 Rate'!$AA51)*1000","v":1.0344827586206897},null,null,null,null,null,"Shetland",{"$f":"AA31","v":23200}]
[49,"Tayside",null,{"$f":"('2016'!D52/'2016 Rate'!$AA52)*1000","v":3.1458348376537417},{"$f":"('2016'!E52/'2016 Rate'!$AA52)*1000","v":0.79909500084241947},{"$f":"('2016'!F52/'2016 Rate'!$AA52)*1000","v":2.1493729992538571},{"$f":"('2016'!G52/'2016 Rate'!$AA52)*1000","v":0.19736683755746504},{"$f":"('2016'!H52/'2016 Rate'!$AA52)*1000","v":33.24427756516716},{"$f":"('2016'!I52/'2016 Rate'!$AA52)*1000","v":30.098442727513419},{"$f":"('2016'!J52/'2016 Rate'!$AA52)*1000","v":-0.32974703348015499},{"$f":"('2016'!K52/'2016 Rate'!$AA52)*1000","v":19.382867595734954},{"$f":"('2016'!L52/'2016 Rate'!$AA52)*1000","v":19.712614629215107},{"$f":"('2016'!M52/'2016 Rate'!$AA52)*1000","v":0.3586299853178328},{"$f":"('2016'!N52/'2016 Rate'!$AA52)*1000","v":7.3073868149324861},{"$f":"('2016'!O52/'2016 Rate'!$AA52)*1000","v":6.9487568296146538},{"$f":"('2016'!P52/'2016 Rate'!$AA52)*1000","v":3.1169518858160639},{"$f":"('2016'!Q52/'2016 Rate'!$AA52)*1000","v":6.5540231544997232},{"$f":"('2016'!R52/'2016 Rate'!$AA52)*1000","v":3.4370712686836593},null,{"$f":"('2016'!T52/'2016 Rate'!$AA52)*1000","v":1.610224564950538},null,null,null,null,null,"Tayside",{"$f":"AA28+AA7+AA12","v":415470}]
[50,"Western Isles",null,{"$f":"('2016'!D53/'2016 Rate'!$AA53)*1000","v":-2.490706319702602},{"$f":"('2016'!E53/'2016 Rate'!$AA53)*1000","v":0.29739776951672864},{"$f":"('2016'!F53/'2016 Rate'!$AA53)*1000","v":-2.4163568773234201},{"$f":"('2016'!G53/'2016 Rate'!$AA53)*1000","v":-0.37174721189591076},{"$f":"('2016'!H53/'2016 Rate'!$AA53)*1000","v":31.115241635687735},{"$f":"('2016'!I53/'2016 Rate'!$AA53)*1000","v":33.605947955390334},{"$f":"('2016'!J53/'2016 Rate'!$AA53)*1000","v":-4.4609665427509295},{"$f":"('2016'!K53/'2016 Rate'!$AA53)*1000","v":19.851301115241633},{"$f":"('2016'!L53/'2016 Rate'!$AA53)*1000","v":24.312267657992564},{"$f":"('2016'!M53/'2016 Rate'!$AA53)*1000","v":1.2639405204460967},{"$f":"('2016'!N53/'2016 Rate'!$AA53)*1000","v":8.5873605947955394},{"$f":"('2016'!O53/'2016 Rate'!$AA53)*1000","v":7.3234200743494418},{"$f":"('2016'!P53/'2016 Rate'!$AA53)*1000","v":0.70631970260223043},{"$f":"('2016'!Q53/'2016 Rate'!$AA53)*1000","v":2.6765799256505578},{"$f":"('2016'!R53/'2016 Rate'!$AA53)*1000","v":1.9702602230483268},null,{"$f":"('2016'!T53/'2016 Rate'!$AA53)*1000","v":0.96654275092936803},null,null,null,null,null,"Western Isles",{"$f":"AA24","v":26900}]

{"sheet":"2017","index":45,"n_rows":53,"n_cols":25,"rows_kept":53,"cut":false,"hidden":true,"merged":[]}
[null,2017]
[null,null,"Not specified ",{"$f":"'Comparing Indicators'!$U8","v":"Total net migration"},{"$f":"'Comparing Indicators'!$U9","v":"Total net migration for ages 0-15"},{"$f":"'Comparing Indicators'!$U10","v":"Total net migration for ages 16-64"},{"$f":"'Comparing Indicators'!$U11","v":"Total net migration for people aged 65+"},{"$f":"'Comparing Indicators'!$U12","v":"Total in-migration"},{"$f":"'Comparing Indicators'!$U13","v":"Total out-migration"},{"$f":"'Comparing Indicators'!$U14","v":"Within Scotland net migration"},{"$f":"'Comparing Indicators'!$U15","v":"Within Scotland in-migration"},{"$f":"'Comparing Indicators'!$U16","v":"Within Scotland out-migration"},{"$f":"'Comparing Indicators'!$U17","v":"Rest of UK net migration"},{"$f":"'Comparing Indicators'!$U18","v":"Rest of UK in-migration"},{"$f":"'Comparing Indicators'!$U19","v":"Rest of UK out-migration"},{"$f":"'Comparing Indicators'!$U20","v":"Overseas net migration"},{"$f":"'Comparing Indicators'!$U21","v":"Overseas in-migration"},{"$f":"'Comparing Indicators'!$U22","v":"Overseas out-migration"},{"$f":"'Comparing Indicators'!$U23","v":"NINo Allocation"},{"$f":"'Comparing Indicators'!$U24","v":"Births to non-UK mothers"},{"$f":"'Comparing Indicators'!$U25","v":"Pupils from a minority ethnic group"},{"$f":"'Comparing Indicators'!$U26","v":"Pupils with English as an additional language"},{"$f":"'Comparing Indicators'!$U27","v":"Population born outside the UK"},{"$f":"'Comparing Indicators'!$U28","v":"Population with non-British nationality"},{"$f":"'Comparing Indicators'!$U29","v":"Citizenships"}]
[1,"Not specified"]
[2,"SCOTLAND",null,{"$f":"'Total net migration'!O4","v":23855},{"$f":"'Total net migration 0-15'!O4","v":3775},{"$f":"'Total net migration 16-64'!O4","v":19788},{"$f":"'Total net migration 65+'!O4","v":292},{"$f":"'Total in-migration'!O4","v":80468},{"$f":"'Total out-migration'!O4","v":56613},"N/A","N/A","N/A",{"$f":"'Rest of UK net migration'!O4","v":10455},{"$f":"'Rest of UK in-migration'!O4","v":47568},{"$f":"'Rest of UK out-migration'!O4","v":37113},{"$f":"'Overseas net migration'!O4","v":13400},{"$f":"'Overseas in-migration'!O4","v":32900},{"$f":"'Overseas out-migration'!O4","v":19500},{"$f":"NINo!O5","v":40510},{"$f":"'Non-UK Births'!O5","v":9186},{"$f":"'Pupils ethnic group'!P5","v":51160},{"$f":"'Pupils with English as an add.'!M4","v":41524},{"$f":"'Pop born outside UK'!O5","v":477000},{"$f":"'Non-British Population'!O5","v":378000},{"$f":"Citizenships!O5","v":3262}]
[3,"Aberdeen City",null,{"$f":"'Total net migration'!O5","v":-1416},{"$f":"'Total net migration 0-15'!O5","v":-362},{"$f":"'Total net migration 16-64'!O5","v":-1024},{"$f":"'Total net migration 65+'!O5","v":-30},{"$f":"'Total in-migration'!O5","v":11334},{"$f":"'Total out-migration'!O5","v":12750},{"$f":"'Within Scotland net migration'!O5","v":-2222},{"$f":"'Within Scotland in-migration'!O5","v":6074},{"$f":"'Within Scotland out-migration'!O5","v":8296},{"$f":"'Rest of UK net migration'!O5","v":-685},{"$f":"'Rest of UK in-migration'!O5","v":2078},{"$f":"'Rest of UK out-migration'!O5","v":2763},{"$f":"'Overseas net migration'!O5","v":1491},{"$f":"'Overseas in-migration'!O5","v":3182},{"$f":"'Overseas out-migration'!O5","v":1691},{"$f":"NINo!O6","v":3230},{"$f":"'Non-UK Births'!O6","v":885},{"$f":"'Pupils ethnic group'!P6","v":3334},{"$f":"'Pupils with English as an add.'!M5","v":3805},{"$f":"'Pop born outside UK'!O6","v":55000},{"$f":"'Non-British Population'!O6","v":48000},{"$f":"Citizenships!O6","v":400}]
[4,"Aberdeenshire",null,{"$f":"'Total net migration'!O6","v":-688},{"$f":"'Total net migration 0-15'!O6","v":171},{"$f":"'Total net migration 16-64'!O6","v":-846},{"$f":"'Total net migration 65+'!O6","v":-13},{"$f":"'Total in-migration'!O6","v":7222},{"$f":"'Total out-migration'!O6","v":7910},{"$f":"'Within Scotland net migration'!O6","v":-492},{"$f":"'Within Scotland in-migration'!O6","v":5261},{"$f":"'Within Scotland out-migration'!O6","v":5753},{"$f":"'Rest of UK net migration'!O6","v":-407},{"$f":"'Rest of UK in-migration'!O6","v":1203},{"$f":"'Rest of UK out-migration'!O6","v":1610},{"$f":"'Overseas net migration'!O6","v":211},{"$f":"'Overseas in-migration'!O6","v":758},{"$f":"'Overseas out-migration'!O6","v":547},{"$f":"NINo!O7","v":1180},{"$f":"'Non-UK Births'!O7","v":395},{"$f":"'Pupils ethnic group'!P7","v":1202},{"$f":"'Pupils with English as an add.'!M6","v":1719},{"$f":"'Pop born outside UK'!O7","v":21000},{"$f":"'Non-British Population'!O7","v":16000},{"$f":"Citizenships!O7","v":125}]
[5,"Angus",null,{"$f":"'Total net migration'!O7","v":144},{"$f":"'Total net migration 0-15'!O7","v":115},{"$f":"'Total net migration 16-64'!O7","v":-34},{"$f":"'Total net migration 65+'!O7","v":63},{"$f":"'Total in-migration'!O7","v":3788},{"$f":"'Total out-migration'!O7","v":3644},{"$f":"'Within Scotland net migration'!O7","v":86},{"$f":"'Within Scotland in-migration'!O7","v":2876},{"$f":"'Within Scotland out-migration'!O7","v":2790},{"$f":"'Rest of UK net migration'!O7","v":8},{"$f":"'Rest of UK in-migration'!O7","v":608},{"$f":"'Rest of UK out-migration'!O7","v":600},{"$f":"'Overseas net migration'!O7","v":50},{"$f":"'Overseas in-migration'!O7","v":304},{"$f":"'Overseas out-migration'!O7","v":254},{"$f":"NINo!O8","v":1080},{"$f":"'Non-UK Births'!O8","v":121},{"$f":"'Pupils ethnic group'!P8","v":439},{"$f":"'Pupils with English as an add.'!M7","v":563},{"$f":"'Pop born outside UK'!O8","v":7000},{"$f":"'Non-British Population'!O8","v":5000},{"$f":"Citizenships!O8","v":32}]
[6,"Argyll and Bute",null,{"$f":"'Total net migration'!O8","v":137},{"$f":"'Total net migration 0-15'!O8","v":117},{"$f":"'Total net migration 16-64'!O8","v":103},{"$f":"'Total net migration 65+'!O8","v":-83},{"$f":"'Total in-migration'!O8","v":4181},{"$f":"'Total out-migration'!O8","v":4044},{"$f":"'Within Scotland net migration'!O8","v":-432},{"$f":"'Within Scotland in-migration'!O8","v":2372},{"$f":"'Within Scotland out-migration'!O8","v":2804},{"$f":"'Rest of UK net migration'!O8","v":605},{"$f":"'Rest of UK in-migration'!O8","v":1513},{"$f":"'Rest of UK out-migration'!O8","v":908},{"$f":"'Overseas net migration'!O8","v":-36},{"$f":"'Overseas in-migration'!O8","v":296},{"$f":"'Overseas out-migration'!O8","v":332},{"$f":"NINo!O9","v":490},{"$f":"'Non-UK Births'!O9","v":95},{"$f":"'Pupils ethnic group'!P9","v":297},{"$f":"'Pupils with English as an add.'!M8","v":203},{"$f":"'Pop born outside UK'!O9","v":4000},{"$f":"'Non-British Population'!O9","v":2000},{"$f":"Citizenships!O9","v":22}]
[7,"City of Edinburgh",null,{"$f":"'Total net migration'!O9","v":5088},{"$f":"'Total net migration 0-15'!O9","v":-338},{"$f":"'Total net migration 16-64'!O9","v":5466},{"$f":"'Total net migration 65+'!O9","v":-40},{"$f":"'Total in-migration'!O9","v":30210},{"$f":"'Total out-migration'!O9","v":25122},{"$f":"'Within Scotland net migration'!O9","v":-2377},{"$f":"'Within Scotland in-migration'!O9","v":11614},{"$f":"'Within Scotland out-migration'!O9","v":13991},{"$f":"'Rest of UK net migration'!O9","v":2957},{"$f":"'Rest of UK in-migration'!O9","v":10058},{"$f":"'Rest of UK out-migration'!O9","v":7101},{"$f":"'Overseas net migration'!O9","v":4508},{"$f":"'Overseas in-migration'!O9","v":8538},{"$f":"'Overseas out-migration'!O9","v":4030},{"$f":"NINo!O10","v":10200},{"$f":"'Non-UK Births'!O10","v":1837},{"$f":"'Pupils ethnic group'!P10","v":8101},{"$f":"'Pupils with English as an add.'!M9","v":5914},{"$f":"'Pop born outside UK'!O10","v":102000},{"$f":"'Non-British Population'!O10","v":85000},{"$f":"Citizenships!O10","v":786}]
[8,"Clackmannanshire",null,{"$f":"'Total net migration'!O10","v":121},{"$f":"'Total net migration 0-15'!O10","v":46},{"$f":"'Total net migration 16-64'!O10","v":89},{"$f":"'Total net migration 65+'!O10","v":-14},{"$f":"'Total in-migration'!O10","v":1875},{"$f":"'Total out-migration'!O10","v":1754},{"$f":"'Within Scotland net migration'!O10","v":88},{"$f":"'Within Scotland in-migration'!O10","v":1437},{"$f":"'Within Scotland out-migration'!O10","v":1349},{"$f":"'Rest of UK net migration'!O10","v":-6},{"$f":"'Rest of UK in-migration'!O10","v":265},{"$f":"'Rest of UK out-migration'!O10","v":271},{"$f":"'Overseas net migration'!O10","v":39},{"$f":"'Overseas in-migration'!O10","v":173},{"$f":"'Overseas out-migration'!O10","v":134},{"$f":"NINo!O11","v":120},{"$f":"'Non-UK Births'!O11","v":47},{"$f":"'Pupils ethnic group'!P11","v":229},{"$f":"'Pupils with English as an add.'!M10","v":199},{"$f":"'Pop born outside UK'!O11","v":3000},{"$f":"'Non-British Population'!O11","v":1000},{"$f":"Citizenships!O11","v":7}]
[9,"Dumfries and Galloway",null,{"$f":"'Total net migration'!O11","v":322},{"$f":"'Total net migration 0-15'!O11","v":124},{"$f":"'Total net migration 16-64'!O11","v":192},{"$f":"'Total net migration 65+'!O11","v":6},{"$f":"'Total in-migration'!O11","v":4006},{"$f":"'Total out-migration'!O11","v":3684},{"$f":"'Within Scotland net migration'!O11","v":-245},{"$f":"'Within Scotland in-migration'!O11","v":1641},{"$f":"'Within Scotland out-migration'!O11","v":1886},{"$f":"'Rest of UK net migration'!O11","v":684},{"$f":"'Rest of UK in-migration'!O11","v":2126},{"$f":"'Rest of UK out-migration'!O11","v":1442},{"$f":"'Overseas net migration'!O11","v":-117},{"$f":"'Overseas in-migration'!O11","v":239},{"$f":"'Overseas out-migration'!O11","v":356},{"$f":"NINo!O12","v":470},{"$f":"'Non-UK Births'!O12","v":99},{"$f":"'Pupils ethnic group'!P12","v":439},{"$f":"'Pupils with English as an add.'!M11","v":410},{"$f":"'Pop born outside UK'!O12","v":7000},{"$f":"'Non-British Population'!O12","v":4000},{"$f":"Citizenships!O12","v":23}]
[10,"Dundee City",null,{"$f":"'Total net migration'!O12","v":588},{"$f":"'Total net migration 0-15'!O12","v":-82},{"$f":"'Total net migration 16-64'!O12","v":726},{"$f":"'Total net migration 65+'!O12","v":-56},{"$f":"'Total in-migration'!O12","v":6972},{"$f":"'Total out-migration'!O12","v":6384},{"$f":"'Within Scotland net migration'!O12","v":-59},{"$f":"'Within Scotland in-migration'!O12","v":4412},{"$f":"'Within Scotland out-migration'!O12","v":4471},{"$f":"'Rest of UK net migration'!O12","v":251},{"$f":"'Rest of UK in-migration'!O12","v":1379},{"$f":"'Rest of UK out-migration'!O12","v":1128},{"$f":"'Overseas net migration'!O12","v":396},{"$f":"'Overseas in-migration'!O12","v":1181},{"$f":"'Overseas out-migration'!O12","v":785},{"$f":"NINo!O13","v":1120},{"$f":"'Non-UK Births'!O13","v":271},{"$f":"'Pupils ethnic group'!P13","v":1844},{"$f":"'Pupils with English as an add.'!M12","v":1292},{"$f":"'Pop born outside UK'!O13","v":15000},{"$f":"'Non-British Population'!O13","v":14000},{"$f":"Citizenships!O13","v":88}]
[11,"East Ayrshire",null,{"$f":"'Total net migration'!O13","v":18},{"$f":"'Total net migration 0-15'!O13","v":-11},{"$f":"'Total net migration 16-64'!O13","v":32},{"$f":"'Total net migration 65+'!O13","v":-3},{"$f":"'Total in-migration'!O13","v":3349},{"$f":"'Total out-migration'!O13","v":3331},{"$f":"'Within Scotland net migration'!O13","v":-60},{"$f":"'Within Scotland in-migration'!O13","v":2588},{"$f":"'Within Scotland out-migration'!O13","v":2648},{"$f":"'Rest of UK net migration'!O13","v":166},{"$f":"'Rest of UK in-migration'!O13","v":655},{"$f":"'Rest of UK out-migration'!O13","v":489},{"$f":"'Overseas net migration'!O13","v":-88},{"$f":"'Overseas in-migration'!O13","v":106},{"$f":"'Overseas out-migration'!O13","v":194},{"$f":"NINo!O14","v":190},{"$f":"'Non-UK Births'!O14","v":57},{"$f":"'Pupils ethnic group'!P14","v":434},{"$f":"'Pupils with English as an add.'!M13","v":168},{"$f":"'Pop born outside UK'!O14","v":4000},{"$f":"'Non-British Population'!O14","v":2000},{"$f":"Citizenships!O14","v":10}]
[12,"East Dunbartonshire",null,{"$f":"'Total net migration'!O14","v":688},{"$f":"'Total net migration 0-15'!O14","v":485},{"$f":"'Total net migration 16-64'!O14","v":215},{"$f":"'Total net migration 65+'!O14","v":-12},{"$f":"'Total in-migration'!O14","v":4052},{"$f":"'Total out-migration'!O14","v":3364},{"$f":"'Within Scotland net migration'!O14","v":654},{"$f":"'Within Scotland in-migration'!O14","v":3446},{"$f":"'Within Scotland out-migration'!O14","v":2792},{"$f":"'Rest of UK net migration'!O14","v":48},{"$f":"'Rest of UK in-migration'!O14","v":465},{"$f":"'Rest of UK out-migration'!O14","v":417},{"$f":"'Overseas net migration'!O14","v":-14},{"$f":"'Overseas in-migration'!O14","v":141},{"$f":"'Overseas out-migration'!O14","v":155},{"$f":"NINo!O15","v":130},{"$f":"'Non-UK Births'!O15","v":98},{"$f":"'Pupils ethnic group'!P15","v":1487},{"$f":"'Pupils with English as an add.'!M14","v":515},{"$f":"'Pop born outside UK'!O15","v":6000},{"$f":"'Non-British Population'!O15","v":3000},{"$f":"Citizenships!O15","v":33}]
[13,"East Lothian",null,{"$f":"'Total net migration'!O15","v":800},{"$f":"'Total net migration 0-15'!O15","v":195},{"$f":"'Total net migration 16-64'!O15","v":468},{"$f":"'Total net migration 65+'!O15","v":137},{"$f":"'Total in-migration'!O15","v":4157},{"$f":"'Total out-migration'!O15","v":3357},{"$f":"'Within Scotland net migration'!O15","v":547},{"$f":"'Within Scotland in-migration'!O15","v":3027},{"$f":"'Within Scotland out-migration'!O15","v":2480},{"$f":"'Rest of UK net migration'!O15","v":152},{"$f":"'Rest of UK in-migration'!O15","v":785},{"$f":"'Rest of UK out-migration'!O15","v":633},{"$f":"'Overseas net migration'!O15","v":101},{"$f":"'Overseas in-migration'!O15","v":345},{"$f":"'Overseas out-migration'!O15","v":244},{"$f":"NINo!O16","v":560},{"$f":"'Non-UK Births'!O16","v":125},{"$f":"'Pupils ethnic group'!P16","v":428},{"$f":"'Pupils with English as an add.'!M15","v":376},{"$f":"'Pop born outside UK'!O16","v":6000},{"$f":"'Non-British Population'!O16","v":4000},{"$f":"Citizenships!O16","v":34}]
[14,"East Renfrewshire",null,{"$f":"'Total net migration'!O16","v":958},{"$f":"'Total net migration 0-15'!O16","v":659},{"$f":"'Total net migration 16-64'!O16","v":241},{"$f":"'Total net migration 65+'!O16","v":58},{"$f":"'Total in-migration'!O16","v":4021},{"$f":"'Total out-migration'!O16","v":3063},{"$f":"'Within Scotland net migration'!O16","v":909},{"$f":"'Within Scotland in-migration'!O16","v":3449},{"$f":"'Within Scotland out-migration'!O16","v":2540},{"$f":"'Rest of UK net migration'!O16","v":57},{"$f":"'Rest of UK in-migration'!O16","v":444},{"$f":"'Rest of UK out-migration'!O16","v":387},{"$f":"'Overseas net migration'!O16","v":-8},{"$f":"'Overseas in-migration'!O16","v":128},{"$f":"'Overseas out-migration'!O16","v":136},{"$f":"NINo!O17","v":100},{"$f":"'Non-UK Births'!O17","v":100},{"$f":"'Pupils ethnic group'!P17","v":3202},{"$f":"'Pupils with English as an add.'!M16","v":961},{"$f":"'Pop born outside UK'!O17","v":7000},{"$f":"'Non-British Population'!O17","v":4000},{"$f":"Citizenships!O17","v":54}]
[15,"Falkirk",null,{"$f":"'Total net migration'!O17","v":901},{"$f":"'Total net migration 0-15'!O17","v":72},{"$f":"'Total net migration 16-64'!O17","v":781},{"$f":"'Total net migration 65+'!O17","v":48},{"$f":"'Total in-migration'!O17","v":4640},{"$f":"'Total out-migration'!O17","v":3739},{"$f":"'Within Scotland net migration'!O17","v":628},{"$f":"'Within Scotland in-migration'!O17","v":3531},{"$f":"'Within Scotland out-migration'!O17","v":2903},{"$f":"'Rest of UK net migration'!O17","v":172},{"$f":"'Rest of UK in-migration'!O17","v":730},{"$f":"'Rest of UK out-migration'!O17","v":558},{"$f":"'Overseas net migration'!O17","v":101},{"$f":"'Overseas in-migration'!O17","v":379},{"$f":"'Overseas out-migration'!O17","v":278},{"$f":"NINo!O18","v":470},{"$f":"'Non-UK Births'!O18","v":160},{"$f":"'Pupils ethnic group'!P18","v":871},{"$f":"'Pupils with English as an add.'!M17","v":768},{"$f":"'Pop born outside UK'!O18","v":8000},{"$f":"'Non-British Population'!O18","v":6000},{"$f":"Citizenships!O18","v":54}]
[16,"Fife",null,{"$f":"'Total net migration'!O18","v":1524},{"$f":"'Total net migration 0-15'!O18","v":295},{"$f":"'Total net migration 16-64'!O18","v":1176},{"$f":"'Total net migration 65+'!O18","v":53},{"$f":"'Total in-migration'!O18","v":11165},{"$f":"'Total out-migration'!O18","v":9641},{"$f":"'Within Scotland net migration'!O18","v":197},{"$f":"'Within Scotland in-migration'!O18","v":6443},{"$f":"'Within Scotland out-migration'!O18","v":6246},{"$f":"'Rest of UK net migration'!O18","v":656},{"$f":"'Rest of UK in-migration'!O18","v":3042},{"$f":"'Rest of UK out-migration'!O18","v":2386},{"$f":"'Overseas net migration'!O18","v":671},{"$f":"'Overseas in-migration'!O18","v":1680},{"$f":"'Overseas out-migration'!O18","v":1009},{"$f":"NINo!O19","v":1980},{"$f":"'Non-UK Births'!O19","v":445},{"$f":"'Pupils ethnic group'!P19","v":2022},{"$f":"'Pupils with English as an add.'!M18","v":1543},{"$f":"'Pop born outside UK'!O19","v":19000},{"$f":"'Non-British Population'!O19","v":10000},{"$f":"Citizenships!O19","v":119}]
[17,"Glasgow City",null,{"$f":"'Total net migration'!O19","v":5390},{"$f":"'Total net migration 0-15'!O19","v":-533},{"$f":"'Total net migration 16-64'!O19","v":6086},{"$f":"'Total net migration 65+'!O19","v":-163},{"$f":"'Total in-migration'!O19","v":33183},{"$f":"'Total out-migration'!O19","v":27793},{"$f":"'Within Scotland net migration'!O19","v":-1830},{"$f":"'Within Scotland in-migration'!O19","v":16654},{"$f":"'Within Scotland out-migration'!O19","v":18484},{"$f":"'Rest of UK net migration'!O19","v":1826},{"$f":"'Rest of UK in-migration'!O19","v":6824},{"$f":"'Rest of UK out-migration'!O19","v":4998},{"$f":"'Overseas net migration'!O19","v":5394},{"$f":"'Overseas in-migration'!O19","v":9705},{"$f":"'Overseas out-migration'!O19","v":4311},{"$f":"NINo!O20","v":9440},{"$f":"'Non-UK Births'!O20","v":2076},{"$f":"'Pupils ethnic group'!P20","v":14945},{"$f":"'Pupils with English as an add.'!M19","v":13489},{"$f":"'Pop born outside UK'!O20","v":91000},{"$f":"'Non-British Population'!O20","v":76000},{"$f":"Citizenships!O20","v":744}]
[18,"Highland",null,{"$f":"'Total net migration'!O20","v":813},{"$f":"'Total net migration 0-15'!O20","v":100},{"$f":"'Total net migration 16-64'!O20","v":856},{"$f":"'Total net migration 65+'!O20","v":-143},{"$f":"'Total in-migration'!O20","v":7301},{"$f":"'Total out-migration'!O20","v":6488},{"$f":"'Within Scotland net migration'!O20","v":-207},{"$f":"'Within Scotland in-migration'!O20","v":4020},{"$f":"'Within Scotland out-migration'!O20","v":4227},{"$f":"'Rest of UK net migration'!O20","v":932},{"$f":"'Rest of UK in-migration'!O20","v":2551},{"$f":"'Rest of UK out-migration'!O20","v":1619},{"$f":"'Overseas net migration'!O20","v":88},{"$f":"'Overseas in-migration'!O20","v":730},{"$f":"'Overseas out-migration'!O20","v":642},{"$f":"NINo!O21","v":1610},{"$f":"'Non-UK Births'!O21","v":275},{"$f":"'Pupils ethnic group'!P21","v":929},{"$f":"'Pupils with English as an add.'!M20","v":1320},{"$f":"'Pop born outside UK'!O21","v":14000},{"$f":"'Non-British Population'!O21","v":11000},{"$f":"Citizenships!O21","v":82}]
[19,"Inverclyde",null,{"$f":"'Total net migration'!O21","v":10},{"$f":"'Total net migration 0-15'!O21","v":-3},{"$f":"'Total net migration 16-64'!O21","v":-36},{"$f":"'Total net migration 65+'!O21","v":49},{"$f":"'Total in-migration'!O21","v":1518},{"$f":"'Total out-migration'!O21","v":1508},{"$f":"'Within Scotland net migration'!O21","v":-50},{"$f":"'Within Scotland in-migration'!O21","v":1115},{"$f":"'Within Scotland out-migration'!O21","v":1165},{"$f":"'Rest of UK net migration'!O21","v":56},{"$f":"'Rest of UK in-migration'!O21","v":303},{"$f":"'Rest of UK out-migration'!O21","v":247},{"$f":"'Overseas net migration'!O21","v":4},{"$f":"'Overseas in-migration'!O21","v":100},{"$f":"'Overseas out-migration'!O21","v":96},{"$f":"NINo!O22","v":190},{"$f":"'Non-UK Births'!O22","v":27},{"$f":"'Pupils ethnic group'!P22","v":211},{"$f":"'Pupils with English as an add.'!M21","v":57},{"$f":"'Pop born outside UK'!O22","v":1000},{"$f":"'Non-British Population'!O22","v":1000},{"$f":"Citizenships!O22","v":8}]
[20,"Midlothian",null,{"$f":"'Total net migration'!O22","v":1271},{"$f":"'Total net migration 0-15'!O22","v":259},{"$f":"'Total net migration 16-64'!O22","v":994},{"$f":"'Total net migration 65+'!O22","v":18},{"$f":"'Total in-migration'!O22","v":3780},{"$f":"'Total out-migration'!O22","v":2509},{"$f":"'Within Scotland net migration'!O22","v":1121},{"$f":"'Within Scotland in-migration'!O22","v":3190},{"$f":"'Within Scotland out-migration'!O22","v":2069},{"$f":"'Rest of UK net migration'!O22","v":105},{"$f":"'Rest of UK in-migration'!O22","v":431},{"$f":"'Rest of UK out-migration'!O22","v":326},{"$f":"'Overseas net migration'!O22","v":45},{"$f":"'Overseas in-migration'!O22","v":159},{"$f":"'Overseas out-migration'!O22","v":114},{"$f":"NINo!O23","v":220},{"$f":"'Non-UK Births'!O23","v":136},{"$f":"'Pupils ethnic group'!P23","v":594},{"$f":"'Pupils with English as an add.'!M22","v":417},{"$f":"'Pop born outside UK'!O23","v":6000},{"$f":"'Non-British Population'!O23","v":5000},{"$f":"Citizenships!O23","v":55}]
[21,"Moray",null,{"$f":"'Total net migration'!O23","v":3},{"$f":"'Total net migration 0-15'!O23","v":74},{"$f":"'Total net migration 16-64'!O23","v":-105},{"$f":"'Total net migration 65+'!O23","v":34},{"$f":"'Total in-migration'!O23","v":3138},{"$f":"'Total out-migration'!O23","v":3135},{"$f":"'Within Scotland net migration'!O23","v":-56},{"$f":"'Within Scotland in-migration'!O23","v":1803},{"$f":"'Within Scotland out-migration'!O23","v":1859},{"$f":"'Rest of UK net migration'!O23","v":163},{"$f":"'Rest of UK in-migration'!O23","v":1135},{"$f":"'Rest of UK out-migration'!O23","v":972},{"$f":"'Overseas net migration'!O23","v":-104},{"$f":"'Overseas in-migration'!O23","v":200},{"$f":"'Overseas out-migration'!O23","v":304},{"$f":"NINo!O24","v":230},{"$f":"'Non-UK Births'!O24","v":109},{"$f":"'Pupils ethnic group'!P24","v":333},{"$f":"'Pupils with English as an add.'!M23","v":447},{"$f":"'Pop born outside UK'!O24","v":4000},{"$f":"'Non-British Population'!O24","v":4000},{"$f":"Citizenships!O24","v":19}]
[22,"Na h-Eileanan Siar",null,{"$f":"'Total net migration'!O24","v":155},{"$f":"'Total net migration 0-15'!O24","v":86},{"$f":"'Total net migration 16-64'!O24","v":53},{"$f":"'Total net migration 65+'!O24","v":16},{"$f":"'Total in-migration'!O24","v":989},{"$f":"'Total out-migration'!O24","v":834},{"$f":"'Within Scotland net migration'!O24","v":-3},{"$f":"'Within Scotland in-migration'!O24","v":586},{"$f":"'Within Scotland out-migration'!O24","v":589},{"$f":"'Rest of UK net migration'!O24","v":147},{"$f":"'Rest of UK in-migration'!O24","v":339},{"$f":"'Rest of UK out-migration'!O24","v":192},{"$f":"'Overseas net migration'!O24","v":11},{"$f":"'Overseas in-migration'!O24","v":64},{"$f":"'Overseas out-migration'!O24","v":53},{"$f":"NINo!O25","v":80},{"$f":"'Non-UK Births'!O25","v":19},{"$f":"'Pupils ethnic group'!P25","v":68},{"$f":"'Pupils with English as an add.'!M24","v":57},{"$f":"'Pop born outside UK'!O25","v":1000},{"$f":"'Non-British Population'!O25","v":"0~"},{"$f":"Citizenships!O25","v":7}]
[23,"North Ayrshire",null,{"$f":"'Total net migration'!O25","v":352},{"$f":"'Total net migration 0-15'!O25","v":119},{"$f":"'Total net migration 16-64'!O25","v":147},{"$f":"'Total net migration 65+'!O25","v":86},{"$f":"'Total in-migration'!O25","v":3805},{"$f":"'Total out-migration'!O25","v":3453},{"$f":"'Within Scotland net migration'!O25","v":107},{"$f":"'Within Scotland in-migration'!O25","v":2796},{"$f":"'Within Scotland out-migration'!O25","v":2689},{"$f":"'Rest of UK net migration'!O25","v":294},{"$f":"'Rest of UK in-migration'!O25","v":827},{"$f":"'Rest of UK out-migration'!O25","v":533},{"$f":"'Overseas net migration'!O25","v":-49},{"$f":"'Overseas in-migration'!O25","v":182},{"$f":"'Overseas out-migration'!O25","v":231},{"$f":"NINo!O26","v":190},{"$f":"'Non-UK Births'!O26","v":56},{"$f":"'Pupils ethnic group'!P26","v":408},{"$f":"'Pupils with English as an add.'!M25","v":169},{"$f":"'Pop born outside UK'!O26","v":4000},{"$f":"'Non-British Population'!O26","v":2000},{"$f":"Citizenships!O26","v":21}]
[24,"North Lanarkshire",null,{"$f":"'Total net migration'!O26","v":734},{"$f":"'Total net migration 0-15'!O26","v":151},{"$f":"'Total net migration 16-64'!O26","v":592},{"$f":"'Total net migration 65+'!O26","v":-9},{"$f":"'Total in-migration'!O26","v":7692},{"$f":"'Total out-migration'!O26","v":6958},{"$f":"'Within Scotland net migration'!O26","v":566},{"$f":"'Within Scotland in-migration'!O26","v":6023},{"$f":"'Within Scotland out-migration'!O26","v":5457},{"$f":"'Rest of UK net migration'!O26","v":118},{"$f":"'Rest of UK in-migration'!O26","v":1085},{"$f":"'Rest of UK out-migration'!O26","v":967},{"$f":"'Overseas net migration'!O26","v":50},{"$f":"'Overseas in-migration'!O26","v":584},{"$f":"'Overseas out-migration'!O26","v":534},{"$f":"NINo!O27","v":990},{"$f":"'Non-UK Births'!O27","v":285},{"$f":"'Pupils ethnic group'!P27","v":2153},{"$f":"'Pupils with English as an add.'!M26","v":1555},{"$f":"'Pop born outside UK'!O27","v":15000},{"$f":"'Non-British Population'!O27","v":13000},{"$f":"Citizenships!O27","v":62}]
[25,"Orkney Islands",null,{"$f":"'Total net migration'!O27","v":204},{"$f":"'Total net migration 0-15'!O27","v":46},{"$f":"'Total net migration 16-64'!O27","v":121},{"$f":"'Total net migration 65+'!O27","v":37},{"$f":"'Total in-migration'!O27","v":781},{"$f":"'Total out-migration'!O27","v":577},{"$f":"'Within Scotland net migration'!O27","v":37},{"$f":"'Within Scotland in-migration'!O27","v":405},{"$f":"'Within Scotland out-migration'!O27","v":368},{"$f":"'Rest of UK net migration'!O27","v":159},{"$f":"'Rest of UK in-migration'!O27","v":328},{"$f":"'Rest of UK out-migration'!O27","v":169},{"$f":"'Overseas net migration'!O27","v":8},{"$f":"'Overseas in-migration'!O27","v":48},{"$f":"'Overseas out-migration'!O27","v":40},{"$f":"NINo!O28","v":50},{"$f":"'Non-UK Births'!O28","v":11},{"$f":"'Pupils ethnic group'!P28","v":47},{"$f":"'Pupils with English as an add.'!M27","v":29},{"$f":"'Pop born outside UK'!O28","v":1000},{"$f":"'Non-British Population'!O28","v":"0~"},{"$f":"Citizenships!O28","v":8}]
[26,"Perth and Kinross",null,{"$f":"'Total net migration'!O28","v":898},{"$f":"'Total net migration 0-15'!O28","v":430},{"$f":"'Total net migration 16-64'!O28","v":364},{"$f":"'Total net migration 65+'!O28","v":104},{"$f":"'Total in-migration'!O28","v":6171},{"$f":"'Total out-migration'!O28","v":5273},{"$f":"'Within Scotland net migration'!O28","v":264},{"$f":"'Within Scotland in-migration'!O28","v":4100},{"$f":"'Within Scotland out-migration'!O28","v":3836},{"$f":"'Rest of UK net migration'!O28","v":486},{"$f":"'Rest of UK in-migration'!O28","v":1369},{"$f":"'Rest of UK out-migration'!O28","v":883},{"$f":"'Overseas net migration'!O28","v":148},{"$f":"'Overseas in-migration'!O28","v":702},{"$f":"'Overseas out-migration'!O28","v":554},{"$f":"NINo!O29","v":2320},{"$f":"'Non-UK Births'!O29","v":233},{"$f":"'Pupils ethnic group'!P29","v":720},{"$f":"'Pupils with English as an add.'!M28","v":861},{"$f":"'Pop born outside UK'!O29","v":12000},{"$f":"'Non-British Population'!O29","v":9000},{"$f":"Citizenships!O29","v":62}]
[27,"Renfrewshire",null,{"$f":"'Total net migration'!O29","v":1162},{"$f":"'Total net migration 0-15'!O29","v":245},{"$f":"'Total net migration 16-64'!O29","v":894},{"$f":"'Total net migration 65+'!O29","v":23},{"$f":"'Total in-migration'!O29","v":5853},{"$f":"'Total out-migration'!O29","v":4691},{"$f":"'Within Scotland net migration'!O29","v":666},{"$f":"'Within Scotland in-migration'!O29","v":4398},{"$f":"'Within Scotland out-migration'!O29","v":3732},{"$f":"'Rest of UK net migration'!O29","v":211},{"$f":"'Rest of UK in-migration'!O29","v":824},{"$f":"'Rest of UK out-migration'!O29","v":613},{"$f":"'Overseas net migration'!O29","v":285},{"$f":"'Overseas in-migration'!O29","v":631},{"$f":"'Overseas out-migration'!O29","v":346},{"$f":"NINo!O30","v":780},{"$f":"'Non-UK Births'!O30","v":232},{"$f":"'Pupils ethnic group'!P30","v":1201},{"$f":"'Pupils with English as an add.'!M29","v":832},{"$f":"'Pop born outside UK'!O30","v":11000},{"$f":"'Non-British Population'!O30","v":8000},{"$f":"Citizenships!O30","v":71}]
[28,"Scottish Borders",null,{"$f":"'Total net migration'!O30","v":818},{"$f":"'Total net migration 0-15'!O30","v":234},{"$f":"'Total net migration 16-64'!O30","v":566},{"$f":"'Total net migration 65+'!O30","v":18},{"$f":"'Total in-migration'!O30","v":4436},{"$f":"'Total out-migration'!O30","v":3618},{"$f":"'Within Scotland net migration'!O30","v":335},{"$f":"'Within Scotland in-migration'!O30","v":2583},{"$f":"'Within Scotland out-migration'!O30","v":2248},{"$f":"'Rest of UK net migration'!O30","v":466},{"$f":"'Rest of UK in-migration'!O30","v":1596},{"$f":"'Rest of UK out-migration'!O30","v":1130},{"$f":"'Overseas net migration'!O30","v":17},{"$f":"'Overseas in-migration'!O30","v":257},{"$f":"'Overseas out-migration'!O30","v":240},{"$f":"NINo!O31","v":320},{"$f":"'Non-UK Births'!O31","v":109},{"$f":"'Pupils ethnic group'!P31","v":361},{"$f":"'Pupils with English as an add.'!M30","v":492},{"$f":"'Pop born outside UK'!O31","v":9000},{"$f":"'Non-British Population'!O31","v":7000},{"$f":"Citizenships!O31","v":25}]
[29,"Shetland Islands",null,{"$f":"'Total net migration'!O31","v":-133},{"$f":"'Total net migration 0-15'!O31","v":3},{"$f":"'Total net migration 16-64'!O31","v":-133},{"$f":"'Total net migration 65+'!O31","v":-3},{"$f":"'Total in-migration'!O31","v":539},{"$f":"'Total out-migration'!O31","v":672},{"$f":"'Within Scotland net migration'!O31","v":-122},{"$f":"'Within Scotland in-migration'!O31","v":294},{"$f":"'Within Scotland out-migration'!O31","v":416},{"$f":"'Rest of UK net migration'!O31","v":7},{"$f":"'Rest of UK in-migration'!O31","v":192},{"$f":"'Rest of UK out-migration'!O31","v":185},{"$f":"'Overseas net migration'!O31","v":-18},{"$f":"'Overseas in-migration'!O31","v":53},{"$f":"'Overseas out-migration'!O31","v":71},{"$f":"NINo!O32","v":110},{"$f":"'Non-UK Births'!O32","v":23},{"$f":"'Pupils ethnic group'!P32","v":100},{"$f":"'Pupils with English as an add.'!M31","v":58},{"$f":"'Pop born outside UK'!O32","v":1000},{"$f":"'Non-British Population'!O32","v":1000},{"$f":"Citizenships!O32","v":7}]
[30,"South Ayrshire",null,{"$f":"'Total net migration'!O32","v":690},{"$f":"'Total net migration 0-15'!O32","v":180},{"$f":"'Total net migration 16-64'!O32","v":372},{"$f":"'Total net migration 65+'!O32","v":138},{"$f":"'Total in-migration'!O32","v":3867},{"$f":"'Total out-migration'!O32","v":3177},{"$f":"'Within Scotland net migration'!O32","v":405},{"$f":"'Within Scotland in-migration'!O32","v":2799},{"$f":"'Within Scotland out-migration'!O32","v":2394},{"$f":"'Rest of UK net migration'!O32","v":281},{"$f":"'Rest of UK in-migration'!O32","v":817},{"$f":"'Rest of UK out-migration'!O32","v":536},{"$f":"'Overseas net migration'!O32","v":4},{"$f":"'Overseas in-migration'!O32","v":251},{"$f":"'Overseas out-migration'!O32","v":247},{"$f":"NINo!O33","v":330},{"$f":"'Non-UK Births'!O33","v":65},{"$f":"'Pupils ethnic group'!P33","v":362},{"$f":"'Pupils with English as an add.'!M32","v":209},{"$f":"'Pop born outside UK'!O33","v":5000},{"$f":"'Non-British Population'!O33","v":4000},{"$f":"Citizenships!O33","v":36}]
[31,"South Lanarkshire",null,{"$f":"'Total net migration'!O33","v":1278},{"$f":"'Total net migration 0-15'!O33","v":390},{"$f":"'Total net migration 16-64'!O33","v":897},{"$f":"'Total net migration 65+'!O33","v":-9},{"$f":"'Total in-migration'!O33","v":9129},{"$f":"'Total out-migration'!O33","v":7851},{"$f":"'Within Scotland net migration'!O33","v":1202},{"$f":"'Within Scotland in-migration'!O33","v":7225},{"$f":"'Within Scotland out-migration'!O33","v":6023},{"$f":"'Rest of UK net migration'!O33","v":95},{"$f":"'Rest of UK in-migration'!O33","v":1381},{"$f":"'Rest of UK out-migration'!O33","v":1286},{"$f":"'Overseas net migration'!O33","v":-19},{"$f":"'Overseas in-migration'!O33","v":523},{"$f":"'Overseas out-migration'!O33","v":542},{"$f":"NINo!O34","v":740},{"$f":"'Non-UK Births'!O34","v":258},{"$f":"'Pupils ethnic group'!P34","v":2024},{"$f":"'Pupils with English as an add.'!M33","v":912},{"$f":"'Pop born outside UK'!O34","v":10000},{"$f":"'Non-British Population'!O34","v":8000},{"$f":"Citizenships!O34","v":111}]
[32,"Stirling",null,{"$f":"'Total net migration'!O34","v":335},{"$f":"'Total net migration 0-15'!O34","v":227},{"$f":"'Total net migration 16-64'!O34","v":130},{"$f":"'Total net migration 65+'!O34","v":-22},{"$f":"'Total in-migration'!O34","v":5076},{"$f":"'Total out-migration'!O34","v":4741},{"$f":"'Within Scotland net migration'!O34","v":39},{"$f":"'Within Scotland in-migration'!O34","v":3424},{"$f":"'Within Scotland out-migration'!O34","v":3385},{"$f":"'Rest of UK net migration'!O34","v":298},{"$f":"'Rest of UK in-migration'!O34","v":1049},{"$f":"'Rest of UK out-migration'!O34","v":751},{"$f":"'Overseas net migration'!O34","v":-2},{"$f":"'Overseas in-migration'!O34","v":603},{"$f":"'Overseas out-migration'!O34","v":605},{"$f":"NINo!O35","v":700},{"$f":"'Non-UK Births'!O35","v":109},{"$f":"'Pupils ethnic group'!P35","v":498},{"$f":"'Pupils with English as an add.'!M34","v":339},{"$f":"'Pop born outside UK'!O35","v":7000},{"$f":"'Non-British Population'!O35","v":5000},{"$f":"Citizenships!O35","v":32}]
[33,"West Dunbartonshire",null,{"$f":"'Total net migration'!O35","v":-96},{"$f":"'Total net migration 0-15'!O35","v":-1},{"$f":"'Total net migration 16-64'!O35","v":-70},{"$f":"'Total net migration 65+'!O35","v":-25},{"$f":"'Total in-migration'!O35","v":2328},{"$f":"'Total out-migration'!O35","v":2424},{"$f":"'Within Scotland net migration'!O35","v":-208},{"$f":"'Within Scotland in-migration'!O35","v":1832},{"$f":"'Within Scotland out-migration'!O35","v":2040},{"$f":"'Rest of UK net migration'!O35","v":87},{"$f":"'Rest of UK in-migration'!O35","v":361},{"$f":"'Rest of UK out-migration'!O35","v":274},{"$f":"'Overseas net migration'!O35","v":25},{"$f":"'Overseas in-migration'!O35","v":135},{"$f":"'Overseas out-migration'!O35","v":110},{"$f":"NINo!O36","v":130},{"$f":"'Non-UK Births'!O36","v":66},{"$f":"'Pupils ethnic group'!P36","v":391},{"$f":"'Pupils with English as an add.'!M35","v":294},{"$f":"'Pop born outside UK'!O36","v":4000},{"$f":"'Non-British Population'!O36","v":3000},{"$f":"Citizenships!O36","v":23}]
[34,"West Lothian",null,{"$f":"'Total net migration'!O36","v":786},{"$f":"'Total net migration 0-15'!O36","v":282},{"$f":"'Total net migration 16-64'!O36","v":475},{"$f":"'Total net migration 65+'!O36","v":29},{"$f":"'Total in-migration'!O36","v":5327},{"$f":"'Total out-migration'!O36","v":4541},{"$f":"'Within Scotland net migration'!O36","v":512},{"$f":"'Within Scotland in-migration'!O36","v":3999},{"$f":"'Within Scotland out-migration'!O36","v":3487},{"$f":"'Rest of UK net migration'!O36","v":66},{"$f":"'Rest of UK in-migration'!O36","v":805},{"$f":"'Rest of UK out-migration'!O36","v":739},{"$f":"'Overseas net migration'!O36","v":208},{"$f":"'Overseas in-migration'!O36","v":523},{"$f":"'Overseas out-migration'!O36","v":315},{"$f":"NINo!O37","v":780},{"$f":"'Non-UK Births'!O37","v":362},{"$f":"'Pupils ethnic group'!P37","v":1486},{"$f":"'Pupils with English as an add.'!M36","v":1539},{"$f":"'Pop born outside UK'!O37","v":17000},{"$f":"'Non-British Population'!O37","v":16000},{"$f":"Citizenships!O37","v":102}]
[null,null,null,null,null,{"$f":"'Total net migration 16-64'!O37","v":0},{"$f":"'Total net migration 65+'!O37","v":0},{"$f":"'Total in-migration'!O37","v":0},{"$f":"'Total out-migration'!O37","v":0},{"$f":"'Within Scotland net migration'!O37","v":0},{"$f":"'Within Scotland in-migration'!O37","v":0},{"$f":"'Within Scotland out-migration'!O37","v":0},{"$f":"'Rest of UK net migration'!O37","v":0},{"$f":"'Rest of UK in-migration'!O37","v":0},{"$f":"'Rest of UK out-migration'!O37","v":0},{"$f":"'Overseas net migration'!O37","v":0},{"$f":"'Overseas in-migration'!O37","v":0},{"$f":"'Overseas out-migration'!O37","v":0},{"$f":"NINo!P38","v":0},{"$f":"'Non-UK Births'!O38","v":0}]
[35,"Not specified",null,null,null,{"$f":"'Total net migration 16-64'!O38","v":0},{"$f":"'Total net migration 65+'!O38","v":0},{"$f":"'Total in-migration'!O38","v":0},{"$f":"'Total out-migration'!O38","v":0},{"$f":"'Within Scotland net migration'!O38","v":0},{"$f":"'Within Scotland in-migration'!O38","v":0},{"$f":"'Within Scotland out-migration'!O38","v":0},{"$f":"'Rest of UK net migration'!O38","v":0},{"$f":"'Rest of UK in-migration'!O38","v":0},{"$f":"'Rest of UK out-migration'!O38","v":0},{"$f":"'Overseas net migration'!O38","v":0},{"$f":"'Overseas in-migration'!O38","v":0},{"$f":"'Overseas out-migration'!O38","v":0},{"$f":"NINo!P39","v":0},{"$f":"'Non-UK Births'!O39","v":0}]
[36,"SCOTLAND",null,{"$f":"'Total net migration'!O39","v":23855},{"$f":"'Total net migration 0-15'!O39","v":3775},{"$f":"'Total net migration 16-64'!O39","v":19788},{"$f":"'Total net migration 65+'!O39","v":292},{"$f":"'Total in-migration'!O39","v":80468},{"$f":"'Total out-migration'!O39","v":56613},null,null,null,{"$f":"'Rest of UK net migration'!O39","v":10455},{"$f":"'Rest of UK in-migration'!O39","v":47568},{"$f":"'Rest of UK out-migration'!O39","v":37113},{"$f":"'Overseas net migration'!O39","v":13400},{"$f":"'Overseas in-migration'!O39","v":32900},{"$f":"'Overseas out-migration'!O39","v":19500},{"$f":"NINo!P40","v":0},{"$f":"'Non-UK Births'!O40","v":9186}]
[37,"Ayrshire and Arran",null,{"$f":"'Total net migration'!O40","v":1060},{"$f":"'Total net migration 0-15'!O40","v":288},{"$f":"'Total net migration 16-64'!O40","v":551},{"$f":"'Total net migration 65+'!O40","v":221},{"$f":"'Total in-migration'!O40","v":8304},{"$f":"'Total out-migration'!O40","v":7244},{"$f":"'Within Scotland net migration'!O40","v":452},{"$f":"'Within Scotland in-migration'!O40","v":5466},{"$f":"'Within Scotland out-migration'!O40","v":5014},{"$f":"'Rest of UK net migration'!O40","v":741},{"$f":"'Rest of UK in-migration'!O40","v":2299},{"$f":"'Rest of UK out-migration'!O40","v":1558},{"$f":"'Overseas net migration'!O40","v":-133},{"$f":"'Overseas in-migration'!O40","v":539},{"$f":"'Overseas out-migration'!O40","v":672},{"$f":"NINo!P41","v":0},{"$f":"'Non-UK Births'!O41","v":178}]
[38,"Borders",null,{"$f":"'Total net migration'!O41","v":818},{"$f":"'Total net migration 0-15'!O41","v":234},{"$f":"'Total net migration 16-64'!O41","v":566},{"$f":"'Total net migration 65+'!O41","v":18},{"$f":"'Total in-migration'!O41","v":4436},{"$f":"'Total out-migration'!O41","v":3618},{"$f":"'Within Scotland net migration'!O41","v":335},{"$f":"'Within Scotland in-migration'!O41","v":2583},{"$f":"'Within Scotland out-migration'!O41","v":2248},{"$f":"'Rest of UK net migration'!O41","v":466},{"$f":"'Rest of UK in-migration'!O41","v":1596},{"$f":"'Rest of UK out-migration'!O41","v":1130},{"$f":"'Overseas net migration'!O41","v":17},{"$f":"'Overseas in-migration'!O41","v":257},{"$f":"'Overseas out-migration'!O41","v":240},{"$f":"NINo!P42","v":0},{"$f":"'Non-UK Births'!O42","v":109}]
[39,"Dumfries and Galloway",null,{"$f":"'Total net migration'!O42","v":322},{"$f":"'Total net migration 0-15'!O42","v":124},{"$f":"'Total net migration 16-64'!O42","v":192},{"$f":"'Total net migration 65+'!O42","v":6},{"$f":"'Total in-migration'!O42","v":4006},{"$f":"'Total out-migration'!O42","v":3684},{"$f":"'Within Scotland net migration'!O42","v":-245},{"$f":"'Within Scotland in-migration'!O42","v":1641},{"$f":"'Within Scotland out-migration'!O42","v":1886},{"$f":"'Rest of UK net migration'!O42","v":684},{"$f":"'Rest of UK in-migration'!O42","v":2126},{"$f":"'Rest of UK out-migration'!O42","v":1442},{"$f":"'Overseas net migration'!O42","v":-117},{"$f":"'Overseas in-migration'!O42","v":239},{"$f":"'Overseas out-migration'!O42","v":356},{"$f":"NINo!P43","v":0},{"$f":"'Non-UK Births'!O43","v":99}]
[40,"Fife",null,{"$f":"'Total net migration'!O43","v":1524},{"$f":"'Total net migration 0-15'!O43","v":295},{"$f":"'Total net migration 16-64'!O43","v":1176},{"$f":"'Total net migration 65+'!O43","v":53},{"$f":"'Total in-migration'!O43","v":11165},{"$f":"'Total out-migration'!O43","v":9641},{"$f":"'Within Scotland net migration'!O43","v":197},{"$f":"'Within Scotland in-migration'!O43","v":6443},{"$f":"'Within Scotland out-migration'!O43","v":6246},{"$f":"'Rest of UK net migration'!O43","v":656},{"$f":"'Rest of UK in-migration'!O43","v":3042},{"$f":"'Rest of UK out-migration'!O43","v":2386},{"$f":"'Overseas net migration'!O43","v":671},{"$f":"'Overseas in-migration'!O43","v":1680},{"$f":"'Overseas out-migration'!O43","v":1009},{"$f":"NINo!P44","v":0},{"$f":"'Non-UK Births'!O44","v":445}]
[41,"Forth Valley",null,{"$f":"'Total net migration'!O44","v":1357},{"$f":"'Total net migration 0-15'!O44","v":345},{"$f":"'Total net migration 16-64'!O44","v":1000},{"$f":"'Total net migration 65+'!O44","v":12},{"$f":"'Total in-migration'!O44","v":9948},{"$f":"'Total out-migration'!O44","v":8591},{"$f":"'Within Scotland net migration'!O44","v":755},{"$f":"'Within Scotland in-migration'!O44","v":6749},{"$f":"'Within Scotland out-migration'!O44","v":5994},{"$f":"'Rest of UK net migration'!O44","v":464},{"$f":"'Rest of UK in-migration'!O44","v":2044},{"$f":"'Rest of UK out-migration'!O44","v":1580},{"$f":"'Overseas net migration'!O44","v":138},{"$f":"'Overseas in-migration'!O44","v":1155},{"$f":"'Overseas out-migration'!O44","v":1017},{"$f":"NINo!P45","v":0},{"$f":"'Non-UK Births'!O45","v":316}]
[42,"Grampian",null,{"$f":"'Total net migration'!O45","v":-2101},{"$f":"'Total net migration 0-15'!O45","v":-117},{"$f":"'Total net migration 16-64'!O45","v":-1975},{"$f":"'Total net migration 65+'!O45","v":-9},{"$f":"'Total in-migration'!O45","v":15213},{"$f":"'Total out-migration'!O45","v":17314},{"$f":"'Within Scotland net migration'!O45","v":-2770},{"$f":"'Within Scotland in-migration'!O45","v":6657},{"$f":"'Within Scotland out-migration'!O45","v":9427},{"$f":"'Rest of UK net migration'!O45","v":-929},{"$f":"'Rest of UK in-migration'!O45","v":4416},{"$f":"'Rest of UK out-migration'!O45","v":5345},{"$f":"'Overseas net migration'!O45","v":1598},{"$f":"'Overseas in-migration'!O45","v":4140},{"$f":"'Overseas out-migration'!O45","v":2542},{"$f":"NINo!P46","v":0},{"$f":"'Non-UK Births'!O46","v":1389}]
[43,"Greater Glasgow and Clyde",null,{"$f":"'Total net migration'!O46","v":8112},{"$f":"'Total net migration 0-15'!O46","v":852},{"$f":"'Total net migration 16-64'!O46","v":7330},{"$f":"'Total net migration 65+'!O46","v":-70},{"$f":"'Total in-migration'!O46","v":38201},{"$f":"'Total out-migration'!O46","v":30089},{"$f":"'Within Scotland net migration'!O46","v":141},{"$f":"'Within Scotland in-migration'!O46","v":18140},{"$f":"'Within Scotland out-migration'!O46","v":17999},{"$f":"'Rest of UK net migration'!O46","v":2285},{"$f":"'Rest of UK in-migration'!O46","v":9221},{"$f":"'Rest of UK out-migration'!O46","v":6936},{"$f":"'Overseas net migration'!O46","v":5686},{"$f":"'Overseas in-migration'!O46","v":10840},{"$f":"'Overseas out-migration'!O46","v":5154},{"$f":"NINo!P47","v":0},{"$f":"'Non-UK Births'!O47","v":2599}]
[44,"Highland",null,{"$f":"'Total net migration'!O47","v":950},{"$f":"'Total net migration 0-15'!O47","v":217},{"$f":"'Total net migration 16-64'!O47","v":959},{"$f":"'Total net migration 65+'!O47","v":-226},{"$f":"'Total in-migration'!O47","v":11158},{"$f":"'Total out-migration'!O47","v":10208},{"$f":"'Within Scotland net migration'!O47","v":-639},{"$f":"'Within Scotland in-migration'!O47","v":6068},{"$f":"'Within Scotland out-migration'!O47","v":6707},{"$f":"'Rest of UK net migration'!O47","v":1537},{"$f":"'Rest of UK in-migration'!O47","v":4064},{"$f":"'Rest of UK out-migration'!O47","v":2527},{"$f":"'Overseas net migration'!O47","v":52},{"$f":"'Overseas in-migration'!O47","v":1026},{"$f":"'Overseas out-migration'!O47","v":974},{"$f":"NINo!P48","v":0},{"$f":"'Non-UK Births'!O48","v":370}]
[45,"Lanarkshire",null,{"$f":"'Total net migration'!O48","v":2012},{"$f":"'Total net migration 0-15'!O48","v":541},{"$f":"'Total net migration 16-64'!O48","v":1489},{"$f":"'Total net migration 65+'!O48","v":-18},{"$f":"'Total in-migration'!O48","v":14417},{"$f":"'Total out-migration'!O48","v":12405},{"$f":"'Within Scotland net migration'!O48","v":1768},{"$f":"'Within Scotland in-migration'!O48","v":10844},{"$f":"'Within Scotland out-migration'!O48","v":9076},{"$f":"'Rest of UK net migration'!O48","v":213},{"$f":"'Rest of UK in-migration'!O48","v":2466},{"$f":"'Rest of UK out-migration'!O48","v":2253},{"$f":"'Overseas net migration'!O48","v":31},{"$f":"'Overseas in-migration'!O48","v":1107},{"$f":"'Overseas out-migration'!O48","v":1076},{"$f":"NINo!P49","v":0},{"$f":"'Non-UK Births'!O49","v":543}]
[46,"Lothian",null,{"$f":"'Total net migration'!O49","v":7945},{"$f":"'Total net migration 0-15'!O49","v":398},{"$f":"'Total net migration 16-64'!O49","v":7403},{"$f":"'Total net migration 65+'!O49","v":144},{"$f":"'Total in-migration'!O49","v":34834},{"$f":"'Total out-migration'!O49","v":26889},{"$f":"'Within Scotland net migration'!O49","v":-197},{"$f":"'Within Scotland in-migration'!O49","v":13190},{"$f":"'Within Scotland out-migration'!O49","v":13387},{"$f":"'Rest of UK net migration'!O49","v":3280},{"$f":"'Rest of UK in-migration'!O49","v":12079},{"$f":"'Rest of UK out-migration'!O49","v":8799},{"$f":"'Overseas net migration'!O49","v":4862},{"$f":"'Overseas in-migration'!O49","v":9565},{"$f":"'Overseas out-migration'!O49","v":4703},{"$f":"NINo!P50","v":0},{"$f":"'Non-UK Births'!O50","v":2460}]
[47,"Orkney",null,{"$f":"'Total net migration'!O50","v":204},{"$f":"'Total net migration 0-15'!O50","v":46},{"$f":"'Total net migration 16-64'!O50","v":121},{"$f":"'Total net migration 65+'!O50","v":37},{"$f":"'Total in-migration'!O50","v":781},{"$f":"'Total out-migration'!O50","v":577},{"$f":"'Within Scotland net migration'!O50","v":37},{"$f":"'Within Scotland in-migration'!O50","v":405},{"$f":"'Within Scotland out-migration'!O50","v":368},{"$f":"'Rest of UK net migration'!O50","v":159},{"$f":"'Rest of UK in-migration'!O50","v":328},{"$f":"'Rest of UK out-migration'!O50","v":169},{"$f":"'Overseas net migration'!O50","v":8},{"$f":"'Overseas in-migration'!O50","v":48},{"$f":"'Overseas out-migration'!O50","v":40},{"$f":"NINo!P51","v":0},{"$f":"'Non-UK Births'!O51","v":11}]
[48,"Shetland",null,{"$f":"'Total net migration'!O51","v":-133},{"$f":"'Total net migration 0-15'!O51","v":3},{"$f":"'Total net migration 16-64'!O51","v":-133},{"$f":"'Total net migration 65+'!O51","v":-3},{"$f":"'Total in-migration'!O51","v":539},{"$f":"'Total out-migration'!O51","v":672},{"$f":"'Within Scotland net migration'!O51","v":-122},{"$f":"'Within Scotland in-migration'!O51","v":294},{"$f":"'Within Scotland out-migration'!O51","v":416},{"$f":"'Rest of UK net migration'!O51","v":7},{"$f":"'Rest of UK in-migration'!O51","v":192},{"$f":"'Rest of UK out-migration'!O51","v":185},{"$f":"'Overseas net migration'!O51","v":-18},{"$f":"'Overseas in-migration'!O51","v":53},{"$f":"'Overseas out-migration'!O51","v":71},{"$f":"NINo!P52","v":0},{"$f":"'Non-UK Births'!O52","v":23}]
[49,"Tayside",null,{"$f":"'Total net migration'!O52","v":1630},{"$f":"'Total net migration 0-15'!O52","v":463},{"$f":"'Total net migration 16-64'!O52","v":1056},{"$f":"'Total net migration 65+'!O52","v":111},{"$f":"'Total in-migration'!O52","v":13712},{"$f":"'Total out-migration'!O52","v":12082},{"$f":"'Within Scotland net migration'!O52","v":291},{"$f":"'Within Scotland in-migration'!O52","v":8169},{"$f":"'Within Scotland out-migration'!O52","v":7878},{"$f":"'Rest of UK net migration'!O52","v":745},{"$f":"'Rest of UK in-migration'!O52","v":3356},{"$f":"'Rest of UK out-migration'!O52","v":2611},{"$f":"'Overseas net migration'!O52","v":594},{"$f":"'Overseas in-migration'!O52","v":2187},{"$f":"'Overseas out-migration'!O52","v":1593},{"$f":"NINo!P53","v":0},{"$f":"'Non-UK Births'!O53","v":625}]
[50,"Western Isles",null,{"$f":"'Total net migration'!O53","v":155},{"$f":"'Total net migration 0-15'!O53","v":86},{"$f":"'Total net migration 16-64'!O53","v":53},{"$f":"'Total net migration 65+'!O53","v":16},{"$f":"'Total in-migration'!O53","v":989},{"$f":"'Total out-migration'!O53","v":834},{"$f":"'Within Scotland net migration'!O53","v":-3},{"$f":"'Within Scotland in-migration'!O53","v":586},{"$f":"'Within Scotland out-migration'!O53","v":589},{"$f":"'Rest of UK net migration'!O53","v":147},{"$f":"'Rest of UK in-migration'!O53","v":339},{"$f":"'Rest of UK out-migration'!O53","v":192},{"$f":"'Overseas net migration'!O53","v":11},{"$f":"'Overseas in-migration'!O53","v":64},{"$f":"'Overseas out-migration'!O53","v":53},{"$f":"NINo!P54","v":0},{"$f":"'Non-UK Births'!O54","v":19}]

{"sheet":"2017 Rate","index":46,"n_rows":53,"n_cols":27,"rows_kept":53,"cut":false,"hidden":true,"merged":[]}
[null,2017,"RATE"]
[null,null,"Not specified ",{"$f":"'Comparing Indicators'!$U8","v":"Total net migration"},{"$f":"'Comparing Indicators'!$U9","v":"Total net migration for ages 0-15"},{"$f":"'Comparing Indicators'!$U10","v":"Total net migration for ages 16-64"},{"$f":"'Comparing Indicators'!$U11","v":"Total net migration for people aged 65+"},{"$f":"'Comparing Indicators'!$U12","v":"Total in-migration"},{"$f":"'Comparing Indicators'!$U13","v":"Total out-migration"},{"$f":"'Comparing Indicators'!$U14","v":"Within Scotland net migration"},{"$f":"'Comparing Indicators'!$U15","v":"Within Scotland in-migration"},{"$f":"'Comparing Indicators'!$U16","v":"Within Scotland out-migration"},{"$f":"'Comparing Indicators'!$U17","v":"Rest of UK net migration"},{"$f":"'Comparing Indicators'!$U18","v":"Rest of UK in-migration"},{"$f":"'Comparing Indicators'!$U19","v":"Rest of UK out-migration"},{"$f":"'Comparing Indicators'!$U20","v":"Overseas net migration"},{"$f":"'Comparing Indicators'!$U21","v":"Overseas in-migration"},{"$f":"'Comparing Indicators'!$U22","v":"Overseas out-migration"},{"$f":"'Comparing Indicators'!$U23","v":"NINo Allocation"},{"$f":"'Comparing Indicators'!$U24","v":"Births to non-UK mothers"},{"$f":"'Comparing Indicators'!$U25","v":"Pupils from a minority ethnic group"},{"$f":"'Comparing Indicators'!$U26","v":"Pupils with English as an additional language"},{"$f":"'Comparing Indicators'!$U27","v":"Population born outside the UK"},{"$f":"'Comparing Indicators'!$U28","v":"Population with non-British nationality"},{"$f":"'Comparing Indicators'!$U29","v":"Citizenships"},null,"Mid-year population estimate"]
[1,"Not specified"]
[2,"SCOTLAND",null,{"$f":"('2017'!D4/'2017 Rate'!$AA4)*1000","v":4.3973971390650348},{"$f":"('2017'!E4/'2017 Rate'!$AA4)*1000","v":0.69587818905766119},{"$f":"('2017'!F4/'2017 Rate'!$AA4)*1000","v":3.6476920808140392},{"$f":"('2017'!G4/'2017 Rate'!$AA4)*1000","v":5.3826869193334313E-2},{"$f":"('2017'!H4/'2017 Rate'!$AA4)*1000","v":14.833357911812417},{"$f":"('2017'!I4/'2017 Rate'!$AA4)*1000","v":10.435960772747382},"N/A","N/A","N/A",{"$f":"('2017'!M4/'2017 Rate'!$AA4)*1000","v":1.9272599911517474},{"$f":"('2017'!N4/'2017 Rate'!$AA4)*1000","v":8.7686181979059121},{"$f":"('2017'!O4/'2017 Rate'!$AA4)*1000","v":6.8413582067541663},{"$f":"('2017'!P4/'2017 Rate'!$AA4)*1000","v":2.4701371479132868},{"$f":"('2017'!Q4/'2017 Rate'!$AA4)*1000","v":6.064739713906504},{"$f":"('2017'!R4/'2017 Rate'!$AA4)*1000","v":3.5946025659932164},{"$f":"('2017'!S4/'2017 Rate'!$AA4)*1000","v":7.4675564076094965},{"$f":"('2017'!T4/'2017 Rate'!$AA4)*1000","v":1.6933343164724968},{"$f":"('2017'!U4/'2017 Rate'!$AA4)*1000","v":9.430762424421177},{"$f":"('2017'!V4/'2017 Rate'!$AA4)*1000","v":7.6544757410411446},null,null,{"$f":"('2017'!Y4/'2017 Rate'!$AA4)*1000","v":0.60131249078307036},"Scotland",5424800]
[3,"Aberdeen City",null,{"$f":"('2017'!D5/'2017 Rate'!$AA5)*1000","v":-6.1888111888111883},{"$f":"('2017'!E5/'2017 Rate'!$AA5)*1000","v":-1.5821678321678323},{"$f":"('2017'!F5/'2017 Rate'!$AA5)*1000","v":-4.4755244755244759},{"$f":"('2017'!G5/'2017 Rate'!$AA5)*1000","v":-0.13111888111888112},{"$f":"('2017'!H5/'2017 Rate'!$AA5)*1000","v":49.536713286713287},{"$f":"('2017'!I5/'2017 Rate'!$AA5)*1000","v":55.725524475524473},{"$f":"('2017'!J5/'2017 Rate'!$AA5)*1000","v":-9.7115384615384599},{"$f":"('2017'!K5/'2017 Rate'!$AA5)*1000","v":26.547202797202797},{"$f":"('2017'!L5/'2017 Rate'!$AA5)*1000","v":36.25874125874126},{"$f":"('2017'!M5/'2017 Rate'!$AA5)*1000","v":-2.9938811188811187},{"$f":"('2017'!N5/'2017 Rate'!$AA5)*1000","v":9.0821678321678316},{"$f":"('2017'!O5/'2017 Rate'!$AA5)*1000","v":12.07604895104895},{"$f":"('2017'!P5/'2017 Rate'!$AA5)*1000","v":6.5166083916083917},{"$f":"('2017'!Q5/'2017 Rate'!$AA5)*1000","v":13.907342657342657},{"$f":"('2017'!R5/'2017 Rate'!$AA5)*1000","v":7.3907342657342658},{"$f":"('2017'!S5/'2017 Rate'!$AA5)*1000","v":14.117132867132867},{"$f":"('2017'!T5/'2017 Rate'!$AA5)*1000","v":3.8680069930069929},{"$f":"('2017'!U5/'2017 Rate'!$AA5)*1000","v":14.571678321678322},{"$f":"('2017'!V5/'2017 Rate'!$AA5)*1000","v":16.630244755244753},null,null,{"$f":"('2017'!Y5/'2017 Rate'!$AA5)*1000","v":1.7482517482517483},"Aberdeen City",228800]
[4,"Aberdeenshire",null,{"$f":"('2017'!D6/'2017 Rate'!$AA6)*1000","v":-2.6279602750190985},{"$f":"('2017'!E6/'2017 Rate'!$AA6)*1000","v":0.65317035905271192},{"$f":"('2017'!F6/'2017 Rate'!$AA6)*1000","v":-3.231474407944996},{"$f":"('2017'!G6/'2017 Rate'!$AA6)*1000","v":-4.9656226126814362E-2},{"$f":"('2017'!H6/'2017 Rate'!$AA6)*1000","v":27.58594346829641},{"$f":"('2017'!I6/'2017 Rate'!$AA6)*1000","v":30.213903743315505},{"$f":"('2017'!J6/'2017 Rate'!$AA6)*1000","v":-1.8792971734148205},{"$f":"('2017'!K6/'2017 Rate'!$AA6)*1000","v":20.095492742551563},{"$f":"('2017'!L6/'2017 Rate'!$AA6)*1000","v":21.974789915966387},{"$f":"('2017'!M6/'2017 Rate'!$AA6)*1000","v":-1.5546218487394958},{"$f":"('2017'!N6/'2017 Rate'!$AA6)*1000","v":4.5951107715813597},{"$f":"('2017'!O6/'2017 Rate'!$AA6)*1000","v":6.1497326203208553},{"$f":"('2017'!P6/'2017 Rate'!$AA6)*1000","v":0.80595874713521765},{"$f":"('2017'!Q6/'2017 Rate'!$AA6)*1000","v":2.8953399541634837},{"$f":"('2017'!R6/'2017 Rate'!$AA6)*1000","v":2.089381207028266},{"$f":"('2017'!S6/'2017 Rate'!$AA6)*1000","v":4.5072574484339194},{"$f":"('2017'!T6/'2017 Rate'!$AA6)*1000","v":1.508785332314744},{"$f":"('2017'!U6/'2017 Rate'!$AA6)*1000","v":4.5912910618792964},{"$f":"('2017'!V6/'2017 Rate'!$AA6)*1000","v":6.5660809778456839},null,null,{"$f":"('2017'!Y6/'2017 Rate'!$AA6)*1000","v":0.47746371275783045},"Aberdeenshire",261800]
[5,"Angus",null,{"$f":"('2017'!D7/'2017 Rate'!$AA7)*1000","v":1.2383900928792571},{"$f":"('2017'!E7/'2017 Rate'!$AA7)*1000","v":0.98899208806329553},{"$f":"('2017'!F7/'2017 Rate'!$AA7)*1000","v":-0.29239766081871343},{"$f":"('2017'!G7/'2017 Rate'!$AA7)*1000","v":0.54179566563467496},{"$f":"('2017'!H7/'2017 Rate'!$AA7)*1000","v":32.576539387684903},{"$f":"('2017'!I7/'2017 Rate'!$AA7)*1000","v":31.338149294805643},{"$f":"('2017'!J7/'2017 Rate'!$AA7)*1000","v":0.739594083247334},{"$f":"('2017'!K7/'2017 Rate'!$AA7)*1000","v":24.733402132782938},{"$f":"('2017'!L7/'2017 Rate'!$AA7)*1000","v":23.993808049535602},{"$f":"('2017'!M7/'2017 Rate'!$AA7)*1000","v":6.8799449604403165E-2},{"$f":"('2017'!N7/'2017 Rate'!$AA7)*1000","v":5.2287581699346406},{"$f":"('2017'!O7/'2017 Rate'!$AA7)*1000","v":5.1599587203302377},{"$f":"('2017'!P7/'2017 Rate'!$AA7)*1000","v":0.42999656002751979},{"$f":"('2017'!Q7/'2017 Rate'!$AA7)*1000","v":2.6143790849673203},{"$f":"('2017'!R7/'2017 Rate'!$AA7)*1000","v":2.1843825249398003},{"$f":"('2017'!S7/'2017 Rate'!$AA7)*1000","v":9.2879256965944261},{"$f":"('2017'!T7/'2017 Rate'!$AA7)*1000","v":1.0405916752665978},{"$f":"('2017'!U7/'2017 Rate'!$AA7)*1000","v":3.7753697970416238},{"$f":"('2017'!V7/'2017 Rate'!$AA7)*1000","v":4.8417612659098728},null,null,{"$f":"('2017'!Y7/'2017 Rate'!$AA7)*1000","v":0.27519779841761266},"Angus",116280]
[6,"Argyll and Bute",null,{"$f":"('2017'!D8/'2017 Rate'!$AA8)*1000","v":1.5781591982490495},{"$f":"('2017'!E8/'2017 Rate'!$AA8)*1000","v":1.3477709941251006},{"$f":"('2017'!F8/'2017 Rate'!$AA8)*1000","v":1.1864992512383365},{"$f":"('2017'!G8/'2017 Rate'!$AA8)*1000","v":-0.95611104711438777},{"$f":"('2017'!H8/'2017 Rate'!$AA8)*1000","v":48.162654072111508},{"$f":"('2017'!I8/'2017 Rate'!$AA8)*1000","v":46.584494873862461},{"$f":"('2017'!J8/'2017 Rate'!$AA8)*1000","v":-4.9763852090772955},{"$f":"('2017'!K8/'2017 Rate'!$AA8)*1000","v":27.324041009100334},{"$f":"('2017'!L8/'2017 Rate'!$AA8)*1000","v":32.300426218177627},{"$f":"('2017'!M8/'2017 Rate'!$AA8)*1000","v":6.9692431747494528},{"$f":"('2017'!N8/'2017 Rate'!$AA8)*1000","v":17.42886764197673},{"$f":"('2017'!O8/'2017 Rate'!$AA8)*1000","v":10.459624467227279},{"$f":"('2017'!P8/'2017 Rate'!$AA8)*1000","v":-0.41469876742310796},{"$f":"('2017'!Q8/'2017 Rate'!$AA8)*1000","v":3.4097454210344429},{"$f":"('2017'!R8/'2017 Rate'!$AA8)*1000","v":3.8244441884575511},{"$f":"('2017'!S8/'2017 Rate'!$AA8)*1000","v":5.6445110010367463},{"$f":"('2017'!T8/'2017 Rate'!$AA8)*1000","v":1.0943439695887569},{"$f":"('2017'!U8/'2017 Rate'!$AA8)*1000","v":3.4212648312406402},{"$f":"('2017'!V8/'2017 Rate'!$AA8)*1000","v":2.3384402718580808},null,null,{"$f":"('2017'!Y8/'2017 Rate'!$AA8)*1000","v":0.25342702453634375},"Argyll & Bute",86810]
[7,"City of Edinburgh",null,{"$f":"('2017'!D9/'2017 Rate'!$AA9)*1000","v":9.9140702636347697},{"$f":"('2017'!E9/'2017 Rate'!$AA9)*1000","v":-0.65859979345686948},{"$f":"('2017'!F9/'2017 Rate'!$AA9)*1000","v":10.650610861051032},{"$f":"('2017'!G9/'2017 Rate'!$AA9)*1000","v":-7.7940803959392832E-2},{"$f":"('2017'!H9/'2017 Rate'!$AA9)*1000","v":58.864792190331443},{"$f":"('2017'!I9/'2017 Rate'!$AA9)*1000","v":48.950721926696673},{"$f":"('2017'!J9/'2017 Rate'!$AA9)*1000","v":-4.6316322752869192},{"$f":"('2017'!K9/'2017 Rate'!$AA9)*1000","v":22.63011242960971},{"$f":"('2017'!L9/'2017 Rate'!$AA9)*1000","v":27.261744704896632},{"$f":"('2017'!M9/'2017 Rate'!$AA9)*1000","v":5.7617739326981159},{"$f":"('2017'!N9/'2017 Rate'!$AA9)*1000","v":19.59821515558933},{"$f":"('2017'!O9/'2017 Rate'!$AA9)*1000","v":13.836441222891214},{"$f":"('2017'!P9/'2017 Rate'!$AA9)*1000","v":8.7839286062235722},{"$f":"('2017'!Q9/'2017 Rate'!$AA9)*1000","v":16.636464605132403},{"$f":"('2017'!R9/'2017 Rate'!$AA9)*1000","v":7.8525359989088281},{"$f":"('2017'!S9/'2017 Rate'!$AA9)*1000","v":19.874905009645175},{"$f":"('2017'!T9/'2017 Rate'!$AA9)*1000","v":3.5794314218351166},{"$f":"('2017'!U9/'2017 Rate'!$AA9)*1000","v":15.784961321876036},{"$f":"('2017'!V9/'2017 Rate'!$AA9)*1000","v":11.523547865396232},null,null,{"$f":"('2017'!Y9/'2017 Rate'!$AA9)*1000","v":1.5315367978020695},"City of Edinburgh",513210]
[8,"Clackmannanshire",null,{"$f":"('2017'!D10/'2017 Rate'!$AA10)*1000","v":2.3517978620019435},{"$f":"('2017'!E10/'2017 Rate'!$AA10)*1000","v":0.89407191448007783},{"$f":"('2017'!F10/'2017 Rate'!$AA10)*1000","v":1.7298347910592808},{"$f":"('2017'!G10/'2017 Rate'!$AA10)*1000","v":-0.27210884353741494},{"$f":"('2017'!H10/'2017 Rate'!$AA10)*1000","v":36.443148688046648},{"$f":"('2017'!I10/'2017 Rate'!$AA10)*1000","v":34.091350826044703},{"$f":"('2017'!J10/'2017 Rate'!$AA10)*1000","v":1.7103984450923226},{"$f":"('2017'!K10/'2017 Rate'!$AA10)*1000","v":27.930029154518952},{"$f":"('2017'!L10/'2017 Rate'!$AA10)*1000","v":26.219630709426628},{"$f":"('2017'!M10/'2017 Rate'!$AA10)*1000","v":-0.11661807580174928},{"$f":"('2017'!N10/'2017 Rate'!$AA10)*1000","v":5.1506316812439259},{"$f":"('2017'!O10/'2017 Rate'!$AA10)*1000","v":5.2672497570456756},{"$f":"('2017'!P10/'2017 Rate'!$AA10)*1000","v":0.7580174927113702},{"$f":"('2017'!Q10/'2017 Rate'!$AA10)*1000","v":3.3624878522837709},{"$f":"('2017'!R10/'2017 Rate'!$AA10)*1000","v":2.6044703595724004},{"$f":"('2017'!S10/'2017 Rate'!$AA10)*1000","v":2.3323615160349855},{"$f":"('2017'!T10/'2017 Rate'!$AA10)*1000","v":0.91350826044703592},{"$f":"('2017'!U10/'2017 Rate'!$AA10)*1000","v":4.4509232264334306},{"$f":"('2017'!V10/'2017 Rate'!$AA10)*1000","v":3.8678328474246841},null,null,{"$f":"('2017'!Y10/'2017 Rate'!$AA10)*1000","v":0.13605442176870747},"Clackmannanshire",51450]
[9,"Dumfries and Galloway",null,{"$f":"('2017'!D11/'2017 Rate'!$AA11)*1000","v":2.1581769436997318},{"$f":"('2017'!E11/'2017 Rate'!$AA11)*1000","v":0.83109919571045576},{"$f":"('2017'!F11/'2017 Rate'!$AA11)*1000","v":1.2868632707774799},{"$f":"('2017'!G11/'2017 Rate'!$AA11)*1000","v":4.0214477211796246E-2},{"$f":"('2017'!H11/'2017 Rate'!$AA11)*1000","v":26.849865951742625},{"$f":"('2017'!I11/'2017 Rate'!$AA11)*1000","v":24.691689008042896},{"$f":"('2017'!J11/'2017 Rate'!$AA11)*1000","v":-1.6420911528150135},{"$f":"('2017'!K11/'2017 Rate'!$AA11)*1000","v":10.998659517426272},{"$f":"('2017'!L11/'2017 Rate'!$AA11)*1000","v":12.640750670241287},{"$f":"('2017'!M11/'2017 Rate'!$AA11)*1000","v":4.5844504021447721},{"$f":"('2017'!N11/'2017 Rate'!$AA11)*1000","v":14.249329758713138},{"$f":"('2017'!O11/'2017 Rate'!$AA11)*1000","v":9.6648793565683651},{"$f":"('2017'!P11/'2017 Rate'!$AA11)*1000","v":-0.78418230563002689},{"$f":"('2017'!Q11/'2017 Rate'!$AA11)*1000","v":1.6018766756032172},{"$f":"('2017'!R11/'2017 Rate'!$AA11)*1000","v":2.3860589812332438},{"$f":"('2017'!S11/'2017 Rate'!$AA11)*1000","v":3.1501340482573728},{"$f":"('2017'!T11/'2017 Rate'!$AA11)*1000","v":0.66353887399463807},{"$f":"('2017'!U11/'2017 Rate'!$AA11)*1000","v":2.9423592493297583},{"$f":"('2017'!V11/'2017 Rate'!$AA11)*1000","v":2.74798927613941},null,null,{"$f":"('2017'!Y11/'2017 Rate'!$AA11)*1000","v":0.1541554959785523},"Dumfries & Galloway",149200]
[10,"Dundee City",null,{"$f":"('2017'!D12/'2017 Rate'!$AA12)*1000","v":3.9540044381682469},{"$f":"('2017'!E12/'2017 Rate'!$AA12)*1000","v":-0.55140878219353107},{"$f":"('2017'!F12/'2017 Rate'!$AA12)*1000","v":4.8819850716158966},{"$f":"('2017'!G12/'2017 Rate'!$AA12)*1000","v":-0.37657185125411874},{"$f":"('2017'!H12/'2017 Rate'!$AA12)*1000","v":46.883195481137783},{"$f":"('2017'!I12/'2017 Rate'!$AA12)*1000","v":42.929191042969535},{"$f":"('2017'!J12/'2017 Rate'!$AA12)*1000","v":-0.39674534328558941},{"$f":"('2017'!K12/'2017 Rate'!$AA12)*1000","v":29.668482280949501},{"$f":"('2017'!L12/'2017 Rate'!$AA12)*1000","v":30.065227624235089},{"$f":"('2017'!M12/'2017 Rate'!$AA12)*1000","v":1.6878488332997108},{"$f":"('2017'!N12/'2017 Rate'!$AA12)*1000","v":9.2730818371326755},{"$f":"('2017'!O12/'2017 Rate'!$AA12)*1000","v":7.5852330038329638},{"$f":"('2017'!P12/'2017 Rate'!$AA12)*1000","v":2.6629009481541255},{"$f":"('2017'!Q12/'2017 Rate'!$AA12)*1000","v":7.9416313630556106},{"$f":"('2017'!R12/'2017 Rate'!$AA12)*1000","v":5.278730414901486},{"$f":"('2017'!S12/'2017 Rate'!$AA12)*1000","v":7.5314370250823748},{"$f":"('2017'!T12/'2017 Rate'!$AA12)*1000","v":1.8223387801761819},{"$f":"('2017'!U12/'2017 Rate'!$AA12)*1000","v":12.399973102010625},{"$f":"('2017'!V12/'2017 Rate'!$AA12)*1000","v":8.6880505682200262},null,null,{"$f":"('2017'!Y12/'2017 Rate'!$AA12)*1000","v":0.5917557662564723},"Dundee City",148710]
[11,"East Ayrshire",null,{"$f":"('2017'!D13/'2017 Rate'!$AA13)*1000","v":0.14761358044940134},{"$f":"('2017'!E13/'2017 Rate'!$AA13)*1000","v":-9.0208299163523048E-2},{"$f":"('2017'!F13/'2017 Rate'!$AA13)*1000","v":0.26242414302115796},{"$f":"('2017'!G13/'2017 Rate'!$AA13)*1000","v":-2.4602263408233557E-2},{"$f":"('2017'!H13/'2017 Rate'!$AA13)*1000","v":27.464326718058061},{"$f":"('2017'!I13/'2017 Rate'!$AA13)*1000","v":27.316713137608659},{"$f":"('2017'!J13/'2017 Rate'!$AA13)*1000","v":-0.49204526816467109},{"$f":"('2017'!K13/'2017 Rate'!$AA13)*1000","v":21.223552566836151},{"$f":"('2017'!L13/'2017 Rate'!$AA13)*1000","v":21.715597835000821},{"$f":"('2017'!M13/'2017 Rate'!$AA13)*1000","v":1.3613252419222568},{"$f":"('2017'!N13/'2017 Rate'!$AA13)*1000","v":5.3714941774643261},{"$f":"('2017'!O13/'2017 Rate'!$AA13)*1000","v":4.0101689355420698},{"$f":"('2017'!P13/'2017 Rate'!$AA13)*1000","v":-0.72166639330818438},{"$f":"('2017'!Q13/'2017 Rate'!$AA13)*1000","v":0.8692799737575857},{"$f":"('2017'!R13/'2017 Rate'!$AA13)*1000","v":1.5909463670657702},{"$f":"('2017'!S13/'2017 Rate'!$AA13)*1000","v":1.5581433491881254},{"$f":"('2017'!T13/'2017 Rate'!$AA13)*1000","v":0.46744300475643757},{"$f":"('2017'!U13/'2017 Rate'!$AA13)*1000","v":3.5591274397244548},{"$f":"('2017'!V13/'2017 Rate'!$AA13)*1000","v":1.3777267508610791},null,null,{"$f":"('2017'!Y13/'2017 Rate'!$AA13)*1000","v":8.2007544694111853E-2},"East Ayrshire",121940]
[12,"East Dunbartonshire",null,{"$f":"('2017'!D14/'2017 Rate'!$AA14)*1000","v":6.36271155091094},{"$f":"('2017'!E14/'2017 Rate'!$AA14)*1000","v":4.4853417183020436},{"$f":"('2017'!F14/'2017 Rate'!$AA14)*1000","v":1.988347359659669},{"$f":"('2017'!G14/'2017 Rate'!$AA14)*1000","v":-0.11097752705077223},{"$f":"('2017'!H14/'2017 Rate'!$AA14)*1000","v":37.473411634144085},{"$f":"('2017'!I14/'2017 Rate'!$AA14)*1000","v":31.110700083233144},{"$f":"('2017'!J14/'2017 Rate'!$AA14)*1000","v":6.0482752242670861},{"$f":"('2017'!K14/'2017 Rate'!$AA14)*1000","v":31.86904651808009},{"$f":"('2017'!L14/'2017 Rate'!$AA14)*1000","v":25.820771293813003},{"$f":"('2017'!M14/'2017 Rate'!$AA14)*1000","v":0.4439101082030889},{"$f":"('2017'!N14/'2017 Rate'!$AA14)*1000","v":4.300379173217423},{"$f":"('2017'!O14/'2017 Rate'!$AA14)*1000","v":3.8564690650143345},{"$f":"('2017'!P14/'2017 Rate'!$AA14)*1000","v":-0.12947378155923425},{"$f":"('2017'!Q14/'2017 Rate'!$AA14)*1000","v":1.3039859428465734},{"$f":"('2017'!R14/'2017 Rate'!$AA14)*1000","v":1.4334597244058078},{"$f":"('2017'!S14/'2017 Rate'!$AA14)*1000","v":1.2022565430500323},{"$f":"('2017'!T14/'2017 Rate'!$AA14)*1000","v":0.90631647091463974},{"$f":"('2017'!U14/'2017 Rate'!$AA14)*1000","v":13.751965227041524},{"$f":"('2017'!V14/'2017 Rate'!$AA14)*1000","v":4.7627855359289741},null,null,{"$f":"('2017'!Y14/'2017 Rate'!$AA14)*1000","v":0.3051881993896236},"East Dunbartonshire",108130]
[13,"East Lothian",null,{"$f":"('2017'!D15/'2017 Rate'!$AA15)*1000","v":7.630675314765357},{"$f":"('2017'!E15/'2017 Rate'!$AA15)*1000","v":1.8599771079740557},{"$f":"('2017'!F15/'2017 Rate'!$AA15)*1000","v":4.4639450591377337},{"$f":"('2017'!G15/'2017 Rate'!$AA15)*1000","v":1.3067531476535674},{"$f":"('2017'!H15/'2017 Rate'!$AA15)*1000","v":39.650896604349484},{"$f":"('2017'!I15/'2017 Rate'!$AA15)*1000","v":32.020221289584128},{"$f":"('2017'!J15/'2017 Rate'!$AA15)*1000","v":5.2174742464708128},{"$f":"('2017'!K15/'2017 Rate'!$AA15)*1000","v":28.872567722243421},{"$f":"('2017'!L15/'2017 Rate'!$AA15)*1000","v":23.655093475772606},{"$f":"('2017'!M15/'2017 Rate'!$AA15)*1000","v":1.4498283098054179},{"$f":"('2017'!N15/'2017 Rate'!$AA15)*1000","v":7.4876001526135063},{"$f":"('2017'!O15/'2017 Rate'!$AA15)*1000","v":6.0377718428080893},{"$f":"('2017'!P15/'2017 Rate'!$AA15)*1000","v":0.96337275848912629},{"$f":"('2017'!Q15/'2017 Rate'!$AA15)*1000","v":3.2907287294925602},{"$f":"('2017'!R15/'2017 Rate'!$AA15)*1000","v":2.3273559710034335},{"$f":"('2017'!S15/'2017 Rate'!$AA15)*1000","v":5.3414727203357497},{"$f":"('2017'!T15/'2017 Rate'!$AA15)*1000","v":1.192293017932087},{"$f":"('2017'!U15/'2017 Rate'!$AA15)*1000","v":4.0824112933994652},{"$f":"('2017'!V15/'2017 Rate'!$AA15)*1000","v":3.5864173979397176},null,null,{"$f":"('2017'!Y15/'2017 Rate'!$AA15)*1000","v":0.32430370087752763},"East Lothian",104840]
[14,"East Renfrewshire",null,{"$f":"('2017'!D16/'2017 Rate'!$AA16)*1000","v":10.109750949767834},{"$f":"('2017'!E16/'2017 Rate'!$AA16)*1000","v":6.9544111439425924},{"$f":"('2017'!F16/'2017 Rate'!$AA16)*1000","v":2.5432672013507807},{"$f":"('2017'!G16/'2017 Rate'!$AA16)*1000","v":0.61207260447446177},{"$f":"('2017'!H16/'2017 Rate'!$AA16)*1000","v":42.433516251582944},{"$f":"('2017'!I16/'2017 Rate'!$AA16)*1000","v":32.323765301815115},{"$f":"('2017'!J16/'2017 Rate'!$AA16)*1000","v":9.5926551287463067},{"$f":"('2017'!K16/'2017 Rate'!$AA16)*1000","v":36.397214014352045},{"$f":"('2017'!L16/'2017 Rate'!$AA16)*1000","v":26.80455888560574},{"$f":"('2017'!M16/'2017 Rate'!$AA16)*1000","v":0.60151962853524699},{"$f":"('2017'!N16/'2017 Rate'!$AA16)*1000","v":4.6855213170113972},{"$f":"('2017'!O16/'2017 Rate'!$AA16)*1000","v":4.0840016884761505},{"$f":"('2017'!P16/'2017 Rate'!$AA16)*1000","v":-8.4423807513718876E-2},{"$f":"('2017'!Q16/'2017 Rate'!$AA16)*1000","v":1.350780920219502},{"$f":"('2017'!R16/'2017 Rate'!$AA16)*1000","v":1.4352047277332207},{"$f":"('2017'!S16/'2017 Rate'!$AA16)*1000","v":1.0552975939214859},{"$f":"('2017'!T16/'2017 Rate'!$AA16)*1000","v":1.0552975939214859},{"$f":"('2017'!U16/'2017 Rate'!$AA16)*1000","v":33.790628957365975},{"$f":"('2017'!V16/'2017 Rate'!$AA16)*1000","v":10.141409877585479},null,null,{"$f":"('2017'!Y16/'2017 Rate'!$AA16)*1000","v":0.56986070071760242},"East Renfrewshire",94760]
[15,"Falkirk",null,{"$f":"('2017'!D17/'2017 Rate'!$AA17)*1000","v":5.6266783238618618},{"$f":"('2017'!E17/'2017 Rate'!$AA17)*1000","v":0.44963467182913885},{"$f":"('2017'!F17/'2017 Rate'!$AA17)*1000","v":4.8772872041466311},{"$f":"('2017'!G17/'2017 Rate'!$AA17)*1000","v":0.29975644788609257},{"$f":"('2017'!H17/'2017 Rate'!$AA17)*1000","v":28.976456628988945},{"$f":"('2017'!I17/'2017 Rate'!$AA17)*1000","v":23.349778305127085},{"$f":"('2017'!J17/'2017 Rate'!$AA17)*1000","v":3.9218135265097107},{"$f":"('2017'!K17/'2017 Rate'!$AA17)*1000","v":22.050833697620682},{"$f":"('2017'!L17/'2017 Rate'!$AA17)*1000","v":18.129020171110973},{"$f":"('2017'!M17/'2017 Rate'!$AA17)*1000","v":1.0741272715918317},{"$f":"('2017'!N17/'2017 Rate'!$AA17)*1000","v":4.5587959782676579},{"$f":"('2017'!O17/'2017 Rate'!$AA17)*1000","v":3.4846687066758255},{"$f":"('2017'!P17/'2017 Rate'!$AA17)*1000","v":0.63073752576031972},{"$f":"('2017'!Q17/'2017 Rate'!$AA17)*1000","v":2.3668269531006056},{"$f":"('2017'!R17/'2017 Rate'!$AA17)*1000","v":1.736089427340286},{"$f":"('2017'!S17/'2017 Rate'!$AA17)*1000","v":2.9351152188846563},{"$f":"('2017'!T17/'2017 Rate'!$AA17)*1000","v":0.99918815962030849},{"$f":"('2017'!U17/'2017 Rate'!$AA17)*1000","v":5.4393305439330542},{"$f":"('2017'!V17/'2017 Rate'!$AA17)*1000","v":4.7961031661774811},null,null,{"$f":"('2017'!Y17/'2017 Rate'!$AA17)*1000","v":0.33722600387185409},"Falkirk",160130]
[16,"Fife",null,{"$f":"('2017'!D18/'2017 Rate'!$AA18)*1000","v":4.1032820871812818},{"$f":"('2017'!E18/'2017 Rate'!$AA18)*1000","v":0.79427048275490697},{"$f":"('2017'!F18/'2017 Rate'!$AA18)*1000","v":3.1663121617619341},{"$f":"('2017'!G18/'2017 Rate'!$AA18)*1000","v":0.14269944266444093},{"$f":"('2017'!H18/'2017 Rate'!$AA18)*1000","v":30.06111844053741},{"$f":"('2017'!I18/'2017 Rate'!$AA18)*1000","v":25.957836353356132},{"$f":"('2017'!J18/'2017 Rate'!$AA18)*1000","v":0.53041113594141243},{"$f":"('2017'!K18/'2017 Rate'!$AA18)*1000","v":17.347405831830052},{"$f":"('2017'!L18/'2017 Rate'!$AA18)*1000","v":16.816994695888638},{"$f":"('2017'!M18/'2017 Rate'!$AA18)*1000","v":1.7662421582617593},{"$f":"('2017'!N18/'2017 Rate'!$AA18)*1000","v":8.1904095204760239},{"$f":"('2017'!O18/'2017 Rate'!$AA18)*1000","v":6.4241673622142645},{"$f":"('2017'!P18/'2017 Rate'!$AA18)*1000","v":1.8066287929781104},{"$f":"('2017'!Q18/'2017 Rate'!$AA18)*1000","v":4.5233030882313345},{"$f":"('2017'!R18/'2017 Rate'!$AA18)*1000","v":2.7166742952532243},{"$f":"('2017'!S18/'2017 Rate'!$AA18)*1000","v":5.3310357825583585},{"$f":"('2017'!T18/'2017 Rate'!$AA18)*1000","v":1.198136829918419},{"$f":"('2017'!U18/'2017 Rate'!$AA18)*1000","v":5.4441183597641425},{"$f":"('2017'!V18/'2017 Rate'!$AA18)*1000","v":4.1544384911553269},null,null,{"$f":"('2017'!Y18/'2017 Rate'!$AA18)*1000","v":0.32040063541638619},"Fife",371410]
[17,"Glasgow City",null,{"$f":"('2017'!D19/'2017 Rate'!$AA19)*1000","v":8.6792695887411018},{"$f":"('2017'!E19/'2017 Rate'!$AA19)*1000","v":-0.85826543428553026},{"$f":"('2017'!F19/'2017 Rate'!$AA19)*1000","v":9.8000064410163912},{"$f":"('2017'!G19/'2017 Rate'!$AA19)*1000","v":-0.26247141798975876},{"$f":"('2017'!H19/'2017 Rate'!$AA19)*1000","v":53.433061737142125},{"$f":"('2017'!I19/'2017 Rate'!$AA19)*1000","v":44.753792148401011},{"$f":"('2017'!J19/'2017 Rate'!$AA19)*1000","v":-2.9467649995169238},{"$f":"('2017'!K19/'2017 Rate'!$AA19)*1000","v":26.817171749702105},{"$f":"('2017'!L19/'2017 Rate'!$AA19)*1000","v":29.763936749219027},{"$f":"('2017'!M19/'2017 Rate'!$AA19)*1000","v":2.9403239831245371},{"$f":"('2017'!N19/'2017 Rate'!$AA19)*1000","v":10.988373965411743},{"$f":"('2017'!O19/'2017 Rate'!$AA19)*1000","v":8.0480499822872051},{"$f":"('2017'!P19/'2017 Rate'!$AA19)*1000","v":8.6857106051334902},{"$f":"('2017'!Q19/'2017 Rate'!$AA19)*1000","v":15.627516022028276},{"$f":"('2017'!R19/'2017 Rate'!$AA19)*1000","v":6.9418054168947858},{"$f":"('2017'!S19/'2017 Rate'!$AA19)*1000","v":15.200798686032655},{"$f":"('2017'!T19/'2017 Rate'!$AA19)*1000","v":3.3428875076487072},{"$f":"('2017'!U19/'2017 Rate'!$AA19)*1000","v":24.06524749605488},{"$f":"('2017'!V19/'2017 Rate'!$AA19)*1000","v":21.720717529226111},null,null,{"$f":"('2017'!Y19/'2017 Rate'!$AA19)*1000","v":1.1980290489839298},"Glasgow City",621020]
[18,"Highland",null,{"$f":"('2017'!D20/'2017 Rate'!$AA20)*1000","v":3.4569266094055617},{"$f":"('2017'!E20/'2017 Rate'!$AA20)*1000","v":0.42520622501913424},{"$f":"('2017'!F20/'2017 Rate'!$AA20)*1000","v":3.6397652861637892},{"$f":"('2017'!G20/'2017 Rate'!$AA20)*1000","v":-0.60804490177736203},{"$f":"('2017'!H20/'2017 Rate'!$AA20)*1000","v":31.044306488646995},{"$f":"('2017'!I20/'2017 Rate'!$AA20)*1000","v":27.587379879241432},{"$f":"('2017'!J20/'2017 Rate'!$AA20)*1000","v":-0.88017688578960795},{"$f":"('2017'!K20/'2017 Rate'!$AA20)*1000","v":17.093290245769197},{"$f":"('2017'!L20/'2017 Rate'!$AA20)*1000","v":17.973467131558806},{"$f":"('2017'!M20/'2017 Rate'!$AA20)*1000","v":3.9629220171783315},{"$f":"('2017'!N20/'2017 Rate'!$AA20)*1000","v":10.847010800238117},{"$f":"('2017'!O20/'2017 Rate'!$AA20)*1000","v":6.8840887830597834},{"$f":"('2017'!P20/'2017 Rate'!$AA20)*1000","v":0.37418147801683815},{"$f":"('2017'!Q20/'2017 Rate'!$AA20)*1000","v":3.1040054426396799},{"$f":"('2017'!R20/'2017 Rate'!$AA20)*1000","v":2.7298239646228422},{"$f":"('2017'!S20/'2017 Rate'!$AA20)*1000","v":6.8458202228080616},{"$f":"('2017'!T20/'2017 Rate'!$AA20)*1000","v":1.1693171188026192},{"$f":"('2017'!U20/'2017 Rate'!$AA20)*1000","v":3.9501658304277574},{"$f":"('2017'!V20/'2017 Rate'!$AA20)*1000","v":5.6127221702525718},null,null,{"$f":"('2017'!Y20/'2017 Rate'!$AA20)*1000","v":0.34866910451569011},"Highland",235180]
[19,"Inverclyde",null,{"$f":"('2017'!D21/'2017 Rate'!$AA21)*1000","v":0.12696800406297612},{"$f":"('2017'!E21/'2017 Rate'!$AA21)*1000","v":-3.8090401218892837E-2},{"$f":"('2017'!F21/'2017 Rate'!$AA21)*1000","v":-0.45708481462671408},{"$f":"('2017'!G21/'2017 Rate'!$AA21)*1000","v":0.62214321990858301},{"$f":"('2017'!H21/'2017 Rate'!$AA21)*1000","v":19.273743016759777},{"$f":"('2017'!I21/'2017 Rate'!$AA21)*1000","v":19.1467750126968},{"$f":"('2017'!J21/'2017 Rate'!$AA21)*1000","v":-0.63484002031488063},{"$f":"('2017'!K21/'2017 Rate'!$AA21)*1000","v":14.15693245302184},{"$f":"('2017'!L21/'2017 Rate'!$AA21)*1000","v":14.791772473336719},{"$f":"('2017'!M21/'2017 Rate'!$AA21)*1000","v":0.71102082275266643},{"$f":"('2017'!N21/'2017 Rate'!$AA21)*1000","v":3.8471305231081767},{"$f":"('2017'!O21/'2017 Rate'!$AA21)*1000","v":3.1361097003555103},{"$f":"('2017'!P21/'2017 Rate'!$AA21)*1000","v":5.0787201625190452E-2},{"$f":"('2017'!Q21/'2017 Rate'!$AA21)*1000","v":1.2696800406297613},{"$f":"('2017'!R21/'2017 Rate'!$AA21)*1000","v":1.2188928390045708},{"$f":"('2017'!S21/'2017 Rate'!$AA21)*1000","v":2.4123920771965466},{"$f":"('2017'!T21/'2017 Rate'!$AA21)*1000","v":0.34281361097003554},{"$f":"('2017'!U21/'2017 Rate'!$AA21)*1000","v":2.6790248857287962},{"$f":"('2017'!V21/'2017 Rate'!$AA21)*1000","v":0.72371762315896393},null,null,{"$f":"('2017'!Y21/'2017 Rate'!$AA21)*1000","v":0.1015744032503809},"Inverclyde",78760]
[20,"Midlothian",null,{"$f":"('2017'!D22/'2017 Rate'!$AA22)*1000","v":14.108114108114108},{"$f":"('2017'!E22/'2017 Rate'!$AA22)*1000","v":2.8749028749028751},{"$f":"('2017'!F22/'2017 Rate'!$AA22)*1000","v":11.033411033411035},{"$f":"('2017'!G22/'2017 Rate'!$AA22)*1000","v":0.19980019980019981},{"$f":"('2017'!H22/'2017 Rate'!$AA22)*1000","v":41.95804195804196},{"$f":"('2017'!I22/'2017 Rate'!$AA22)*1000","v":27.849927849927852},{"$f":"('2017'!J22/'2017 Rate'!$AA22)*1000","v":12.443112443112444},{"$f":"('2017'!K22/'2017 Rate'!$AA22)*1000","v":35.409035409035411},{"$f":"('2017'!L22/'2017 Rate'!$AA22)*1000","v":22.965922965922967},{"$f":"('2017'!M22/'2017 Rate'!$AA22)*1000","v":1.1655011655011656},{"$f":"('2017'!N22/'2017 Rate'!$AA22)*1000","v":4.7841047841047848},{"$f":"('2017'!O22/'2017 Rate'!$AA22)*1000","v":3.6186036186036188},{"$f":"('2017'!P22/'2017 Rate'!$AA22)*1000","v":0.49950049950049952},{"$f":"('2017'!Q22/'2017 Rate'!$AA22)*1000","v":1.7649017649017649},{"$f":"('2017'!R22/'2017 Rate'!$AA22)*1000","v":1.2654012654012654},{"$f":"('2017'!S22/'2017 Rate'!$AA22)*1000","v":2.4420024420024422},{"$f":"('2017'!T22/'2017 Rate'!$AA22)*1000","v":1.5096015096015096},{"$f":"('2017'!U22/'2017 Rate'!$AA22)*1000","v":6.5934065934065931},{"$f":"('2017'!V22/'2017 Rate'!$AA22)*1000","v":4.6287046287046287},null,null,{"$f":"('2017'!Y22/'2017 Rate'!$AA22)*1000","v":0.61050061050061055},"Midlothian",90090]
[21,"Moray",null,{"$f":"('2017'!D23/'2017 Rate'!$AA23)*1000","v":3.1321779077051574E-2},{"$f":"('2017'!E23/'2017 Rate'!$AA23)*1000","v":0.77260388390060553},{"$f":"('2017'!F23/'2017 Rate'!$AA23)*1000","v":-1.0962622676968052},{"$f":"('2017'!G23/'2017 Rate'!$AA23)*1000","v":0.35498016287325118},{"$f":"('2017'!H23/'2017 Rate'!$AA23)*1000","v":32.762580914595944},{"$f":"('2017'!I23/'2017 Rate'!$AA23)*1000","v":32.731259135518897},{"$f":"('2017'!J23/'2017 Rate'!$AA23)*1000","v":-0.58467320943829615},{"$f":"('2017'!K23/'2017 Rate'!$AA23)*1000","v":18.824389225308},{"$f":"('2017'!L23/'2017 Rate'!$AA23)*1000","v":19.409062434746293},{"$f":"('2017'!M23/'2017 Rate'!$AA23)*1000","v":1.7018166631864688},{"$f":"('2017'!N23/'2017 Rate'!$AA23)*1000","v":11.85007308415118},{"$f":"('2017'!O23/'2017 Rate'!$AA23)*1000","v":10.14825642096471},{"$f":"('2017'!P23/'2017 Rate'!$AA23)*1000","v":-1.0858216746711213},{"$f":"('2017'!Q23/'2017 Rate'!$AA23)*1000","v":2.0881186051367719},{"$f":"('2017'!R23/'2017 Rate'!$AA23)*1000","v":3.1739402798078933},{"$f":"('2017'!S23/'2017 Rate'!$AA23)*1000","v":2.4013363959072875},{"$f":"('2017'!T23/'2017 Rate'!$AA23)*1000","v":1.1380246397995406},{"$f":"('2017'!U23/'2017 Rate'!$AA23)*1000","v":3.4767174775527252},{"$f":"('2017'!V23/'2017 Rate'!$AA23)*1000","v":4.6669450824806855},null,null,{"$f":"('2017'!Y23/'2017 Rate'!$AA23)*1000","v":0.19837126748799333},"Moray",95780]
[22,"Na h-Eileanan Siar",null,{"$f":"('2017'!D24/'2017 Rate'!$AA24)*1000","v":5.7513914656771794},{"$f":"('2017'!E24/'2017 Rate'!$AA24)*1000","v":3.1910946196660483},{"$f":"('2017'!F24/'2017 Rate'!$AA24)*1000","v":1.966604823747681},{"$f":"('2017'!G24/'2017 Rate'!$AA24)*1000","v":0.59369202226345075},{"$f":"('2017'!H24/'2017 Rate'!$AA24)*1000","v":36.697588126159552},{"$f":"('2017'!I24/'2017 Rate'!$AA24)*1000","v":30.946196660482375},{"$f":"('2017'!J24/'2017 Rate'!$AA24)*1000","v":-0.11131725417439703},{"$f":"('2017'!K24/'2017 Rate'!$AA24)*1000","v":21.743970315398887},{"$f":"('2017'!L24/'2017 Rate'!$AA24)*1000","v":21.855287569573285},{"$f":"('2017'!M24/'2017 Rate'!$AA24)*1000","v":5.454545454545455},{"$f":"('2017'!N24/'2017 Rate'!$AA24)*1000","v":12.578849721706863},{"$f":"('2017'!O24/'2017 Rate'!$AA24)*1000","v":7.1243042671614099},{"$f":"('2017'!P24/'2017 Rate'!$AA24)*1000","v":0.40816326530612246},{"$f":"('2017'!Q24/'2017 Rate'!$AA24)*1000","v":2.374768089053803},{"$f":"('2017'!R24/'2017 Rate'!$AA24)*1000","v":1.966604823747681},{"$f":"('2017'!S24/'2017 Rate'!$AA24)*1000","v":2.968460111317254},{"$f":"('2017'!T24/'2017 Rate'!$AA24)*1000","v":0.70500927643784794},{"$f":"('2017'!U24/'2017 Rate'!$AA24)*1000","v":2.5231910946196661},{"$f":"('2017'!V24/'2017 Rate'!$AA24)*1000","v":2.1150278293135436},null,null,{"$f":"('2017'!Y24/'2017 Rate'!$AA24)*1000","v":0.25974025974025972},"Na h-Eileanan Siar",26950]
[23,"North Ayrshire",null,{"$f":"('2017'!D25/'2017 Rate'!$AA25)*1000","v":2.5922380145813388},{"$f":"('2017'!E25/'2017 Rate'!$AA25)*1000","v":0.87635319242948673},{"$f":"('2017'!F25/'2017 Rate'!$AA25)*1000","v":1.0825539435893659},{"$f":"('2017'!G25/'2017 Rate'!$AA25)*1000","v":0.63333087856248615},{"$f":"('2017'!H25/'2017 Rate'!$AA25)*1000","v":28.021209220119303},{"$f":"('2017'!I25/'2017 Rate'!$AA25)*1000","v":25.428971205537962},{"$f":"('2017'!J25/'2017 Rate'!$AA25)*1000","v":0.78798144193239561},{"$f":"('2017'!K25/'2017 Rate'!$AA25)*1000","v":20.590617865822225},{"$f":"('2017'!L25/'2017 Rate'!$AA25)*1000","v":19.802636423889833},{"$f":"('2017'!M25/'2017 Rate'!$AA25)*1000","v":2.1651078871787317},{"$f":"('2017'!N25/'2017 Rate'!$AA25)*1000","v":6.0902864717578611},{"$f":"('2017'!O25/'2017 Rate'!$AA25)*1000","v":3.9251785845791294},{"$f":"('2017'!P25/'2017 Rate'!$AA25)*1000","v":-0.36085131452978864},{"$f":"('2017'!Q25/'2017 Rate'!$AA25)*1000","v":1.340304882539215},{"$f":"('2017'!R25/'2017 Rate'!$AA25)*1000","v":1.7011561970690037},{"$f":"('2017'!S25/'2017 Rate'!$AA25)*1000","v":1.399219382870609},{"$f":"('2017'!T25/'2017 Rate'!$AA25)*1000","v":0.41240150231975847},{"$f":"('2017'!U25/'2017 Rate'!$AA25)*1000","v":3.0046395169010975},{"$f":"('2017'!V25/'2017 Rate'!$AA25)*1000","v":1.2445688195006996},null,null,{"$f":"('2017'!Y25/'2017 Rate'!$AA25)*1000","v":0.15465056336990943},"North Ayrshire",135790]
[24,"North Lanarkshire",null,{"$f":"('2017'!D26/'2017 Rate'!$AA26)*1000","v":2.1590775385339449},{"$f":"('2017'!E26/'2017 Rate'!$AA26)*1000","v":0.44416990234145193},{"$f":"('2017'!F26/'2017 Rate'!$AA26)*1000","v":1.7413813389810564},{"$f":"('2017'!G26/'2017 Rate'!$AA26)*1000","v":-2.6473702788563359E-2},{"$f":"('2017'!H26/'2017 Rate'!$AA26)*1000","v":22.626191316625487},{"$f":"('2017'!I26/'2017 Rate'!$AA26)*1000","v":20.467113778091541},{"$f":"('2017'!J26/'2017 Rate'!$AA26)*1000","v":1.6649017531474291},{"$f":"('2017'!K26/'2017 Rate'!$AA26)*1000","v":17.716790210613013},{"$f":"('2017'!L26/'2017 Rate'!$AA26)*1000","v":16.051888457465584},{"$f":"('2017'!M26/'2017 Rate'!$AA26)*1000","v":0.34709965878338628},{"$f":"('2017'!N26/'2017 Rate'!$AA26)*1000","v":3.1915519472879161},{"$f":"('2017'!O26/'2017 Rate'!$AA26)*1000","v":2.84445228850453},{"$f":"('2017'!P26/'2017 Rate'!$AA26)*1000","v":0.14707612660312977},{"$f":"('2017'!Q26/'2017 Rate'!$AA26)*1000","v":1.7178491587245559},{"$f":"('2017'!R26/'2017 Rate'!$AA26)*1000","v":1.5707730321214262},{"$f":"('2017'!S26/'2017 Rate'!$AA26)*1000","v":2.9121073067419698},{"$f":"('2017'!T26/'2017 Rate'!$AA26)*1000","v":0.83833392163783971},{"$f":"('2017'!U26/'2017 Rate'!$AA26)*1000","v":6.333098011530768},{"$f":"('2017'!V26/'2017 Rate'!$AA26)*1000","v":4.5740675373573358},null,null,{"$f":"('2017'!Y26/'2017 Rate'!$AA26)*1000","v":0.18237439698788091},"North Lanarkshire",339960]
[25,"Orkney Islands",null,{"$f":"('2017'!D27/'2017 Rate'!$AA27)*1000","v":9.2727272727272734},{"$f":"('2017'!E27/'2017 Rate'!$AA27)*1000","v":2.0909090909090908},{"$f":"('2017'!F27/'2017 Rate'!$AA27)*1000","v":5.5},{"$f":"('2017'!G27/'2017 Rate'!$AA27)*1000","v":1.6818181818181819},{"$f":"('2017'!H27/'2017 Rate'!$AA27)*1000","v":35.5},{"$f":"('2017'!I27/'2017 Rate'!$AA27)*1000","v":26.227272727272727},{"$f":"('2017'!J27/'2017 Rate'!$AA27)*1000","v":1.6818181818181819},{"$f":"('2017'!K27/'2017 Rate'!$AA27)*1000","v":18.40909090909091},{"$f":"('2017'!L27/'2017 Rate'!$AA27)*1000","v":16.727272727272727},{"$f":"('2017'!M27/'2017 Rate'!$AA27)*1000","v":7.2272727272727275},{"$f":"('2017'!N27/'2017 Rate'!$AA27)*1000","v":14.909090909090908},{"$f":"('2017'!O27/'2017 Rate'!$AA27)*1000","v":7.6818181818181817},{"$f":"('2017'!P27/'2017 Rate'!$AA27)*1000","v":0.36363636363636359},{"$f":"('2017'!Q27/'2017 Rate'!$AA27)*1000","v":2.1818181818181821},{"$f":"('2017'!R27/'2017 Rate'!$AA27)*1000","v":1.8181818181818181},{"$f":"('2017'!S27/'2017 Rate'!$AA27)*1000","v":2.2727272727272725},{"$f":"('2017'!T27/'2017 Rate'!$AA27)*1000","v":0.5},{"$f":"('2017'!U27/'2017 Rate'!$AA27)*1000","v":2.1363636363636362},{"$f":"('2017'!V27/'2017 Rate'!$AA27)*1000","v":1.3181818181818181},null,null,{"$f":"('2017'!Y27/'2017 Rate'!$AA27)*1000","v":0.36363636363636359},"Orkney Islands",22000]
[26,"Perth and Kinross",null,{"$f":"('2017'!D28/'2017 Rate'!$AA28)*1000","v":5.9430840502978155},{"$f":"('2017'!E28/'2017 Rate'!$AA28)*1000","v":2.8457974851091992},{"$f":"('2017'!F28/'2017 Rate'!$AA28)*1000","v":2.4090006618133684},{"$f":"('2017'!G28/'2017 Rate'!$AA28)*1000","v":0.6882859033752482},{"$f":"('2017'!H28/'2017 Rate'!$AA28)*1000","v":40.84050297816016},{"$f":"('2017'!I28/'2017 Rate'!$AA28)*1000","v":34.89741892786234},{"$f":"('2017'!J28/'2017 Rate'!$AA28)*1000","v":1.7471872931833223},{"$f":"('2017'!K28/'2017 Rate'!$AA28)*1000","v":27.134348113831898},{"$f":"('2017'!L28/'2017 Rate'!$AA28)*1000","v":25.387160820648575},{"$f":"('2017'!M28/'2017 Rate'!$AA28)*1000","v":3.2164129715420251},{"$f":"('2017'!N28/'2017 Rate'!$AA28)*1000","v":9.0602250165453349},{"$f":"('2017'!O28/'2017 Rate'!$AA28)*1000","v":5.8438120450033084},{"$f":"('2017'!P28/'2017 Rate'!$AA28)*1000","v":0.97948378557246862},{"$f":"('2017'!Q28/'2017 Rate'!$AA28)*1000","v":4.6459298477829254},{"$f":"('2017'!R28/'2017 Rate'!$AA28)*1000","v":3.6664460622104569},{"$f":"('2017'!S28/'2017 Rate'!$AA28)*1000","v":15.354070152217075},{"$f":"('2017'!T28/'2017 Rate'!$AA28)*1000","v":1.5420251489080079},{"$f":"('2017'!U28/'2017 Rate'!$AA28)*1000","v":4.7650562541363337},{"$f":"('2017'!V28/'2017 Rate'!$AA28)*1000","v":5.698213103904699},null,null,{"$f":"('2017'!Y28/'2017 Rate'!$AA28)*1000","v":0.41032428855062869},"Perth & Kinross",151100]
[27,"Renfrewshire",null,{"$f":"('2017'!D29/'2017 Rate'!$AA29)*1000","v":6.5712831533110894},{"$f":"('2017'!E29/'2017 Rate'!$AA29)*1000","v":1.3855115082282419},{"$f":"('2017'!F29/'2017 Rate'!$AA29)*1000","v":5.0557032177797891},{"$f":"('2017'!G29/'2017 Rate'!$AA29)*1000","v":0.13006842730305945},{"$f":"('2017'!H29/'2017 Rate'!$AA29)*1000","v":33.099587174122036},{"$f":"('2017'!I29/'2017 Rate'!$AA29)*1000","v":26.52830402081095},{"$f":"('2017'!J29/'2017 Rate'!$AA29)*1000","v":3.766329242775547},{"$f":"('2017'!K29/'2017 Rate'!$AA29)*1000","v":24.871345359950237},{"$f":"('2017'!L29/'2017 Rate'!$AA29)*1000","v":21.105016117174689},{"$f":"('2017'!M29/'2017 Rate'!$AA29)*1000","v":1.193236441780241},{"$f":"('2017'!N29/'2017 Rate'!$AA29)*1000","v":4.6598427868574337},{"$f":"('2017'!O29/'2017 Rate'!$AA29)*1000","v":3.4666063450771927},{"$f":"('2017'!P29/'2017 Rate'!$AA29)*1000","v":1.6117174687553018},{"$f":"('2017'!Q29/'2017 Rate'!$AA29)*1000","v":3.5683990273143698},{"$f":"('2017'!R29/'2017 Rate'!$AA29)*1000","v":1.956681558559068},{"$f":"('2017'!S29/'2017 Rate'!$AA29)*1000","v":4.4110162302776681},{"$f":"('2017'!T29/'2017 Rate'!$AA29)*1000","v":1.3119945710569474},{"$f":"('2017'!U29/'2017 Rate'!$AA29)*1000","v":6.7918339648249733},{"$f":"('2017'!V29/'2017 Rate'!$AA29)*1000","v":4.7050839789628451},null,null,{"$f":"('2017'!Y29/'2017 Rate'!$AA29)*1000","v":0.40151557993553133},"Renfrewshire",176830]
[28,"Scottish Borders",null,{"$f":"('2017'!D30/'2017 Rate'!$AA30)*1000","v":7.1118066423230744},{"$f":"('2017'!E30/'2017 Rate'!$AA30)*1000","v":2.0344287949921753},{"$f":"('2017'!F30/'2017 Rate'!$AA30)*1000","v":4.9208833246391928},{"$f":"('2017'!G30/'2017 Rate'!$AA30)*1000","v":0.15649452269170577},{"$f":"('2017'!H30/'2017 Rate'!$AA30)*1000","v":38.567205703355938},{"$f":"('2017'!I30/'2017 Rate'!$AA30)*1000","v":31.45539906103286},{"$f":"('2017'!J30/'2017 Rate'!$AA30)*1000","v":2.9125369500956357},{"$f":"('2017'!K30/'2017 Rate'!$AA30)*1000","v":22.456964006259781},{"$f":"('2017'!L30/'2017 Rate'!$AA30)*1000","v":19.544427056164146},{"$f":"('2017'!M30/'2017 Rate'!$AA30)*1000","v":4.0514693096852721},{"$f":"('2017'!N30/'2017 Rate'!$AA30)*1000","v":13.875847678664579},{"$f":"('2017'!O30/'2017 Rate'!$AA30)*1000","v":9.8243783689793069},{"$f":"('2017'!P30/'2017 Rate'!$AA30)*1000","v":0.14780038254216657},{"$f":"('2017'!Q30/'2017 Rate'!$AA30)*1000","v":2.2343940184315771},{"$f":"('2017'!R30/'2017 Rate'!$AA30)*1000","v":2.0865936358894106},{"$f":"('2017'!S30/'2017 Rate'!$AA30)*1000","v":2.7821248478525473},{"$f":"('2017'!T30/'2017 Rate'!$AA30)*1000","v":0.94766127629977404},{"$f":"('2017'!U30/'2017 Rate'!$AA30)*1000","v":3.138584593983655},{"$f":"('2017'!V30/'2017 Rate'!$AA30)*1000","v":4.2775169535732918},null,null,{"$f":"('2017'!Y30/'2017 Rate'!$AA30)*1000","v":0.21735350373848025},"Scottish Borders",115020]
[29,"Shetland Islands",null,{"$f":"('2017'!D31/'2017 Rate'!$AA31)*1000","v":-5.7625649913344885},{"$f":"('2017'!E31/'2017 Rate'!$AA31)*1000","v":0.12998266897746966},{"$f":"('2017'!F31/'2017 Rate'!$AA31)*1000","v":-5.7625649913344885},{"$f":"('2017'!G31/'2017 Rate'!$AA31)*1000","v":-0.12998266897746966},{"$f":"('2017'!H31/'2017 Rate'!$AA31)*1000","v":23.353552859618716},{"$f":"('2017'!I31/'2017 Rate'!$AA31)*1000","v":29.116117850953209},{"$f":"('2017'!J31/'2017 Rate'!$AA31)*1000","v":-5.285961871750434},{"$f":"('2017'!K31/'2017 Rate'!$AA31)*1000","v":12.738301559792028},{"$f":"('2017'!L31/'2017 Rate'!$AA31)*1000","v":18.024263431542462},{"$f":"('2017'!M31/'2017 Rate'!$AA31)*1000","v":0.30329289428076256},{"$f":"('2017'!N31/'2017 Rate'!$AA31)*1000","v":8.318890814558058},{"$f":"('2017'!O31/'2017 Rate'!$AA31)*1000","v":8.0155979202772958},{"$f":"('2017'!P31/'2017 Rate'!$AA31)*1000","v":-0.77989601386481799},{"$f":"('2017'!Q31/'2017 Rate'!$AA31)*1000","v":2.2963604852686306},{"$f":"('2017'!R31/'2017 Rate'!$AA31)*1000","v":3.0762564991334487},{"$f":"('2017'!S31/'2017 Rate'!$AA31)*1000","v":4.7660311958405543},{"$f":"('2017'!T31/'2017 Rate'!$AA31)*1000","v":0.99653379549393417},{"$f":"('2017'!U31/'2017 Rate'!$AA31)*1000","v":4.3327556325823222},{"$f":"('2017'!V31/'2017 Rate'!$AA31)*1000","v":2.5129982668977466},null,null,{"$f":"('2017'!Y31/'2017 Rate'!$AA31)*1000","v":0.30329289428076256},"Shetland Islands",23080]
[30,"South Ayrshire",null,{"$f":"('2017'!D32/'2017 Rate'!$AA32)*1000","v":6.1235356762513309},{"$f":"('2017'!E32/'2017 Rate'!$AA32)*1000","v":1.5974440894568689},{"$f":"('2017'!F32/'2017 Rate'!$AA32)*1000","v":3.3013844515441959},{"$f":"('2017'!G32/'2017 Rate'!$AA32)*1000","v":1.2247071352502663},{"$f":"('2017'!H32/'2017 Rate'!$AA32)*1000","v":34.318423855165072},{"$f":"('2017'!I32/'2017 Rate'!$AA32)*1000","v":28.19488817891374},{"$f":"('2017'!J32/'2017 Rate'!$AA32)*1000","v":3.5942492012779552},{"$f":"('2017'!K32/'2017 Rate'!$AA32)*1000","v":24.840255591054312},{"$f":"('2017'!L32/'2017 Rate'!$AA32)*1000","v":21.246006389776358},{"$f":"('2017'!M32/'2017 Rate'!$AA32)*1000","v":2.4937877174298904},{"$f":"('2017'!N32/'2017 Rate'!$AA32)*1000","v":7.2506212282570113},{"$f":"('2017'!O32/'2017 Rate'!$AA32)*1000","v":4.7568335108271214},{"$f":"('2017'!P32/'2017 Rate'!$AA32)*1000","v":3.5498757543485977E-2},{"$f":"('2017'!Q32/'2017 Rate'!$AA32)*1000","v":2.2275470358537452},{"$f":"('2017'!R32/'2017 Rate'!$AA32)*1000","v":2.1920482783102591},{"$f":"('2017'!S32/'2017 Rate'!$AA32)*1000","v":2.9286474973375936},{"$f":"('2017'!T32/'2017 Rate'!$AA32)*1000","v":0.57685481008164718},{"$f":"('2017'!U32/'2017 Rate'!$AA32)*1000","v":3.2126375576854809},{"$f":"('2017'!V32/'2017 Rate'!$AA32)*1000","v":1.8548100816471422},null,null,{"$f":"('2017'!Y32/'2017 Rate'!$AA32)*1000","v":0.31948881789137379},"South Ayrshire",112680]
[31,"South Lanarkshire",null,{"$f":"('2017'!D33/'2017 Rate'!$AA33)*1000","v":4.0167206210516397},{"$f":"('2017'!E33/'2017 Rate'!$AA33)*1000","v":1.2257598139359462},{"$f":"('2017'!F33/'2017 Rate'!$AA33)*1000","v":2.8192475720526762},{"$f":"('2017'!G33/'2017 Rate'!$AA33)*1000","v":-2.8286764936983375E-2},{"$f":"('2017'!H33/'2017 Rate'!$AA33)*1000","v":28.6922085677468},{"$f":"('2017'!I33/'2017 Rate'!$AA33)*1000","v":24.675487946695164},{"$f":"('2017'!J33/'2017 Rate'!$AA33)*1000","v":3.7778546060282241},{"$f":"('2017'!K33/'2017 Rate'!$AA33)*1000","v":22.707986296633877},{"$f":"('2017'!L33/'2017 Rate'!$AA33)*1000","v":18.930131690605652},{"$f":"('2017'!M33/'2017 Rate'!$AA33)*1000","v":0.29858251877926895},{"$f":"('2017'!N33/'2017 Rate'!$AA33)*1000","v":4.3404469308860039},{"$f":"('2017'!O33/'2017 Rate'!$AA33)*1000","v":4.0418644121067349},{"$f":"('2017'!P33/'2017 Rate'!$AA33)*1000","v":-5.9716503755853786E-2},{"$f":"('2017'!Q33/'2017 Rate'!$AA33)*1000","v":1.6437753402269226},{"$f":"('2017'!R33/'2017 Rate'!$AA33)*1000","v":1.7034918439827766},{"$f":"('2017'!S33/'2017 Rate'!$AA33)*1000","v":2.3258006725964107},{"$f":"('2017'!T33/'2017 Rate'!$AA33)*1000","v":0.81088726152685675},{"$f":"('2017'!U33/'2017 Rate'!$AA33)*1000","v":6.3613791369393713},{"$f":"('2017'!V33/'2017 Rate'!$AA33)*1000","v":2.8663921802809815},null,null,{"$f":"('2017'!Y33/'2017 Rate'!$AA33)*1000","v":0.34887010088946158},"South Lanarkshire",318170]
[32,"Stirling",null,{"$f":"('2017'!D34/'2017 Rate'!$AA34)*1000","v":3.5638297872340425},{"$f":"('2017'!E34/'2017 Rate'!$AA34)*1000","v":2.4148936170212765},{"$f":"('2017'!F34/'2017 Rate'!$AA34)*1000","v":1.3829787234042554},{"$f":"('2017'!G34/'2017 Rate'!$AA34)*1000","v":-0.23404255319148937},{"$f":"('2017'!H34/'2017 Rate'!$AA34)*1000","v":54},{"$f":"('2017'!I34/'2017 Rate'!$AA34)*1000","v":50.436170212765958},{"$f":"('2017'!J34/'2017 Rate'!$AA34)*1000","v":0.41489361702127658},{"$f":"('2017'!K34/'2017 Rate'!$AA34)*1000","v":36.425531914893618},{"$f":"('2017'!L34/'2017 Rate'!$AA34)*1000","v":36.01063829787234},{"$f":"('2017'!M34/'2017 Rate'!$AA34)*1000","v":3.1702127659574466},{"$f":"('2017'!N34/'2017 Rate'!$AA34)*1000","v":11.159574468085106},{"$f":"('2017'!O34/'2017 Rate'!$AA34)*1000","v":7.9893617021276606},{"$f":"('2017'!P34/'2017 Rate'!$AA34)*1000","v":-2.1276595744680851E-2},{"$f":"('2017'!Q34/'2017 Rate'!$AA34)*1000","v":6.4148936170212769},{"$f":"('2017'!R34/'2017 Rate'!$AA34)*1000","v":6.4361702127659575},{"$f":"('2017'!S34/'2017 Rate'!$AA34)*1000","v":7.4468085106382986},{"$f":"('2017'!T34/'2017 Rate'!$AA34)*1000","v":1.1595744680851063},{"$f":"('2017'!U34/'2017 Rate'!$AA34)*1000","v":5.2978723404255321},{"$f":"('2017'!V34/'2017 Rate'!$AA34)*1000","v":3.6063829787234045},null,null,{"$f":"('2017'!Y34/'2017 Rate'!$AA34)*1000","v":0.34042553191489361},"Stirling",94000]
[33,"West Dunbartonshire",null,{"$f":"('2017'!D35/'2017 Rate'!$AA35)*1000","v":-1.071309005691329},{"$f":"('2017'!E35/'2017 Rate'!$AA35)*1000","v":-1.1159468809284678E-2},{"$f":"('2017'!F35/'2017 Rate'!$AA35)*1000","v":-0.78116281664992748},{"$f":"('2017'!G35/'2017 Rate'!$AA35)*1000","v":-0.27898672023211696},{"$f":"('2017'!H35/'2017 Rate'!$AA35)*1000","v":25.97924338801473},{"$f":"('2017'!I35/'2017 Rate'!$AA35)*1000","v":27.050552393706059},{"$f":"('2017'!J35/'2017 Rate'!$AA35)*1000","v":-2.3211695123312133},{"$f":"('2017'!K35/'2017 Rate'!$AA35)*1000","v":20.444146858609532},{"$f":"('2017'!L35/'2017 Rate'!$AA35)*1000","v":22.765316370940745},{"$f":"('2017'!M35/'2017 Rate'!$AA35)*1000","v":0.970873786407767},{"$f":"('2017'!N35/'2017 Rate'!$AA35)*1000","v":4.0285682401517686},{"$f":"('2017'!O35/'2017 Rate'!$AA35)*1000","v":3.0576944537440016},{"$f":"('2017'!P35/'2017 Rate'!$AA35)*1000","v":0.27898672023211696},{"$f":"('2017'!Q35/'2017 Rate'!$AA35)*1000","v":1.5065282892534315},{"$f":"('2017'!R35/'2017 Rate'!$AA35)*1000","v":1.2275415690213147},{"$f":"('2017'!S35/'2017 Rate'!$AA35)*1000","v":1.4507309452070081},{"$f":"('2017'!T35/'2017 Rate'!$AA35)*1000","v":0.73652494141278879},{"$f":"('2017'!U35/'2017 Rate'!$AA35)*1000","v":4.3633523044303093},{"$f":"('2017'!V35/'2017 Rate'!$AA35)*1000","v":3.2808838299296954},null,null,{"$f":"('2017'!Y35/'2017 Rate'!$AA35)*1000","v":0.25666778261354761},"West Dunbartonshire",89610]
[34,"West Lothian",null,{"$f":"('2017'!D36/'2017 Rate'!$AA36)*1000","v":4.3351166510396562},{"$f":"('2017'!E36/'2017 Rate'!$AA36)*1000","v":1.5553471954111744},{"$f":"('2017'!F36/'2017 Rate'!$AA36)*1000","v":2.6198224036181128},{"$f":"('2017'!G36/'2017 Rate'!$AA36)*1000","v":0.15994705201036899},{"$f":"('2017'!H36/'2017 Rate'!$AA36)*1000","v":29.380618829628812},{"$f":"('2017'!I36/'2017 Rate'!$AA36)*1000","v":25.045502178589157},{"$f":"('2017'!J36/'2017 Rate'!$AA36)*1000","v":2.823892780320997},{"$f":"('2017'!K36/'2017 Rate'!$AA36)*1000","v":22.056146930671225},{"$f":"('2017'!L36/'2017 Rate'!$AA36)*1000","v":19.232254150350229},{"$f":"('2017'!M36/'2017 Rate'!$AA36)*1000","v":0.36401742871325354},{"$f":"('2017'!N36/'2017 Rate'!$AA36)*1000","v":4.4399095471843797},{"$f":"('2017'!O36/'2017 Rate'!$AA36)*1000","v":4.0758921184711268},{"$f":"('2017'!P36/'2017 Rate'!$AA36)*1000","v":1.1472064420054051},{"$f":"('2017'!Q36/'2017 Rate'!$AA36)*1000","v":2.8845623517732064},{"$f":"('2017'!R36/'2017 Rate'!$AA36)*1000","v":1.7373559097678009},{"$f":"('2017'!S36/'2017 Rate'!$AA36)*1000","v":4.3020241575202691},{"$f":"('2017'!T36/'2017 Rate'!$AA36)*1000","v":1.9965804423363298},{"$f":"('2017'!U36/'2017 Rate'!$AA36)*1000","v":8.195907561634769},{"$f":"('2017'!V36/'2017 Rate'!$AA36)*1000","v":8.4882245877226854},null,null,{"$f":"('2017'!Y36/'2017 Rate'!$AA36)*1000","v":0.56257238982957369},"West Lothian",181310]
[]
[35,"Not specified"]
[36,"SCOTLAND",null,{"$f":"('2017'!D39/'2017 Rate'!$AA39)*1000","v":4.3973971390650348},{"$f":"('2017'!E39/'2017 Rate'!$AA39)*1000","v":0.69587818905766119},{"$f":"('2017'!F39/'2017 Rate'!$AA39)*1000","v":3.6476920808140392},{"$f":"('2017'!G39/'2017 Rate'!$AA39)*1000","v":5.3826869193334313E-2},{"$f":"('2017'!H39/'2017 Rate'!$AA39)*1000","v":14.833357911812417},{"$f":"('2017'!I39/'2017 Rate'!$AA39)*1000","v":10.435960772747382},{"$f":"('2017'!J39/'2017 Rate'!$AA39)*1000","v":0},{"$f":"('2017'!K39/'2017 Rate'!$AA39)*1000","v":0},{"$f":"('2017'!L39/'2017 Rate'!$AA39)*1000","v":0},{"$f":"('2017'!M39/'2017 Rate'!$AA39)*1000","v":1.9272599911517474},{"$f":"('2017'!N39/'2017 Rate'!$AA39)*1000","v":8.7686181979059121},{"$f":"('2017'!O39/'2017 Rate'!$AA39)*1000","v":6.8413582067541663},{"$f":"('2017'!P39/'2017 Rate'!$AA39)*1000","v":2.4701371479132868},{"$f":"('2017'!Q39/'2017 Rate'!$AA39)*1000","v":6.064739713906504},{"$f":"('2017'!R39/'2017 Rate'!$AA39)*1000","v":3.5946025659932164},null,{"$f":"('2017'!T39/'2017 Rate'!$AA39)*1000","v":1.6933343164724968},null,null,null,null,null,"SCOTLAND",{"$f":"AA4","v":5424800}]
[37,"Ayrshire and Arran",null,{"$f":"('2017'!D40/'2017 Rate'!$AA40)*1000","v":2.861693798763532},{"$f":"('2017'!E40/'2017 Rate'!$AA40)*1000","v":0.77751680570178994},{"$f":"('2017'!F40/'2017 Rate'!$AA40)*1000","v":1.4875408331308551},{"$f":"('2017'!G40/'2017 Rate'!$AA40)*1000","v":0.59663615993088748},{"$f":"('2017'!H40/'2017 Rate'!$AA40)*1000","v":22.418401231068277},{"$f":"('2017'!I40/'2017 Rate'!$AA40)*1000","v":19.556707432304744},{"$f":"('2017'!J40/'2017 Rate'!$AA40)*1000","v":1.2202694311708648},{"$f":"('2017'!K40/'2017 Rate'!$AA40)*1000","v":14.756621041548554},{"$f":"('2017'!L40/'2017 Rate'!$AA40)*1000","v":13.53635161037769},{"$f":"('2017'!M40/'2017 Rate'!$AA40)*1000","v":2.0004859480035635},{"$f":"('2017'!N40/'2017 Rate'!$AA40)*1000","v":6.2066358899597747},{"$f":"('2017'!O40/'2017 Rate'!$AA40)*1000","v":4.2061499419562098},{"$f":"('2017'!P40/'2017 Rate'!$AA40)*1000","v":-0.35906158041089603},{"$f":"('2017'!Q40/'2017 Rate'!$AA40)*1000","v":1.4551442995599471},{"$f":"('2017'!R40/'2017 Rate'!$AA40)*1000","v":1.8142058799708431},null,{"$f":"('2017'!T40/'2017 Rate'!$AA40)*1000","v":0.48054858130180073},null,null,null,null,null,"Ayrshire & Arran",{"$f":"AA13+AA25+AA32","v":370410}]
[38,"Borders",null,{"$f":"('2017'!D41/'2017 Rate'!$AA41)*1000","v":7.1118066423230744},{"$f":"('2017'!E41/'2017 Rate'!$AA41)*1000","v":2.0344287949921753},{"$f":"('2017'!F41/'2017 Rate'!$AA41)*1000","v":4.9208833246391928},{"$f":"('2017'!G41/'2017 Rate'!$AA41)*1000","v":0.15649452269170577},{"$f":"('2017'!H41/'2017 Rate'!$AA41)*1000","v":38.567205703355938},{"$f":"('2017'!I41/'2017 Rate'!$AA41)*1000","v":31.45539906103286},{"$f":"('2017'!J41/'2017 Rate'!$AA41)*1000","v":2.9125369500956357},{"$f":"('2017'!K41/'2017 Rate'!$AA41)*1000","v":22.456964006259781},{"$f":"('2017'!L41/'2017 Rate'!$AA41)*1000","v":19.544427056164146},{"$f":"('2017'!M41/'2017 Rate'!$AA41)*1000","v":4.0514693096852721},{"$f":"('2017'!N41/'2017 Rate'!$AA41)*1000","v":13.875847678664579},{"$f":"('2017'!O41/'2017 Rate'!$AA41)*1000","v":9.8243783689793069},{"$f":"('2017'!P41/'2017 Rate'!$AA41)*1000","v":0.14780038254216657},{"$f":"('2017'!Q41/'2017 Rate'!$AA41)*1000","v":2.2343940184315771},{"$f":"('2017'!R41/'2017 Rate'!$AA41)*1000","v":2.0865936358894106},null,{"$f":"('2017'!T41/'2017 Rate'!$AA41)*1000","v":0.94766127629977404},null,null,null,null,null,"Borders",{"$f":"AA30","v":115020}]
[39,"Dumfries and Galloway",null,{"$f":"('2017'!D42/'2017 Rate'!$AA42)*1000","v":2.1581769436997318},{"$f":"('2017'!E42/'2017 Rate'!$AA42)*1000","v":0.83109919571045576},{"$f":"('2017'!F42/'2017 Rate'!$AA42)*1000","v":1.2868632707774799},{"$f":"('2017'!G42/'2017 Rate'!$AA42)*1000","v":4.0214477211796246E-2},{"$f":"('2017'!H42/'2017 Rate'!$AA42)*1000","v":26.849865951742625},{"$f":"('2017'!I42/'2017 Rate'!$AA42)*1000","v":24.691689008042896},{"$f":"('2017'!J42/'2017 Rate'!$AA42)*1000","v":-1.6420911528150135},{"$f":"('2017'!K42/'2017 Rate'!$AA42)*1000","v":10.998659517426272},{"$f":"('2017'!L42/'2017 Rate'!$AA42)*1000","v":12.640750670241287},{"$f":"('2017'!M42/'2017 Rate'!$AA42)*1000","v":4.5844504021447721},{"$f":"('2017'!N42/'2017 Rate'!$AA42)*1000","v":14.249329758713138},{"$f":"('2017'!O42/'2017 Rate'!$AA42)*1000","v":9.6648793565683651},{"$f":"('2017'!P42/'2017 Rate'!$AA42)*1000","v":-0.78418230563002689},{"$f":"('2017'!Q42/'2017 Rate'!$AA42)*1000","v":1.6018766756032172},{"$f":"('2017'!R42/'2017 Rate'!$AA42)*1000","v":2.3860589812332438},null,{"$f":"('2017'!T42/'2017 Rate'!$AA42)*1000","v":0.66353887399463807},null,null,null,null,null,"Dumfries & Galloway",{"$f":"AA11","v":149200}]
[40,"Fife",null,{"$f":"('2017'!D43/'2017 Rate'!$AA43)*1000","v":4.1032820871812818},{"$f":"('2017'!E43/'2017 Rate'!$AA43)*1000","v":0.79427048275490697},{"$f":"('2017'!F43/'2017 Rate'!$AA43)*1000","v":3.1663121617619341},{"$f":"('2017'!G43/'2017 Rate'!$AA43)*1000","v":0.14269944266444093},{"$f":"('2017'!H43/'2017 Rate'!$AA43)*1000","v":30.06111844053741},{"$f":"('2017'!I43/'2017 Rate'!$AA43)*1000","v":25.957836353356132},{"$f":"('2017'!J43/'2017 Rate'!$AA43)*1000","v":0.53041113594141243},{"$f":"('2017'!K43/'2017 Rate'!$AA43)*1000","v":17.347405831830052},{"$f":"('2017'!L43/'2017 Rate'!$AA43)*1000","v":16.816994695888638},{"$f":"('2017'!M43/'2017 Rate'!$AA43)*1000","v":1.7662421582617593},{"$f":"('2017'!N43/'2017 Rate'!$AA43)*1000","v":8.1904095204760239},{"$f":"('2017'!O43/'2017 Rate'!$AA43)*1000","v":6.4241673622142645},{"$f":"('2017'!P43/'2017 Rate'!$AA43)*1000","v":1.8066287929781104},{"$f":"('2017'!Q43/'2017 Rate'!$AA43)*1000","v":4.5233030882313345},{"$f":"('2017'!R43/'2017 Rate'!$AA43)*1000","v":2.7166742952532243},null,{"$f":"('2017'!T43/'2017 Rate'!$AA43)*1000","v":1.198136829918419},null,null,null,null,null,"Fife",{"$f":"AA18","v":371410}]
[41,"Forth Valley",null,{"$f":"('2017'!D44/'2017 Rate'!$AA44)*1000","v":4.4407356502388904},{"$f":"('2017'!E44/'2017 Rate'!$AA44)*1000","v":1.1290005890437855},{"$f":"('2017'!F44/'2017 Rate'!$AA44)*1000","v":3.2724654754892333},{"$f":"('2017'!G44/'2017 Rate'!$AA44)*1000","v":3.9269585705870802E-2},{"$f":"('2017'!H44/'2017 Rate'!$AA44)*1000","v":32.554486550166899},{"$f":"('2017'!I44/'2017 Rate'!$AA44)*1000","v":28.113750899928007},{"$f":"('2017'!J44/'2017 Rate'!$AA44)*1000","v":2.4707114339943712},{"$f":"('2017'!K44/'2017 Rate'!$AA44)*1000","v":22.085869494076835},{"$f":"('2017'!L44/'2017 Rate'!$AA44)*1000","v":19.615158060082468},{"$f":"('2017'!M44/'2017 Rate'!$AA44)*1000","v":1.5184239806270043},{"$f":"('2017'!N44/'2017 Rate'!$AA44)*1000","v":6.6889194318999943},{"$f":"('2017'!O44/'2017 Rate'!$AA44)*1000","v":5.1704954512729895},{"$f":"('2017'!P44/'2017 Rate'!$AA44)*1000","v":0.45160023561751422},{"$f":"('2017'!Q44/'2017 Rate'!$AA44)*1000","v":3.7796976241900651},{"$f":"('2017'!R44/'2017 Rate'!$AA44)*1000","v":3.3280973885725502},null,{"$f":"('2017'!T44/'2017 Rate'!$AA44)*1000","v":1.0340990902545977},null,null,null,null,null,"Forth Valley",{"$f":"AA10+AA17+AA34","v":305580}]
[42,"Grampian",null,{"$f":"('2017'!D45/'2017 Rate'!$AA45)*1000","v":-3.583000784474232},{"$f":"('2017'!E45/'2017 Rate'!$AA45)*1000","v":-0.19952931546096386},{"$f":"('2017'!F45/'2017 Rate'!$AA45)*1000","v":-3.368123060131655},{"$f":"('2017'!G45/'2017 Rate'!$AA45)*1000","v":-1.5348408881612605E-2},{"$f":"('2017'!H45/'2017 Rate'!$AA45)*1000","v":25.943927146219174},{"$f":"('2017'!I45/'2017 Rate'!$AA45)*1000","v":29.526927930693407},{"$f":"('2017'!J45/'2017 Rate'!$AA45)*1000","v":-4.7238991780074358},{"$f":"('2017'!K45/'2017 Rate'!$AA45)*1000","v":11.352706436099458},{"$f":"('2017'!L45/'2017 Rate'!$AA45)*1000","v":16.076605614106896},{"$f":"('2017'!M45/'2017 Rate'!$AA45)*1000","v":-1.5842968723353457},{"$f":"('2017'!N45/'2017 Rate'!$AA45)*1000","v":7.5309526245779184},{"$f":"('2017'!O45/'2017 Rate'!$AA45)*1000","v":9.1152494969132647},{"$f":"('2017'!P45/'2017 Rate'!$AA45)*1000","v":2.7251952658685497},{"$f":"('2017'!Q45/'2017 Rate'!$AA45)*1000","v":7.0602680855417992},{"$f":"('2017'!R45/'2017 Rate'!$AA45)*1000","v":4.3350728196732495},null,{"$f":"('2017'!T45/'2017 Rate'!$AA45)*1000","v":2.3687711040622124},null,null,null,null,null,"Grampian",{"$f":"AA5+AA6+AA23","v":586380}]
[43,"Greater Glasgow and Clyde",null,{"$f":"('2017'!D46/'2017 Rate'!$AA46)*1000","v":6.9386114223640201},{"$f":"('2017'!E46/'2017 Rate'!$AA46)*1000","v":0.72875948370983057},{"$f":"('2017'!F46/'2017 Rate'!$AA46)*1000","v":6.2697265441233077},{"$f":"('2017'!G46/'2017 Rate'!$AA46)*1000","v":-5.9874605469117534E-2},{"$f":"('2017'!H46/'2017 Rate'!$AA46)*1000","v":32.675282907510841},{"$f":"('2017'!I46/'2017 Rate'!$AA46)*1000","v":25.736671485146822},{"$f":"('2017'!J46/'2017 Rate'!$AA46)*1000","v":0.12060456244493675},{"$f":"('2017'!K46/'2017 Rate'!$AA46)*1000","v":15.516076331568458},{"$f":"('2017'!L46/'2017 Rate'!$AA46)*1000","v":15.395471769123521},{"$f":"('2017'!M46/'2017 Rate'!$AA46)*1000","v":1.9544781928133368},{"$f":"('2017'!N46/'2017 Rate'!$AA46)*1000","v":7.8871962432961826},{"$f":"('2017'!O46/'2017 Rate'!$AA46)*1000","v":5.9327180504828458},{"$f":"('2017'!P46/'2017 Rate'!$AA46)*1000","v":4.8635286671057472},{"$f":"('2017'!Q46/'2017 Rate'!$AA46)*1000","v":9.272010332646202},{"$f":"('2017'!R46/'2017 Rate'!$AA46)*1000","v":4.408481665540454},null,{"$f":"('2017'!T46/'2017 Rate'!$AA46)*1000","v":2.2230585659176638},null,null,null,null,null,"Greater Glasgow & Clyde",{"$f":"AA16+AA21+AA29+AA35+AA14+AA19","v":1169110}]
[44,"Highland",null,{"$f":"('2017'!D47/'2017 Rate'!$AA47)*1000","v":2.9504021864033048},{"$f":"('2017'!E47/'2017 Rate'!$AA47)*1000","v":0.67393397310475478},{"$f":"('2017'!F47/'2017 Rate'!$AA47)*1000","v":2.9783533650113356},{"$f":"('2017'!G47/'2017 Rate'!$AA47)*1000","v":-0.70188515171278609},{"$f":"('2017'!H47/'2017 Rate'!$AA47)*1000","v":34.653250100934812},{"$f":"('2017'!I47/'2017 Rate'!$AA47)*1000","v":31.702847914531507},{"$f":"('2017'!J47/'2017 Rate'!$AA47)*1000","v":-1.9845336811702228},{"$f":"('2017'!K47/'2017 Rate'!$AA47)*1000","v":18.845305754837106},{"$f":"('2017'!L47/'2017 Rate'!$AA47)*1000","v":20.82983943600733},{"$f":"('2017'!M47/'2017 Rate'!$AA47)*1000","v":4.773440168949346},{"$f":"('2017'!N47/'2017 Rate'!$AA47)*1000","v":12.621509984782136},{"$f":"('2017'!O47/'2017 Rate'!$AA47)*1000","v":7.8480698158327895},{"$f":"('2017'!P47/'2017 Rate'!$AA47)*1000","v":0.16149569862418089},{"$f":"('2017'!Q47/'2017 Rate'!$AA47)*1000","v":3.1864343613155688},{"$f":"('2017'!R47/'2017 Rate'!$AA47)*1000","v":3.0249386626913881},null,{"$f":"('2017'!T47/'2017 Rate'!$AA47)*1000","v":1.149104009441287},null,null,null,null,null,"Highland",{"$f":"AA20+AA8","v":321990}]
[45,"Lanarkshire",null,{"$f":"('2017'!D48/'2017 Rate'!$AA48)*1000","v":3.0571467643170802},{"$f":"('2017'!E48/'2017 Rate'!$AA48)*1000","v":0.82202604348684916},{"$f":"('2017'!F48/'2017 Rate'!$AA48)*1000","v":2.262470940391716},{"$f":"('2017'!G48/'2017 Rate'!$AA48)*1000","v":-2.7350219561484812E-2},{"$f":"('2017'!H48/'2017 Rate'!$AA48)*1000","v":21.906006412107033},{"$f":"('2017'!I48/'2017 Rate'!$AA48)*1000","v":18.848859647789951},{"$f":"('2017'!J48/'2017 Rate'!$AA48)*1000","v":2.6863993435947306},{"$f":"('2017'!K48/'2017 Rate'!$AA48)*1000","v":16.476987829152293},{"$f":"('2017'!L48/'2017 Rate'!$AA48)*1000","v":13.790588485557564},{"$f":"('2017'!M48/'2017 Rate'!$AA48)*1000","v":0.32364426481090364},{"$f":"('2017'!N48/'2017 Rate'!$AA48)*1000","v":3.7469800799234196},{"$f":"('2017'!O48/'2017 Rate'!$AA48)*1000","v":3.4233358151125155},{"$f":"('2017'!P48/'2017 Rate'!$AA48)*1000","v":4.7103155911446065E-2},{"$f":"('2017'!Q48/'2017 Rate'!$AA48)*1000","v":1.6820385030313161},{"$f":"('2017'!R48/'2017 Rate'!$AA48)*1000","v":1.6349353471198698},null,{"$f":"('2017'!T48/'2017 Rate'!$AA48)*1000","v":0.82506495677145852},null,null,null,null,null,"Lanarkshire",{"$f":"AA26+AA33","v":658130}]
[46,"Lothian",null,{"$f":"('2017'!D49/'2017 Rate'!$AA49)*1000","v":8.9324863679802124},{"$f":"('2017'!E49/'2017 Rate'!$AA49)*1000","v":0.44746753611782564},{"$f":"('2017'!F49/'2017 Rate'!$AA49)*1000","v":8.3231210298499061},{"$f":"('2017'!G49/'2017 Rate'!$AA49)*1000","v":0.16189780201247964},{"$f":"('2017'!H49/'2017 Rate'!$AA49)*1000","v":39.163528022935523},{"$f":"('2017'!I49/'2017 Rate'!$AA49)*1000","v":30.231041654955309},{"$f":"('2017'!J49/'2017 Rate'!$AA49)*1000","v":-0.22148518747540616},{"$f":"('2017'!K49/'2017 Rate'!$AA49)*1000","v":14.829388948226432},{"$f":"('2017'!L49/'2017 Rate'!$AA49)*1000","v":15.050874135701838},{"$f":"('2017'!M49/'2017 Rate'!$AA49)*1000","v":3.6876721569509248},{"$f":"('2017'!N49/'2017 Rate'!$AA49)*1000","v":13.58030243408848},{"$f":"('2017'!O49/'2017 Rate'!$AA49)*1000","v":9.8926302771375578},{"$f":"('2017'!P49/'2017 Rate'!$AA49)*1000","v":5.4662993985046935},{"$f":"('2017'!Q49/'2017 Rate'!$AA49)*1000","v":10.753836640620609},{"$f":"('2017'!R49/'2017 Rate'!$AA49)*1000","v":5.2875372421159144},null,{"$f":"('2017'!T49/'2017 Rate'!$AA49)*1000","v":2.7657541177131932},null,null,null,null,null,"Lothian",{"$f":"AA15+AA9+AA22+AA36","v":889450}]
[47,"Orkney",null,{"$f":"('2017'!D50/'2017 Rate'!$AA50)*1000","v":9.2727272727272734},{"$f":"('2017'!E50/'2017 Rate'!$AA50)*1000","v":2.0909090909090908},{"$f":"('2017'!F50/'2017 Rate'!$AA50)*1000","v":5.5},{"$f":"('2017'!G50/'2017 Rate'!$AA50)*1000","v":1.6818181818181819},{"$f":"('2017'!H50/'2017 Rate'!$AA50)*1000","v":35.5},{"$f":"('2017'!I50/'2017 Rate'!$AA50)*1000","v":26.227272727272727},{"$f":"('2017'!J50/'2017 Rate'!$AA50)*1000","v":1.6818181818181819},{"$f":"('2017'!K50/'2017 Rate'!$AA50)*1000","v":18.40909090909091},{"$f":"('2017'!L50/'2017 Rate'!$AA50)*1000","v":16.727272727272727},{"$f":"('2017'!M50/'2017 Rate'!$AA50)*1000","v":7.2272727272727275},{"$f":"('2017'!N50/'2017 Rate'!$AA50)*1000","v":14.909090909090908},{"$f":"('2017'!O50/'2017 Rate'!$AA50)*1000","v":7.6818181818181817},{"$f":"('2017'!P50/'2017 Rate'!$AA50)*1000","v":0.36363636363636359},{"$f":"('2017'!Q50/'2017 Rate'!$AA50)*1000","v":2.1818181818181821},{"$f":"('2017'!R50/'2017 Rate'!$AA50)*1000","v":1.8181818181818181},null,{"$f":"('2017'!T50/'2017 Rate'!$AA50)*1000","v":0.5},null,null,null,null,null,"Orkney",{"$f":"AA27","v":22000}]
[48,"Shetland",null,{"$f":"('2017'!D51/'2017 Rate'!$AA51)*1000","v":-5.7625649913344885},{"$f":"('2017'!E51/'2017 Rate'!$AA51)*1000","v":0.12998266897746966},{"$f":"('2017'!F51/'2017 Rate'!$AA51)*1000","v":-5.7625649913344885},{"$f":"('2017'!G51/'2017 Rate'!$AA51)*1000","v":-0.12998266897746966},{"$f":"('2017'!H51/'2017 Rate'!$AA51)*1000","v":23.353552859618716},{"$f":"('2017'!I51/'2017 Rate'!$AA51)*1000","v":29.116117850953209},{"$f":"('2017'!J51/'2017 Rate'!$AA51)*1000","v":-5.285961871750434},{"$f":"('2017'!K51/'2017 Rate'!$AA51)*1000","v":12.738301559792028},{"$f":"('2017'!L51/'2017 Rate'!$AA51)*1000","v":18.024263431542462},{"$f":"('2017'!M51/'2017 Rate'!$AA51)*1000","v":0.30329289428076256},{"$f":"('2017'!N51/'2017 Rate'!$AA51)*1000","v":8.318890814558058},{"$f":"('2017'!O51/'2017 Rate'!$AA51)*1000","v":8.0155979202772958},{"$f":"('2017'!P51/'2017 Rate'!$AA51)*1000","v":-0.77989601386481799},{"$f":"('2017'!Q51/'2017 Rate'!$AA51)*1000","v":2.2963604852686306},{"$f":"('2017'!R51/'2017 Rate'!$AA51)*1000","v":3.0762564991334487},null,{"$f":"('2017'!T51/'2017 Rate'!$AA51)*1000","v":0.99653379549393417},null,null,null,null,null,"Shetland",{"$f":"AA31","v":23080}]
[49,"Tayside",null,{"$f":"('2017'!D52/'2017 Rate'!$AA52)*1000","v":3.9174217116489221},{"$f":"('2017'!E52/'2017 Rate'!$AA52)*1000","v":1.1127400322045711},{"$f":"('2017'!F52/'2017 Rate'!$AA52)*1000","v":2.5379124708596694},{"$f":"('2017'!G52/'2017 Rate'!$AA52)*1000","v":0.26676920858468117},{"$f":"('2017'!H52/'2017 Rate'!$AA52)*1000","v":32.95440890192026},{"$f":"('2017'!I52/'2017 Rate'!$AA52)*1000","v":29.036987190271336},{"$f":"('2017'!J52/'2017 Rate'!$AA52)*1000","v":0.69936792520848856},{"$f":"('2017'!K52/'2017 Rate'!$AA52)*1000","v":19.632771756110454},{"$f":"('2017'!L52/'2017 Rate'!$AA52)*1000","v":18.933403830901966},{"$f":"('2017'!M52/'2017 Rate'!$AA52)*1000","v":1.7904780215818694},{"$f":"('2017'!N52/'2017 Rate'!$AA52)*1000","v":8.0655627388305415},{"$f":"('2017'!O52/'2017 Rate'!$AA52)*1000","v":6.2750847172486726},{"$f":"('2017'!P52/'2017 Rate'!$AA52)*1000","v":1.4275757648585643},{"$f":"('2017'!Q52/'2017 Rate'!$AA52)*1000","v":5.25607440697926},{"$f":"('2017'!R52/'2017 Rate'!$AA52)*1000","v":3.828498642120695},null,{"$f":"('2017'!T52/'2017 Rate'!$AA52)*1000","v":1.5020788771659979},null,null,null,null,null,"Tayside",{"$f":"AA28+AA7+AA12","v":416090}]
[50,"Western Isles",null,{"$f":"('2017'!D53/'2017 Rate'!$AA53)*1000","v":5.7513914656771794},{"$f":"('2017'!E53/'2017 Rate'!$AA53)*1000","v":3.1910946196660483},{"$f":"('2017'!F53/'2017 Rate'!$AA53)*1000","v":1.966604823747681},{"$f":"('2017'!G53/'2017 Rate'!$AA53)*1000","v":0.59369202226345075},{"$f":"('2017'!H53/'2017 Rate'!$AA53)*1000","v":36.697588126159552},{"$f":"('2017'!I53/'2017 Rate'!$AA53)*1000","v":30.946196660482375},{"$f":"('2017'!J53/'2017 Rate'!$AA53)*1000","v":-0.11131725417439703},{"$f":"('2017'!K53/'2017 Rate'!$AA53)*1000","v":21.743970315398887},{"$f":"('2017'!L53/'2017 Rate'!$AA53)*1000","v":21.855287569573285},{"$f":"('2017'!M53/'2017 Rate'!$AA53)*1000","v":5.454545454545455},{"$f":"('2017'!N53/'2017 Rate'!$AA53)*1000","v":12.578849721706863},{"$f":"('2017'!O53/'2017 Rate'!$AA53)*1000","v":7.1243042671614099},{"$f":"('2017'!P53/'2017 Rate'!$AA53)*1000","v":0.40816326530612246},{"$f":"('2017'!Q53/'2017 Rate'!$AA53)*1000","v":2.374768089053803},{"$f":"('2017'!R53/'2017 Rate'!$AA53)*1000","v":1.966604823747681},null,{"$f":"('2017'!T53/'2017 Rate'!$AA53)*1000","v":0.70500927643784794},null,null,null,null,null,"Western Isles",{"$f":"AA24","v":26950}]