{"text_format":"1","workbook":"xlsx","n_sheets":59,"sheets":["Introduction","Information","Info lookup","Comparing Indicators","Comparing Areas","Comparing NHS Board Areas","Total net migration","Total net migration 0-15","Total net migration 16-64","Total net migration 65+","Total in-migration","Total out-migration","Within Scotland net migration","Within Scotland in-migration","Within Scotland out-migration","Rest of UK net migration","Rest of UK in-migration","Rest of UK out-migration","Overseas net migration","Overseas in-migration","Overseas out-migration","WRS","NINo","Non-UK Births","Pupils ethnic group","Pupils with English as an add.","Pop born outside UK","WRS quarterly","NHS Overseas","NHS Overseas quarterly","Census country of birth","Births to non-UK mothers %birth","NINo Top 5 nationalities","Population estimates","Further sources of data","2004","2004 Rate","2005","2005 Rate","2006","2006 Rate","2007","2007 Rate","2008","2008 Rate","2009","2009 Rate","2010","2010 Rate","2011","2011 Rate","2012","2012 Rate","2013","2013 Rate","2014","2014 Rate","2015","2015 Rate"],"not_rendered":{"charts":3,"images":17,"macros":1,"external_links":1,"defined_names":95,"comments":0,"pivot_tables":0},"unopened":[],"bounds":{"document_bytes":16777216,"sheet_cells":100000,"rows_first":2000,"rows_last":500,"rows_between":2000,"halvings":0,"cell_chars":16384,"cell_head_chars":4096},"cells_cut":0,"cells_raw":0,"read":"whole","date_system":"1900"}

{"sheet":"Introduction","index":0,"n_rows":76,"n_cols":7,"rows_kept":76,"cut":false,"hidden":false,"merged":[[1,0,1,4],[43,1,43,3],[45,1,45,3],[46,1,46,4],[75,0,75,1],[69,1,69,3],[2,0,2,4],[4,1,4,9],[47,1,47,5],[49,1,49,3],[23,1,23,3]]}
[]
[]
[]
[]
[null,"Local Area Migration"]
[]
[]
[]
[]
[]
[]
[]
[]
[]
[]
[]
[]
[]
[]
[]
[]
[null,"The main worksheets are:"]
[]
[null,"Information on Indicators and Data Sources",null,null,"gives information on the different data sources used for the indicators"]
[null,"Comparing Indicators",null,null,"allows you to compare up to three indicators for one selected area"]
[null,"Comparing Areas",null,null,"allows you to compare up to three council areas for one selected indicator"]
[null,"Comparing NHS Board Areas",null,null,"allows you to compare up to three NHS Board areas for one selected indicator"]
[]
[]
[]
[]
[]
[]
[]
[]
[]
[]
[]
[]
[]
[]
[]
[null,"Additional data and information is available which cannot be accessed from the main worksheets:"]
[null,"Worker Registration Scheme - quarterly data"]
[null,"NHS Registrations from Overseas"]
[null,"NHS Registrations from Overseas - quarterly data"]
[null,"Births to non-UK born mothers as percentage of total births"]
[null,"Nationalities of NINo allocations to overseas nationals in 2014"]
[null,"Mid-year population estimates"]
[null,"Further sources of data informing on migration"]
[]
[null,"Background data and information on the data source is also available:"]
[]
[null,"Total net migration",null,null,null,"Information","Data"]
[null,"Total net migration for ages 0-15",null,null,null,"Information","Data"]
[null,"Total net migration for ages 16 - 64",null,null,null,"Information","Data"]
[null,"Total net migration for people aged 65+",null,null,null,"Information","Data"]
[null,"Total in-migration",null,null,null,"Information","Data"]
[null,"Total out-migration",null,null,null,"Information","Data"]
[null,"Within Scotland net migration",null,null,null,"Information","Data"]
[null,"Within Scotland in-migration",null,null,null,"Information","Data"]
[null,"Within Scotland out-migration",null,null,null,"Information","Data"]
[null,"Rest of UK net migration",null,null,null,"Information","Data"]
[null,"Rest of UK in-migration",null,null,null,"Information","Data"]
[null,"Rest of UK out-migration",null,null,null,"Information","Data"]
[null,"Overseas net migration",null,null,null,"Information","Data"]
[null,"Overseas in-migration",null,null,null,"Information","Data"]
[null,"Overseas out-migration",null,null,null,"Information","Data"]
[null,"Worker Registration Scheme",null,null,null,"Information","Data"]
[null,"National Insurance Number (NINo) allocations to adult overseas nationals entering the UK",null,null,null,"Information","Data"]
[null,"Births to non-UK mothers",null,null,null,"Information","Data"]
[null,"Pupils from a minority ethnic group",null,null,null,"Information","Data"]
[null,"Pupils with English as an additional language",null,null,null,"Information","Data"]
[null,"Estimate of resident population born outside the UK",null,null,null,"Information","Data"]
[]
["© Crown Copyright 2016"]

{"sheet":"Information","index":1,"n_rows":272,"n_cols":4,"rows_kept":272,"cut":false,"hidden":false,"merged":[[12,2,12,3],[13,2,13,3],[271,2,271,3],[24,2,24,3],[30,2,30,3],[31,2,31,3],[25,2,25,3],[27,2,27,3],[28,2,28,3],[29,2,29,3],[26,2,26,4],[38,2,38,3],[35,2,35,3],[36,2,36,3],[37,2,37,3],[6,2,6,3],[4,2,4,3],[34,2,34,3],[7,2,7,3],[20,2,20,3],[21,2,21,3],[22,2,22,3],[23,2,23,3],[16,2,16,3],[17,2,17,3],[18,2,18,3],[19,2,19,3],[10,2,10,3],[11,2,11,3],[14,2,14,3],[15,2,15,3]]}
[]
[]
[]
[]
[null,null,"Information on Indicators and Data Sources"]
[]
[null,null,"This page contains information on the strengths and weaknesses of each indicator. Similar information is provided for some key data sources of migration data. Links are also provided for further information."]
[]
[null,null,"Click on the title to view information on the indicator:"]
[]
[null,null,"Total net migration"]
[null,null,"Total net migration for ages 0-15"]
[null,null,"Total net migration for ages 16 - 64"]
[null,null,"Total net migration for people aged 65+"]
[null,null,"Total in-migration"]
[null,null,"Total out-migration"]
[null,null,"Within Scotland net migration"]
[null,null,"Within Scotland in-migration"]
[null,null,"Within Scotland out-migration"]
[null,null,"Rest of UK net migration"]
[null,null,"Rest of UK in-migration"]
[null,null,"Rest of UK out-migration"]
[null,null,"Overseas net migration"]
[null,null,"Overseas in-migration"]
[null,null,"Overseas out-migration"]
[null,null,"Worker Registration Scheme"]
[null,null,"National Insurance Number (NINo) allocations to adult overseas nationals entering the UK"]
[null,null,"Births to non-UK mothers"]
[null,null,"Pupils from a minority ethnic group"]
[null,null,"Pupils with English as an additional language"]
[null,null,"Estimate of resident population born outside the UK"]
[null,null,"NHS registrations from overseas"]
[]
[null,null,"Additional key data sources used for the indicators:"]
[null,null,"Census"]
[null,null,"Community Health Index (CHI)"]
[null,null,"International Passenger Survey (IPS)"]
[null,null,"National Health Service Central Register (NHSCR)"]
[null,null,"NRS mid-year population and migration estimates"]
[]
[null,null,"Total net migration"]
[null,null,"Indicator of:","Difference between in and out migration from overseas, the rest of the UK and within Scotland."]
[null,null,"Information:","These figures are the National Records of Scotland (NRS) National Statistics for total net migration. They include asylum seekers and rounding adjustments. More information on the methodology for the NRS migration estimates can be found in the Migration section of this website."]
[null,null,"Strengths:","Provides an estimate of all long-term migrants (that is those that stay for 12 months or more) at council and NHS Board area level."]
[null,null,null,"These estimates are National Statistics."]
[null,null,"Weaknesses:","Estimates are only produced annually, about 10 months after the period to which they refer, and rely on administrative and survey data rather than a comprehensive count of people moving."]
[null,null,"Source:","Total Migration To and From an Area section of the NRS website"]
[]
[null,null,"Total net migration for ages 0-15"]
[null,null,"Indicator of:","Difference between in and out migration from overseas, the rest of the UK and within Scotland of people aged 15 and under."]
[null,null,"Information:","These figures include asylum seekers and rounding adjustments. More information on the methodology for the NRS migration estimates can be found in the Migration section of this website."]
[null,null,"Strengths:","Provides an estimate of all long-term migrants (that is those that stay for 12 months or more) within this age group at council and NHS Board area level."]
[null,null,null,"These estimates are National Statistics."]
[null,null,"Weaknesses:","Estimates are only produced annually, about 10 months after the period to which they refer, and rely on administrative and survey data rather than a comprehensive count of people moving."]
[null,null,"Source:","Total Migration To and From an Area section of the NRS website"]
[]
[null,null,"Total net migration for ages 16-64"]
[null,null,"Indicator of:","Difference between in and out migration from overseas, the rest of the UK and within Scotland of people aged between 16 and 64."]
[null,null,"Information:","These figures include asylum seekers and rounding adjustments. More information on the methodology for the NRS migration estimates can be found in the Migration section of this website."]
[null,null,"Strengths:","Provides an estimate of all long-term migrants (that is those that stay for 12 months or more) within this age group at council and NHS Board area level."]
[null,null,null,"These estimates are National Statistics."]
[null,null,"Weaknesses:","Estimates are only produced annually, about 10 months after the period to which they refer, and rely on administrative and survey data rather than a comprehensive count of people moving."]
[null,null,"Source:","Total Migration To and From an Area section of the NRS website"]
[]
[null,null,"Total net migration for ages 65+"]
[null,null,"Indicator of:","Difference between in and out migration from overseas, the rest of the UK and within Scotland of people aged 65 and over."]
[null,null,"Information:","These figures include asylum seekers and rounding adjustments. More information on the methodology for the NRS migration estimates can be found in the Migration section of this website."]
[null,null,"Strengths:","Provides an estimate of all long-term migrants (that is those that stay for 12 months or more) within this age group at Council and NHS Board area level."]
[null,null,null,"These estimates are National Statistics."]
[null,null,"Weaknesses:","Estimates are only produced annually, about 10 months after the period to which they refer, and rely on administrative and survey data rather than a comprehensive count of people moving."]
[null,null,"Source:","Total Migration To and From an Area section of the NRS website"]
[]
[null,null,"Total in-migration"]
[null,null,"Indicator of:","Flow of people to administrative areas in Scotland from overseas, the rest of the UK and other areas within Scotland"]
[null,null,"Information:","These figures are the NRS National Statistics for total in-migration. Figures include asylum seekers. Scotland level estimates cannot be derived by adding together the estimates for individual council areas or NHS Board areas because administrative area estimates include moves within Scotland. It would not, therefore, be appropriate to compare total in-migration for Scotland with total in-migration for an administrative area. More information on the methodology for the NRS migration estimates can be found in the Migration section of this website."]
[null,null,"Strengths:","These estimates are National Statistics."]
[null,null,"Weaknesses:","Estimates are only produced annually, about 10 months after the period to which they refer, and rely on administrative and survey data rather than a comprehensive count of people moving."]
[null,null,"Source:","Total Migration To and From an Area section of the NRS website"]
[]
[null,null,"Total out-migration"]
[null,null,"Indicator of:","Flow of people from administrative areas in Scotland to overseas, the rest of the UK and other areas within Scotland"]
[null,null,"Information:","These figures are the NRS National Statistics for total in-migration. Figures include asylum seekers. Scotland level estimates cannot be derived by adding together the estimates for individual council areas or NHS Board areas because administrative area estimates include moves within Scotland. It would not, therefore, be appropriate to compare total in-migration for Scotland with total in-migration for an administrative area. More information on the methodology for the NRS migration estimates can be found in the Migration section of this website."]
[null,null,"Strengths:","These estimates are National Statistics."]
[null,null,"Weaknesses:","Estimates are only produced annually, about 10 months after the period to which they refer, and rely on administrative and survey data rather than a comprehensive count of people moving."]
[null,null,"Source:","Total Migration To and From an Area section of the NRS website"]
[]
[null,null,"Within Scotland net migration"]
[null,null,"Indicator of:","Net migration between administrative areas within Scotland"]
[null,null,"Information:","Moves within Scotland at council area level are derived from a combination of the National Health Service Central Register (NHSCR) and the Community Health Index (CHI), and from the NHSCR for NHS Board areas. More information on the methodology for the NRS migration estimates can be found in the Migration section of this website."]
[null,null,"Strengths:","These estimates are National Statistics."]
[null,null,"Weaknesses:","Estimates are only produced annually, about 10 months after the period to which they refer, and rely on administrative and survey data rather than a comprehensive count of people moving."]
[null,null,"Source:","Migration within Scotland section of the NRS website"]
[]
[null,null,"Within Scotland in-migration"]
[null,null,"Indicator of:","Flow of people to administrative areas in Scotland from other areas within Scotland"]
[null,null,"Information:","Moves within Scotland at council area level are derived from a combination of the National Health Service Central Register (NHSCR) and the Community Health Index (CHI), and from the NHSCR for NHS Board areas. More information on the methodology for the NRS migration estimates can be found in the Migration section of this website."]
[null,null,"Strengths:","These estimates are National Statistics."]
[null,null,"Weaknesses:","Estimates are only produced annually, about 10 months after the period to which they refer, and rely on administrative and survey data rather than a comprehensive count of people moving."]
[null,null,"Source:","Migration within Scotland section of the NRS website"]
[]
[null,null,"Within Scotland out-migration"]
[null,null,"Indicator of:","Flow of people from administrative areas in Scotland to other areas within Scotland"]
[null,null,"Information:","Moves within Scotland at council area level are derived from a combination of the National Health Service Central Register (NHSCR) and the Community Health Index (CHI), and from the NHSCR for NHS Board areas. More information on the methodology for the NRS migration estimates can be found in the Migration section of this website."]
[null,null,"Strengths:","These estimates are National Statistics."]
[null,null,"Weaknesses:","Estimates are only produced annually, about 10 months after the period to which they refer, and rely on administrative and survey data rather than a comprehensive count of people moving."]
[null,null,"Source:","Migration within Scotland section of the NRS website"]
[]
[null,null,"Rest of UK net migration"]
[null,null,"Indicator of:","Net migration between administrative areas in Scotland and the rest of the UK"]
[null,null,"Information:","These are the NRS National Statistics for rest of UK migration. Moves between Scottish administrative areas and the rest of the UK are derived from the National Health Service Central Register (NHSCR) and Community Health Index (CHI). Moves between Scotland and the rest of the UK used here do not include movements to/from the armed forces. More information on the methodology for the NRS migration estimates can be found in the Migration section of this website."]
[null,null,"Strengths:","These estimates are National Statistics."]
[null,null,"Weaknesses:","Estimates are only produced annually at Scottish administrative area level, about 10 months after the period to which they refer, and rely on administrative and survey data rather than a comprehensive count of people moving."]
[]
[null,null,"Source:","Migration between Scotland and the Rest of the UK section of the NRS website"]
[]
[null,null,"Rest of UK in-migration"]
[null,null,"Indicator of:","Flow of people to administrative areas in Scotland from the rest of the UK"]
[null,null,"Information:","These are the NRS National Statistics for rest of UK migration. Moves between Scottish administrative areas and the rest of the UK are derived from the National Health Service Central Register (NHSCR) and Community Health Index (CHI). Moves between Scotland and the rest of the UK used here do not include movements to/from the armed forces. More information on the methodology for the NRS migration estimates can be found in the Migration section of this website."]
[null,null,"Strengths:","These estimates are National Statistics."]
[null,null,"Weaknesses:","Estimates are only produced annually at Scottish administrative area level, about 10 months after the period to which they refer, and rely on administrative and survey data rather than a comprehensive count of people moving."]
[]
[null,null,"Source:","Migration between Scotland and the Rest of the UK section of the NRS website"]
[]
[null,null,"Rest of UK out-migration"]
[null,null,"Indicator of:","Flow of people from administrative areas in Scotland to the rest of the UK"]
[null,null,"Information:","These are the NRS National Statistics for rest of UK migration. Moves between Scottish administrative areas and the rest of the UK are derived from the National Health Service Central Register (NHSCR) and Community Health Index (CHI). Moves between Scotland and the rest of the UK used here do not include movements to/from the armed forces. More information on the methodology for the NRS migration estimates can be found in the Migration section of this website."]
[null,null,"Strengths:","These estimates are National Statistics."]
[null,null,"Weaknesses:","Estimates are only produced annually at Scottish administrative area level, about 10 months after the period to which they refer, and rely on administrative and survey data rather than a comprehensive count of people moving."]
[]
[null,null,"Source:","Migration between Scotland and the Rest of the UK section of the NRS website"]
[]
[null,null,"Overseas net migration"]
[null,null,"Indicator of:","Net migration to/from overseas"]
[null,null,"Information:","These are the NRS National Statistics for overseas net migration. There is not a single, all-inclusive system in place to measure all movements of the population into and out of the UK. Therefore, data from the International Passenger Survey (IPS), the Home Office, and the Labour Force Survey (LFS) is combined to compile the National Statistics estimates of international migration into Scotland. Data from the National Health Service Central Register (NHSCR) and the Community Health Index (CHI) is also used for this process. More information on the methodology for the NRS migration estimates can be found in the Migration section of this website."]
[null,null,"Strengths:","These estimates are National Statistics."]
[null,null,"Weaknesses:","The IPS sample size for Scotland is small, making the estimates less reliable. "]
[null,null,null,"Estimates are only produced annually, about 10 months after the period to which they refer."]
[null,null,"Source:","Migration between Scotland and Overseas section of the NRS website"]
[]
[null,null,"Overseas in-migration"]
[null,null,"Indicator of:","Flow of people to administrative areas in Scotland from overseas"]
[null,null,"Information:","These are the NRS National Statistics for overseas in-migration. There is not a single, all-inclusive system in place to measure all movements of the population into and out of the UK. Therefore, data from the International Passenger Survey (IPS), the Home Office, and the Labour Force Survey (LFS) is combined to compile the National Statistics estimates of international migration into Scotland. Data from the National Health Service Central Register (NHSCR) and the Community Health Index (CHI) is also used for this process. More information on the methodology for the NRS migration estimates can be found in the Migration section of this website."]
[null,null,"Strengths:","These estimates are National Statistics."]
[null,null,"Weaknesses:","The IPS sample size for Scotland is small, making the estimates less reliable. "]
[null,null,null,"Estimates are only produced annually, about 10 months after the period to which they refer."]
[null,null,"Source:","Migration between Scotland and Overseas section of the NRS website"]
[]
[null,null,"Overseas out-migration"]
[null,null,"Indicator of:","Flow of persons from administrative areas in Scotland to overseas"]
[null,null,"Information:","These are the NRS National Statistics for overseas out-migration. There is not a single, all-inclusive system in place to measure all movements of the population into and out of the UK. Therefore, data from the International Passenger Survey (IPS), the Home Office, and the Labour Force Survey (LFS) is combined to compile the National Statistics estimates of international migration into Scotland. Data from the National Health Service Central Register (NHSCR) and the Community Health Index (CHI) is also used for this process. Figures for 2003/04 to 2010/11 have been revised from the previous release to include improvements in estimating international out-migration. More information on the methodology for the NRS migration estimates can be found in the Migration section of this website."]
[null,null,"Strengths:","These estimates are National Statistics."]
[null,null,"Weaknesses:","The IPS sample size for Scotland is small, making the estimates less reliable. "]
[null,null,null,"Estimates are only produced annually, about 10 months after the period to which they refer."]
[null,null,"Source:","Migration between Scotland and Overseas section of the NRS website"]
[]
[null,null,"Worker Registration Scheme (WRS)"]
[null,null,"Indicator of:","Employees from A8 countries"]
[null,null,"Information:","The Worker Registration Scheme started in May 2004 and was discontinued on 1 May 2011. Nationals of the A8 countries (Czech Republic, Estonia, Hungary, Latvia, Lithuania, Poland, Slovakia, and Slovenia) who wished to take up employment in the UK for a period of at least a month were generally required to register with the WRS. The data used for the WRS indicator at Scotland level was taken from the Home Office 'Accession Monitoring Report' series, which was published quarterly. Council level data is no longer available online, but can be requested from the Local Government Association (LGA) - info@local.gov.uk."]
[null,null,"Strengths:","In addition to total numbers registered, information on gender, age, industry, nationality and hourly rate is also available. (Detailed breakdowns are not shown here.)"]
[null,null,null,"Provides council area data."]
[null,null,"Weaknesses:","Excludes the self-employed; those not working; those not from A8 countries; people working for an employer who is not established in this country; those who hold dual citizenship of the UK, another country within the European Economic Area (EEA), or Switzerland. "]
[null,null,null,"Does not provide any indication of out-migration. "]
[null,null,null,"Only provides an indication of in-flow, not stock as it is not necessary to deregister. "]
[null,null,null,"Dates relate to the date the application is approved, not date of entry to UK. "]
[null,null,null,"Location data relates to that of the employer, not where the individual lives, and migrants may move to a different location after their first registration. "]
[null,null,null,"Dependents of those registering are recorded and so may be double counted. "]
[null,null,"Source:","Local Government Association, Worker Registration Scheme Data Archive (no longer available online)"]
[]
[null,null,"National Insurance Number (NINo) allocations to adult overseas nationals entering the UK"]
[null,null,"Indicator of:","Inflow of overseas nationals"]
[null,null,"Information:","These data have been obtained using the Stat-Xplore tool on the DWP website, which has annual council area data. Data used here is on a calendar year basis."]
[null,null,"Strengths:","Includes any overseas national looking to work or claim benefits/tax credits in the UK, self-employed or students working part-time. "]
[null,null,null,"Provides council area level data. "]
[null,null,null,"Location data relates to the residence of individual, not their employer."]
[null,null,"Weaknesses:","Based on the date of registration not the date of arrival, and the lag between the two can often be a year or even longer. \nRandom adjustments have been applied to the data to avoid the disclosure of confidential information. "]
[null,null,null,"Excludes those not working, or planning to work or claim benefits, so children and students that don't work are not included. "]
[null,null,null,"Excludes returning UK nationals. "]
[null,null,null,"Does not provide any outflow information or overall stock. "]
[null,null,null,"Includes migrants staying less than one month as there is no minimum stay for registration. "]
[null,null,null,"Data reflects the migrant's first destination or location at registration, not where migrants settle nor does it reflect the stock of migrants nationally."]
[null,null,"Source:","Department for Work and Pensions - Stat-Xplore"]
[]
[null,null,"Births to non-UK mothers"]
[null,null,"Indicator of:","Population born to non-UK mothers"]
[null,null,"Information:","This data comes from the NRS Vital Events branch and is collected when the birth is registered. This data is published annually on a calendar year basis. Data is available back to 1996."]
[null,null,"Strengths:","Gives an indication of migrants choosing to settle in an area."]
[null,null,"Weaknesses:","Only gives information on a very specific group of migrants (that is mothers having children)."]
[null,null,"Source:","Births section of the Vital Events Reference Tables on the NRS website"]
[]
[null,null,"Pupils from a minority ethnic group"]
[null,null,"Indicator of:","Migrants with school aged children"]
[null,null,"Information:","These figures come from the Pupil Census which is collected by the Scottish Government through the ScotXed programme, and are available annually from 2003. The Pupil Census covers all publicly funded schools in Scotland (local authority and grant-aided). It is conducted in September and the data is published in December on the Scottish Government website."]
[null,null,"Strengths:","Data is reasonably current. "]
[null,null,null,"Can provide an indication of where migrant families with school aged children live, rather than work."]
[null,null,"Weaknesses:","Provides no information about migrants without school aged children. "]
[null,null,null,"Although over 97.5 per cent of pupils disclosed their ethnic background, some pupils' ethnicity was in the 'unknown' category. "]
[null,null,null,"No specific nationality data. "]
[null,null,null,"Only includes children in publicly funded schools. "]
[null,null,null,"Non migrants may be from a minority ethnic group."]
[null,null,"Source:","Pupil Census, Scottish Government"]
[]
[null,null,"Pupils with English as an additional language"]
[null,null,"Indicator of:","Migrants from non-English speaking countries with school aged children"]
[null,null,"Information:","These figures come from the Pupil Census which is collected by the Scottish Government through the ScotXed programme, and are available annually from 2003. The Pupil Census covers all publicly funded schools in Scotland (local authority and grant-aided). It is conducted in September and the data is published in December on the Scottish Government website."]
[null,null,"Strengths:","Data is reasonably current. "]
[null,null,null,"Can provide an indication of where migrant families with school aged children live, rather than work."]
[null,null,"Weaknesses:","Provides no information about migrants without school aged children. "]
[null,null,null,"No specific nationality data. "]
[null,null,null,"Only includes children in publicly funded schools. "]
[null,null,null,"Excludes migrants from English speaking countries and those fluent in English. "]
[null,null,null,"Includes non-recent migrants still speaking a different home language if pupils have English as an additional language."]
[null,null,"Source:","Pupil Census, Scottish Government"]
[]
[null,null,"Estimate of resident population born outside the UK "]
[null,null,"Indicator of:","Migrant stocks"]
[null,null,"Information:","The country of birth data from the Annual Population Survey is used for this indicator. This information gives an estimate of the number of people living in Scotland who were born outside the UK. The data is available from 2004, on a calendar year basis. The APS comprises of data from the Labour Force Survey, plus data from the Annual Local (Area) Labour Force Survey Boosts for England, Scotland and Wales. It is updated quarterly and is published about 8 months after the time period to which it refers. Data is available at council area level although some data is suppressed. Suppressed estimates are indicated with a '*'. "]
[null,null,"Strengths:","Gives a more robust estimate of change over time than looking at nationality as an individual's nationality can change. "]
[null,null,null,"Provides more current information on migrant stocks (that is migrants currently living in Scotland) than the Census."]
[null,null,"Weaknesses:","LFS excludes most communal establishments and foreign students living in halls of residence, and so the number of foreign born migrants is likely to be under-reported. "]
[null,null,null,"For some council areas an estimate cannot be made from the APS as the number of people born outside the UK is too small for the estimate to be reliable. "]
[null,null,null,"Some people born outside the UK may have lived in the UK for a long time and are therefore not regarded as migrants."]
[null,null,"Source:","Population by Country of Birth and Nationality section of the NRS website"]
[]
[null,null,"NHS registrations from overseas"]
[null,null,"Indicator of:","Recent migrants from overseas to areas within Scotland."]
[null,null,"Information:","The data shows overseas migrants who have registered with a GP. A lag is assumed between arrival in the UK and the migrant appearing on the National Health Service Central Register (NHSCR). This data is used to produce age and sex distributions of international in-migrants in the NRS mid-year estimates."]
[null,null,"Strengths:","Most comprehensive administrative data source available. "]
[null,null,null,"Data is reasonably current."]
[null,null,"Weaknesses:","Data source shows limited information on out-migration."]
[null,null,null,"Only shows those migrants who have registered with a GP, and registration patterns tend to differ by sex and age which affects the completeness of this data. "]
[null,null,null,"Data does not show the exact time of migration as there is a difference between the move date and the date at which the change of GP is processed. This lag is not consistent. "]
[null,null,null,"Captures short-term migrants (that is those staying for less than 12 months), and these cannot be distinguished from long-term migrants. "]
[null,null,null,"Does not capture returning migrants."]
[null,null,"Source:","Migration - Methodology section of the NRS website"]
[]
[null,null,"Census"]
[null,null,"Information:","Every ten years a census of the UK population is carried out, with the data collected providing detailed data on various aspects of the population. Data from the 2011 Census already published includes information on country of birth, which is included in this spreadsheet. Future updates of this spreadsheet will include data on migration, based on responses to a question on where a person lived one year before Census date."]
[null,null,"Strengths:","Most comprehensive and detailed source of population and demography data."]
[null,null,"Weaknesses:","Data is only collected once every ten years."]
[null,null,"Source:","Scotland's Census 2011 - Census Results"]
[]
[null,null,"Community Health Index (CHI)"]
[null,null,"Information:","The CHI holds records of people registered with a NHS GP in Scotland."]
[null,null,"Strengths:","The CHI records provided to NRS contain the postcode of the patient's address which enables migration to be estimated for council areas by matching two extracts taken one year apart."]
[null,null,"Weaknesses:","Moves derived from the National Health Service Central Register (NHSCR) are considered to be more reliable than moves derived from the CHI, and so the CHI data is adjusted to ensure that it is consistent with the NHSCR data for moves across a NHS Board area boundary by origin, destination, age and sex."]
[null,null,"Source:","Migration - Methodology section of the NRS website"]
[]
[null,null,"International Passenger Survey (IPS)"]
[null,null,"Information:","The IPS provides information on moves into and out of Scotland with an origin or destination of outside the UK. It is a continuous sample survey conducted by the Office for National Statistics (ONS) at the principal international air, sea and Channel Tunnel routes between the UK and countries outside the British Isles. The IPS is used along with information from the Home Office, the Labour Force Survey (LFS), and the Irish Central Statistics Office to compile the National Statistics estimates of international migration into Scotland. The allocation of these migrants to Scotland is based on the LFS as it provides more reliable data on the geographical distribution of immigrants than the destination provided in the IPS since it is based on where migrants actually live rather than on their initial intentions. The outflow of international migrants from Scotland is based directly on the IPS data. The IPS collects data on intentions which may or may not be realised, and so an adjustment is made to the data for visitor and migrant switchers - people who change their intentions and their migratory status. The adjusted IPS data is called the Long-Term International Migration (LTIM) estimate and is produced by ONS."]
[null,null,"Strengths:","It is the prime source of migration data to and from the UK. "]
[null,null,null,"Provides estimates of both inflows and outflows of migrants."]
[null,null,"Weaknesses:","Sample size for Scotland is small."]
[null,null,"Source:","International Passenger Survey methodology section of the ONS website"]
[]
[null,null,"National Health Service Central Register (NHSCR)"]
[null,null,"Information:","The NHSCR system records movement of patient records between NHS Board areas in the UK. Counts of these re-registrations are used as a proxy indicator for moves within the UK. A lag is assumed between the arrival at destination and the date of the migrant appearing on the NHSCR."]
[null,null,"Strengths:","Most comprehensive administrative data source available. "]
[null,null,null,"Data is reasonably current."]
[null,null,"Weaknesses:","Only shows those who have registered with a GP. "]
[null,null,null,"Data does not show the exact time of migration as there is a difference between move date and date at which the change of GP is processed. This lag is not consistent. "]
[null,null,null,"There may be month to month variation in the volume of records loaded onto the NHSCR. "]
[null,null,null,"Captures short-term migrants (that is those staying for less than 12 months), and these cannot be distinguished from long-term migrants. "]
[null,null,"Source:","Migration - Methodology section of the NRS website"]
[]
[null,null,"NRS mid-year population and migration estimates"]
[null,null,"Information:","NRS mid-year population and migration estimates are produced annually, and use a range of data sources to produce migration estimates for within Scotland, rest of UK and overseas migration. More information on the methodology for the NRS migration estimates can be found in the Mid-Year Population Estimates section of this website. The population and migration estimates in this tool are based on the 2011 Census."]
[null,null,"Strengths:","Provides an estimate of all long-term migrants (that is those that stay for 12 months or more) at council and NHS Board area level."]
[null,null,"Weaknesses:","Estimates are only produced annually, about 10 months after the period to which they refer, and rely on administrative and survey data rather than a comprehensive count of people moving."]
[null,null,"Source:","Mid-Year Population Estimates section of the NRS website"]
[]
[]
[null,null,"© Crown Copyright 2016"]

{"sheet":"Info lookup","index":2,"n_rows":25,"n_cols":7,"rows_kept":25,"cut":false,"hidden":true,"merged":[]}
[]
[null,null,"Indicator of:","Information:","Strengths:","Weaknesses:","Source:"]
[1,"Not specified","~","~","~","~","~"]
[2,"Total net migration",{"$f":"Information!D42","v":"Difference between in and out migration from overseas, the rest of the UK and within Scotland."},{"$f":"Information!D43","v":"These figures are the National Records of Scotland (NRS) National Statistics for total net migration. They include asylum seekers and rounding adjustments. More information on the methodology for the NRS migration estimates can be found in the Migration section of this website."},{"$f":"Information!D44","v":"Provides an estimate of all long-term migrants (that is those that stay for 12 months or more) at council and NHS Board area level."},{"$f":"CONCATENATE(Information!D46)","v":"Estimates are only produced annually, about 10 months after the period to which they refer, and rely on administrative and survey data rather than a comprehensive count of people moving."},{"$f":"Information!D47","v":"Total Migration To and From an Area section of the NRS website"}]
[3,"Total net migration for ages 0-15",{"$f":"Information!D50","v":"Difference between in and out migration from overseas, the rest of the UK and within Scotland of people aged 15 and under."},{"$f":"Information!D51","v":"These figures include asylum seekers and rounding adjustments. More information on the methodology for the NRS migration estimates can be found in the Migration section of this website."},{"$f":"CONCATENATE(Information!D52,Information!D53)","v":"Provides an estimate of all long-term migrants (that is those that stay for 12 months or more) within this age group at council and NHS Board area level.These estimates are National Statistics."},{"$f":"CONCATENATE(Information!D54)","v":"Estimates are only produced annually, about 10 months after the period to which they refer, and rely on administrative and survey data rather than a comprehensive count of people moving."},{"$f":"Information!D55","v":"Total Migration To and From an Area section of the NRS website"}]
[4,"Total net migration for ages 16 - 64",{"$f":"Information!D58","v":"Difference between in and out migration from overseas, the rest of the UK and within Scotland of people aged between 16 and 64."},{"$f":"Information!D59","v":"These figures include asylum seekers and rounding adjustments. More information on the methodology for the NRS migration estimates can be found in the Migration section of this website."},{"$f":"CONCATENATE(Information!D60,Information!D61)","v":"Provides an estimate of all long-term migrants (that is those that stay for 12 months or more) within this age group at council and NHS Board area level.These estimates are National Statistics."},{"$f":"CONCATENATE(Information!D62)","v":"Estimates are only produced annually, about 10 months after the period to which they refer, and rely on administrative and survey data rather than a comprehensive count of people moving."},{"$f":"Information!D63","v":"Total Migration To and From an Area section of the NRS website"}]
[5,"Total net migration for people aged 65+",{"$f":"Information!D66","v":"Difference between in and out migration from overseas, the rest of the UK and within Scotland of people aged 65 and over."},{"$f":"Information!D67","v":"These figures include asylum seekers and rounding adjustments. More information on the methodology for the NRS migration estimates can be found in the Migration section of this website."},{"$f":"CONCATENATE(Information!D68,Information!D69)","v":"Provides an estimate of all long-term migrants (that is those that stay for 12 months or more) within this age group at Council and NHS Board area level.These estimates are National Statistics."},{"$f":"CONCATENATE(Information!D70)","v":"Estimates are only produced annually, about 10 months after the period to which they refer, and rely on administrative and survey data rather than a comprehensive count of people moving."},{"$f":"Information!D71","v":"Total Migration To and From an Area section of the NRS website"}]
[6,"Total in-migration",{"$f":"Information!D74","v":"Flow of people to administrative areas in Scotland from overseas, the rest of the UK and other areas within Scotland"},{"$f":"Information!D75","v":"These figures are the NRS National Statistics for total in-migration. Figures include asylum seekers. Scotland level estimates cannot be derived by adding together the estimates for individual council areas or NHS Board areas because administrative area estimates include moves within Scotland. It would not, therefore, be appropriate to compare total in-migration for Scotland with total in-migration for an administrative area. More information on the methodology for the NRS migration estimates can be found in the Migration section of this website."},{"$f":"Information!D76","v":"These estimates are National Statistics."},{"$f":"Information!D77","v":"Estimates are only produced annually, about 10 months after the period to which they refer, and rely on administrative and survey data rather than a comprehensive count of people moving."},{"$f":"Information!D78","v":"Total Migration To and From an Area section of the NRS website"}]
[7,"Total out-migration",{"$f":"Information!D81","v":"Flow of people from administrative areas in Scotland to overseas, the rest of the UK and other areas within Scotland"},{"$f":"Information!D82","v":"These figures are the NRS National Statistics for total in-migration. Figures include asylum seekers. Scotland level estimates cannot be derived by adding together the estimates for individual council areas or NHS Board areas because administrative area estimates include moves within Scotland. It would not, therefore, be appropriate to compare total in-migration for Scotland with total in-migration for an administrative area. More information on the methodology for the NRS migration estimates can be found in the Migration section of this website."},{"$f":"Information!D83","v":"These estimates are National Statistics."},{"$f":"Information!D84","v":"Estimates are only produced annually, about 10 months after the period to which they refer, and rely on administrative and survey data rather than a comprehensive count of people moving."},{"$f":"Information!D85","v":"Total Migration To and From an Area section of the NRS website"}]
[8,"Within Scotland net migration",{"$f":"Information!D88","v":"Net migration between administrative areas within Scotland"},{"$f":"Information!D89","v":"Moves within Scotland at council area level are derived from a combination of the National Health Service Central Register (NHSCR) and the Community Health Index (CHI), and from the NHSCR for NHS Board areas. More information on the methodology for the NRS migration estimates can be found in the Migration section of this website."},{"$f":"Information!D90","v":"These estimates are National Statistics."},{"$f":"Information!D91","v":"Estimates are only produced annually, about 10 months after the period to which they refer, and rely on administrative and survey data rather than a comprehensive count of people moving."},{"$f":"Information!D92","v":"Migration within Scotland section of the NRS website"}]
[9,"Within Scotland in-migration",{"$f":"Information!D95","v":"Flow of people to administrative areas in Scotland from other areas within Scotland"},{"$f":"Information!D96","v":"Moves within Scotland at council area level are derived from a combination of the National Health Service Central Register (NHSCR) and the Community Health Index (CHI), and from the NHSCR for NHS Board areas. More information on the methodology for the NRS migration estimates can be found in the Migration section of this website."},{"$f":"Information!D97","v":"These estimates are National Statistics."},{"$f":"Information!D98","v":"Estimates are only produced annually, about 10 months after the period to which they refer, and rely on administrative and survey data rather than a comprehensive count of people moving."},{"$f":"Information!D99","v":"Migration within Scotland section of the NRS website"}]
[10,"Within Scotland out-migration",{"$f":"Information!D102","v":"Flow of people from administrative areas in Scotland to other areas within Scotland"},{"$f":"Information!D103","v":"Moves within Scotland at council area level are derived from a combination of the National Health Service Central Register (NHSCR) and the Community Health Index (CHI), and from the NHSCR for NHS Board areas. More information on the methodology for the NRS migration estimates can be found in the Migration section of this website."},{"$f":"Information!D104","v":"These estimates are National Statistics."},{"$f":"Information!D105","v":"Estimates are only produced annually, about 10 months after the period to which they refer, and rely on administrative and survey data rather than a comprehensive count of people moving."},{"$f":"Information!D106","v":"Migration within Scotland section of the NRS website"}]
[11,"Rest of UK net migration",{"$f":"Information!D109","v":"Net migration between administrative areas in Scotland and the rest of the UK"},{"$f":"Information!D110","v":"These are the NRS National Statistics for rest of UK migration. Moves between Scottish administrative areas and the rest of the UK are derived from the National Health Service Central Register (NHSCR) and Community Health Index (CHI). Moves between Scotland and the rest of the UK used here do not include movements to/from the armed forces. More information on the methodology for the NRS migration estimates can be found in the Migration section of this website."},{"$f":"Information!D111","v":"These estimates are National Statistics."},{"$f":"CONCATENATE(Information!D112,Information!D113)","v":"Estimates are only produced annually at Scottish administrative area level, about 10 months after the period to which they refer, and rely on administrative and survey data rather than a comprehensive count of people moving."},{"$f":"Information!D114","v":"Migration between Scotland and the Rest of the UK section of the NRS website"}]
[12,"Rest of UK in-migration",{"$f":"Information!D117","v":"Flow of people to administrative areas in Scotland from the rest of the UK"},{"$f":"Information!D118","v":"These are the NRS National Statistics for rest of UK migration. Moves between Scottish administrative areas and the rest of the UK are derived from the National Health Service Central Register (NHSCR) and Community Health Index (CHI). Moves between Scotland and the rest of the UK used here do not include movements to/from the armed forces. More information on the methodology for the NRS migration estimates can be found in the Migration section of this website."},{"$f":"Information!D119","v":"These estimates are National Statistics."},{"$f":"CONCATENATE(Information!D120,Information!D121)","v":"Estimates are only produced annually at Scottish administrative area level, about 10 months after the period to which they refer, and rely on administrative and survey data rather than a comprehensive count of people moving."},{"$f":"Information!D122","v":"Migration between Scotland and the Rest of the UK section of the NRS website"}]
[13,"Rest of UK out-migration",{"$f":"Information!D125","v":"Flow of people from administrative areas in Scotland to the rest of the UK"},{"$f":"Information!D126","v":"These are the NRS National Statistics for rest of UK migration. Moves between Scottish administrative areas and the rest of the UK are derived from the National Health Service Central Register (NHSCR) and Community Health Index (CHI). Moves between Scotland and the rest of the UK used here do not include movements to/from the armed forces. More information on the methodology for the NRS migration estimates can be found in the Migration section of this website."},{"$f":"Information!D127","v":"These estimates are National Statistics."},{"$f":"CONCATENATE(Information!D128,Information!D129)","v":"Estimates are only produced annually at Scottish administrative area level, about 10 months after the period to which they refer, and rely on administrative and survey data rather than a comprehensive count of people moving."},{"$f":"Information!D130","v":"Migration between Scotland and the Rest of the UK section of the NRS website"}]
[14,"Overseas net migration",{"$f":"Information!D133","v":"Net migration to/from overseas"},{"$f":"Information!D134","v":"These are the NRS National Statistics for overseas net migration. There is not a single, all-inclusive system in place to measure all movements of the population into and out of the UK. Therefore, data from the International Passenger Survey (IPS), the Home Office, and the Labour Force Survey (LFS) is combined to compile the National Statistics estimates of international migration into Scotland. Data from the National Health Service Central Register (NHSCR) and the Community Health Index (CHI) is also used for this process. More information on the methodology for the NRS migration estimates can be found in the Migration section of this website."},{"$f":"Information!D135","v":"These estimates are National Statistics."},{"$f":"CONCATENATE(Information!D136,Information!D137)","v":"The IPS sample size for Scotland is small, making the estimates less reliable. Estimates are only produced annually, about 10 months after the period to which they refer."},{"$f":"Information!D138","v":"Migration between Scotland and Overseas section of the NRS website"}]
[15,"Overseas in-migration",{"$f":"Information!D141","v":"Flow of people to administrative areas in Scotland from overseas"},{"$f":"Information!D142","v":"These are the NRS National Statistics for overseas in-migration. There is not a single, all-inclusive system in place to measure all movements of the population into and out of the UK. Therefore, data from the International Passenger Survey (IPS), the Home Office, and the Labour Force Survey (LFS) is combined to compile the National Statistics estimates of international migration into Scotland. Data from the National Health Service Central Register (NHSCR) and the Community Health Index (CHI) is also used for this process. More information on the methodology for the NRS migration estimates can be found in the Migration section of this website."},{"$f":"Information!D143","v":"These estimates are National Statistics."},{"$f":"CONCATENATE(Information!D144,Information!D145)","v":"The IPS sample size for Scotland is small, making the estimates less reliable. Estimates are only produced annually, about 10 months after the period to which they refer."},{"$f":"Information!D146","v":"Migration between Scotland and Overseas section of the NRS website"}]
[16,"Overseas out-migration",{"$f":"Information!D149","v":"Flow of persons from administrative areas in Scotland to overseas"},{"$f":"Information!D150","v":"These are the NRS National Statistics for overseas out-migration. There is not a single, all-inclusive system in place to measure all movements of the population into and out of the UK. Therefore, data from the International Passenger Survey (IPS), the Home Office, and the Labour Force Survey (LFS) is combined to compile the National Statistics estimates of international migration into Scotland. Data from the National Health Service Central Register (NHSCR) and the Community Health Index (CHI) is also used for this process. Figures for 2003/04 to 2010/11 have been revised from the previous release to include improvements in estimating international out-migration. More information on the methodology for the NRS migration estimates can be found in the Migration section of this website."},{"$f":"Information!D151","v":"These estimates are National Statistics."},{"$f":"CONCATENATE(Information!D152,Information!D153)","v":"The IPS sample size for Scotland is small, making the estimates less reliable. Estimates are only produced annually, about 10 months after the period to which they refer."},{"$f":"Information!D154","v":"Migration between Scotland and Overseas section of the NRS website"}]
[17,"Worker Registration Scheme (WRS)",{"$f":"Information!D157","v":"Employees from A8 countries"},{"$f":"Information!D158","v":"The Worker Registration Scheme started in May 2004 and was discontinued on 1 May 2011. Nationals of the A8 countries (Czech Republic, Estonia, Hungary, Latvia, Lithuania, Poland, Slovakia, and Slovenia) who wished to take up employment in the UK for a period of at least a month were generally required to register with the WRS. The data used for the WRS indicator at Scotland level was taken from the Home Office 'Accession Monitoring Report' series, which was published quarterly. Council level data is no longer available online, but can be requested from the Local Government Association (LGA) - info@local.gov.uk."},{"$f":"CONCATENATE(Information!D159,Information!D160)","v":"In addition to total numbers registered, information on gender, age, industry, nationality and hourly rate is also available. (Detailed breakdowns are not shown here.)Provides council area data."},{"$f":"CONCATENATE(Information!D161,Information!D162,Information!D163,Information!D164,Information!D165,Information!D166)","v":"Excludes the self-employed; those not working; those not from A8 countries; people working for an employer who is not established in this country; those who hold dual citizenship of the UK, another country within the European Economic Area (EEA), or Switzerland. Does not provide any indication of out-migration. Only provides an indication of in-flow, not stock as it is not necessary to deregister. Dates relate to the date the application is approved, not date of entry to UK. Location data relates to that of the employer, not where the individual lives, and migrants may move to a different location after their first registration. Dependents of those registering are recorded and so may be double counted. "},{"$f":"Information!D167","v":"Local Government Association, Worker Registration Scheme Data Archive (no longer available online)"}]
[18,"National Insurance Number (NINo) allocations to adult overseas nationals entering the UK",{"$f":"Information!D170","v":"Inflow of overseas nationals"},{"$f":"Information!D171","v":"These data have been obtained using the Stat-Xplore tool on the DWP website, which has annual council area data. Data used here is on a calendar year basis."},{"$f":"CONCATENATE(Information!D172,Information!D173,Information!D174)","v":"Includes any overseas national looking to work or claim benefits/tax credits in the UK, self-employed or students working part-time. Provides council area level data. Location data relates to the residence of individual, not their employer."},{"$f":"CONCATENATE(Information!D175,Information!D176,Information!D177,Information!D178,Information!D179,Information!D180)","v":"Based on the date of registration not the date of arrival, and the lag between the two can often be a year or even longer. \nRandom adjustments have been applied to the data to avoid the disclosure of confidential information. Excludes those not working, or planning to work or claim benefits, so children and students that don't work are not included. Excludes returning UK nationals. Does not provide any outflow information or overall stock. Includes migrants staying less than one month as there is no minimum stay for registration. Data reflects the migrant's first destination or location at registration, not where migrants settle nor does it reflect the stock of migrants nationally."},{"$f":"Information!D181","v":"Department for Work and Pensions - Stat-Xplore"}]
[19,"Births to non-UK mothers",{"$f":"Information!D184","v":"Population born to non-UK mothers"},{"$f":"Information!D185","v":"This data comes from the NRS Vital Events branch and is collected when the birth is registered. This data is published annually on a calendar year basis. Data is available back to 1996."},{"$f":"Information!D186","v":"Gives an indication of migrants choosing to settle in an area."},{"$f":"Information!D187","v":"Only gives information on a very specific group of migrants (that is mothers having children)."},{"$f":"Information!D188","v":"Births section of the Vital Events Reference Tables on the NRS website"}]
[20,"Pupils from a minority ethnic group",{"$f":"Information!D191","v":"Migrants with school aged children"},{"$f":"Information!D192","v":"These figures come from the Pupil Census which is collected by the Scottish Government through the ScotXed programme, and are available annually from 2003. The Pupil Census covers all publicly funded schools in Scotland (local authority and grant-aided). It is conducted in September and the data is published in December on the Scottish Government website."},{"$f":"CONCATENATE(Information!D193,Information!D194)","v":"Data is reasonably current. Can provide an indication of where migrant families with school aged children live, rather than work."},{"$f":"CONCATENATE(Information!D195,Information!D196,Information!D197,Information!D198,Information!D199)","v":"Provides no information about migrants without school aged children. Although over 97.5 per cent of pupils disclosed their ethnic background, some pupils' ethnicity was in the 'unknown' category. No specific nationality data. Only includes children in publicly funded schools. Non migrants may be from a minority ethnic group."},{"$f":"Information!D200","v":"Pupil Census, Scottish Government"}]
[21,"Pupils with English as an additional language",{"$f":"Information!D203","v":"Migrants from non-English speaking countries with school aged children"},{"$f":"Information!D204","v":"These figures come from the Pupil Census which is collected by the Scottish Government through the ScotXed programme, and are available annually from 2003. The Pupil Census covers all publicly funded schools in Scotland (local authority and grant-aided). It is conducted in September and the data is published in December on the Scottish Government website."},{"$f":"CONCATENATE(Information!D205,Information!D206)","v":"Data is reasonably current. Can provide an indication of where migrant families with school aged children live, rather than work."},{"$f":"CONCATENATE(Information!D207,Information!D208,Information!D209,Information!D210,Information!D211)","v":"Provides no information about migrants without school aged children. No specific nationality data. Only includes children in publicly funded schools. Excludes migrants from English speaking countries and those fluent in English. Includes non-recent migrants still speaking a different home language if pupils have English as an additional language."},{"$f":"Information!D212","v":"Pupil Census, Scottish Government"}]
[22,"Estimate of resident population born outside the UK",{"$f":"Information!D215","v":"Migrant stocks"},{"$f":"Information!D216","v":"The country of birth data from the Annual Population Survey is used for this indicator. This information gives an estimate of the number of people living in Scotland who were born outside the UK. The data is available from 2004, on a calendar year basis. The APS comprises of data from the Labour Force Survey, plus data from the Annual Local (Area) Labour Force Survey Boosts for England, Scotland and Wales. It is updated quarterly and is published about 8 months after the time period to which it refers. Data is available at council area level although some data is suppressed. Suppressed estimates are indicated with a '*'. "},{"$f":"CONCATENATE(Information!D217,Information!D218)","v":"Gives a more robust estimate of change over time than looking at nationality as an individual's nationality can change. Provides more current information on migrant stocks (that is migrants currently living in Scotland) than the Census."},{"$f":"CONCATENATE(Information!D219,Information!D220,Information!D221)","v":"LFS excludes most communal establishments and foreign students living in halls of residence, and so the number of foreign born migrants is likely to be under-reported. For some council areas an estimate cannot be made from the APS as the number of people born outside the UK is too small for the estimate to be reliable. Some people born outside the UK may have lived in the UK for a long time and are therefore not regarded as migrants."},{"$f":"Information!D222","v":"Population by Country of Birth and Nationality section of the NRS website"}]
[23,"NHS registrations from overseas",{"$f":"Information!D225","v":"Recent migrants from overseas to areas within Scotland."},{"$f":"Information!D226","v":"The data shows overseas migrants who have registered with a GP. A lag is assumed between arrival in the UK and the migrant appearing on the National Health Service Central Register (NHSCR). This data is used to produce age and sex distributions of international in-migrants in the NRS mid-year estimates."},{"$f":"CONCATENATE(Information!D227,Information!D228)","v":"Most comprehensive administrative data source available. Data is reasonably current."},{"$f":"CONCATENATE(Information!D229,Information!D230,Information!D231,Information!D232,Information!D233)","v":"Data source shows limited information on out-migration.Only shows those migrants who have registered with a GP, and registration patterns tend to differ by sex and age which affects the completeness of this data. Data does not show the exact time of migration as there is a difference between the move date and the date at which the change of GP is processed. This lag is not consistent. Captures short-term migrants (that is those staying for less than 12 months), and these cannot be distinguished from long-term migrants. Does not capture returning migrants."},{"$f":"Information!D234","v":"Migration - Methodology section of the NRS website"}]

{"sheet":"Comparing Indicators","index":3,"n_rows":66,"n_cols":34,"rows_kept":66,"cut":false,"hidden":false,"merged":[[59,3,59,14],[43,3,43,14],[63,3,63,14],[6,2,6,15],[37,3,37,14],[40,3,40,13],[46,3,46,14],[61,3,61,14],[62,3,62,14],[53,3,53,14],[60,3,60,14],[54,3,54,14],[39,3,39,13],[55,3,55,14],[56,3,56,14],[48,3,48,14],[49,3,49,14],[52,3,52,14],[1,1,1,14],[3,2,3,5],[2,2,2,5],[38,3,38,14],[47,3,47,14],[45,3,45,14]]}
[null,null,null,null,null,null,null,null,null,null,null,null,null,null,null,null,null,null,"Geography",null,"Indicator","Timing",null,null,"Value",null,"Timing of Indicator data"]
[null,null,null,null,null,null,null,null,null,null,null,null,null,null,null,null,null,"Code - Geography",1,"Ind1",1,null,null,"Code - count/rate",1,null,null,{"$f":"I15","v":2009},{"$f":"J15","v":2010},2011,2012,2013,2014,2015]
[null,null,null,null,null,null,null,null,null,null,null,null,null,null,null,null,null,1,"Not specified","Ind2",1,1,"Mid-year",null,null,null,{"$f":"VLOOKUP($E$16,$U$7:$V$29,2,FALSE)","v":0},{"$f":"IF((VLOOKUP($S$2,INDIRECT(\"Data\"&AB2),$U$2+2,FALSE))=\"\",NA(),(VLOOKUP($S$2,INDIRECT(\"Data\"&AB2),$U$2+2,FALSE)))","v":{"$error":"#N/A"}},{"$f":"IF((VLOOKUP($S$2,INDIRECT(\"Data\"&AC2),$U$2+2,FALSE))=\"\",NA(),(VLOOKUP($S$2,INDIRECT(\"Data\"&AC2),$U$2+2,FALSE)))","v":{"$error":"#N/A"}},{"$error":"#N/A"},{"$error":"#N/A"},{"$error":"#N/A"},{"$error":"#N/A"},{"$f":"IF((VLOOKUP($S$2,INDIRECT(\"Data\"&AH2),$U$2+2,FALSE))=\"\",NA(),(VLOOKUP($S$2,INDIRECT(\"Data\"&AH2),$U$2+2,FALSE)))","v":{"$error":"#N/A"}}]
[null,null,null,null,null,null,null,null,null,null,null,null,null,null,null,null,null,2,"SCOTLAND","Ind3",1,2,"Calendar year"]
[null,null,null,null,null,null,null,null,null,null,null,null,null,null,null,null,null,3,"Aberdeen City",null,null,null,null,null,null,null,{"$f":"VLOOKUP($E$18,$U$7:$V$29,2,FALSE)","v":0},{"$f":"IF((VLOOKUP($S$2,INDIRECT(\"Data\"&AB2),$U$3+2,FALSE))=\"\",NA(),(VLOOKUP($S$2,INDIRECT(\"Data\"&AB2),$U$3+2,FALSE)))","v":{"$error":"#N/A"}},{"$f":"IF((VLOOKUP($S$2,INDIRECT(\"Data\"&AC2),$U$3+2,FALSE))=\"\",NA(),(VLOOKUP($S$2,INDIRECT(\"Data\"&AC2),$U$3+2,FALSE)))","v":{"$error":"#N/A"}},{"$error":"#N/A"},{"$error":"#N/A"},{"$error":"#N/A"},{"$error":"#N/A"},{"$error":"#N/A"}]
[null,null,null,null,null,null,null,null,null,null,null,null,null,null,null,null,null,4,"Aberdeenshire"]
[null,null,"Comparing Indicators",null,null,null,null,null,null,null,null,null,null,null,null,null,null,5,"Angus",1,"Not specified",null,null,1,"Count",null,{"$f":"VLOOKUP($E$20,$U$7:$V$29,2,FALSE)","v":0},{"$f":"IF((VLOOKUP($S$2,INDIRECT(\"Data\"&AB2),$U$4+2,FALSE))=\"\",NA(),(VLOOKUP($S$2,INDIRECT(\"Data\"&AB2),$U$4+2,FALSE)))","v":{"$error":"#N/A"}},{"$f":"IF((VLOOKUP($S$2,INDIRECT(\"Data\"&AC2),$U$4+2,FALSE))=\"\",NA(),(VLOOKUP($S$2,INDIRECT(\"Data\"&AC2),$U$4+2,FALSE)))","v":{"$error":"#N/A"}},{"$error":"#N/A"},{"$error":"#N/A"},{"$error":"#N/A"},{"$error":"#N/A"},{"$error":"#N/A"}]
[null,null,null,null,null,null,null,null,null,null,null,null,null,null,null,null,null,6,"Argyll & Bute",2,"Total net migration",1,null,2,"Rate per 1000"]
[null,null,null,null,null,null,null,null,null,null,null,null,null,null,null,null,null,7,"Clackmannanshire",3,"Total net migration for ages 0-15",1]
[null,null,null,null,null,null,null,null,null,null,null,null,null,null,null,null,null,8,"Dumfries & Galloway",4,"Total net migration for ages 16-64",1]
[null,null,"Geography",null,{"$f":"VLOOKUP($S$2,$R$3:$S$36,2)","v":"Not specified"},null,null,null,null,null,null,null,null,null,null,null,null,9,"Dundee City",5,"Total net migration for people aged 65+",1]
[null,null,null,null,null,null,null,null,null,null,null,null,null,null,null,null,null,10,"East Ayrshire",6,"Total in-migration",1]
[null,null,"Value",null,{"$f":"VLOOKUP($Y$2,$X$7:$Y$8,2)","v":"Count"},null,null,null,null,null,null,null,null,null,null,null,null,11,"East Dunbartonshire",7,"Total out-migration",1,null,null,null,null,null,{"$f":"I15","v":2009},2010,2011,2012,2013,2014,2015]
[null,null,null,null,null,null,null,null,null,null,null,null,null,null,null,null,null,12,"East Lothian",8,"Within Scotland net migration",1,null,null,null,null,null,{"$f":"IF((VLOOKUP($S$2,INDIRECT(\"Rate\"&AB13),$U$2+2,FALSE))=\"\",NA(),(VLOOKUP($S$2,INDIRECT(\"Rate\"&AB13),$U$2+2,FALSE)))","v":{"$error":"#N/A"}},{"$f":"IF((VLOOKUP($S$2,INDIRECT(\"Rate\"&AC13),$U$2+2,FALSE))=\"\",NA(),(VLOOKUP($S$2,INDIRECT(\"Rate\"&AC13),$U$2+2,FALSE)))","v":{"$error":"#N/A"}},{"$error":"#N/A"},{"$error":"#N/A"},{"$error":"#N/A"},{"$error":"#N/A"},{"$error":"#N/A"}]
[null,null,null,null,null,null,"Timing of data",null,2009,2010,2011,2012,2013,2014,2015,null,null,13,"East Renfrewshire",9,"Within Scotland in-migration",1]
[null,null,"Indicator",null,{"$f":"VLOOKUP($U$2,$T$7:$U$28,2)","v":"Not specified"},null,{"$f":"VLOOKUP(AA3,$V$3:$W$4,2)","v":{"$error":"#N/A"}},null,{"$f":"IF($Y$2=1,AB3,AB14)","v":{"$error":"#N/A"}},{"$error":"#N/A"},{"$error":"#N/A"},{"$error":"#N/A"},{"$error":"#N/A"},{"$error":"#N/A"},{"$f":"IF($Y$2=1,AH3,AH14)","v":{"$error":"#N/A"}},null,null,14,"Edinburgh, City of",10,"Within Scotland out-migration",1,null,null,null,null,null,{"$f":"IF((VLOOKUP($S$2,INDIRECT(\"Rate\"&AB13),$U$3+2,FALSE))=\"\",NA(),(VLOOKUP($S$2,INDIRECT(\"Rate\"&AB13),$U$3+2,FALSE)))","v":{"$error":"#N/A"}},{"$f":"IF((VLOOKUP($S$2,INDIRECT(\"Rate\"&AC2),$U$3+2,FALSE))=\"\",NA(),(VLOOKUP($S$2,INDIRECT(\"Rate\"&AC2),$U$3+2,FALSE)))","v":{"$error":"#N/A"}},{"$error":"#N/A"},{"$error":"#N/A"},{"$error":"#N/A"},{"$error":"#N/A"},{"$error":"#N/A"}]
[null,null,null,null,null,null,null,null,null,null,null,null,null,null,null,null,null,15,"Eilean Siar",11,"Rest of UK net migration",1]
[null,null,"Indicator",null,{"$f":"VLOOKUP($U$3,$T$7:$U$28,2)","v":"Not specified"},null,{"$f":"VLOOKUP(AA5,$V$2:$W$4,2)","v":{"$error":"#N/A"}},null,{"$f":"IF($Y$2=1,AB5,AB16)","v":{"$error":"#N/A"}},{"$error":"#N/A"},{"$error":"#N/A"},{"$error":"#N/A"},{"$error":"#N/A"},{"$error":"#N/A"},{"$f":"IF($Y$2=1,AH5,AH16)","v":{"$error":"#N/A"}},null,null,16,"Falkirk",12,"Rest of UK in-migration",1,null,null,null,null,null,{"$f":"IF((VLOOKUP($S$2,INDIRECT(\"Rate\"&AB13),$U$4+2,FALSE))=\"\",NA(),(VLOOKUP($S$2,INDIRECT(\"Rate\"&AB13),$U$4+2,FALSE)))","v":{"$error":"#N/A"}},{"$f":"IF((VLOOKUP($S$2,INDIRECT(\"Rate\"&AC2),$U$4+2,FALSE))=\"\",NA(),(VLOOKUP($S$2,INDIRECT(\"Rate\"&AC2),$U$4+2,FALSE)))","v":{"$error":"#N/A"}},{"$error":"#N/A"},{"$error":"#N/A"},{"$error":"#N/A"},{"$error":"#N/A"},{"$error":"#N/A"}]
[null,null,null,null,null,null,null,null,null,null,null,null,null,null,null,null,null,17,"Fife",13,"Rest of UK out-migration",1]
[null,null,"Indicator",null,{"$f":"VLOOKUP($U$4,$T$7:$U$28,2)","v":"Not specified"},null,{"$f":"VLOOKUP($AA$7,$V$3:$W$4,2)","v":{"$error":"#N/A"}},null,{"$f":"IF($Y$2=1,AB7,AB18)","v":{"$error":"#N/A"}},{"$error":"#N/A"},{"$error":"#N/A"},{"$error":"#N/A"},{"$error":"#N/A"},{"$error":"#N/A"},{"$f":"IF($Y$2=1,AH7,AH18)","v":{"$error":"#N/A"}},null,null,18,"Glasgow City",14,"Overseas net migration",1]
[null,null,null,null,null,null,null,null,null,null,null,null,null,null,null,null,null,19,"Highland",15,"Overseas in-migration",1]
[null,null,null,null,null,null,null,null,null,null,null,null,null,null,null,null,null,20,"Inverclyde",16,"Overseas out-migration",1]
[null,null,null,null,null,null,null,null,null,null,null,null,null,null,null,null,null,21,"Midlothian",17,"Worker Registration Scheme",2]
[null,null,null,null,null,null,null,null,null,null,null,null,null,null,null,null,null,22,"Moray",18,"NINo Allocation",2]
[null,null,null,null,null,null,null,null,null,null,null,null,null,null,null,null,null,23,"North Ayrshire",19,"Births to non-UK mothers",2]
[null,null,null,null,null,null,null,null,null,null,null,null,null,null,null,null,null,24,"North Lanarkshire",20,"Pupils from a minority ethnic group",2]
[null,null,null,null,null,null,null,null,null,null,null,null,null,null,null,null,null,25,"Orkney Islands",21,"Pupils with English as an additional language",2]
[null,null,null,null,null,null,null,null,null,null,null,null,null,null,null,null,null,26,"Perth & Kinross",22,"Estimate of resident population born outside the UK",2]
[null,null,null,null,null,null,null,null,null,null,null,null,null,null,null,null,null,27,"Renfrewshire"]
[null,null,null,null,null,null,null,null,null,null,null,null,null,null,null,null,null,28,"Scottish Borders"]
[null,null,null,null,null,null,null,null,null,null,null,null,null,null,null,null,null,29,"Shetland Islands"]
[null,null,null,null,null,null,null,null,null,null,null,null,null,null,null,null,null,30,"South Ayrshire"]
[null,null,null,null,null,null,null,null,null,null,null,null,null,null,null,null,null,31,"South Lanarkshire"]
[null,null,null,null,null,null,null,null,null,null,null,null,null,null,null,null,null,32,"Stirling"]
[null,null,null,null,null,null,null,null,null,null,null,null,null,null,null,null,null,33,"West Dunbartonshire"]
[null,null,null,null,null,null,null,null,null,null,null,null,null,null,null,null,null,34,"West Lothian"]
[]
[]
[]
[]
[]
[]
[null,"Information on Indicators"]
[]
[null,{"$f":"VLOOKUP($U$2,'Info lookup'!$A$3:$B$25,2)","v":"Not specified"}]
[null,"Indicator of:",null,{"$f":"VLOOKUP($U$2,'Info lookup'!$A$2:$F$25,3)","v":"~"}]
[null,"Information:",null,{"$f":"VLOOKUP($U$2,'Info lookup'!$A$2:$F$25,4)","v":"~"}]
[null,"Strengths:",null,{"$f":"VLOOKUP($U$2,'Info lookup'!$A$2:$F$25,5)","v":"~"}]
[null,"Weaknesses:",null,{"$f":"VLOOKUP($U$2,'Info lookup'!$A$2:$F$25,6)","v":"~"}]
[null,"Source:",null,{"$f":"VLOOKUP($U$2,'Info lookup'!$A$2:$G$25,7)","v":"~"}]
[]
[null,{"$f":"VLOOKUP($U$3,'Info lookup'!$A$3:$F$25,2)","v":"Not specified"}]
[null,"Indicator of:",null,{"$f":"VLOOKUP($U$3,'Info lookup'!$A$2:$F$25,3)","v":"~"}]
[null,"Information:",null,{"$f":"VLOOKUP($U$3,'Info lookup'!$A$2:$F$25,4)","v":"~"}]
[null,"Strengths:",null,{"$f":"VLOOKUP($U$3,'Info lookup'!$A$2:$F$25,5)","v":"~"}]
[null,"Weaknesses:",null,{"$f":"VLOOKUP($U$3,'Info lookup'!$A$2:$F$25,6)","v":"~"}]
[null,"Source:",null,{"$f":"VLOOKUP($U$3,'Info lookup'!$A$2:$G$25,7)","v":"~"}]
[]
[null,{"$f":"VLOOKUP($U$4,'Info lookup'!$A$3:$F$25,2)","v":"Not specified"}]
[null,"Indicator of:",null,{"$f":"VLOOKUP($U$4,'Info lookup'!$A$2:$F$25,3)","v":"~"}]
[null,"Information:",null,{"$f":"VLOOKUP($U$4,'Info lookup'!$A$2:$F$25,4)","v":"~"}]
[null,"Strengths:",null,{"$f":"VLOOKUP($U$4,'Info lookup'!$A$2:$F$25,5)","v":"~"}]
[null,"Weaknesses:",null,{"$f":"VLOOKUP($U$4,'Info lookup'!$A$2:$F$25,6)","v":"~"}]
[null,"Source:",null,{"$f":"VLOOKUP($U$4,'Info lookup'!$A$2:$G$25,7)","v":"~"}]
[]
[null,"© Crown Copyright 2016"]

{"sheet":"Comparing Areas","index":4,"n_rows":50,"n_cols":32,"rows_kept":50,"cut":false,"hidden":false,"merged":[[1,1,1,7],[2,1,2,7],[5,1,5,15],[46,3,46,14],[47,3,47,14],[44,3,44,14],[45,3,45,14],[43,3,43,14],[6,1,6,15],[42,1,42,14],[12,10,12,12]]}
[null,null,null,null,null,null,null,null,null,null,null,null,null,null,null,null,null,null,"Geography",null,"Indicator","Timing",null,"Value"]
[null,null,null,null,null,null,null,null,null,null,null,null,null,null,null,null,null,"Code - Geography 1",1,"Code - indicator",1,"Code",1,"Code - count/rate",1]
[null,null,null,null,null,null,null,null,null,null,null,null,null,null,null,null,null,"Code - Geography 2",1,null,null,1,"Mid-year",1,"Count"]
[null,null,null,null,null,null,null,null,null,null,null,null,null,null,null,null,null,"Code - Geography 3",1,null,null,2,"Calendar year",2,"Rate per 1000","Count"]
[null,null,null,null,null,null,null,null,null,null,null,null,null,null,null,null,null,null,null,null,null,null,null,null,null,{"$f":"I15","v":2009},2010,2011,2012,2013,2014,2015]
[null,null,null,null,null,null,null,null,null,null,null,null,null,null,null,null,null,null,null,null,null,null,null,null,null,{"$f":"IF((VLOOKUP($S$2,INDIRECT(\"Data\"&Z5),$U$2+2,FALSE))=\"\",NA(),(VLOOKUP($S$2,INDIRECT(\"Data\"&Z5),$U$2+2,FALSE)))","v":{"$error":"#N/A"}},{"$f":"IF((VLOOKUP($S$2,INDIRECT(\"Data\"&AA5),$U$2+2,FALSE))=\"\",NA(),(VLOOKUP($S$2,INDIRECT(\"Data\"&AA5),$U$2+2,FALSE)))","v":{"$error":"#N/A"}},{"$error":"#N/A"},{"$error":"#N/A"},{"$error":"#N/A"},{"$error":"#N/A"},{"$error":"#N/A"}]
[null,"Comparing Areas",null,null,null,null,null,null,null,null,null,null,null,null,null,null,null,null,null,null,null,null,null,null,null,{"$f":"IF((VLOOKUP($S$3,INDIRECT(\"Data\"&Z5),$U$2+2,FALSE))=\"\",NA(),(VLOOKUP($S$3,INDIRECT(\"Data\"&Z5),$U$2+2,FALSE)))","v":{"$error":"#N/A"}},{"$f":"IF((VLOOKUP($S$3,INDIRECT(\"Data\"&AA5),$U$2+2,FALSE))=\"\",NA(),(VLOOKUP($S$3,INDIRECT(\"Data\"&AA5),$U$2+2,FALSE)))","v":{"$error":"#N/A"}},{"$error":"#N/A"},{"$error":"#N/A"},{"$error":"#N/A"},{"$error":"#N/A"},{"$error":"#N/A"}]
[null,null,null,null,null,null,null,null,null,null,null,null,null,null,null,null,null,null,null,null,null,null,null,null,null,{"$f":"IF((VLOOKUP($S$4,INDIRECT(\"Data\"&Z5),$U$2+2,FALSE))=\"\",NA(),(VLOOKUP($S$4,INDIRECT(\"Data\"&Z5),$U$2+2,FALSE)))","v":{"$error":"#N/A"}},{"$f":"IF((VLOOKUP($S$4,INDIRECT(\"Data\"&AA5),$U$2+2,FALSE))=\"\",NA(),(VLOOKUP($S$4,INDIRECT(\"Data\"&AA5),$U$2+2,FALSE)))","v":{"$error":"#N/A"}},{"$error":"#N/A"},{"$error":"#N/A"},{"$error":"#N/A"},{"$error":"#N/A"},{"$error":"#N/A"}]
[]
[null,null,null,null,null,null,null,null,null,null,null,null,null,null,null,null,null,null,null,null,null,null,null,null,null,"Rate"]
[null,null,"Indicator",null,{"$f":"VLOOKUP($U$2,$T$14:$U$35,2)","v":"Not specified"},null,null,null,null,null,null,null,null,null,null,null,null,null,null,null,"Calendar/mid-year code",{"$f":"VLOOKUP(U2,T14:V35,3)","v":1},null,null,null,{"$f":"I15","v":2009},2010,2011,2012,2013,2014,2015]
[null,null,null,null,null,null,null,null,null,null,null,null,null,null,null,null,null,null,null,null,null,null,null,null,null,{"$f":"IF((VLOOKUP($S$2,INDIRECT(\"Rate\"&Z11),$U$2+2,FALSE))=\"\",NA(),(VLOOKUP($S$2,INDIRECT(\"Rate\"&Z11),$U$2+2,FALSE)))","v":{"$error":"#N/A"}},{"$f":"IF((VLOOKUP($S$2,INDIRECT(\"Rate\"&AA11),$U$2+2,FALSE))=\"\",NA(),(VLOOKUP($S$2,INDIRECT(\"Rate\"&AA11),$U$2+2,FALSE)))","v":{"$error":"#N/A"}},{"$error":"#N/A"},{"$error":"#N/A"},{"$error":"#N/A"},{"$error":"#N/A"},{"$error":"#N/A"}]
[null,null,"Value",null,{"$f":"VLOOKUP($Y$2,$X$3:$Y$4,2)","v":"Count"},null,null,null,null,null,{"$f":"VLOOKUP($V$11,$V$3:$W$4,2)","v":"Mid-year"},null,null,null,null,null,null,null,null,null,null,null,null,null,null,{"$f":"IF((VLOOKUP($S$3,INDIRECT(\"Rate\"&Z11),$U$2+2,FALSE))=\"\",NA(),(VLOOKUP($S$3,INDIRECT(\"Rate\"&Z11),$U$2+2,FALSE)))","v":{"$error":"#N/A"}},{"$f":"IF((VLOOKUP($S$3,INDIRECT(\"Rate\"&AA11),$U$2+2,FALSE))=\"\",NA(),(VLOOKUP($S$3,INDIRECT(\"Rate\"&AA11),$U$2+2,FALSE)))","v":{"$error":"#N/A"}},{"$error":"#N/A"},{"$error":"#N/A"},{"$error":"#N/A"},{"$error":"#N/A"},{"$error":"#N/A"}]
[null,null,null,null,null,null,null,null,null,null,null,null,null,null,null,null,null,1,"Not specified",1,"Not specified",1,null,null,null,{"$f":"IF((VLOOKUP($S$4,INDIRECT(\"Rate\"&Z11),$U$2+2,FALSE))=\"\",NA(),(VLOOKUP($S$4,INDIRECT(\"Rate\"&Z11),$U$2+2,FALSE)))","v":{"$error":"#N/A"}},{"$error":"#N/A"},{"$error":"#N/A"},{"$error":"#N/A"},{"$error":"#N/A"},{"$error":"#N/A"},{"$error":"#N/A"}]
[null,null,null,null,null,null,null,null,2009,2010,2011,2012,2013,2014,2015,null,null,2,"SCOTLAND",2,{"$f":"'Comparing Indicators'!U8","v":"Total net migration"},1]
[null,null,"Geography",null,{"$f":"VLOOKUP($S$2,$R$14:$S$47,2)","v":"Not specified"},null,null,null,{"$f":"IF($Y$2=1,Z6,Z12)","v":{"$error":"#N/A"}},{"$error":"#N/A"},{"$error":"#N/A"},{"$error":"#N/A"},{"$error":"#N/A"},{"$error":"#N/A"},{"$error":"#N/A"},null,null,3,"Aberdeen City",3,{"$f":"'Comparing Indicators'!U9","v":"Total net migration for ages 0-15"},1]
[null,null,null,null,null,null,null,null,null,null,null,null,null,null,null,null,null,4,"Aberdeenshire",4,{"$f":"'Comparing Indicators'!U10","v":"Total net migration for ages 16-64"},1]
[null,null,"Geography",null,{"$f":"VLOOKUP($S$3,$R$14:$S$47,2)","v":"Not specified"},null,null,null,{"$f":"IF($Y$2=1,Z7,Z13)","v":{"$error":"#N/A"}},{"$error":"#N/A"},{"$error":"#N/A"},{"$error":"#N/A"},{"$error":"#N/A"},{"$error":"#N/A"},{"$error":"#N/A"},null,null,5,"Angus",5,{"$f":"'Comparing Indicators'!U11","v":"Total net migration for people aged 65+"},1]
[null,null,null,null,null,null,null,null,null,null,null,null,null,null,null,null,null,6,"Argyll & Bute",6,{"$f":"'Comparing Indicators'!U12","v":"Total in-migration"},1]
[null,null,"Geography",null,{"$f":"VLOOKUP($S$4,$R$14:$S$47,2)","v":"Not specified"},null,null,null,{"$f":"IF($Y$2=1,Z8,Z14)","v":{"$error":"#N/A"}},{"$error":"#N/A"},{"$error":"#N/A"},{"$error":"#N/A"},{"$error":"#N/A"},{"$error":"#N/A"},{"$error":"#N/A"},null,null,7,"Clackmannanshire",7,{"$f":"'Comparing Indicators'!U13","v":"Total out-migration"},1]
[null,null,null,null,null,null,null,null,null,null,null,null,null,null,null,null,null,8,"Dumfries & Galloway",8,{"$f":"'Comparing Indicators'!U14","v":"Within Scotland net migration"},1]
[null,null,null,null,null,null,null,null,null,null,null,null,null,null,null,null,null,9,"Dundee City",9,{"$f":"'Comparing Indicators'!U15","v":"Within Scotland in-migration"},1]
[null,null,null,null,null,null,null,null,null,null,null,null,null,null,null,null,null,10,"East Ayrshire",10,{"$f":"'Comparing Indicators'!U16","v":"Within Scotland out-migration"},1]
[null,null,null,null,null,null,null,null,null,null,null,null,null,null,null,null,null,11,"East Dunbartonshire",11,{"$f":"'Comparing Indicators'!U17","v":"Rest of UK net migration"},1]
[null,null,null,null,null,null,null,null,null,null,null,null,null,null,null,null,null,12,"East Lothian",12,{"$f":"'Comparing Indicators'!U18","v":"Rest of UK in-migration"},1]
[null,null,null,null,null,null,null,null,null,null,null,null,null,null,null,null,null,13,"East Renfrewshire",13,{"$f":"'Comparing Indicators'!U19","v":"Rest of UK out-migration"},1]
[null,null,null,null,null,null,null,null,null,null,null,null,null,null,null,null,null,14,"Edinburgh, City of",14,{"$f":"'Comparing Indicators'!U20","v":"Overseas net migration"},1]
[null,null,null,null,null,null,null,null,null,null,null,null,null,null,null,null,null,15,"Eilean Siar",15,{"$f":"'Comparing Indicators'!U21","v":"Overseas in-migration"},1]
[null,null,null,null,null,null,null,null,null,null,null,null,null,null,null,null,null,16,"Falkirk",16,{"$f":"'Comparing Indicators'!U22","v":"Overseas out-migration"},1]
[null,null,null,null,null,null,null,null,null,null,null,null,null,null,null,null,null,17,"Fife",17,{"$f":"'Comparing Indicators'!U23","v":"Worker Registration Scheme"},2]
[null,null,null,null,null,null,null,null,null,null,null,null,null,null,null,null,null,18,"Glasgow City",18,{"$f":"'Comparing Indicators'!U24","v":"NINo Allocation"},2]
[null,null,null,null,null,null,null,null,null,null,null,null,null,null,null,null,null,19,"Highland",19,{"$f":"'Comparing Indicators'!U25","v":"Births to non-UK mothers"},2]
[null,null,null,null,null,null,null,null,null,null,null,null,null,null,null,null,null,20,"Inverclyde",20,{"$f":"'Comparing Indicators'!U26","v":"Pupils from a minority ethnic group"},2]
[null,null,null,null,null,null,null,null,null,null,null,null,null,null,null,null,null,21,"Midlothian",21,{"$f":"'Comparing Indicators'!U27","v":"Pupils with English as an additional language"},2]
[null,null,null,null,null,null,null,null,null,null,null,null,null,null,null,null,null,22,"Moray",22,{"$f":"'Comparing Indicators'!U28","v":"Estimate of resident population born outside the UK"},2]
[null,null,null,null,null,null,null,null,null,null,null,null,null,null,null,null,null,23,"North Ayrshire"]
[null,null,null,null,null,null,null,null,null,null,null,null,null,null,null,null,null,24,"North Lanarkshire",null,"(Set code in column V to 1 if data is at mid-year, 2 if data is for calendar year.)"]
[null,null,null,null,null,null,null,null,null,null,null,null,null,null,null,null,null,25,"Orkney Islands"]
[null,null,null,null,null,null,null,null,null,null,null,null,null,null,null,null,null,26,"Perth & Kinross"]
[null,null,null,null,null,null,null,null,null,null,null,null,null,null,null,null,null,27,"Renfrewshire"]
[null,null,null,null,null,null,null,null,null,null,null,null,null,null,null,null,null,28,"Scottish Borders"]
[null,null,null,null,null,null,null,null,null,null,null,null,null,null,null,null,null,29,"Shetland Islands"]
[null,{"$f":"VLOOKUP($U$2,'Info lookup'!$A$3:$F$25,2)","v":"Not specified"},null,null,null,null,null,null,null,null,null,null,null,null,null,null,null,30,"South Ayrshire"]
[null,"Indicator of:",null,{"$f":"VLOOKUP($U$2,'Info lookup'!$A$4:$F$25,3)","v":{"$error":"#N/A"}},null,null,null,null,null,null,null,null,null,null,null,null,null,31,"South Lanarkshire"]
[null,"Information:",null,{"$f":"VLOOKUP($U$2,'Info lookup'!$A$4:$F$25,4)","v":{"$error":"#N/A"}},null,null,null,null,null,null,null,null,null,null,null,null,null,32,"Stirling"]
[null,"Strengths:",null,{"$f":"VLOOKUP($U$2,'Info lookup'!$A$4:$F$25,5)","v":{"$error":"#N/A"}},null,null,null,null,null,null,null,null,null,null,null,null,null,33,"West Dunbartonshire"]
[null,"Weaknesses:",null,{"$f":"VLOOKUP($U$2,'Info lookup'!$A$4:$F$25,6)","v":{"$error":"#N/A"}},null,null,null,null,null,null,null,null,null,null,null,null,null,34,"West Lothian"]
[null,"Source:",null,{"$f":"VLOOKUP($U$2,'Info lookup'!$A$4:$G$25,7)","v":{"$error":"#N/A"}}]
[]
[null,"© Crown Copyright 2016"]

{"sheet":"Comparing NHS Board Areas","index":5,"n_rows":53,"n_cols":38,"rows_kept":53,"cut":false,"hidden":false,"merged":[[0,18,0,19],[5,24,5,25],[2,1,2,7],[12,10,12,12],[43,3,43,14],[42,1,42,14],[1,1,1,7],[6,1,6,15],[5,27,5,28],[54,3,54,16],[44,3,44,14],[45,3,45,14],[46,3,46,14],[47,3,47,14],[53,3,53,16],[50,1,50,11]]}
[null,null,null,null,null,null,null,null,null,null,null,null,null,null,null,null,null,null,"Health Board Areas",null,null,null,"Indicator"]
[null,null,null,null,null,null,null,null,null,null,null,null,null,null,null,null,null,null,"HB area 1",1,null,"Ind",1]
[null,null,null,null,null,null,null,null,null,null,null,null,null,null,null,null,null,null,"HB area 2",1]
[null,null,null,null,null,null,null,null,null,null,null,null,null,null,null,null,null,null,"HB area 3",1]
[]
[null,null,null,null,null,null,null,null,null,null,null,null,null,null,null,null,null,null,null,null,null,null,null,null,"Timing",null,null,"Value",null,null,null,"Count"]
[null,"Comparing NHS Board Areas",null,null,null,null,null,null,null,null,null,null,null,null,null,null,null,null,null,1,null,1,1,null,"Code",{"$f":"VLOOKUP($W$2,$V$11:$X$27,3)","v":0},null,null,null,1,null,{"$f":"I15","v":2009},2010,2011,2012,2013,2014,2015]
[null,null,null,null,null,null,null,null,null,null,null,null,null,null,null,null,null,null,null,1,null,null,null,null,null,null,null,null,null,null,null,{"$f":"IF((VLOOKUP(($T$2+34),INDIRECT(\"Data\"&AF7),$W$2+2,FALSE))=\"\",NA(),(VLOOKUP($T$2+34,INDIRECT(\"Data\"&AF7),$W$2+2,FALSE)))","v":{"$error":"#N/A"}},{"$error":"#N/A"},{"$error":"#N/A"},{"$error":"#N/A"},{"$error":"#N/A"},{"$error":"#N/A"},{"$error":"#N/A"}]
[null,null,null,null,null,null,null,null,null,null,null,null,null,null,null,null,null,null,null,1,null,null,null,null,null,null,null,null,null,null,null,{"$f":"IF((VLOOKUP(($T$3+34),INDIRECT(\"Data\"&AF7),$W$2+2,FALSE))=\"\",NA(),(VLOOKUP($T$3+34,INDIRECT(\"Data\"&AF7),$W$2+2,FALSE)))","v":{"$error":"#N/A"}},{"$error":"#N/A"},{"$error":"#N/A"},{"$error":"#N/A"},{"$error":"#N/A"},{"$error":"#N/A"},{"$error":"#N/A"}]
[null,null,null,null,null,null,null,null,null,null,null,null,null,null,null,null,null,null,null,null,null,null,null,"Timing codes",null,null,null,null,null,null,null,{"$f":"IF((VLOOKUP(($T$4+34),INDIRECT(\"Data\"&AF7),$W$2+2,FALSE))=\"\",NA(),(VLOOKUP($T$4+34,INDIRECT(\"Data\"&AF7),$W$2+2,FALSE)))","v":{"$error":"#N/A"}},{"$error":"#N/A"},{"$error":"#N/A"},{"$error":"#N/A"},{"$error":"#N/A"},{"$error":"#N/A"},{"$error":"#N/A"}]
[null,null,"Indicator",null,{"$f":"VLOOKUP($W$2,HBIndicatorCode,2)","v":"Not specified"},null,null,null,null,null,null,null,null,null,null,null,null,null,1,"Not specified",null,1,"Not specified",null,1,"Mid-year",null,1,"Count"]
[null,null,null,null,null,null,null,null,null,null,null,null,null,null,null,null,null,null,2,"SCOTLAND",null,2,"Total net migration",1,2,"Calendar year",null,2,"Rate per 1000",null,null,"Rate"]
[null,null,"Value",null,{"$f":"VLOOKUP($AD$7,$AB$11:$AC$12,2)","v":"Count"},null,null,null,null,null,{"$f":"VLOOKUP($Z$7,TimingCode,2)","v":{"$error":"#N/A"}},null,null,null,null,null,null,null,3,"Ayrshire & Arran",null,3,"Total net migration for ages 0-15",1,null,null,null,null,null,null,null,{"$f":"I15","v":2009},2010,2011,2012,2013,2014,2015]
[null,null,null,null,null,null,null,null,null,null,null,null,null,null,null,null,null,null,4,"Borders",null,4,"Total net migration for ages 16-64",1,null,null,null,null,null,null,null,{"$f":"IF((VLOOKUP(($T$2+34),INDIRECT(\"Rate\"&AF13),$W$2+2,FALSE))=\"\",NA(),(VLOOKUP($T$2+34,INDIRECT(\"Rate\"&AF13),$W$2+2,FALSE)))","v":{"$error":"#N/A"}},{"$error":"#N/A"},{"$error":"#N/A"},{"$error":"#N/A"},{"$error":"#N/A"},{"$error":"#N/A"},{"$error":"#N/A"}]
[null,null,null,null,null,null,null,null,2009,2010,2011,2012,2013,2014,2015,null,null,null,5,"Dumfries & Galloway",null,5,"Total net migration for people aged 65+",1,null,null,null,null,null,null,null,{"$f":"IF((VLOOKUP(($T$3+34),INDIRECT(\"Rate\"&AF13),$W$2+2,FALSE))=\"\",NA(),(VLOOKUP($T$3+34,INDIRECT(\"Rate\"&AF13),$W$2+2,FALSE)))","v":{"$error":"#N/A"}},{"$error":"#N/A"},{"$error":"#N/A"},{"$error":"#N/A"},{"$error":"#N/A"},{"$error":"#N/A"},{"$error":"#N/A"}]
[null,null,"Geography",null,{"$f":"VLOOKUP($T$2,HBCode,2)","v":"Not specified"},null,null,null,{"$f":"IF($AD$7=1,AF8,AF14)","v":{"$error":"#N/A"}},{"$error":"#N/A"},{"$error":"#N/A"},{"$error":"#N/A"},{"$error":"#N/A"},{"$error":"#N/A"},{"$error":"#N/A"},null,null,null,6,"Fife",null,6,"Total in-migration",1,null,null,null,null,null,null,null,{"$f":"IF((VLOOKUP(($T$4+34),INDIRECT(\"Rate\"&AF13),$W$2+2,FALSE))=\"\",NA(),(VLOOKUP($T$4+34,INDIRECT(\"Rate\"&AF13),$W$2+2,FALSE)))","v":{"$error":"#N/A"}},{"$error":"#N/A"},{"$error":"#N/A"},{"$error":"#N/A"},{"$error":"#N/A"},{"$error":"#N/A"},{"$error":"#N/A"}]
[null,null,null,null,null,null,null,null,null,null,null,null,null,null,null,null,null,null,7,"Forth Valley",null,7,"Total out-migration",1]
[null,null,"Geography",null,{"$f":"VLOOKUP($T$3,HBCode,2)","v":"Not specified"},null,null,null,{"$f":"IF($AD$7=1,AF9,AF15)","v":{"$error":"#N/A"}},{"$error":"#N/A"},{"$error":"#N/A"},{"$error":"#N/A"},{"$error":"#N/A"},{"$error":"#N/A"},{"$error":"#N/A"},null,null,null,8,"Grampian",null,8,"Within Scotland net migration",1]
[null,null,null,null,null,null,null,null,null,null,null,null,null,null,null,null,null,null,9,"Greater Glasgow and Clyde",null,9,"Within Scotland in-migration",1]
[null,null,"Geography",null,{"$f":"VLOOKUP($T$4,HBCode,2)","v":"Not specified"},null,null,null,{"$f":"IF($AD$7=1,AF10,AF16)","v":{"$error":"#N/A"}},{"$error":"#N/A"},{"$error":"#N/A"},{"$error":"#N/A"},{"$error":"#N/A"},{"$error":"#N/A"},{"$error":"#N/A"},null,null,null,10,"Highland",null,10,"Within Scotland out-migration",1]
[null,null,null,null,null,null,null,null,null,null,null,null,null,null,null,null,null,null,11,"Lanarkshire",null,11,"Rest of UK net migration",1]
[null,null,null,null,null,null,null,null,null,null,null,null,null,null,null,null,null,null,12,"Lothian",null,12,"Rest of UK in-migration",1]
[null,null,null,null,null,null,null,null,null,null,null,null,null,null,null,null,null,null,13,"Orkney",null,13,"Rest of UK out-migration",1]
[null,null,null,null,null,null,null,null,null,null,null,null,null,null,null,null,null,null,14,"Shetland",null,14,"Overseas net migration",1]
[null,null,null,null,null,null,null,null,null,null,null,null,null,null,null,null,null,null,15,"Tayside",null,15,"Overseas in-migration",1]
[null,null,null,null,null,null,null,null,null,null,null,null,null,null,null,null,null,null,16,"Western Isles",null,16,"Overseas out-migration",1]
[null,null,null,null,null,null,null,null,null,null,null,null,null,null,null,null,null,null,null,null,null,19,"Births to non-UK mothers",2]
[]
[null,null,null,null,null,null,null,null,null,null,null,null,null,null,null,null,null,null,null,null,null,null,"(Set code in column X to 1 if data is at mid-year, 2 if data is for calendar year.)"]
[]
[]
[]
[]
[]
[]
[]
[]
[]
[]
[]
[]
[]
[null,{"$f":"VLOOKUP('Comparing NHS Board Areas'!$W$2,'Info lookup'!$A$3:$F$25,2)","v":"Not specified"}]
[null,"Indicator of:",null,{"$f":"VLOOKUP($W$2,'Info lookup'!$A$4:$F$25,3)","v":{"$error":"#N/A"}}]
[null,"Information:",null,{"$f":"VLOOKUP($W$2,'Info lookup'!$A$4:$F$25,4)","v":{"$error":"#N/A"}}]
[null,"Strengths:",null,{"$f":"VLOOKUP($W$2,'Info lookup'!$A$4:$F$25,5)","v":{"$error":"#N/A"}}]
[null,"Weaknesses:",null,{"$f":"VLOOKUP($W$2,'Info lookup'!$A$4:$F$25,6)","v":{"$error":"#N/A"}}]
[null,"Source:",null,{"$f":"VLOOKUP($W$2,'Info lookup'!$A$4:$G$25,7)","v":{"$error":"#N/A"}}]
[]
[null,"Note"]
[null,"1) The NHS Board areas used for estimates between 2003/04 and 2010/11 are those that existed between 2006 and 2014. The 2011/12 estimates onwards use the NHS Board areas that came into force in April 2014."]
[]
[null,"© Crown Copyright 2016"]

{"sheet":"Total net migration","index":6,"n_rows":61,"n_cols":13,"rows_kept":61,"cut":false,"hidden":false,"merged":[[0,10,0,11],[57,0,57,10],[58,0,58,10],[56,0,56,11]]}
["Total net migration",null,null,null,null,null,null,null,null,null,"Return to front page"]
[]
["Council Area","2003/04","2004/05","2005/06","2006/07","2007/08","2008/09","2009/10","2010/11","2011/12","2012/13","2013/14","2014/15"]
["SCOTLAND",18622,25307,18822,33049,26409,24422,26075,30209,12738,9962,17585,27968]
["Aberdeen City",-1191,1110,1143,2953,1646,2974,2754,3078,1847,1664,1412,1085]
["Aberdeenshire",3230,2780,3067,2683,1881,1507,1693,1384,1386,1664,2041,986]
["Angus",1342,1073,954,756,653,148,355,115,258,113,645,537]
["Argyll & Bute",926,437,200,378,-39,-27,291,304,-233,-23,-275,-233]
["Clackmannanshire",551,572,297,741,397,39,-75,-8,-256,-59,-82,142]
["Dumfries & Galloway",1183,1191,469,712,810,304,119,377,-128,-6,334,330]
["Dundee City",-740,572,-109,265,608,919,981,1427,492,309,-12,209]
["East Ayrshire",367,36,91,325,549,383,30,30,-76,-120,-90,62]
["East Dunbartonshire",-457,-482,-449,-289,-180,-79,-71,-105,260,92,909,549]
["East Lothian",430,497,925,1559,1635,705,595,445,787,521,712,961]
["East Renfrewshire",-97,-17,-213,45,-72,72,369,270,189,539,890,627]
["Edinburgh, City of",2234,5317,3412,4919,3356,5861,8069,8044,3966,2998,3296,6261]
["Eilean Siar",246,274,129,73,23,71,169,23,13,-19,-88,-5]
["Falkirk",1510,1642,941,935,663,565,458,1021,356,375,415,734]
["Fife",2348,2657,1560,1893,1627,1550,1806,2076,623,304,650,1228]
["Glasgow City",-3418,-1558,-1988,2303,2929,3989,3050,5370,1146,439,2047,5840]
["Highland",2850,2862,2054,2677,2111,990,990,898,118,93,239,1115]
["Inverclyde",-599,-130,-353,-318,-203,-359,-226,-289,-305,-160,-270,-136]
["Midlothian",-263,-321,-261,109,427,467,237,522,559,576,1020,987]
["Moray",980,693,458,525,330,404,-9,-162,327,596,467,410]
["North Ayrshire",206,95,-21,428,333,-117,-165,136,-401,-308,-137,60]
["North Lanarkshire",228,330,302,849,534,88,-422,-58,-271,-385,-86,140]
["Orkney Islands",261,135,200,143,95,88,163,99,106,80,67,100]
["Perth & Kinross",1665,2063,2023,2440,2400,1800,1861,1826,980,377,1407,1263]
["Renfrewshire",-268,-286,-344,269,398,156,443,589,-395,-343,372,591]
["Scottish Borders",1385,1003,835,1492,1302,421,286,488,45,308,280,435]
["Shetland Islands",72,88,-112,46,26,203,155,59,-68,-89,-5,-36]
["South Ayrshire",684,425,366,578,400,173,443,596,357,405,103,311]
["South Lanarkshire",2127,1079,1334,1651,735,640,808,587,408,579,511,1034]
["Stirling",-10,658,701,477,244,310,1006,1021,774,253,467,1412]
["West Dunbartonshire",-374,-332,-108,-32,-205,-56,-291,-173,-280,-424,-98,79]
["West Lothian",1214,844,1319,1464,996,233,203,219,154,-387,444,890]
[]
["NHS Board Areas"]
["SCOTLAND",18622,25307,18822,33049,26409,24422,26075,30209,12738,9962,17585,27968]
["Ayrshire & Arran",1257,556,436,1331,1282,439,308,762,-120,-23,-124,433]
["Borders",1385,1003,835,1492,1302,421,286,488,45,308,280,435]
["Dumfries & Galloway",1183,1191,469,712,810,304,119,377,-128,-6,334,330]
["Fife",2348,2657,1563,1891,1620,1548,1809,2071,623,304,650,1228]
["Forth Valley",2051,2872,1939,2153,1304,914,1389,2034,874,569,800,2288]
["Grampian",3019,4583,4668,6161,3857,4885,4438,4300,3560,3924,3920,2481]
["Greater Glasgow & Clyde",-4559,-2419,-2796,2705,2885,4124,3862,5775,615,143,3850,7550]
["Highland",3776,3299,2254,3055,2072,963,1281,1202,-115,70,-36,882]
["Lanarkshire",1701,1023,977,1773,1051,327,-202,416,137,194,425,1174]
["Lothian",3615,6337,5395,8051,6414,7266,9104,9230,5466,3708,5472,9099]
["Orkney",261,135,200,143,95,88,163,99,106,80,67,100]
["Shetland",72,88,-112,46,26,203,155,59,-68,-89,-5,-36]
["Tayside",2267,3708,2865,3463,3668,2869,3194,3373,1730,799,2040,2009]
["Western Isles",246,274,129,73,23,71,169,23,13,-19,-88,-5]
[]
["Notes"]
["1) Figures include asylum seekers."]
["2) Movements to/from the armed forces were included in these figures in previous releases of this spreadsheet but are no longer treated as migration. Armed forces movements are included in the mid-year population estimates under another category."]
["3) Source for data: 'In, out and net migration between administrative areas and overseas, 2001/02 to latest from the Migration between Scotland and Overseas section of the National Records of Scotland (NRS) website"]
["4) The NHS Board areas used for estimates between 2003/04 and 2010/11 are those that existed between 2006 and 2014. The 2011/12 estimates onwards use the NHS Board areas that came into force in April 2014."]
[]
["© Crown Copyright 2016"]

{"sheet":"Total net migration 0-15","index":7,"n_rows":62,"n_cols":13,"rows_kept":62,"cut":false,"hidden":false,"merged":[[59,0,59,10],[0,10,0,11],[0,0,0,2],[58,0,58,10],[57,0,57,7],[56,0,56,11]]}
["Total net migration for ages 0-15",null,null,null,null,null,null,null,null,null,"Return to front page"]
[]
["Council Area","2003/04","2004/05","2005/06","2006/07","2007/08","2008/09","2009/10","2010/11","2011/12","2012/13","2013/14","2014/15"]
["SCOTLAND",3430,4434,2416,5380,4287,3522,2883,3490,1637,1877,3092,4093]
["Aberdeen City",-347,212,-6,333,180,42,162,307,40,-296,-303,-337]
["Aberdeenshire",991,831,828,692,569,579,496,453,557,745,835,463]
["Angus",337,348,276,166,170,116,165,93,33,67,181,194]
["Argyll & Bute",150,129,41,123,-28,56,110,135,-37,99,55,26]
["Clackmannanshire",97,156,97,224,139,-21,10,1,-102,45,-24,8]
["Dumfries & Galloway",258,276,100,195,165,170,4,113,-17,9,169,74]
["Dundee City",-294,45,-142,-16,65,-11,-111,-91,-131,-37,-79,-145]
["East Ayrshire",204,59,37,80,165,63,33,25,33,-4,16,71]
["East Dunbartonshire",260,225,266,206,238,220,270,234,407,251,496,513]
["East Lothian",170,143,229,346,233,232,131,191,213,154,249,222]
["East Renfrewshire",201,274,244,180,255,281,325,418,315,584,635,567]
["Edinburgh, City of",-782,-65,-280,-86,-124,208,200,239,-63,-151,-364,-258]
["Eilean Siar",87,104,41,11,40,48,45,9,26,-11,0,22]
["Falkirk",271,201,90,108,59,10,50,92,-31,70,82,129]
["Fife",453,429,196,368,278,282,256,330,62,169,101,279]
["Glasgow City",-1535,-1394,-1413,-550,-648,-406,-871,-488,-1069,-923,-1001,-698]
["Highland",743,596,418,499,451,271,242,170,-28,166,111,339]
["Inverclyde",-69,-4,-74,-49,-7,-3,-16,-34,-24,36,-3,6]
["Midlothian",-55,-33,-66,32,121,161,62,174,192,147,275,250]
["Moray",150,39,-25,86,77,142,-4,-76,180,163,162,126]
["North Ayrshire",137,49,45,103,127,58,1,64,63,-13,91,101]
["North Lanarkshire",18,137,21,377,218,79,-46,39,79,109,81,107]
["Orkney Islands",96,63,32,40,45,41,37,5,40,35,44,35]
["Perth & Kinross",526,373,369,436,391,341,417,390,306,244,424,500]
["Renfrewshire",-14,105,-1,131,114,-51,41,108,-66,-25,52,98]
["Scottish Borders",332,339,179,322,305,117,119,141,58,101,172,130]
["Shetland Islands",63,95,-48,23,16,45,46,-15,-27,-43,4,-7]
["South Ayrshire",90,217,177,220,218,28,148,159,104,128,86,183]
["South Lanarkshire",473,307,391,430,199,263,219,91,250,97,146,388]
["Stirling",341,208,234,118,156,90,324,220,276,116,230,357]
["West Dunbartonshire",-151,-141,-58,13,-17,44,-93,-63,-39,-118,-27,60]
["West Lothian",229,111,218,219,117,27,111,56,37,-37,196,290]
[]
["NHS Board Areas"]
["SCOTLAND",3430,4434,2416,5380,4287,3522,2883,3490,1637,1877,3092,4093]
["Ayrshire & Arran",431,325,259,403,510,149,182,248,200,111,193,355]
["Borders",332,339,179,322,305,117,119,141,58,101,172,130]
["Dumfries & Galloway",258,276,100,195,165,170,4,113,-17,9,169,74]
["Fife",453,429,196,369,277,281,257,330,62,169,101,279]
["Forth Valley",709,565,421,450,354,79,384,313,143,231,288,494]
["Grampian",794,1082,797,1111,826,763,654,684,777,612,694,252]
["Greater Glasgow & Clyde",-1291,-789,-887,69,-103,138,-231,186,-476,-195,152,546]
["Highland",893,725,459,622,423,327,352,305,-65,265,166,365]
["Lanarkshire",474,298,263,669,455,289,60,119,329,206,227,495]
["Lothian",-438,156,101,511,347,628,504,660,379,113,356,504]
["Orkney",96,63,32,40,45,41,37,5,40,35,44,35]
["Shetland",63,95,-48,23,16,45,46,-15,-27,-43,4,-7]
["Tayside",569,766,503,585,627,447,470,392,208,274,526,549]
["Western Isles",87,104,41,11,40,48,45,9,26,-11,0,22]
[]
["Notes"]
["1) Figures include asylum seekers."]
["2) Movements to/from the armed forces were included in these figures in previous releases of this spreadsheet but are no longer treated as migration. Armed forces movements are included in the mid-year population estimates under another category."]
["3) These figures may not match figures published elsewhere due to small adjustments made for differences in administrative boundaries."]
["4) Source: Uses the data underlying the Total Migration To or From an Area tables."]
["5) The NHS Board areas used for estimates between 2003/04 and 2010/11 are those that existed between 2006 and 2014. The 2011/12 estimates onwards use the NHS Board areas that came into force in April 2014."]
[]
["© Crown Copyright 2016"]

{"sheet":"Total net migration 16-64","index":8,"n_rows":62,"n_cols":13,"rows_kept":62,"cut":false,"hidden":false,"merged":[[59,0,59,10],[58,0,58,10],[0,10,0,11],[0,0,0,2],[57,0,57,7],[56,0,56,11]]}
["Total net migration for ages 16-64",null,null,null,null,null,null,null,null,null,"Return to front page"]
[]
["Council Area","2003/04","2004/05","2005/06","2006/07","2007/08","2008/09","2009/10","2010/11","2011/12","2012/13","2013/14","2014/15"]
["SCOTLAND",13595,19931,16044,26935,21574,20601,22931,26224,11462,8267,14470,23858]
["Aberdeen City",-708,963,1306,2776,1641,3043,2709,2859,1987,2079,1928,1625]
["Aberdeenshire",1815,1667,1962,1758,1177,884,1193,975,924,1039,1374,719]
["Angus",796,594,576,494,342,-13,174,-35,137,-36,394,307]
["Argyll & Bute",718,307,136,225,12,-28,224,181,-128,-76,-269,-198]
["Clackmannanshire",413,408,223,503,288,82,-76,-18,-198,-119,-73,51]
["Dumfries & Galloway",723,726,318,404,523,111,91,230,-75,19,105,206]
["Dundee City",-357,634,113,320,608,1036,1133,1603,730,395,154,410]
["East Ayrshire",181,-27,14,276,388,326,-17,15,-93,-132,-76,10]
["East Dunbartonshire",-613,-644,-613,-435,-362,-218,-294,-312,-157,-177,339,60]
["East Lothian",179,267,561,1167,1318,421,397,199,511,313,374,606]
["East Renfrewshire",-348,-326,-494,-118,-327,-280,11,-117,-100,-24,230,-74]
["Edinburgh, City of",3398,5731,3946,5148,3653,5710,7905,7825,4018,3149,3621,6593]
["Eilean Siar",126,125,60,45,-59,2,86,12,-26,-20,-90,-18]
["Falkirk",1168,1392,792,820,532,477,315,889,346,226,318,571]
["Fife",1734,1997,1292,1394,1248,1146,1453,1618,474,121,363,901]
["Glasgow City",-1170,531,19,3295,3976,4706,4271,6127,2536,1679,3303,6790]
["Highland",1818,2040,1506,2010,1495,667,736,667,187,-30,172,819]
["Inverclyde",-485,-145,-289,-259,-160,-334,-220,-265,-305,-195,-236,-148]
["Midlothian",-173,-273,-206,99,270,291,133,302,343,443,753,689]
["Moray",697,549,455,347,155,251,-51,-114,103,402,198,249]
["North Ayrshire",-72,-22,-124,242,120,-252,-218,11,-476,-333,-271,-41]
["North Lanarkshire",184,151,268,589,379,7,-358,-81,-279,-407,-138,-29]
["Orkney Islands",135,67,142,80,30,36,98,85,70,39,14,63]
["Perth & Kinross",910,1488,1520,1865,1895,1396,1363,1255,644,81,945,649]
["Renfrewshire",-192,-401,-312,127,241,189,364,408,-323,-321,254,459]
["Scottish Borders",849,605,649,1031,950,189,146,370,13,175,173,282]
["Shetland Islands",-11,-11,-69,15,4,135,114,64,-59,-23,-1,4]
["South Ayrshire",376,78,99,287,141,73,267,324,155,148,-86,28]
["South Lanarkshire",1272,562,763,1014,401,269,470,335,49,304,318,616]
["Stirling",-407,441,443,317,52,198,684,817,530,226,235,1092]
["West Dunbartonshire",-196,-165,-35,-21,-137,-83,-208,-123,-164,-257,-51,30]
["West Lothian",835,622,1023,1120,780,164,36,118,88,-421,196,537]
[]
["NHS Board Areas"]
["SCOTLAND",13595,19931,16044,26935,21574,20601,22931,26224,11462,8267,14470,23858]
["Ayrshire & Arran",485,29,-11,805,649,147,32,350,-414,-317,-433,-3]
["Borders",849,605,649,1031,950,189,146,370,13,175,173,282]
["Dumfries & Galloway",723,726,318,404,523,111,91,230,-75,19,105,206]
["Fife",1734,1997,1293,1391,1242,1145,1455,1614,474,121,363,901]
["Forth Valley",1174,2241,1458,1640,872,757,923,1688,678,333,480,1714]
["Grampian",1804,3179,3723,4881,2973,4178,3851,3720,3014,3520,3500,2593]
["Greater Glasgow & Clyde",-2385,-877,-1172,3247,3555,4397,4428,5781,1487,705,3839,7117]
["Highland",2536,2347,1642,2235,1507,639,960,848,59,-106,-97,621]
["Lanarkshire",837,440,479,945,456,-141,-392,191,-230,-103,180,587]
["Lothian",4239,6347,5324,7534,6021,6586,8471,8444,4960,3484,4944,8425]
["Orkney",135,67,142,80,30,36,98,85,70,39,14,63]
["Shetland",-11,-11,-69,15,4,135,114,64,-59,-23,-1,4]
["Tayside",1349,2716,2208,2682,2851,2420,2668,2827,1511,440,1493,1366]
["Western Isles",126,125,60,45,-59,2,86,12,-26,-20,-90,-18]
[]
["Notes"]
["1) Figures include asylum seekers."]
["2) Movements to/from the armed forces were included in these figures in previous releases of this spreadsheet but are no longer treated as migration. Armed forces movements are included in the mid-year population estimates under another category."]
["3) These figures may not match figures published elsewhere due to small adjustments made for differences in administrative boundaries."]
["4) Source: Uses the data underlying the Total Migration To or From an Area tables."]
["5) The NHS Board areas used for estimates between 2003/04 and 2010/11 are those that existed between 2006 and 2014. The 2011/12 estimates onwards use the NHS Board areas that came into force in April 2014."]
[]
["© Crown Copyright 2016"]

{"sheet":"Total net migration 65+","index":9,"n_rows":63,"n_cols":13,"rows_kept":63,"cut":false,"hidden":false,"merged":[[0,10,0,11],[60,0,60,10],[59,0,59,10],[58,0,58,10],[0,0,0,2],[56,0,57,11]]}
["Total net migration for ages 65+",null,null,null,null,null,null,null,null,null,"Return to front page"]
[]
["Council Area","2003/04","2004/05","2005/06","2006/07","2007/08","2008/09","2009/10","2010/11","2011/12","2012/13","2013/14","2014/15"]
["SCOTLAND",1597,942,362,734,548,299,261,495,-361,-182,23,17]
["Aberdeen City",-136,-65,-157,-156,-175,-111,-117,-88,-180,-119,-213,-203]
["Aberdeenshire",424,282,277,233,135,44,4,-44,-95,-120,-168,-196]
["Angus",209,131,102,96,141,45,16,57,88,82,70,36]
["Argyll & Bute",58,1,23,30,-23,-55,-43,-12,-68,-46,-61,-61]
["Clackmannanshire",41,8,-23,14,-30,-22,-9,9,44,15,15,83]
["Dumfries & Galloway",202,189,51,113,122,23,24,34,-36,-34,60,50]
["Dundee City",-89,-107,-80,-39,-65,-106,-41,-85,-107,-49,-87,-56]
["East Ayrshire",-18,4,40,-31,-4,-6,14,-10,-16,16,-30,-19]
["East Dunbartonshire",-104,-63,-102,-60,-56,-81,-47,-27,10,18,74,-24]
["East Lothian",81,87,135,46,84,52,67,55,63,54,89,133]
["East Renfrewshire",50,35,37,-17,0,71,33,-31,-26,-21,25,134]
["Edinburgh, City of",-382,-349,-254,-143,-173,-57,-36,-20,11,0,39,-74]
["Eilean Siar",33,45,28,17,42,21,38,2,13,12,2,-9]
["Falkirk",71,49,59,7,72,78,93,40,41,79,15,34]
["Fife",161,231,72,131,101,122,97,128,87,14,186,48]
["Glasgow City",-713,-695,-594,-442,-399,-311,-350,-269,-321,-317,-255,-252]
["Highland",289,226,130,168,165,52,12,61,-41,-43,-44,-43]
["Inverclyde",-45,19,10,-10,-36,-22,10,10,24,-1,-31,6]
["Midlothian",-35,-15,11,-22,36,15,42,46,24,-14,-8,48]
["Moray",133,105,28,92,98,11,46,28,44,31,107,35]
["North Ayrshire",141,68,58,83,86,77,52,61,12,38,43,0]
["North Lanarkshire",26,42,13,-117,-63,2,-18,-16,-71,-87,-29,62]
["Orkney Islands",30,5,26,23,20,11,28,9,-4,6,9,2]
["Perth & Kinross",229,202,134,139,114,63,81,181,30,52,38,114]
["Renfrewshire",-62,10,-31,11,43,18,38,73,-6,3,66,34]
["Scottish Borders",204,59,7,139,47,115,21,-23,-26,32,-65,23]
["Shetland Islands",20,4,5,8,6,23,-5,10,18,-23,-8,-33]
["South Ayrshire",218,130,90,71,41,72,28,113,98,129,103,100]
["South Lanarkshire",382,210,180,207,135,108,119,161,109,178,47,30]
["Stirling",56,9,24,42,36,22,-2,-16,-32,-89,2,-37]
["West Dunbartonshire",-27,-26,-15,-24,-51,-17,10,13,-77,-49,-20,-11]
["West Lothian",150,111,78,125,99,42,56,45,29,71,52,63]
[]
["NHS Board Areas"]
["SCOTLAND",1597,942,362,734,548,299,261,495,-361,-182,23,17]
["Ayrshire & Arran",341,202,188,123,123,143,94,164,94,183,116,81]
["Borders",204,59,7,139,47,115,21,-23,-26,32,-65,23]
["Dumfries & Galloway",202,189,51,113,122,23,24,34,-36,-34,60,50]
["Fife",161,231,74,131,101,122,97,127,87,14,186,48]
["Forth Valley",168,66,60,63,78,78,82,33,53,5,32,80]
["Grampian",421,322,148,169,58,-56,-67,-104,-231,-208,-274,-364]
["Greater Glasgow & Clyde",-883,-753,-737,-611,-567,-411,-335,-192,-396,-367,-141,-113]
["Highland",347,227,153,198,142,-3,-31,49,-109,-89,-105,-104]
["Lanarkshire",390,285,235,159,140,179,130,106,38,91,18,92]
["Lothian",-186,-166,-30,6,46,52,129,126,127,111,172,170]
["Orkney",30,5,26,23,20,11,28,9,-4,6,9,2]
["Shetland",20,4,5,8,6,23,-5,10,18,-23,-8,-33]
["Tayside",349,226,154,196,190,2,56,154,11,85,21,94]
["Western Isles",33,45,28,17,42,21,38,2,13,12,2,-9]
[]
["Notes"]
["1) Figures include asylum seekers."]
["2) Movements to/from the armed forces were included in these figures in previous releases of this spreadsheet but are no longer treated as migration. Armed forces movements are included in the mid-year population estimates under another category."]
[]
["3) These figures may not match figures published elsewhere due to small adjustments made for differences in administrative boundaries."]
["4) Source: Uses the data underlying the Total Migration To or From an Area tables."]
["5) The NHS Board areas used for estimates between 2003/04 and 2010/11 are those that existed between 2006 and 2014. The 2011/12 estimates onwards use the NHS Board areas that came into force in April 2014."]
[]
["© Crown Copyright 2016"]

{"sheet":"Total in-migration","index":10,"n_rows":62,"n_cols":13,"rows_kept":62,"cut":false,"hidden":false,"merged":[[0,10,0,11],[59,0,59,10],[58,0,58,10],[57,0,57,10],[55,0,55,2],[56,0,56,11]]}
["Total in-migration",null,null,null,null,null,null,null,null,null,"Return to front page"]
[]
["Council Area","2003/04","2004/05","2005/06","2006/07","2007/08","2008/09","2009/10","2010/11","2011/12","2012/13","2013/14","2014/15"]
["SCOTLAND",90379,99142,94635,96646,98527,90507,92407,87886,81016,75885,82442,84954]
["Aberdeen City",10654,12400,12747,13511,13628,14163,13971,13582,13652,14041,14206,14060]
["Aberdeenshire",10272,10292,10285,9934,9778,8826,8980,8836,9062,9553,10342,9488]
["Angus",4759,4560,4444,4180,4282,3385,3664,3604,3930,3945,4230,4306]
["Argyll & Bute",4897,4755,4435,4309,4081,3860,3949,3735,3821,3931,3785,3913]
["Clackmannanshire",2084,2132,2005,2268,2133,1679,1583,1525,1482,1602,1733,1860]
["Dumfries & Galloway",5278,5481,4740,4672,4931,4186,3945,4002,3835,3981,4047,3928]
["Dundee City",5831,6852,6482,6672,7296,6862,7131,7389,6953,7071,6857,7019]
["East Ayrshire",3661,3445,3403,3672,3790,3373,3078,3108,3079,3108,3249,3352]
["East Dunbartonshire",3622,3673,3489,3493,3425,3229,3072,3053,3432,3512,4047,4197]
["East Lothian",3675,3646,3940,4402,4813,3648,3722,3653,4019,3775,4135,4337]
["East Renfrewshire",3400,3410,3326,3286,3287,2945,3100,3136,3292,3665,3823,3943]
["Edinburgh, City of",28525,31868,30273,29702,29672,29507,31281,29900,28837,27834,29439,31436]
["Eilean Siar",1233,1219,1091,1034,1028,966,974,908,866,861,818,881]
["Falkirk",4723,5163,4536,4577,4314,3774,3564,4198,3842,4076,4173,4478]
["Fife",12574,13207,12154,11939,12083,11195,11337,11174,10741,10459,10894,11289]
["Glasgow City",26611,28421,27497,29034,31107,29919,29101,29318,28362,28008,30312,33301]
["Highland",9793,10164,9584,9633,9621,8045,7859,7509,7151,7078,7243,7722]
["Inverclyde",1748,1963,1658,1618,1658,1329,1398,1258,1325,1403,1376,1456]
["Midlothian",2607,2563,2560,2953,2986,2783,2633,2720,2852,2988,3527,3645]
["Moray",4056,3939,3861,3453,3479,3171,3081,3040,3412,3528,3479,3680]
["North Ayrshire",4450,4332,4127,4340,4193,3544,3479,3528,3497,3495,3550,3725]
["North Lanarkshire",7878,7891,7841,8239,8007,7123,6225,6540,6706,6642,6920,7581]
["Orkney Islands",897,801,779,739,745,708,805,666,735,761,747,711]
["Perth & Kinross",6919,7387,7299,7526,7845,6980,6980,6459,6392,5977,6759,6512]
["Renfrewshire",4839,5027,4829,5245,5066,4687,4872,4781,4343,4407,5028,5410]
["Scottish Borders",5416,4961,4760,5150,5304,4311,4142,4091,3992,3973,4196,4130]
["Shetland Islands",815,823,724,781,750,811,758,708,666,647,674,705]
["South Ayrshire",4044,4000,3742,3918,3832,3505,3512,3481,3595,3726,3431,3749]
["South Lanarkshire",10040,9254,9274,9270,8788,8056,7910,7623,8171,8207,8294,9169]
["Stirling",4755,5532,5292,5145,4991,4747,5187,5161,5208,5033,5133,5938]
["West Dunbartonshire",2444,2353,2439,2458,2434,2247,2075,2085,2143,2170,2256,2551]
["West Lothian",6211,5977,6197,6712,6349,5064,4830,4817,4906,4587,5233,5724]
[]
["NHS Board Areas"]
["SCOTLAND",90379,99142,94635,96646,98527,90507,92407,87886,81016,75885,82442,84954]
["Ayrshire & Arran",9497,9193,8673,9104,9062,7962,7716,7761,7686,7816,7778,8024]
["Borders",5416,4961,4760,5150,5304,4311,4142,4091,3992,3973,4196,4130]
["Dumfries & Galloway",5278,5481,4740,4672,4931,4186,3945,4002,3835,3981,4047,3928]
["Fife",12574,13207,12154,11935,12076,11192,11335,11172,10741,10459,10894,11289]
["Forth Valley",9966,11261,10253,10256,9834,8836,8925,9434,9110,9188,9446,10572]
["Grampian",18090,19967,20186,20237,19916,19892,19461,18794,19260,19500,20218,19204]
["Greater Glasgow & Clyde",35516,37775,36530,38261,40069,38430,38147,37787,32117,31621,34840,37643]
["Highland",14338,14615,13678,13615,13351,11596,11487,10945,10646,10658,10686,11308]
["Lanarkshire",13004,12548,12516,12635,12418,11176,10327,10448,12718,12520,12932,14153]
["Lothian",32276,35920,34812,34655,35301,33842,35429,33811,33359,31516,33965,35907]
["Orkney",897,801,779,739,745,708,805,666,735,761,747,711]
["Shetland",815,823,724,781,750,811,758,708,666,647,674,705]
["Tayside",13651,15422,14657,14789,15732,14377,14796,14387,14011,13469,14433,14314]
["Western Isles",1233,1219,1091,1034,1028,966,974,908,866,861,818,881]
[]
["Notes"]
["1) Figures include asylum seekers and rounding adjustments."]
["2) Movements to/from the armed forces were included in these figures in previous releases of this spreadsheet but are no longer treated as migration. Armed forces movements are included in the mid-year population estimates under another category."]
["3) Scotland level estimates cannot be derived by adding together the estimates for individual council areas or NHS Board areas. This is because administrative area estimates include moves within Scotland. Therefore it would not be appropriate to compare total in-migration for Scotland with total in-migration for an administrative area."]
["4) Source for data: 'In, out and net migration between administrative areas and overseas, 2001/02 to latest' from the Migration between Scotland and Overseas section of the NRS website. "]
["5) The NHS Board areas used for estimates between 2003/04 and 2010/11 are those that existed between 2006 and 2014. The 2011/12 estimates onwards use the NHS Board areas that came into force in April 2014."]
[]
["© Crown Copyright 2016"]

{"sheet":"Total out-migration","index":11,"n_rows":62,"n_cols":13,"rows_kept":62,"cut":false,"hidden":false,"merged":[[0,10,0,11],[59,0,59,10],[58,0,58,10],[57,0,57,10],[55,0,55,2],[56,0,56,11]]}
["Total out-migration",null,null,null,null,null,null,null,null,null,"Return to front page"]
[]
["Council Area","2003/04","2004/05","2005/06","2006/07","2007/08","2008/09","2009/10","2010/11","2011/12","2012/13","2013/14","2014/15"]
["SCOTLAND",71757,73835,75813,63597,72118,66085,66332,57677,68278,65923,64857,56986]
["Aberdeen City",11845,11290,11604,10558,11982,11189,11217,10504,11805,12377,12794,12975]
["Aberdeenshire",7042,7512,7218,7251,7897,7319,7287,7452,7676,7889,8301,8502]
["Angus",3417,3487,3490,3424,3629,3237,3309,3489,3672,3832,3585,3769]
["Argyll & Bute",3971,4318,4235,3931,4120,3887,3658,3431,4054,3954,4060,4146]
["Clackmannanshire",1533,1560,1708,1527,1736,1640,1658,1533,1738,1661,1815,1718]
["Dumfries & Galloway",4095,4290,4271,3960,4121,3882,3826,3625,3963,3987,3713,3598]
["Dundee City",6571,6280,6591,6407,6688,5943,6150,5962,6461,6762,6869,6810]
["East Ayrshire",3294,3409,3312,3347,3241,2990,3048,3078,3155,3228,3339,3290]
["East Dunbartonshire",4079,4155,3938,3782,3605,3308,3143,3158,3172,3420,3138,3648]
["East Lothian",3245,3149,3015,2843,3178,2943,3127,3208,3232,3254,3423,3376]
["East Renfrewshire",3497,3427,3539,3241,3359,2873,2731,2866,3103,3126,2933,3316]
["Edinburgh, City of",26291,26551,26861,24783,26316,23646,23212,21856,24871,24836,26143,25175]
["Eilean Siar",987,945,962,961,1005,895,805,885,853,880,906,886]
["Falkirk",3213,3521,3595,3642,3651,3209,3106,3177,3486,3701,3758,3744]
["Fife",10226,10550,10594,10046,10456,9645,9531,9098,10118,10155,10244,10061]
["Glasgow City",30029,29979,29485,26731,28178,25930,26051,23948,27216,27569,28265,27461]
["Highland",6943,7302,7530,6956,7510,7055,6869,6611,7033,6985,7004,6607]
["Inverclyde",2347,2093,2011,1936,1861,1688,1624,1547,1630,1563,1646,1592]
["Midlothian",2870,2884,2821,2844,2559,2316,2396,2198,2293,2412,2507,2658]
["Moray",3076,3246,3403,2928,3149,2767,3090,3202,3085,2932,3012,3270]
["North Ayrshire",4244,4237,4148,3912,3860,3661,3644,3392,3898,3803,3687,3665]
["North Lanarkshire",7650,7561,7539,7390,7473,7035,6647,6598,6977,7027,7006,7441]
["Orkney Islands",636,666,579,596,650,620,642,567,629,681,680,611]
["Perth & Kinross",5254,5324,5276,5086,5445,5180,5119,4633,5412,5600,5352,5249]
["Renfrewshire",5107,5313,5173,4976,4668,4531,4429,4192,4738,4750,4656,4819]
["Scottish Borders",4031,3958,3925,3658,4002,3890,3856,3603,3947,3665,3916,3695]
["Shetland Islands",743,735,836,735,724,608,603,649,734,736,679,741]
["South Ayrshire",3360,3575,3376,3340,3432,3332,3069,2885,3238,3321,3328,3438]
["South Lanarkshire",7913,8175,7940,7619,8053,7416,7102,7036,7763,7628,7783,8135]
["Stirling",4765,4874,4591,4668,4747,4437,4181,4140,4434,4780,4666,4526]
["West Dunbartonshire",2818,2685,2547,2490,2639,2303,2366,2258,2423,2594,2354,2472]
["West Lothian",4997,5133,4878,5248,5353,4831,4627,4598,4752,4974,4789,4834]
[]
["NHS Board Areas"]
["SCOTLAND",71757,73835,75813,63597,72118,66085,66332,57677,68278,65923,64857,56986]
["Ayrshire & Arran",8240,8637,8237,7773,7780,7523,7408,6999,7806,7839,7902,7591]
["Borders",4031,3958,3925,3658,4002,3890,3856,3603,3947,3665,3916,3695]
["Dumfries & Galloway",4095,4290,4271,3960,4121,3882,3826,3625,3963,3987,3713,3598]
["Fife",10226,10550,10591,10044,10456,9644,9526,9101,10118,10155,10244,10061]
["Forth Valley",7915,8389,8314,8103,8530,7922,7536,7400,8236,8619,8646,8284]
["Grampian",15071,15384,15518,14076,16059,15007,15023,14494,15700,15576,16298,16723]
["Greater Glasgow & Clyde",40075,40194,39326,35556,37184,34306,34285,32012,31502,31478,30990,30093]
["Highland",10562,11316,11424,10560,11279,10633,10206,9743,10761,10588,10722,10426]
["Lanarkshire",11303,11525,11539,10862,11367,10849,10529,10032,12581,12326,12507,12979]
["Lothian",28661,29583,29417,26604,28887,26576,26325,24581,27893,27808,28493,26808]
["Orkney",636,666,579,596,650,620,642,567,629,681,680,611]
["Shetland",743,735,836,735,724,608,603,649,734,736,679,741]
["Tayside",11384,11714,11792,11326,12064,11508,11602,11014,12281,12670,12393,12305]
["Western Isles",987,945,962,961,1005,895,805,885,853,880,906,886]
[]
["Notes"]
["1) Figures include asylum seekers and rounding adjustments."]
["2) Movements to/from the armed forces were included in these figures in previous releases of this spreadsheet but are no longer treated as migration. Armed forces movements are included in the mid-year population estimates under another category."]
["3) Scotland level estimates cannot be derived by adding together the estimates for individual council areas or NHS Board areas. This is because administrative area estimates include moves within Scotland. Therefore it would not be appropriate to compare total in-migration for Scotland with total in-migration for an administrative area."]
["4) Source for data: 'In, out and net migration between administrative areas and overseas, 2001/02 to latest' from the Migration between Scotland and Overseas section of the NRS website. "]
["5) The NHS Board areas used for estimates between 2003/04 and 2010/11 are those that existed between 2006 and 2014. The 2011/12 estimates onwards use the NHS Board areas that came into force in April 2014."]
[]
["© Crown Copyright 2016"]

{"sheet":"Within Scotland net migration","index":12,"n_rows":60,"n_cols":13,"rows_kept":60,"cut":false,"hidden":false,"merged":[[57,0,57,10],[0,10,0,11],[56,0,56,10],[0,0,0,1],[55,0,55,11]]}
["Within Scotland net migration",null,null,null,null,null,null,null,null,null,"Return to front page"]
[]
["Council Area","2003/04","2004/05","2005/06","2006/07","2007/08","2008/09","2009/10","2010/11","2011/12","2012/13","2013/14","2014/15"]
["SCOTLAND","n/a","n/a","n/a","n/a","n/a","n/a","n/a","n/a","n/a","n/a","n/a","n/a"]
["Aberdeen City",-1678,-1086,-1135,-1116,-1657,-976,-1307,-1055,-356,-195,-1140,-2221]
["Aberdeenshire",1238,869,1342,1097,878,685,1077,793,1075,1183,1642,951]
["Angus",996,506,687,392,380,-24,117,-34,198,162,426,441]
["Argyll & Bute",203,-31,-238,-231,-211,-285,-147,-121,-333,-196,-444,-444]
["Clackmannanshire",340,294,144,394,291,5,-105,-7,-248,-85,-57,67]
["Dumfries & Galloway",-56,-118,-261,-56,54,-84,-101,-87,-170,-194,-110,-103]
["Dundee City",-689,-347,-647,-528,-392,-103,-277,-9,-128,-249,-308,-515]
["East Ayrshire",283,-28,174,246,359,401,73,13,-67,-37,43,-15]
["East Dunbartonshire",-158,-260,-130,-170,-102,-13,163,22,370,287,1063,607]
["East Lothian",355,484,879,1093,991,422,352,211,474,496,559,684]
["East Renfrewshire",194,132,73,247,158,119,382,275,468,698,938,708]
["Edinburgh, City of",-2856,-1553,-2614,-1953,-1978,-768,-364,-394,-251,-614,-1711,-1927]
["Eilean Siar",-41,35,-48,-52,-80,-31,27,-33,-30,-73,-60,-46]
["Falkirk",1049,1155,772,580,440,431,282,609,365,396,172,391]
["Fife",1302,940,635,266,731,252,531,449,198,-120,-88,-68]
["Glasgow City",-4552,-3302,-2651,-2762,-2169,-1521,-1862,-1231,-2103,-1801,-2681,-2417]
["Highland",23,89,131,62,431,77,-73,-169,-87,-428,-410,-28]
["Inverclyde",-300,-255,-312,-271,-203,-311,-165,-246,-196,-153,-287,-253]
["Midlothian",-238,-226,-217,-1,331,489,253,375,509,565,947,1034]
["Moray",193,-70,6,-168,-64,52,-100,64,-116,127,184,274]
["North Ayrshire",247,212,147,351,139,-174,-154,22,-184,-197,-210,-74]
["North Lanarkshire",412,332,342,267,219,55,-247,-202,-106,-182,-181,-152]
["Orkney Islands",-45,-15,79,-17,-51,-63,15,8,44,20,-41,-35]
["Perth & Kinross",532,382,603,473,491,369,457,342,309,179,613,468]
["Renfrewshire",-311,-402,-208,-224,153,126,128,173,-269,-143,381,203]
["Scottish Borders",387,326,272,547,360,158,144,134,-79,-8,67,91]
["Shetland Islands",-85,-101,-84,-102,-103,9,-39,10,-104,-85,-30,-99]
["South Ayrshire",516,178,255,294,222,127,144,226,297,333,100,112]
["South Lanarkshire",2019,1026,1239,1302,695,746,909,482,661,948,536,1228]
["Stirling",-403,404,222,-356,-334,-148,309,-110,212,107,61,413]
["West Dunbartonshire",-204,-151,28,-108,-150,14,-256,-191,-252,-370,-133,92]
["West Lothian",1327,581,515,504,171,-36,-166,-319,-101,-371,159,633]
[]
["NHS Board Areas"]
["SCOTLAND","n/a","n/a","n/a","n/a","n/a","n/a","n/a","n/a","n/a","n/a","n/a","n/a"]
["Ayrshire & Arran",1046,362,576,891,720,354,63,261,46,99,-67,23]
["Borders",387,326,272,547,360,158,144,134,-79,-8,67,91]
["Dumfries & Galloway",-56,-118,-261,-56,54,-84,-101,-87,-170,-194,-110,-103]
["Fife",1302,940,638,264,730,250,532,444,198,-120,-88,-68]
["Forth Valley",986,1853,1138,618,397,288,486,492,329,418,176,871]
["Grampian",-247,-287,213,-187,-843,-239,-330,-198,603,1115,686,-996]
["Greater Glasgow & Clyde",-4565,-3804,-2552,-2564,-2083,-1104,-1029,-1052,-1982,-1482,-719,-1060]
["Highland",226,58,-107,-169,220,-208,-220,-290,-420,-624,-854,-472]
["Lanarkshire",1665,924,933,845,684,319,81,134,555,766,355,1076]
["Lothian",-1412,-714,-1437,-357,-485,107,75,-127,631,76,-46,424]
["Orkney",-45,-15,79,-17,-51,-63,15,8,44,20,-41,-35]
["Shetland",-85,-101,-84,-102,-103,9,-39,10,-104,-85,-30,-99]
["Tayside",839,541,640,339,480,244,296,304,379,92,731,394]
["Western Isles",-41,35,-48,-52,-80,-31,27,-33,-30,-73,-60,-46]
[]
["Notes"]
["1) Movements to/from the armed forces were included in these figures in previous releases of this spreadsheet but are no longer treated as migration. Armed forces movements are included in the mid-year population estimates under another category."]
["2) Scotland level estimates cannot be derived by adding together the estimates for individual council areas or NHS Board areas. This is because administrative area estimates include moves within Scotland. Therefore it would not be appropriate to compare total in-migration for Scotland with total in-migration for an administrative area."]
["3) Source for data: 'In, out and net migration between administrative areas and overseas, 2001/02 to latest' from the Migration between Scotland and Overseas section of the NRS website."]
[]
["© Crown Copyright 2016"]

{"sheet":"Within Scotland in-migration","index":13,"n_rows":60,"n_cols":13,"rows_kept":60,"cut":false,"hidden":false,"merged":[[0,10,0,11],[56,0,56,10],[57,0,57,10],[0,0,0,1],[55,0,55,11]]}
["Within Scotland in-migration",null,null,null,null,null,null,null,null,null,"Return to front page"]
[]
["Council Area","2003/04","2004/05","2005/06","2006/07","2007/08","2008/09","2009/10","2010/11","2011/12","2012/13","2013/14","2014/15"]
["SCOTLAND","n/a","n/a","n/a","n/a","n/a","n/a","n/a","n/a","n/a","n/a","n/a","n/a "]
["Aberdeen City",5544,5827,5796,5631,5634,5740,5518,5957,6712,7418,7043,6807]
["Aberdeenshire",5988,5918,6057,5939,6013,5527,5785,5789,6195,6667,7233,6869]
["Angus",3412,3076,3066,2933,2934,2285,2486,2567,2813,2931,3133,3282]
["Argyll & Bute",2619,2439,2254,2201,2212,2091,2144,2046,2208,2313,2165,2273]
["Clackmannanshire",1451,1428,1328,1573,1511,1191,1120,1129,1030,1182,1278,1459]
["Dumfries & Galloway",1783,1835,1663,1728,1790,1713,1621,1652,1719,1734,1725,1734]
["Dundee City",3518,3571,3502,3598,3776,3599,3509,3770,3898,4170,4199,4252]
["East Ayrshire",2568,2392,2465,2722,2686,2540,2267,2301,2266,2366,2486,2605]
["East Dunbartonshire",2936,2888,2808,2873,2828,2594,2527,2459,2859,2984,3490,3615]
["East Lothian",2695,2729,2919,3186,3246,2514,2571,2531,2746,2820,3057,3231]
["East Renfrewshire",2868,2780,2765,2850,2829,2442,2539,2575,2827,3156,3291,3416]
["Edinburgh, City of",10813,11328,10338,11202,10744,10798,10794,10814,11513,11500,11533,12285]
["Eilean Siar",647,676,613,588,616,598,601,576,553,499,557,604]
["Falkirk",3258,3507,3152,3164,2997,2658,2502,2988,2855,3170,3055,3367]
["Fife",6965,6842,6375,6103,6397,5675,5753,5852,5926,5733,6036,6390]
["Glasgow City",13112,13788,13809,13905,14583,13898,13338,13663,14155,14999,14980,16288]
["Highland",4292,4472,4445,4164,4531,4134,3911,3965,3993,3974,4058,4330]
["Inverclyde",1043,1073,976,1038,1045,853,896,869,890,983,939,1003]
["Midlothian",2056,1984,1947,2331,2338,2194,2022,2157,2278,2461,2866,3073]
["Moray",1861,1712,1707,1549,1643,1679,1551,1711,1627,1820,1901,2091]
["North Ayrshire",3117,3067,2878,3109,2901,2486,2430,2461,2566,2573,2537,2816]
["North Lanarkshire",5827,5706,5665,5791,5578,5037,4438,4741,5024,5112,5184,5780]
["Orkney Islands",384,381,420,363,368,352,430,345,414,429,378,389]
["Perth & Kinross",4048,3808,3940,3749,3905,3453,3471,3448,3683,3904,4138,4209]
["Renfrewshire",3268,3428,3270,3488,3536,3301,3267,3331,3219,3331,3895,4075]
["Scottish Borders",2611,2574,2350,2591,2496,2282,2235,2207,2109,2151,2315,2286]
["Shetland Islands",367,380,394,365,330,384,300,382,321,351,357,390]
["South Ayrshire",2706,2529,2436,2601,2507,2328,2228,2307,2515,2681,2477,2684]
["South Lanarkshire",7379,6605,6778,6809,6527,5987,5870,5667,6301,6550,6411,7455]
["Stirling",2693,3659,3239,2981,2884,2797,3068,2838,3151,3336,3315,3793]
["West Dunbartonshire",1809,1726,1834,1782,1874,1726,1524,1531,1654,1653,1759,2083]
["West Lothian",4694,4221,3989,4312,3910,3265,3075,3073,3263,3208,3703,4308]
[]
["NHS Board Areas"]
["SCOTLAND","n/a","n/a","n/a","n/a","n/a","n/a","n/a","n/a","n/a","n/a","n/a","n/a "]
["Ayrshire & Arran",5733,5404,5180,5606,5341,4894,4572,4713,4862,5107,5048,5303]
["Borders",2611,2574,2350,2591,2496,2282,2235,2207,2109,2151,2315,2286]
["Dumfries & Galloway",1783,1835,1663,1728,1790,1713,1621,1652,1719,1734,1725,1734]
["Fife",6965,6842,6375,6099,6396,5673,5751,5850,5926,5733,6036,6390]
["Forth Valley",5806,7028,6139,5984,5788,5282,5281,5505,5614,6165,6055,6915]
["Grampian",6501,6793,6853,6458,6321,6678,6283,6793,7668,8283,8368,7743]
["Greater Glasgow & Clyde",17447,18095,18307,18605,19385,18513,18196,18152,14824,15562,16352,17265]
["Highland",6559,6607,6358,6038,6392,5916,5734,5712,5875,5936,5881,6276]
["Lanarkshire",8733,8230,8291,8184,8130,7396,6924,7125,9166,9333,9313,10638]
["Lothian",11516,12128,11035,11917,11719,11611,11425,11296,12545,12321,12790,13662]
["Orkney",384,381,420,363,368,352,430,345,414,429,378,389]
["Shetland",367,380,394,365,330,384,300,382,321,351,357,390]
["Tayside",7120,7078,6940,6691,6918,6486,6487,6720,7130,7481,8057,8220]
["Western Isles",647,676,613,588,616,598,601,576,553,499,557,604]
[]
["Notes"]
["1) Movements to/from the armed forces were included in these figures in previous releases of this spreadsheet but are no longer treated as migration. Armed forces movements are included in the mid-year population estimates under another category."]
["2) Scotland level estimates cannot be derived by adding together the estimates for individual council areas or NHS Board areas. This is because administrative area estimates include moves within Scotland. Therefore it would not be appropriate to compare total in-migration for Scotland with total in-migration for an administrative area."]
["4) Source for data: 'In, out and net migration between administrative areas and overseas, 2001/02 to latest' from the Migration between Scotland and Overseas section of the NRS website. "]
[]
["© Crown Copyright 2016"]

{"sheet":"Within Scotland out-migration","index":14,"n_rows":60,"n_cols":13,"rows_kept":60,"cut":false,"hidden":false,"merged":[[0,10,0,11],[56,0,56,10],[57,0,57,10],[0,0,0,1],[55,0,55,11]]}
["Within Scotland out-migration",null,null,null,null,null,null,null,null,null,"Return to front page"]
[]
["Council Area","2003/04","2004/05","2005/06","2006/07","2007/08","2008/09","2009/10","2010/11","2011/12","2012/13","2013/14","2014/15"]
["SCOTLAND","n/a","n/a","n/a","n/a","n/a","n/a","n/a","n/a","n/a","n/a","n/a","n/a"]
["Aberdeen City",7222,6913,6931,6747,7291,6716,6825,7012,7068,7613,8183,9028]
["Aberdeenshire",4750,5049,4715,4842,5135,4842,4708,4996,5120,5484,5591,5918]
["Angus",2416,2570,2379,2541,2554,2309,2369,2601,2615,2769,2707,2841]
["Argyll & Bute",2416,2470,2492,2432,2423,2376,2291,2167,2541,2509,2609,2717]
["Clackmannanshire",1111,1134,1184,1179,1220,1186,1225,1136,1278,1267,1335,1392]
["Dumfries & Galloway",1839,1953,1924,1784,1736,1797,1722,1739,1889,1928,1835,1837]
["Dundee City",4207,3918,4149,4126,4168,3702,3786,3779,4026,4419,4507,4767]
["East Ayrshire",2285,2420,2291,2476,2327,2139,2194,2288,2333,2403,2443,2620]
["East Dunbartonshire",3094,3148,2938,3043,2930,2607,2364,2437,2489,2697,2427,3008]
["East Lothian",2340,2245,2040,2093,2255,2092,2219,2320,2272,2324,2498,2547]
["East Renfrewshire",2674,2648,2692,2603,2671,2323,2157,2300,2359,2458,2353,2708]
["Edinburgh, City of",13669,12881,12952,13155,12722,11566,11158,11208,11764,12114,13244,14212]
["Eilean Siar",688,641,661,640,696,629,574,609,583,572,617,650]
["Falkirk",2209,2352,2380,2584,2557,2227,2220,2379,2490,2774,2883,2976]
["Fife",5663,5902,5740,5837,5666,5423,5222,5403,5728,5853,6124,6458]
["Glasgow City",17664,17090,16460,16667,16752,15419,15200,14894,16258,16800,17661,18705]
["Highland",4269,4383,4314,4102,4100,4057,3984,4134,4080,4402,4468,4358]
["Inverclyde",1343,1328,1288,1309,1248,1164,1061,1115,1086,1136,1226,1256]
["Midlothian",2294,2210,2164,2332,2007,1705,1769,1782,1769,1896,1919,2039]
["Moray",1668,1782,1701,1717,1707,1627,1651,1647,1743,1693,1717,1817]
["North Ayrshire",2870,2855,2731,2758,2762,2660,2584,2439,2750,2770,2747,2890]
["North Lanarkshire",5415,5374,5323,5524,5359,4982,4685,4943,5130,5294,5365,5932]
["Orkney Islands",429,396,341,380,419,415,415,337,370,409,419,424]
["Perth & Kinross",3516,3426,3337,3276,3414,3084,3014,3106,3374,3725,3525,3741]
["Renfrewshire",3579,3830,3478,3712,3383,3175,3139,3158,3488,3474,3514,3872]
["Scottish Borders",2224,2248,2078,2044,2136,2124,2091,2073,2188,2159,2248,2195]
["Shetland Islands",452,481,478,467,433,375,339,372,425,436,387,489]
["South Ayrshire",2190,2351,2181,2307,2285,2201,2084,2081,2218,2348,2377,2572]
["South Lanarkshire",5360,5579,5539,5507,5832,5241,4961,5185,5640,5602,5875,6227]
["Stirling",3096,3255,3017,3337,3218,2945,2759,2948,2939,3229,3254,3380]
["West Dunbartonshire",2013,1877,1806,1890,2024,1712,1780,1722,1906,2023,1892,1991]
["West Lothian",3367,3640,3474,3808,3739,3301,3241,3392,3364,3579,3544,3675]
[]
["NHS Board Areas"]
["SCOTLAND","n/a","n/a","n/a","n/a","n/a","n/a","n/a","n/a","n/a","n/a","n/a","n/a"]
["Ayrshire & Arran",4687,5042,4604,4715,4621,4540,4509,4452,4816,5008,5115,5280]
["Borders",2224,2248,2078,2044,2136,2124,2091,2073,2188,2159,2248,2195]
["Dumfries & Galloway",1839,1953,1924,1784,1736,1797,1722,1739,1889,1928,1835,1837]
["Fife",5663,5902,5737,5835,5666,5423,5219,5406,5728,5853,6124,6458]
["Forth Valley",4820,5175,5001,5366,5391,4994,4795,5013,5285,5747,5879,6044]
["Grampian",6748,7080,6640,6645,7164,6917,6613,6991,7065,7168,7682,8739]
["Greater Glasgow & Clyde",22012,21899,20859,21169,21468,19617,19225,19204,16806,17044,17071,18325]
["Highland",6333,6549,6465,6207,6172,6124,5954,6002,6295,6560,6735,6748]
["Lanarkshire",7068,7306,7358,7339,7446,7077,6843,6991,8611,8567,8958,9562]
["Lothian",12928,12842,12472,12274,12204,11504,11350,11423,11914,12245,12836,13238]
["Orkney",429,396,341,380,419,415,415,337,370,409,419,424]
["Shetland",452,481,478,467,433,375,339,372,425,436,387,489]
["Tayside",6281,6537,6300,6352,6438,6242,6191,6416,6751,7389,7326,7826]
["Western Isles",688,641,661,640,696,629,574,609,583,572,617,650]
[]
["Notes"]
["1) Movements to/from the armed forces were included in these figures in previous releases of this spreadsheet but are no longer treated as migration. Armed forces movements are included in the mid-year population estimates under another category."]
["2) Scotland level estimates cannot be derived by adding together the estimates for individual council areas or NHS Board areas. This is because administrative area estimates include moves within Scotland. Therefore it would not be appropriate to compare total in-migration for Scotland with total in-migration for an administrative area."]
["4) Source for data: 'In, out and net migration between administrative areas and overseas, 2001/02 to latest' from the Migration between Scotland and Overseas section of the NRS website. "]
[]
["© Crown Copyright 2016"]

{"sheet":"Rest of UK net migration","index":15,"n_rows":61,"n_cols":13,"rows_kept":61,"cut":false,"hidden":false,"merged":[[0,10,0,11],[55,0,55,7],[56,0,56,9],[57,0,57,10],[58,0,58,10],[0,0,0,1]]}
["Rest of UK net migration",null,null,null,null,null,null,null,null,null,"Return to front page"]
[]
["Council Area","2003/04","2004/05","2005/06","2006/07","2007/08","2008/09","2009/10","2010/11","2011/12","2012/13","2013/14","2014/15"]
["SCOTLAND",15522,12507,8922,8849,11509,4122,3275,2909,3038,7862,9585,8368]
["Aberdeen City",-387,46,140,317,273,281,319,3,101,557,587,117]
["Aberdeenshire",1865,1288,1070,750,598,217,-103,-132,102,365,275,-221]
["Angus",452,439,130,158,166,27,23,-86,49,38,192,107]
["Argyll & Bute",827,568,549,472,398,309,352,370,271,384,403,296]
["Clackmannanshire",260,270,141,189,118,1,29,-7,41,60,1,79]
["Dumfries & Galloway",1494,1393,846,736,931,559,382,449,322,523,711,505]
["Dundee City",-156,201,-149,-270,50,-12,0,-140,55,238,41,53]
["East Ayrshire",216,151,111,146,283,122,54,83,124,78,41,168]
["East Dunbartonshire",-109,-178,-128,-128,43,-37,-165,-54,-19,-73,-46,55]
["East Lothian",122,10,9,278,391,67,98,68,197,77,122,120]
["East Renfrewshire",-148,-72,-161,-194,-131,-28,-51,22,-121,-51,5,2]
["Edinburgh, City of",2050,1650,1917,751,1349,358,1132,361,159,1659,1733,2139]
["Eilean Siar",323,245,188,99,130,115,147,53,80,113,20,39]
["Falkirk",394,241,100,38,114,10,18,134,20,107,228,216]
["Fife",959,930,653,614,512,239,24,327,66,478,629,468]
["Glasgow City",35,250,-402,325,850,62,-471,-459,-291,175,732,1180]
["Highland",2821,2150,1464,1643,1368,728,705,643,380,764,737,814]
["Inverclyde",-124,3,-41,-64,52,-43,-86,-18,-10,50,80,103]
["Midlothian",-3,-74,-43,17,89,-43,-56,74,26,56,113,-27]
["Moray",866,695,428,456,403,310,41,-131,542,615,325,258]
["North Ayrshire",100,75,110,124,340,145,80,82,10,127,241,176]
["North Lanarkshire",150,18,-7,9,218,14,-152,28,39,139,260,127]
["Orkney Islands",324,175,148,157,172,166,145,68,95,88,124,132]
["Perth & Kinross",1026,615,450,575,529,262,237,367,219,208,327,332]
["Renfrewshire",-144,-45,-215,-8,113,-69,-29,-40,-42,6,-1,110]
["Scottish Borders",1059,570,552,686,852,248,245,288,190,489,386,394]
["Shetland Islands",177,193,14,134,126,116,170,14,34,28,64,31]
["South Ayrshire",364,292,196,219,254,152,325,290,160,265,169,185]
["South Lanarkshire",476,306,296,276,223,-58,-45,106,68,55,348,-33]
["Stirling",323,113,301,269,319,103,34,146,147,199,450,362]
["West Dunbartonshire",-72,-99,-27,8,19,-40,-86,7,30,43,66,20]
["West Lothian",-18,88,282,67,357,-159,-41,-7,-6,2,222,61]
[]
["NHS Board Areas"]
["SCOTLAND",15522,12507,8922,8849,11509,4122,3275,2909,3038,7862,9585,8368]
["Ayrshire & Arran",680,518,417,489,877,419,459,455,294,470,451,529]
["Borders",1059,570,552,686,852,248,245,288,190,489,386,394]
["Dumfries & Galloway",1494,1393,846,736,931,559,382,449,322,523,711,505]
["Fife",959,930,653,614,506,240,26,327,66,478,629,468]
["Forth Valley",977,624,542,496,551,114,81,273,208,366,679,657]
["Grampian",2344,2029,1638,1523,1274,808,257,-260,745,1537,1187,154]
["Greater Glasgow & Clyde",-610,-129,-912,-70,964,-209,-879,-556,-453,150,836,1470]
["Highland",3648,2718,2013,2115,1766,1037,1057,1013,651,1148,1140,1110]
["Lanarkshire",674,312,227,294,423,10,-206,148,107,194,608,94]
["Lothian",2151,1674,2165,1113,2186,223,1133,496,376,1794,2190,2293]
["Orkney",324,175,148,157,172,166,145,68,95,88,124,132]
["Shetland",177,193,14,134,126,116,170,14,34,28,64,31]
["Tayside",1322,1255,431,463,751,276,258,141,323,484,560,492]
["Western Isles",323,245,188,99,130,115,147,53,80,113,20,39]
[]
["Notes"]
["1) Figures for 2003/04 to 2010/11 have been revised to include information from the 2011 Census."]
["2) Movements to/from the armed forces were included in these figures in previous releases of this spreadsheet but are no longer treated as migration. Armed forces movements are included in the mid-year population estimates under another category."]
["4) Source for data: 'In, out and net migration between administrative areas and overseas, 2001/02 to latest' from the Migration between Scotland and Overseas section of the NRS website. "]
["4) The NHS Board areas used for estimates between 2003/04 and 2010/11 are those that existed between 2006 and 2014. The 2011/12 estimates onwards use the NHS Board areas that came into force in April 2014."]
[]
["© Crown Copyright 2016"]

{"sheet":"Rest of UK in-migration","index":16,"n_rows":61,"n_cols":13,"rows_kept":61,"cut":false,"hidden":false,"merged":[[0,10,0,11],[55,0,55,7],[56,0,56,9],[57,0,57,10],[58,0,58,10],[0,0,0,1]]}
["Rest of UK in-migration",null,null,null,null,null,null,null,null,null,"Return to front page"]
[]
["Council Area","2003/04","2004/05","2005/06","2006/07","2007/08","2008/09","2009/10","2010/11","2011/12","2012/13","2013/14","2014/15"]
["SCOTLAND",61879,57342,53335,51546,53327,45407,45007,43686,45116,47685,49242,47154]
["Aberdeen City",2217,2251,2492,2530,2585,2559,2602,2341,2526,2987,2961,2663]
["Aberdeenshire",3506,2987,2671,2484,2251,1786,1637,1609,1805,1908,2047,1539]
["Angus",1211,1110,932,823,832,642,624,524,748,735,757,734]
["Argyll & Bute",1978,1851,1721,1567,1455,1337,1330,1329,1309,1383,1381,1341]
["Clackmannanshire",548,552,504,447,433,310,313,292,336,346,327,303]
["Dumfries & Galloway",3252,3144,2556,2451,2617,2085,1949,1992,1872,2047,2110,1913]
["Dundee City",1501,1554,1350,1229,1448,1339,1426,1369,1472,1527,1382,1379]
["East Ayrshire",962,858,818,787,882,715,661,691,700,664,669,657]
["East Dunbartonshire",499,489,469,400,461,455,391,434,462,451,455,477]
["East Lothian",771,662,666,834,1019,685,725,694,866,703,737,694]
["East Renfrewshire",393,455,400,293,321,348,368,427,389,421,407,400]
["Edinburgh, City of",9900,9529,9476,8315,8938,8055,8650,7867,8018,9083,9444,9501]
["Eilean Siar",540,463,391,347,334,292,304,272,269,334,229,222]
["Falkirk",1073,988,816,751,753,611,606,708,675,671,791,734]
["Fife",3972,3873,3610,3545,3477,3117,2906,3024,2853,3216,3229,2981]
["Glasgow City",6300,6216,5698,6010,6755,5999,5598,5399,5657,5921,6435,6604]
["Highland",4761,4197,3609,3696,3531,2619,2639,2521,2397,2485,2466,2474]
["Inverclyde",499,459,416,363,426,297,302,290,358,349,367,353]
["Midlothian",423,413,413,410,450,409,404,384,400,439,512,401]
["Moray",1955,1721,1624,1388,1336,1104,1079,922,1470,1481,1296,1257]
["North Ayrshire",1101,1006,1028,971,1031,832,814,845,782,812,877,751]
["North Lanarkshire",1635,1452,1332,1267,1350,1187,1006,1166,1154,1120,1246,1178]
["Orkney Islands",474,370,309,322,329,309,312,255,283,283,317,269]
["Perth & Kinross",2218,1941,1626,1734,1597,1367,1379,1383,1325,1232,1380,1355]
["Renfrewshire",917,901,748,846,840,724,758,721,696,745,702,787]
["Scottish Borders",2441,1833,1828,1919,2123,1509,1513,1511,1500,1572,1598,1580]
["Shetland Islands",389,371,265,340,326,279,356,225,254,236,266,222]
["South Ayrshire",1181,1126,980,984,995,902,957,868,839,878,788,811]
["South Lanarkshire",2232,1882,1761,1741,1553,1352,1352,1396,1421,1349,1512,1260]
["Stirling",1370,1058,1165,1155,1180,991,870,960,1003,1012,1204,1112]
["West Dunbartonshire",471,431,420,445,404,349,351,394,377,416,381,347]
["West Lothian",1189,1199,1241,1152,1295,842,825,873,900,879,969,855]
[]
["NHS Board Areas"]
["SCOTLAND",61879,57342,53335,51546,53327,45407,45007,43686,45116,47685,49242,47154]
["Ayrshire & Arran",3244,2990,2826,2742,2908,2449,2432,2404,2321,2354,2334,2219]
["Borders",2441,1833,1828,1919,2123,1509,1513,1511,1500,1572,1598,1580]
["Dumfries & Galloway",3252,3144,2556,2451,2617,2085,1949,1992,1872,2047,2110,1913]
["Fife",3972,3873,3610,3545,3471,3117,2906,3024,2853,3216,3229,2981]
["Forth Valley",2991,2598,2485,2353,2366,1912,1789,1960,2014,2029,2322,2149]
["Grampian",7678,6959,6787,6402,6172,5449,5318,4872,5801,6376,6304,5459]
["Greater Glasgow & Clyde",9397,9270,8471,8675,9485,8433,8067,7967,7939,8303,8747,8968]
["Highland",6739,6048,5330,5263,4986,3956,3969,3850,3706,3868,3847,3815]
["Lanarkshire",3549,3015,2773,2690,2625,2278,2059,2260,2575,2469,2758,2438]
["Lothian",12283,11803,11796,10711,11702,9991,10604,9818,10184,11104,11662,11451]
["Orkney",474,370,309,322,329,309,312,255,283,283,317,269]
["Shetland",389,371,265,340,326,279,356,225,254,236,266,222]
["Tayside",4930,4605,3908,3786,3883,3348,3429,3276,3545,3494,3519,3468]
["Western Isles",540,463,391,347,334,292,304,272,269,334,229,222]
[]
["Notes"]
["1) Figures for 2003/04 to 2010/11 have been revised to include information from the 2011 Census."]
["2) Movements to/from the armed forces were included in these figures in previous releases of this spreadsheet but are no longer treated as migration. Armed forces movements are included in the mid-year population estimates under another category."]
["4) Source for data: 'In, out and net migration between administrative areas and overseas, 2001/02 to latest' from the Migration between Scotland and Overseas section of the NRS website. "]
["4) The NHS Board areas used for estimates between 2003/04 and 2010/11 are those that existed between 2006 and 2014. The 2011/12 estimates onwards use the NHS Board areas that came into force in April 2014."]
[]
["© Crown Copyright 2016"]

{"sheet":"Rest of UK out-migration","index":17,"n_rows":61,"n_cols":13,"rows_kept":61,"cut":false,"hidden":false,"merged":[[0,10,0,11],[55,0,55,7],[56,0,56,9],[57,0,57,10],[58,0,58,10],[0,0,0,1]]}
["Rest of UK out-migration",null,null,null,null,null,null,null,null,null,"Return to front page"]
[]
["Council Area","2003/04","2004/05","2005/06","2006/07","2007/08","2008/09","2009/10","2010/11","2011/12","2012/13","2013/14","2014/15"]
["SCOTLAND",46357,44835,44413,42697,41818,41285,41732,40777,42078,39823,39657,38786]
["Aberdeen City",2604,2205,2352,2213,2312,2278,2283,2338,2425,2430,2374,2546]
["Aberdeenshire",1641,1699,1601,1734,1653,1569,1740,1741,1703,1543,1772,1760]
["Angus",759,671,802,665,666,615,601,610,699,697,565,627]
["Argyll & Bute",1151,1283,1172,1095,1057,1028,978,959,1038,999,978,1045]
["Clackmannanshire",288,282,363,258,315,309,284,299,295,286,326,224]
["Dumfries & Galloway",1758,1751,1710,1715,1686,1526,1567,1543,1550,1524,1399,1408]
["Dundee City",1657,1353,1499,1499,1398,1351,1426,1509,1417,1289,1341,1326]
["East Ayrshire",746,707,707,641,599,593,607,608,576,586,628,489]
["East Dunbartonshire",608,667,597,528,418,492,556,488,481,524,501,422]
["East Lothian",649,652,657,556,628,618,627,626,669,626,615,574]
["East Renfrewshire",541,527,561,487,452,376,419,405,510,472,402,398]
["Edinburgh, City of",7850,7879,7559,7564,7589,7697,7518,7506,7859,7424,7711,7362]
["Eilean Siar",217,218,203,248,204,177,157,219,189,221,209,183]
["Falkirk",679,747,716,713,639,601,588,574,655,564,563,518]
["Fife",3013,2943,2957,2931,2965,2878,2882,2697,2787,2738,2600,2513]
["Glasgow City",6265,5966,6100,5685,5905,5937,6069,5858,5948,5746,5703,5424]
["Highland",1940,2047,2145,2053,2163,1891,1934,1878,2017,1721,1729,1660]
["Inverclyde",623,456,457,427,374,340,388,308,368,299,287,250]
["Midlothian",426,487,456,393,361,452,460,310,374,383,399,428]
["Moray",1089,1026,1196,932,933,794,1038,1053,928,866,971,999]
["North Ayrshire",1001,931,918,847,691,687,734,763,772,685,636,575]
["North Lanarkshire",1485,1434,1339,1258,1132,1173,1158,1138,1115,981,986,1051]
["Orkney Islands",150,195,161,165,157,143,167,187,188,195,193,137]
["Perth & Kinross",1192,1326,1176,1159,1068,1105,1142,1016,1106,1024,1053,1023]
["Renfrewshire",1061,946,963,854,727,793,787,761,738,739,703,677]
["Scottish Borders",1382,1263,1276,1233,1271,1261,1268,1223,1310,1083,1212,1186]
["Shetland Islands",212,178,251,206,200,163,186,211,220,208,202,191]
["South Ayrshire",817,834,784,765,741,750,632,578,679,613,619,626]
["South Lanarkshire",1756,1576,1465,1465,1330,1410,1397,1290,1353,1294,1164,1293]
["Stirling",1047,945,864,886,861,888,836,814,856,813,754,750]
["West Dunbartonshire",543,530,447,437,385,389,437,387,347,373,315,327]
["West Lothian",1207,1111,959,1085,938,1001,866,880,906,877,747,794]
[]
["NHS Board Areas"]
["SCOTLAND",46357,44835,44413,42697,41818,41285,41732,40777,42078,39823,39657,38786]
["Ayrshire & Arran",2564,2472,2409,2253,2031,2030,1973,1949,2027,1884,1883,1690]
["Borders",1382,1263,1276,1233,1271,1261,1268,1223,1310,1083,1212,1186]
["Dumfries & Galloway",1758,1751,1710,1715,1686,1526,1567,1543,1550,1524,1399,1408]
["Fife",3013,2943,2957,2931,2965,2877,2880,2697,2787,2738,2600,2513]
["Forth Valley",2014,1974,1943,1857,1815,1798,1708,1687,1806,1663,1643,1492]
["Grampian",5334,4930,5149,4879,4898,4641,5061,5132,5056,4839,5117,5305]
["Greater Glasgow & Clyde",10007,9399,9383,8745,8521,8642,8946,8523,8392,8153,7911,7498]
["Highland",3091,3330,3317,3148,3220,2919,2912,2837,3055,2720,2707,2705]
["Lanarkshire",2875,2703,2546,2396,2202,2268,2265,2112,2468,2275,2150,2344]
["Lothian",10132,10129,9631,9598,9516,9768,9471,9322,9808,9310,9472,9158]
["Orkney",150,195,161,165,157,143,167,187,188,195,193,137]
["Shetland",212,178,251,206,200,163,186,211,220,208,202,191]
["Tayside",3608,3350,3477,3323,3132,3072,3171,3135,3222,3010,2959,2976]
["Western Isles",217,218,203,248,204,177,157,219,189,221,209,183]
[]
["Notes"]
["1) Figures for 2003/04 to 2010/11 have been revised to include information from the 2011 Census."]
["2) Movements to/from the armed forces were included in these figures in previous releases of this spreadsheet but are no longer treated as migration. Armed forces movements are included in the mid-year population estimates under another category."]
["4) Source for data: 'In, out and net migration between administrative areas and overseas, 2001/02 to latest' from the Migration between Scotland and Overseas section of the NRS website. "]
["4) The NHS Board areas used for estimates between 2003/04 and 2010/11 are those that existed between 2006 and 2014. The 2011/12 estimates onwards use the NHS Board areas that came into force in April 2014."]
[]
["© Crown Copyright 2016"]

{"sheet":"Overseas net migration","index":18,"n_rows":61,"n_cols":13,"rows_kept":61,"cut":false,"hidden":false,"merged":[[0,10,0,11],[56,0,56,9],[55,0,55,7],[57,0,57,10],[58,0,58,10],[0,0,0,1]]}
["Overseas net migration",null,null,null,null,null,null,null,null,null,"Return to front page"]
[]
["Council Area","2003/04","2004/05","2005/06","2006/07","2007/08","2008/09","2009/10","2010/11","2011/12","2012/13","2013/14","2014/15"]
["SCOTLAND",3100,12800,9900,24200,14900,20300,22800,27300,9700,2100,8000,19600]
["Aberdeen City",874,2150,2138,3752,3030,3669,3742,4130,2102,1302,1965,3189]
["Aberdeenshire",127,623,655,836,405,605,719,723,209,116,124,256]
["Angus",-106,128,137,206,107,145,215,235,11,-87,27,-11]
["Argyll & Bute",-104,-100,-111,137,-226,-51,86,55,-171,-211,-234,-85]
["Clackmannanshire",-49,8,12,158,-12,33,1,6,-49,-34,-26,-4]
["Dumfries & Galloway",-255,-84,-116,32,-175,-171,-162,15,-280,-335,-267,-72]
["Dundee City",105,718,687,1063,950,1034,1258,1576,565,320,255,671]
["East Ayrshire",-132,-87,-194,-67,-93,-140,-97,-66,-133,-161,-174,-91]
["East Dunbartonshire",-190,-44,-191,9,-121,-29,-69,-73,-91,-122,-108,-113]
["East Lothian",-47,3,37,188,253,216,145,166,116,-52,31,157]
["East Renfrewshire",-143,-77,-125,-8,-99,-19,38,-27,-158,-108,-53,-83]
["Edinburgh, City of",3040,5220,4109,6121,3985,6271,7301,8077,4058,1953,3274,6049]
["Eilean Siar",-36,-6,-11,26,-27,-13,-5,3,-37,-59,-48,2]
["Falkirk",67,246,69,317,109,124,158,278,-29,-128,15,127]
["Fife",87,787,272,1013,384,1059,1251,1300,359,-54,109,828]
["Glasgow City",1099,1494,1065,4740,4248,5448,5383,7060,3540,2065,3996,7077]
["Highland",6,623,459,972,312,185,358,424,-175,-243,-88,329]
["Inverclyde",-175,122,0,17,-52,-5,25,-25,-99,-57,-63,14]
["Midlothian",-22,-21,-1,93,7,21,40,73,24,-45,-40,-20]
["Moray",-79,68,24,237,-9,42,50,-95,-99,-146,-42,-122]
["North Ayrshire",-141,-192,-278,-47,-146,-88,-91,32,-227,-238,-168,-42]
["North Lanarkshire",-334,-20,-33,573,97,19,-23,116,-204,-342,-165,165]
["Orkney Islands",-18,-25,-27,3,-26,-15,3,23,-33,-28,-16,3]
["Perth & Kinross",107,1066,970,1392,1380,1169,1167,1117,452,-10,467,463]
["Renfrewshire",187,161,79,501,132,99,344,456,-84,-206,-8,278]
["Scottish Borders",-61,107,11,259,90,15,-103,66,-66,-173,-173,-50]
["Shetland Islands",-20,-4,-42,14,3,78,24,35,2,-32,-39,32]
["South Ayrshire",-196,-45,-85,65,-76,-106,-26,80,-100,-193,-166,14]
["South Lanarkshire",-368,-253,-201,73,-183,-48,-56,-1,-321,-424,-373,-161]
["Stirling",70,141,178,564,259,355,663,985,415,-53,-44,637]
["West Dunbartonshire",-98,-82,-109,68,-74,-30,51,11,-58,-97,-31,-33]
["West Lothian",-95,175,522,893,468,428,410,545,261,-18,63,196]
[]
["NHS Board Areas"]
["SCOTLAND",3100,12800,9900,24200,14900,20300,22800,27300,9700,2100,8000,19600]
["Ayrshire & Arran",-469,-324,-557,-49,-315,-334,-214,46,-460,-592,-508,-119]
["Borders",-61,107,11,259,90,15,-103,66,-66,-173,-173,-50]
["Dumfries & Galloway",-255,-84,-116,32,-175,-171,-162,15,-280,-335,-267,-72]
["Fife",87,787,272,1013,384,1058,1251,1300,359,-54,109,828]
["Forth Valley",88,395,259,1039,356,512,822,1269,337,-215,-55,760]
["Grampian",922,2841,2817,4825,3426,4316,4511,4758,2212,1272,2047,3323]
["Greater Glasgow & Clyde",616,1514,668,5339,4004,5437,5770,7383,3050,1475,3733,7140]
["Highland",-98,523,348,1109,86,134,444,479,-346,-454,-322,244]
["Lanarkshire",-638,-213,-183,634,-56,-2,-77,134,-525,-766,-538,4]
["Lothian",2876,5377,4667,7295,4713,6936,7896,8861,4459,1838,3328,6382]
["Orkney",-18,-25,-27,3,-26,-15,3,23,-33,-28,-16,3]
["Shetland",-20,-4,-42,14,3,78,24,35,2,-32,-39,32]
["Tayside",106,1912,1794,2661,2437,2349,2640,2928,1028,223,749,1123]
["Western Isles",-36,-6,-11,26,-27,-13,-5,3,-37,-59,-48,2]
[]
["Notes"]
["1) Figures for 2003/04 to 2010/11 have been revised to include information from the 2011 Census."]
["2) Figures include asylum seekers and rounding adjustments."]
["4) Source for data: 'In, out and net migration between administrative areas and overseas, 2001/02 to latest' from the Migration between Scotland and Overseas section of the NRS website. "]
["4) The NHS Board areas used for estimates between 2003/04 and 2010/11 are those that existed between 2006 and 2014. The 2011/12 estimates onwards use the NHS Board areas that came into force in April 2014."]
[]
["© Crown Copyright 2016"]

{"sheet":"Overseas in-migration","index":19,"n_rows":61,"n_cols":13,"rows_kept":61,"cut":false,"hidden":false,"merged":[[0,10,0,11],[56,0,56,9],[55,0,55,7],[57,0,57,10],[58,0,58,10],[0,0,0,1]]}
["Overseas in-migration",null,null,null,null,null,null,null,null,null,"Return to front page"]
[]
["Council Area","2003/04","2004/05","2005/06","2006/07","2007/08","2008/09","2009/10","2010/11","2011/12","2012/13","2013/14","2014/15"]
["SCOTLAND",28500,41800,41300,45100,45200,45100,47400,44200,35900,28200,33200,37800]
["Aberdeen City",2893,4322,4459,5350,5409,5864,5851,5284,4414,3636,4202,4590]
["Aberdeenshire",778,1387,1557,1511,1514,1513,1558,1438,1062,978,1062,1080]
["Angus",136,374,446,424,516,458,554,513,369,279,340,290]
["Argyll & Bute",300,465,460,541,414,432,475,360,304,235,239,299]
["Clackmannanshire",85,152,173,248,189,178,150,104,116,74,128,98]
["Dumfries & Galloway",243,502,521,493,524,388,375,358,244,200,212,281]
["Dundee City",812,1727,1630,1845,2072,1924,2196,2250,1583,1374,1276,1388]
["East Ayrshire",131,195,120,163,222,118,150,116,113,78,94,90]
["East Dunbartonshire",187,296,212,220,136,180,154,160,111,77,102,105]
["East Lothian",209,255,355,382,548,449,426,428,407,252,341,412]
["East Renfrewshire",139,175,161,143,137,155,193,134,76,88,125,127]
["Edinburgh, City of",7812,11011,10459,10185,9990,10654,11837,11219,9306,7251,8462,9650]
["Eilean Siar",46,80,87,99,78,76,69,60,44,28,32,55]
["Falkirk",392,668,568,662,564,505,456,502,312,235,327,377]
["Fife",1637,2492,2169,2291,2209,2403,2678,2298,1962,1510,1629,1918]
["Glasgow City",7199,8417,7990,9119,9769,10022,10165,10256,8550,7088,8897,10409]
["Highland",740,1495,1530,1773,1559,1292,1309,1023,761,619,719,918]
["Inverclyde",206,431,266,217,187,179,200,99,77,71,70,100]
["Midlothian",128,166,200,212,198,180,207,179,174,88,149,171]
["Moray",240,506,530,516,500,388,451,407,315,227,282,332]
["North Ayrshire",232,259,221,260,261,226,235,222,149,110,136,158]
["North Lanarkshire",416,733,844,1181,1079,899,781,633,528,410,490,623]
["Orkney Islands",39,50,50,54,48,47,63,66,38,49,52,53]
["Perth & Kinross",653,1638,1733,2043,2343,2160,2130,1628,1384,841,1241,948]
["Renfrewshire",654,698,811,911,690,662,847,729,428,331,431,548]
["Scottish Borders",364,554,582,640,685,520,394,373,383,250,283,264]
["Shetland Islands",59,72,65,76,94,148,102,101,91,60,51,93]
["South Ayrshire",157,345,326,333,330,275,327,306,241,167,166,254]
["South Lanarkshire",429,767,735,720,708,717,688,560,449,308,371,454]
["Stirling",692,815,888,1009,927,959,1249,1363,1054,685,614,1033]
["West Dunbartonshire",164,196,185,231,156,172,200,160,112,101,116,121]
["West Lothian",328,557,967,1248,1144,957,930,871,743,500,561,561]
[]
["NHS Board Areas"]
["SCOTLAND",28500,41800,41300,45100,45200,45100,47400,44200,35900,28200,33200,37800]
["Ayrshire & Arran",520,799,667,756,813,619,712,644,503,355,396,502]
["Borders",364,554,582,640,685,520,394,373,383,250,283,264]
["Dumfries & Galloway",243,502,521,493,524,388,375,358,244,200,212,281]
["Fife",1637,2492,2169,2291,2209,2402,2678,2298,1962,1510,1629,1918]
["Forth Valley",1169,1635,1629,1919,1680,1642,1855,1969,1482,994,1069,1508]
["Grampian",3911,6215,6546,7377,7423,7765,7860,7129,5791,4841,5546,6002]
["Greater Glasgow & Clyde",8672,10410,9752,10981,11199,11484,11884,11668,9354,7756,9741,11410]
["Highland",1040,1960,1990,2314,1973,1724,1784,1383,1065,854,958,1217]
["Lanarkshire",722,1303,1452,1761,1663,1502,1344,1063,977,718,861,1077]
["Lothian",8477,11989,11981,12027,11880,12240,13400,12697,10630,8091,9513,10794]
["Orkney",39,50,50,54,48,47,63,66,38,49,52,53]
["Shetland",59,72,65,76,94,148,102,101,91,60,51,93]
["Tayside",1601,3739,3809,4312,4931,4543,4880,4391,3336,2494,2857,2626]
["Western Isles",46,80,87,99,78,76,69,60,44,28,32,55]
[]
["Notes"]
["1) Figures for 2003/04 to 2010/11 have been revised to include information from the 2011 Census."]
["2) Figures include asylum seekers and rounding adjustments."]
["4) Source for data: 'In, out and net migration between administrative areas and overseas, 2001/02 to latest' from the Migration between Scotland and Overseas section of the NRS website. "]
["4) The NHS Board areas used for estimates between 2003/04 and 2010/11 are those that existed between 2006 and 2014. The 2011/12 estimates onwards use the NHS Board areas that came into force in April 2014."]
[]
["© Crown Copyright 2016"]

{"sheet":"Overseas out-migration","index":20,"n_rows":61,"n_cols":13,"rows_kept":61,"cut":false,"hidden":false,"merged":[[0,10,0,11],[56,0,56,9],[55,0,55,7],[57,0,57,10],[58,0,58,10],[0,0,0,1]]}
["Overseas out-migration",null,null,null,null,null,null,null,null,null,"Return to front page"]
[]
["Council Area","2003/04","2004/05","2005/06","2006/07","2007/08","2008/09","2009/10","2010/11","2011/12","2012/13","2013/14","2014/15"]
["SCOTLAND",25400,29000,31400,20900,30300,24800,24600,16900,26200,26100,25200,18200]
["Aberdeen City",2019,2172,2321,1598,2379,2195,2109,1154,2312,2334,2237,1401]
["Aberdeenshire",651,764,902,675,1109,908,839,715,853,862,938,824]
["Angus",242,246,309,218,409,313,339,278,358,366,313,301]
["Argyll & Bute",404,565,571,404,640,483,389,305,475,446,473,384]
["Clackmannanshire",134,144,161,90,201,145,149,98,165,108,154,102]
["Dumfries & Galloway",498,586,637,461,699,559,537,343,524,535,479,353]
["Dundee City",707,1009,943,782,1122,890,938,674,1018,1054,1021,717]
["East Ayrshire",263,282,314,230,315,258,247,182,246,239,268,181]
["East Dunbartonshire",377,340,403,211,257,209,223,233,202,199,210,218]
["East Lothian",256,252,318,194,295,233,281,262,291,304,310,255]
["East Renfrewshire",282,252,286,151,236,174,155,161,234,196,178,210]
["Edinburgh, City of",4772,5791,6350,4064,6005,4383,4536,3142,5248,5298,5188,3601]
["Eilean Siar",82,86,98,73,105,89,74,57,81,87,80,53]
["Falkirk",325,422,499,345,455,381,298,224,341,363,312,250]
["Fife",1550,1705,1897,1278,1825,1344,1427,998,1603,1564,1520,1090]
["Glasgow City",6100,6923,6925,4379,5521,4574,4782,3196,5010,5023,4901,3332]
["Highland",734,872,1071,801,1247,1107,951,599,936,862,807,589]
["Inverclyde",381,309,266,200,239,184,175,124,176,128,133,86]
["Midlothian",150,187,201,119,191,159,167,106,150,133,189,191]
["Moray",319,438,506,279,509,346,401,502,414,373,324,454]
["North Ayrshire",373,451,499,307,407,314,326,190,376,348,304,200]
["North Lanarkshire",750,753,877,608,982,880,804,517,732,752,655,458]
["Orkney Islands",57,75,77,51,74,62,60,43,71,77,68,50]
["Perth & Kinross",546,572,763,651,963,991,963,511,932,851,774,485]
["Renfrewshire",467,537,732,410,558,563,503,273,512,537,439,270]
["Scottish Borders",425,447,571,381,595,505,497,307,449,423,456,314]
["Shetland Islands",79,76,107,62,91,70,78,66,89,92,90,61]
["South Ayrshire",353,390,411,268,406,381,353,226,341,360,332,240]
["South Lanarkshire",797,1020,936,647,891,765,744,561,770,732,744,615]
["Stirling",622,674,710,445,668,604,586,378,639,738,658,396]
["West Dunbartonshire",262,278,294,163,230,202,149,149,170,198,147,154]
["West Lothian",423,382,445,355,676,529,520,326,482,518,498,365]
[]
["NHS Board Areas"]
["SCOTLAND",25400,29000,31400,20900,30300,24800,24600,16900,26200,26100,25200,18200]
["Ayrshire & Arran",989,1123,1224,805,1128,953,926,598,963,947,904,621]
["Borders",425,447,571,381,595,505,497,307,449,423,456,314]
["Dumfries & Galloway",498,586,637,461,699,559,537,343,524,535,479,353]
["Fife",1550,1705,1897,1278,1825,1344,1427,998,1603,1564,1520,1090]
["Forth Valley",1081,1240,1370,880,1324,1130,1033,700,1145,1209,1124,748]
["Grampian",2989,3374,3729,2552,3997,3449,3349,2371,3579,3569,3499,2679]
["Greater Glasgow & Clyde",8056,8896,9084,5642,7195,6047,6114,4285,6304,6281,6008,4270]
["Highland",1138,1437,1642,1205,1887,1590,1340,904,1411,1308,1280,973]
["Lanarkshire",1360,1516,1635,1127,1719,1504,1421,929,1502,1484,1399,1073]
["Lothian",5601,6612,7314,4732,7167,5304,5504,3836,6171,6253,6185,4412]
["Orkney",57,75,77,51,74,62,60,43,71,77,68,50]
["Shetland",79,76,107,62,91,70,78,66,89,92,90,61]
["Tayside",1495,1827,2015,1651,2494,2194,2240,1463,2308,2271,2108,1503]
["Western Isles",82,86,98,73,105,89,74,57,81,87,80,53]
[]
["Notes"]
["1) Figures for 2003/04 to 2010/11 have been revised to include information from the 2011 Census."]
["2) Figures include asylum seekers and rounding adjustments."]
["4) Source for data: 'In, out and net migration between administrative areas and overseas, 2001/02 to latest' from the Migration between Scotland and Overseas section of the NRS website. "]
["4) The NHS Board areas used for estimates between 2003/04 and 2010/11 are those that existed between 2006 and 2014. The 2011/12 estimates onwards use the NHS Board areas that came into force in April 2014."]
[]
["© Crown Copyright 2016"]

{"sheet":"WRS","index":21,"n_rows":44,"n_cols":9,"rows_kept":44,"cut":false,"hidden":false,"merged":[[39,0,39,8],[2,1,2,8],[0,0,0,2],[41,0,41,2],[40,0,40,5]]}
["Worker Registration Scheme (WRS)",null,null,null,null,null,null,null,"Return to front page"]
[]
[null,"Worker Registrations"]
["Council Area","May 2004 - Dec 2004 ","Jan 2005 - Dec 2005 ","Jan 2006 - Dec 2006 ","Jan 2007 - Dec 2007 ","Jan 2008 - Dec 2008","Jan 2009 - Dec 2009","Jan 2010 - Dec 2010","Jan 2011 - Dec 2011"]
["SCOTLAND",7180,14445,18035,19630,14180,10315,8880,"-"]
["Aberdeen City",215,590,1135,1240,890,880,735,"-"]
["Aberdeenshire",610,1135,1320,1275,1020,1060,880,"-"]
["Angus",635,955,775,1010,770,330,425,"-"]
["Argyll & Bute",170,325,400,290,250,195,215,"-"]
["Clackmannanshire",15,45,30,45,35,40,15,"-"]
["Dumfries & Galloway",50,250,375,280,185,130,110,"-"]
["Dundee City",115,225,435,425,315,290,280,"-"]
["East Ayrshire",10,60,165,195,125,60,30,"-"]
["East Dunbartonshire",10,30,85,75,35,15,25,"-"]
["East Lothian",135,160,180,185,125,115,65,"-"]
["East Renfrewshire"," -",20,65,75,35,30,20,"-"]
["Edinburgh, City of",1200,2235,2460,2325,1565,1245,1275,"-"]
["Eilean Siar",35,80,65,60,40,20,10,"-"]
["Falkirk",25,270,330,295,160,115,125,"-"]
["Fife",480,1030,1165,1285,1015,675,485,"-"]
["Glasgow City",625,1480,2200,2690,1690,1130,925,"-"]
["Highland",865,1330,1475,1630,1260,710,605,"-"]
["Inverclyde",5,75,35,35,10,20,5,"-"]
["Midlothian",70,200,235,195,115,60,50,"-"]
["Moray",70,285,255,300,205,100,90,"-"]
["North Ayrshire",30,65,70,80,60,25,35,"-"]
["North Lanarkshire",125,420,645,855,545,220,245,"-"]
["Orkney Islands"," -",5,20,50,20,15,15,"-"]
["Perth & Kinross",1080,1420,1765,1850,1695,1255,1110,"-"]
["Renfrewshire",60,185,325,440,245,210,195,"-"]
["Scottish Borders",155,515,475,475,300,220,165,"-"]
["Shetland Islands",55,35,75,85,80,80,60,"-"]
["South Ayrshire",15,25,125,110,75,40,15,"-"]
["South Lanarkshire",65,320,530,560,325,175,115,"-"]
["Stirling",120,210,280,295,325,245,155,"-"]
["West Dunbartonshire",5,20,45,35,20,10,0,"-"]
["West Lothian",120,445,510,900,650,630,400,"-"]
[]
["Footnotes"]
["1) This data is based on Management Information, is provisional and may be subject to change. The data are not National Statistics.\nThis table shows registered workers rather than the number of applications made. The figures are for initial applications only (not multiple applications, where an individual is doing more than one job simultaneously, nor re-registrations, where an individual has changed employers).\nCurrently 99.3 per cent of approved applications have an accurate employer postcode.\nFigures based on Employer's address and the date the application is approved.\nFigures are rounded to nearest 5\nBecause of rounding, figures may not add up to totals shown."]
["2) Source: Local Government Association, Worker Registration Scheme Data Archive (no longer available online)."]
["3) The Worker Registration Scheme was discontinued on 1 May 2011."]
[]
["© Crown Copyright 2016"]

{"sheet":"NINo","index":22,"n_rows":46,"n_cols":13,"rows_kept":46,"cut":false,"hidden":false,"merged":[[43,0,43,11],[0,0,0,7],[0,10,0,11],[40,0,40,7],[39,0,39,7],[2,1,2,12],[41,0,42,11]]}
["National Insurance Number (NINo) allocations to adult overseas nationals entering the UK",null,null,null,null,null,null,null,null,null,"Return to front page"]
[]
[null,"Registrations"]
["Calendar Year",2004,2005,2006,2007,2008,2009,2010,2011,2012,2013,2014,2015]
["SCOTLAND",19080,39410,45490,57080,46110,41610,39420,39500,34850,39470,43600,46570]
["Aberdeen City",1900,3580,4960,6360,5020,4830,4230,4600,4110,4930,5460,5210]
["Aberdeenshire",740,1610,1600,2000,1690,1680,1620,1500,1290,1610,1680,1730]
["Angus",370,790,660,920,1260,1350,1570,1140,1090,1240,1220,1310]
["Argyll & Bute",350,680,780,770,560,530,520,360,340,460,460,570]
["Clackmannanshire",30,110,160,210,170,120,100,90,100,140,90,110]
["Dumfries & Galloway",260,630,590,800,420,350,310,310,250,280,310,340]
["Dundee City",750,1480,1480,1940,1660,1500,1540,1490,1090,1300,1240,1340]
["East Ayrshire",100,160,140,190,130,100,90,100,100,80,90,90]
["East Dunbartonshire",130,170,220,270,150,150,150,130,90,90,110,110]
["East Lothian",160,280,350,490,490,420,400,310,280,370,450,510]
["East Renfrewshire",100,130,190,230,100,110,110,100,80,100,120,140]
["Edinburgh, City of",5090,11060,11950,13630,10330,10450,9820,10590,9710,11360,11340,11930]
["Eilean Siar",60,130,90,130,70,50,40,40,50,30,60,70]
["Falkirk",160,390,530,670,430,320,340,330,380,380,410,540]
["Fife",730,1410,1800,2450,1950,1650,1810,1900,1890,1970,2450,2620]
["Glasgow City",3290,6250,7840,10700,8820,7650,7940,7650,6600,6820,8400,9310]
["Highland",1220,2690,2360,2960,2140,1560,1310,1280,1200,1290,1600,1680]
["Inverclyde",210,330,230,270,250,150,160,130,100,80,90,100]
["Midlothian",80,210,250,240,180,150,200,170,150,180,260,240]
["Moray",240,550,520,560,380,260,270,200,220,320,310,310]
["North Ayrshire",240,310,280,340,220,230,170,170,110,130,130,180]
["North Lanarkshire",300,720,1100,1650,1170,670,540,690,560,590,790,1030]
["Orkney Islands",30,60,70,110,60,60,50,50,40,70,50,60]
["Perth & Kinross",810,1610,1750,2450,3930,3580,2930,2810,2160,2350,2460,2730]
["Renfrewshire",280,590,930,1180,780,570,480,520,450,510,670,750]
["Scottish Borders",270,630,760,870,610,390,380,390,330,340,360,450]
["Shetland Islands",90,110,150,170,160,160,110,100,100,190,540,300]
["South Ayrshire",180,400,410,490,310,290,300,310,200,220,240,280]
["South Lanarkshire",380,710,870,1060,720,480,480,470,370,500,640,710]
["Stirling",240,690,750,880,720,680,570,600,490,590,580,750]
["West Dunbartonshire",80,160,230,260,150,180,140,130,100,140,170,190]
["West Lothian",280,820,1490,1850,1110,950,750,880,830,810,850,880]
[]
["Notes"]
["1) Figures are rounded to the nearest ten. Some additional disclosure control has been applied. Totals may not sum due to rounding method used. "]
["2) Registration date is derived from the date at which a NINo is maintained on the National Insurance Recording & Pay As You Earn System. "]
["3) Improvements have been made to the allocation of migrants whose residential address is incomplete. Figures reflect the best estimate of an overseas national's locality at the time of registering for a NINo. A very small proportion of NINo registrations are to overseas nationals registering whilst abroad. "]
[]
["4) Source: Department for Work and Pensions (DWP), National Insurance Number Allocations to Adult Overseas Nationals - data produced using the Stat-Xplore tool."]
[]
["© Crown Copyright 2016"]

{"sheet":"Non-UK Births","index":23,"n_rows":61,"n_cols":13,"rows_kept":61,"cut":false,"hidden":false,"merged":[[56,0,56,9],[0,10,0,11],[57,0,57,9],[2,1,2,12],[58,0,58,10],[0,0,0,1]]}
["Births to non-UK mothers",null,null,null,null,null,null,null,null,null,"Return to front page"]
[]
[null,"Births"]
["Calendar Year",2004,2005,2006,2007,2008,2009,2010,2011,2012,2013,2014,2015]
["SCOTLAND",4219,4675,5222,6350,7607,7984,8176,8343,8439,8634,9178,8998]
["Aberdeen City",299,330,395,555,726,782,840,838,911,940,986,992]
["Aberdeenshire",163,185,229,270,298,322,359,379,383,364,450,434]
["Angus",59,61,68,85,95,116,101,134,134,133,135,115]
["Argyll & Bute",43,52,55,73,83,83,73,79,78,70,81,87]
["Clackmannanshire",18,27,23,53,46,49,48,43,50,42,49,40]
["Dumfries & Galloway",59,71,76,86,81,116,85,96,90,98,91,87]
["Dundee City",135,151,170,215,288,292,290,318,265,238,310,267]
["East Ayrshire",38,42,38,51,52,68,61,76,52,45,44,56]
["East Dunbartonshire",67,65,69,74,80,78,75,77,79,73,87,86]
["East Lothian",51,70,69,79,106,90,112,131,134,115,126,125]
["East Renfrewshire",81,73,79,78,77,82,84,76,81,87,78,92]
["Edinburgh, City of",721,836,996,1116,1455,1475,1527,1529,1652,1700,1880,1821]
["Eilean Siar",11,8,11,13,14,22,10,13,13,21,17,8]
["Falkirk",78,97,86,107,144,131,123,144,160,149,164,171]
["Fife",220,227,285,322,388,388,406,424,402,407,408,443]
["Glasgow City",1037,1206,1195,1449,1733,1827,1922,1881,1873,1986,2037,1952]
["Highland",151,163,203,241,261,301,312,269,327,316,337,314]
["Inverclyde",40,41,32,32,36,42,33,34,27,33,28,30]
["Midlothian",40,40,53,75,82,81,71,82,100,85,99,114]
["Moray",64,59,59,102,84,99,87,107,78,112,107,98]
["North Ayrshire",48,55,49,54,55,77,60,52,64,61,56,62]
["North Lanarkshire",141,104,162,190,245,253,277,284,240,265,273,237]
["Orkney Islands",6,4,9,6,13,7,14,8,11,7,11,9]
["Perth & Kinross",92,107,111,145,166,196,204,204,201,211,233,233]
["Renfrewshire",91,88,101,123,155,162,175,176,183,176,186,185]
["Scottish Borders",63,71,84,126,135,118,124,115,135,130,121,121]
["Shetland Islands",14,18,21,15,24,22,23,30,21,22,28,24]
["South Ayrshire",40,49,44,62,59,58,63,61,67,58,59,78]
["South Lanarkshire",124,138,169,195,214,206,207,245,197,227,239,221]
["Stirling",80,61,85,82,85,108,102,100,80,84,109,104]
["West Dunbartonshire",26,28,38,49,49,39,54,60,44,68,51,72]
["West Lothian",119,148,158,227,278,294,254,278,307,311,298,320]
[]
["NHS Board Areas"]
["SCOTLAND",4219,4675,5222,6350,7607,7984,8176,8343,8439,8634,9178,8998]
["Ayrshire & Arran",126,146,131,167,166,203,184,189,183,164,159,196]
["Borders",63,71,84,126,135,118,124,115,135,130,121,121]
["Dumfries & Galloway",59,71,76,86,81,116,85,96,90,98,91,87]
["Fife",220,227,285,322,388,388,406,424,402,407,408,443]
["Forth Valley",176,185,194,242,276,288,273,287,290,275,322,315]
["Grampian",526,574,683,927,1108,1203,1286,1324,1372,1416,1543,1524]
["Greater Glasgow & Clyde",1394,1546,1560,1866,2198,2291,2408,2384,2287,2423,2467,2417]
["Highland",194,215,258,314,344,384,385,348,405,386,418,401]
["Lanarkshire",213,197,286,324,392,398,419,450,437,492,512,458]
["Lothian",931,1094,1275,1497,1920,1940,1964,2019,2193,2211,2403,2380]
["Orkney",6,4,9,6,13,7,14,8,11,7,11,9]
["Shetland",14,18,21,15,24,22,23,30,21,22,28,24]
["Tayside",286,319,349,445,548,604,595,656,600,582,678,615]
["Western Isles",11,8,11,13,14,22,10,13,13,21,17,8]
[]
["Notes"]
["1) Births to non-UK mothers is the total of all births of mothers not born in the UK, Isle of Man, or the Channel Islands. Further breakdown of births by mother's country of birth is available in the NRS Vital Events Reference Tables, Table 3.9."]
["2) Source: NRS Vital Events Reference Tables, Table 3.9"]
["3) The NHS Board areas used for estimates between 2003/04 and 2010/11 are those that existed between 2006 and 2014. The 2011/12 estimates onwards use the NHS Board areas that came into force in April 2014."]
[]
["© Crown Copyright 2016"]

{"sheet":"Pupils ethnic group","index":24,"n_rows":49,"n_cols":40,"rows_kept":49,"cut":false,"hidden":false,"merged":[[0,11,0,12],[2,1,2,13],[2,14,2,26],[2,27,2,39],[0,0,0,2],[41,0,42,13],[40,0,40,7],[46,0,46,4],[45,0,45,12],[44,0,44,3],[43,0,43,11]]}
["Pupils from minority ethnic groups",null,null,null,null,null,null,null,null,null,null,"Return to front page"]
[]
[null,"Minority ethnic group",null,null,null,null,null,null,null,null,null,null,null,null,"White other4",null,null,null,null,null,null,null,null,null,null,null,null,"Not known/not disclosed"]
[null,2003,2004,2005,2006,2007,2008,2009,2010,2011,2012,2013,2014,2015,2003,2004,2005,2006,2007,2008,2009,2010,2011,2012,2013,2014,2015,2003,2004,2005,2006,2007,2008,2009,2010,2011,2012,2013,2014,2015]
["SCOTLAND",23630,24987,26145,27543,29896,31477,33417,34639,35142,36811,39073,41849,44348,8550,8015,8917,10349,12146,14393,15927,17548,20238,22404,25310,28126,31216,31633,27056,21652,19726,17151,16445,16270,16744,11859,11316,11200,11254,12150]
["Aberdeen City",1085,1189,1251,1391,1552,1627,1739,1920,2034,2233,2412,2655,2858,480,500,522,647,926,1045,1212,1386,1630,1891,2304,2603,2889,2223,1507,1077,814,617,457,365,382,791,879,775,623,454]
["Aberdeenshire",386,418,455,487,563,559,731,735,711,749,811,946,994,351,372,447,568,712,826,971,1104,1247,1450,1609,1807,2000,1817,1124,668,507,396,391,423,502,365,416,346,303,269]
["Angus",177,177,193,198,619,570,503,411,366,306,322,359,366,132,138,146,194,206,254,294,348,417,459,519,578,639,3255,3462,1967,1738,825,651,522,442,273,237,198,185,170]
["Argyll & Bute",155,154,187,180,178,203,209,209,214,208,219,233,255,152,157,175,183,211,258,270,298,330,348,380,407,432,525,428,437,440,453,411,433,329,120,95,92,105,93]
["Clackmannanshire",87,115,127,188,197,188,209,207,186,201,200,212,203,45,51,49,86,121,135,149,157,198,218,209,210,220,320,177,100,81,40,38,57,48,18,19,41,40,44]
["Dumfries & Galloway",307,302,332,325,328,341,443,497,411,409,399,408,411,118,130,151,205,260,286,322,319,363,400,435,499,579,668,627,524,492,451,446,338,321,251,237,270,326,404]
["Dundee City",809,876,926,936,1075,1191,1229,1266,1287,1351,1440,1532,1595,155,162,193,221,279,340,374,406,483,528,611,714,819,1897,1583,1176,910,763,604,655,592,384,351,369,436,419]
["East Ayrshire",208,209,219,244,248,258,273,296,289,303,332,362,382,131,121,136,143,162,216,230,271,312,328,318,312,313,241,288,376,180,189,268,235,227,112,98,91,98,115]
["East Dunbartonshire",1003,1029,958,950,958,979,992,1015,1033,1075,1148,1241,1293,75,118,156,196,223,227,260,263,294,327,344,352,388,428,285,240,253,301,311,381,450,339,300,333,325,344]
["East Lothian",174,190,205,211,222,240,260,306,293,331,330,375,393,94,110,113,137,162,189,208,236,286,343,401,468,540,1183,871,561,377,329,206,161,115,91,68,94,161,132]
["East Renfrewshire",1366,1459,1572,1648,1778,1852,1921,1990,2154,2277,2407,2621,2795,180,199,208,213,222,256,282,312,385,401,444,477,501,284,235,287,297,170,274,374,361,227,217,194,179,223]
["Edinburgh, City of",3539,3722,3934,4052,4326,4672,4883,5051,5246,5642,6082,6538,6887,1697,1479,1440,1581,1867,2049,2232,2470,2842,3228,3762,4210,4631,1383,994,737,598,823,746,757,826,705,695,754,711,582]
["Eilean Siar",52,57,54,55,54,39,51,46,48,59,57,62,65,29,34,38,42,47,52,52,59,53,51,55,59,65,361,172,44,33,31,18,21,48,59,53,62,38,36]
["Falkirk",407,461,455,486,506,544,612,637,627,641,678,724,752,117,124,140,148,188,221,230,279,370,461,528,605,750,1137,818,607,419,291,258,178,174,165,177,126,135,145]
["Fife",935,991,1099,1166,1259,1276,1646,1553,1292,1365,1477,1568,1731,813,546,487,481,576,672,736,814,963,1113,1321,1454,1679,1493,1075,856,663,575,419,461,478,1038,948,1061,1041,1114]
["Glasgow City",7444,7713,7943,8342,8853,9177,9670,10104,10580,11073,11772,12552,13161,1025,1059,1363,1430,1707,1954,2151,2284,2553,2803,3159,3406,3637,2149,1941,2074,2481,2937,2651,2671,3069,2034,1563,1439,1512,2568]
["Highland",417,450,516,552,631,632,642,646,648,658,714,738,829,306,339,385,523,637,751,810,888,1005,1099,1255,1458,1617,918,661,551,380,397,379,346,421,311,350,315,417,387]
["Inverclyde",230,238,207,198,189,185,185,182,175,176,184,189,192,628,286,205,141,110,126,135,171,169,145,141,133,149,103,334,262,229,301,279,217,227,176,117,115,114,132]
["Midlothian",193,204,223,227,226,279,286,309,307,333,373,406,462,112,116,119,137,150,173,177,194,240,261,305,365,422,827,719,568,594,516,531,383,244,151,178,208,117,116]
["Moray",176,183,192,197,201,230,242,268,232,251,268,291,318,129,127,134,180,244,264,290,319,393,399,437,506,531,237,188,138,103,114,111,141,187,96,114,137,143,150]
["North Ayrshire",290,281,294,282,269,263,256,277,279,279,296,327,331,124,126,144,181,248,257,256,309,303,299,318,317,348,471,571,434,392,502,512,600,554,270,276,270,362,334]
["North Lanarkshire",1023,1113,1177,1262,1373,1425,1502,1564,1574,1622,1697,1795,1928,346,378,415,551,631,780,834,908,1071,1144,1228,1445,1668,1087,1007,1303,1456,1663,1512,1266,1057,773,629,607,588,613]
["Orkney Islands",21,24,28,30,35,46,55,49,39,39,38,42,38,19,23,23,24,31,37,45,49,57,80,104,120,117,394,287,271,268,180,121,85,77,41,54,71,73,90]
["Perth & Kinross",214,233,298,321,369,438,495,509,487,523,542,572,622,124,128,190,235,326,431,510,547,664,788,903,970,1104,4171,3986,2645,2162,341,344,232,145,104,82,80,113,135]
["Renfrewshire",509,575,581,606,660,732,771,781,787,837,850,891,979,214,206,254,276,308,324,349,369,440,446,516,562,642,465,385,499,543,539,515,572,776,432,507,516,565,576]
["Scottish Borders",162,169,182,174,200,227,289,338,332,321,305,322,330,151,166,175,255,328,373,407,427,465,513,577,617,667,238,265,312,253,277,296,413,463,339,339,310,306,303]
["Shetland Islands",56,40,47,51,52,55,57,67,84,88,84,88,101,13,23,24,36,47,59,81,87,84,96,106,116,128,134,80,75,66,53,36,39,36,25,24,26,17,13]
["South Ayrshire",189,299,279,268,277,279,291,296,284,294,295,287,318,194,141,228,262,376,303,287,319,339,333,335,360,382,356,330,391,513,376,406,397,363,264,194,193,168,174]
["South Lanarkshire",1072,1091,1104,1135,1181,1235,1307,1413,1396,1449,1524,1595,1698,103,146,296,351,422,501,583,659,792,825,893,928,1075,725,858,877,1149,1393,1629,1722,1862,989,977,998,1043,1001]
["Stirling",273,299,321,334,324,432,480,481,488,423,451,443,464,159,169,159,187,210,220,260,304,331,380,405,460,513,261,153,84,69,71,113,191,183,103,107,114,94,78]
["West Dunbartonshire",143,162,172,212,245,264,282,284,272,292,290,309,328,122,126,160,185,174,259,296,296,319,331,349,376,379,459,465,361,422,454,483,574,562,207,224,223,222,276]
["West Lothian",528,564,614,835,949,939,906,932,984,1003,1076,1166,1269,212,215,242,350,35,555,634,696,838,916,1039,1232,1392,1423,1180,1150,844,783,1029,1060,1223,608,791,772,694,660]
["Grant aided",73,79,87,94,103,103,105,102,111,99,95,91,92,5,7,7,8,8,8,10,15,21,19,24,28,29,5,10,11,22,23,22,23,23,17,14,12,13,11]
[]
["Notes"]
["1) The data in the table above are mainly derived from the annual pupil census which takes place in September of the relevant year."]
["2) Excludes grant aided special schools (shown separately at bottom of table). Council area totals have been adjusted slightly for disclosure purposes, however, the figures for 'Scotland' are correct. The figure for 'Scotland' is taken from the 'All local authorities' figure."]
[]
["3) Minority ethnic group includes all categories other than white-UK and white-other or unknown/not disclosed (up to 2010) or White Scottish, White Other British and White-Other (2011 on)."]
["4) White-Other includes White-Other, White-Irish and White-Polish"]
["5) Ethnicity figures for 2011 - 2015 are not directly comparable to previous years due to the changes in ethnicity categories in 2011. Categories are based on those used in 2011 population census."]
["6) Source: Pupils Census, Scottish Government publication."]
[]
["© Crown Copyright 2016"]

{"sheet":"Pupils with English as an add.","index":25,"n_rows":43,"n_cols":11,"rows_kept":43,"cut":false,"hidden":false,"merged":[[0,8,0,9],[38,0,38,6],[39,0,39,1],[40,0,40,2],[0,0,0,3]]}
["Pupils with English as an additional language",null,null,null,null,null,null,null,"Return to front page"]
[]
[null,2006,2007,2008,2009,2010,2011,2012,2013,2014,2015]
["SCOTLAND",9486,15411,19001,21223,22740,24555,26131,29532,32509,35441]
["Aberdeen City",846,1181,1417,1503,1675,1833,1602,2132,2444,3054]
["Aberdeenshire",279,443,515,681,829,925,1054,1216,1356,1566]
["Angus",76,100,150,203,261,299,348,379,431,476]
["Argyll & Bute",43,56,102,104,110,124,135,145,164,175]
["Clackmannanshire",22,54,84,89,109,115,120,139,156,167]
["Dumfries & Galloway",131,179,232,225,243,260,298,298,331,341]
["Dundee City",435,490,657,702,765,870,928,959,1096,1137]
["East Ayrshire",22,36,77,80,88,99,121,126,158,169]
["East Dunbartonshire",255,253,333,350,295,306,385,377,400,406]
["East Lothian",73,104,117,125,156,159,184,221,263,283]
["East Renfrewshire",373,549,679,771,759,805,868,818,831,837]
["Edinburgh, City of",1910,2211,2602,2979,3258,3588,3951,4861,5227,5685]
["Eilean Siar",23,32,19,27,18,25,39,47,54,53]
["Falkirk",254,298,328,394,416,461,477,497,581,648]
["Fife",282,432,512,550,505,611,802,903,1004,1150]
["Glasgow City",2691,6365,7804,8425,8914,9275,9702,10445,11190,11483]
["Highland",254,372,486,643,570,646,632,867,976,1225]
["Inverclyde",16,20,24,47,54,35,53,53,44,29]
["Midlothian",42,82,99,124,129,128,184,230,266,307]
["Moray",127,185,193,222,240,252,266,304,381,415]
["North Ayrshire",13,65,66,71,77,93,101,108,117,121]
["North Lanarkshire",302,493,667,740,851,892,896,1000,1121,1271]
["Orkney Islands",0,6,6,7,15,5,16,15,14,20]
["Perth & Kinross",165,240,315,379,403,450,519,578,630,740]
["Renfrewshire",42,98,197,265,303,319,323,416,480,563]
["Scottish Borders",137,171,217,242,258,322,347,357,394,411]
["Shetland Islands",0,12,25,49,48,42,33,29,49,57]
["South Ayrshire",30,63,86,74,138,158,149,148,174,177]
["South Lanarkshire",268,291,373,414,456,461,510,581,660,711]
["Stirling",91,106,120,139,172,184,209,244,264,304]
["West Dunbartonshire",22,77,109,120,87,132,155,169,201,213]
["West Lothian",173,289,359,422,519,630,710,851,1033,1211]
[]
["Notes"]
["1) The data in the table above are mainly derived from the annual pupil census which takes place in September of the relevant year."]
["2) All levels of competency have been combined."]
["3) Source: Pupils Census, Scottish Government publication"]
[]
["© Crown Copyright 2016"]

{"sheet":"Pop born outside UK","index":26,"n_rows":59,"n_cols":13,"rows_kept":59,"cut":false,"hidden":false,"merged":[[56,0,56,9],[54,0,54,9],[50,0,50,7],[53,0,53,2],[47,0,47,9],[51,0,51,9],[55,0,55,9],[0,10,0,11],[39,0,39,1],[49,0,49,4],[42,0,42,1],[43,0,43,1],[44,0,44,1],[2,1,2,12],[0,0,0,3],[40,0,40,11],[41,0,41,9],[48,0,48,1]]}
["Estimate of resident population born outside the UK",null,null,null,null,null,null,null,null,null,"Return to front page"]
[]
[null,"Calendar year"]
[null,2004,2005,2006,2007,2008,2009,2010,2011,2012,2013,2014,2015]
["SCOTLAND",204000,222000,228000,255000,289000,321000,326000,340000,375000,353000,381000,393000]
["Aberdeen City",11000,12000,14000,20000,24000,31000,30000,32000,33000,40000,42000,39000]
["Aberdeenshire","*","*","*",9000,14000,14000,13000,16000,14000,10000,13000,13000]
["Angus","*","*",3000,4000,5000,5000,"*","*","*",5000,5000,6000]
["Argyll & Bute","*","*","*",3000,4000,3000,4000,4000,4000,4000,4000,3000]
["Clackmannanshire","*","*","*","*","*","*","*","*","*",2000,3000,3000]
["Dumfries and Galloway","*","*","*","*","*","*","*","*","*",4000,5000,5000]
["Dundee City",6000,7000,9000,8000,9000,11000,12000,13000,14000,15000,18000,17000]
["East Ayrshire","*","*","*","*","*","*","*","*","*",2000,3000,2000]
["East Dunbartonshire","*",4000,4000,4000,5000,"*",4000,"*",5000,5000,6000,5000]
["East Lothian","*",3000,4000,4000,4000,"*",5000,6000,5000,6000,5000,5000]
["East Renfrewshire","*",3000,4000,4000,3000,4000,5000,"*","*",3000,4000,6000]
["Edinburgh, City of",39000,47000,50000,48000,60000,66000,66000,70000,73000,70000,65000,77000]
["Eilean Siar","*","*","*","*","*","*","*","*","*",1000,1000,0]
["Falkirk","*","*","*","*","*","*","*",6000,7000,7000,7000,8000]
["Fife",13000,16000,"*","*","*","*",21000,16000,20000,20000,18000,20000]
["Glasgow City",43000,48000,45000,57000,62000,72000,65000,65000,86000,68000,80000,83000]
["Highland","*","*","*","*",8000,"*",8000,10000,11000,11000,15000,10000]
["Inverclyde","*","*","*","*","*","*","*","*","*",2000,2000,2000]
["Midlothian","*","*","*","*","*","*","*","*","*",3000,4000,4000]
["Moray","*",4000,3000,4000,4000,5000,5000,5000,5000,4000,4000,4000]
["North Ayrshire","*","*","*","*","*","*","*","*","*",4000,3000,2000]
["North Lanarkshire","*","*","*","*","*","*","*","*","*",7000,11000,14000]
["Orkney Islands","*","*","*","*","*","*","*","*","*","0~","0~",0]
["Perth and Kinross","*",6000,5000,7000,7000,7000,9000,8000,10000,11000,11000,14000]
["Renfrewshire","*","*","*",7000,9000,7000,7000,11000,9000,9000,11000,9000]
["Scottish Borders",4000,"*",4000,5000,4000,6000,7000,5000,5000,6000,6000,6000]
["Shetland Islands","*","*","*","*","*","*","*","*","*",1000,1000,0]
["South Ayrshire","*","*","*","*","*",4000,4000,"*","*",3000,4000,4000]
["South Lanarkshire","*","*","*","*","*","*","*","*","*",10000,9000,11000]
["Stirling",4000,4000,6000,5000,"*","*",6000,7000,7000,6000,7000,8000]
["West Dunbartonshire","*","*","*","*","*",4000,"*","*","*",3000,3000,2000]
["West Lothian","*",6000,7000,9000,8000,8000,8000,11000,11000,11000,10000,10000]
[]
["Notes"]
["1) Figures are rounded to the nearest thousand."]
["2) Source: Estimated population resident in Scotland, by council area and country of birth, 2000-2014, from the 'population by country of birth and nationality' section of the National Records of Scotland (NRS) website."]
["3) The data above comes from the Office for National Statistics (ONS) Annual Population Survey (APS) and Labour Force Survey (LFS)."]
["Totals may not sum due to rounding."]
["* = suppressed as estimate unreliable."]
["0~ = rounded to zero."]
[]
["Notes"]
["1) Estimates with a coefficient of variation of more than 20 per cent have been suppressed as they are deemed unreliable. The coefficient of variation (CV) indicates the robustness of each estimate. It is defined as:"]
["% = (standard error/ estimate) x 100"]
["where standard error is an estimate of the margin of error associated with a sample survey."]
["2) Estimates are based on the Annual Population Survey (APS) which is the Labour Force Survey (LFS) plus various sample boosts. "]
["3) APS and LFS data has now been grossed to 2010-based population estimates and projections. Tables published from the year ending December 2010 have been weighted using these estimates. Tables published prior to this were weighted using the 2008 and 2006-based estimates and projections and have not been revised. Analysis shows that there is no discernable discontinuity in these tables."]
["4) It should be noted that the LFS :-"]
["* excludes students in halls who do not have a UK resident parent"]
["* excludes people in most other types of communal establishments (e.g. hotels, boarding houses, hostels, mobile home sites, etc.)"]
["* is grossed to population estimates of those living in private households that only include migrants staying for 12 months or more. An adjustment is made for those who live in some NHS accommodation and halls of residence whose parents live in the UK. For this reason the sum of the British and non-British nationality estimates may not agree with the published population estimate."]
["5) The LFS weighting does not adjust for non-response bias by the nationality or country of birth variable."]
[]
["© Crown Copyright 2015"]

{"sheet":"WRS quarterly","index":27,"n_rows":44,"n_cols":29,"rows_kept":44,"cut":false,"hidden":false,"merged":[[41,0,41,4],[40,0,40,6],[0,11,0,12],[39,0,39,19],[2,25,2,28],[2,17,2,20],[2,21,2,24],[2,13,2,16],[2,1,2,4],[2,5,2,8],[2,9,2,12],[0,0,0,4]]}
["Worker Registration Scheme (WRS) - quarterly data",null,null,null,null,null,null,null,null,null,null,"Return to front page"]
[]
[null,2005,null,null,null,2006,null,null,null,2007,null,null,null,2008,null,null,null,2009,null,null,null,2010,null,null,null,2011]
["Council Area","Q1","Q2","Q3","Q4","Q1","Q2","Q3","Q4","Q1","Q2","Q3","Q4","Q1","Q2","Q3","Q4","Q1","Q2","Q3","Q4","Q1","Q2","Q3","Q4","Q1","Q2","Q3","Q4"]
["SCOTLAND","~","~","~","~","~",3900,5860,4855,4920,4240,5960,4500,3740,3775,3705,2960,2720,2015,3125,2455,1545,1415,3425,2505,1390,"~","~","~"]
["Aberdeen City","~","~","~","~","~",215,300,380,370,265,325,280,285,245,150,210,285,180,190,225,155,145,200,235,185,"~","~","~"]
["Aberdeenshire","~","~","~","~","~",250,460,330,290,240,375,370,260,220,285,255,260,160,320,320,200,110,350,220,120,"~","~","~"]
["Angus","~","~","~","~","~",225,275,170,145,180,520,165,125,160,335,150,55,90,105,80,35,55,265,70,30,"~","~","~"]
["Argyll and Bute","~","~","~","~","~",125,140,75,80,55,100,55,65,85,65,35,30,45,60,60,30,70,65,50,25,"~","~","~"]
["Clackmannanshire","~","~","~","~","~",5,5,10,10,5,10,10,15,5,5,10,10,5,20,5,5,5,5,"†",0,"~","~","~"]
["Dumfries and Galloway","~","~","~","~","~",65,110,140,55,50,60,115,40,60,40,45,40,25,30,35,15,20,20,55,20,"~","~","~"]
["Dundee City","~","~","~","~","~",55,150,140,120,75,125,105,70,70,100,75,95,40,90,65,30,35,120,95,40,"~","~","~"]
["East Ayrshire","~","~","~","~","~",45,45,35,80,45,20,50,35,25,20,45,10,20,15,15,5,10,10,5,5,"~","~","~"]
["East Dunbartonshire","~","~","~","~","~",30,30,20,30,10,20,15,15,15,"†",5,5,"†",5,5,5,5,5,10,0,"~","~","~"]
["East Lothian","~","~","~","~","~",30,50,65,40,30,70,45,50,40,15,20,40,20,25,30,15,10,20,20,10,"~","~","~"]
["East Renfrewshire","~","~","~","~","~",20,20,30,25,20,20,15,15,10,5,5,10,5,5,10,15,"†",5,"†",15,"~","~","~"]
["Edinburgh, City of","~","~","~","~","~",565,630,685,700,495,610,520,480,460,280,345,410,255,295,285,220,220,390,445,245,"~","~","~"]
["Eilean Siar","~","~","~","~","~",20,10,15,15,20,15,10,10,10,10,10,"†",5,10,5,"†","†",5,5,5,"~","~","~"]
["Falkirk","~","~","~","~","~",95,85,100,90,70,100,35,40,55,25,40,35,15,35,30,15,50,30,30,30,"~","~","~"]
["Fife","~","~","~","~","~",190,520,290,245,245,505,290,215,220,405,175,110,175,305,85,75,45,280,85,40,"~","~","~"]
["Glasgow City","~","~","~","~","~",500,560,600,975,635,525,550,595,445,250,400,370,235,270,255,190,125,305,305,175,"~","~","~"]
["Highland","~","~","~","~","~",295,535,435,440,370,395,425,300,410,270,280,180,160,205,165,100,120,215,170,90,"~","~","~"]
["Inverclyde","~","~","~","~","~",5,10,10,5,10,15,5,0,5,5,"†",5,5,"†",10,5,"                 -","†",0,"†","~","~","~"]
["Midlothian","~","~","~","~","~",50,70,40,55,30,40,70,40,20,35,20,20,10,15,15,10,10,15,15,10,"~","~","~"]
["Moray","~","~","~","~","~",70,100,55,40,85,105,70,35,60,55,55,20,15,35,30,15,10,40,25,10,"~","~","~"]
["North Ayrshire","~","~","~","~","~",20,15,15,15,25,20,20,20,20,10,10,5,10,5,5,"†",5,20,10,5,"~","~","~"]
["North Lanarkshire","~","~","~","~","~",115,175,255,220,210,230,195,175,145,115,110,85,35,45,55,65,45,85,50,25,"~","~","~"]
["Orkney Islands","~","~","~","~","~",5,10,5,10,20,10,10,5,5,10,"†",5,5,"†",5,"†",5,0,10,5,"~","~","~"]
["Perth and Kinross","~","~","~","~","~",415,895,250,205,485,905,255,230,470,790,205,165,260,685,145,120,165,690,135,100,"~","~","~"]
["Renfrewshire","~","~","~","~","~",65,95,95,140,100,105,95,75,60,40,70,60,50,45,55,35,35,60,65,40,"~","~","~"]
["Scottish Borders","~","~","~","~","~",80,170,145,80,120,155,120,110,55,95,40,60,15,75,70,25,15,65,60,45,"~","~","~"]
["Shetland Islands","~","~","~","~","~",15,25,25,25,10,20,30,30,10,20,20,20,10,15,35,10,5,15,30,5,"~","~","~"]
["South Ayrshire","~","~","~","~","~",60,30,30,35,25,35,15,25,25,15,10,10,15,10,5,5,5,5,"†",5,"~","~","~"]
["South Lanarkshire","~","~","~","~","~",90,135,170,140,120,145,155,95,80,80,70,75,35,35,30,20,30,30,35,25,"~","~","~"]
["Stirling","~","~","~","~","~",55,80,80,75,80,80,60,90,90,60,85,70,50,55,70,45,20,45,45,15,"~","~","~"]
["West Dunbartonshire","~","~","~","~","~",10,10,10,15,5,5,10,10,5,"†",5,5,"†",5,"†","†","†","†","†","†","~","~","~"]
["West Lothian","~","~","~","~","~",130,105,145,160,115,285,340,175,190,115,170,180,70,115,265,85,30,75,210,80,"~","~","~"]
[]
["Notes"]
["1) This data is based on Management Information, is provisional and may be subject to change. The data are not National Statistics.\nThis table shows registered workers rather than the number of applications made. The figures are for initial applications only (not multiple applications, where an individual is doing more than one job simultaneously, nor re-registrations, where an individual has changed employers).\nCurrently 99.3 per cent of approved applications have an accurate employer postcode.\nFigures based on Employers address and the date the application is approved.\nFigures are rounded to nearest 5\n'†' Indicates 1 or 2\nBecause of rounding, figures may not add up to totals shown."]
["2) Source: Local Government Association, Worker Registration Scheme Data Archive (no longer available online)."]
["3) The Worker Registration Scheme was discontinued on 1 May 2011."]
[]
["© Crown Copyright 2016"]

{"sheet":"NHS Overseas","index":28,"n_rows":29,"n_cols":13,"rows_kept":29,"cut":false,"hidden":false,"merged":[[26,0,26,2],[0,10,0,11],[25,0,25,9],[22,0,22,9],[23,0,23,9],[24,0,24,9],[2,1,2,12],[0,0,0,2]]}
["NHS Registrations from Overseas",null,null,null,null,null,null,null,null,null,"Return to front page"]
[]
[null,"Registrations"]
[null,2004,2005,2006,2007,2008,2009,2010,2011,2012,2013,2014,2015]
["SCOTLAND",33882,43004,47401,51929,62246,54033,53063,51325,49672,51807,55364,57422]
["Argyll and Clyde",1471,1732,1906,2097,1927,1660,1859,1487,1228,1319,1516,1807]
["Ayrshire and Arran",626,823,770,875,1132,747,800,751,705,670,645,792]
["Borders",438,571,672,741,954,628,442,435,536,472,419,426]
["Dumfries and Galloway",293,517,601,571,729,468,421,418,342,377,377,463]
["Fife",1972,2567,2504,2651,3075,2899,3007,2680,2748,2851,2628,2925]
["Forth Valley",1408,1684,1881,2221,2338,1981,2083,2296,2076,1876,2004,2159]
["Grampian",4711,6403,7557,8538,10332,9371,8825,8313,8109,9137,9352,8615]
["Greater Glasgow",8887,9412,9606,10970,13571,12326,11858,12323,11851,12501,15091,15655]
["Highland",891,1540,1766,2052,2170,1559,1470,1193,1065,1169,1260,1441]
["Lanarkshire",870,1342,1676,2038,2314,1812,1509,1240,1213,1200,1316,1493]
["Lothian",10212,12353,13832,13920,16535,14772,15046,14805,14886,15267,15798,17218]
["Orkney",47,52,58,62,67,57,71,76,53,93,84,72]
["Shetland",71,74,75,88,131,179,114,118,127,114,96,135]
["Tayside",1929,3852,4397,4990,6863,5482,5480,5120,4671,4708,4723,4114]
["Western Isles",56,82,100,115,108,92,78,70,62,53,55,107]
[]
["Footnotes"]
["1) The health boards used in the table above are the pre-2006 health boards, as these are what are used by the administrative system that provides the data. Argyll and Clyde Health Board no longer exists, with the area being split between Greater Glasgow (now Greater Glasgow and Clyde) and Highland Health Boards."]
["2) These data include short-term overseas migrants, unlike the NRS overseas migration estimates that only count migrants staying for 12 months or more."]
["3) These data do not show the exact time of migration as there is a difference between arrival date and the date at which the change of GP is processed."]
["4) The figures above give the number of registrations from overseas for the year ending at the end of June of the given year. The figures have been adjusted to allow for the difference between arrival date and the date at which the registration with a GP is processed."]
["5) Source: National Health Service Central Register (NHSCR)."]
[]
["© Crown Copyright 2016"]

{"sheet":"NHS Overseas quarterly","index":29,"n_rows":69,"n_cols":21,"rows_kept":69,"cut":false,"hidden":false,"merged":[[21,17,21,20],[2,9,2,12],[2,13,2,16],[2,17,2,20],[2,1,2,4],[21,13,21,16],[40,1,40,4],[21,1,21,4],[2,5,2,8],[0,11,0,12],[21,5,21,8],[21,9,21,12],[40,5,40,8],[0,0,0,4],[60,0,61,13],[62,0,62,14],[63,0,63,15],[64,0,65,15],[66,0,66,3]]}
["NHS Registrations from Overseas - quarterly data",null,null,null,null,null,null,null,null,null,null,"Return to front page"]
[]
[null,2004,null,null,null,2005,null,null,null,2006,null,null,null,2007,null,null,null,2008]
["Health Board Area","Q1","Q2","Q3","Q4","Q1","Q2","Q3","Q4","Q1","Q2","Q3","Q4","Q1","Q2","Q3","Q4","Q1","Q2","Q3","Q4"]
["SCOTLAND",7409,7524,6637,12936,9398,8784,11886,16143,10272,10515,10471,17967,7683,13379,12900,21413,15587,11362,13884,19558]
["Argyll and Clyde",239,474,300,569,388,324,451,497,490,456,463,623,334,680,460,525,572,411,419,496]
["Ayrshire and Arran",178,166,88,182,186,207,248,197,150,210,213,212,173,242,248,293,344,232,263,178]
["Borders",89,101,138,107,127,168,169,206,128,175,163,214,117,221,189,324,252,170,208,205]
["Dumfries and Galloway",75,92,59,106,125,103,183,155,136,138,172,145,75,173,178,207,215,150,157,139]
["Fife",414,346,219,955,504,579,529,1096,543,393,472,1187,380,526,558,1376,706,362,631,1489]
["Forth Valley",208,263,244,619,283,287,495,752,322,388,419,744,333,543,601,728,515,343,752,596]
["Grampian",1131,805,1109,1803,1641,1234,1725,2247,1820,1742,1748,2661,1235,2430,2212,3260,2826,1905,2341,3234]
["Greater Glasgow",1701,2186,1724,3119,2009,1949,2335,3452,2031,2038,2085,4027,1549,2786,2608,5011,3089,2899,2572,4626]
["Highland",189,239,272,289,288,398,565,382,385,478,521,450,357,644,601,546,561,535,528,387]
["Lanarkshire",163,228,292,243,287,323,489,351,455,425,445,510,411,562,555,546,696,434,638,463]
["Lothian",2499,2064,1929,3872,2851,2390,3240,5462,2826,2884,2660,5609,1979,3206,3126,6777,3676,2872,3210,6259]
["Orkney",8,19,8,12,7,5,28,14,7,25,12,3,20,23,16,26,25,9,7,15]
["Shetland",8,21,15,18,22,19,15,17,21,19,18,27,18,22,21,29,46,16,40,40]
["Tayside",496,498,223,1035,666,781,1370,1306,923,1111,1057,1538,673,1293,1486,1741,2022,996,2104,1394]
["Western Isles",11,22,17,7,14,17,44,9,35,33,23,17,29,28,41,24,42,28,14,37]
[]
[null,2009,null,null,null,2010,null,null,null,2011,null,null,null,2012,null,null,null,2013]
["Health Board Area","Q1","Q2","Q3","Q4","Q1","Q2","Q3","Q4","Q1","Q2","Q3","Q4","Q1","Q2","Q3","Q4","Q1","Q2","Q3","Q4"]
["SCOTLAND",10697,10975,13805,19583,11923,8536,16961,15518,10305,8527,15681,17023,9585,7574,16553,16204,10257,8684,14055,19284]
["Argyll and Clyde",409,335,609,520,385,405,391,519,335,302,297,407,294,225,324,417,270,316,309,391]
["Ayrshire and Arran",146,199,233,218,196,147,228,199,163,177,207,221,138,137,192,178,169,148,195,203]
["Borders",142,111,153,104,120,73,133,120,107,101,137,151,104,117,164,108,122,83,145,124]
["Dumfries and Galloway",93,118,116,110,119,92,119,135,83,81,92,99,69,62,111,125,90,63,90,118]
["Fife",433,398,676,1496,525,314,1113,937,354,288,955,1102,379,301,1515,624,427,331,1214,832]
["Forth Valley",419,318,602,730,486,234,1012,497,426,280,905,389,402,347,1043,368,359,300,755,452]
["Grampian",1940,2015,1896,3400,2210,1440,2351,2816,1765,1446,1841,3181,1822,1335,2226,2972,2035,1667,2003,3522]
["Greater Glasgow",2487,2648,2713,4833,2878,1854,2839,4619,2576,1946,3072,4934,2341,1622,3572,4699,2387,1754,2882,6035]
["Highland",377,393,413,359,360,331,378,284,295,279,290,264,222,269,342,303,284,256,323,295]
["Lanarkshire",420,441,424,323,395,317,429,324,309,260,370,329,311,227,325,329,289,243,305,375]
["Lothian",2768,2593,4234,5864,3017,2121,6109,3648,2829,2036,5919,4657,2553,1900,5156,4874,2870,2336,4325,5657]
["Orkney",15,13,26,17,20,11,16,22,13,25,13,14,24,7,20,17,22,21,22,39]
["Shetland",42,37,50,41,28,16,28,35,26,25,34,34,34,22,39,23,29,29,30,33]
["Tayside",997,1328,1639,1553,1163,1164,1787,1344,1012,1260,1538,1216,877,993,1513,1154,893,1124,1439,1189]
["Western Isles",9,28,21,15,21,17,28,19,12,21,11,25,15,10,11,13,11,13,18,19]
[]
[null,2014,null,null,null,2015]
["Health Board Area","Q1","Q2","Q3","Q4","Q1","Q2","Q3","Q4"]
["SCOTLAND",10935,9419,17170,17840,11703,9182,20153,16384]
["Argyll and Clyde",316,337,436,427,317,308,501,681]
["Ayrshire and Arran",163,141,143,198,165,179,245,203]
["Borders",99,121,108,91,88,92,130,116]
["Dumfries and Galloway",84,72,101,120,118,76,137,132]
["Fife",396,319,1240,673,466,387,1386,686]
["Forth Valley",352,291,616,745,433,395,853,478]
["Grampian",1981,1695,2839,2837,2005,1539,2906,2165]
["Greater Glasgow",3003,2309,3680,6099,3138,2251,5071,5195]
["Highland",309,262,312,377,316,352,393,380]
["Lanarkshire",273,275,348,420,326,318,397,452]
["Lothian",2993,2376,5935,4494,3469,2477,6618,4654]
["Orkney",6,28,23,27,19,13,23,17]
["Shetland",20,12,20,44,25,31,42,37]
["Tayside",929,1169,1358,1267,795,742,1430,1147]
["Western Isles",11,12,11,21,23,22,21,41]
[]
["Notes"]
["1) The health boards used in the table above are the pre-2006 health boards, as these are what are used by the administrative system that provides the data. Argyll and Clyde Health Board no longer exists, with the area being split between Greater Glasgow (now Greater Glasgow and Clyde) and Highland Health Boards."]
[]
["2) These data include short-term overseas migrants, unlike the National Records of Scotland (NRS) overseas migration estimates that only count migrants staying for 12 months or more."]
["3) These data do not show the exact time of migration as there is a difference between arrival date and the date at which the registration with a General Practitioner (GP) is processed."]
["4) The figures above give the number of registrations from overseas recorded on National Health Service Central Register (NHSCR) during the quarter, with no allowance for the difference between arrival date and the date at which the registration with a GP is processed."]
[]
["5) Source: National Health Service Central Register (NHSCR)."]
[]
["© Crown Copyright 2016"]

{"sheet":"Census country of birth","index":30,"n_rows":61,"n_cols":10,"rows_kept":61,"cut":false,"hidden":false,"merged":[[58,0,58,4],[0,8,0,9],[0,0,0,1],[55,0,55,5],[56,0,57,9]]}
["2011 Census - country of birth",null,null,null,null,null,null,null,"Return to front page"]
[]
[null,"All people","England","Northern Ireland","Scotland","Wales","Republic of Ireland","Other EU: Member countries in March 20011","Other EU: Accession countries April 2001 to March 2011","Other countries"]
["SCOTLAND",5295403,459486,36655,4411884,17381,22952,60596,76689,209760]
["Aberdeen City",222793,18008,1374,167180,764,1378,4934,9429,19726]
["Aberdeenshire",252973,31561,1366,203656,1285,572,2602,4922,7009]
["Angus",115978,10087,649,99596,397,250,908,1600,2491]
["Argyll & Bute",88166,15613,644,67060,529,327,923,852,2218]
["Clackmannanshire",51442,4356,318,44431,192,154,421,573,997]
["Dumfries & Galloway",151324,27186,1547,116687,642,456,1121,1146,2539]
["Dundee City",147268,8882,1539,123242,340,572,2248,2740,7705]
["East Ayrshire",122767,6602,742,112379,260,251,629,307,1597]
["East Dunbartonshire",105026,5945,593,93728,236,428,665,195,3236]
["East Lothian",99717,9877,645,83463,414,490,1071,1095,2662]
["East Renfrewshire",90574,4618,481,80890,211,406,569,241,3158]
["Edinburgh, City of",476626,57725,6363,334626,2118,4743,13663,14601,42787]
["Eilean Siar",27684,3099,75,23556,141,50,189,115,459]
["Falkirk",155990,8317,718,140890,403,394,916,1427,2925]
["Fife",365198,35531,2233,305206,1499,1032,4438,3745,11514]
["Glasgow City",593245,28263,5040,486243,1015,4339,7345,10349,50651]
["Highland",232132,37058,1318,179271,1267,681,2613,4292,5632]
["Inverclyde",81485,3189,338,75679,149,212,500,151,1267]
["Midlothian",83187,5560,456,73594,213,277,785,541,1761]
["Moray",93295,16580,632,70332,853,217,1555,1147,1979]
["North Ayrshire",138146,8562,866,124918,337,361,879,321,1902]
["North Lanarkshire",337727,10286,1131,315754,408,746,1232,3090,5080]
["Orkney Islands",21349,3757,105,16654,111,34,201,105,382]
["Perth & Kinross",146652,18519,1006,116268,624,576,1771,3243,4645]
["Renfrewshire",174908,6824,886,159373,310,685,1166,1391,4273]
["Scottish Borders",113870,21161,777,85392,560,410,1314,1554,2702]
["Shetland Islands",23167,3057,72,18691,151,158,184,354,500]
["South Ayrshire",112799,8888,1131,98603,334,383,930,509,2021]
["South Lanarkshire",313830,14274,1323,286940,609,991,1737,1529,6427]
["Stirling",90247,10588,872,71994,389,360,1243,975,3826]
["West Dunbartonshire",90720,3590,426,83699,156,509,397,429,1514]
["West Lothian",175118,11923,989,151889,464,510,1447,3721,4175]
[]
["NHS Board Areas"]
["SCOTLAND",5295403,459486,36655,4411884,17381,22952,60596,76689,209760]
["Ayrshire & Arran",373712,24052,2739,335900,931,995,2438,1137,5520]
["Borders",113870,21161,777,85392,560,410,1314,1554,2702]
["Dumfries & Galloway",151324,27186,1547,116687,642,456,1121,1146,2539]
["Fife",365198,35531,2233,305206,1499,1032,4438,3745,11514]
["Forth Valley",297636,23278,1910,257245,986,909,2583,2977,7748]
["Grampian",569061,66149,3372,441168,2902,2167,9091,15498,28714]
["Greater Glasgow & Clyde",1213408,55024,8072,1051125,2181,6938,11020,13081,65967]
["Highland",320298,52671,1962,246331,1796,1008,3536,5144,7850]
["Lanarkshire",574637,21997,2148,531661,914,1379,2598,4296,9644]
["Lothian",834350,85080,8453,643292,3208,6020,16960,19956,51381]
["Orkney",21349,3757,105,16654,111,34,201,105,382]
["Shetland",23167,3057,72,18691,151,158,184,354,500]
["Tayside",409709,37444,3190,338976,1359,1396,4923,7581,14840]
["Western Isles",27684,3099,75,23556,141,50,189,115,459]
[]
["Notes"]
["1) Includes UK (part not specified), Channel Islands, Isle of Man and Ireland (part not specified)."]
["2) In order to protect against disclosure of personal information, some records have been swapped between different geographic areas. Some cell values will be affected, particularly small values at the most detailed geographies."]
[]
["3) Source: Scotland's Census Release 2A Downloadable Files KS204SC."]
[]
["© Crown Copyright 2016"]

{"sheet":"Births to non-UK mothers %birth","index":31,"n_rows":62,"n_cols":13,"rows_kept":62,"cut":false,"hidden":false,"merged":[[0,10,0,11],[2,1,2,12],[59,0,59,10],[0,0,0,4],[56,0,56,7],[57,0,57,2],[58,0,58,7]]}
["Births to non-UK mothers as percentage of total births",null,null,null,null,null,null,null,null,null,"Return to front page"]
[]
[null,"Births (percentage)"]
["Calendar Year",2004,2005,2006,2007,2008,2009,2010,2011,2012,2013,2014,2015]
["SCOTLAND",7.82,8.6,9.3800000000000008,10.99,12.67,13.52,13.91,14.24,14.54,15.41,16.179814896430145,16.329999999999998]
["Aberdeen City",14.41,16.010000000000002,17.95,22.96,27.97,30.5,32.32,32.130000000000003,33.89,37.6,38.440545808966867,38.020000000000003]
["Aberdeenshire",6.83,7.51,8.85,10.039999999999999,10.75,11.09,13.16,14.06,13.36,13,15.867418899858956,15.01]
["Angus",5.51,5.57,6.13,7.38,7.96,9.9600000000000009,9.2200000000000006,11.6,11.59,11.97,11.780104712041885,10.8]
["Argyll & Bute",5.33,6.73,7.04,9.85,10.29,10.18,9.57,10.6,10.199999999999999,9.8699999999999992,11.141678129298487,12.65]
["Clackmannanshire",3.59,5.1100000000000003,4.21,8.36,7.14,8.0299999999999994,7.74,7.62,7.97,7.64,8.7971274685816869,7.23]
["Dumfries & Galloway",4.12,5.05,5.17,5.71,5.66,7.7,5.88,6.88,6.47,7.39,7.0762052877138411,6.93]
["Dundee City",8.77,9.77,10.85,12.89,15.99,16.52,16.62,18.02,15.42,14.97,18.075801749271136,17.170000000000002]
["East Ayrshire",2.99,3.34,2.89,3.91,3.79,4.99,4.57,5.58,3.83,3.35,3.5087719298245612,4.22]
["East Dunbartonshire",7.54,6.99,7.48,8.3000000000000007,8.25,8.4,8.1199999999999992,8.33,8.84,7.89,9.3851132686084142,8.86]
["East Lothian",5.37,6.64,6.53,7.18,8.9700000000000006,8.4700000000000006,9.9700000000000006,11.63,12.42,10.88,12.450592885375494,11.78]
["East Renfrewshire",8.61,8.1300000000000008,9.2100000000000009,8.73,8.8699999999999992,9.67,9.6300000000000008,9.42,9.19,9.89,9.1441969519343491,10.56]
["Edinburgh, City of",15.78,17.82,20.350000000000001,22.07,26.75,26.94,27.5,27.5,29.47,30.99,33.849477853799065,34.53]
["Eilean Siar",4.93,3.43,4.01,4.9400000000000004,5.45,9.69,4.26,5.53,5.49,8.5399999999999991,7.5221238938053103,3.6]
["Falkirk",4.5,5.58,4.8899999999999997,5.66,7.39,6.99,6.56,8.1999999999999993,8.86,8.93,9.5571095571095572,10.73]
["Fife",5.89,5.93,7.13,7.9,8.92,9.3800000000000008,9.73,9.93,10,10.51,10.491128824890717,11.8]
["Glasgow City",15.68,17.649999999999999,18.059999999999999,20.25,23.51,24.32,25.41,24.65,24.83,27.38,27.287340924313462,27.55]
["Highland",6.94,7.3,9.4,10.33,10.52,12.68,12.65,11.47,13.74,14.15,14.588744588744589,14.14]
["Inverclyde",4.45,4.55,3.78,3.73,4.1900000000000004,5.17,4.17,4.18,3.52,4.38,3.763440860215054,4.22]
["Midlothian",4.54,4.6100000000000003,5.98,8,8.74,8.5500000000000007,7.14,8.3800000000000008,9.43,8.3699999999999992,9.5837366892545983,10.54]
["Moray",7.49,6.72,6.56,10.19,8.7899999999999991,10.25,9.3800000000000008,11,8.52,11.72,11.493018259935553,10.83]
["North Ayrshire",3.41,3.99,3.26,3.53,3.71,5.14,4.1399999999999997,3.58,4.75,4.67,4.361370716510903,4.9400000000000004]
["North Lanarkshire",3.52,2.71,4.05,4.7,5.86,6.22,7.05,7.11,6.42,7.09,7.3406829792955097,6.38]
["Orkney Islands",3.51,2.2200000000000002,4.2300000000000004,3.16,6.07,3.52,7.11,3.9,5.47,3.48,6.0773480662983426,4.71]
["Perth & Kinross",7.16,7.94,8.34,10.42,11.5,13.75,13.92,14.1,15.74,15.98,17.170228445099482,17.170000000000002]
["Renfrewshire",4.83,4.71,5.5,6.48,7.7,8.67,8.77,9.6300000000000008,9.34,9.83,10.259238830667403,10.81]
["Scottish Borders",5.99,6.78,7.56,10.77,11.86,10.18,10.68,10.38,11.84,11.42,11.193339500462535,11.67]
["Shetland Islands",6.09,7.93,7.84,6.15,8.6300000000000008,8.06,8.65,12.4,7.61,8.43,11.067193675889328,10.26]
["South Ayrshire",3.88,5.0199999999999996,4.3499999999999996,6.03,5.53,5.5,6.09,5.68,6.72,5.81,5.7115198451113267,7.57]
["South Lanarkshire",3.69,4.1500000000000004,4.8,5.65,5.8,5.94,6.06,7,5.84,6.94,7.0252792475014703,6.94]
["Stirling",8.57,6.99,9.36,9.34,9.86,12.51,12.2,12,9.74,10.41,12.960760998810938,13.13]
["West Dunbartonshire",2.6,2.8,3.64,4.43,4.4400000000000004,3.6,5.17,5.64,4.17,6.95,5.1724137931034484,7.79]
["West Lothian",5.78,7.01,7.21,9.94,11.91,13.16,11.72,13.03,14.72,15.33,14.687037949728932,16.25]
[]
["NHS Board Areas"]
["SCOTLAND",7.82,8.6,9.3800000000000008,10.99,12.67,13.52,13.91,14.24,14.54,15.41,16.179814896430145,16.329999999999998]
["Ayrshire & Arran",3.4,4.04,3.42,4.33,4.24,5.19,4.82,4.8600000000000003,4.9400000000000004,4.5,4.45,5.43]
["Borders",5.99,6.78,7.57,10.78,11.86,10.199999999999999,10.68,10.38,11.84,11.42,11.19,11.67]
["Dumfries & Galloway",4.12,5.05,5.17,5.71,5.66,7.7,5.88,6.88,6.47,7.39,7.08,6.93]
["Fife",5.89,5.93,7.13,7.9,8.92,9.3800000000000008,9.73,9.93,10,10.51,10.49,11.8]
["Forth Valley",5.55,5.9,6.04,7.11,7.99,8.61,8.1999999999999993,9.1,8.91,9.09,10.34,10.72]
["Grampian",9.89,10.62,12.01,15.18,17.52,18.7,20.56,21.1,21.21,23.01,24.37,23.79]
["Greater Glasgow & Clyde",10.65,11.62,11.93,13.57,15.46,16.350000000000001,17.07,16.95,17.46,19.260000000000002,19.29,19.690000000000001]
["Highland",6.51,7.15,8.7799999999999994,10.220000000000001,10.46,12.04,11.92,11.26,12.88,13.12,13.76,13.79]
["Lanarkshire",3.28,3.14,4.34,4.95,5.72,6.05,6.5,6.92,6.14,7.02,7.19,6.64]
["Lothian",11.01,12.54,14.12,15.96,19.420000000000002,19.96,19.989999999999998,20.61,22.31,23.06,24.96,25.36]
["Orkney",3.51,2.2200000000000002,4.2300000000000004,3.16,6.07,3.52,7.11,3.9,5.47,3.48,6.08,4.71]
["Shetland",6.09,7.93,7.84,6.15,8.6300000000000008,8.06,8.65,12.4,7.61,8.43,11.07,10.26]
["Tayside",7.35,8,8.7200000000000006,10.57,12.36,13.86,13.81,15.03,14.45,14.47,16.07,15.46]
["Western Isles",4.93,3.43,4.01,4.9400000000000004,5.45,9.69,4.26,5.53,5.49,8.5399999999999991,7.52,3.6]
[]
["Notes"]
["1) Births to non-UK mothers is the total of all births where the mother was not born in the UK, Isle of Man, or the Channel Islands."]
["2) Sources: Vital Events Reference Tables, Table 3.9"]
["and Vital Events Birth Time Series Data"]
["3) The NHS Board areas used for estimates between 2003/04 and 2010/11 are those that existed between 2006 and 2014. The 2011/12 estimates onwards use the NHS Board areas that came into force in April 2014."]
[]
["© Crown Copyright 2016"]

{"sheet":"NINo Top 5 nationalities","index":32,"n_rows":48,"n_cols":3,"rows_kept":48,"cut":false,"hidden":false,"merged":[[44,0,45,2],[39,0,40,2],[42,0,43,2],[38,0,38,2],[41,0,41,2]]}
["Nationalities of NINo allocations to overseas nationals in 2015"]
[null,null,"Return to front page"]
[null,"Number of nationalities","Top 5 most common nationalities"]
["SCOTLAND",129,"Poland, Romania, Spain, Italy, Bulgaria"]
["Aberdeen City",73,"Poland, Romania, Nigeria, India, Bulgaria"]
["Aberdeenshire",30,"Poland, Lithuania, Romania, Portugal, Latvia"]
["Angus",19,"Romania, Bulgaria, Poland, Lithuania, Latvia"]
["Argyll and Bute",27,"Romania, Poland, Hungary, Spain, France"]
["Clackmannanshire",10,"Poland, Romania, Italy, Slovakia, Bulgaria"]
["Dumfries and Galloway",22,"Poland, Romania, Bulgaria, Ireland, Spain"]
["Dundee City",46,"Poland, Romania, Bulgaria, Spain, Nigeria"]
["East Ayrshire",7,"Poland, Romania, Spain, Canada, Ireland"]
["East Dunbartonshire",13,"Romania, Poland, Italy, Ireland, Spain"]
["East Lothian",26,"Poland, Bulgaria, Ireland, Lithuania, Italy"]
["East Renfrewshire",11,"Poland, Ireland, Romania, Spain, France"]
["Edinburgh, City of",87,"Poland, Spain, Italy, India, France"]
["Eilean Siar",6,"Romania, Spain, Lithuania, Poland, Germany"]
["Falkirk",20,"Poland, Hungary, Portugal, Romania, Italy"]
["Fife",51,"Poland, Romania, Bulgaria, United States, Germany"]
["Glasgow City",94,"Poland, Romania, India, Italy, Spain"]
["Highland",31,"Poland, Romania, Hungary, Spain, Czech Republic"]
["Inverclyde",10,"Romania, Afghanistan, Netherlands, Syria, Italy"]
["Midlothian",18,"Poland, Romania, Spain, Italy, Ireland"]
["Moray",17,"Poland, Romania, Lithuania, Portugal, Bulgaria"]
["North Ayrshire",16,"Poland, Hungary, Afghanistan, Italy, Romania"]
["North Lanarkshire",27,"Poland, Romania, Portugal, Italy, Ireland"]
["Orkney Islands",4,"Poland, Ireland, Hungary, Italy"]
["Perth and Kinross",34,"Romania, Poland, Bulgaria, Czech Republic, Slovakia"]
["Renfrewshire",28,"Poland, Romania, Spain, France, Italy"]
["Scottish Borders",24,"Poland, Romania, Ireland, Australia, Italy"]
["Shetland Islands",13,"Poland, Ireland, Hungary, India, Romania"]
["South Ayrshire",23,"Poland, Afghanistan, Ireland, Spain, Romania"]
["South Lanarkshire",33,"Poland, Romania, Portugal, Italy, Ireland"]
["Stirling",34,"Poland, Hungary, Romania, Italy, Bulgaria"]
["West Dunbartonshire",13,"Poland, Syria, Italy, Romania, Ireland"]
["West Lothian",25,"Poland, Romania, Hungary, Latvia, Spain"]
[]
["Notes"]
["1) Based on calendar year 2015."]
["2) Registration date is derived from the date at which a NINo is maintained on the National Insurance Recording & Pay As You Earn System, and not date of arrival."]
[]
["3) A nationality is only included in the table above if at least five persons of that nationality have been allocated a National Insurance Number."]
["4) Where there is more than one nationality with the same number of people registered from there, the nationalities at the same level are sorted alphabetically and the top nationalities are represented in the table."]
[]
["5) Source: Department for Work and Pensions (DWP), National Insurance Number Allocations to Adult Overseas Nationals entering the UK - data extracted using Stat-Xplore."]
[]
[]
["© Crown Copyright 2016"]

{"sheet":"Population estimates","index":33,"n_rows":60,"n_cols":13,"rows_kept":60,"cut":false,"hidden":false,"merged":[[0,10,0,11],[0,0,0,7],[57,0,57,10],[58,0,58,10],[55,0,55,7],[56,0,56,3]]}
["Estimated mid-year population, Scotland, council areas and NHS Board areas, 2004-2015",null,null,null,null,null,null,null,null,null,"Return to front page"]
[]
["Council Area",2004,2005,2006,2007,2008,2009,2010,2011,2012,2013,2014,2015]
["SCOTLAND",5084300,5110200,5133100,5170000,5202900,5231900,5262200,5299900,5313600,5327700,5347600,5373000]
["Aberdeen City",207820,208690,209620,212460,214020,217020,219730,222460,224910,227070,228920,230350]
["Aberdeenshire",234690,237570,241180,244390,246840,249020,251430,253650,255560,257770,260530,261960]
["Angus",110170,111340,112500,113540,114490,114830,115410,116200,116220,116290,116740,116900]
["Argyll & Bute",90580,90350,90870,90790,89910,89450,88620,88930,86910,88050,87650,86890]
["Clackmannanshire",48670,49160,49540,50600,51190,51290,51330,51500,51280,51280,51190,51360]
["Dumfries & Galloway",148690,149620,149780,150370,151010,151160,151100,151410,150840,150280,149960,149670]
["Dundee City",143100,143600,143370,143700,144290,145170,146060,147200,147780,148100,148130,148210]
["East Ayrshire",120210,120280,120450,120950,121590,122110,122410,122690,122730,122430,122130,122060]
["East Dunbartonshire",106540,106040,105590,105050,104940,104960,104920,105000,105880,105840,106710,106960]
["East Lothian",92170,92730,93850,95560,97470,98340,99140,99920,100860,101390,102090,103050]
["East Renfrewshire",89790,89880,89750,89840,89870,89980,90410,90810,91040,91530,92410,92940]
["Edinburgh, City of",445870,449480,452060,456040,458520,463240,469940,477940,482630,487460,492610,498810]
["Eilean Siar",26650,26930,27060,27210,27280,27420,27600,27690,27560,27400,27250,27070]
["Falkirk",148300,150130,151090,152320,153290,154210,155140,156250,156800,157160,157690,158460]
["Fife",353050,355450,357260,358750,360050,361410,362610,365300,366210,366900,367250,368080]
["Glasgow City",569560,569240,568480,571760,576200,581620,586500,593060,595070,596520,599640,606340]
["Highland",214560,218060,220780,224000,226980,228750,230730,232730,232890,232930,233080,234110]
["Inverclyde",82690,82680,82320,82110,82000,81670,81510,81220,80690,80340,79890,79500]
["Midlothian",80230,80050,80000,80370,81540,81900,82360,83450,84240,84710,86220,87390]
["Moray",89380,90100,90780,91440,92830,93170,93690,93470,92930,94360,94770,95510]
["North Ayrshire",136500,136690,136790,137420,137910,137830,137790,138090,137570,136940,136480,136130]
["North Lanarkshire",325400,327140,328740,331170,333290,335160,336280,337720,337890,337780,338000,338260]
["Orkney Islands",19830,20070,20340,20580,20740,20940,21220,21420,21530,21560,21580,21670]
["Perth & Kinross",136900,138060,139390,141140,143130,144370,145600,146850,147740,147770,148930,149930]
["Renfrewshire",171470,171430,171270,171860,172640,173020,173700,174700,174300,173890,174230,174560]
["Scottish Borders",109460,110250,110860,112200,113360,113590,113690,113880,113720,113880,114040,114030]
["Shetland Islands",22090,22250,22210,22350,22480,22790,23060,23240,23210,23200,23220,23200]
["South Ayrshire",111840,112030,112100,112380,112610,112490,112600,112980,112920,112870,112530,112400]
["South Lanarkshire",305670,306850,308450,310380,311320,312180,313180,313900,314330,314810,315300,316230]
["Stirling",86910,87510,88090,88430,88540,88690,89550,90330,91010,91230,91520,92830]
["West Dunbartonshire",91970,91530,91420,91370,91190,91080,90800,90610,90340,89800,89710,89590]
["West Lothian",163540,165010,167110,169470,171380,173040,174090,175300,176010,176160,177200,178550]
[]
["NHS Board Areas"]
["SCOTLAND",5084300,5110200,5133100,5170000,5202900,5231900,5262200,5299900,5313600,5327700,5347600,5373000]
["Ayrshire & Arran",368530,368990,369300,370720,372080,372380,372800,373758,373220,372240,371140,370590]
["Borders",109460,110250,110860,112200,113360,113590,113690,113880,113720,113880,114040,114030]
["Dumfries & Galloway",148690,149620,149780,150370,151010,151160,151100,151410,150840,150280,149960,149670]
["Fife",353050,355450,357260,358750,360050,361410,362610,365299,366210,366900,367250,368080]
["Forth Valley",283690,286620,288590,291230,292940,294140,295970,298074,299090,299670,300400,302650]
["Grampian",531890,536360,541580,548290,553690,559210,564850,569580,573400,579200,584220,587820]
["Greater Glasgow & Clyde",1185150,1184690,1183560,1187990,1193480,1199830,1206480,1214587,1137320,1137920,1142590,1149890]
["Highland",305140,308410,311650,314790,316890,318200,319350,321660,319800,320980,320730,321000]
["Lanarkshire",558250,560380,562510,565710,567990,569800,570900,572439,652220,652590,653300,654490]
["Lothian",781740,787200,793120,801430,808990,816640,825490,836608,843740,849720,858120,867800]
["Orkney",19830,20070,20340,20580,20740,20940,21220,21420,21530,21560,21580,21670]
["Shetland",22090,22250,22210,22350,22480,22790,23060,23240,23210,23200,23220,23200]
["Tayside",390140,392980,395280,398380,401920,404390,407080,410255,411740,412160,413800,415040]
["Western Isles",26650,26930,27060,27210,27280,27420,27600,27690,27560,27400,27250,27070]
[]
["Notes"]
["1) The figures in the table above give the estimated population as at 30 June of the given year (for example the 2015 estimates are as at 30 June 2015)."]
["2) The figures for 2004 to 2010 are rebased using results from the 2011 Census."]
["3) Source: Mid-Year Population Estimates, National Records of Scotland."]
[]
["© Crown Copyright 2016"]

{"sheet":"Further sources of data","index":34,"n_rows":22,"n_cols":7,"rows_kept":22,"cut":false,"hidden":false,"merged":[[0,6,0,7],[0,0,0,5],[19,0,19,3],[20,0,20,6],[21,0,21,2],[15,0,15,6],[16,0,16,6],[17,0,17,4],[18,0,18,4],[14,0,14,3],[2,0,2,2],[3,0,3,3],[4,0,4,4],[5,0,5,4],[6,0,6,3],[8,0,8,1],[9,0,9,1],[10,0,10,2],[11,0,11,2],[12,0,12,6],[13,0,13,1]]}
["Further sources of data informing on migration",null,null,null,null,null,"Return to front page"]
[]
["Central Government data"]
["Electoral register (overseas registrations)"]
["Higher Education Statistics Agency (HESA)"]
["Work and Pensions Longitudinal Study (WPLS)"]
["British Household Panel Survey (BHPS)"]
[]
["Other data"]
["Council tax"]
["New housing developments"]
["Housing in multiple occupation"]
["Crime - notifiable offences data from Home Office and British Crime Survey"]
["High pupil turnover"]
["Employment - proportion of low paid jobs"]
["Letting agents - migrants tend to obtain housing from private rented sector"]
["Citizens Advice Bureaus - report locally on issues raised by migrants"]
["Registration for bank accounts/ mobile phones"]
["Supermarkets - local changes in customer profile"]
["Farm Survey - use of migrant labour"]
["Gateway protection program - re-settlement of refugees to the UK"]
["Local library registrations"]

{"sheet":"2004","index":35,"n_rows":53,"n_cols":25,"rows_kept":53,"cut":false,"hidden":true,"merged":[]}
[null,2004]
[null,null,"Not specified ","Total net migration","Total net migration for ages 0-15","Total net migration for ages 16-64","Total net migration for people aged 65+","Total in-migration","Total out-migration","Within Scotland net migration","Within Scotland in-migration","Within Scotland out-migration","Rest of UK net migration","Rest of UK in-migration","Rest of UK out-migration","Overseas net migration","Overseas in-migration","Overseas out-migration","Worker Registration Scheme","NINo Allocation","Births to non-UK mothers","Pupils from a minority ethnic group","Pupils with English as an additional language","Estimate of resident population born outside the UK","NHS registrations from overseas"]
[1,"Not specified"]
[2,"SCOTLAND",null,{"$f":"'Total net migration'!B4","v":18622},{"$f":"'Total net migration 0-15'!B4","v":3430},{"$f":"'Total net migration 16-64'!B4","v":13595},{"$f":"'Total net migration 65+'!B4","v":1597},{"$f":"'Total in-migration'!B4","v":90379},71757,null,null,null,{"$f":"'Rest of UK net migration'!B4","v":15522},{"$f":"'Rest of UK in-migration'!B4","v":61879},{"$f":"'Rest of UK out-migration'!B4","v":46357},{"$f":"'Overseas net migration'!B4","v":3100},{"$f":"'Overseas in-migration'!B4","v":28500},{"$f":"'Overseas out-migration'!B4","v":25400},{"$f":"WRS!B5","v":7180},{"$f":"NINo!B5","v":19080},{"$f":"'Non-UK Births'!B5","v":4219},{"$f":"'Pupils ethnic group'!C5","v":24987},null,{"$f":"'Pop born outside UK'!B5","v":204000},{"$f":"'NHS Overseas'!B5","v":33882}]
[3,"Aberdeen City",null,{"$f":"'Total net migration'!B5","v":-1191},{"$f":"'Total net migration 0-15'!B5","v":-347},{"$f":"'Total net migration 16-64'!B5","v":-708},{"$f":"'Total net migration 65+'!B5","v":-136},{"$f":"'Total in-migration'!B5","v":10654},11845,{"$f":"'Within Scotland net migration'!B5","v":-1678},{"$f":"'Within Scotland in-migration'!B5","v":5544},{"$f":"'Within Scotland out-migration'!B5","v":7222},{"$f":"'Rest of UK net migration'!B5","v":-387},{"$f":"'Rest of UK in-migration'!B5","v":2217},{"$f":"'Rest of UK out-migration'!B5","v":2604},{"$f":"'Overseas net migration'!B5","v":874},{"$f":"'Overseas in-migration'!B5","v":2893},{"$f":"'Overseas out-migration'!B5","v":2019},{"$f":"WRS!B6","v":215},{"$f":"NINo!B6","v":1900},{"$f":"'Non-UK Births'!B6","v":299},{"$f":"'Pupils ethnic group'!C6","v":1189},null,{"$f":"'Pop born outside UK'!B6","v":11000}]
[4,"Aberdeenshire",null,{"$f":"'Total net migration'!B6","v":3230},{"$f":"'Total net migration 0-15'!B6","v":991},{"$f":"'Total net migration 16-64'!B6","v":1815},{"$f":"'Total net migration 65+'!B6","v":424},{"$f":"'Total in-migration'!B6","v":10272},7042,{"$f":"'Within Scotland net migration'!B6","v":1238},{"$f":"'Within Scotland in-migration'!B6","v":5988},{"$f":"'Within Scotland out-migration'!B6","v":4750},{"$f":"'Rest of UK net migration'!B6","v":1865},{"$f":"'Rest of UK in-migration'!B6","v":3506},{"$f":"'Rest of UK out-migration'!B6","v":1641},{"$f":"'Overseas net migration'!B6","v":127},{"$f":"'Overseas in-migration'!B6","v":778},{"$f":"'Overseas out-migration'!B6","v":651},{"$f":"WRS!B7","v":610},{"$f":"NINo!B7","v":740},{"$f":"'Non-UK Births'!B7","v":163},{"$f":"'Pupils ethnic group'!C7","v":418},null,{"$f":"'Pop born outside UK'!B7","v":"*"}]
[5,"Angus",null,{"$f":"'Total net migration'!B7","v":1342},{"$f":"'Total net migration 0-15'!B7","v":337},{"$f":"'Total net migration 16-64'!B7","v":796},{"$f":"'Total net migration 65+'!B7","v":209},{"$f":"'Total in-migration'!B7","v":4759},3417,{"$f":"'Within Scotland net migration'!B7","v":996},{"$f":"'Within Scotland in-migration'!B7","v":3412},{"$f":"'Within Scotland out-migration'!B7","v":2416},{"$f":"'Rest of UK net migration'!B7","v":452},{"$f":"'Rest of UK in-migration'!B7","v":1211},{"$f":"'Rest of UK out-migration'!B7","v":759},{"$f":"'Overseas net migration'!B7","v":-106},{"$f":"'Overseas in-migration'!B7","v":136},{"$f":"'Overseas out-migration'!B7","v":242},{"$f":"WRS!B8","v":635},{"$f":"NINo!B8","v":370},{"$f":"'Non-UK Births'!B8","v":59},{"$f":"'Pupils ethnic group'!C8","v":177},null,{"$f":"'Pop born outside UK'!B8","v":"*"}]
[6,"Argyll & Bute",null,{"$f":"'Total net migration'!B8","v":926},{"$f":"'Total net migration 0-15'!B8","v":150},{"$f":"'Total net migration 16-64'!B8","v":718},{"$f":"'Total net migration 65+'!B8","v":58},{"$f":"'Total in-migration'!B8","v":4897},3971,{"$f":"'Within Scotland net migration'!B8","v":203},{"$f":"'Within Scotland in-migration'!B8","v":2619},{"$f":"'Within Scotland out-migration'!B8","v":2416},{"$f":"'Rest of UK net migration'!B8","v":827},{"$f":"'Rest of UK in-migration'!B8","v":1978},{"$f":"'Rest of UK out-migration'!B8","v":1151},{"$f":"'Overseas net migration'!B8","v":-104},{"$f":"'Overseas in-migration'!B8","v":300},{"$f":"'Overseas out-migration'!B8","v":404},{"$f":"WRS!B9","v":170},{"$f":"NINo!B9","v":350},{"$f":"'Non-UK Births'!B9","v":43},{"$f":"'Pupils ethnic group'!C9","v":154},null,{"$f":"'Pop born outside UK'!B9","v":"*"}]
[7,"Clackmannanshire",null,{"$f":"'Total net migration'!B9","v":551},{"$f":"'Total net migration 0-15'!B9","v":97},{"$f":"'Total net migration 16-64'!B9","v":413},{"$f":"'Total net migration 65+'!B9","v":41},{"$f":"'Total in-migration'!B9","v":2084},1533,{"$f":"'Within Scotland net migration'!B9","v":340},{"$f":"'Within Scotland in-migration'!B9","v":1451},{"$f":"'Within Scotland out-migration'!B9","v":1111},{"$f":"'Rest of UK net migration'!B9","v":260},{"$f":"'Rest of UK in-migration'!B9","v":548},{"$f":"'Rest of UK out-migration'!B9","v":288},{"$f":"'Overseas net migration'!B9","v":-49},{"$f":"'Overseas in-migration'!B9","v":85},{"$f":"'Overseas out-migration'!B9","v":134},{"$f":"WRS!B10","v":15},{"$f":"NINo!B10","v":30},{"$f":"'Non-UK Births'!B10","v":18},{"$f":"'Pupils ethnic group'!C10","v":115},null,{"$f":"'Pop born outside UK'!B10","v":"*"}]
[8,"Dumfries & Galloway",null,{"$f":"'Total net migration'!B10","v":1183},{"$f":"'Total net migration 0-15'!B10","v":258},{"$f":"'Total net migration 16-64'!B10","v":723},{"$f":"'Total net migration 65+'!B10","v":202},{"$f":"'Total in-migration'!B10","v":5278},4095,{"$f":"'Within Scotland net migration'!B10","v":-56},{"$f":"'Within Scotland in-migration'!B10","v":1783},{"$f":"'Within Scotland out-migration'!B10","v":1839},{"$f":"'Rest of UK net migration'!B10","v":1494},{"$f":"'Rest of UK in-migration'!B10","v":3252},{"$f":"'Rest of UK out-migration'!B10","v":1758},{"$f":"'Overseas net migration'!B10","v":-255},{"$f":"'Overseas in-migration'!B10","v":243},{"$f":"'Overseas out-migration'!B10","v":498},{"$f":"WRS!B11","v":50},{"$f":"NINo!B11","v":260},{"$f":"'Non-UK Births'!B11","v":59},{"$f":"'Pupils ethnic group'!C11","v":302},null,{"$f":"'Pop born outside UK'!B11","v":"*"}]
[9,"Dundee City",null,{"$f":"'Total net migration'!B11","v":-740},{"$f":"'Total net migration 0-15'!B11","v":-294},{"$f":"'Total net migration 16-64'!B11","v":-357},{"$f":"'Total net migration 65+'!B11","v":-89},{"$f":"'Total in-migration'!B11","v":5831},6571,{"$f":"'Within Scotland net migration'!B11","v":-689},{"$f":"'Within Scotland in-migration'!B11","v":3518},{"$f":"'Within Scotland out-migration'!B11","v":4207},{"$f":"'Rest of UK net migration'!B11","v":-156},{"$f":"'Rest of UK in-migration'!B11","v":1501},{"$f":"'Rest of UK out-migration'!B11","v":1657},{"$f":"'Overseas net migration'!B11","v":105},{"$f":"'Overseas in-migration'!B11","v":812},{"$f":"'Overseas out-migration'!B11","v":707},{"$f":"WRS!B12","v":115},{"$f":"NINo!B12","v":750},{"$f":"'Non-UK Births'!B12","v":135},{"$f":"'Pupils ethnic group'!C12","v":876},null,{"$f":"'Pop born outside UK'!B12","v":6000}]
[10,"East Ayrshire",null,{"$f":"'Total net migration'!B12","v":367},{"$f":"'Total net migration 0-15'!B12","v":204},{"$f":"'Total net migration 16-64'!B12","v":181},{"$f":"'Total net migration 65+'!B12","v":-18},{"$f":"'Total in-migration'!B12","v":3661},3294,{"$f":"'Within Scotland net migration'!B12","v":283},{"$f":"'Within Scotland in-migration'!B12","v":2568},{"$f":"'Within Scotland out-migration'!B12","v":2285},{"$f":"'Rest of UK net migration'!B12","v":216},{"$f":"'Rest of UK in-migration'!B12","v":962},{"$f":"'Rest of UK out-migration'!B12","v":746},{"$f":"'Overseas net migration'!B12","v":-132},{"$f":"'Overseas in-migration'!B12","v":131},{"$f":"'Overseas out-migration'!B12","v":263},{"$f":"WRS!B13","v":10},{"$f":"NINo!B13","v":100},{"$f":"'Non-UK Births'!B13","v":38},{"$f":"'Pupils ethnic group'!C13","v":209},null,{"$f":"'Pop born outside UK'!B13","v":"*"}]
[11,"East Dunbartonshire",null,{"$f":"'Total net migration'!B13","v":-457},{"$f":"'Total net migration 0-15'!B13","v":260},{"$f":"'Total net migration 16-64'!B13","v":-613},{"$f":"'Total net migration 65+'!B13","v":-104},{"$f":"'Total in-migration'!B13","v":3622},4079,{"$f":"'Within Scotland net migration'!B13","v":-158},{"$f":"'Within Scotland in-migration'!B13","v":2936},{"$f":"'Within Scotland out-migration'!B13","v":3094},{"$f":"'Rest of UK net migration'!B13","v":-109},{"$f":"'Rest of UK in-migration'!B13","v":499},{"$f":"'Rest of UK out-migration'!B13","v":608},{"$f":"'Overseas net migration'!B13","v":-190},{"$f":"'Overseas in-migration'!B13","v":187},{"$f":"'Overseas out-migration'!B13","v":377},{"$f":"WRS!B14","v":10},{"$f":"NINo!B14","v":130},{"$f":"'Non-UK Births'!B14","v":67},{"$f":"'Pupils ethnic group'!C14","v":1029},null,{"$f":"'Pop born outside UK'!B14","v":"*"}]
[12,"East Lothian",null,{"$f":"'Total net migration'!B14","v":430},{"$f":"'Total net migration 0-15'!B14","v":170},{"$f":"'Total net migration 16-64'!B14","v":179},{"$f":"'Total net migration 65+'!B14","v":81},{"$f":"'Total in-migration'!B14","v":3675},3245,{"$f":"'Within Scotland net migration'!B14","v":355},{"$f":"'Within Scotland in-migration'!B14","v":2695},{"$f":"'Within Scotland out-migration'!B14","v":2340},{"$f":"'Rest of UK net migration'!B14","v":122},{"$f":"'Rest of UK in-migration'!B14","v":771},{"$f":"'Rest of UK out-migration'!B14","v":649},{"$f":"'Overseas net migration'!B14","v":-47},{"$f":"'Overseas in-migration'!B14","v":209},{"$f":"'Overseas out-migration'!B14","v":256},{"$f":"WRS!B15","v":135},{"$f":"NINo!B15","v":160},{"$f":"'Non-UK Births'!B15","v":51},{"$f":"'Pupils ethnic group'!C15","v":190},null,{"$f":"'Pop born outside UK'!B15","v":"*"}]
[13,"East Renfrewshire",null,{"$f":"'Total net migration'!B15","v":-97},{"$f":"'Total net migration 0-15'!B15","v":201},{"$f":"'Total net migration 16-64'!B15","v":-348},{"$f":"'Total net migration 65+'!B15","v":50},{"$f":"'Total in-migration'!B15","v":3400},3497,{"$f":"'Within Scotland net migration'!B15","v":194},{"$f":"'Within Scotland in-migration'!B15","v":2868},{"$f":"'Within Scotland out-migration'!B15","v":2674},{"$f":"'Rest of UK net migration'!B15","v":-148},{"$f":"'Rest of UK in-migration'!B15","v":393},{"$f":"'Rest of UK out-migration'!B15","v":541},{"$f":"'Overseas net migration'!B15","v":-143},{"$f":"'Overseas in-migration'!B15","v":139},{"$f":"'Overseas out-migration'!B15","v":282},{"$f":"WRS!B16","v":" -"},{"$f":"NINo!B16","v":100},{"$f":"'Non-UK Births'!B16","v":81},{"$f":"'Pupils ethnic group'!C16","v":1459},null,{"$f":"'Pop born outside UK'!B16","v":"*"}]
[14,"Edinburgh, City of",null,{"$f":"'Total net migration'!B16","v":2234},{"$f":"'Total net migration 0-15'!B16","v":-782},{"$f":"'Total net migration 16-64'!B16","v":3398},{"$f":"'Total net migration 65+'!B16","v":-382},{"$f":"'Total in-migration'!B16","v":28525},26291,{"$f":"'Within Scotland net migration'!B16","v":-2856},{"$f":"'Within Scotland in-migration'!B16","v":10813},{"$f":"'Within Scotland out-migration'!B16","v":13669},{"$f":"'Rest of UK net migration'!B16","v":2050},{"$f":"'Rest of UK in-migration'!B16","v":9900},{"$f":"'Rest of UK out-migration'!B16","v":7850},{"$f":"'Overseas net migration'!B16","v":3040},{"$f":"'Overseas in-migration'!B16","v":7812},{"$f":"'Overseas out-migration'!B16","v":4772},{"$f":"WRS!B17","v":1200},{"$f":"NINo!B17","v":5090},{"$f":"'Non-UK Births'!B17","v":721},{"$f":"'Pupils ethnic group'!C17","v":3722},null,{"$f":"'Pop born outside UK'!B17","v":39000}]
[15,"Eilean Siar",null,{"$f":"'Total net migration'!B17","v":246},{"$f":"'Total net migration 0-15'!B17","v":87},{"$f":"'Total net migration 16-64'!B17","v":126},{"$f":"'Total net migration 65+'!B17","v":33},{"$f":"'Total in-migration'!B17","v":1233},987,{"$f":"'Within Scotland net migration'!B17","v":-41},{"$f":"'Within Scotland in-migration'!B17","v":647},{"$f":"'Within Scotland out-migration'!B17","v":688},{"$f":"'Rest of UK net migration'!B17","v":323},{"$f":"'Rest of UK in-migration'!B17","v":540},{"$f":"'Rest of UK out-migration'!B17","v":217},{"$f":"'Overseas net migration'!B17","v":-36},{"$f":"'Overseas in-migration'!B17","v":46},{"$f":"'Overseas out-migration'!B17","v":82},{"$f":"WRS!B18","v":35},{"$f":"NINo!B18","v":60},{"$f":"'Non-UK Births'!B18","v":11},{"$f":"'Pupils ethnic group'!C18","v":57},null,{"$f":"'Pop born outside UK'!B18","v":"*"}]
[16,"Falkirk",null,{"$f":"'Total net migration'!B18","v":1510},{"$f":"'Total net migration 0-15'!B18","v":271},{"$f":"'Total net migration 16-64'!B18","v":1168},{"$f":"'Total net migration 65+'!B18","v":71},{"$f":"'Total in-migration'!B18","v":4723},3213,{"$f":"'Within Scotland net migration'!B18","v":1049},{"$f":"'Within Scotland in-migration'!B18","v":3258},{"$f":"'Within Scotland out-migration'!B18","v":2209},{"$f":"'Rest of UK net migration'!B18","v":394},{"$f":"'Rest of UK in-migration'!B18","v":1073},{"$f":"'Rest of UK out-migration'!B18","v":679},{"$f":"'Overseas net migration'!B18","v":67},{"$f":"'Overseas in-migration'!B18","v":392},{"$f":"'Overseas out-migration'!B18","v":325},{"$f":"WRS!B19","v":25},{"$f":"NINo!B19","v":160},{"$f":"'Non-UK Births'!B19","v":78},{"$f":"'Pupils ethnic group'!C19","v":461},null,{"$f":"'Pop born outside UK'!B19","v":"*"}]
[17,"Fife",null,{"$f":"'Total net migration'!B19","v":2348},{"$f":"'Total net migration 0-15'!B19","v":453},{"$f":"'Total net migration 16-64'!B19","v":1734},{"$f":"'Total net migration 65+'!B19","v":161},{"$f":"'Total in-migration'!B19","v":12574},10226,{"$f":"'Within Scotland net migration'!B19","v":1302},{"$f":"'Within Scotland in-migration'!B19","v":6965},{"$f":"'Within Scotland out-migration'!B19","v":5663},{"$f":"'Rest of UK net migration'!B19","v":959},{"$f":"'Rest of UK in-migration'!B19","v":3972},{"$f":"'Rest of UK out-migration'!B19","v":3013},{"$f":"'Overseas net migration'!B19","v":87},{"$f":"'Overseas in-migration'!B19","v":1637},{"$f":"'Overseas out-migration'!B19","v":1550},{"$f":"WRS!B20","v":480},{"$f":"NINo!B20","v":730},{"$f":"'Non-UK Births'!B20","v":220},{"$f":"'Pupils ethnic group'!C20","v":991},null,{"$f":"'Pop born outside UK'!B20","v":13000}]
[18,"Glasgow City",null,{"$f":"'Total net migration'!B20","v":-3418},{"$f":"'Total net migration 0-15'!B20","v":-1535},{"$f":"'Total net migration 16-64'!B20","v":-1170},{"$f":"'Total net migration 65+'!B20","v":-713},{"$f":"'Total in-migration'!B20","v":26611},30029,{"$f":"'Within Scotland net migration'!B20","v":-4552},{"$f":"'Within Scotland in-migration'!B20","v":13112},{"$f":"'Within Scotland out-migration'!B20","v":17664},{"$f":"'Rest of UK net migration'!B20","v":35},{"$f":"'Rest of UK in-migration'!B20","v":6300},{"$f":"'Rest of UK out-migration'!B20","v":6265},{"$f":"'Overseas net migration'!B20","v":1099},{"$f":"'Overseas in-migration'!B20","v":7199},{"$f":"'Overseas out-migration'!B20","v":6100},{"$f":"WRS!B21","v":625},{"$f":"NINo!B21","v":3290},{"$f":"'Non-UK Births'!B21","v":1037},{"$f":"'Pupils ethnic group'!C21","v":7713},null,{"$f":"'Pop born outside UK'!B21","v":43000}]
[19,"Highland",null,{"$f":"'Total net migration'!B21","v":2850},{"$f":"'Total net migration 0-15'!B21","v":743},{"$f":"'Total net migration 16-64'!B21","v":1818},{"$f":"'Total net migration 65+'!B21","v":289},{"$f":"'Total in-migration'!B21","v":9793},6943,{"$f":"'Within Scotland net migration'!B21","v":23},{"$f":"'Within Scotland in-migration'!B21","v":4292},{"$f":"'Within Scotland out-migration'!B21","v":4269},{"$f":"'Rest of UK net migration'!B21","v":2821},{"$f":"'Rest of UK in-migration'!B21","v":4761},{"$f":"'Rest of UK out-migration'!B21","v":1940},{"$f":"'Overseas net migration'!B21","v":6},{"$f":"'Overseas in-migration'!B21","v":740},{"$f":"'Overseas out-migration'!B21","v":734},{"$f":"WRS!B22","v":865},{"$f":"NINo!B22","v":1220},{"$f":"'Non-UK Births'!B22","v":151},{"$f":"'Pupils ethnic group'!C22","v":450},null,{"$f":"'Pop born outside UK'!B22","v":"*"}]
[20,"Inverclyde",null,{"$f":"'Total net migration'!B22","v":-599},{"$f":"'Total net migration 0-15'!B22","v":-69},{"$f":"'Total net migration 16-64'!B22","v":-485},{"$f":"'Total net migration 65+'!B22","v":-45},{"$f":"'Total in-migration'!B22","v":1748},2347,{"$f":"'Within Scotland net migration'!B22","v":-300},{"$f":"'Within Scotland in-migration'!B22","v":1043},{"$f":"'Within Scotland out-migration'!B22","v":1343},{"$f":"'Rest of UK net migration'!B22","v":-124},{"$f":"'Rest of UK in-migration'!B22","v":499},{"$f":"'Rest of UK out-migration'!B22","v":623},{"$f":"'Overseas net migration'!B22","v":-175},{"$f":"'Overseas in-migration'!B22","v":206},{"$f":"'Overseas out-migration'!B22","v":381},{"$f":"WRS!B23","v":5},{"$f":"NINo!B23","v":210},{"$f":"'Non-UK Births'!B23","v":40},{"$f":"'Pupils ethnic group'!C23","v":238},null,{"$f":"'Pop born outside UK'!B23","v":"*"}]
[21,"Midlothian",null,{"$f":"'Total net migration'!B23","v":-263},{"$f":"'Total net migration 0-15'!B23","v":-55},{"$f":"'Total net migration 16-64'!B23","v":-173},{"$f":"'Total net migration 65+'!B23","v":-35},{"$f":"'Total in-migration'!B23","v":2607},2870,{"$f":"'Within Scotland net migration'!B23","v":-238},{"$f":"'Within Scotland in-migration'!B23","v":2056},{"$f":"'Within Scotland out-migration'!B23","v":2294},{"$f":"'Rest of UK net migration'!B23","v":-3},{"$f":"'Rest of UK in-migration'!B23","v":423},{"$f":"'Rest of UK out-migration'!B23","v":426},{"$f":"'Overseas net migration'!B23","v":-22},{"$f":"'Overseas in-migration'!B23","v":128},{"$f":"'Overseas out-migration'!B23","v":150},{"$f":"WRS!B24","v":70},{"$f":"NINo!B24","v":80},{"$f":"'Non-UK Births'!B24","v":40},{"$f":"'Pupils ethnic group'!C24","v":204},null,{"$f":"'Pop born outside UK'!B24","v":"*"}]
[22,"Moray",null,{"$f":"'Total net migration'!B24","v":980},{"$f":"'Total net migration 0-15'!B24","v":150},{"$f":"'Total net migration 16-64'!B24","v":697},{"$f":"'Total net migration 65+'!B24","v":133},{"$f":"'Total in-migration'!B24","v":4056},3076,{"$f":"'Within Scotland net migration'!B24","v":193},{"$f":"'Within Scotland in-migration'!B24","v":1861},{"$f":"'Within Scotland out-migration'!B24","v":1668},{"$f":"'Rest of UK net migration'!B24","v":866},{"$f":"'Rest of UK in-migration'!B24","v":1955},{"$f":"'Rest of UK out-migration'!B24","v":1089},{"$f":"'Overseas net migration'!B24","v":-79},{"$f":"'Overseas in-migration'!B24","v":240},{"$f":"'Overseas out-migration'!B24","v":319},{"$f":"WRS!B25","v":70},{"$f":"NINo!B25","v":240},{"$f":"'Non-UK Births'!B25","v":64},{"$f":"'Pupils ethnic group'!C25","v":183},null,{"$f":"'Pop born outside UK'!B25","v":"*"}]
[23,"North Ayrshire",null,{"$f":"'Total net migration'!B25","v":206},{"$f":"'Total net migration 0-15'!B25","v":137},{"$f":"'Total net migration 16-64'!B25","v":-72},{"$f":"'Total net migration 65+'!B25","v":141},{"$f":"'Total in-migration'!B25","v":4450},4244,{"$f":"'Within Scotland net migration'!B25","v":247},{"$f":"'Within Scotland in-migration'!B25","v":3117},{"$f":"'Within Scotland out-migration'!B25","v":2870},{"$f":"'Rest of UK net migration'!B25","v":100},{"$f":"'Rest of UK in-migration'!B25","v":1101},{"$f":"'Rest of UK out-migration'!B25","v":1001},{"$f":"'Overseas net migration'!B25","v":-141},{"$f":"'Overseas in-migration'!B25","v":232},{"$f":"'Overseas out-migration'!B25","v":373},{"$f":"WRS!B26","v":30},{"$f":"NINo!B26","v":240},{"$f":"'Non-UK Births'!B26","v":48},{"$f":"'Pupils ethnic group'!C26","v":281},null,{"$f":"'Pop born outside UK'!B26","v":"*"}]
[24,"North Lanarkshire",null,{"$f":"'Total net migration'!B26","v":228},{"$f":"'Total net migration 0-15'!B26","v":18},{"$f":"'Total net migration 16-64'!B26","v":184},{"$f":"'Total net migration 65+'!B26","v":26},{"$f":"'Total in-migration'!B26","v":7878},7650,{"$f":"'Within Scotland net migration'!B26","v":412},{"$f":"'Within Scotland in-migration'!B26","v":5827},{"$f":"'Within Scotland out-migration'!B26","v":5415},{"$f":"'Rest of UK net migration'!B26","v":150},{"$f":"'Rest of UK in-migration'!B26","v":1635},{"$f":"'Rest of UK out-migration'!B26","v":1485},{"$f":"'Overseas net migration'!B26","v":-334},{"$f":"'Overseas in-migration'!B26","v":416},{"$f":"'Overseas out-migration'!B26","v":750},{"$f":"WRS!B27","v":125},{"$f":"NINo!B27","v":300},{"$f":"'Non-UK Births'!B27","v":141},{"$f":"'Pupils ethnic group'!C27","v":1113},null,{"$f":"'Pop born outside UK'!B27","v":"*"}]
[25,"Orkney Islands",null,{"$f":"'Total net migration'!B27","v":261},{"$f":"'Total net migration 0-15'!B27","v":96},{"$f":"'Total net migration 16-64'!B27","v":135},{"$f":"'Total net migration 65+'!B27","v":30},{"$f":"'Total in-migration'!B27","v":897},636,{"$f":"'Within Scotland net migration'!B27","v":-45},{"$f":"'Within Scotland in-migration'!B27","v":384},{"$f":"'Within Scotland out-migration'!B27","v":429},{"$f":"'Rest of UK net migration'!B27","v":324},{"$f":"'Rest of UK in-migration'!B27","v":474},{"$f":"'Rest of UK out-migration'!B27","v":150},{"$f":"'Overseas net migration'!B27","v":-18},{"$f":"'Overseas in-migration'!B27","v":39},{"$f":"'Overseas out-migration'!B27","v":57},{"$f":"WRS!B28","v":" -"},{"$f":"NINo!B28","v":30},{"$f":"'Non-UK Births'!B28","v":6},{"$f":"'Pupils ethnic group'!C28","v":24},null,{"$f":"'Pop born outside UK'!B28","v":"*"}]
[26,"Perth & Kinross",null,{"$f":"'Total net migration'!B28","v":1665},{"$f":"'Total net migration 0-15'!B28","v":526},{"$f":"'Total net migration 16-64'!B28","v":910},{"$f":"'Total net migration 65+'!B28","v":229},{"$f":"'Total in-migration'!B28","v":6919},5254,{"$f":"'Within Scotland net migration'!B28","v":532},{"$f":"'Within Scotland in-migration'!B28","v":4048},{"$f":"'Within Scotland out-migration'!B28","v":3516},{"$f":"'Rest of UK net migration'!B28","v":1026},{"$f":"'Rest of UK in-migration'!B28","v":2218},{"$f":"'Rest of UK out-migration'!B28","v":1192},{"$f":"'Overseas net migration'!B28","v":107},{"$f":"'Overseas in-migration'!B28","v":653},{"$f":"'Overseas out-migration'!B28","v":546},{"$f":"WRS!B29","v":1080},{"$f":"NINo!B29","v":810},{"$f":"'Non-UK Births'!B29","v":92},{"$f":"'Pupils ethnic group'!C29","v":233},null,{"$f":"'Pop born outside UK'!B29","v":"*"}]
[27,"Renfrewshire",null,{"$f":"'Total net migration'!B29","v":-268},{"$f":"'Total net migration 0-15'!B29","v":-14},{"$f":"'Total net migration 16-64'!B29","v":-192},{"$f":"'Total net migration 65+'!B29","v":-62},{"$f":"'Total in-migration'!B29","v":4839},5107,{"$f":"'Within Scotland net migration'!B29","v":-311},{"$f":"'Within Scotland in-migration'!B29","v":3268},{"$f":"'Within Scotland out-migration'!B29","v":3579},{"$f":"'Rest of UK net migration'!B29","v":-144},{"$f":"'Rest of UK in-migration'!B29","v":917},{"$f":"'Rest of UK out-migration'!B29","v":1061},{"$f":"'Overseas net migration'!B29","v":187},{"$f":"'Overseas in-migration'!B29","v":654},{"$f":"'Overseas out-migration'!B29","v":467},{"$f":"WRS!B30","v":60},{"$f":"NINo!B30","v":280},{"$f":"'Non-UK Births'!B30","v":91},{"$f":"'Pupils ethnic group'!C30","v":575},null,{"$f":"'Pop born outside UK'!B30","v":"*"}]
[28,"Scottish Borders",null,{"$f":"'Total net migration'!B30","v":1385},{"$f":"'Total net migration 0-15'!B30","v":332},{"$f":"'Total net migration 16-64'!B30","v":849},{"$f":"'Total net migration 65+'!B30","v":204},{"$f":"'Total in-migration'!B30","v":5416},4031,{"$f":"'Within Scotland net migration'!B30","v":387},{"$f":"'Within Scotland in-migration'!B30","v":2611},{"$f":"'Within Scotland out-migration'!B30","v":2224},{"$f":"'Rest of UK net migration'!B30","v":1059},{"$f":"'Rest of UK in-migration'!B30","v":2441},{"$f":"'Rest of UK out-migration'!B30","v":1382},{"$f":"'Overseas net migration'!B30","v":-61},{"$f":"'Overseas in-migration'!B30","v":364},{"$f":"'Overseas out-migration'!B30","v":425},{"$f":"WRS!B31","v":155},{"$f":"NINo!B31","v":270},{"$f":"'Non-UK Births'!B31","v":63},{"$f":"'Pupils ethnic group'!C31","v":169},null,{"$f":"'Pop born outside UK'!B31","v":4000}]
[29,"Shetland Islands",null,{"$f":"'Total net migration'!B31","v":72},{"$f":"'Total net migration 0-15'!B31","v":63},{"$f":"'Total net migration 16-64'!B31","v":-11},{"$f":"'Total net migration 65+'!B31","v":20},{"$f":"'Total in-migration'!B31","v":815},743,{"$f":"'Within Scotland net migration'!B31","v":-85},{"$f":"'Within Scotland in-migration'!B31","v":367},{"$f":"'Within Scotland out-migration'!B31","v":452},{"$f":"'Rest of UK net migration'!B31","v":177},{"$f":"'Rest of UK in-migration'!B31","v":389},{"$f":"'Rest of UK out-migration'!B31","v":212},{"$f":"'Overseas net migration'!B31","v":-20},{"$f":"'Overseas in-migration'!B31","v":59},{"$f":"'Overseas out-migration'!B31","v":79},{"$f":"WRS!B32","v":55},{"$f":"NINo!B32","v":90},{"$f":"'Non-UK Births'!B32","v":14},{"$f":"'Pupils ethnic group'!C32","v":40},null,{"$f":"'Pop born outside UK'!B32","v":"*"}]
[30,"South Ayrshire",null,{"$f":"'Total net migration'!B32","v":684},{"$f":"'Total net migration 0-15'!B32","v":90},{"$f":"'Total net migration 16-64'!B32","v":376},{"$f":"'Total net migration 65+'!B32","v":218},{"$f":"'Total in-migration'!B32","v":4044},3360,{"$f":"'Within Scotland net migration'!B32","v":516},{"$f":"'Within Scotland in-migration'!B32","v":2706},{"$f":"'Within Scotland out-migration'!B32","v":2190},{"$f":"'Rest of UK net migration'!B32","v":364},{"$f":"'Rest of UK in-migration'!B32","v":1181},{"$f":"'Rest of UK out-migration'!B32","v":817},{"$f":"'Overseas net migration'!B32","v":-196},{"$f":"'Overseas in-migration'!B32","v":157},{"$f":"'Overseas out-migration'!B32","v":353},{"$f":"WRS!B33","v":15},{"$f":"NINo!B33","v":180},{"$f":"'Non-UK Births'!B33","v":40},{"$f":"'Pupils ethnic group'!C33","v":299},null,{"$f":"'Pop born outside UK'!B33","v":"*"}]
[31,"South Lanarkshire",null,{"$f":"'Total net migration'!B33","v":2127},{"$f":"'Total net migration 0-15'!B33","v":473},{"$f":"'Total net migration 16-64'!B33","v":1272},{"$f":"'Total net migration 65+'!B33","v":382},{"$f":"'Total in-migration'!B33","v":10040},7913,{"$f":"'Within Scotland net migration'!B33","v":2019},{"$f":"'Within Scotland in-migration'!B33","v":7379},{"$f":"'Within Scotland out-migration'!B33","v":5360},{"$f":"'Rest of UK net migration'!B33","v":476},{"$f":"'Rest of UK in-migration'!B33","v":2232},{"$f":"'Rest of UK out-migration'!B33","v":1756},{"$f":"'Overseas net migration'!B33","v":-368},{"$f":"'Overseas in-migration'!B33","v":429},{"$f":"'Overseas out-migration'!B33","v":797},{"$f":"WRS!B34","v":65},{"$f":"NINo!B34","v":380},{"$f":"'Non-UK Births'!B34","v":124},{"$f":"'Pupils ethnic group'!C34","v":1091},null,{"$f":"'Pop born outside UK'!B34","v":"*"}]
[32,"Stirling",null,{"$f":"'Total net migration'!B34","v":-10},{"$f":"'Total net migration 0-15'!B34","v":341},{"$f":"'Total net migration 16-64'!B34","v":-407},{"$f":"'Total net migration 65+'!B34","v":56},{"$f":"'Total in-migration'!B34","v":4755},4765,{"$f":"'Within Scotland net migration'!B34","v":-403},{"$f":"'Within Scotland in-migration'!B34","v":2693},{"$f":"'Within Scotland out-migration'!B34","v":3096},{"$f":"'Rest of UK net migration'!B34","v":323},{"$f":"'Rest of UK in-migration'!B34","v":1370},{"$f":"'Rest of UK out-migration'!B34","v":1047},{"$f":"'Overseas net migration'!B34","v":70},{"$f":"'Overseas in-migration'!B34","v":692},{"$f":"'Overseas out-migration'!B34","v":622},{"$f":"WRS!B35","v":120},{"$f":"NINo!B35","v":240},{"$f":"'Non-UK Births'!B35","v":80},{"$f":"'Pupils ethnic group'!C35","v":299},null,{"$f":"'Pop born outside UK'!B35","v":4000}]
[33,"West Dunbartonshire",null,{"$f":"'Total net migration'!B35","v":-374},{"$f":"'Total net migration 0-15'!B35","v":-151},{"$f":"'Total net migration 16-64'!B35","v":-196},{"$f":"'Total net migration 65+'!B35","v":-27},{"$f":"'Total in-migration'!B35","v":2444},2818,{"$f":"'Within Scotland net migration'!B35","v":-204},{"$f":"'Within Scotland in-migration'!B35","v":1809},{"$f":"'Within Scotland out-migration'!B35","v":2013},{"$f":"'Rest of UK net migration'!B35","v":-72},{"$f":"'Rest of UK in-migration'!B35","v":471},{"$f":"'Rest of UK out-migration'!B35","v":543},{"$f":"'Overseas net migration'!B35","v":-98},{"$f":"'Overseas in-migration'!B35","v":164},{"$f":"'Overseas out-migration'!B35","v":262},{"$f":"WRS!B36","v":5},{"$f":"NINo!B36","v":80},{"$f":"'Non-UK Births'!B36","v":26},{"$f":"'Pupils ethnic group'!C36","v":162},null,{"$f":"'Pop born outside UK'!B36","v":"*"}]
[34,"West Lothian",null,{"$f":"'Total net migration'!B36","v":1214},{"$f":"'Total net migration 0-15'!B36","v":229},{"$f":"'Total net migration 16-64'!B36","v":835},{"$f":"'Total net migration 65+'!B36","v":150},{"$f":"'Total in-migration'!B36","v":6211},4997,{"$f":"'Within Scotland net migration'!B36","v":1327},{"$f":"'Within Scotland in-migration'!B36","v":4694},{"$f":"'Within Scotland out-migration'!B36","v":3367},{"$f":"'Rest of UK net migration'!B36","v":-18},{"$f":"'Rest of UK in-migration'!B36","v":1189},{"$f":"'Rest of UK out-migration'!B36","v":1207},{"$f":"'Overseas net migration'!B36","v":-95},{"$f":"'Overseas in-migration'!B36","v":328},{"$f":"'Overseas out-migration'!B36","v":423},{"$f":"WRS!B37","v":120},{"$f":"NINo!B37","v":280},{"$f":"'Non-UK Births'!B37","v":119},{"$f":"'Pupils ethnic group'!C37","v":564},null,{"$f":"'Pop born outside UK'!B37","v":"*"}]
[]
[35,"Not specified"]
[36,"SCOTLAND",null,{"$f":"'Total net migration'!B39","v":18622},{"$f":"'Total net migration 0-15'!B39","v":3430},{"$f":"'Total net migration 16-64'!B39","v":13595},{"$f":"'Total net migration 65+'!B39","v":1597},{"$f":"'Total in-migration'!B39","v":90379},71757,null,null,null,{"$f":"'Rest of UK net migration'!B39","v":15522},{"$f":"'Rest of UK in-migration'!B39","v":61879},{"$f":"'Rest of UK out-migration'!B39","v":46357},{"$f":"'Overseas net migration'!B39","v":3100},{"$f":"'Overseas in-migration'!B39","v":28500},{"$f":"'Overseas out-migration'!B39","v":25400},null,null,{"$f":"'Non-UK Births'!B40","v":4219},null,null,null,{"$f":"'NHS Overseas'!B5","v":33882}]
[37,"Ayrshire & Arran",null,{"$f":"'Total net migration'!B40","v":1257},{"$f":"'Total net migration 0-15'!B40","v":431},{"$f":"'Total net migration 16-64'!B40","v":485},{"$f":"'Total net migration 65+'!B40","v":341},{"$f":"'Total in-migration'!B40","v":9497},8240,{"$f":"'Within Scotland net migration'!B40","v":1046},{"$f":"'Within Scotland in-migration'!B40","v":5733},{"$f":"'Within Scotland out-migration'!B40","v":4687},{"$f":"'Rest of UK net migration'!B40","v":680},{"$f":"'Rest of UK in-migration'!B40","v":3244},{"$f":"'Rest of UK out-migration'!B40","v":2564},{"$f":"'Overseas net migration'!B40","v":-469},{"$f":"'Overseas in-migration'!B40","v":520},{"$f":"'Overseas out-migration'!B40","v":989},null,null,{"$f":"'Non-UK Births'!B41","v":126}]
[38,"Borders",null,{"$f":"'Total net migration'!B41","v":1385},{"$f":"'Total net migration 0-15'!B41","v":332},{"$f":"'Total net migration 16-64'!B41","v":849},{"$f":"'Total net migration 65+'!B41","v":204},{"$f":"'Total in-migration'!B41","v":5416},4031,{"$f":"'Within Scotland net migration'!B41","v":387},{"$f":"'Within Scotland in-migration'!B41","v":2611},{"$f":"'Within Scotland out-migration'!B41","v":2224},{"$f":"'Rest of UK net migration'!B41","v":1059},{"$f":"'Rest of UK in-migration'!B41","v":2441},{"$f":"'Rest of UK out-migration'!B41","v":1382},{"$f":"'Overseas net migration'!B41","v":-61},{"$f":"'Overseas in-migration'!B41","v":364},{"$f":"'Overseas out-migration'!B41","v":425},null,null,{"$f":"'Non-UK Births'!B42","v":63}]
[39,"Dumfries & Galloway",null,{"$f":"'Total net migration'!B42","v":1183},{"$f":"'Total net migration 0-15'!B42","v":258},{"$f":"'Total net migration 16-64'!B42","v":723},{"$f":"'Total net migration 65+'!B42","v":202},{"$f":"'Total in-migration'!B42","v":5278},4095,{"$f":"'Within Scotland net migration'!B42","v":-56},{"$f":"'Within Scotland in-migration'!B42","v":1783},{"$f":"'Within Scotland out-migration'!B42","v":1839},{"$f":"'Rest of UK net migration'!B42","v":1494},{"$f":"'Rest of UK in-migration'!B42","v":3252},{"$f":"'Rest of UK out-migration'!B42","v":1758},{"$f":"'Overseas net migration'!B42","v":-255},{"$f":"'Overseas in-migration'!B42","v":243},{"$f":"'Overseas out-migration'!B42","v":498},null,null,{"$f":"'Non-UK Births'!B43","v":59}]
[40,"Fife",null,{"$f":"'Total net migration'!B43","v":2348},{"$f":"'Total net migration 0-15'!B43","v":453},{"$f":"'Total net migration 16-64'!B43","v":1734},{"$f":"'Total net migration 65+'!B43","v":161},{"$f":"'Total in-migration'!B43","v":12574},10226,{"$f":"'Within Scotland net migration'!B43","v":1302},{"$f":"'Within Scotland in-migration'!B43","v":6965},{"$f":"'Within Scotland out-migration'!B43","v":5663},{"$f":"'Rest of UK net migration'!B43","v":959},{"$f":"'Rest of UK in-migration'!B43","v":3972},{"$f":"'Rest of UK out-migration'!B43","v":3013},{"$f":"'Overseas net migration'!B43","v":87},{"$f":"'Overseas in-migration'!B43","v":1637},{"$f":"'Overseas out-migration'!B43","v":1550},null,null,{"$f":"'Non-UK Births'!B44","v":220}]
[41,"Forth Valley",null,{"$f":"'Total net migration'!B44","v":2051},{"$f":"'Total net migration 0-15'!B44","v":709},{"$f":"'Total net migration 16-64'!B44","v":1174},{"$f":"'Total net migration 65+'!B44","v":168},{"$f":"'Total in-migration'!B44","v":9966},7915,{"$f":"'Within Scotland net migration'!B44","v":986},{"$f":"'Within Scotland in-migration'!B44","v":5806},{"$f":"'Within Scotland out-migration'!B44","v":4820},{"$f":"'Rest of UK net migration'!B44","v":977},{"$f":"'Rest of UK in-migration'!B44","v":2991},{"$f":"'Rest of UK out-migration'!B44","v":2014},{"$f":"'Overseas net migration'!B44","v":88},{"$f":"'Overseas in-migration'!B44","v":1169},{"$f":"'Overseas out-migration'!B44","v":1081},null,null,{"$f":"'Non-UK Births'!B45","v":176}]
[42,"Grampian",null,{"$f":"'Total net migration'!B45","v":3019},{"$f":"'Total net migration 0-15'!B45","v":794},{"$f":"'Total net migration 16-64'!B45","v":1804},{"$f":"'Total net migration 65+'!B45","v":421},{"$f":"'Total in-migration'!B45","v":18090},15071,{"$f":"'Within Scotland net migration'!B45","v":-247},{"$f":"'Within Scotland in-migration'!B45","v":6501},{"$f":"'Within Scotland out-migration'!B45","v":6748},{"$f":"'Rest of UK net migration'!B45","v":2344},{"$f":"'Rest of UK in-migration'!B45","v":7678},{"$f":"'Rest of UK out-migration'!B45","v":5334},{"$f":"'Overseas net migration'!B45","v":922},{"$f":"'Overseas in-migration'!B45","v":3911},{"$f":"'Overseas out-migration'!B45","v":2989},null,null,{"$f":"'Non-UK Births'!B46","v":526}]
[43,"Greater Glasgow & Clyde",null,{"$f":"'Total net migration'!B46","v":-4559},{"$f":"'Total net migration 0-15'!B46","v":-1291},{"$f":"'Total net migration 16-64'!B46","v":-2385},{"$f":"'Total net migration 65+'!B46","v":-883},{"$f":"'Total in-migration'!B46","v":35516},40075,{"$f":"'Within Scotland net migration'!B46","v":-4565},{"$f":"'Within Scotland in-migration'!B46","v":17447},{"$f":"'Within Scotland out-migration'!B46","v":22012},{"$f":"'Rest of UK net migration'!B46","v":-610},{"$f":"'Rest of UK in-migration'!B46","v":9397},{"$f":"'Rest of UK out-migration'!B46","v":10007},{"$f":"'Overseas net migration'!B46","v":616},{"$f":"'Overseas in-migration'!B46","v":8672},{"$f":"'Overseas out-migration'!B46","v":8056},null,null,{"$f":"'Non-UK Births'!B47","v":1394}]
[44,"Highland",null,{"$f":"'Total net migration'!B47","v":3776},{"$f":"'Total net migration 0-15'!B47","v":893},{"$f":"'Total net migration 16-64'!B47","v":2536},{"$f":"'Total net migration 65+'!B47","v":347},{"$f":"'Total in-migration'!B47","v":14338},10562,{"$f":"'Within Scotland net migration'!B47","v":226},{"$f":"'Within Scotland in-migration'!B47","v":6559},{"$f":"'Within Scotland out-migration'!B47","v":6333},{"$f":"'Rest of UK net migration'!B47","v":3648},{"$f":"'Rest of UK in-migration'!B47","v":6739},{"$f":"'Rest of UK out-migration'!B47","v":3091},{"$f":"'Overseas net migration'!B47","v":-98},{"$f":"'Overseas in-migration'!B47","v":1040},{"$f":"'Overseas out-migration'!B47","v":1138},null,null,{"$f":"'Non-UK Births'!B48","v":194}]
[45,"Lanarkshire",null,{"$f":"'Total net migration'!B48","v":1701},{"$f":"'Total net migration 0-15'!B48","v":474},{"$f":"'Total net migration 16-64'!B48","v":837},{"$f":"'Total net migration 65+'!B48","v":390},{"$f":"'Total in-migration'!B48","v":13004},11303,{"$f":"'Within Scotland net migration'!B48","v":1665},{"$f":"'Within Scotland in-migration'!B48","v":8733},{"$f":"'Within Scotland out-migration'!B48","v":7068},{"$f":"'Rest of UK net migration'!B48","v":674},{"$f":"'Rest of UK in-migration'!B48","v":3549},{"$f":"'Rest of UK out-migration'!B48","v":2875},{"$f":"'Overseas net migration'!B48","v":-638},{"$f":"'Overseas in-migration'!B48","v":722},{"$f":"'Overseas out-migration'!B48","v":1360},null,null,{"$f":"'Non-UK Births'!B49","v":213}]
[46,"Lothian",null,{"$f":"'Total net migration'!B49","v":3615},{"$f":"'Total net migration 0-15'!B49","v":-438},{"$f":"'Total net migration 16-64'!B49","v":4239},{"$f":"'Total net migration 65+'!B49","v":-186},{"$f":"'Total in-migration'!B49","v":32276},28661,{"$f":"'Within Scotland net migration'!B49","v":-1412},{"$f":"'Within Scotland in-migration'!B49","v":11516},{"$f":"'Within Scotland out-migration'!B49","v":12928},{"$f":"'Rest of UK net migration'!B49","v":2151},{"$f":"'Rest of UK in-migration'!B49","v":12283},{"$f":"'Rest of UK out-migration'!B49","v":10132},{"$f":"'Overseas net migration'!B49","v":2876},{"$f":"'Overseas in-migration'!B49","v":8477},{"$f":"'Overseas out-migration'!B49","v":5601},null,null,{"$f":"'Non-UK Births'!B50","v":931}]
[47,"Orkney",null,{"$f":"'Total net migration'!B50","v":261},{"$f":"'Total net migration 0-15'!B50","v":96},{"$f":"'Total net migration 16-64'!B50","v":135},{"$f":"'Total net migration 65+'!B50","v":30},{"$f":"'Total in-migration'!B50","v":897},636,{"$f":"'Within Scotland net migration'!B50","v":-45},{"$f":"'Within Scotland in-migration'!B50","v":384},{"$f":"'Within Scotland out-migration'!B50","v":429},{"$f":"'Rest of UK net migration'!B50","v":324},{"$f":"'Rest of UK in-migration'!B50","v":474},{"$f":"'Rest of UK out-migration'!B50","v":150},{"$f":"'Overseas net migration'!B50","v":-18},{"$f":"'Overseas in-migration'!B50","v":39},{"$f":"'Overseas out-migration'!B50","v":57},null,null,{"$f":"'Non-UK Births'!B51","v":6}]
[48,"Shetland",null,{"$f":"'Total net migration'!B51","v":72},{"$f":"'Total net migration 0-15'!B51","v":63},{"$f":"'Total net migration 16-64'!B51","v":-11},{"$f":"'Total net migration 65+'!B51","v":20},{"$f":"'Total in-migration'!B51","v":815},743,{"$f":"'Within Scotland net migration'!B51","v":-85},{"$f":"'Within Scotland in-migration'!B51","v":367},{"$f":"'Within Scotland out-migration'!B51","v":452},{"$f":"'Rest of UK net migration'!B51","v":177},{"$f":"'Rest of UK in-migration'!B51","v":389},{"$f":"'Rest of UK out-migration'!B51","v":212},{"$f":"'Overseas net migration'!B51","v":-20},{"$f":"'Overseas in-migration'!B51","v":59},{"$f":"'Overseas out-migration'!B51","v":79},null,null,{"$f":"'Non-UK Births'!B52","v":14}]
[49,"Tayside",null,{"$f":"'Total net migration'!B52","v":2267},{"$f":"'Total net migration 0-15'!B52","v":569},{"$f":"'Total net migration 16-64'!B52","v":1349},{"$f":"'Total net migration 65+'!B52","v":349},{"$f":"'Total in-migration'!B52","v":13651},11384,{"$f":"'Within Scotland net migration'!B52","v":839},{"$f":"'Within Scotland in-migration'!B52","v":7120},{"$f":"'Within Scotland out-migration'!B52","v":6281},{"$f":"'Rest of UK net migration'!B52","v":1322},{"$f":"'Rest of UK in-migration'!B52","v":4930},{"$f":"'Rest of UK out-migration'!B52","v":3608},{"$f":"'Overseas net migration'!B52","v":106},{"$f":"'Overseas in-migration'!B52","v":1601},{"$f":"'Overseas out-migration'!B52","v":1495},null,null,{"$f":"'Non-UK Births'!B53","v":286}]
[50,"Western Isles",null,{"$f":"'Total net migration'!B53","v":246},{"$f":"'Total net migration 0-15'!B53","v":87},{"$f":"'Total net migration 16-64'!B53","v":126},{"$f":"'Total net migration 65+'!B53","v":33},{"$f":"'Total in-migration'!B53","v":1233},987,{"$f":"'Within Scotland net migration'!B53","v":-41},{"$f":"'Within Scotland in-migration'!B53","v":647},{"$f":"'Within Scotland out-migration'!B53","v":688},{"$f":"'Rest of UK net migration'!B53","v":323},{"$f":"'Rest of UK in-migration'!B53","v":540},{"$f":"'Rest of UK out-migration'!B53","v":217},{"$f":"'Overseas net migration'!B53","v":-36},{"$f":"'Overseas in-migration'!B53","v":46},{"$f":"'Overseas out-migration'!B53","v":82},null,null,{"$f":"'Non-UK Births'!B54","v":11}]

{"sheet":"2004 Rate","index":36,"n_rows":53,"n_cols":27,"rows_kept":53,"cut":false,"hidden":true,"merged":[]}
[null,2004,"RATE"]
[null,null,"Not specified ","Total net migration","Total net migration for ages 0-15","Total net migration for ages 16-64","Total net migration for people aged 65+","Total in-migration","Total out-migration","Within Scotland net migration","Within Scotland in-migration","Within Scotland out-migration","Rest of UK net migration","Rest of UK in-migration","Rest of UK out-migration","Overseas net migration","Overseas in-migration","Overseas out-migration","Worker Registration Scheme","NINo Allocation","Births to non-UK mothers","Pupils from a minority ethnic group","Pupils with English as an additional language","Estimate of resident population born outside the UK","NHS registrations from overseas",null,"Mid-year population estimate"]
[1,"Not specified"]
[2,"SCOTLAND",null,{"$f":"('2004'!D4/'2004 Rate'!AA4)*1000","v":3.6626477587868536},{"$f":"('2004'!E4/'2004 Rate'!AA4)*1000","v":0.67462580886257695},{"$f":"('2004'!F4/'2004 Rate'!AA4)*1000","v":2.6739177467891353},{"$f":"('2004'!G4/'2004 Rate'!AA4)*1000","v":0.31410420313514154},{"$f":"('2004'!H4/'2004 Rate'!AA4)*1000","v":17.776095037664966},{"$f":"('2004'!I4/'2004 Rate'!AA4)*1000","v":14.113447278878114},null,null,null,{"$f":"('2004'!M4/'2004 Rate'!AA4)*1000","v":3.0529276399897727},{"$f":"('2004'!N4/'2004 Rate'!AA4)*1000","v":12.170603622917609},{"$f":"('2004'!O4/'2004 Rate'!AA4)*1000","v":9.1176759829278371},{"$f":"('2004'!P4/'2004 Rate'!AA4)*1000","v":0.60972011879708121},{"$f":"('2004'!Q4/'2004 Rate'!AA4)*1000","v":5.6054914147473598},{"$f":"('2004'!R4/'2004 Rate'!AA4)*1000","v":4.9957712959502789},{"$f":"('2004'!S4/'2004 Rate'!AA4)*1000","v":1.4121904686977558},{"$f":"('2004'!T4/'2004 Rate'!AA4)*1000","v":3.75272898924139},{"$f":"('2004'!U4/'2004 Rate'!AA4)*1000","v":0.82980941329189861},{"$f":"('2004'!V4/'2004 Rate'!AA4)*1000","v":4.9145408414137632},null,{"$f":"('2004'!X4/'2004 Rate'!AA4)*1000","v":40.123517495033731},{"$f":"('2004'!Y4/'2004 Rate'!AA4)*1000","v":6.664044214542808},"SCOTLAND",{"$f":"'Population estimates'!B4","v":5084300}]
[3,"Aberdeen City",null,{"$f":"('2004'!D5/'2004 Rate'!AA5)*1000","v":-5.7309209893176787},{"$f":"('2004'!E5/'2004 Rate'!AA5)*1000","v":-1.6697141757289964},{"$f":"('2004'!F5/'2004 Rate'!AA5)*1000","v":-3.4067943412568567},{"$f":"('2004'!G5/'2004 Rate'!AA5)*1000","v":-0.65441247233182565},{"$f":"('2004'!H5/'2004 Rate'!AA5)*1000","v":51.265518236935804},{"$f":"('2004'!I5/'2004 Rate'!AA5)*1000","v":56.996439226253493},{"$f":"('2004'!J5/'2004 Rate'!AA5)*1000","v":-8.0742950630353185},{"$f":"('2004'!K5/'2004 Rate'!AA5)*1000","v":26.676931960350302},{"$f":"('2004'!L5/'2004 Rate'!AA5)*1000","v":34.751227023385624},{"$f":"('2004'!M5/'2004 Rate'!AA5)*1000","v":-1.8621884322971802},{"$f":"('2004'!N5/'2004 Rate'!AA5)*1000","v":10.667885670291598},{"$f":"('2004'!O5/'2004 Rate'!AA5)*1000","v":12.530074102588777},{"$f":"('2004'!P5/'2004 Rate'!AA5)*1000","v":4.2055625060148207},{"$f":"('2004'!Q5/'2004 Rate'!AA5)*1000","v":13.920700606293909},{"$f":"('2004'!R5/'2004 Rate'!AA5)*1000","v":9.7151381002790878},{"$f":"('2004'!S5/'2004 Rate'!AA5)*1000","v":1.0345491290539892},{"$f":"('2004'!T5/'2004 Rate'!AA5)*1000","v":9.1425271869887403},{"$f":"('2004'!U5/'2004 Rate'!AA5)*1000","v":1.4387450678471756},{"$f":"('2004'!V5/'2004 Rate'!AA5)*1000","v":5.7212972764892696},null,{"$f":"('2004'!X5/'2004 Rate'!AA5)*1000","v":52.930420556250603},null,"Aberdeen City",{"$f":"'Population estimates'!B5","v":207820}]
[4,"Aberdeenshire",null,{"$f":"('2004'!D6/'2004 Rate'!AA6)*1000","v":13.762836081639611},{"$f":"('2004'!E6/'2004 Rate'!AA6)*1000","v":4.2225915036857131},{"$f":"('2004'!F6/'2004 Rate'!AA6)*1000","v":7.7336060334909886},{"$f":"('2004'!G6/'2004 Rate'!AA6)*1000","v":1.8066385444629085},{"$f":"('2004'!H6/'2004 Rate'!AA6)*1000","v":43.768375303591966},{"$f":"('2004'!I6/'2004 Rate'!AA6)*1000","v":30.005539221952365},{"$f":"('2004'!J6/'2004 Rate'!AA6)*1000","v":5.2750436746346239},{"$f":"('2004'!K6/'2004 Rate'!AA6)*1000","v":25.514508500575225},{"$f":"('2004'!L6/'2004 Rate'!AA6)*1000","v":20.239464825940601},{"$f":"('2004'!M6/'2004 Rate'!AA6)*1000","v":7.9466530316587844},{"$f":"('2004'!N6/'2004 Rate'!AA6)*1000","v":14.938855511525844},{"$f":"('2004'!O6/'2004 Rate'!AA6)*1000","v":6.9922024798670588},{"$f":"('2004'!P6/'2004 Rate'!AA6)*1000","v":0.54113937534620138},{"$f":"('2004'!Q6/'2004 Rate'!AA6)*1000","v":3.3150112914909027},{"$f":"('2004'!R6/'2004 Rate'!AA6)*1000","v":2.7738719161447016},{"$f":"('2004'!S6/'2004 Rate'!AA6)*1000","v":2.5991733776471091},{"$f":"('2004'!T6/'2004 Rate'!AA6)*1000","v":3.1530955728833781},{"$f":"('2004'!U6/'2004 Rate'!AA6)*1000","v":0.69453321402701429},{"$f":"('2004'!V6/'2004 Rate'!AA6)*1000","v":1.7810729046827729},null,null,null,"Aberdeenshire",{"$f":"'Population estimates'!B6","v":234690}]
[5,"Angus",null,{"$f":"('2004'!D7/'2004 Rate'!AA7)*1000","v":12.18117454842516},{"$f":"('2004'!E7/'2004 Rate'!AA7)*1000","v":3.0589089588817284},{"$f":"('2004'!F7/'2004 Rate'!AA7)*1000","v":7.2251974221657447},{"$f":"('2004'!G7/'2004 Rate'!AA7)*1000","v":1.897068167377689},{"$f":"('2004'!H7/'2004 Rate'!AA7)*1000","v":43.196877552872834},{"$f":"('2004'!I7/'2004 Rate'!AA7)*1000","v":31.015703004447673},{"$f":"('2004'!J7/'2004 Rate'!AA7)*1000","v":9.0405736588908052},{"$f":"('2004'!K7/'2004 Rate'!AA7)*1000","v":30.970318598529545},{"$f":"('2004'!L7/'2004 Rate'!AA7)*1000","v":21.929744939638738},{"$f":"('2004'!M7/'2004 Rate'!AA7)*1000","v":4.1027502949986392},{"$f":"('2004'!N7/'2004 Rate'!AA7)*1000","v":10.992103113370247},{"$f":"('2004'!O7/'2004 Rate'!AA7)*1000","v":6.8893528183716075},{"$f":"('2004'!P7/'2004 Rate'!AA7)*1000","v":-0.96214940546428251},{"$f":"('2004'!Q7/'2004 Rate'!AA7)*1000","v":1.2344558409730415},{"$f":"('2004'!R7/'2004 Rate'!AA7)*1000","v":2.1966052464373238},{"$f":"('2004'!S7/'2004 Rate'!AA7)*1000","v":5.7638195516020696},{"$f":"('2004'!T7/'2004 Rate'!AA7)*1000","v":3.3584460379413632},{"$f":"('2004'!U7/'2004 Rate'!AA7)*1000","v":0.53553598983389306},{"$f":"('2004'!V7/'2004 Rate'!AA7)*1000","v":1.6066079695016791},null,null,null,"Angus",{"$f":"'Population estimates'!B7","v":110170}]
[6,"Argyll & Bute",null,{"$f":"('2004'!D8/'2004 Rate'!AA8)*1000","v":10.223007286376683},{"$f":"('2004'!E8/'2004 Rate'!AA8)*1000","v":1.6559947008169575},{"$f":"('2004'!F8/'2004 Rate'!AA8)*1000","v":7.9266946345771698},{"$f":"('2004'!G8/'2004 Rate'!AA8)*1000","v":0.64031795098255684},{"$f":"('2004'!H8/'2004 Rate'!AA8)*1000","v":54.0627069993376},{"$f":"('2004'!I8/'2004 Rate'!AA8)*1000","v":43.839699712960915},{"$f":"('2004'!J8/'2004 Rate'!AA8)*1000","v":2.2411128284389488},{"$f":"('2004'!K8/'2004 Rate'!AA8)*1000","v":28.913667476264077},{"$f":"('2004'!L8/'2004 Rate'!AA8)*1000","v":26.672554647825127},{"$f":"('2004'!M8/'2004 Rate'!AA8)*1000","v":9.1300507838374916},{"$f":"('2004'!N8/'2004 Rate'!AA8)*1000","v":21.837050121439614},{"$f":"('2004'!O8/'2004 Rate'!AA8)*1000","v":12.70699933760212},{"$f":"('2004'!P8/'2004 Rate'!AA8)*1000","v":-1.1481563258997571},{"$f":"('2004'!Q8/'2004 Rate'!AA8)*1000","v":3.3119894016339151},{"$f":"('2004'!R8/'2004 Rate'!AA8)*1000","v":4.4601457275336713},{"$f":"('2004'!S8/'2004 Rate'!AA8)*1000","v":1.8767939942592184},{"$f":"('2004'!T8/'2004 Rate'!AA8)*1000","v":3.8639876352395675},{"$f":"('2004'!U8/'2004 Rate'!AA8)*1000","v":0.47471848090086111},{"$f":"('2004'!V8/'2004 Rate'!AA8)*1000","v":1.7001545595054095},null,null,null,"Argyll & Bute",{"$f":"'Population estimates'!B8","v":90580}]
[7,"Clackmannanshire",null,{"$f":"('2004'!D9/'2004 Rate'!AA9)*1000","v":11.321142387507706},{"$f":"('2004'!E9/'2004 Rate'!AA9)*1000","v":1.9930141771111569},{"$f":"('2004'!F9/'2004 Rate'!AA9)*1000","v":8.4857201561536879},{"$f":"('2004'!G9/'2004 Rate'!AA9)*1000","v":0.84240805424286014},{"$f":"('2004'!H9/'2004 Rate'!AA9)*1000","v":42.818985001027329},{"$f":"('2004'!I9/'2004 Rate'!AA9)*1000","v":31.497842613519623},{"$f":"('2004'!J9/'2004 Rate'!AA9)*1000","v":6.9858228888432299},{"$f":"('2004'!K9/'2004 Rate'!AA9)*1000","v":29.813026505033903},{"$f":"('2004'!L9/'2004 Rate'!AA9)*1000","v":22.827203616190673},{"$f":"('2004'!M9/'2004 Rate'!AA9)*1000","v":5.3420998561742339},{"$f":"('2004'!N9/'2004 Rate'!AA9)*1000","v":11.259502773782618},{"$f":"('2004'!O9/'2004 Rate'!AA9)*1000","v":5.9174029176083831},{"$f":"('2004'!P9/'2004 Rate'!AA9)*1000","v":-1.0067803575097596},{"$f":"('2004'!Q9/'2004 Rate'!AA9)*1000","v":1.7464557222108075},{"$f":"('2004'!R9/'2004 Rate'!AA9)*1000","v":2.7532360797205668},{"$f":"('2004'!S9/'2004 Rate'!AA9)*1000","v":0.30819806862543664},{"$f":"('2004'!T9/'2004 Rate'!AA9)*1000","v":0.61639613725087328},{"$f":"('2004'!U9/'2004 Rate'!AA9)*1000","v":0.36983768235052394},{"$f":"('2004'!V9/'2004 Rate'!AA9)*1000","v":2.3628518594616805},null,null,null,"Clackmannanshire",{"$f":"'Population estimates'!B9","v":48670}]
[8,"Dumfries & Galloway",null,{"$f":"('2004'!D10/'2004 Rate'!AA10)*1000","v":7.9561503799852034},{"$f":"('2004'!E10/'2004 Rate'!AA10)*1000","v":1.7351536754321071},{"$f":"('2004'!F10/'2004 Rate'!AA10)*1000","v":4.8624655323155563},{"$f":"('2004'!G10/'2004 Rate'!AA10)*1000","v":1.3585311722375411},{"$f":"('2004'!H10/'2004 Rate'!AA10)*1000","v":35.49667092608783},{"$f":"('2004'!I10/'2004 Rate'!AA10)*1000","v":27.540520546102631},{"$f":"('2004'!J10/'2004 Rate'!AA10)*1000","v":-0.37662250319456592},{"$f":"('2004'!K10/'2004 Rate'!AA10)*1000","v":11.991391485641268},{"$f":"('2004'!L10/'2004 Rate'!AA10)*1000","v":12.368013988835834},{"$f":"('2004'!M10/'2004 Rate'!AA10)*1000","v":10.047750353083597},{"$f":"('2004'!N10/'2004 Rate'!AA10)*1000","v":21.871006792655859},{"$f":"('2004'!O10/'2004 Rate'!AA10)*1000","v":11.823256439572265},{"$f":"('2004'!P10/'2004 Rate'!AA10)*1000","v":-1.7149774699038267},{"$f":"('2004'!Q10/'2004 Rate'!AA10)*1000","v":1.6342726477907055},{"$f":"('2004'!R10/'2004 Rate'!AA10)*1000","v":3.3492501176945324},{"$f":"('2004'!S10/'2004 Rate'!AA10)*1000","v":0.33627009213800524},{"$f":"('2004'!T10/'2004 Rate'!AA10)*1000","v":1.7486044791176272},{"$f":"('2004'!U10/'2004 Rate'!AA10)*1000","v":0.39679870872284623},{"$f":"('2004'!V10/'2004 Rate'!AA10)*1000","v":2.0310713565135514},null,null,null,"Dumfries & Galloway",{"$f":"'Population estimates'!B10","v":148690}]
[9,"Dundee City",null,{"$f":"('2004'!D11/'2004 Rate'!AA11)*1000","v":-5.1712089447938512},{"$f":"('2004'!E11/'2004 Rate'!AA11)*1000","v":-2.0545073375262053},{"$f":"('2004'!F11/'2004 Rate'!AA11)*1000","v":-2.4947589098532492},{"$f":"('2004'!G11/'2004 Rate'!AA11)*1000","v":-0.62194269741439556},{"$f":"('2004'!H11/'2004 Rate'!AA11)*1000","v":40.747728860936412},{"$f":"('2004'!I11/'2004 Rate'!AA11)*1000","v":45.918937805730259},{"$f":"('2004'!J11/'2004 Rate'!AA11)*1000","v":-4.8148148148148149},{"$f":"('2004'!K11/'2004 Rate'!AA11)*1000","v":24.584206848357791},{"$f":"('2004'!L11/'2004 Rate'!AA11)*1000","v":29.399021663172608},{"$f":"('2004'!M11/'2004 Rate'!AA11)*1000","v":-1.0901467505241089},{"$f":"('2004'!N11/'2004 Rate'!AA11)*1000","v":10.489168413696715},{"$f":"('2004'!O11/'2004 Rate'!AA11)*1000","v":11.579315164220825},{"$f":"('2004'!P11/'2004 Rate'!AA11)*1000","v":0.7337526205450734},{"$f":"('2004'!Q11/'2004 Rate'!AA11)*1000","v":5.6743535988819005},{"$f":"('2004'!R11/'2004 Rate'!AA11)*1000","v":4.9406009783368274},{"$f":"('2004'!S11/'2004 Rate'!AA11)*1000","v":0.80363382250174709},{"$f":"('2004'!T11/'2004 Rate'!AA11)*1000","v":5.2410901467505244},{"$f":"('2004'!U11/'2004 Rate'!AA11)*1000","v":0.94339622641509435},{"$f":"('2004'!V11/'2004 Rate'!AA11)*1000","v":6.1215932914046123},null,{"$f":"('2004'!X11/'2004 Rate'!AA11)*1000","v":41.928721174004195},null,"Dundee City",{"$f":"'Population estimates'!B11","v":143100}]
[10,"East Ayrshire",null,{"$f":"('2004'!D12/'2004 Rate'!AA12)*1000","v":3.0529905997837115},{"$f":"('2004'!E12/'2004 Rate'!AA12)*1000","v":1.6970301971549788},{"$f":"('2004'!F12/'2004 Rate'!AA12)*1000","v":1.5056983612012311},{"$f":"('2004'!G12/'2004 Rate'!AA12)*1000","v":-0.14973795857249811},{"$f":"('2004'!H12/'2004 Rate'!AA12)*1000","v":30.455037018550868},{"$f":"('2004'!I12/'2004 Rate'!AA12)*1000","v":27.40204641876716},{"$f":"('2004'!J12/'2004 Rate'!AA12)*1000","v":2.3542134597787205},{"$f":"('2004'!K12/'2004 Rate'!AA12)*1000","v":21.362615423009732},{"$f":"('2004'!L12/'2004 Rate'!AA12)*1000","v":19.008401963231012},{"$f":"('2004'!M12/'2004 Rate'!AA12)*1000","v":1.7968555028699775},{"$f":"('2004'!N12/'2004 Rate'!AA12)*1000","v":8.0026620081523987},{"$f":"('2004'!O12/'2004 Rate'!AA12)*1000","v":6.2058065052824221},{"$f":"('2004'!P12/'2004 Rate'!AA12)*1000","v":-1.0980783628649862},{"$f":"('2004'!Q12/'2004 Rate'!AA12)*1000","v":1.0897595873887365},{"$f":"('2004'!R12/'2004 Rate'!AA12)*1000","v":2.1878379502537229},{"$f":"('2004'!S12/'2004 Rate'!AA12)*1000","v":8.3187754762498956E-2},{"$f":"('2004'!T12/'2004 Rate'!AA12)*1000","v":0.83187754762498956},{"$f":"('2004'!U12/'2004 Rate'!AA12)*1000","v":0.31611346809749608},{"$f":"('2004'!V12/'2004 Rate'!AA12)*1000","v":1.7386240745362282},null,null,null,"East Ayrshire",{"$f":"'Population estimates'!B12","v":120210}]
[11,"East Dunbartonshire",null,{"$f":"('2004'!D13/'2004 Rate'!AA13)*1000","v":-4.289468744133659},{"$f":"('2004'!E13/'2004 Rate'!AA13)*1000","v":2.4403979725924536},{"$f":"('2004'!F13/'2004 Rate'!AA13)*1000","v":-5.7537075276891301},{"$f":"('2004'!G13/'2004 Rate'!AA13)*1000","v":-0.9761591890369814},{"$f":"('2004'!H13/'2004 Rate'!AA13)*1000","v":33.996620987422567},{"$f":"('2004'!I13/'2004 Rate'!AA13)*1000","v":38.286089731556224},{"$f":"('2004'!J13/'2004 Rate'!AA13)*1000","v":-1.4830110756523371},{"$f":"('2004'!K13/'2004 Rate'!AA13)*1000","v":27.55772479819786},{"$f":"('2004'!L13/'2004 Rate'!AA13)*1000","v":29.040735873850199},{"$f":"('2004'!M13/'2004 Rate'!AA13)*1000","v":-1.0230899192791438},{"$f":"('2004'!N13/'2004 Rate'!AA13)*1000","v":4.6836868781678245},{"$f":"('2004'!O13/'2004 Rate'!AA13)*1000","v":5.7067767974469676},{"$f":"('2004'!P13/'2004 Rate'!AA13)*1000","v":-1.7833677492021776},{"$f":"('2004'!Q13/'2004 Rate'!AA13)*1000","v":1.7552093110568801},{"$f":"('2004'!R13/'2004 Rate'!AA13)*1000","v":3.5385770602590574},{"$f":"('2004'!S13/'2004 Rate'!AA13)*1000","v":9.3861460484325143E-2},{"$f":"('2004'!T13/'2004 Rate'!AA13)*1000","v":1.2201989862962268},{"$f":"('2004'!U13/'2004 Rate'!AA13)*1000","v":0.62887178524497844},{"$f":"('2004'!V13/'2004 Rate'!AA13)*1000","v":9.6583442838370566},null,null,null,"East Dunbartonshire",{"$f":"'Population estimates'!B13","v":106540}]
[12,"East Lothian",null,{"$f":"('2004'!D14/'2004 Rate'!AA14)*1000","v":4.6652923944884455},{"$f":"('2004'!E14/'2004 Rate'!AA14)*1000","v":1.8444179234024087},{"$f":"('2004'!F14/'2004 Rate'!AA14)*1000","v":1.9420635781707714},{"$f":"('2004'!G14/'2004 Rate'!AA14)*1000","v":0.87881089291526537},{"$f":"('2004'!H14/'2004 Rate'!AA14)*1000","v":39.871975697081481},{"$f":"('2004'!I14/'2004 Rate'!AA14)*1000","v":35.206683302593035},{"$f":"('2004'!J14/'2004 Rate'!AA14)*1000","v":3.8515786047520888},{"$f":"('2004'!K14/'2004 Rate'!AA14)*1000","v":29.239448844526418},{"$f":"('2004'!L14/'2004 Rate'!AA14)*1000","v":25.38787023977433},{"$f":"('2004'!M14/'2004 Rate'!AA14)*1000","v":1.3236410979711404},{"$f":"('2004'!N14/'2004 Rate'!AA14)*1000","v":8.3649777584897471},{"$f":"('2004'!O14/'2004 Rate'!AA14)*1000","v":7.0413366605186072},{"$f":"('2004'!P14/'2004 Rate'!AA14)*1000","v":-0.50992730823478361},{"$f":"('2004'!Q14/'2004 Rate'!AA14)*1000","v":2.267549094065314},{"$f":"('2004'!R14/'2004 Rate'!AA14)*1000","v":2.7774764023000977},{"$f":"('2004'!S14/'2004 Rate'!AA14)*1000","v":1.464684821525442},{"$f":"('2004'!T14/'2004 Rate'!AA14)*1000","v":1.735922751437561},{"$f":"('2004'!U14/'2004 Rate'!AA14)*1000","v":0.5533253770207226},{"$f":"('2004'!V14/'2004 Rate'!AA14)*1000","v":2.0614082673321037},null,null,null,"East Lothian",{"$f":"'Population estimates'!B14","v":92170}]
[13,"East Renfrewshire",null,{"$f":"('2004'!D15/'2004 Rate'!AA15)*1000","v":-1.0802984742176189},{"$f":"('2004'!E15/'2004 Rate'!AA15)*1000","v":2.2385566321416639},{"$f":"('2004'!F15/'2004 Rate'!AA15)*1000","v":-3.8757099899766123},{"$f":"('2004'!G15/'2004 Rate'!AA15)*1000","v":0.55685488361732938},{"$f":"('2004'!H15/'2004 Rate'!AA15)*1000","v":37.866132085978393},{"$f":"('2004'!I15/'2004 Rate'!AA15)*1000","v":38.946430560196013},{"$f":"('2004'!J15/'2004 Rate'!AA15)*1000","v":2.1605969484352379},{"$f":"('2004'!K15/'2004 Rate'!AA15)*1000","v":31.941196124290006},{"$f":"('2004'!L15/'2004 Rate'!AA15)*1000","v":29.780599175854775},{"$f":"('2004'!M15/'2004 Rate'!AA15)*1000","v":-1.6482904555072948},{"$f":"('2004'!N15/'2004 Rate'!AA15)*1000","v":4.3768793852322085},{"$f":"('2004'!O15/'2004 Rate'!AA15)*1000","v":6.0251698407395038},{"$f":"('2004'!P15/'2004 Rate'!AA15)*1000","v":-1.5926049671455618},{"$f":"('2004'!Q15/'2004 Rate'!AA15)*1000","v":1.5480565764561756},{"$f":"('2004'!R15/'2004 Rate'!AA15)*1000","v":3.1406615436017371},null,{"$f":"('2004'!T15/'2004 Rate'!AA15)*1000","v":1.1137097672346588},{"$f":"('2004'!U15/'2004 Rate'!AA15)*1000","v":0.90210491146007343},{"$f":"('2004'!V15/'2004 Rate'!AA15)*1000","v":16.249025503953671},null,null,null,"East Renfrewshire",{"$f":"'Population estimates'!B15","v":89790}]
[14,"Edinburgh, City of",null,{"$f":"('2004'!D16/'2004 Rate'!AA16)*1000","v":5.0104290488258902},{"$f":"('2004'!E16/'2004 Rate'!AA16)*1000","v":-1.7538744477089736},{"$f":"('2004'!F16/'2004 Rate'!AA16)*1000","v":7.6210554645973039},{"$f":"('2004'!G16/'2004 Rate'!AA16)*1000","v":-0.85675196806243981},{"$f":"('2004'!H16/'2004 Rate'!AA16)*1000","v":63.976046829793439},{"$f":"('2004'!I16/'2004 Rate'!AA16)*1000","v":58.965617780967548},{"$f":"('2004'!J16/'2004 Rate'!AA16)*1000","v":-6.4054545046762508},{"$f":"('2004'!K16/'2004 Rate'!AA16)*1000","v":24.251463431044922},{"$f":"('2004'!L16/'2004 Rate'!AA16)*1000","v":30.656917935721172},{"$f":"('2004'!M16/'2004 Rate'!AA16)*1000","v":4.5977527081884855},{"$f":"('2004'!N16/'2004 Rate'!AA16)*1000","v":22.203781371251708},{"$f":"('2004'!O16/'2004 Rate'!AA16)*1000","v":17.606028663063224},{"$f":"('2004'!P16/'2004 Rate'!AA16)*1000","v":6.8181308453136564},{"$f":"('2004'!Q16/'2004 Rate'!AA16)*1000","v":17.520802027496806},{"$f":"('2004'!R16/'2004 Rate'!AA16)*1000","v":10.702671182183147},{"$f":"('2004'!S16/'2004 Rate'!AA16)*1000","v":2.6913674389396012},{"$f":"('2004'!T16/'2004 Rate'!AA16)*1000","v":11.415883553502141},{"$f":"('2004'!U16/'2004 Rate'!AA16)*1000","v":1.617063269562877},{"$f":"('2004'!V16/'2004 Rate'!AA16)*1000","v":8.3477246731109958},null,{"$f":"('2004'!X16/'2004 Rate'!AA16)*1000","v":87.469441765537042},null,"Edinburgh, City of",{"$f":"'Population estimates'!B16","v":445870}]
[15,"Eilean Siar",null,{"$f":"('2004'!D17/'2004 Rate'!AA17)*1000","v":9.2307692307692317},{"$f":"('2004'!E17/'2004 Rate'!AA17)*1000","v":3.2645403377110696},{"$f":"('2004'!F17/'2004 Rate'!AA17)*1000","v":4.727954971857411},{"$f":"('2004'!G17/'2004 Rate'!AA17)*1000","v":1.2382739212007505},{"$f":"('2004'!H17/'2004 Rate'!AA17)*1000","v":46.266416510318955},{"$f":"('2004'!I17/'2004 Rate'!AA17)*1000","v":37.035647279549721},{"$f":"('2004'!J17/'2004 Rate'!AA17)*1000","v":-1.5384615384615385},{"$f":"('2004'!K17/'2004 Rate'!AA17)*1000","v":24.277673545966231},{"$f":"('2004'!L17/'2004 Rate'!AA17)*1000","v":25.816135084427767},{"$f":"('2004'!M17/'2004 Rate'!AA17)*1000","v":12.120075046904315},{"$f":"('2004'!N17/'2004 Rate'!AA17)*1000","v":20.262664165103192},{"$f":"('2004'!O17/'2004 Rate'!AA17)*1000","v":8.1425891181988739},{"$f":"('2004'!P17/'2004 Rate'!AA17)*1000","v":-1.3508442776735459},{"$f":"('2004'!Q17/'2004 Rate'!AA17)*1000","v":1.726078799249531},{"$f":"('2004'!R17/'2004 Rate'!AA17)*1000","v":3.0769230769230771},{"$f":"('2004'!S17/'2004 Rate'!AA17)*1000","v":1.3133208255159474},{"$f":"('2004'!T17/'2004 Rate'!AA17)*1000","v":2.2514071294559099},{"$f":"('2004'!U17/'2004 Rate'!AA17)*1000","v":0.41275797373358347},{"$f":"('2004'!V17/'2004 Rate'!AA17)*1000","v":2.1388367729831144},null,null,null,"Eilean Siar",{"$f":"'Population estimates'!B17","v":26650}]
[16,"Falkirk",null,{"$f":"('2004'!D18/'2004 Rate'!AA18)*1000","v":10.182063385030345},{"$f":"('2004'!E18/'2004 Rate'!AA18)*1000","v":1.827376938637896},{"$f":"('2004'!F18/'2004 Rate'!AA18)*1000","v":7.8759271746459882},{"$f":"('2004'!G18/'2004 Rate'!AA18)*1000","v":0.47875927174645988},{"$f":"('2004'!H18/'2004 Rate'!AA18)*1000","v":31.84760620364127},{"$f":"('2004'!I18/'2004 Rate'!AA18)*1000","v":21.665542818610923},{"$f":"('2004'!J18/'2004 Rate'!AA18)*1000","v":7.0734996628455837},{"$f":"('2004'!K18/'2004 Rate'!AA18)*1000","v":21.968981793661495},{"$f":"('2004'!L18/'2004 Rate'!AA18)*1000","v":14.895482130815914},{"$f":"('2004'!M18/'2004 Rate'!AA18)*1000","v":2.6567768037761295},{"$f":"('2004'!N18/'2004 Rate'!AA18)*1000","v":7.2353337828725559},{"$f":"('2004'!O18/'2004 Rate'!AA18)*1000","v":4.578556979096426},{"$f":"('2004'!P18/'2004 Rate'!AA18)*1000","v":0.45178691840863111},{"$f":"('2004'!Q18/'2004 Rate'!AA18)*1000","v":2.643290627107215},{"$f":"('2004'!R18/'2004 Rate'!AA18)*1000","v":2.1915037086985838},{"$f":"('2004'!S18/'2004 Rate'!AA18)*1000","v":0.16857720836142953},{"$f":"('2004'!T18/'2004 Rate'!AA18)*1000","v":1.078894133513149},{"$f":"('2004'!U18/'2004 Rate'!AA18)*1000","v":0.52596089008766012},{"$f":"('2004'!V18/'2004 Rate'!AA18)*1000","v":3.1085637221847606},null,null,null,"Falkirk",{"$f":"'Population estimates'!B18","v":148300}]
[17,"Fife",null,{"$f":"('2004'!D19/'2004 Rate'!AA19)*1000","v":6.6506160600481516},{"$f":"('2004'!E19/'2004 Rate'!AA19)*1000","v":1.2831043761506871},{"$f":"('2004'!F19/'2004 Rate'!AA19)*1000","v":4.9114856252655432},{"$f":"('2004'!G19/'2004 Rate'!AA19)*1000","v":0.4560260586319218},{"$f":"('2004'!H19/'2004 Rate'!AA19)*1000","v":35.615351933153946},{"$f":"('2004'!I19/'2004 Rate'!AA19)*1000","v":28.964735873105791},{"$f":"('2004'!J19/'2004 Rate'!AA19)*1000","v":3.6878629089364114},{"$f":"('2004'!K19/'2004 Rate'!AA19)*1000","v":19.728083840815746},{"$f":"('2004'!L19/'2004 Rate'!AA19)*1000","v":16.04022093187934},{"$f":"('2004'!M19/'2004 Rate'!AA19)*1000","v":2.7163291318510128},{"$f":"('2004'!N19/'2004 Rate'!AA19)*1000","v":11.250531086248406},{"$f":"('2004'!O19/'2004 Rate'!AA19)*1000","v":8.5342019543973944},{"$f":"('2004'!P19/'2004 Rate'!AA19)*1000","v":0.24642401926072796},{"$f":"('2004'!Q19/'2004 Rate'!AA19)*1000","v":4.6367370060897892},{"$f":"('2004'!R19/'2004 Rate'!AA19)*1000","v":4.3903129868290609},{"$f":"('2004'!S19/'2004 Rate'!AA19)*1000","v":1.3595807959212578},{"$f":"('2004'!T19/'2004 Rate'!AA19)*1000","v":2.0676957937969127},{"$f":"('2004'!U19/'2004 Rate'!AA19)*1000","v":0.62314119813057645},{"$f":"('2004'!V19/'2004 Rate'!AA19)*1000","v":2.8069678515790963},null,{"$f":"('2004'!X19/'2004 Rate'!AA19)*1000","v":36.821979889534063},null,"Fife",{"$f":"'Population estimates'!B19","v":353050}]
[18,"Glasgow City",null,{"$f":"('2004'!D20/'2004 Rate'!AA20)*1000","v":-6.0011236744153384},{"$f":"('2004'!E20/'2004 Rate'!AA20)*1000","v":-2.6950628555376079},{"$f":"('2004'!F20/'2004 Rate'!AA20)*1000","v":-2.0542172905400662},{"$f":"('2004'!G20/'2004 Rate'!AA20)*1000","v":-1.2518435283376641},{"$f":"('2004'!H20/'2004 Rate'!AA20)*1000","v":46.72203104150573},{"$f":"('2004'!I20/'2004 Rate'!AA20)*1000","v":52.723154715921062},{"$f":"('2004'!J20/'2004 Rate'!AA20)*1000","v":-7.9921342790926326},{"$f":"('2004'!K20/'2004 Rate'!AA20)*1000","v":23.021279584240467},{"$f":"('2004'!L20/'2004 Rate'!AA20)*1000","v":31.013413863333099},{"$f":"('2004'!M20/'2004 Rate'!AA20)*1000","v":6.1450944588805401E-2},{"$f":"('2004'!N20/'2004 Rate'!AA20)*1000","v":11.061170025984971},{"$f":"('2004'!O20/'2004 Rate'!AA20)*1000","v":10.999719081396165},{"$f":"('2004'!P20/'2004 Rate'!AA20)*1000","v":1.9295596600884892},{"$f":"('2004'!Q20/'2004 Rate'!AA20)*1000","v":12.639581431280286},{"$f":"('2004'!R20/'2004 Rate'!AA20)*1000","v":10.710021771191796},{"$f":"('2004'!S20/'2004 Rate'!AA20)*1000","v":1.0973382962286677},{"$f":"('2004'!T20/'2004 Rate'!AA20)*1000","v":5.7763887913477072},{"$f":"('2004'!U20/'2004 Rate'!AA20)*1000","v":1.8207037011026055},{"$f":"('2004'!V20/'2004 Rate'!AA20)*1000","v":13.542032446098744},null,{"$f":"('2004'!X20/'2004 Rate'!AA20)*1000","v":75.496874780532337},null,"Glasgow City",{"$f":"'Population estimates'!B20","v":569560}]
[19,"Highland",null,{"$f":"('2004'!D21/'2004 Rate'!AA21)*1000","v":13.282997762863534},{"$f":"('2004'!E21/'2004 Rate'!AA21)*1000","v":3.4629008202833709},{"$f":"('2004'!F21/'2004 Rate'!AA21)*1000","v":8.473154362416107},{"$f":"('2004'!G21/'2004 Rate'!AA21)*1000","v":1.3469425801640567},{"$f":"('2004'!H21/'2004 Rate'!AA21)*1000","v":45.642244593586874},{"$f":"('2004'!I21/'2004 Rate'!AA21)*1000","v":32.359246830723336},{"$f":"('2004'!J21/'2004 Rate'!AA21)*1000","v":0.10719612229679344},{"$f":"('2004'!K21/'2004 Rate'!AA21)*1000","v":20.003728560775539},{"$f":"('2004'!L21/'2004 Rate'!AA21)*1000","v":19.896532438478747},{"$f":"('2004'!M21/'2004 Rate'!AA21)*1000","v":13.147837434750187},{"$f":"('2004'!N21/'2004 Rate'!AA21)*1000","v":22.189597315436242},{"$f":"('2004'!O21/'2004 Rate'!AA21)*1000","v":9.0417598806860546},{"$f":"('2004'!P21/'2004 Rate'!AA21)*1000","v":2.7964205816554812E-2},{"$f":"('2004'!Q21/'2004 Rate'!AA21)*1000","v":3.4489187173750935},{"$f":"('2004'!R21/'2004 Rate'!AA21)*1000","v":3.4209545115585387},{"$f":"('2004'!S21/'2004 Rate'!AA21)*1000","v":4.0315063385533181},{"$f":"('2004'!T21/'2004 Rate'!AA21)*1000","v":5.6860551826994774},{"$f":"('2004'!U21/'2004 Rate'!AA21)*1000","v":0.70376584638329609},{"$f":"('2004'!V21/'2004 Rate'!AA21)*1000","v":2.0973154362416109},null,null,null,"Highland",{"$f":"'Population estimates'!B21","v":214560}]
[20,"Inverclyde",null,{"$f":"('2004'!D22/'2004 Rate'!AA22)*1000","v":-7.2439230862256618},{"$f":"('2004'!E22/'2004 Rate'!AA22)*1000","v":-0.83444189140162051},{"$f":"('2004'!F22/'2004 Rate'!AA22)*1000","v":-5.865279961301245},{"$f":"('2004'!G22/'2004 Rate'!AA22)*1000","v":-0.54420123352279592},{"$f":"('2004'!H22/'2004 Rate'!AA22)*1000","v":21.139194582174387},{"$f":"('2004'!I22/'2004 Rate'!AA22)*1000","v":28.38311766840005},{"$f":"('2004'!J22/'2004 Rate'!AA22)*1000","v":-3.6280082234853066},{"$f":"('2004'!K22/'2004 Rate'!AA22)*1000","v":12.613375256983916},{"$f":"('2004'!L22/'2004 Rate'!AA22)*1000","v":16.241383480469221},{"$f":"('2004'!M22/'2004 Rate'!AA22)*1000","v":-1.4995767323739269},{"$f":"('2004'!N22/'2004 Rate'!AA22)*1000","v":6.0345870117305598},{"$f":"('2004'!O22/'2004 Rate'!AA22)*1000","v":7.534163744104486},{"$f":"('2004'!P22/'2004 Rate'!AA22)*1000","v":-2.1163381303664286},{"$f":"('2004'!Q22/'2004 Rate'!AA22)*1000","v":2.4912323134599106},{"$f":"('2004'!R22/'2004 Rate'!AA22)*1000","v":4.6075704438263392},{"$f":"('2004'!S22/'2004 Rate'!AA22)*1000","v":6.046680372475511E-2},{"$f":"('2004'!T22/'2004 Rate'!AA22)*1000","v":2.5396057564397148},{"$f":"('2004'!U22/'2004 Rate'!AA22)*1000","v":0.48373442979804088},{"$f":"('2004'!V22/'2004 Rate'!AA22)*1000","v":2.8782198572983431},null,null,null,"Inverclyde",{"$f":"'Population estimates'!B22","v":82690}]
[21,"Midlothian",null,{"$f":"('2004'!D23/'2004 Rate'!AA23)*1000","v":-3.2780755328430762},{"$f":"('2004'!E23/'2004 Rate'!AA23)*1000","v":-0.68552910382649879},{"$f":"('2004'!F23/'2004 Rate'!AA23)*1000","v":-2.1563006356724417},{"$f":"('2004'!G23/'2004 Rate'!AA23)*1000","v":-0.4362457933441356},{"$f":"('2004'!H23/'2004 Rate'!AA23)*1000","v":32.494079521376044},{"$f":"('2004'!I23/'2004 Rate'!AA23)*1000","v":35.77215505421912},{"$f":"('2004'!J23/'2004 Rate'!AA23)*1000","v":-2.9664713947401222},{"$f":"('2004'!K23/'2004 Rate'!AA23)*1000","v":25.626324317586938},{"$f":"('2004'!L23/'2004 Rate'!AA23)*1000","v":28.59279571232706},{"$f":"('2004'!M23/'2004 Rate'!AA23)*1000","v":-3.7392496572354481E-2},{"$f":"('2004'!N23/'2004 Rate'!AA23)*1000","v":5.2723420167019821},{"$f":"('2004'!O23/'2004 Rate'!AA23)*1000","v":5.3097345132743365},{"$f":"('2004'!P23/'2004 Rate'!AA23)*1000","v":-0.27421164153059951},{"$f":"('2004'!Q23/'2004 Rate'!AA23)*1000","v":1.5954131870871247},{"$f":"('2004'!R23/'2004 Rate'!AA23)*1000","v":1.8696248286177239},{"$f":"('2004'!S23/'2004 Rate'!AA23)*1000","v":0.8724915866882712},{"$f":"('2004'!T23/'2004 Rate'!AA23)*1000","v":0.99713324192945296},{"$f":"('2004'!U23/'2004 Rate'!AA23)*1000","v":0.49856662096472648},{"$f":"('2004'!V23/'2004 Rate'!AA23)*1000","v":2.5426897669201045},null,null,null,"Midlothian",{"$f":"'Population estimates'!B23","v":80230}]
[22,"Moray",null,{"$f":"('2004'!D24/'2004 Rate'!AA24)*1000","v":10.964421570821214},{"$f":"('2004'!E24/'2004 Rate'!AA24)*1000","v":1.6782277914522266},{"$f":"('2004'!F24/'2004 Rate'!AA24)*1000","v":7.7981651376146797},{"$f":"('2004'!G24/'2004 Rate'!AA24)*1000","v":1.4880286417543074},{"$f":"('2004'!H24/'2004 Rate'!AA24)*1000","v":45.379279480868199},{"$f":"('2004'!I24/'2004 Rate'!AA24)*1000","v":34.41485791004699},{"$f":"('2004'!J24/'2004 Rate'!AA24)*1000","v":2.1593197583351977},{"$f":"('2004'!K24/'2004 Rate'!AA24)*1000","v":20.821212799283956},{"$f":"('2004'!L24/'2004 Rate'!AA24)*1000","v":18.661893040948758},{"$f":"('2004'!M24/'2004 Rate'!AA24)*1000","v":9.6889684493175192},{"$f":"('2004'!N24/'2004 Rate'!AA24)*1000","v":21.872902215260684},{"$f":"('2004'!O24/'2004 Rate'!AA24)*1000","v":12.183933765943165},{"$f":"('2004'!P24/'2004 Rate'!AA24)*1000","v":-0.8838666368315059},{"$f":"('2004'!Q24/'2004 Rate'!AA24)*1000","v":2.6851644663235623},{"$f":"('2004'!R24/'2004 Rate'!AA24)*1000","v":3.5690311031550683},{"$f":"('2004'!S24/'2004 Rate'!AA24)*1000","v":0.78317296934437231},{"$f":"('2004'!T24/'2004 Rate'!AA24)*1000","v":2.6851644663235623},{"$f":"('2004'!U24/'2004 Rate'!AA24)*1000","v":0.71604385768628331},{"$f":"('2004'!V24/'2004 Rate'!AA24)*1000","v":2.0474379055717162},null,null,null,"Moray",{"$f":"'Population estimates'!B24","v":89380}]
[23,"North Ayrshire",null,{"$f":"('2004'!D25/'2004 Rate'!AA25)*1000","v":1.5091575091575093},{"$f":"('2004'!E25/'2004 Rate'!AA25)*1000","v":1.0036630036630036},{"$f":"('2004'!F25/'2004 Rate'!AA25)*1000","v":-0.52747252747252737},{"$f":"('2004'!G25/'2004 Rate'!AA25)*1000","v":1.0329670329670331},{"$f":"('2004'!H25/'2004 Rate'!AA25)*1000","v":32.600732600732606},{"$f":"('2004'!I25/'2004 Rate'!AA25)*1000","v":31.091575091575091},{"$f":"('2004'!J25/'2004 Rate'!AA25)*1000","v":1.8095238095238095},{"$f":"('2004'!K25/'2004 Rate'!AA25)*1000","v":22.835164835164836},{"$f":"('2004'!L25/'2004 Rate'!AA25)*1000","v":21.025641025641026},{"$f":"('2004'!M25/'2004 Rate'!AA25)*1000","v":0.73260073260073255},{"$f":"('2004'!N25/'2004 Rate'!AA25)*1000","v":8.0659340659340657},{"$f":"('2004'!O25/'2004 Rate'!AA25)*1000","v":7.333333333333333},{"$f":"('2004'!P25/'2004 Rate'!AA25)*1000","v":-1.0329670329670331},{"$f":"('2004'!Q25/'2004 Rate'!AA25)*1000","v":1.6996336996336996},{"$f":"('2004'!R25/'2004 Rate'!AA25)*1000","v":2.7326007326007327},{"$f":"('2004'!S25/'2004 Rate'!AA25)*1000","v":0.21978021978021978},{"$f":"('2004'!T25/'2004 Rate'!AA25)*1000","v":1.7582417582417582},{"$f":"('2004'!U25/'2004 Rate'!AA25)*1000","v":0.35164835164835162},{"$f":"('2004'!V25/'2004 Rate'!AA25)*1000","v":2.0586080586080584},null,null,null,"North Ayrshire",{"$f":"'Population estimates'!B25","v":136500}]
[24,"North Lanarkshire",null,{"$f":"('2004'!D26/'2004 Rate'!AA26)*1000","v":0.70067609096496619},{"$f":"('2004'!E26/'2004 Rate'!AA26)*1000","v":5.5316533497234172E-2},{"$f":"('2004'!F26/'2004 Rate'!AA26)*1000","v":0.56545789797172719},{"$f":"('2004'!G26/'2004 Rate'!AA26)*1000","v":7.9901659496004918E-2},{"$f":"('2004'!H26/'2004 Rate'!AA26)*1000","v":24.210202827289489},{"$f":"('2004'!I26/'2004 Rate'!AA26)*1000","v":23.509526736324524},{"$f":"('2004'!J26/'2004 Rate'!AA26)*1000","v":1.2661339889366934},{"$f":"('2004'!K26/'2004 Rate'!AA26)*1000","v":17.907191149354638},{"$f":"('2004'!L26/'2004 Rate'!AA26)*1000","v":16.641057160417947},{"$f":"('2004'!M26/'2004 Rate'!AA26)*1000","v":0.46097111247695144},{"$f":"('2004'!N26/'2004 Rate'!AA26)*1000","v":5.0245851259987715},{"$f":"('2004'!O26/'2004 Rate'!AA26)*1000","v":4.5636140135218195},{"$f":"('2004'!P26/'2004 Rate'!AA26)*1000","v":-1.0264290104486786},{"$f":"('2004'!Q26/'2004 Rate'!AA26)*1000","v":1.2784265519360787},{"$f":"('2004'!R26/'2004 Rate'!AA26)*1000","v":2.3048555623847573},{"$f":"('2004'!S26/'2004 Rate'!AA26)*1000","v":0.38414259373079285},{"$f":"('2004'!T26/'2004 Rate'!AA26)*1000","v":0.92194222495390288},{"$f":"('2004'!U26/'2004 Rate'!AA26)*1000","v":0.43331284572833434},{"$f":"('2004'!V26/'2004 Rate'!AA26)*1000","v":3.4204056545789796},null,null,null,"North Lanarkshire",{"$f":"'Population estimates'!B26","v":325400}]
[25,"Orkney Islands",null,{"$f":"('2004'!D27/'2004 Rate'!AA27)*1000","v":13.161875945537066},{"$f":"('2004'!E27/'2004 Rate'!AA27)*1000","v":4.8411497730711037},{"$f":"('2004'!F27/'2004 Rate'!AA27)*1000","v":6.8078668683812404},{"$f":"('2004'!G27/'2004 Rate'!AA27)*1000","v":1.5128593040847202},{"$f":"('2004'!H27/'2004 Rate'!AA27)*1000","v":45.234493192133129},{"$f":"('2004'!I27/'2004 Rate'!AA27)*1000","v":32.072617246596067},{"$f":"('2004'!J27/'2004 Rate'!AA27)*1000","v":-2.2692889561270801},{"$f":"('2004'!K27/'2004 Rate'!AA27)*1000","v":19.364599092284415},{"$f":"('2004'!L27/'2004 Rate'!AA27)*1000","v":21.633888048411496},{"$f":"('2004'!M27/'2004 Rate'!AA27)*1000","v":16.338880484114977},{"$f":"('2004'!N27/'2004 Rate'!AA27)*1000","v":23.903177004538581},{"$f":"('2004'!O27/'2004 Rate'!AA27)*1000","v":7.5642965204236008},{"$f":"('2004'!P27/'2004 Rate'!AA27)*1000","v":-0.90771558245083206},{"$f":"('2004'!Q27/'2004 Rate'!AA27)*1000","v":1.9667170953101363},{"$f":"('2004'!R27/'2004 Rate'!AA27)*1000","v":2.8744326777609683},null,{"$f":"('2004'!T27/'2004 Rate'!AA27)*1000","v":1.5128593040847202},{"$f":"('2004'!U27/'2004 Rate'!AA27)*1000","v":0.30257186081694398},{"$f":"('2004'!V27/'2004 Rate'!AA27)*1000","v":1.2102874432677759},null,null,null,"Orkney Islands",{"$f":"'Population estimates'!B27","v":19830}]
[26,"Perth & Kinross",null,{"$f":"('2004'!D28/'2004 Rate'!AA28)*1000","v":12.162162162162163},{"$f":"('2004'!E28/'2004 Rate'!AA28)*1000","v":3.8422205989773559},{"$f":"('2004'!F28/'2004 Rate'!AA28)*1000","v":6.6471877282688094},{"$f":"('2004'!G28/'2004 Rate'!AA28)*1000","v":1.6727538349159972},{"$f":"('2004'!H28/'2004 Rate'!AA28)*1000","v":50.54054054054054},{"$f":"('2004'!I28/'2004 Rate'!AA28)*1000","v":38.378378378378372},{"$f":"('2004'!J28/'2004 Rate'!AA28)*1000","v":3.8860482103725347},{"$f":"('2004'!K28/'2004 Rate'!AA28)*1000","v":29.569028487947406},{"$f":"('2004'!L28/'2004 Rate'!AA28)*1000","v":25.682980277574874},{"$f":"('2004'!M28/'2004 Rate'!AA28)*1000","v":7.4945215485756034},{"$f":"('2004'!N28/'2004 Rate'!AA28)*1000","v":16.201607012417824},{"$f":"('2004'!O28/'2004 Rate'!AA28)*1000","v":8.7070854638422208},{"$f":"('2004'!P28/'2004 Rate'!AA28)*1000","v":0.78159240321402479},{"$f":"('2004'!Q28/'2004 Rate'!AA28)*1000","v":4.7699050401753107},{"$f":"('2004'!R28/'2004 Rate'!AA28)*1000","v":3.9883126369612856},{"$f":"('2004'!S28/'2004 Rate'!AA28)*1000","v":7.8889700511322136},{"$f":"('2004'!T28/'2004 Rate'!AA28)*1000","v":5.9167275383491598},{"$f":"('2004'!U28/'2004 Rate'!AA28)*1000","v":0.67202337472607743},{"$f":"('2004'!V28/'2004 Rate'!AA28)*1000","v":1.701972242512783},null,null,null,"Perth & Kinross",{"$f":"'Population estimates'!B28","v":136900}]
[27,"Renfrewshire",null,{"$f":"('2004'!D29/'2004 Rate'!AA29)*1000","v":-1.5629556190587275},{"$f":"('2004'!E29/'2004 Rate'!AA29)*1000","v":-8.1646935323963374E-2},{"$f":"('2004'!F29/'2004 Rate'!AA29)*1000","v":-1.1197293987286407},{"$f":"('2004'!G29/'2004 Rate'!AA29)*1000","v":-0.36157928500612352},{"$f":"('2004'!H29/'2004 Rate'!AA29)*1000","v":28.22068000233277},{"$f":"('2004'!I29/'2004 Rate'!AA29)*1000","v":29.783635621391497},{"$f":"('2004'!J29/'2004 Rate'!AA29)*1000","v":-1.8137283489823293},{"$f":"('2004'!K29/'2004 Rate'!AA29)*1000","v":19.058727474193738},{"$f":"('2004'!L29/'2004 Rate'!AA29)*1000","v":20.872455823176068},{"$f":"('2004'!M29/'2004 Rate'!AA29)*1000","v":-0.83979704904648045},{"$f":"('2004'!N29/'2004 Rate'!AA29)*1000","v":5.3478742637196008},{"$f":"('2004'!O29/'2004 Rate'!AA29)*1000","v":6.1876713127660814},{"$f":"('2004'!P29/'2004 Rate'!AA29)*1000","v":1.0905697789700823},{"$f":"('2004'!Q29/'2004 Rate'!AA29)*1000","v":3.814078264419432},{"$f":"('2004'!R29/'2004 Rate'!AA29)*1000","v":2.7235084854493499},{"$f":"('2004'!S29/'2004 Rate'!AA29)*1000","v":0.34991543710270018},{"$f":"('2004'!T29/'2004 Rate'!AA29)*1000","v":1.6329387064792675},{"$f":"('2004'!U29/'2004 Rate'!AA29)*1000","v":0.53070507960576185},{"$f":"('2004'!V29/'2004 Rate'!AA29)*1000","v":3.3533562722342101},null,null,null,"Renfrewshire",{"$f":"'Population estimates'!B29","v":171470}]
[28,"Scottish Borders",null,{"$f":"('2004'!D30/'2004 Rate'!AA30)*1000","v":12.653023935684269},{"$f":"('2004'!E30/'2004 Rate'!AA30)*1000","v":3.0330714416225102},{"$f":"('2004'!F30/'2004 Rate'!AA30)*1000","v":7.7562579937876848},{"$f":"('2004'!G30/'2004 Rate'!AA30)*1000","v":1.8636945002740728},{"$f":"('2004'!H30/'2004 Rate'!AA30)*1000","v":49.479261830805775},{"$f":"('2004'!I30/'2004 Rate'!AA30)*1000","v":36.826237895121501},{"$f":"('2004'!J30/'2004 Rate'!AA30)*1000","v":3.5355380961081675},{"$f":"('2004'!K30/'2004 Rate'!AA30)*1000","v":23.853462452037274},{"$f":"('2004'!L30/'2004 Rate'!AA30)*1000","v":20.317924355929108},{"$f":"('2004'!M30/'2004 Rate'!AA30)*1000","v":9.6747670381874666},{"$f":"('2004'!N30/'2004 Rate'!AA30)*1000","v":22.30038370180888},{"$f":"('2004'!O30/'2004 Rate'!AA30)*1000","v":12.625616663621415},{"$f":"('2004'!P30/'2004 Rate'!AA30)*1000","v":-0.55728119861136483},{"$f":"('2004'!Q30/'2004 Rate'!AA30)*1000","v":3.3254156769596199},{"$f":"('2004'!R30/'2004 Rate'!AA30)*1000","v":3.8826968755709848},{"$f":"('2004'!S30/'2004 Rate'!AA30)*1000","v":1.4160423899141239},{"$f":"('2004'!T30/'2004 Rate'!AA30)*1000","v":2.4666544856568611},{"$f":"('2004'!U30/'2004 Rate'!AA30)*1000","v":0.57555271331993429},{"$f":"('2004'!V30/'2004 Rate'!AA30)*1000","v":1.5439429928741093},null,{"$f":"('2004'!X30/'2004 Rate'!AA30)*1000","v":36.543029417138683},null,"Scottish Borders",{"$f":"'Population estimates'!B30","v":109460}]
[29,"Shetland Islands",null,{"$f":"('2004'!D31/'2004 Rate'!AA31)*1000","v":3.2593933906745134},{"$f":"('2004'!E31/'2004 Rate'!AA31)*1000","v":2.8519692168401991},{"$f":"('2004'!F31/'2004 Rate'!AA31)*1000","v":-0.49796287913082848},{"$f":"('2004'!G31/'2004 Rate'!AA31)*1000","v":0.90538705296514255},{"$f":"('2004'!H31/'2004 Rate'!AA31)*1000","v":36.894522408329564},{"$f":"('2004'!I31/'2004 Rate'!AA31)*1000","v":33.635129017655053},{"$f":"('2004'!J31/'2004 Rate'!AA31)*1000","v":-3.8478949751018563},{"$f":"('2004'!K31/'2004 Rate'!AA31)*1000","v":16.613852421910366},{"$f":"('2004'!L31/'2004 Rate'!AA31)*1000","v":20.461747397012225},{"$f":"('2004'!M31/'2004 Rate'!AA31)*1000","v":8.0126754187415123},{"$f":"('2004'!N31/'2004 Rate'!AA31)*1000","v":17.609778180172022},{"$f":"('2004'!O31/'2004 Rate'!AA31)*1000","v":9.5971027614305129},{"$f":"('2004'!P31/'2004 Rate'!AA31)*1000","v":-0.90538705296514255},{"$f":"('2004'!Q31/'2004 Rate'!AA31)*1000","v":2.6708918062471705},{"$f":"('2004'!R31/'2004 Rate'!AA31)*1000","v":3.5762788592123131},{"$f":"('2004'!S31/'2004 Rate'!AA31)*1000","v":2.4898143956541423},{"$f":"('2004'!T31/'2004 Rate'!AA31)*1000","v":4.074241738343142},{"$f":"('2004'!U31/'2004 Rate'!AA31)*1000","v":0.63377093707559984},{"$f":"('2004'!V31/'2004 Rate'!AA31)*1000","v":1.8107741059302851},null,null,null,"Shetland Islands",{"$f":"'Population estimates'!B31","v":22090}]
[30,"South Ayrshire",null,{"$f":"('2004'!D32/'2004 Rate'!AA32)*1000","v":6.1158798283261806},{"$f":"('2004'!E32/'2004 Rate'!AA32)*1000","v":0.80472103004291851},{"$f":"('2004'!F32/'2004 Rate'!AA32)*1000","v":3.3619456366237483},{"$f":"('2004'!G32/'2004 Rate'!AA32)*1000","v":1.9492131616595136},{"$f":"('2004'!H32/'2004 Rate'!AA32)*1000","v":36.158798283261802},{"$f":"('2004'!I32/'2004 Rate'!AA32)*1000","v":30.042918454935624},{"$f":"('2004'!J32/'2004 Rate'!AA32)*1000","v":4.6137339055793989},{"$f":"('2004'!K32/'2004 Rate'!AA32)*1000","v":24.19527896995708},{"$f":"('2004'!L32/'2004 Rate'!AA32)*1000","v":19.581545064377682},{"$f":"('2004'!M32/'2004 Rate'!AA32)*1000","v":3.2546494992846924},{"$f":"('2004'!N32/'2004 Rate'!AA32)*1000","v":10.559728183118741},{"$f":"('2004'!O32/'2004 Rate'!AA32)*1000","v":7.3050786838340489},{"$f":"('2004'!P32/'2004 Rate'!AA32)*1000","v":-1.7525035765379113},{"$f":"('2004'!Q32/'2004 Rate'!AA32)*1000","v":1.40379113018598},{"$f":"('2004'!R32/'2004 Rate'!AA32)*1000","v":3.1562947067238913},{"$f":"('2004'!S32/'2004 Rate'!AA32)*1000","v":0.13412017167381973},{"$f":"('2004'!T32/'2004 Rate'!AA32)*1000","v":1.609442060085837},{"$f":"('2004'!U32/'2004 Rate'!AA32)*1000","v":0.35765379113018597},{"$f":"('2004'!V32/'2004 Rate'!AA32)*1000","v":2.6734620886981402},null,null,null,"South Ayrshire",{"$f":"'Population estimates'!B32","v":111840}]
[31,"South Lanarkshire",null,{"$f":"('2004'!D33/'2004 Rate'!AA33)*1000","v":6.9584846402983613},{"$f":"('2004'!E33/'2004 Rate'!AA33)*1000","v":1.5474204207151503},{"$f":"('2004'!F33/'2004 Rate'!AA33)*1000","v":4.1613504760035331},{"$f":"('2004'!G33/'2004 Rate'!AA33)*1000","v":1.2497137435796775},{"$f":"('2004'!H33/'2004 Rate'!AA33)*1000","v":32.845879543298331},{"$f":"('2004'!I33/'2004 Rate'!AA33)*1000","v":25.887394902999969},{"$f":"('2004'!J33/'2004 Rate'!AA33)*1000","v":6.6051624300716458},{"$f":"('2004'!K33/'2004 Rate'!AA33)*1000","v":24.140412863545656},{"$f":"('2004'!L33/'2004 Rate'!AA33)*1000","v":17.535250433474008},{"$f":"('2004'!M33/'2004 Rate'!AA33)*1000","v":1.5572349265547814},{"$f":"('2004'!N33/'2004 Rate'!AA33)*1000","v":7.3019923446854449},{"$f":"('2004'!O33/'2004 Rate'!AA33)*1000","v":5.7447574181306633},{"$f":"('2004'!P33/'2004 Rate'!AA33)*1000","v":-1.2039127163280663},{"$f":"('2004'!Q33/'2004 Rate'!AA33)*1000","v":1.4034743350672294},{"$f":"('2004'!R33/'2004 Rate'!AA33)*1000","v":2.6073870513952957},{"$f":"('2004'!S33/'2004 Rate'!AA33)*1000","v":0.21264762652533781},{"$f":"('2004'!T33/'2004 Rate'!AA33)*1000","v":1.2431707396865901},{"$f":"('2004'!U33/'2004 Rate'!AA33)*1000","v":0.40566624137141366},{"$f":"('2004'!V33/'2004 Rate'!AA33)*1000","v":3.5692086236791312},null,null,null,"South Lanarkshire",{"$f":"'Population estimates'!B33","v":305670}]
[32,"Stirling",null,{"$f":"('2004'!D34/'2004 Rate'!AA34)*1000","v":-0.11506155793349443},{"$f":"('2004'!E34/'2004 Rate'!AA34)*1000","v":3.9235991255321601},{"$f":"('2004'!F34/'2004 Rate'!AA34)*1000","v":-4.6830054078932228},{"$f":"('2004'!G34/'2004 Rate'!AA34)*1000","v":0.64434472442756874},{"$f":"('2004'!H34/'2004 Rate'!AA34)*1000","v":54.711770797376595},{"$f":"('2004'!I34/'2004 Rate'!AA34)*1000","v":54.826832355310096},{"$f":"('2004'!J34/'2004 Rate'!AA34)*1000","v":-4.6369807847198254},{"$f":"('2004'!K34/'2004 Rate'!AA34)*1000","v":30.986077551490048},{"$f":"('2004'!L34/'2004 Rate'!AA34)*1000","v":35.623058336209873},{"$f":"('2004'!M34/'2004 Rate'!AA34)*1000","v":3.7164883212518696},{"$f":"('2004'!N34/'2004 Rate'!AA34)*1000","v":15.763433436888734},{"$f":"('2004'!O34/'2004 Rate'!AA34)*1000","v":12.046945115636866},{"$f":"('2004'!P34/'2004 Rate'!AA34)*1000","v":0.80543090553446084},{"$f":"('2004'!Q34/'2004 Rate'!AA34)*1000","v":7.962259808997814},{"$f":"('2004'!R34/'2004 Rate'!AA34)*1000","v":7.156828903463353},{"$f":"('2004'!S34/'2004 Rate'!AA34)*1000","v":1.3807386952019329},{"$f":"('2004'!T34/'2004 Rate'!AA34)*1000","v":2.7614773904038659},{"$f":"('2004'!U34/'2004 Rate'!AA34)*1000","v":0.92049246346795544},{"$f":"('2004'!V34/'2004 Rate'!AA34)*1000","v":3.440340582211483},null,{"$f":"('2004'!X34/'2004 Rate'!AA34)*1000","v":46.024623173397771},null,"Stirling",{"$f":"'Population estimates'!B34","v":86910}]
[33,"West Dunbartonshire",null,{"$f":"('2004'!D35/'2004 Rate'!AA35)*1000","v":-4.066543438077634},{"$f":"('2004'!E35/'2004 Rate'!AA35)*1000","v":-1.6418397303468522},{"$f":"('2004'!F35/'2004 Rate'!AA35)*1000","v":-2.1311297162118081},{"$f":"('2004'!G35/'2004 Rate'!AA35)*1000","v":-0.29357399151897356},{"$f":"('2004'!H35/'2004 Rate'!AA35)*1000","v":26.57388278786561},{"$f":"('2004'!I35/'2004 Rate'!AA35)*1000","v":30.640426225943241},{"$f":"('2004'!J35/'2004 Rate'!AA35)*1000","v":-2.2181146025878},{"$f":"('2004'!K35/'2004 Rate'!AA35)*1000","v":19.669457431771232},{"$f":"('2004'!L35/'2004 Rate'!AA35)*1000","v":21.887572034359032},{"$f":"('2004'!M35/'2004 Rate'!AA35)*1000","v":-0.78286397738392954},{"$f":"('2004'!N35/'2004 Rate'!AA35)*1000","v":5.1212351853865394},{"$f":"('2004'!O35/'2004 Rate'!AA35)*1000","v":5.9040991627704686},{"$f":"('2004'!P35/'2004 Rate'!AA35)*1000","v":-1.0655648581059041},{"$f":"('2004'!Q35/'2004 Rate'!AA35)*1000","v":1.7831901707078397},{"$f":"('2004'!R35/'2004 Rate'!AA35)*1000","v":2.8487550288137435},{"$f":"('2004'!S35/'2004 Rate'!AA35)*1000","v":5.436555398499511E-2},{"$f":"('2004'!T35/'2004 Rate'!AA35)*1000","v":0.86984886375992176},{"$f":"('2004'!U35/'2004 Rate'!AA35)*1000","v":0.28270088072197458},{"$f":"('2004'!V35/'2004 Rate'!AA35)*1000","v":1.7614439491138414},null,null,null,"West Dunbartonshire",{"$f":"'Population estimates'!B35","v":91970}]
[34,"West Lothian",null,{"$f":"('2004'!D36/'2004 Rate'!AA36)*1000","v":7.4232603644368353},{"$f":"('2004'!E36/'2004 Rate'!AA36)*1000","v":1.4002690473278707},{"$f":"('2004'!F36/'2004 Rate'!AA36)*1000","v":5.1057845175492238},{"$f":"('2004'!G36/'2004 Rate'!AA36)*1000","v":0.91720679955974072},{"$f":"('2004'!H36/'2004 Rate'!AA36)*1000","v":37.978476213770335},{"$f":"('2004'!I36/'2004 Rate'!AA36)*1000","v":30.555215849333496},{"$f":"('2004'!J36/'2004 Rate'!AA36)*1000","v":8.1142228201051729},{"$f":"('2004'!K36/'2004 Rate'!AA36)*1000","v":28.702458114222818},{"$f":"('2004'!L36/'2004 Rate'!AA36)*1000","v":20.588235294117649},{"$f":"('2004'!M36/'2004 Rate'!AA36)*1000","v":-0.1100648159471689},{"$f":"('2004'!N36/'2004 Rate'!AA36)*1000","v":7.2703925645102121},{"$f":"('2004'!O36/'2004 Rate'!AA36)*1000","v":7.380457380457381},{"$f":"('2004'!P36/'2004 Rate'!AA36)*1000","v":-0.58089763972116903},{"$f":"('2004'!Q36/'2004 Rate'!AA36)*1000","v":2.0056255350372996},{"$f":"('2004'!R36/'2004 Rate'!AA36)*1000","v":2.5865231747584687},{"$f":"('2004'!S36/'2004 Rate'!AA36)*1000","v":0.73376543964779262},{"$f":"('2004'!T36/'2004 Rate'!AA36)*1000","v":1.7121193591781827},{"$f":"('2004'!U36/'2004 Rate'!AA36)*1000","v":0.72765072765072769},{"$f":"('2004'!V36/'2004 Rate'!AA36)*1000","v":3.4486975663446251},null,null,null,"West Lothian",{"$f":"'Population estimates'!B36","v":163540}]
[]
[35,"Not specified"]
[36,"SCOTLAND",null,{"$f":"('2004'!D39/'2004 Rate'!AA39)*1000","v":3.6626477587868536},{"$f":"('2004'!E39/'2004 Rate'!AA39)*1000","v":0.67462580886257695},{"$f":"('2004'!F39/'2004 Rate'!AA39)*1000","v":2.6739177467891353},{"$f":"('2004'!G39/'2004 Rate'!AA39)*1000","v":0.31410420313514154},{"$f":"('2004'!H39/'2004 Rate'!AA39)*1000","v":17.776095037664966},{"$f":"('2004'!I39/'2004 Rate'!AA39)*1000","v":14.113447278878114},null,null,null,{"$f":"('2004'!M39/'2004 Rate'!AA39)*1000","v":3.0529276399897727},{"$f":"('2004'!N39/'2004 Rate'!AA39)*1000","v":12.170603622917609},{"$f":"('2004'!O39/'2004 Rate'!AA39)*1000","v":9.1176759829278371},{"$f":"('2004'!P39/'2004 Rate'!AA39)*1000","v":0.60972011879708121},{"$f":"('2004'!Q39/'2004 Rate'!AA39)*1000","v":5.6054914147473598},{"$f":"('2004'!R39/'2004 Rate'!AA39)*1000","v":4.9957712959502789},null,null,{"$f":"('2004'!U39/'2004 Rate'!AA39)*1000","v":0.82980941329189861},null,null,null,{"$f":"('2004'!Y39/'2004 Rate'!AA4)*1000","v":6.664044214542808},"SCOTLAND",{"$f":"'Population estimates'!B39","v":5084300}]
[37,"Ayrshire & Arran",null,{"$f":"('2004'!D40/'2004 Rate'!AA40)*1000","v":3.4108485062274441},{"$f":"('2004'!E40/'2004 Rate'!AA40)*1000","v":1.1695113016579382},{"$f":"('2004'!F40/'2004 Rate'!AA40)*1000","v":1.3160393997774942},{"$f":"('2004'!G40/'2004 Rate'!AA40)*1000","v":0.92529780479201151},{"$f":"('2004'!H40/'2004 Rate'!AA40)*1000","v":25.769950885952298},{"$f":"('2004'!I40/'2004 Rate'!AA40)*1000","v":22.359102379724856},{"$f":"('2004'!J40/'2004 Rate'!AA40)*1000","v":2.8383035302417716},{"$f":"('2004'!K40/'2004 Rate'!AA40)*1000","v":15.556399750359537},{"$f":"('2004'!L40/'2004 Rate'!AA40)*1000","v":12.718096220117767},{"$f":"('2004'!M40/'2004 Rate'!AA40)*1000","v":1.8451686429870024},{"$f":"('2004'!N40/'2004 Rate'!AA40)*1000","v":8.8025398203674055},{"$f":"('2004'!O40/'2004 Rate'!AA40)*1000","v":6.957371177380403},{"$f":"('2004'!P40/'2004 Rate'!AA40)*1000","v":-1.2726236670013296},{"$f":"('2004'!Q40/'2004 Rate'!AA40)*1000","v":1.4110113152253547},{"$f":"('2004'!R40/'2004 Rate'!AA40)*1000","v":2.6836349822266845},null,null,{"$f":"('2004'!U40/'2004 Rate'!AA40)*1000","v":0.34189889561229753},null,null,null,null,"Ayrshire & Arran",{"$f":"'Population estimates'!B40","v":368530}]
[38,"Borders",null,{"$f":"('2004'!D41/'2004 Rate'!AA41)*1000","v":12.653023935684269},{"$f":"('2004'!E41/'2004 Rate'!AA41)*1000","v":3.0330714416225102},{"$f":"('2004'!F41/'2004 Rate'!AA41)*1000","v":7.7562579937876848},{"$f":"('2004'!G41/'2004 Rate'!AA41)*1000","v":1.8636945002740728},{"$f":"('2004'!H41/'2004 Rate'!AA41)*1000","v":49.479261830805775},{"$f":"('2004'!I41/'2004 Rate'!AA41)*1000","v":36.826237895121501},{"$f":"('2004'!J41/'2004 Rate'!AA41)*1000","v":3.5355380961081675},{"$f":"('2004'!K41/'2004 Rate'!AA41)*1000","v":23.853462452037274},{"$f":"('2004'!L41/'2004 Rate'!AA41)*1000","v":20.317924355929108},{"$f":"('2004'!M41/'2004 Rate'!AA41)*1000","v":9.6747670381874666},{"$f":"('2004'!N41/'2004 Rate'!AA41)*1000","v":22.30038370180888},{"$f":"('2004'!O41/'2004 Rate'!AA41)*1000","v":12.625616663621415},{"$f":"('2004'!P41/'2004 Rate'!AA41)*1000","v":-0.55728119861136483},{"$f":"('2004'!Q41/'2004 Rate'!AA41)*1000","v":3.3254156769596199},{"$f":"('2004'!R41/'2004 Rate'!AA41)*1000","v":3.8826968755709848},null,null,{"$f":"('2004'!U41/'2004 Rate'!AA41)*1000","v":0.57555271331993429},null,null,null,null,"Borders",{"$f":"'Population estimates'!B41","v":109460}]
[39,"Dumfries & Galloway",null,{"$f":"('2004'!D42/'2004 Rate'!AA42)*1000","v":7.9561503799852034},{"$f":"('2004'!E42/'2004 Rate'!AA42)*1000","v":1.7351536754321071},{"$f":"('2004'!F42/'2004 Rate'!AA42)*1000","v":4.8624655323155563},{"$f":"('2004'!G42/'2004 Rate'!AA42)*1000","v":1.3585311722375411},{"$f":"('2004'!H42/'2004 Rate'!AA42)*1000","v":35.49667092608783},{"$f":"('2004'!I42/'2004 Rate'!AA42)*1000","v":27.540520546102631},{"$f":"('2004'!J42/'2004 Rate'!AA42)*1000","v":-0.37662250319456592},{"$f":"('2004'!K42/'2004 Rate'!AA42)*1000","v":11.991391485641268},{"$f":"('2004'!L42/'2004 Rate'!AA42)*1000","v":12.368013988835834},{"$f":"('2004'!M42/'2004 Rate'!AA42)*1000","v":10.047750353083597},{"$f":"('2004'!N42/'2004 Rate'!AA42)*1000","v":21.871006792655859},{"$f":"('2004'!O42/'2004 Rate'!AA42)*1000","v":11.823256439572265},{"$f":"('2004'!P42/'2004 Rate'!AA42)*1000","v":-1.7149774699038267},{"$f":"('2004'!Q42/'2004 Rate'!AA42)*1000","v":1.6342726477907055},{"$f":"('2004'!R42/'2004 Rate'!AA42)*1000","v":3.3492501176945324},null,null,{"$f":"('2004'!U42/'2004 Rate'!AA42)*1000","v":0.39679870872284623},null,null,null,null,"Dumfries & Galloway",{"$f":"'Population estimates'!B42","v":148690}]
[40,"Fife",null,{"$f":"('2004'!D43/'2004 Rate'!AA43)*1000","v":6.6506160600481516},{"$f":"('2004'!E43/'2004 Rate'!AA43)*1000","v":1.2831043761506871},{"$f":"('2004'!F43/'2004 Rate'!AA43)*1000","v":4.9114856252655432},{"$f":"('2004'!G43/'2004 Rate'!AA43)*1000","v":0.4560260586319218},{"$f":"('2004'!H43/'2004 Rate'!AA43)*1000","v":35.615351933153946},{"$f":"('2004'!I43/'2004 Rate'!AA43)*1000","v":28.964735873105791},{"$f":"('2004'!J43/'2004 Rate'!AA43)*1000","v":3.6878629089364114},{"$f":"('2004'!K43/'2004 Rate'!AA43)*1000","v":19.728083840815746},{"$f":"('2004'!L43/'2004 Rate'!AA43)*1000","v":16.04022093187934},{"$f":"('2004'!M43/'2004 Rate'!AA43)*1000","v":2.7163291318510128},{"$f":"('2004'!N43/'2004 Rate'!AA43)*1000","v":11.250531086248406},{"$f":"('2004'!O43/'2004 Rate'!AA43)*1000","v":8.5342019543973944},{"$f":"('2004'!P43/'2004 Rate'!AA43)*1000","v":0.24642401926072796},{"$f":"('2004'!Q43/'2004 Rate'!AA43)*1000","v":4.6367370060897892},{"$f":"('2004'!R43/'2004 Rate'!AA43)*1000","v":4.3903129868290609},null,null,{"$f":"('2004'!U43/'2004 Rate'!AA43)*1000","v":0.62314119813057645},null,null,null,null,"Fife",{"$f":"'Population estimates'!B43","v":353050}]
[41,"Forth Valley",null,{"$f":"('2004'!D44/'2004 Rate'!AA44)*1000","v":7.2297225845112623},{"$f":"('2004'!E44/'2004 Rate'!AA44)*1000","v":2.4992068807501147},{"$f":"('2004'!F44/'2004 Rate'!AA44)*1000","v":4.1383199971800204},{"$f":"('2004'!G44/'2004 Rate'!AA44)*1000","v":0.5921957065811273},{"$f":"('2004'!H44/'2004 Rate'!AA44)*1000","v":35.129895308259016},{"$f":"('2004'!I44/'2004 Rate'!AA44)*1000","v":27.900172723747755},{"$f":"('2004'!J44/'2004 Rate'!AA44)*1000","v":3.4756248017201878},{"$f":"('2004'!K44/'2004 Rate'!AA44)*1000","v":20.466001621488243},{"$f":"('2004'!L44/'2004 Rate'!AA44)*1000","v":16.990376819768056},{"$f":"('2004'!M44/'2004 Rate'!AA44)*1000","v":3.4439000317247701},{"$f":"('2004'!N44/'2004 Rate'!AA44)*1000","v":10.543198561810426},{"$f":"('2004'!O44/'2004 Rate'!AA44)*1000","v":7.0992985300856573},{"$f":"('2004'!P44/'2004 Rate'!AA44)*1000","v":0.31019775106630476},{"$f":"('2004'!Q44/'2004 Rate'!AA44)*1000","v":4.1206951249603438},{"$f":"('2004'!R44/'2004 Rate'!AA44)*1000","v":3.8104973738940395},null,null,{"$f":"('2004'!U44/'2004 Rate'!AA44)*1000","v":0.62039550213260952},null,null,null,null,"Forth Valley",{"$f":"'Population estimates'!B44","v":283690}]
[42,"Grampian",null,{"$f":"('2004'!D45/'2004 Rate'!AA45)*1000","v":5.6759856361277707},{"$f":"('2004'!E45/'2004 Rate'!AA45)*1000","v":1.492789862565568},{"$f":"('2004'!F45/'2004 Rate'!AA45)*1000","v":3.3916787305645903},{"$f":"('2004'!G45/'2004 Rate'!AA45)*1000","v":0.79151704299761227},{"$f":"('2004'!H45/'2004 Rate'!AA45)*1000","v":34.010791705051794},{"$f":"('2004'!I45/'2004 Rate'!AA45)*1000","v":28.334806068924028},{"$f":"('2004'!J45/'2004 Rate'!AA45)*1000","v":-0.46438173306510744},{"$f":"('2004'!K45/'2004 Rate'!AA45)*1000","v":12.222452010754102},{"$f":"('2004'!L45/'2004 Rate'!AA45)*1000","v":12.686833743819211},{"$f":"('2004'!M45/'2004 Rate'!AA45)*1000","v":4.4069262441482264},{"$f":"('2004'!N45/'2004 Rate'!AA45)*1000","v":14.435315572768806},{"$f":"('2004'!O45/'2004 Rate'!AA45)*1000","v":10.028389328620579},{"$f":"('2004'!P45/'2004 Rate'!AA45)*1000","v":1.733441125044652},{"$f":"('2004'!Q45/'2004 Rate'!AA45)*1000","v":7.353024121528887},{"$f":"('2004'!R45/'2004 Rate'!AA45)*1000","v":5.619582996484235},null,null,{"$f":"('2004'!U45/'2004 Rate'!AA45)*1000","v":0.98892628174998598},null,null,null,null,"Grampian",{"$f":"'Population estimates'!B45","v":531890}]
[43,"Greater Glasgow & Clyde",null,{"$f":"('2004'!D46/'2004 Rate'!AA46)*1000","v":-3.8467704509977643},{"$f":"('2004'!E46/'2004 Rate'!AA46)*1000","v":-1.0893135889971732},{"$f":"('2004'!F46/'2004 Rate'!AA46)*1000","v":-2.0124034932287049},{"$f":"('2004'!G46/'2004 Rate'!AA46)*1000","v":-0.74505336877188544},{"$f":"('2004'!H46/'2004 Rate'!AA46)*1000","v":29.967514660591483},{"$f":"('2004'!I46/'2004 Rate'!AA46)*1000","v":33.81428511158925},{"$f":"('2004'!J46/'2004 Rate'!AA46)*1000","v":-3.8518331012951945},{"$f":"('2004'!K46/'2004 Rate'!AA46)*1000","v":14.721343289878918},{"$f":"('2004'!L46/'2004 Rate'!AA46)*1000","v":18.573176391174115},{"$f":"('2004'!M46/'2004 Rate'!AA46)*1000","v":-0.51470278023878835},{"$f":"('2004'!N46/'2004 Rate'!AA46)*1000","v":7.9289541408260558},{"$f":"('2004'!O46/'2004 Rate'!AA46)*1000","v":8.4436569210648447},{"$f":"('2004'!P46/'2004 Rate'!AA46)*1000","v":0.51976543053621904},{"$f":"('2004'!Q46/'2004 Rate'!AA46)*1000","v":7.3172172298865128},{"$f":"('2004'!R46/'2004 Rate'!AA46)*1000","v":6.7974517993502932},null,null,{"$f":"('2004'!U46/'2004 Rate'!AA46)*1000","v":1.176222419103067},null,null,null,null,"Greater Glasgow",{"$f":"'Population estimates'!B46","v":1185150}]
[44,"Highland",null,{"$f":"('2004'!D47/'2004 Rate'!AA47)*1000","v":12.374647702693846},{"$f":"('2004'!E47/'2004 Rate'!AA47)*1000","v":2.9265255292652554},{"$f":"('2004'!F47/'2004 Rate'!AA47)*1000","v":8.3109392410041298},{"$f":"('2004'!G47/'2004 Rate'!AA47)*1000","v":1.1371829324244609},{"$f":"('2004'!H47/'2004 Rate'!AA47)*1000","v":46.988267680408995},{"$f":"('2004'!I47/'2004 Rate'!AA47)*1000","v":34.613619977715153},{"$f":"('2004'!J47/'2004 Rate'!AA47)*1000","v":0.74064363898538377},{"$f":"('2004'!K47/'2004 Rate'!AA47)*1000","v":21.495051451792619},{"$f":"('2004'!L47/'2004 Rate'!AA47)*1000","v":20.754407812807237},{"$f":"('2004'!M47/'2004 Rate'!AA47)*1000","v":11.955168119551681},{"$f":"('2004'!N47/'2004 Rate'!AA47)*1000","v":22.084944615586288},{"$f":"('2004'!O47/'2004 Rate'!AA47)*1000","v":10.129776496034607},{"$f":"('2004'!P47/'2004 Rate'!AA47)*1000","v":-0.3211640558432195},{"$f":"('2004'!Q47/'2004 Rate'!AA47)*1000","v":3.4082716130300845},{"$f":"('2004'!R47/'2004 Rate'!AA47)*1000","v":3.7294356688733039},null,null,{"$f":"('2004'!U47/'2004 Rate'!AA47)*1000","v":0.6357737431998427},null,null,null,null,"Highland",{"$f":"'Population estimates'!B47","v":305140}]
[45,"Lanarkshire",null,{"$f":"('2004'!D48/'2004 Rate'!AA48)*1000","v":3.0470219435736676},{"$f":"('2004'!E48/'2004 Rate'!AA48)*1000","v":0.84908195253022845},{"$f":"('2004'!F48/'2004 Rate'!AA48)*1000","v":1.4993282579489478},{"$f":"('2004'!G48/'2004 Rate'!AA48)*1000","v":0.69861173309449176},{"$f":"('2004'!H48/'2004 Rate'!AA48)*1000","v":23.294223018360952},{"$f":"('2004'!I48/'2004 Rate'!AA48)*1000","v":20.247201074787284},{"$f":"('2004'!J48/'2004 Rate'!AA48)*1000","v":2.9825347066726375},{"$f":"('2004'!K48/'2004 Rate'!AA48)*1000","v":15.643528884908196},{"$f":"('2004'!L48/'2004 Rate'!AA48)*1000","v":12.660994178235558},{"$f":"('2004'!M48/'2004 Rate'!AA48)*1000","v":1.2073443797581729},{"$f":"('2004'!N48/'2004 Rate'!AA48)*1000","v":6.3573667711598745},{"$f":"('2004'!O48/'2004 Rate'!AA48)*1000","v":5.150022391401702},{"$f":"('2004'!P48/'2004 Rate'!AA48)*1000","v":-1.142857142857143},{"$f":"('2004'!Q48/'2004 Rate'!AA48)*1000","v":1.2933273622928794},{"$f":"('2004'!R48/'2004 Rate'!AA48)*1000","v":2.4361845051500226},null,null,{"$f":"('2004'!U48/'2004 Rate'!AA48)*1000","v":0.38154948499776087},null,null,null,null,"Lanarkshire",{"$f":"'Population estimates'!B48","v":558250}]
[46,"Lothian",null,{"$f":"('2004'!D49/'2004 Rate'!AA49)*1000","v":4.6242996392662521},{"$f":"('2004'!E49/'2004 Rate'!AA49)*1000","v":-0.56028858699823469},{"$f":"('2004'!F49/'2004 Rate'!AA49)*1000","v":5.422518996085655},{"$f":"('2004'!G49/'2004 Rate'!AA49)*1000","v":-0.23793076982116815},{"$f":"('2004'!H49/'2004 Rate'!AA49)*1000","v":41.287384552408724},{"$f":"('2004'!I49/'2004 Rate'!AA49)*1000","v":36.663084913142477},{"$f":"('2004'!J49/'2004 Rate'!AA49)*1000","v":-1.8062271343413412},{"$f":"('2004'!K49/'2004 Rate'!AA49)*1000","v":14.731240565917057},{"$f":"('2004'!L49/'2004 Rate'!AA49)*1000","v":16.537467700258397},{"$f":"('2004'!M49/'2004 Rate'!AA49)*1000","v":2.7515542251899605},{"$f":"('2004'!N49/'2004 Rate'!AA49)*1000","v":15.712385192007572},{"$f":"('2004'!O49/'2004 Rate'!AA49)*1000","v":12.960830966817612},{"$f":"('2004'!P49/'2004 Rate'!AA49)*1000","v":3.6789725484176325},{"$f":"('2004'!Q49/'2004 Rate'!AA49)*1000","v":10.843758794484101},{"$f":"('2004'!R49/'2004 Rate'!AA49)*1000","v":7.1647862460664671},null,null,{"$f":"('2004'!U49/'2004 Rate'!AA49)*1000","v":1.1909330467930515},null,null,null,null,"Lothian",{"$f":"'Population estimates'!B49","v":781740}]
[47,"Orkney",null,{"$f":"('2004'!D50/'2004 Rate'!AA50)*1000","v":13.161875945537066},{"$f":"('2004'!E50/'2004 Rate'!AA50)*1000","v":4.8411497730711037},{"$f":"('2004'!F50/'2004 Rate'!AA50)*1000","v":6.8078668683812404},{"$f":"('2004'!G50/'2004 Rate'!AA50)*1000","v":1.5128593040847202},{"$f":"('2004'!H50/'2004 Rate'!AA50)*1000","v":45.234493192133129},{"$f":"('2004'!I50/'2004 Rate'!AA50)*1000","v":32.072617246596067},{"$f":"('2004'!J50/'2004 Rate'!AA50)*1000","v":-2.2692889561270801},{"$f":"('2004'!K50/'2004 Rate'!AA50)*1000","v":19.364599092284415},{"$f":"('2004'!L50/'2004 Rate'!AA50)*1000","v":21.633888048411496},{"$f":"('2004'!M50/'2004 Rate'!AA50)*1000","v":16.338880484114977},{"$f":"('2004'!N50/'2004 Rate'!AA50)*1000","v":23.903177004538581},{"$f":"('2004'!O50/'2004 Rate'!AA50)*1000","v":7.5642965204236008},{"$f":"('2004'!P50/'2004 Rate'!AA50)*1000","v":-0.90771558245083206},{"$f":"('2004'!Q50/'2004 Rate'!AA50)*1000","v":1.9667170953101363},{"$f":"('2004'!R50/'2004 Rate'!AA50)*1000","v":2.8744326777609683},null,null,{"$f":"('2004'!U50/'2004 Rate'!AA50)*1000","v":0.30257186081694398},null,null,null,null,"Orkney",{"$f":"'Population estimates'!B50","v":19830}]
[48,"Shetland",null,{"$f":"('2004'!D51/'2004 Rate'!AA51)*1000","v":3.2593933906745134},{"$f":"('2004'!E51/'2004 Rate'!AA51)*1000","v":2.8519692168401991},{"$f":"('2004'!F51/'2004 Rate'!AA51)*1000","v":-0.49796287913082848},{"$f":"('2004'!G51/'2004 Rate'!AA51)*1000","v":0.90538705296514255},{"$f":"('2004'!H51/'2004 Rate'!AA51)*1000","v":36.894522408329564},{"$f":"('2004'!I51/'2004 Rate'!AA51)*1000","v":33.635129017655053},{"$f":"('2004'!J51/'2004 Rate'!AA51)*1000","v":-3.8478949751018563},{"$f":"('2004'!K51/'2004 Rate'!AA51)*1000","v":16.613852421910366},{"$f":"('2004'!L51/'2004 Rate'!AA51)*1000","v":20.461747397012225},{"$f":"('2004'!M51/'2004 Rate'!AA51)*1000","v":8.0126754187415123},{"$f":"('2004'!N51/'2004 Rate'!AA51)*1000","v":17.609778180172022},{"$f":"('2004'!O51/'2004 Rate'!AA51)*1000","v":9.5971027614305129},{"$f":"('2004'!P51/'2004 Rate'!AA51)*1000","v":-0.90538705296514255},{"$f":"('2004'!Q51/'2004 Rate'!AA51)*1000","v":2.6708918062471705},{"$f":"('2004'!R51/'2004 Rate'!AA51)*1000","v":3.5762788592123131},null,null,{"$f":"('2004'!U51/'2004 Rate'!AA51)*1000","v":0.63377093707559984},null,null,null,null,"Shetland",{"$f":"'Population estimates'!B51","v":22090}]
[49,"Tayside",null,{"$f":"('2004'!D52/'2004 Rate'!AA52)*1000","v":5.8107346080894038},{"$f":"('2004'!E52/'2004 Rate'!AA52)*1000","v":1.4584508125288358},{"$f":"('2004'!F52/'2004 Rate'!AA52)*1000","v":3.4577331214435847},{"$f":"('2004'!G52/'2004 Rate'!AA52)*1000","v":0.89455067411698364},{"$f":"('2004'!H52/'2004 Rate'!AA52)*1000","v":34.99000358845543},{"$f":"('2004'!I52/'2004 Rate'!AA52)*1000","v":29.179268980366022},{"$f":"('2004'!J52/'2004 Rate'!AA52)*1000","v":2.1505100733070179},{"$f":"('2004'!K52/'2004 Rate'!AA52)*1000","v":18.249859024965399},{"$f":"('2004'!L52/'2004 Rate'!AA52)*1000","v":16.099348951658381},{"$f":"('2004'!M52/'2004 Rate'!AA52)*1000","v":3.3885271953657661},{"$f":"('2004'!N52/'2004 Rate'!AA52)*1000","v":12.636489465320141},{"$f":"('2004'!O52/'2004 Rate'!AA52)*1000","v":9.2479622699543746},{"$f":"('2004'!P52/'2004 Rate'!AA52)*1000","v":0.27169733941661972},{"$f":"('2004'!Q52/'2004 Rate'!AA52)*1000","v":4.1036550981698872},{"$f":"('2004'!R52/'2004 Rate'!AA52)*1000","v":3.8319577587532683},null,null,{"$f":"('2004'!U52/'2004 Rate'!AA52)*1000","v":0.7330701799354078},null,null,null,null,"Tayside",{"$f":"'Population estimates'!B52","v":390140}]
[50,"Western Isles",null,{"$f":"('2004'!D53/'2004 Rate'!AA53)*1000","v":9.2307692307692317},{"$f":"('2004'!E53/'2004 Rate'!AA53)*1000","v":3.2645403377110696},{"$f":"('2004'!F53/'2004 Rate'!AA53)*1000","v":4.727954971857411},{"$f":"('2004'!G53/'2004 Rate'!AA53)*1000","v":1.2382739212007505},{"$f":"('2004'!H53/'2004 Rate'!AA53)*1000","v":46.266416510318955},{"$f":"('2004'!I53/'2004 Rate'!AA53)*1000","v":37.035647279549721},{"$f":"('2004'!J53/'2004 Rate'!AA53)*1000","v":-1.5384615384615385},{"$f":"('2004'!K53/'2004 Rate'!AA53)*1000","v":24.277673545966231},{"$f":"('2004'!L53/'2004 Rate'!AA53)*1000","v":25.816135084427767},{"$f":"('2004'!M53/'2004 Rate'!AA53)*1000","v":12.120075046904315},{"$f":"('2004'!N53/'2004 Rate'!AA53)*1000","v":20.262664165103192},{"$f":"('2004'!O53/'2004 Rate'!AA53)*1000","v":8.1425891181988739},{"$f":"('2004'!P53/'2004 Rate'!AA53)*1000","v":-1.3508442776735459},{"$f":"('2004'!Q53/'2004 Rate'!AA53)*1000","v":1.726078799249531},{"$f":"('2004'!R53/'2004 Rate'!AA53)*1000","v":3.0769230769230771},null,null,{"$f":"('2004'!U53/'2004 Rate'!AA53)*1000","v":0.41275797373358347},null,null,null,null,"Western Isles",{"$f":"'Population estimates'!B53","v":26650}]

{"sheet":"2005","index":37,"n_rows":53,"n_cols":25,"rows_kept":53,"cut":false,"hidden":true,"merged":[]}
[null,2005]
[null,null,"Not specified ","Total net migration","Total net migration for ages 0-15","Total net migration for ages 16-64","Total net migration for people aged 65+","Total in-migration","Total out-migration","Within Scotland net migration","Within Scotland in-migration","Within Scotland out-migration","Rest of UK net migration","Rest of UK in-migration","Rest of UK out-migration","Overseas net migration","Overseas in-migration","Overseas out-migration","Worker Registration Scheme","NINo Allocation","Births to non-UK mothers","Pupils from a minority ethnic group","Pupils with English as an additional language","Estimate of resident population born outside the UK","NHS registrations from overseas"]
[1,"Not specified"]
[2,"SCOTLAND",null,{"$f":"'Total net migration'!C4","v":25307},{"$f":"'Total net migration 0-15'!C4","v":4434},{"$f":"'Total net migration 16-64'!C4","v":19931},{"$f":"'Total net migration 65+'!C4","v":942},{"$f":"'Total in-migration'!C4","v":99142},{"$f":"'Total out-migration'!C4","v":73835},null,null,null,{"$f":"'Rest of UK net migration'!C4","v":12507},{"$f":"'Rest of UK in-migration'!C4","v":57342},{"$f":"'Rest of UK out-migration'!C4","v":44835},{"$f":"'Overseas net migration'!C4","v":12800},{"$f":"'Overseas in-migration'!C4","v":41800},{"$f":"'Overseas out-migration'!C4","v":29000},{"$f":"WRS!C5","v":14445},{"$f":"NINo!C5","v":39410},{"$f":"'Non-UK Births'!C5","v":4675},{"$f":"'Pupils ethnic group'!D5","v":26145},null,{"$f":"'Pop born outside UK'!C5","v":222000},{"$f":"'NHS Overseas'!C5","v":43004}]
[3,"Aberdeen City",null,{"$f":"'Total net migration'!C5","v":1110},{"$f":"'Total net migration 0-15'!C5","v":212},{"$f":"'Total net migration 16-64'!C5","v":963},{"$f":"'Total net migration 65+'!C5","v":-65},{"$f":"'Total in-migration'!C5","v":12400},{"$f":"'Total out-migration'!C5","v":11290},{"$f":"'Within Scotland net migration'!C5","v":-1086},{"$f":"'Within Scotland in-migration'!C5","v":5827},{"$f":"'Within Scotland out-migration'!C5","v":6913},{"$f":"'Rest of UK net migration'!C5","v":46},{"$f":"'Rest of UK in-migration'!C5","v":2251},{"$f":"'Rest of UK out-migration'!C5","v":2205},{"$f":"'Overseas net migration'!C5","v":2150},{"$f":"'Overseas in-migration'!C5","v":4322},{"$f":"'Overseas out-migration'!C5","v":2172},{"$f":"WRS!C6","v":590},{"$f":"NINo!C6","v":3580},{"$f":"'Non-UK Births'!C6","v":330},{"$f":"'Pupils ethnic group'!D6","v":1251},null,{"$f":"'Pop born outside UK'!C6","v":12000}]
[4,"Aberdeenshire",null,{"$f":"'Total net migration'!C6","v":2780},{"$f":"'Total net migration 0-15'!C6","v":831},{"$f":"'Total net migration 16-64'!C6","v":1667},{"$f":"'Total net migration 65+'!C6","v":282},{"$f":"'Total in-migration'!C6","v":10292},{"$f":"'Total out-migration'!C6","v":7512},{"$f":"'Within Scotland net migration'!C6","v":869},{"$f":"'Within Scotland in-migration'!C6","v":5918},{"$f":"'Within Scotland out-migration'!C6","v":5049},{"$f":"'Rest of UK net migration'!C6","v":1288},{"$f":"'Rest of UK in-migration'!C6","v":2987},{"$f":"'Rest of UK out-migration'!C6","v":1699},{"$f":"'Overseas net migration'!C6","v":623},{"$f":"'Overseas in-migration'!C6","v":1387},{"$f":"'Overseas out-migration'!C6","v":764},{"$f":"WRS!C7","v":1135},{"$f":"NINo!C7","v":1610},{"$f":"'Non-UK Births'!C7","v":185},{"$f":"'Pupils ethnic group'!D7","v":455},null,{"$f":"'Pop born outside UK'!C7","v":"*"}]
[5,"Angus",null,{"$f":"'Total net migration'!C7","v":1073},{"$f":"'Total net migration 0-15'!C7","v":348},{"$f":"'Total net migration 16-64'!C7","v":594},{"$f":"'Total net migration 65+'!C7","v":131},{"$f":"'Total in-migration'!C7","v":4560},{"$f":"'Total out-migration'!C7","v":3487},{"$f":"'Within Scotland net migration'!C7","v":506},{"$f":"'Within Scotland in-migration'!C7","v":3076},{"$f":"'Within Scotland out-migration'!C7","v":2570},{"$f":"'Rest of UK net migration'!C7","v":439},{"$f":"'Rest of UK in-migration'!C7","v":1110},{"$f":"'Rest of UK out-migration'!C7","v":671},{"$f":"'Overseas net migration'!C7","v":128},{"$f":"'Overseas in-migration'!C7","v":374},{"$f":"'Overseas out-migration'!C7","v":246},{"$f":"WRS!C8","v":955},{"$f":"NINo!C8","v":790},{"$f":"'Non-UK Births'!C8","v":61},{"$f":"'Pupils ethnic group'!D8","v":193},null,{"$f":"'Pop born outside UK'!C8","v":"*"}]
[6,"Argyll & Bute",null,{"$f":"'Total net migration'!C8","v":437},{"$f":"'Total net migration 0-15'!C8","v":129},{"$f":"'Total net migration 16-64'!C8","v":307},{"$f":"'Total net migration 65+'!C8","v":1},{"$f":"'Total in-migration'!C8","v":4755},{"$f":"'Total out-migration'!C8","v":4318},{"$f":"'Within Scotland net migration'!C8","v":-31},{"$f":"'Within Scotland in-migration'!C8","v":2439},{"$f":"'Within Scotland out-migration'!C8","v":2470},{"$f":"'Rest of UK net migration'!C8","v":568},{"$f":"'Rest of UK in-migration'!C8","v":1851},{"$f":"'Rest of UK out-migration'!C8","v":1283},{"$f":"'Overseas net migration'!C8","v":-100},{"$f":"'Overseas in-migration'!C8","v":465},{"$f":"'Overseas out-migration'!C8","v":565},{"$f":"WRS!C9","v":325},{"$f":"NINo!C9","v":680},{"$f":"'Non-UK Births'!C9","v":52},{"$f":"'Pupils ethnic group'!D9","v":187},null,{"$f":"'Pop born outside UK'!C9","v":"*"}]
[7,"Clackmannanshire",null,{"$f":"'Total net migration'!C9","v":572},{"$f":"'Total net migration 0-15'!C9","v":156},{"$f":"'Total net migration 16-64'!C9","v":408},{"$f":"'Total net migration 65+'!C9","v":8},{"$f":"'Total in-migration'!C9","v":2132},{"$f":"'Total out-migration'!C9","v":1560},{"$f":"'Within Scotland net migration'!C9","v":294},{"$f":"'Within Scotland in-migration'!C9","v":1428},{"$f":"'Within Scotland out-migration'!C9","v":1134},{"$f":"'Rest of UK net migration'!C9","v":270},{"$f":"'Rest of UK in-migration'!C9","v":552},{"$f":"'Rest of UK out-migration'!C9","v":282},{"$f":"'Overseas net migration'!C9","v":8},{"$f":"'Overseas in-migration'!C9","v":152},{"$f":"'Overseas out-migration'!C9","v":144},{"$f":"WRS!C10","v":45},{"$f":"NINo!C10","v":110},{"$f":"'Non-UK Births'!C10","v":27},{"$f":"'Pupils ethnic group'!D10","v":127},null,{"$f":"'Pop born outside UK'!C10","v":"*"}]
[8,"Dumfries & Galloway",null,{"$f":"'Total net migration'!C10","v":1191},{"$f":"'Total net migration 0-15'!C10","v":276},{"$f":"'Total net migration 16-64'!C10","v":726},{"$f":"'Total net migration 65+'!C10","v":189},{"$f":"'Total in-migration'!C10","v":5481},{"$f":"'Total out-migration'!C10","v":4290},{"$f":"'Within Scotland net migration'!C10","v":-118},{"$f":"'Within Scotland in-migration'!C10","v":1835},{"$f":"'Within Scotland out-migration'!C10","v":1953},{"$f":"'Rest of UK net migration'!C10","v":1393},{"$f":"'Rest of UK in-migration'!C10","v":3144},{"$f":"'Rest of UK out-migration'!C10","v":1751},{"$f":"'Overseas net migration'!C10","v":-84},{"$f":"'Overseas in-migration'!C10","v":502},{"$f":"'Overseas out-migration'!C10","v":586},{"$f":"WRS!C11","v":250},{"$f":"NINo!C11","v":630},{"$f":"'Non-UK Births'!C11","v":71},{"$f":"'Pupils ethnic group'!D11","v":332},null,{"$f":"'Pop born outside UK'!C11","v":"*"}]
[9,"Dundee City",null,{"$f":"'Total net migration'!C11","v":572},{"$f":"'Total net migration 0-15'!C11","v":45},{"$f":"'Total net migration 16-64'!C11","v":634},{"$f":"'Total net migration 65+'!C11","v":-107},{"$f":"'Total in-migration'!C11","v":6852},{"$f":"'Total out-migration'!C11","v":6280},{"$f":"'Within Scotland net migration'!C11","v":-347},{"$f":"'Within Scotland in-migration'!C11","v":3571},{"$f":"'Within Scotland out-migration'!C11","v":3918},{"$f":"'Rest of UK net migration'!C11","v":201},{"$f":"'Rest of UK in-migration'!C11","v":1554},{"$f":"'Rest of UK out-migration'!C11","v":1353},{"$f":"'Overseas net migration'!C11","v":718},{"$f":"'Overseas in-migration'!C11","v":1727},{"$f":"'Overseas out-migration'!C11","v":1009},{"$f":"WRS!C12","v":225},{"$f":"NINo!C12","v":1480},{"$f":"'Non-UK Births'!C12","v":151},{"$f":"'Pupils ethnic group'!D12","v":926},null,{"$f":"'Pop born outside UK'!C12","v":7000}]
[10,"East Ayrshire",null,{"$f":"'Total net migration'!C12","v":36},{"$f":"'Total net migration 0-15'!C12","v":59},{"$f":"'Total net migration 16-64'!C12","v":-27},{"$f":"'Total net migration 65+'!C12","v":4},{"$f":"'Total in-migration'!C12","v":3445},{"$f":"'Total out-migration'!C12","v":3409},{"$f":"'Within Scotland net migration'!C12","v":-28},{"$f":"'Within Scotland in-migration'!C12","v":2392},{"$f":"'Within Scotland out-migration'!C12","v":2420},{"$f":"'Rest of UK net migration'!C12","v":151},{"$f":"'Rest of UK in-migration'!C12","v":858},{"$f":"'Rest of UK out-migration'!C12","v":707},{"$f":"'Overseas net migration'!C12","v":-87},{"$f":"'Overseas in-migration'!C12","v":195},{"$f":"'Overseas out-migration'!C12","v":282},{"$f":"WRS!C13","v":60},{"$f":"NINo!C13","v":160},{"$f":"'Non-UK Births'!C13","v":42},{"$f":"'Pupils ethnic group'!D13","v":219},null,{"$f":"'Pop born outside UK'!C13","v":"*"}]
[11,"East Dunbartonshire",null,{"$f":"'Total net migration'!C13","v":-482},{"$f":"'Total net migration 0-15'!C13","v":225},{"$f":"'Total net migration 16-64'!C13","v":-644},{"$f":"'Total net migration 65+'!C13","v":-63},{"$f":"'Total in-migration'!C13","v":3673},{"$f":"'Total out-migration'!C13","v":4155},{"$f":"'Within Scotland net migration'!C13","v":-260},{"$f":"'Within Scotland in-migration'!C13","v":2888},{"$f":"'Within Scotland out-migration'!C13","v":3148},{"$f":"'Rest of UK net migration'!C13","v":-178},{"$f":"'Rest of UK in-migration'!C13","v":489},{"$f":"'Rest of UK out-migration'!C13","v":667},{"$f":"'Overseas net migration'!C13","v":-44},{"$f":"'Overseas in-migration'!C13","v":296},{"$f":"'Overseas out-migration'!C13","v":340},{"$f":"WRS!C14","v":30},{"$f":"NINo!C14","v":170},{"$f":"'Non-UK Births'!C14","v":65},{"$f":"'Pupils ethnic group'!D14","v":958},null,{"$f":"'Pop born outside UK'!C14","v":4000}]
[12,"East Lothian",null,{"$f":"'Total net migration'!C14","v":497},{"$f":"'Total net migration 0-15'!C14","v":143},{"$f":"'Total net migration 16-64'!C14","v":267},{"$f":"'Total net migration 65+'!C14","v":87},{"$f":"'Total in-migration'!C14","v":3646},{"$f":"'Total out-migration'!C14","v":3149},{"$f":"'Within Scotland net migration'!C14","v":484},{"$f":"'Within Scotland in-migration'!C14","v":2729},{"$f":"'Within Scotland out-migration'!C14","v":2245},{"$f":"'Rest of UK net migration'!C14","v":10},{"$f":"'Rest of UK in-migration'!C14","v":662},{"$f":"'Rest of UK out-migration'!C14","v":652},{"$f":"'Overseas net migration'!C14","v":3},{"$f":"'Overseas in-migration'!C14","v":255},{"$f":"'Overseas out-migration'!C14","v":252},{"$f":"WRS!C15","v":160},{"$f":"NINo!C15","v":280},{"$f":"'Non-UK Births'!C15","v":70},{"$f":"'Pupils ethnic group'!D15","v":205},null,{"$f":"'Pop born outside UK'!C15","v":3000}]
[13,"East Renfrewshire",null,{"$f":"'Total net migration'!C15","v":-17},{"$f":"'Total net migration 0-15'!C15","v":274},{"$f":"'Total net migration 16-64'!C15","v":-326},{"$f":"'Total net migration 65+'!C15","v":35},{"$f":"'Total in-migration'!C15","v":3410},{"$f":"'Total out-migration'!C15","v":3427},{"$f":"'Within Scotland net migration'!C15","v":132},{"$f":"'Within Scotland in-migration'!C15","v":2780},{"$f":"'Within Scotland out-migration'!C15","v":2648},{"$f":"'Rest of UK net migration'!C15","v":-72},{"$f":"'Rest of UK in-migration'!C15","v":455},{"$f":"'Rest of UK out-migration'!C15","v":527},{"$f":"'Overseas net migration'!C15","v":-77},{"$f":"'Overseas in-migration'!C15","v":175},{"$f":"'Overseas out-migration'!C15","v":252},{"$f":"WRS!C16","v":20},{"$f":"NINo!C16","v":130},{"$f":"'Non-UK Births'!C16","v":73},{"$f":"'Pupils ethnic group'!D16","v":1572},null,{"$f":"'Pop born outside UK'!C16","v":3000}]
[14,"Edinburgh, City of",null,{"$f":"'Total net migration'!C16","v":5317},{"$f":"'Total net migration 0-15'!C16","v":-65},{"$f":"'Total net migration 16-64'!C16","v":5731},{"$f":"'Total net migration 65+'!C16","v":-349},{"$f":"'Total in-migration'!C16","v":31868},{"$f":"'Total out-migration'!C16","v":26551},{"$f":"'Within Scotland net migration'!C16","v":-1553},{"$f":"'Within Scotland in-migration'!C16","v":11328},{"$f":"'Within Scotland out-migration'!C16","v":12881},{"$f":"'Rest of UK net migration'!C16","v":1650},{"$f":"'Rest of UK in-migration'!C16","v":9529},{"$f":"'Rest of UK out-migration'!C16","v":7879},{"$f":"'Overseas net migration'!C16","v":5220},{"$f":"'Overseas in-migration'!C16","v":11011},{"$f":"'Overseas out-migration'!C16","v":5791},{"$f":"WRS!C17","v":2235},{"$f":"NINo!C17","v":11060},{"$f":"'Non-UK Births'!C17","v":836},{"$f":"'Pupils ethnic group'!D17","v":3934},null,{"$f":"'Pop born outside UK'!C17","v":47000}]
[15,"Eilean Siar",null,{"$f":"'Total net migration'!C17","v":274},{"$f":"'Total net migration 0-15'!C17","v":104},{"$f":"'Total net migration 16-64'!C17","v":125},{"$f":"'Total net migration 65+'!C17","v":45},{"$f":"'Total in-migration'!C17","v":1219},{"$f":"'Total out-migration'!C17","v":945},{"$f":"'Within Scotland net migration'!C17","v":35},{"$f":"'Within Scotland in-migration'!C17","v":676},{"$f":"'Within Scotland out-migration'!C17","v":641},{"$f":"'Rest of UK net migration'!C17","v":245},{"$f":"'Rest of UK in-migration'!C17","v":463},{"$f":"'Rest of UK out-migration'!C17","v":218},{"$f":"'Overseas net migration'!C17","v":-6},{"$f":"'Overseas in-migration'!C17","v":80},{"$f":"'Overseas out-migration'!C17","v":86},{"$f":"WRS!C18","v":80},{"$f":"NINo!C18","v":130},{"$f":"'Non-UK Births'!C18","v":8},{"$f":"'Pupils ethnic group'!D18","v":54},null,{"$f":"'Pop born outside UK'!C18","v":"*"}]
[16,"Falkirk",null,{"$f":"'Total net migration'!C18","v":1642},{"$f":"'Total net migration 0-15'!C18","v":201},{"$f":"'Total net migration 16-64'!C18","v":1392},{"$f":"'Total net migration 65+'!C18","v":49},{"$f":"'Total in-migration'!C18","v":5163},{"$f":"'Total out-migration'!C18","v":3521},{"$f":"'Within Scotland net migration'!C18","v":1155},{"$f":"'Within Scotland in-migration'!C18","v":3507},{"$f":"'Within Scotland out-migration'!C18","v":2352},{"$f":"'Rest of UK net migration'!C18","v":241},{"$f":"'Rest of UK in-migration'!C18","v":988},{"$f":"'Rest of UK out-migration'!C18","v":747},{"$f":"'Overseas net migration'!C18","v":246},{"$f":"'Overseas in-migration'!C18","v":668},{"$f":"'Overseas out-migration'!C18","v":422},{"$f":"WRS!C19","v":270},{"$f":"NINo!C19","v":390},{"$f":"'Non-UK Births'!C19","v":97},{"$f":"'Pupils ethnic group'!D19","v":455},null,{"$f":"'Pop born outside UK'!C19","v":"*"}]
[17,"Fife",null,{"$f":"'Total net migration'!C19","v":2657},{"$f":"'Total net migration 0-15'!C19","v":429},{"$f":"'Total net migration 16-64'!C19","v":1997},{"$f":"'Total net migration 65+'!C19","v":231},{"$f":"'Total in-migration'!C19","v":13207},{"$f":"'Total out-migration'!C19","v":10550},{"$f":"'Within Scotland net migration'!C19","v":940},{"$f":"'Within Scotland in-migration'!C19","v":6842},{"$f":"'Within Scotland out-migration'!C19","v":5902},{"$f":"'Rest of UK net migration'!C19","v":930},{"$f":"'Rest of UK in-migration'!C19","v":3873},{"$f":"'Rest of UK out-migration'!C19","v":2943},{"$f":"'Overseas net migration'!C19","v":787},{"$f":"'Overseas in-migration'!C19","v":2492},{"$f":"'Overseas out-migration'!C19","v":1705},{"$f":"WRS!C20","v":1030},{"$f":"NINo!C20","v":1410},{"$f":"'Non-UK Births'!C20","v":227},{"$f":"'Pupils ethnic group'!D20","v":1099},null,{"$f":"'Pop born outside UK'!C20","v":16000}]
[18,"Glasgow City",null,{"$f":"'Total net migration'!C20","v":-1558},{"$f":"'Total net migration 0-15'!C20","v":-1394},{"$f":"'Total net migration 16-64'!C20","v":531},{"$f":"'Total net migration 65+'!C20","v":-695},{"$f":"'Total in-migration'!C20","v":28421},{"$f":"'Total out-migration'!C20","v":29979},{"$f":"'Within Scotland net migration'!C20","v":-3302},{"$f":"'Within Scotland in-migration'!C20","v":13788},{"$f":"'Within Scotland out-migration'!C20","v":17090},{"$f":"'Rest of UK net migration'!C20","v":250},{"$f":"'Rest of UK in-migration'!C20","v":6216},{"$f":"'Rest of UK out-migration'!C20","v":5966},{"$f":"'Overseas net migration'!C20","v":1494},{"$f":"'Overseas in-migration'!C20","v":8417},{"$f":"'Overseas out-migration'!C20","v":6923},{"$f":"WRS!C21","v":1480},{"$f":"NINo!C21","v":6250},{"$f":"'Non-UK Births'!C21","v":1206},{"$f":"'Pupils ethnic group'!D21","v":7943},null,{"$f":"'Pop born outside UK'!C21","v":48000}]
[19,"Highland",null,{"$f":"'Total net migration'!C21","v":2862},{"$f":"'Total net migration 0-15'!C21","v":596},{"$f":"'Total net migration 16-64'!C21","v":2040},{"$f":"'Total net migration 65+'!C21","v":226},{"$f":"'Total in-migration'!C21","v":10164},{"$f":"'Total out-migration'!C21","v":7302},{"$f":"'Within Scotland net migration'!C21","v":89},{"$f":"'Within Scotland in-migration'!C21","v":4472},{"$f":"'Within Scotland out-migration'!C21","v":4383},{"$f":"'Rest of UK net migration'!C21","v":2150},{"$f":"'Rest of UK in-migration'!C21","v":4197},{"$f":"'Rest of UK out-migration'!C21","v":2047},{"$f":"'Overseas net migration'!C21","v":623},{"$f":"'Overseas in-migration'!C21","v":1495},{"$f":"'Overseas out-migration'!C21","v":872},{"$f":"WRS!C22","v":1330},{"$f":"NINo!C22","v":2690},{"$f":"'Non-UK Births'!C22","v":163},{"$f":"'Pupils ethnic group'!D22","v":516},null,{"$f":"'Pop born outside UK'!C22","v":"*"}]
[20,"Inverclyde",null,{"$f":"'Total net migration'!C22","v":-130},{"$f":"'Total net migration 0-15'!C22","v":-4},{"$f":"'Total net migration 16-64'!C22","v":-145},{"$f":"'Total net migration 65+'!C22","v":19},{"$f":"'Total in-migration'!C22","v":1963},{"$f":"'Total out-migration'!C22","v":2093},{"$f":"'Within Scotland net migration'!C22","v":-255},{"$f":"'Within Scotland in-migration'!C22","v":1073},{"$f":"'Within Scotland out-migration'!C22","v":1328},{"$f":"'Rest of UK net migration'!C22","v":3},{"$f":"'Rest of UK in-migration'!C22","v":459},{"$f":"'Rest of UK out-migration'!C22","v":456},{"$f":"'Overseas net migration'!C22","v":122},{"$f":"'Overseas in-migration'!C22","v":431},{"$f":"'Overseas out-migration'!C22","v":309},{"$f":"WRS!C23","v":75},{"$f":"NINo!C23","v":330},{"$f":"'Non-UK Births'!C23","v":41},{"$f":"'Pupils ethnic group'!D23","v":207},null,{"$f":"'Pop born outside UK'!C23","v":"*"}]
[21,"Midlothian",null,{"$f":"'Total net migration'!C23","v":-321},{"$f":"'Total net migration 0-15'!C23","v":-33},{"$f":"'Total net migration 16-64'!C23","v":-273},{"$f":"'Total net migration 65+'!C23","v":-15},{"$f":"'Total in-migration'!C23","v":2563},{"$f":"'Total out-migration'!C23","v":2884},{"$f":"'Within Scotland net migration'!C23","v":-226},{"$f":"'Within Scotland in-migration'!C23","v":1984},{"$f":"'Within Scotland out-migration'!C23","v":2210},{"$f":"'Rest of UK net migration'!C23","v":-74},{"$f":"'Rest of UK in-migration'!C23","v":413},{"$f":"'Rest of UK out-migration'!C23","v":487},{"$f":"'Overseas net migration'!C23","v":-21},{"$f":"'Overseas in-migration'!C23","v":166},{"$f":"'Overseas out-migration'!C23","v":187},{"$f":"WRS!C24","v":200},{"$f":"NINo!C24","v":210},{"$f":"'Non-UK Births'!C24","v":40},{"$f":"'Pupils ethnic group'!D24","v":223},null,{"$f":"'Pop born outside UK'!C24","v":"*"}]
[22,"Moray",null,{"$f":"'Total net migration'!C24","v":693},{"$f":"'Total net migration 0-15'!C24","v":39},{"$f":"'Total net migration 16-64'!C24","v":549},{"$f":"'Total net migration 65+'!C24","v":105},{"$f":"'Total in-migration'!C24","v":3939},{"$f":"'Total out-migration'!C24","v":3246},{"$f":"'Within Scotland net migration'!C24","v":-70},{"$f":"'Within Scotland in-migration'!C24","v":1712},{"$f":"'Within Scotland out-migration'!C24","v":1782},{"$f":"'Rest of UK net migration'!C24","v":695},{"$f":"'Rest of UK in-migration'!C24","v":1721},{"$f":"'Rest of UK out-migration'!C24","v":1026},{"$f":"'Overseas net migration'!C24","v":68},{"$f":"'Overseas in-migration'!C24","v":506},{"$f":"'Overseas out-migration'!C24","v":438},{"$f":"WRS!C25","v":285},{"$f":"NINo!C25","v":550},{"$f":"'Non-UK Births'!C25","v":59},{"$f":"'Pupils ethnic group'!D25","v":192},null,{"$f":"'Pop born outside UK'!C25","v":4000}]
[23,"North Ayrshire",null,{"$f":"'Total net migration'!C25","v":95},{"$f":"'Total net migration 0-15'!C25","v":49},{"$f":"'Total net migration 16-64'!C25","v":-22},{"$f":"'Total net migration 65+'!C25","v":68},{"$f":"'Total in-migration'!C25","v":4332},{"$f":"'Total out-migration'!C25","v":4237},{"$f":"'Within Scotland net migration'!C25","v":212},{"$f":"'Within Scotland in-migration'!C25","v":3067},{"$f":"'Within Scotland out-migration'!C25","v":2855},{"$f":"'Rest of UK net migration'!C25","v":75},{"$f":"'Rest of UK in-migration'!C25","v":1006},{"$f":"'Rest of UK out-migration'!C25","v":931},{"$f":"'Overseas net migration'!C25","v":-192},{"$f":"'Overseas in-migration'!C25","v":259},{"$f":"'Overseas out-migration'!C25","v":451},{"$f":"WRS!C26","v":65},{"$f":"NINo!C26","v":310},{"$f":"'Non-UK Births'!C26","v":55},{"$f":"'Pupils ethnic group'!D26","v":294},null,{"$f":"'Pop born outside UK'!C26","v":"*"}]
[24,"North Lanarkshire",null,{"$f":"'Total net migration'!C26","v":330},{"$f":"'Total net migration 0-15'!C26","v":137},{"$f":"'Total net migration 16-64'!C26","v":151},{"$f":"'Total net migration 65+'!C26","v":42},{"$f":"'Total in-migration'!C26","v":7891},{"$f":"'Total out-migration'!C26","v":7561},{"$f":"'Within Scotland net migration'!C26","v":332},{"$f":"'Within Scotland in-migration'!C26","v":5706},{"$f":"'Within Scotland out-migration'!C26","v":5374},{"$f":"'Rest of UK net migration'!C26","v":18},{"$f":"'Rest of UK in-migration'!C26","v":1452},{"$f":"'Rest of UK out-migration'!C26","v":1434},{"$f":"'Overseas net migration'!C26","v":-20},{"$f":"'Overseas in-migration'!C26","v":733},{"$f":"'Overseas out-migration'!C26","v":753},{"$f":"WRS!C27","v":420},{"$f":"NINo!C27","v":720},{"$f":"'Non-UK Births'!C27","v":104},{"$f":"'Pupils ethnic group'!D27","v":1177},null,{"$f":"'Pop born outside UK'!C27","v":"*"}]
[25,"Orkney Islands",null,{"$f":"'Total net migration'!C27","v":135},{"$f":"'Total net migration 0-15'!C27","v":63},{"$f":"'Total net migration 16-64'!C27","v":67},{"$f":"'Total net migration 65+'!C27","v":5},{"$f":"'Total in-migration'!C27","v":801},{"$f":"'Total out-migration'!C27","v":666},{"$f":"'Within Scotland net migration'!C27","v":-15},{"$f":"'Within Scotland in-migration'!C27","v":381},{"$f":"'Within Scotland out-migration'!C27","v":396},{"$f":"'Rest of UK net migration'!C27","v":175},{"$f":"'Rest of UK in-migration'!C27","v":370},{"$f":"'Rest of UK out-migration'!C27","v":195},{"$f":"'Overseas net migration'!C27","v":-25},{"$f":"'Overseas in-migration'!C27","v":50},{"$f":"'Overseas out-migration'!C27","v":75},{"$f":"WRS!C28","v":5},{"$f":"NINo!C28","v":60},{"$f":"'Non-UK Births'!C28","v":4},{"$f":"'Pupils ethnic group'!D28","v":28},null,{"$f":"'Pop born outside UK'!C28","v":"*"}]
[26,"Perth & Kinross",null,{"$f":"'Total net migration'!C28","v":2063},{"$f":"'Total net migration 0-15'!C28","v":373},{"$f":"'Total net migration 16-64'!C28","v":1488},{"$f":"'Total net migration 65+'!C28","v":202},{"$f":"'Total in-migration'!C28","v":7387},{"$f":"'Total out-migration'!C28","v":5324},{"$f":"'Within Scotland net migration'!C28","v":382},{"$f":"'Within Scotland in-migration'!C28","v":3808},{"$f":"'Within Scotland out-migration'!C28","v":3426},{"$f":"'Rest of UK net migration'!C28","v":615},{"$f":"'Rest of UK in-migration'!C28","v":1941},{"$f":"'Rest of UK out-migration'!C28","v":1326},{"$f":"'Overseas net migration'!C28","v":1066},{"$f":"'Overseas in-migration'!C28","v":1638},{"$f":"'Overseas out-migration'!C28","v":572},{"$f":"WRS!C29","v":1420},{"$f":"NINo!C29","v":1610},{"$f":"'Non-UK Births'!C29","v":107},{"$f":"'Pupils ethnic group'!D29","v":298},null,{"$f":"'Pop born outside UK'!C29","v":6000}]
[27,"Renfrewshire",null,{"$f":"'Total net migration'!C29","v":-286},{"$f":"'Total net migration 0-15'!C29","v":105},{"$f":"'Total net migration 16-64'!C29","v":-401},{"$f":"'Total net migration 65+'!C29","v":10},{"$f":"'Total in-migration'!C29","v":5027},{"$f":"'Total out-migration'!C29","v":5313},{"$f":"'Within Scotland net migration'!C29","v":-402},{"$f":"'Within Scotland in-migration'!C29","v":3428},{"$f":"'Within Scotland out-migration'!C29","v":3830},{"$f":"'Rest of UK net migration'!C29","v":-45},{"$f":"'Rest of UK in-migration'!C29","v":901},{"$f":"'Rest of UK out-migration'!C29","v":946},{"$f":"'Overseas net migration'!C29","v":161},{"$f":"'Overseas in-migration'!C29","v":698},{"$f":"'Overseas out-migration'!C29","v":537},{"$f":"WRS!C30","v":185},{"$f":"NINo!C30","v":590},{"$f":"'Non-UK Births'!C30","v":88},{"$f":"'Pupils ethnic group'!D30","v":581},null,{"$f":"'Pop born outside UK'!C30","v":"*"}]
[28,"Scottish Borders",null,{"$f":"'Total net migration'!C30","v":1003},{"$f":"'Total net migration 0-15'!C30","v":339},{"$f":"'Total net migration 16-64'!C30","v":605},{"$f":"'Total net migration 65+'!C30","v":59},{"$f":"'Total in-migration'!C30","v":4961},{"$f":"'Total out-migration'!C30","v":3958},{"$f":"'Within Scotland net migration'!C30","v":326},{"$f":"'Within Scotland in-migration'!C30","v":2574},{"$f":"'Within Scotland out-migration'!C30","v":2248},{"$f":"'Rest of UK net migration'!C30","v":570},{"$f":"'Rest of UK in-migration'!C30","v":1833},{"$f":"'Rest of UK out-migration'!C30","v":1263},{"$f":"'Overseas net migration'!C30","v":107},{"$f":"'Overseas in-migration'!C30","v":554},{"$f":"'Overseas out-migration'!C30","v":447},{"$f":"WRS!C31","v":515},{"$f":"NINo!C31","v":630},{"$f":"'Non-UK Births'!C31","v":71},{"$f":"'Pupils ethnic group'!D31","v":182},null,{"$f":"'Pop born outside UK'!C31","v":"*"}]
[29,"Shetland Islands",null,{"$f":"'Total net migration'!C31","v":88},{"$f":"'Total net migration 0-15'!C31","v":95},{"$f":"'Total net migration 16-64'!C31","v":-11},{"$f":"'Total net migration 65+'!C31","v":4},{"$f":"'Total in-migration'!C31","v":823},{"$f":"'Total out-migration'!C31","v":735},{"$f":"'Within Scotland net migration'!C31","v":-101},{"$f":"'Within Scotland in-migration'!C31","v":380},{"$f":"'Within Scotland out-migration'!C31","v":481},{"$f":"'Rest of UK net migration'!C31","v":193},{"$f":"'Rest of UK in-migration'!C31","v":371},{"$f":"'Rest of UK out-migration'!C31","v":178},{"$f":"'Overseas net migration'!C31","v":-4},{"$f":"'Overseas in-migration'!C31","v":72},{"$f":"'Overseas out-migration'!C31","v":76},{"$f":"WRS!C32","v":35},{"$f":"NINo!C32","v":110},{"$f":"'Non-UK Births'!C32","v":18},{"$f":"'Pupils ethnic group'!D32","v":47},null,{"$f":"'Pop born outside UK'!C32","v":"*"}]
[30,"South Ayrshire",null,{"$f":"'Total net migration'!C32","v":425},{"$f":"'Total net migration 0-15'!C32","v":217},{"$f":"'Total net migration 16-64'!C32","v":78},{"$f":"'Total net migration 65+'!C32","v":130},{"$f":"'Total in-migration'!C32","v":4000},{"$f":"'Total out-migration'!C32","v":3575},{"$f":"'Within Scotland net migration'!C32","v":178},{"$f":"'Within Scotland in-migration'!C32","v":2529},{"$f":"'Within Scotland out-migration'!C32","v":2351},{"$f":"'Rest of UK net migration'!C32","v":292},{"$f":"'Rest of UK in-migration'!C32","v":1126},{"$f":"'Rest of UK out-migration'!C32","v":834},{"$f":"'Overseas net migration'!C32","v":-45},{"$f":"'Overseas in-migration'!C32","v":345},{"$f":"'Overseas out-migration'!C32","v":390},{"$f":"WRS!C33","v":25},{"$f":"NINo!C33","v":400},{"$f":"'Non-UK Births'!C33","v":49},{"$f":"'Pupils ethnic group'!D33","v":279},null,{"$f":"'Pop born outside UK'!C33","v":"*"}]
[31,"South Lanarkshire",null,{"$f":"'Total net migration'!C33","v":1079},{"$f":"'Total net migration 0-15'!C33","v":307},{"$f":"'Total net migration 16-64'!C33","v":562},{"$f":"'Total net migration 65+'!C33","v":210},{"$f":"'Total in-migration'!C33","v":9254},{"$f":"'Total out-migration'!C33","v":8175},{"$f":"'Within Scotland net migration'!C33","v":1026},{"$f":"'Within Scotland in-migration'!C33","v":6605},{"$f":"'Within Scotland out-migration'!C33","v":5579},{"$f":"'Rest of UK net migration'!C33","v":306},{"$f":"'Rest of UK in-migration'!C33","v":1882},{"$f":"'Rest of UK out-migration'!C33","v":1576},{"$f":"'Overseas net migration'!C33","v":-253},{"$f":"'Overseas in-migration'!C33","v":767},{"$f":"'Overseas out-migration'!C33","v":1020},{"$f":"WRS!C34","v":320},{"$f":"NINo!C34","v":710},{"$f":"'Non-UK Births'!C34","v":138},{"$f":"'Pupils ethnic group'!D34","v":1104},null,{"$f":"'Pop born outside UK'!C34","v":"*"}]
[32,"Stirling",null,{"$f":"'Total net migration'!C34","v":658},{"$f":"'Total net migration 0-15'!C34","v":208},{"$f":"'Total net migration 16-64'!C34","v":441},{"$f":"'Total net migration 65+'!C34","v":9},{"$f":"'Total in-migration'!C34","v":5532},{"$f":"'Total out-migration'!C34","v":4874},{"$f":"'Within Scotland net migration'!C34","v":404},{"$f":"'Within Scotland in-migration'!C34","v":3659},{"$f":"'Within Scotland out-migration'!C34","v":3255},{"$f":"'Rest of UK net migration'!C34","v":113},{"$f":"'Rest of UK in-migration'!C34","v":1058},{"$f":"'Rest of UK out-migration'!C34","v":945},{"$f":"'Overseas net migration'!C34","v":141},{"$f":"'Overseas in-migration'!C34","v":815},{"$f":"'Overseas out-migration'!C34","v":674},{"$f":"WRS!C35","v":210},{"$f":"NINo!C35","v":690},{"$f":"'Non-UK Births'!C35","v":61},{"$f":"'Pupils ethnic group'!D35","v":321},null,{"$f":"'Pop born outside UK'!C35","v":4000}]
[33,"West Dunbartonshire",null,{"$f":"'Total net migration'!C35","v":-332},{"$f":"'Total net migration 0-15'!C35","v":-141},{"$f":"'Total net migration 16-64'!C35","v":-165},{"$f":"'Total net migration 65+'!C35","v":-26},{"$f":"'Total in-migration'!C35","v":2353},{"$f":"'Total out-migration'!C35","v":2685},{"$f":"'Within Scotland net migration'!C35","v":-151},{"$f":"'Within Scotland in-migration'!C35","v":1726},{"$f":"'Within Scotland out-migration'!C35","v":1877},{"$f":"'Rest of UK net migration'!C35","v":-99},{"$f":"'Rest of UK in-migration'!C35","v":431},{"$f":"'Rest of UK out-migration'!C35","v":530},{"$f":"'Overseas net migration'!C35","v":-82},{"$f":"'Overseas in-migration'!C35","v":196},{"$f":"'Overseas out-migration'!C35","v":278},{"$f":"WRS!C36","v":20},{"$f":"NINo!C36","v":160},{"$f":"'Non-UK Births'!C36","v":28},{"$f":"'Pupils ethnic group'!D36","v":172},null,{"$f":"'Pop born outside UK'!C36","v":"*"}]
[34,"West Lothian",null,{"$f":"'Total net migration'!C36","v":844},{"$f":"'Total net migration 0-15'!C36","v":111},{"$f":"'Total net migration 16-64'!C36","v":622},{"$f":"'Total net migration 65+'!C36","v":111},{"$f":"'Total in-migration'!C36","v":5977},{"$f":"'Total out-migration'!C36","v":5133},{"$f":"'Within Scotland net migration'!C36","v":581},{"$f":"'Within Scotland in-migration'!C36","v":4221},{"$f":"'Within Scotland out-migration'!C36","v":3640},{"$f":"'Rest of UK net migration'!C36","v":88},{"$f":"'Rest of UK in-migration'!C36","v":1199},{"$f":"'Rest of UK out-migration'!C36","v":1111},{"$f":"'Overseas net migration'!C36","v":175},{"$f":"'Overseas in-migration'!C36","v":557},{"$f":"'Overseas out-migration'!C36","v":382},{"$f":"WRS!C37","v":445},{"$f":"NINo!C37","v":820},{"$f":"'Non-UK Births'!C37","v":148},{"$f":"'Pupils ethnic group'!D37","v":614},null,{"$f":"'Pop born outside UK'!C37","v":6000}]
[]
[35,"Not specified"]
[36,"SCOTLAND",null,{"$f":"'Total net migration'!C39","v":25307},{"$f":"'Total net migration 0-15'!C39","v":4434},{"$f":"'Total net migration 16-64'!C39","v":19931},{"$f":"'Total net migration 65+'!C39","v":942},{"$f":"'Total in-migration'!C39","v":99142},{"$f":"'Total out-migration'!C39","v":73835},null,null,null,{"$f":"'Rest of UK net migration'!C39","v":12507},{"$f":"'Rest of UK in-migration'!C39","v":57342},{"$f":"'Rest of UK out-migration'!C39","v":44835},{"$f":"'Overseas net migration'!C39","v":12800},{"$f":"'Overseas in-migration'!C39","v":41800},{"$f":"'Overseas out-migration'!C39","v":29000},null,null,{"$f":"'Non-UK Births'!C40","v":4675},null,null,null,{"$f":"'NHS Overseas'!C5","v":43004}]
[37,"Ayrshire & Arran",null,{"$f":"'Total net migration'!C40","v":556},{"$f":"'Total net migration 0-15'!C40","v":325},{"$f":"'Total net migration 16-64'!C40","v":29},{"$f":"'Total net migration 65+'!C40","v":202},{"$f":"'Total in-migration'!C40","v":9193},{"$f":"'Total out-migration'!C40","v":8637},{"$f":"'Within Scotland net migration'!C40","v":362},{"$f":"'Within Scotland in-migration'!C40","v":5404},{"$f":"'Within Scotland out-migration'!C40","v":5042},{"$f":"'Rest of UK net migration'!C40","v":518},{"$f":"'Rest of UK in-migration'!C40","v":2990},{"$f":"'Rest of UK out-migration'!C40","v":2472},{"$f":"'Overseas net migration'!C40","v":-324},{"$f":"'Overseas in-migration'!C40","v":799},{"$f":"'Overseas out-migration'!C40","v":1123},null,null,{"$f":"'Non-UK Births'!C41","v":146}]
[38,"Borders",null,{"$f":"'Total net migration'!C41","v":1003},{"$f":"'Total net migration 0-15'!C41","v":339},{"$f":"'Total net migration 16-64'!C41","v":605},{"$f":"'Total net migration 65+'!C41","v":59},{"$f":"'Total in-migration'!C41","v":4961},{"$f":"'Total out-migration'!C41","v":3958},{"$f":"'Within Scotland net migration'!C41","v":326},{"$f":"'Within Scotland in-migration'!C41","v":2574},{"$f":"'Within Scotland out-migration'!C41","v":2248},{"$f":"'Rest of UK net migration'!C41","v":570},{"$f":"'Rest of UK in-migration'!C41","v":1833},{"$f":"'Rest of UK out-migration'!C41","v":1263},{"$f":"'Overseas net migration'!C41","v":107},{"$f":"'Overseas in-migration'!C41","v":554},{"$f":"'Overseas out-migration'!C41","v":447},null,null,{"$f":"'Non-UK Births'!C42","v":71}]
[39,"Dumfries & Galloway",null,{"$f":"'Total net migration'!C42","v":1191},{"$f":"'Total net migration 0-15'!C42","v":276},{"$f":"'Total net migration 16-64'!C42","v":726},{"$f":"'Total net migration 65+'!C42","v":189},{"$f":"'Total in-migration'!C42","v":5481},{"$f":"'Total out-migration'!C42","v":4290},{"$f":"'Within Scotland net migration'!C42","v":-118},{"$f":"'Within Scotland in-migration'!C42","v":1835},{"$f":"'Within Scotland out-migration'!C42","v":1953},{"$f":"'Rest of UK net migration'!C42","v":1393},{"$f":"'Rest of UK in-migration'!C42","v":3144},{"$f":"'Rest of UK out-migration'!C42","v":1751},{"$f":"'Overseas net migration'!C42","v":-84},{"$f":"'Overseas in-migration'!C42","v":502},{"$f":"'Overseas out-migration'!C42","v":586},null,null,{"$f":"'Non-UK Births'!C43","v":71}]
[40,"Fife",null,{"$f":"'Total net migration'!C43","v":2657},{"$f":"'Total net migration 0-15'!C43","v":429},{"$f":"'Total net migration 16-64'!C43","v":1997},{"$f":"'Total net migration 65+'!C43","v":231},{"$f":"'Total in-migration'!C43","v":13207},{"$f":"'Total out-migration'!C43","v":10550},{"$f":"'Within Scotland net migration'!C43","v":940},{"$f":"'Within Scotland in-migration'!C43","v":6842},{"$f":"'Within Scotland out-migration'!C43","v":5902},{"$f":"'Rest of UK net migration'!C43","v":930},{"$f":"'Rest of UK in-migration'!C43","v":3873},{"$f":"'Rest of UK out-migration'!C43","v":2943},{"$f":"'Overseas net migration'!C43","v":787},{"$f":"'Overseas in-migration'!C43","v":2492},{"$f":"'Overseas out-migration'!C43","v":1705},null,null,{"$f":"'Non-UK Births'!C44","v":227}]
[41,"Forth Valley",null,{"$f":"'Total net migration'!C44","v":2872},{"$f":"'Total net migration 0-15'!C44","v":565},{"$f":"'Total net migration 16-64'!C44","v":2241},{"$f":"'Total net migration 65+'!C44","v":66},{"$f":"'Total in-migration'!C44","v":11261},{"$f":"'Total out-migration'!C44","v":8389},{"$f":"'Within Scotland net migration'!C44","v":1853},{"$f":"'Within Scotland in-migration'!C44","v":7028},{"$f":"'Within Scotland out-migration'!C44","v":5175},{"$f":"'Rest of UK net migration'!C44","v":624},{"$f":"'Rest of UK in-migration'!C44","v":2598},{"$f":"'Rest of UK out-migration'!C44","v":1974},{"$f":"'Overseas net migration'!C44","v":395},{"$f":"'Overseas in-migration'!C44","v":1635},{"$f":"'Overseas out-migration'!C44","v":1240},null,null,{"$f":"'Non-UK Births'!C45","v":185}]
[42,"Grampian",null,{"$f":"'Total net migration'!C45","v":4583},{"$f":"'Total net migration 0-15'!C45","v":1082},{"$f":"'Total net migration 16-64'!C45","v":3179},{"$f":"'Total net migration 65+'!C45","v":322},{"$f":"'Total in-migration'!C45","v":19967},{"$f":"'Total out-migration'!C45","v":15384},{"$f":"'Within Scotland net migration'!C45","v":-287},{"$f":"'Within Scotland in-migration'!C45","v":6793},{"$f":"'Within Scotland out-migration'!C45","v":7080},{"$f":"'Rest of UK net migration'!C45","v":2029},{"$f":"'Rest of UK in-migration'!C45","v":6959},{"$f":"'Rest of UK out-migration'!C45","v":4930},{"$f":"'Overseas net migration'!C45","v":2841},{"$f":"'Overseas in-migration'!C45","v":6215},{"$f":"'Overseas out-migration'!C45","v":3374},null,null,{"$f":"'Non-UK Births'!C46","v":574}]
[43,"Greater Glasgow & Clyde",null,{"$f":"'Total net migration'!C46","v":-2419},{"$f":"'Total net migration 0-15'!C46","v":-789},{"$f":"'Total net migration 16-64'!C46","v":-877},{"$f":"'Total net migration 65+'!C46","v":-753},{"$f":"'Total in-migration'!C46","v":37775},{"$f":"'Total out-migration'!C46","v":40194},{"$f":"'Within Scotland net migration'!C46","v":-3804},{"$f":"'Within Scotland in-migration'!C46","v":18095},{"$f":"'Within Scotland out-migration'!C46","v":21899},{"$f":"'Rest of UK net migration'!C46","v":-129},{"$f":"'Rest of UK in-migration'!C46","v":9270},{"$f":"'Rest of UK out-migration'!C46","v":9399},{"$f":"'Overseas net migration'!C46","v":1514},{"$f":"'Overseas in-migration'!C46","v":10410},{"$f":"'Overseas out-migration'!C46","v":8896},null,null,{"$f":"'Non-UK Births'!C47","v":1546}]
[44,"Highland",null,{"$f":"'Total net migration'!C47","v":3299},{"$f":"'Total net migration 0-15'!C47","v":725},{"$f":"'Total net migration 16-64'!C47","v":2347},{"$f":"'Total net migration 65+'!C47","v":227},{"$f":"'Total in-migration'!C47","v":14615},{"$f":"'Total out-migration'!C47","v":11316},{"$f":"'Within Scotland net migration'!C47","v":58},{"$f":"'Within Scotland in-migration'!C47","v":6607},{"$f":"'Within Scotland out-migration'!C47","v":6549},{"$f":"'Rest of UK net migration'!C47","v":2718},{"$f":"'Rest of UK in-migration'!C47","v":6048},{"$f":"'Rest of UK out-migration'!C47","v":3330},{"$f":"'Overseas net migration'!C47","v":523},{"$f":"'Overseas in-migration'!C47","v":1960},{"$f":"'Overseas out-migration'!C47","v":1437},null,null,{"$f":"'Non-UK Births'!C48","v":215}]
[45,"Lanarkshire",null,{"$f":"'Total net migration'!C48","v":1023},{"$f":"'Total net migration 0-15'!C48","v":298},{"$f":"'Total net migration 16-64'!C48","v":440},{"$f":"'Total net migration 65+'!C48","v":285},{"$f":"'Total in-migration'!C48","v":12548},{"$f":"'Total out-migration'!C48","v":11525},{"$f":"'Within Scotland net migration'!C48","v":924},{"$f":"'Within Scotland in-migration'!C48","v":8230},{"$f":"'Within Scotland out-migration'!C48","v":7306},{"$f":"'Rest of UK net migration'!C48","v":312},{"$f":"'Rest of UK in-migration'!C48","v":3015},{"$f":"'Rest of UK out-migration'!C48","v":2703},{"$f":"'Overseas net migration'!C48","v":-213},{"$f":"'Overseas in-migration'!C48","v":1303},{"$f":"'Overseas out-migration'!C48","v":1516},null,null,{"$f":"'Non-UK Births'!C49","v":197}]
[46,"Lothian",null,{"$f":"'Total net migration'!C49","v":6337},{"$f":"'Total net migration 0-15'!C49","v":156},{"$f":"'Total net migration 16-64'!C49","v":6347},{"$f":"'Total net migration 65+'!C49","v":-166},{"$f":"'Total in-migration'!C49","v":35920},{"$f":"'Total out-migration'!C49","v":29583},{"$f":"'Within Scotland net migration'!C49","v":-714},{"$f":"'Within Scotland in-migration'!C49","v":12128},{"$f":"'Within Scotland out-migration'!C49","v":12842},{"$f":"'Rest of UK net migration'!C49","v":1674},{"$f":"'Rest of UK in-migration'!C49","v":11803},{"$f":"'Rest of UK out-migration'!C49","v":10129},{"$f":"'Overseas net migration'!C49","v":5377},{"$f":"'Overseas in-migration'!C49","v":11989},{"$f":"'Overseas out-migration'!C49","v":6612},null,null,{"$f":"'Non-UK Births'!C50","v":1094}]
[47,"Orkney",null,{"$f":"'Total net migration'!C50","v":135},{"$f":"'Total net migration 0-15'!C50","v":63},{"$f":"'Total net migration 16-64'!C50","v":67},{"$f":"'Total net migration 65+'!C50","v":5},{"$f":"'Total in-migration'!C50","v":801},{"$f":"'Total out-migration'!C50","v":666},{"$f":"'Within Scotland net migration'!C50","v":-15},{"$f":"'Within Scotland in-migration'!C50","v":381},{"$f":"'Within Scotland out-migration'!C50","v":396},{"$f":"'Rest of UK net migration'!C50","v":175},{"$f":"'Rest of UK in-migration'!C50","v":370},{"$f":"'Rest of UK out-migration'!C50","v":195},{"$f":"'Overseas net migration'!C50","v":-25},{"$f":"'Overseas in-migration'!C50","v":50},{"$f":"'Overseas out-migration'!C50","v":75},null,null,{"$f":"'Non-UK Births'!C51","v":4}]
[48,"Shetland",null,{"$f":"'Total net migration'!C51","v":88},{"$f":"'Total net migration 0-15'!C51","v":95},{"$f":"'Total net migration 16-64'!C51","v":-11},{"$f":"'Total net migration 65+'!C51","v":4},{"$f":"'Total in-migration'!C51","v":823},{"$f":"'Total out-migration'!C51","v":735},{"$f":"'Within Scotland net migration'!C51","v":-101},{"$f":"'Within Scotland in-migration'!C51","v":380},{"$f":"'Within Scotland out-migration'!C51","v":481},{"$f":"'Rest of UK net migration'!C51","v":193},{"$f":"'Rest of UK in-migration'!C51","v":371},{"$f":"'Rest of UK out-migration'!C51","v":178},{"$f":"'Overseas net migration'!C51","v":-4},{"$f":"'Overseas in-migration'!C51","v":72},{"$f":"'Overseas out-migration'!C51","v":76},null,null,{"$f":"'Non-UK Births'!C52","v":18}]
[49,"Tayside",null,{"$f":"'Total net migration'!C52","v":3708},{"$f":"'Total net migration 0-15'!C52","v":766},{"$f":"'Total net migration 16-64'!C52","v":2716},{"$f":"'Total net migration 65+'!C52","v":226},{"$f":"'Total in-migration'!C52","v":15422},{"$f":"'Total out-migration'!C52","v":11714},{"$f":"'Within Scotland net migration'!C52","v":541},{"$f":"'Within Scotland in-migration'!C52","v":7078},{"$f":"'Within Scotland out-migration'!C52","v":6537},{"$f":"'Rest of UK net migration'!C52","v":1255},{"$f":"'Rest of UK in-migration'!C52","v":4605},{"$f":"'Rest of UK out-migration'!C52","v":3350},{"$f":"'Overseas net migration'!C52","v":1912},{"$f":"'Overseas in-migration'!C52","v":3739},{"$f":"'Overseas out-migration'!C52","v":1827},null,null,{"$f":"'Non-UK Births'!C53","v":319}]
[50,"Western Isles",null,{"$f":"'Total net migration'!C53","v":274},{"$f":"'Total net migration 0-15'!C53","v":104},{"$f":"'Total net migration 16-64'!C53","v":125},{"$f":"'Total net migration 65+'!C53","v":45},{"$f":"'Total in-migration'!C53","v":1219},{"$f":"'Total out-migration'!C53","v":945},{"$f":"'Within Scotland net migration'!C53","v":35},{"$f":"'Within Scotland in-migration'!C53","v":676},{"$f":"'Within Scotland out-migration'!C53","v":641},{"$f":"'Rest of UK net migration'!C53","v":245},{"$f":"'Rest of UK in-migration'!C53","v":463},{"$f":"'Rest of UK out-migration'!C53","v":218},{"$f":"'Overseas net migration'!C53","v":-6},{"$f":"'Overseas in-migration'!C53","v":80},{"$f":"'Overseas out-migration'!C53","v":86},null,null,{"$f":"'Non-UK Births'!C54","v":8}]

{"sheet":"2005 Rate","index":38,"n_rows":53,"n_cols":27,"rows_kept":53,"cut":false,"hidden":true,"merged":[]}
[null,2005,"RATE"]
[null,null,"Not specified ","Total net migration","Total net migration for ages 0-15","Total net migration for ages 16-64","Total net migration for people aged 65+","Total in-migration","Total out-migration","Within Scotland net migration","Within Scotland in-migration","Within Scotland out-migration","Rest of UK net migration","Rest of UK in-migration","Rest of UK out-migration","Overseas net migration","Overseas in-migration","Overseas out-migration","Worker Registration Scheme","NINo Allocation","Births to non-UK mothers","Pupils from a minority ethnic group","Pupils with English as an additional language","Estimate of resident population born outside the UK","NHS registrations from overseas",null,"Mid-year population estimate"]
[1,"Not specified"]
[2,"SCOTLAND",null,{"$f":"('2005'!D4/'2005 Rate'!AA4)*1000","v":4.9522523580290407},{"$f":"('2005'!E4/'2005 Rate'!AA4)*1000","v":0.86767641188211808},{"$f":"('2005'!F4/'2005 Rate'!AA4)*1000","v":3.9002387382098549},{"$f":"('2005'!G4/'2005 Rate'!AA4)*1000","v":0.18433720793706707},{"$f":"('2005'!H4/'2005 Rate'!AA4)*1000","v":19.400806230675901},{"$f":"('2005'!I4/'2005 Rate'!AA4)*1000","v":14.448553872646864},null,null,null,{"$f":"('2005'!M4/'2005 Rate'!AA4)*1000","v":2.4474580251262181},{"$f":"('2005'!N4/'2005 Rate'!AA4)*1000","v":11.221087237290126},{"$f":"('2005'!O4/'2005 Rate'!AA4)*1000","v":8.7736292121639075},{"$f":"('2005'!P4/'2005 Rate'!AA4)*1000","v":2.5047943329028217},{"$f":"('2005'!Q4/'2005 Rate'!AA4)*1000","v":8.1797189933857766},{"$f":"('2005'!R4/'2005 Rate'!AA4)*1000","v":5.6749246604829553},{"$f":"('2005'!S4/'2005 Rate'!AA4)*1000","v":2.8266995420922862},{"$f":"('2005'!T4/'2005 Rate'!AA4)*1000","v":7.7120269265390782},{"$f":"('2005'!U4/'2005 Rate'!AA4)*1000","v":0.91483699268130403},{"$f":"('2005'!V4/'2005 Rate'!AA4)*1000","v":5.1162381120112714},null,{"$f":"('2005'!X4/'2005 Rate'!AA4)*1000","v":43.442526711283321},{"$f":"('2005'!Y4/'2005 Rate'!AA4)*1000","v":8.4153262103244497},"SCOTLAND",{"$f":"'Population estimates'!C4","v":5110200}]
[3,"Aberdeen City",null,{"$f":"('2005'!D5/'2005 Rate'!AA5)*1000","v":5.3188940533806131},{"$f":"('2005'!E5/'2005 Rate'!AA5)*1000","v":1.0158608462312522},{"$f":"('2005'!F5/'2005 Rate'!AA5)*1000","v":4.6144999760410181},{"$f":"('2005'!G5/'2005 Rate'!AA5)*1000","v":-0.31146676889165748},{"$f":"('2005'!H5/'2005 Rate'!AA5)*1000","v":59.41827591163927},{"$f":"('2005'!I5/'2005 Rate'!AA5)*1000","v":54.09938185825866},{"$f":"('2005'!J5/'2005 Rate'!AA5)*1000","v":-5.2038909387129237},{"$f":"('2005'!K5/'2005 Rate'!AA5)*1000","v":27.92179788202597},{"$f":"('2005'!L5/'2005 Rate'!AA5)*1000","v":33.125688820738894},{"$f":"('2005'!M5/'2005 Rate'!AA5)*1000","v":0.22042263644640375},{"$f":"('2005'!N5/'2005 Rate'!AA5)*1000","v":10.786333796540324},{"$f":"('2005'!O5/'2005 Rate'!AA5)*1000","v":10.56591116009392},{"$f":"('2005'!P5/'2005 Rate'!AA5)*1000","v":10.302362355647132},{"$f":"('2005'!Q5/'2005 Rate'!AA5)*1000","v":20.710144233072977},{"$f":"('2005'!R5/'2005 Rate'!AA5)*1000","v":10.407781877425847},{"$f":"('2005'!S5/'2005 Rate'!AA5)*1000","v":2.8271599022473524},{"$f":"('2005'!T5/'2005 Rate'!AA5)*1000","v":17.154631271263597},{"$f":"('2005'!U5/'2005 Rate'!AA5)*1000","v":1.5812928266807225},{"$f":"('2005'!V5/'2005 Rate'!AA5)*1000","v":5.9945373520532845},null,{"$f":"('2005'!X5/'2005 Rate'!AA5)*1000","v":57.50155733384446},null,"Aberdeen City",{"$f":"'Population estimates'!C5","v":208690}]
[4,"Aberdeenshire",null,{"$f":"('2005'!D6/'2005 Rate'!AA6)*1000","v":11.701814202129899},{"$f":"('2005'!E6/'2005 Rate'!AA6)*1000","v":3.4979164035863115},{"$f":"('2005'!F6/'2005 Rate'!AA6)*1000","v":7.01687923559372},{"$f":"('2005'!G6/'2005 Rate'!AA6)*1000","v":1.1870185629498675},{"$f":"('2005'!H6/'2005 Rate'!AA6)*1000","v":43.321968261985944},{"$f":"('2005'!I6/'2005 Rate'!AA6)*1000","v":31.620154059856041},{"$f":"('2005'!J6/'2005 Rate'!AA6)*1000","v":3.657869259586648},{"$f":"('2005'!K6/'2005 Rate'!AA6)*1000","v":24.910552679210337},{"$f":"('2005'!L6/'2005 Rate'!AA6)*1000","v":21.25268341962369},{"$f":"('2005'!M6/'2005 Rate'!AA6)*1000","v":5.4215599612745713},{"$f":"('2005'!N6/'2005 Rate'!AA6)*1000","v":12.573136338763311},{"$f":"('2005'!O6/'2005 Rate'!AA6)*1000","v":7.1515763774887402},{"$f":"('2005'!P6/'2005 Rate'!AA6)*1000","v":2.622384981268679},{"$f":"('2005'!Q6/'2005 Rate'!AA6)*1000","v":5.8382792440122913},{"$f":"('2005'!R6/'2005 Rate'!AA6)*1000","v":3.2158942627436122},{"$f":"('2005'!S6/'2005 Rate'!AA6)*1000","v":4.7775392515890056},{"$f":"('2005'!T6/'2005 Rate'!AA6)*1000","v":6.776949951593215},{"$f":"('2005'!U6/'2005 Rate'!AA6)*1000","v":0.77871785158058682},{"$f":"('2005'!V6/'2005 Rate'!AA6)*1000","v":1.9152249863198214},null,null,null,"Aberdeenshire",{"$f":"'Population estimates'!C6","v":237570}]
[5,"Angus",null,{"$f":"('2005'!D7/'2005 Rate'!AA7)*1000","v":9.637147476199031},{"$f":"('2005'!E7/'2005 Rate'!AA7)*1000","v":3.1255613436321177},{"$f":"('2005'!F7/'2005 Rate'!AA7)*1000","v":5.3350098796479255},{"$f":"('2005'!G7/'2005 Rate'!AA7)*1000","v":1.1765762529189869},{"$f":"('2005'!H7/'2005 Rate'!AA7)*1000","v":40.955631399317404},{"$f":"('2005'!I7/'2005 Rate'!AA7)*1000","v":31.318483923118375},{"$f":"('2005'!J7/'2005 Rate'!AA7)*1000","v":4.5446380456260105},{"$f":"('2005'!K7/'2005 Rate'!AA7)*1000","v":27.62708819831148},{"$f":"('2005'!L7/'2005 Rate'!AA7)*1000","v":23.082450152685471},{"$f":"('2005'!M7/'2005 Rate'!AA7)*1000","v":3.9428776719956891},{"$f":"('2005'!N7/'2005 Rate'!AA7)*1000","v":9.9694629064127902},{"$f":"('2005'!O7/'2005 Rate'!AA7)*1000","v":6.0265852344171007},{"$f":"('2005'!P7/'2005 Rate'!AA7)*1000","v":1.1496317585773306},{"$f":"('2005'!Q7/'2005 Rate'!AA7)*1000","v":3.3590802945931379},{"$f":"('2005'!R7/'2005 Rate'!AA7)*1000","v":2.2094485360158074},{"$f":"('2005'!S7/'2005 Rate'!AA7)*1000","v":8.5773306987605533},{"$f":"('2005'!T7/'2005 Rate'!AA7)*1000","v":7.0953835099694631},{"$f":"('2005'!U7/'2005 Rate'!AA7)*1000","v":0.54787138494700915},{"$f":"('2005'!V7/'2005 Rate'!AA7)*1000","v":1.7334291359798815},null,null,null,"Angus",{"$f":"'Population estimates'!C7","v":111340}]
[6,"Argyll & Bute",null,{"$f":"('2005'!D8/'2005 Rate'!AA8)*1000","v":4.8367459878251244},{"$f":"('2005'!E8/'2005 Rate'!AA8)*1000","v":1.4277808522412838},{"$f":"('2005'!F8/'2005 Rate'!AA8)*1000","v":3.3978970669618151},{"$f":"('2005'!G8/'2005 Rate'!AA8)*1000","v":1.1068068622025456E-2},{"$f":"('2005'!H8/'2005 Rate'!AA8)*1000","v":52.628666297731044},{"$f":"('2005'!I8/'2005 Rate'!AA8)*1000","v":47.791920309905919},{"$f":"('2005'!J8/'2005 Rate'!AA8)*1000","v":-0.34311012728278917},{"$f":"('2005'!K8/'2005 Rate'!AA8)*1000","v":26.995019369120087},{"$f":"('2005'!L8/'2005 Rate'!AA8)*1000","v":27.338129496402875},{"$f":"('2005'!M8/'2005 Rate'!AA8)*1000","v":6.286662977310459},{"$f":"('2005'!N8/'2005 Rate'!AA8)*1000","v":20.486995019369122},{"$f":"('2005'!O8/'2005 Rate'!AA8)*1000","v":14.20033204205866},{"$f":"('2005'!P8/'2005 Rate'!AA8)*1000","v":-1.1068068622025455},{"$f":"('2005'!Q8/'2005 Rate'!AA8)*1000","v":5.1466519092418377},{"$f":"('2005'!R8/'2005 Rate'!AA8)*1000","v":6.2534587714443832},{"$f":"('2005'!S8/'2005 Rate'!AA8)*1000","v":3.5971223021582737},{"$f":"('2005'!T8/'2005 Rate'!AA8)*1000","v":7.5262866629773102},{"$f":"('2005'!U8/'2005 Rate'!AA8)*1000","v":0.57553956834532372},{"$f":"('2005'!V8/'2005 Rate'!AA8)*1000","v":2.0697288323187601},null,null,null,"Argyll & Bute",{"$f":"'Population estimates'!C8","v":90350}]
[7,"Clackmannanshire",null,{"$f":"('2005'!D9/'2005 Rate'!AA9)*1000","v":11.635475996745321},{"$f":"('2005'!E9/'2005 Rate'!AA9)*1000","v":3.1733116354759967},{"$f":"('2005'!F9/'2005 Rate'!AA9)*1000","v":8.2994304312449145},{"$f":"('2005'!G9/'2005 Rate'!AA9)*1000","v":0.16273393002441008},{"$f":"('2005'!H9/'2005 Rate'!AA9)*1000","v":43.368592351505285},{"$f":"('2005'!I9/'2005 Rate'!AA9)*1000","v":31.733116354759972},{"$f":"('2005'!J9/'2005 Rate'!AA9)*1000","v":5.98047192839707},{"$f":"('2005'!K9/'2005 Rate'!AA9)*1000","v":29.048006509357201},{"$f":"('2005'!L9/'2005 Rate'!AA9)*1000","v":23.067534580960132},{"$f":"('2005'!M9/'2005 Rate'!AA9)*1000","v":5.4922701383238408},{"$f":"('2005'!N9/'2005 Rate'!AA9)*1000","v":11.228641171684297},{"$f":"('2005'!O9/'2005 Rate'!AA9)*1000","v":5.7363710333604558},{"$f":"('2005'!P9/'2005 Rate'!AA9)*1000","v":0.16273393002441008},{"$f":"('2005'!Q9/'2005 Rate'!AA9)*1000","v":3.0919446704637918},{"$f":"('2005'!R9/'2005 Rate'!AA9)*1000","v":2.9292107404393817},{"$f":"('2005'!S9/'2005 Rate'!AA9)*1000","v":0.91537835638730669},{"$f":"('2005'!T9/'2005 Rate'!AA9)*1000","v":2.2375915378356388},{"$f":"('2005'!U9/'2005 Rate'!AA9)*1000","v":0.54922701383238404},{"$f":"('2005'!V9/'2005 Rate'!AA9)*1000","v":2.5834011391375102},null,null,null,"Clackmannanshire",{"$f":"'Population estimates'!C9","v":49160}]
[8,"Dumfries & Galloway",null,{"$f":"('2005'!D10/'2005 Rate'!AA10)*1000","v":7.9601657532415455},{"$f":"('2005'!E10/'2005 Rate'!AA10)*1000","v":1.8446731720358243},{"$f":"('2005'!F10/'2005 Rate'!AA10)*1000","v":4.8522924742681459},{"$f":"('2005'!G10/'2005 Rate'!AA10)*1000","v":1.2632001069375753},{"$f":"('2005'!H10/'2005 Rate'!AA10)*1000","v":36.63280310118968},{"$f":"('2005'!I10/'2005 Rate'!AA10)*1000","v":28.672637347948136},{"$f":"('2005'!J10/'2005 Rate'!AA10)*1000","v":-0.78866461702980883},{"$f":"('2005'!K10/'2005 Rate'!AA10)*1000","v":12.264403154658469},{"$f":"('2005'!L10/'2005 Rate'!AA10)*1000","v":13.053067771688278},{"$f":"('2005'!M10/'2005 Rate'!AA10)*1000","v":9.310252640021389},{"$f":"('2005'!N10/'2005 Rate'!AA10)*1000","v":21.01323352492982},{"$f":"('2005'!O10/'2005 Rate'!AA10)*1000","v":11.702980884908435},{"$f":"('2005'!P10/'2005 Rate'!AA10)*1000","v":-0.5614222697500334},{"$f":"('2005'!Q10/'2005 Rate'!AA10)*1000","v":3.3551664216013903},{"$f":"('2005'!R10/'2005 Rate'!AA10)*1000","v":3.9165886913514236},{"$f":"('2005'!S10/'2005 Rate'!AA10)*1000","v":1.6708996123512898},{"$f":"('2005'!T10/'2005 Rate'!AA10)*1000","v":4.2106670231252501},{"$f":"('2005'!U10/'2005 Rate'!AA10)*1000","v":0.47453548990776634},{"$f":"('2005'!V10/'2005 Rate'!AA10)*1000","v":2.218954685202513},null,null,null,"Dumfries & Galloway",{"$f":"'Population estimates'!C10","v":149620}]
[9,"Dundee City",null,{"$f":"('2005'!D11/'2005 Rate'!AA11)*1000","v":3.9832869080779947},{"$f":"('2005'!E11/'2005 Rate'!AA11)*1000","v":0.31337047353760444},{"$f":"('2005'!F11/'2005 Rate'!AA11)*1000","v":4.415041782729805},{"$f":"('2005'!G11/'2005 Rate'!AA11)*1000","v":-0.745125348189415},{"$f":"('2005'!H11/'2005 Rate'!AA11)*1000","v":47.715877437325908},{"$f":"('2005'!I11/'2005 Rate'!AA11)*1000","v":43.732590529247908},{"$f":"('2005'!J11/'2005 Rate'!AA11)*1000","v":-2.4164345403899721},{"$f":"('2005'!K11/'2005 Rate'!AA11)*1000","v":24.867688022284121},{"$f":"('2005'!L11/'2005 Rate'!AA11)*1000","v":27.284122562674096},{"$f":"('2005'!M11/'2005 Rate'!AA11)*1000","v":1.3997214484679665},{"$f":"('2005'!N11/'2005 Rate'!AA11)*1000","v":10.821727019498608},{"$f":"('2005'!O11/'2005 Rate'!AA11)*1000","v":9.4220055710306401},{"$f":"('2005'!P11/'2005 Rate'!AA11)*1000","v":5},{"$f":"('2005'!Q11/'2005 Rate'!AA11)*1000","v":12.026462395543176},{"$f":"('2005'!R11/'2005 Rate'!AA11)*1000","v":7.0264623955431755},{"$f":"('2005'!S11/'2005 Rate'!AA11)*1000","v":1.5668523676880222},{"$f":"('2005'!T11/'2005 Rate'!AA11)*1000","v":10.30640668523677},{"$f":"('2005'!U11/'2005 Rate'!AA11)*1000","v":1.051532033426184},{"$f":"('2005'!V11/'2005 Rate'!AA11)*1000","v":6.4484679665738156},null,{"$f":"('2005'!X11/'2005 Rate'!AA11)*1000","v":48.746518105849582},null,"Dundee City",{"$f":"'Population estimates'!C11","v":143600}]
[10,"East Ayrshire",null,{"$f":"('2005'!D12/'2005 Rate'!AA12)*1000","v":0.29930162953109413},{"$f":"('2005'!E12/'2005 Rate'!AA12)*1000","v":0.49052211506484866},{"$f":"('2005'!F12/'2005 Rate'!AA12)*1000","v":-0.22447622214832058},{"$f":"('2005'!G12/'2005 Rate'!AA12)*1000","v":3.3255736614566017E-2},{"$f":"('2005'!H12/'2005 Rate'!AA12)*1000","v":28.641503159294977},{"$f":"('2005'!I12/'2005 Rate'!AA12)*1000","v":28.342201529763884},{"$f":"('2005'!J12/'2005 Rate'!AA12)*1000","v":-0.23279015630196209},{"$f":"('2005'!K12/'2005 Rate'!AA12)*1000","v":19.886930495510477},{"$f":"('2005'!L12/'2005 Rate'!AA12)*1000","v":20.11972065181244},{"$f":"('2005'!M12/'2005 Rate'!AA12)*1000","v":1.2554040571998668},{"$f":"('2005'!N12/'2005 Rate'!AA12)*1000","v":7.1333555038244096},{"$f":"('2005'!O12/'2005 Rate'!AA12)*1000","v":5.8779514466245431},{"$f":"('2005'!P12/'2005 Rate'!AA12)*1000","v":-0.72331227136681076},{"$f":"('2005'!Q12/'2005 Rate'!AA12)*1000","v":1.6212171599600931},{"$f":"('2005'!R12/'2005 Rate'!AA12)*1000","v":2.3445294313269041},{"$f":"('2005'!S12/'2005 Rate'!AA12)*1000","v":0.49883604921849017},{"$f":"('2005'!T12/'2005 Rate'!AA12)*1000","v":1.3302294645826405},{"$f":"('2005'!U12/'2005 Rate'!AA12)*1000","v":0.34918523445294314},{"$f":"('2005'!V12/'2005 Rate'!AA12)*1000","v":1.8207515796474891},null,null,null,"East Ayrshire",{"$f":"'Population estimates'!C12","v":120280}]
[11,"East Dunbartonshire",null,{"$f":"('2005'!D13/'2005 Rate'!AA13)*1000","v":-4.545454545454545},{"$f":"('2005'!E13/'2005 Rate'!AA13)*1000","v":2.1218408147868728},{"$f":"('2005'!F13/'2005 Rate'!AA13)*1000","v":-6.0731799321010937},{"$f":"('2005'!G13/'2005 Rate'!AA13)*1000","v":-0.59411542814032436},{"$f":"('2005'!H13/'2005 Rate'!AA13)*1000","v":34.63787250094304},{"$f":"('2005'!I13/'2005 Rate'!AA13)*1000","v":39.183327046397586},{"$f":"('2005'!J13/'2005 Rate'!AA13)*1000","v":-2.4519049415314975},{"$f":"('2005'!K13/'2005 Rate'!AA13)*1000","v":27.235005658242173},{"$f":"('2005'!L13/'2005 Rate'!AA13)*1000","v":29.686910599773668},{"$f":"('2005'!M13/'2005 Rate'!AA13)*1000","v":-1.6786118445869482},{"$f":"('2005'!N13/'2005 Rate'!AA13)*1000","v":4.6114673708034708},{"$f":"('2005'!O13/'2005 Rate'!AA13)*1000","v":6.2900792153904188},{"$f":"('2005'!P13/'2005 Rate'!AA13)*1000","v":-0.41493775933609955},{"$f":"('2005'!Q13/'2005 Rate'!AA13)*1000","v":2.7913994718973973},{"$f":"('2005'!R13/'2005 Rate'!AA13)*1000","v":3.2063372312334968},{"$f":"('2005'!S13/'2005 Rate'!AA13)*1000","v":0.28291210863824973},{"$f":"('2005'!T13/'2005 Rate'!AA13)*1000","v":1.6031686156167484},{"$f":"('2005'!U13/'2005 Rate'!AA13)*1000","v":0.61297623538287438},{"$f":"('2005'!V13/'2005 Rate'!AA13)*1000","v":9.034326669181441},null,{"$f":"('2005'!X13/'2005 Rate'!AA13)*1000","v":37.721614485099963},null,"East Dunbartonshire",{"$f":"'Population estimates'!C13","v":106040}]
[12,"East Lothian",null,{"$f":"('2005'!D14/'2005 Rate'!AA14)*1000","v":5.3596462849131887},{"$f":"('2005'!E14/'2005 Rate'!AA14)*1000","v":1.5421115065243178},{"$f":"('2005'!F14/'2005 Rate'!AA14)*1000","v":2.8793270786153347},{"$f":"('2005'!G14/'2005 Rate'!AA14)*1000","v":0.93820769977353602},{"$f":"('2005'!H14/'2005 Rate'!AA14)*1000","v":39.318451418095549},{"$f":"('2005'!I14/'2005 Rate'!AA14)*1000","v":33.958805133182352},{"$f":"('2005'!J14/'2005 Rate'!AA14)*1000","v":5.2194543297746145},{"$f":"('2005'!K14/'2005 Rate'!AA14)*1000","v":29.429526582551492},{"$f":"('2005'!L14/'2005 Rate'!AA14)*1000","v":24.210072252776879},{"$f":"('2005'!M14/'2005 Rate'!AA14)*1000","v":0.10783996549121104},{"$f":"('2005'!N14/'2005 Rate'!AA14)*1000","v":7.139005715518171},{"$f":"('2005'!O14/'2005 Rate'!AA14)*1000","v":7.0311657500269593},{"$f":"('2005'!P14/'2005 Rate'!AA14)*1000","v":3.2351989647363313E-2},{"$f":"('2005'!Q14/'2005 Rate'!AA14)*1000","v":2.7499191200258815},{"$f":"('2005'!R14/'2005 Rate'!AA14)*1000","v":2.7175671303785185},{"$f":"('2005'!S14/'2005 Rate'!AA14)*1000","v":1.7254394478593766},{"$f":"('2005'!T14/'2005 Rate'!AA14)*1000","v":3.0195190337539093},{"$f":"('2005'!U14/'2005 Rate'!AA14)*1000","v":0.75487975843847732},{"$f":"('2005'!V14/'2005 Rate'!AA14)*1000","v":2.2107192925698262},null,{"$f":"('2005'!X14/'2005 Rate'!AA14)*1000","v":32.351989647363311},null,"East Lothian",{"$f":"'Population estimates'!C14","v":92730}]
[13,"East Renfrewshire",null,{"$f":"('2005'!D15/'2005 Rate'!AA15)*1000","v":-0.18914107699154428},{"$f":"('2005'!E15/'2005 Rate'!AA15)*1000","v":3.0485091232754784},{"$f":"('2005'!F15/'2005 Rate'!AA15)*1000","v":-3.6270582999554959},{"$f":"('2005'!G15/'2005 Rate'!AA15)*1000","v":0.38940809968847351},{"$f":"('2005'!H15/'2005 Rate'!AA15)*1000","v":37.939474855362704},{"$f":"('2005'!I15/'2005 Rate'!AA15)*1000","v":38.128615932354244},{"$f":"('2005'!J15/'2005 Rate'!AA15)*1000","v":1.4686248331108145},{"$f":"('2005'!K15/'2005 Rate'!AA15)*1000","v":30.930129060970181},{"$f":"('2005'!L15/'2005 Rate'!AA15)*1000","v":29.461504227859368},{"$f":"('2005'!M15/'2005 Rate'!AA15)*1000","v":-0.8010680907877169},{"$f":"('2005'!N15/'2005 Rate'!AA15)*1000","v":5.0623052959501553},{"$f":"('2005'!O15/'2005 Rate'!AA15)*1000","v":5.8633733867378721},{"$f":"('2005'!P15/'2005 Rate'!AA15)*1000","v":-0.85669781931464173},{"$f":"('2005'!Q15/'2005 Rate'!AA15)*1000","v":1.9470404984423677},{"$f":"('2005'!R15/'2005 Rate'!AA15)*1000","v":2.8037383177570092},{"$f":"('2005'!S15/'2005 Rate'!AA15)*1000","v":0.22251891410769914},{"$f":"('2005'!T15/'2005 Rate'!AA15)*1000","v":1.4463729417000446},{"$f":"('2005'!U15/'2005 Rate'!AA15)*1000","v":0.81219403649310196},{"$f":"('2005'!V15/'2005 Rate'!AA15)*1000","v":17.489986648865155},null,{"$f":"('2005'!X15/'2005 Rate'!AA15)*1000","v":33.377837116154872},null,"East Renfrewshire",{"$f":"'Population estimates'!C15","v":89880}]
[14,"Edinburgh, City of",null,{"$f":"('2005'!D16/'2005 Rate'!AA16)*1000","v":11.829224882085967},{"$f":"('2005'!E16/'2005 Rate'!AA16)*1000","v":-0.14461155112574531},{"$f":"('2005'!F16/'2005 Rate'!AA16)*1000","v":12.750289223102252},{"$f":"('2005'!G16/'2005 Rate'!AA16)*1000","v":-0.77645278989054023},{"$f":"('2005'!H16/'2005 Rate'!AA16)*1000","v":70.899706327311563},{"$f":"('2005'!I16/'2005 Rate'!AA16)*1000","v":59.070481445225596},{"$f":"('2005'!J16/'2005 Rate'!AA16)*1000","v":-3.4551036753581919},{"$f":"('2005'!K16/'2005 Rate'!AA16)*1000","v":25.202456171576042},{"$f":"('2005'!L16/'2005 Rate'!AA16)*1000","v":28.657559846934234},{"$f":"('2005'!M16/'2005 Rate'!AA16)*1000","v":3.6709086054996884},{"$f":"('2005'!N16/'2005 Rate'!AA16)*1000","v":21.200053395034264},{"$f":"('2005'!O16/'2005 Rate'!AA16)*1000","v":17.529144789534573},{"$f":"('2005'!P16/'2005 Rate'!AA16)*1000","v":11.613419951944469},{"$f":"('2005'!Q16/'2005 Rate'!AA16)*1000","v":24.497196760701254},{"$f":"('2005'!R16/'2005 Rate'!AA16)*1000","v":12.883776808756785},{"$f":"('2005'!S16/'2005 Rate'!AA16)*1000","v":4.9724125656313962},{"$f":"('2005'!T16/'2005 Rate'!AA16)*1000","v":24.606211622319123},{"$f":"('2005'!U16/'2005 Rate'!AA16)*1000","v":1.8599270267865089},{"$f":"('2005'!V16/'2005 Rate'!AA16)*1000","v":8.7523360327489534},null,{"$f":"('2005'!X16/'2005 Rate'!AA16)*1000","v":104.56527542938507},null,"Edinburgh, City of",{"$f":"'Population estimates'!C16","v":449480}]
[15,"Eilean Siar",null,{"$f":"('2005'!D17/'2005 Rate'!AA17)*1000","v":10.174526550315633},{"$f":"('2005'!E17/'2005 Rate'!AA17)*1000","v":3.8618640920906051},{"$f":"('2005'!F17/'2005 Rate'!AA17)*1000","v":4.6416635722242852},{"$f":"('2005'!G17/'2005 Rate'!AA17)*1000","v":1.6709988860007428},{"$f":"('2005'!H17/'2005 Rate'!AA17)*1000","v":45.265503156331228},{"$f":"('2005'!I17/'2005 Rate'!AA17)*1000","v":35.090976606015595},{"$f":"('2005'!J17/'2005 Rate'!AA17)*1000","v":1.2996658002227999},{"$f":"('2005'!K17/'2005 Rate'!AA17)*1000","v":25.102116598588932},{"$f":"('2005'!L17/'2005 Rate'!AA17)*1000","v":23.802450798366134},{"$f":"('2005'!M17/'2005 Rate'!AA17)*1000","v":9.0976606015595998},{"$f":"('2005'!N17/'2005 Rate'!AA17)*1000","v":17.192721871518749},{"$f":"('2005'!O17/'2005 Rate'!AA17)*1000","v":8.0950612699591531},{"$f":"('2005'!P17/'2005 Rate'!AA17)*1000","v":-0.2227998514667657},{"$f":"('2005'!Q17/'2005 Rate'!AA17)*1000","v":2.9706646862235426},{"$f":"('2005'!R17/'2005 Rate'!AA17)*1000","v":3.1934645376903079},{"$f":"('2005'!S17/'2005 Rate'!AA17)*1000","v":2.9706646862235426},{"$f":"('2005'!T17/'2005 Rate'!AA17)*1000","v":4.8273301151132566},{"$f":"('2005'!U17/'2005 Rate'!AA17)*1000","v":0.29706646862235425},{"$f":"('2005'!V17/'2005 Rate'!AA17)*1000","v":2.0051986632008911},null,null,null,"Eilean Siar",{"$f":"'Population estimates'!C17","v":26930}]
[16,"Falkirk",null,{"$f":"('2005'!D18/'2005 Rate'!AA18)*1000","v":10.937187770598815},{"$f":"('2005'!E18/'2005 Rate'!AA18)*1000","v":1.3388396722840203},{"$f":"('2005'!F18/'2005 Rate'!AA18)*1000","v":9.2719642976087382},{"$f":"('2005'!G18/'2005 Rate'!AA18)*1000","v":0.32638380070605477},{"$f":"('2005'!H18/'2005 Rate'!AA18)*1000","v":34.390195164191034},{"$f":"('2005'!I18/'2005 Rate'!AA18)*1000","v":23.45300739359222},{"$f":"('2005'!J18/'2005 Rate'!AA18)*1000","v":7.6933324452141472},{"$f":"('2005'!K18/'2005 Rate'!AA18)*1000","v":23.359754879104774},{"$f":"('2005'!L18/'2005 Rate'!AA18)*1000","v":15.666422433890627},{"$f":"('2005'!M18/'2005 Rate'!AA18)*1000","v":1.6052754279624326},{"$f":"('2005'!N18/'2005 Rate'!AA18)*1000","v":6.5809631652567777},{"$f":"('2005'!O18/'2005 Rate'!AA18)*1000","v":4.9756877372943444},{"$f":"('2005'!P18/'2005 Rate'!AA18)*1000","v":1.6385798974222341},{"$f":"('2005'!Q18/'2005 Rate'!AA18)*1000","v":4.4494771198294805},{"$f":"('2005'!R18/'2005 Rate'!AA18)*1000","v":2.8108972224072475},{"$f":"('2005'!S18/'2005 Rate'!AA18)*1000","v":1.7984413508292811},{"$f":"('2005'!T18/'2005 Rate'!AA18)*1000","v":2.5977486178645175},{"$f":"('2005'!U18/'2005 Rate'!AA18)*1000","v":0.6461067075201492},{"$f":"('2005'!V18/'2005 Rate'!AA18)*1000","v":3.0307067208419372},null,null,null,"Falkirk",{"$f":"'Population estimates'!C18","v":150130}]
[17,"Fife",null,{"$f":"('2005'!D19/'2005 Rate'!AA19)*1000","v":7.4750316500211005},{"$f":"('2005'!E19/'2005 Rate'!AA19)*1000","v":1.2069208046138697},{"$f":"('2005'!F19/'2005 Rate'!AA19)*1000","v":5.6182304121536086},{"$f":"('2005'!G19/'2005 Rate'!AA19)*1000","v":0.6498804332536221},{"$f":"('2005'!H19/'2005 Rate'!AA19)*1000","v":37.15571810381207},{"$f":"('2005'!I19/'2005 Rate'!AA19)*1000","v":29.680686453790969},{"$f":"('2005'!J19/'2005 Rate'!AA19)*1000","v":2.6445350963567309},{"$f":"('2005'!K19/'2005 Rate'!AA19)*1000","v":19.248839499226335},{"$f":"('2005'!L19/'2005 Rate'!AA19)*1000","v":16.604304402869602},{"$f":"('2005'!M19/'2005 Rate'!AA19)*1000","v":2.6164017442678298},{"$f":"('2005'!N19/'2005 Rate'!AA19)*1000","v":10.896047264031509},{"$f":"('2005'!O19/'2005 Rate'!AA19)*1000","v":8.2796455197636796},{"$f":"('2005'!P19/'2005 Rate'!AA19)*1000","v":2.2140948093965398},{"$f":"('2005'!Q19/'2005 Rate'!AA19)*1000","v":7.0108313405542271},{"$f":"('2005'!R19/'2005 Rate'!AA19)*1000","v":4.7967365311576877},{"$f":"('2005'!S19/'2005 Rate'!AA19)*1000","v":2.8977352651568435},{"$f":"('2005'!T19/'2005 Rate'!AA19)*1000","v":3.9668026445350963},{"$f":"('2005'!U19/'2005 Rate'!AA19)*1000","v":0.63862709241806159},{"$f":"('2005'!V19/'2005 Rate'!AA19)*1000","v":3.0918553945702629},null,{"$f":"('2005'!X19/'2005 Rate'!AA19)*1000","v":45.013363342242229},null,"Fife",{"$f":"'Population estimates'!C19","v":355450}]
[18,"Glasgow City",null,{"$f":"('2005'!D20/'2005 Rate'!AA20)*1000","v":-2.7369826435246996},{"$f":"('2005'!E20/'2005 Rate'!AA20)*1000","v":-2.4488792073642052},{"$f":"('2005'!F20/'2005 Rate'!AA20)*1000","v":0.93282271098306513},{"$f":"('2005'!G20/'2005 Rate'!AA20)*1000","v":-1.22092614714356},{"$f":"('2005'!H20/'2005 Rate'!AA20)*1000","v":49.927974140959876},{"$f":"('2005'!I20/'2005 Rate'!AA20)*1000","v":52.664956784484573},{"$f":"('2005'!J20/'2005 Rate'!AA20)*1000","v":-5.8007167451338626},{"$f":"('2005'!K20/'2005 Rate'!AA20)*1000","v":24.22176937671281},{"$f":"('2005'!L20/'2005 Rate'!AA20)*1000","v":30.022486121846672},{"$f":"('2005'!M20/'2005 Rate'!AA20)*1000","v":0.43918206731782727},{"$f":"('2005'!N20/'2005 Rate'!AA20)*1000","v":10.919822921790457},{"$f":"('2005'!O20/'2005 Rate'!AA20)*1000","v":10.480640854472631},{"$f":"('2005'!P20/'2005 Rate'!AA20)*1000","v":2.624552034291336},{"$f":"('2005'!Q20/'2005 Rate'!AA20)*1000","v":14.78638184245661},{"$f":"('2005'!R20/'2005 Rate'!AA20)*1000","v":12.161829808165272},{"$f":"('2005'!S20/'2005 Rate'!AA20)*1000","v":2.5999578385215374},{"$f":"('2005'!T20/'2005 Rate'!AA20)*1000","v":10.979551682945681},{"$f":"('2005'!U20/'2005 Rate'!AA20)*1000","v":2.1186142927411988},{"$f":"('2005'!V20/'2005 Rate'!AA20)*1000","v":13.953692642822007},null,{"$f":"('2005'!X20/'2005 Rate'!AA20)*1000","v":84.322956925022837},null,"Glasgow City",{"$f":"'Population estimates'!C20","v":569240}]
[19,"Highland",null,{"$f":"('2005'!D21/'2005 Rate'!AA21)*1000","v":13.124828028982849},{"$f":"('2005'!E21/'2005 Rate'!AA21)*1000","v":2.733192699257085},{"$f":"('2005'!F21/'2005 Rate'!AA21)*1000","v":9.355223333027606},{"$f":"('2005'!G21/'2005 Rate'!AA21)*1000","v":1.0364119966981564},{"$f":"('2005'!H21/'2005 Rate'!AA21)*1000","v":46.61102448867284},{"$f":"('2005'!I21/'2005 Rate'!AA21)*1000","v":33.486196459689992},{"$f":"('2005'!J21/'2005 Rate'!AA21)*1000","v":0.40814454737228284},{"$f":"('2005'!K21/'2005 Rate'!AA21)*1000","v":20.50811703200954},{"$f":"('2005'!L21/'2005 Rate'!AA21)*1000","v":20.099972484637256},{"$f":"('2005'!M21/'2005 Rate'!AA21)*1000","v":9.8596716500045858},{"$f":"('2005'!N21/'2005 Rate'!AA21)*1000","v":19.246996239567089},{"$f":"('2005'!O21/'2005 Rate'!AA21)*1000","v":9.387324589562505},{"$f":"('2005'!P21/'2005 Rate'!AA21)*1000","v":2.85701183160598},{"$f":"('2005'!Q21/'2005 Rate'!AA21)*1000","v":6.855911217096212},{"$f":"('2005'!R21/'2005 Rate'!AA21)*1000","v":3.9988993854902319},{"$f":"('2005'!S21/'2005 Rate'!AA21)*1000","v":6.0992387416307441},{"$f":"('2005'!T21/'2005 Rate'!AA21)*1000","v":12.33605429698248},{"$f":"('2005'!U21/'2005 Rate'!AA21)*1000","v":0.74750068788406865},{"$f":"('2005'!V21/'2005 Rate'!AA21)*1000","v":2.3663211960011004},null,null,null,"Highland",{"$f":"'Population estimates'!C21","v":218060}]
[20,"Inverclyde",null,{"$f":"('2005'!D22/'2005 Rate'!AA22)*1000","v":-1.5723270440251573},{"$f":"('2005'!E22/'2005 Rate'!AA22)*1000","v":-4.8379293662312528E-2},{"$f":"('2005'!F22/'2005 Rate'!AA22)*1000","v":-1.7537493952588292},{"$f":"('2005'!G22/'2005 Rate'!AA22)*1000","v":0.22980164489598451},{"$f":"('2005'!H22/'2005 Rate'!AA22)*1000","v":23.742138364779876},{"$f":"('2005'!I22/'2005 Rate'!AA22)*1000","v":25.314465408805034},{"$f":"('2005'!J22/'2005 Rate'!AA22)*1000","v":-3.084179970972424},{"$f":"('2005'!K22/'2005 Rate'!AA22)*1000","v":12.977745524915337},{"$f":"('2005'!L22/'2005 Rate'!AA22)*1000","v":16.06192549588776},{"$f":"('2005'!M22/'2005 Rate'!AA22)*1000","v":3.6284470246734396E-2},{"$f":"('2005'!N22/'2005 Rate'!AA22)*1000","v":5.5515239477503622},{"$f":"('2005'!O22/'2005 Rate'!AA22)*1000","v":5.5152394775036289},{"$f":"('2005'!P22/'2005 Rate'!AA22)*1000","v":1.4755684567005323},{"$f":"('2005'!Q22/'2005 Rate'!AA22)*1000","v":5.2128688921141748},{"$f":"('2005'!R22/'2005 Rate'!AA22)*1000","v":3.7373004354136428},{"$f":"('2005'!S22/'2005 Rate'!AA22)*1000","v":0.90711175616835993},{"$f":"('2005'!T22/'2005 Rate'!AA22)*1000","v":3.9912917271407835},{"$f":"('2005'!U22/'2005 Rate'!AA22)*1000","v":0.49588776003870338},{"$f":"('2005'!V22/'2005 Rate'!AA22)*1000","v":2.5036284470246732},null,null,null,"Inverclyde",{"$f":"'Population estimates'!C22","v":82680}]
[21,"Midlothian",null,{"$f":"('2005'!D23/'2005 Rate'!AA23)*1000","v":-4.0099937539038102},{"$f":"('2005'!E23/'2005 Rate'!AA23)*1000","v":-0.4122423485321674},{"$f":"('2005'!F23/'2005 Rate'!AA23)*1000","v":-3.4103685196752029},{"$f":"('2005'!G23/'2005 Rate'!AA23)*1000","v":-0.18738288569643974},{"$f":"('2005'!H23/'2005 Rate'!AA23)*1000","v":32.017489069331667},{"$f":"('2005'!I23/'2005 Rate'!AA23)*1000","v":36.027482823235481},{"$f":"('2005'!J23/'2005 Rate'!AA23)*1000","v":-2.8232354778263589},{"$f":"('2005'!K23/'2005 Rate'!AA23)*1000","v":24.784509681449094},{"$f":"('2005'!L23/'2005 Rate'!AA23)*1000","v":27.607745159275453},{"$f":"('2005'!M23/'2005 Rate'!AA23)*1000","v":-0.9244222361024359},{"$f":"('2005'!N23/'2005 Rate'!AA23)*1000","v":5.1592754528419738},{"$f":"('2005'!O23/'2005 Rate'!AA23)*1000","v":6.0836976889444099},{"$f":"('2005'!P23/'2005 Rate'!AA23)*1000","v":-0.26233603997501559},{"$f":"('2005'!Q23/'2005 Rate'!AA23)*1000","v":2.0737039350405997},{"$f":"('2005'!R23/'2005 Rate'!AA23)*1000","v":2.3360399750156153},{"$f":"('2005'!S23/'2005 Rate'!AA23)*1000","v":2.4984384759525295},{"$f":"('2005'!T23/'2005 Rate'!AA23)*1000","v":2.623360399750156},{"$f":"('2005'!U23/'2005 Rate'!AA23)*1000","v":0.49968769519050593},{"$f":"('2005'!V23/'2005 Rate'!AA23)*1000","v":2.7857589006870707},null,null,null,"Midlothian",{"$f":"'Population estimates'!C23","v":80050}]
[22,"Moray",null,{"$f":"('2005'!D24/'2005 Rate'!AA24)*1000","v":7.6914539400665927},{"$f":"('2005'!E24/'2005 Rate'!AA24)*1000","v":0.43285238623751388},{"$f":"('2005'!F24/'2005 Rate'!AA24)*1000","v":6.0932297447280801},{"$f":"('2005'!G24/'2005 Rate'!AA24)*1000","v":1.165371809100999},{"$f":"('2005'!H24/'2005 Rate'!AA24)*1000","v":43.718091009988896},{"$f":"('2005'!I24/'2005 Rate'!AA24)*1000","v":36.026637069922309},{"$f":"('2005'!J24/'2005 Rate'!AA24)*1000","v":-0.7769145394006659},{"$f":"('2005'!K24/'2005 Rate'!AA24)*1000","v":19.001109877913429},{"$f":"('2005'!L24/'2005 Rate'!AA24)*1000","v":19.778024417314096},{"$f":"('2005'!M24/'2005 Rate'!AA24)*1000","v":7.7136514983351834},{"$f":"('2005'!N24/'2005 Rate'!AA24)*1000","v":19.100998890122089},{"$f":"('2005'!O24/'2005 Rate'!AA24)*1000","v":11.387347391786903},{"$f":"('2005'!P24/'2005 Rate'!AA24)*1000","v":0.75471698113207542},{"$f":"('2005'!Q24/'2005 Rate'!AA24)*1000","v":5.6159822419533851},{"$f":"('2005'!R24/'2005 Rate'!AA24)*1000","v":4.8612652608213098},{"$f":"('2005'!S24/'2005 Rate'!AA24)*1000","v":3.1631520532741395},{"$f":"('2005'!T24/'2005 Rate'!AA24)*1000","v":6.1043285238623755},{"$f":"('2005'!U24/'2005 Rate'!AA24)*1000","v":0.65482796892341844},{"$f":"('2005'!V24/'2005 Rate'!AA24)*1000","v":2.1309655937846834},null,{"$f":"('2005'!X24/'2005 Rate'!AA24)*1000","v":44.395116537180911},null,"Moray",{"$f":"'Population estimates'!C24","v":90100}]
[23,"North Ayrshire",null,{"$f":"('2005'!D25/'2005 Rate'!AA25)*1000","v":0.69500329212085732},{"$f":"('2005'!E25/'2005 Rate'!AA25)*1000","v":0.35847538225181069},{"$f":"('2005'!F25/'2005 Rate'!AA25)*1000","v":-0.1609481308069354},{"$f":"('2005'!G25/'2005 Rate'!AA25)*1000","v":0.49747604067598217},{"$f":"('2005'!H25/'2005 Rate'!AA25)*1000","v":31.692150120711098},{"$f":"('2005'!I25/'2005 Rate'!AA25)*1000","v":30.997146828590243},{"$f":"('2005'!J25/'2005 Rate'!AA25)*1000","v":1.5509547150486502},{"$f":"('2005'!K25/'2005 Rate'!AA25)*1000","v":22.437632599312312},{"$f":"('2005'!L25/'2005 Rate'!AA25)*1000","v":20.886677884263662},{"$f":"('2005'!M25/'2005 Rate'!AA25)*1000","v":0.54868680956909799},{"$f":"('2005'!N25/'2005 Rate'!AA25)*1000","v":7.3597190723535002},{"$f":"('2005'!O25/'2005 Rate'!AA25)*1000","v":6.8110322627844022},{"$f":"('2005'!P25/'2005 Rate'!AA25)*1000","v":-1.4046382324968909},{"$f":"('2005'!Q25/'2005 Rate'!AA25)*1000","v":1.8947984490452849},{"$f":"('2005'!R25/'2005 Rate'!AA25)*1000","v":3.2994366815421756},{"$f":"('2005'!S25/'2005 Rate'!AA25)*1000","v":0.47552856829321821},{"$f":"('2005'!T25/'2005 Rate'!AA25)*1000","v":2.267905479552272},{"$f":"('2005'!U25/'2005 Rate'!AA25)*1000","v":0.40237032701733849},{"$f":"('2005'!V25/'2005 Rate'!AA25)*1000","v":2.150852293510864},null,null,null,"North Ayrshire",{"$f":"'Population estimates'!C25","v":136690}]
[24,"North Lanarkshire",null,{"$f":"('2005'!D26/'2005 Rate'!AA26)*1000","v":1.0087424344317419},{"$f":"('2005'!E26/'2005 Rate'!AA26)*1000","v":0.41878095005196553},{"$f":"('2005'!F26/'2005 Rate'!AA26)*1000","v":0.46157608363391822},{"$f":"('2005'!G26/'2005 Rate'!AA26)*1000","v":0.12838540074585802},{"$f":"('2005'!H26/'2005 Rate'!AA26)*1000","v":24.121171363942043},{"$f":"('2005'!I26/'2005 Rate'!AA26)*1000","v":23.112428929510301},{"$f":"('2005'!J26/'2005 Rate'!AA26)*1000","v":1.0148560249434493},{"$f":"('2005'!K26/'2005 Rate'!AA26)*1000","v":17.442073729901573},{"$f":"('2005'!L26/'2005 Rate'!AA26)*1000","v":16.427217704958121},{"$f":"('2005'!M26/'2005 Rate'!AA26)*1000","v":5.5022314605367731E-2},{"$f":"('2005'!N26/'2005 Rate'!AA26)*1000","v":4.4384667114996645},{"$f":"('2005'!O26/'2005 Rate'!AA26)*1000","v":4.383444396894296},{"$f":"('2005'!P26/'2005 Rate'!AA26)*1000","v":-6.1135905117075257E-2},{"$f":"('2005'!Q26/'2005 Rate'!AA26)*1000","v":2.2406309225408081},{"$f":"('2005'!R26/'2005 Rate'!AA26)*1000","v":2.3017668276578833},{"$f":"('2005'!S26/'2005 Rate'!AA26)*1000","v":1.2838540074585805},{"$f":"('2005'!T26/'2005 Rate'!AA26)*1000","v":2.2008925842147096},{"$f":"('2005'!U26/'2005 Rate'!AA26)*1000","v":0.31790670660879133},{"$f":"('2005'!V26/'2005 Rate'!AA26)*1000","v":3.5978480161398787},null,null,null,"North Lanarkshire",{"$f":"'Population estimates'!C26","v":327140}]
[25,"Orkney Islands",null,{"$f":"('2005'!D27/'2005 Rate'!AA27)*1000","v":6.7264573991031398},{"$f":"('2005'!E27/'2005 Rate'!AA27)*1000","v":3.1390134529147979},{"$f":"('2005'!F27/'2005 Rate'!AA27)*1000","v":3.338315894369706},{"$f":"('2005'!G27/'2005 Rate'!AA27)*1000","v":0.24912805181863476},{"$f":"('2005'!H27/'2005 Rate'!AA27)*1000","v":39.91031390134529},{"$f":"('2005'!I27/'2005 Rate'!AA27)*1000","v":33.183856502242158},{"$f":"('2005'!J27/'2005 Rate'!AA27)*1000","v":-0.74738415545590431},{"$f":"('2005'!K27/'2005 Rate'!AA27)*1000","v":18.98355754857997},{"$f":"('2005'!L27/'2005 Rate'!AA27)*1000","v":19.730941704035875},{"$f":"('2005'!M27/'2005 Rate'!AA27)*1000","v":8.7194818136522176},{"$f":"('2005'!N27/'2005 Rate'!AA27)*1000","v":18.435475834578977},{"$f":"('2005'!O27/'2005 Rate'!AA27)*1000","v":9.7159940209267557},{"$f":"('2005'!P27/'2005 Rate'!AA27)*1000","v":-1.2456402590931739},{"$f":"('2005'!Q27/'2005 Rate'!AA27)*1000","v":2.4912805181863478},{"$f":"('2005'!R27/'2005 Rate'!AA27)*1000","v":3.7369207772795217},{"$f":"('2005'!S27/'2005 Rate'!AA27)*1000","v":0.24912805181863476},{"$f":"('2005'!T27/'2005 Rate'!AA27)*1000","v":2.9895366218236172},{"$f":"('2005'!U27/'2005 Rate'!AA27)*1000","v":0.1993024414549078},{"$f":"('2005'!V27/'2005 Rate'!AA27)*1000","v":1.3951170901843548},null,null,null,"Orkney Islands",{"$f":"'Population estimates'!C27","v":20070}]
[26,"Perth & Kinross",null,{"$f":"('2005'!D28/'2005 Rate'!AA28)*1000","v":14.942778502100536},{"$f":"('2005'!E28/'2005 Rate'!AA28)*1000","v":2.7017238881645662},{"$f":"('2005'!F28/'2005 Rate'!AA28)*1000","v":10.777922642329424},{"$f":"('2005'!G28/'2005 Rate'!AA28)*1000","v":1.4631319716065478},{"$f":"('2005'!H28/'2005 Rate'!AA28)*1000","v":53.505722149789946},{"$f":"('2005'!I28/'2005 Rate'!AA28)*1000","v":38.562943647689409},{"$f":"('2005'!J28/'2005 Rate'!AA28)*1000","v":2.7669129364044616},{"$f":"('2005'!K28/'2005 Rate'!AA28)*1000","v":27.582210633058093},{"$f":"('2005'!L28/'2005 Rate'!AA28)*1000","v":24.815297696653627},{"$f":"('2005'!M28/'2005 Rate'!AA28)*1000","v":4.4545849630595393},{"$f":"('2005'!N28/'2005 Rate'!AA28)*1000","v":14.05910473707084},{"$f":"('2005'!O28/'2005 Rate'!AA28)*1000","v":9.6045197740112993},{"$f":"('2005'!P28/'2005 Rate'!AA28)*1000","v":7.7212806026365346},{"$f":"('2005'!Q28/'2005 Rate'!AA28)*1000","v":11.864406779661017},{"$f":"('2005'!R28/'2005 Rate'!AA28)*1000","v":4.1431261770244827},{"$f":"('2005'!S28/'2005 Rate'!AA28)*1000","v":10.285383166739098},{"$f":"('2005'!T28/'2005 Rate'!AA28)*1000","v":11.661596407359118},{"$f":"('2005'!U28/'2005 Rate'!AA28)*1000","v":0.77502535129653771},{"$f":"('2005'!V28/'2005 Rate'!AA28)*1000","v":2.1584818194987685},null,{"$f":"('2005'!X28/'2005 Rate'!AA28)*1000","v":43.459365493263796},null,"Perth & Kinross",{"$f":"'Population estimates'!C28","v":138060}]
[27,"Renfrewshire",null,{"$f":"('2005'!D29/'2005 Rate'!AA29)*1000","v":-1.6683194306714111},{"$f":"('2005'!E29/'2005 Rate'!AA29)*1000","v":0.6124948958758677},{"$f":"('2005'!F29/'2005 Rate'!AA29)*1000","v":-2.3391471737735516},{"$f":"('2005'!G29/'2005 Rate'!AA29)*1000","v":5.8332847226273118E-2},{"$f":"('2005'!H29/'2005 Rate'!AA29)*1000","v":29.323922300647496},{"$f":"('2005'!I29/'2005 Rate'!AA29)*1000","v":30.992241731318906},{"$f":"('2005'!J29/'2005 Rate'!AA29)*1000","v":-2.3449804584961793},{"$f":"('2005'!K29/'2005 Rate'!AA29)*1000","v":19.996500029166423},{"$f":"('2005'!L29/'2005 Rate'!AA29)*1000","v":22.341480487662601},{"$f":"('2005'!M29/'2005 Rate'!AA29)*1000","v":-0.26249781251822901},{"$f":"('2005'!N29/'2005 Rate'!AA29)*1000","v":5.2557895350872075},{"$f":"('2005'!O29/'2005 Rate'!AA29)*1000","v":5.5182873476054368},{"$f":"('2005'!P29/'2005 Rate'!AA29)*1000","v":0.93915884034299713},{"$f":"('2005'!Q29/'2005 Rate'!AA29)*1000","v":4.0716327363938634},{"$f":"('2005'!R29/'2005 Rate'!AA29)*1000","v":3.132473896050866},{"$f":"('2005'!S29/'2005 Rate'!AA29)*1000","v":1.0791576736860526},{"$f":"('2005'!T29/'2005 Rate'!AA29)*1000","v":3.4416379863501136},{"$f":"('2005'!U29/'2005 Rate'!AA29)*1000","v":0.51332905559120334},{"$f":"('2005'!V29/'2005 Rate'!AA29)*1000","v":3.3891384238464677},null,null,null,"Renfrewshire",{"$f":"'Population estimates'!C29","v":171430}]
[28,"Scottish Borders",null,{"$f":"('2005'!D30/'2005 Rate'!AA30)*1000","v":9.0975056689342395},{"$f":"('2005'!E30/'2005 Rate'!AA30)*1000","v":3.074829931972789},{"$f":"('2005'!F30/'2005 Rate'!AA30)*1000","v":5.4875283446712011},{"$f":"('2005'!G30/'2005 Rate'!AA30)*1000","v":0.53514739229024944},{"$f":"('2005'!H30/'2005 Rate'!AA30)*1000","v":44.997732426303855},{"$f":"('2005'!I30/'2005 Rate'!AA30)*1000","v":35.900226757369609},{"$f":"('2005'!J30/'2005 Rate'!AA30)*1000","v":2.9569160997732427},{"$f":"('2005'!K30/'2005 Rate'!AA30)*1000","v":23.346938775510207},{"$f":"('2005'!L30/'2005 Rate'!AA30)*1000","v":20.390022675736962},{"$f":"('2005'!M30/'2005 Rate'!AA30)*1000","v":5.1700680272108848},{"$f":"('2005'!N30/'2005 Rate'!AA30)*1000","v":16.625850340136054},{"$f":"('2005'!O30/'2005 Rate'!AA30)*1000","v":11.455782312925169},{"$f":"('2005'!P30/'2005 Rate'!AA30)*1000","v":0.97052154195011342},{"$f":"('2005'!Q30/'2005 Rate'!AA30)*1000","v":5.024943310657596},{"$f":"('2005'!R30/'2005 Rate'!AA30)*1000","v":4.0544217687074831},{"$f":"('2005'!S30/'2005 Rate'!AA30)*1000","v":4.6712018140589571},{"$f":"('2005'!T30/'2005 Rate'!AA30)*1000","v":5.7142857142857144},{"$f":"('2005'!U30/'2005 Rate'!AA30)*1000","v":0.64399092970521532},{"$f":"('2005'!V30/'2005 Rate'!AA30)*1000","v":1.6507936507936507},null,null,null,"Scottish Borders",{"$f":"'Population estimates'!C30","v":110250}]
[29,"Shetland Islands",null,{"$f":"('2005'!D31/'2005 Rate'!AA31)*1000","v":3.9550561797752808},{"$f":"('2005'!E31/'2005 Rate'!AA31)*1000","v":4.2696629213483153},{"$f":"('2005'!F31/'2005 Rate'!AA31)*1000","v":-0.4943820224719101},{"$f":"('2005'!G31/'2005 Rate'!AA31)*1000","v":0.17977528089887643},{"$f":"('2005'!H31/'2005 Rate'!AA31)*1000","v":36.988764044943821},{"$f":"('2005'!I31/'2005 Rate'!AA31)*1000","v":33.033707865168537},{"$f":"('2005'!J31/'2005 Rate'!AA31)*1000","v":-4.5393258426966288},{"$f":"('2005'!K31/'2005 Rate'!AA31)*1000","v":17.078651685393261},{"$f":"('2005'!L31/'2005 Rate'!AA31)*1000","v":21.617977528089888},{"$f":"('2005'!M31/'2005 Rate'!AA31)*1000","v":8.6741573033707873},{"$f":"('2005'!N31/'2005 Rate'!AA31)*1000","v":16.674157303370784},{"$f":"('2005'!O31/'2005 Rate'!AA31)*1000","v":8},{"$f":"('2005'!P31/'2005 Rate'!AA31)*1000","v":-0.17977528089887643},{"$f":"('2005'!Q31/'2005 Rate'!AA31)*1000","v":3.2359550561797752},{"$f":"('2005'!R31/'2005 Rate'!AA31)*1000","v":3.4157303370786516},{"$f":"('2005'!S31/'2005 Rate'!AA31)*1000","v":1.5730337078651686},{"$f":"('2005'!T31/'2005 Rate'!AA31)*1000","v":4.9438202247191008},{"$f":"('2005'!U31/'2005 Rate'!AA31)*1000","v":0.8089887640449438},{"$f":"('2005'!V31/'2005 Rate'!AA31)*1000","v":2.112359550561798},null,null,null,"Shetland Islands",{"$f":"'Population estimates'!C31","v":22250}]
[30,"South Ayrshire",null,{"$f":"('2005'!D32/'2005 Rate'!AA32)*1000","v":3.7936267071320184},{"$f":"('2005'!E32/'2005 Rate'!AA32)*1000","v":1.9369811657591718},{"$f":"('2005'!F32/'2005 Rate'!AA32)*1000","v":0.69624207801481752},{"$f":"('2005'!G32/'2005 Rate'!AA32)*1000","v":1.1604034633580291},{"$f":"('2005'!H32/'2005 Rate'!AA32)*1000","v":35.704721949477815},{"$f":"('2005'!I32/'2005 Rate'!AA32)*1000","v":31.911095242345805},{"$f":"('2005'!J32/'2005 Rate'!AA32)*1000","v":1.5888601267517628},{"$f":"('2005'!K32/'2005 Rate'!AA32)*1000","v":22.574310452557349},{"$f":"('2005'!L32/'2005 Rate'!AA32)*1000","v":20.985450325805587},{"$f":"('2005'!M32/'2005 Rate'!AA32)*1000","v":2.6064447023118809},{"$f":"('2005'!N32/'2005 Rate'!AA32)*1000","v":10.050879228778006},{"$f":"('2005'!O32/'2005 Rate'!AA32)*1000","v":7.4444345264661251},{"$f":"('2005'!P32/'2005 Rate'!AA32)*1000","v":-0.4016781219316255},{"$f":"('2005'!Q32/'2005 Rate'!AA32)*1000","v":3.0795322681424615},{"$f":"('2005'!R32/'2005 Rate'!AA32)*1000","v":3.4812103900740872},{"$f":"('2005'!S32/'2005 Rate'!AA32)*1000","v":0.22315451218423635},{"$f":"('2005'!T32/'2005 Rate'!AA32)*1000","v":3.5704721949477816},{"$f":"('2005'!U32/'2005 Rate'!AA32)*1000","v":0.43738284388110327},{"$f":"('2005'!V32/'2005 Rate'!AA32)*1000","v":2.4904043559760778},null,null,null,"South Ayrshire",{"$f":"'Population estimates'!C32","v":112030}]
[31,"South Lanarkshire",null,{"$f":"('2005'!D33/'2005 Rate'!AA33)*1000","v":3.5163760795176797},{"$f":"('2005'!E33/'2005 Rate'!AA33)*1000","v":1.0004888381945576},{"$f":"('2005'!F33/'2005 Rate'!AA33)*1000","v":1.8315137689424801},{"$f":"('2005'!G33/'2005 Rate'!AA33)*1000","v":0.68437347238064206},{"$f":"('2005'!H33/'2005 Rate'!AA33)*1000","v":30.158057682906957},{"$f":"('2005'!I33/'2005 Rate'!AA33)*1000","v":26.641681603389276},{"$f":"('2005'!J33/'2005 Rate'!AA33)*1000","v":3.3436532507739938},{"$f":"('2005'!K33/'2005 Rate'!AA33)*1000","v":21.525175167019718},{"$f":"('2005'!L33/'2005 Rate'!AA33)*1000","v":18.181521916245725},{"$f":"('2005'!M33/'2005 Rate'!AA33)*1000","v":0.99722991689750695},{"$f":"('2005'!N33/'2005 Rate'!AA33)*1000","v":6.1332898810493726},{"$f":"('2005'!O33/'2005 Rate'!AA33)*1000","v":5.1360599641518663},{"$f":"('2005'!P33/'2005 Rate'!AA33)*1000","v":-0.82450708815382112},{"$f":"('2005'!Q33/'2005 Rate'!AA33)*1000","v":2.4995926348378688},{"$f":"('2005'!R33/'2005 Rate'!AA33)*1000","v":3.3240997229916895},{"$f":"('2005'!S33/'2005 Rate'!AA33)*1000","v":1.0428548150562165},{"$f":"('2005'!T33/'2005 Rate'!AA33)*1000","v":2.3138341209059798},{"$f":"('2005'!U33/'2005 Rate'!AA33)*1000","v":0.44973113899299333},{"$f":"('2005'!V33/'2005 Rate'!AA33)*1000","v":3.5978491119439466},null,null,null,"South Lanarkshire",{"$f":"'Population estimates'!C33","v":306850}]
[32,"Stirling",null,{"$f":"('2005'!D34/'2005 Rate'!AA34)*1000","v":7.5191406696377552},{"$f":"('2005'!E34/'2005 Rate'!AA34)*1000","v":2.3768712147183177},{"$f":"('2005'!F34/'2005 Rate'!AA34)*1000","v":5.0394240658210485},{"$f":"('2005'!G34/'2005 Rate'!AA34)*1000","v":0.10284538909838876},{"$f":"('2005'!H34/'2005 Rate'!AA34)*1000","v":63.215632499142956},{"$f":"('2005'!I34/'2005 Rate'!AA34)*1000","v":55.696491829505199},{"$f":"('2005'!J34/'2005 Rate'!AA34)*1000","v":4.6166152439721175},{"$f":"('2005'!K34/'2005 Rate'!AA34)*1000","v":41.812364301222715},{"$f":"('2005'!L34/'2005 Rate'!AA34)*1000","v":37.195749057250602},{"$f":"('2005'!M34/'2005 Rate'!AA34)*1000","v":1.2912809964575476},{"$f":"('2005'!N34/'2005 Rate'!AA34)*1000","v":12.090046851788367},{"$f":"('2005'!O34/'2005 Rate'!AA34)*1000","v":10.798765855330821},{"$f":"('2005'!P34/'2005 Rate'!AA34)*1000","v":1.6112444292080905},{"$f":"('2005'!Q34/'2005 Rate'!AA34)*1000","v":9.313221346131872},{"$f":"('2005'!R34/'2005 Rate'!AA34)*1000","v":7.7019769169237797},{"$f":"('2005'!S34/'2005 Rate'!AA34)*1000","v":2.3997257456290706},{"$f":"('2005'!T34/'2005 Rate'!AA34)*1000","v":7.8848131642098043},{"$f":"('2005'!U34/'2005 Rate'!AA34)*1000","v":0.69706319277796824},{"$f":"('2005'!V34/'2005 Rate'!AA34)*1000","v":3.6681522111758653},null,{"$f":"('2005'!X34/'2005 Rate'!AA34)*1000","v":45.709061821506118},null,"Stirling",{"$f":"'Population estimates'!C34","v":87510}]
[33,"West Dunbartonshire",null,{"$f":"('2005'!D35/'2005 Rate'!AA35)*1000","v":-3.6272260461051022},{"$f":"('2005'!E35/'2005 Rate'!AA35)*1000","v":-1.5404785316289742},{"$f":"('2005'!F35/'2005 Rate'!AA35)*1000","v":-1.8026876433956078},{"$f":"('2005'!G35/'2005 Rate'!AA35)*1000","v":-0.28405987108052},{"$f":"('2005'!H35/'2005 Rate'!AA35)*1000","v":25.707418332787064},{"$f":"('2005'!I35/'2005 Rate'!AA35)*1000","v":29.334644378892168},{"$f":"('2005'!J35/'2005 Rate'!AA35)*1000","v":-1.6497323281984049},{"$f":"('2005'!K35/'2005 Rate'!AA35)*1000","v":18.857205287883755},{"$f":"('2005'!L35/'2005 Rate'!AA35)*1000","v":20.506937616082162},{"$f":"('2005'!M35/'2005 Rate'!AA35)*1000","v":-1.0816125860373647},{"$f":"('2005'!N35/'2005 Rate'!AA35)*1000","v":4.7088386321424665},{"$f":"('2005'!O35/'2005 Rate'!AA35)*1000","v":5.7904512181798324},{"$f":"('2005'!P35/'2005 Rate'!AA35)*1000","v":-0.89588113186933249},{"$f":"('2005'!Q35/'2005 Rate'!AA35)*1000","v":2.1413744127608436},{"$f":"('2005'!R35/'2005 Rate'!AA35)*1000","v":3.0372555446301761},{"$f":"('2005'!S35/'2005 Rate'!AA35)*1000","v":0.21850759313886156},{"$f":"('2005'!T35/'2005 Rate'!AA35)*1000","v":1.7480607451108925},{"$f":"('2005'!U35/'2005 Rate'!AA35)*1000","v":0.30591063039440625},{"$f":"('2005'!V35/'2005 Rate'!AA35)*1000","v":1.8791653009942095},null,null,null,"West Dunbartonshire",{"$f":"'Population estimates'!C35","v":91530}]
[34,"West Lothian",null,{"$f":"('2005'!D36/'2005 Rate'!AA36)*1000","v":5.1148415247560752},{"$f":"('2005'!E36/'2005 Rate'!AA36)*1000","v":0.67268650384825168},{"$f":"('2005'!F36/'2005 Rate'!AA36)*1000","v":3.7694685170595719},{"$f":"('2005'!G36/'2005 Rate'!AA36)*1000","v":0.67268650384825168},{"$f":"('2005'!H36/'2005 Rate'!AA36)*1000","v":36.222047148657659},{"$f":"('2005'!I36/'2005 Rate'!AA36)*1000","v":31.107205623901582},{"$f":"('2005'!J36/'2005 Rate'!AA36)*1000","v":3.5209987273498573},{"$f":"('2005'!K36/'2005 Rate'!AA36)*1000","v":25.580267862553786},{"$f":"('2005'!L36/'2005 Rate'!AA36)*1000","v":22.059269135203927},{"$f":"('2005'!M36/'2005 Rate'!AA36)*1000","v":0.53330101205987512},{"$f":"('2005'!N36/'2005 Rate'!AA36)*1000","v":7.2662262893157994},{"$f":"('2005'!O36/'2005 Rate'!AA36)*1000","v":6.7329252772559238},{"$f":"('2005'!P36/'2005 Rate'!AA36)*1000","v":1.0605417853463426},{"$f":"('2005'!Q36/'2005 Rate'!AA36)*1000","v":3.3755529967880733},{"$f":"('2005'!R36/'2005 Rate'!AA36)*1000","v":2.3150112114417309},{"$f":"('2005'!S36/'2005 Rate'!AA36)*1000","v":2.6968062541664142},{"$f":"('2005'!T36/'2005 Rate'!AA36)*1000","v":4.9693957941942912},{"$f":"('2005'!U36/'2005 Rate'!AA36)*1000","v":0.89691533846433558},{"$f":"('2005'!V36/'2005 Rate'!AA36)*1000","v":3.7209866068723105},null,{"$f":"('2005'!X36/'2005 Rate'!AA36)*1000","v":36.361432640446033},null,"West Lothian",{"$f":"'Population estimates'!C36","v":165010}]
[]
[35,"Not specified"]
[36,"SCOTLAND",null,{"$f":"('2005'!D39/'2005 Rate'!AA39)*1000","v":4.9522523580290407},{"$f":"('2005'!E39/'2005 Rate'!AA39)*1000","v":0.86767641188211808},{"$f":"('2005'!F39/'2005 Rate'!AA39)*1000","v":3.9002387382098549},{"$f":"('2005'!G39/'2005 Rate'!AA39)*1000","v":0.18433720793706707},{"$f":"('2005'!H39/'2005 Rate'!AA39)*1000","v":19.400806230675901},{"$f":"('2005'!I39/'2005 Rate'!AA39)*1000","v":14.448553872646864},null,null,null,{"$f":"('2005'!M39/'2005 Rate'!AA39)*1000","v":2.4474580251262181},{"$f":"('2005'!N39/'2005 Rate'!AA39)*1000","v":11.221087237290126},{"$f":"('2005'!O39/'2005 Rate'!AA39)*1000","v":8.7736292121639075},{"$f":"('2005'!P39/'2005 Rate'!AA39)*1000","v":2.5047943329028217},{"$f":"('2005'!Q39/'2005 Rate'!AA39)*1000","v":8.1797189933857766},{"$f":"('2005'!R39/'2005 Rate'!AA39)*1000","v":5.6749246604829553},null,null,{"$f":"('2005'!U39/'2005 Rate'!AA39)*1000","v":0.91483699268130403},null,null,null,{"$f":"('2005'!Y39/'2005 Rate'!AA4)*1000","v":8.4153262103244497},"SCOTLAND",{"$f":"'Population estimates'!C39","v":5110200}]
[37,"Ayrshire & Arran",null,{"$f":"('2005'!D40/'2005 Rate'!AA40)*1000","v":1.5068159028699966},{"$f":"('2005'!E40/'2005 Rate'!AA40)*1000","v":0.88078267703731816},{"$f":"('2005'!F40/'2005 Rate'!AA40)*1000","v":7.8592915797176074E-2},{"$f":"('2005'!G40/'2005 Rate'!AA40)*1000","v":0.54744031003550231},{"$f":"('2005'!H40/'2005 Rate'!AA40)*1000","v":24.913954307704817},{"$f":"('2005'!I40/'2005 Rate'!AA40)*1000","v":23.407138404834818},{"$f":"('2005'!J40/'2005 Rate'!AA40)*1000","v":0.98105639719233573},{"$f":"('2005'!K40/'2005 Rate'!AA40)*1000","v":14.645383343722052},{"$f":"('2005'!L40/'2005 Rate'!AA40)*1000","v":13.664326946529716},{"$f":"('2005'!M40/'2005 Rate'!AA40)*1000","v":1.4038320821702486},{"$f":"('2005'!N40/'2005 Rate'!AA40)*1000","v":8.1032006287433269},{"$f":"('2005'!O40/'2005 Rate'!AA40)*1000","v":6.6993685465730781},{"$f":"('2005'!P40/'2005 Rate'!AA40)*1000","v":-0.87807257649258785},{"$f":"('2005'!Q40/'2005 Rate'!AA40)*1000","v":2.1653703352394378},{"$f":"('2005'!R40/'2005 Rate'!AA40)*1000","v":3.0434429117320252},null,null,{"$f":"('2005'!U40/'2005 Rate'!AA40)*1000","v":0.39567467953061058},null,null,null,null,"Ayrshire & Arran",{"$f":"'Population estimates'!C40","v":368990}]
[38,"Borders",null,{"$f":"('2005'!D41/'2005 Rate'!AA41)*1000","v":9.0975056689342395},{"$f":"('2005'!E41/'2005 Rate'!AA41)*1000","v":3.074829931972789},{"$f":"('2005'!F41/'2005 Rate'!AA41)*1000","v":5.4875283446712011},{"$f":"('2005'!G41/'2005 Rate'!AA41)*1000","v":0.53514739229024944},{"$f":"('2005'!H41/'2005 Rate'!AA41)*1000","v":44.997732426303855},{"$f":"('2005'!I41/'2005 Rate'!AA41)*1000","v":35.900226757369609},{"$f":"('2005'!J41/'2005 Rate'!AA41)*1000","v":2.9569160997732427},{"$f":"('2005'!K41/'2005 Rate'!AA41)*1000","v":23.346938775510207},{"$f":"('2005'!L41/'2005 Rate'!AA41)*1000","v":20.390022675736962},{"$f":"('2005'!M41/'2005 Rate'!AA41)*1000","v":5.1700680272108848},{"$f":"('2005'!N41/'2005 Rate'!AA41)*1000","v":16.625850340136054},{"$f":"('2005'!O41/'2005 Rate'!AA41)*1000","v":11.455782312925169},{"$f":"('2005'!P41/'2005 Rate'!AA41)*1000","v":0.97052154195011342},{"$f":"('2005'!Q41/'2005 Rate'!AA41)*1000","v":5.024943310657596},{"$f":"('2005'!R41/'2005 Rate'!AA41)*1000","v":4.0544217687074831},null,null,{"$f":"('2005'!U41/'2005 Rate'!AA41)*1000","v":0.64399092970521532},null,null,null,null,"Borders",{"$f":"'Population estimates'!C41","v":110250}]
[39,"Dumfries & Galloway",null,{"$f":"('2005'!D42/'2005 Rate'!AA42)*1000","v":7.9601657532415455},{"$f":"('2005'!E42/'2005 Rate'!AA42)*1000","v":1.8446731720358243},{"$f":"('2005'!F42/'2005 Rate'!AA42)*1000","v":4.8522924742681459},{"$f":"('2005'!G42/'2005 Rate'!AA42)*1000","v":1.2632001069375753},{"$f":"('2005'!H42/'2005 Rate'!AA42)*1000","v":36.63280310118968},{"$f":"('2005'!I42/'2005 Rate'!AA42)*1000","v":28.672637347948136},{"$f":"('2005'!J42/'2005 Rate'!AA42)*1000","v":-0.78866461702980883},{"$f":"('2005'!K42/'2005 Rate'!AA42)*1000","v":12.264403154658469},{"$f":"('2005'!L42/'2005 Rate'!AA42)*1000","v":13.053067771688278},{"$f":"('2005'!M42/'2005 Rate'!AA42)*1000","v":9.310252640021389},{"$f":"('2005'!N42/'2005 Rate'!AA42)*1000","v":21.01323352492982},{"$f":"('2005'!O42/'2005 Rate'!AA42)*1000","v":11.702980884908435},{"$f":"('2005'!P42/'2005 Rate'!AA42)*1000","v":-0.5614222697500334},{"$f":"('2005'!Q42/'2005 Rate'!AA42)*1000","v":3.3551664216013903},{"$f":"('2005'!R42/'2005 Rate'!AA42)*1000","v":3.9165886913514236},null,null,{"$f":"('2005'!U42/'2005 Rate'!AA42)*1000","v":0.47453548990776634},null,null,null,null,"Dumfries & Galloway",{"$f":"'Population estimates'!C42","v":149620}]
[40,"Fife",null,{"$f":"('2005'!D43/'2005 Rate'!AA43)*1000","v":7.4750316500211005},{"$f":"('2005'!E43/'2005 Rate'!AA43)*1000","v":1.2069208046138697},{"$f":"('2005'!F43/'2005 Rate'!AA43)*1000","v":5.6182304121536086},{"$f":"('2005'!G43/'2005 Rate'!AA43)*1000","v":0.6498804332536221},{"$f":"('2005'!H43/'2005 Rate'!AA43)*1000","v":37.15571810381207},{"$f":"('2005'!I43/'2005 Rate'!AA43)*1000","v":29.680686453790969},{"$f":"('2005'!J43/'2005 Rate'!AA43)*1000","v":2.6445350963567309},{"$f":"('2005'!K43/'2005 Rate'!AA43)*1000","v":19.248839499226335},{"$f":"('2005'!L43/'2005 Rate'!AA43)*1000","v":16.604304402869602},{"$f":"('2005'!M43/'2005 Rate'!AA43)*1000","v":2.6164017442678298},{"$f":"('2005'!N43/'2005 Rate'!AA43)*1000","v":10.896047264031509},{"$f":"('2005'!O43/'2005 Rate'!AA43)*1000","v":8.2796455197636796},{"$f":"('2005'!P43/'2005 Rate'!AA43)*1000","v":2.2140948093965398},{"$f":"('2005'!Q43/'2005 Rate'!AA43)*1000","v":7.0108313405542271},{"$f":"('2005'!R43/'2005 Rate'!AA43)*1000","v":4.7967365311576877},null,null,{"$f":"('2005'!U43/'2005 Rate'!AA43)*1000","v":0.63862709241806159},null,null,null,null,"Fife",{"$f":"'Population estimates'!C43","v":355450}]
[41,"Forth Valley",null,{"$f":"('2005'!D44/'2005 Rate'!AA44)*1000","v":10.020235852348057},{"$f":"('2005'!E44/'2005 Rate'!AA44)*1000","v":1.9712511339055192},{"$f":"('2005'!F44/'2005 Rate'!AA44)*1000","v":7.8187146744818934},{"$f":"('2005'!G44/'2005 Rate'!AA44)*1000","v":0.23027004396064474},{"$f":"('2005'!H44/'2005 Rate'!AA44)*1000","v":39.28895401577001},{"$f":"('2005'!I44/'2005 Rate'!AA44)*1000","v":29.268718163421951},{"$f":"('2005'!J44/'2005 Rate'!AA44)*1000","v":6.4650059311981023},{"$f":"('2005'!K44/'2005 Rate'!AA44)*1000","v":24.520270741748657},{"$f":"('2005'!L44/'2005 Rate'!AA44)*1000","v":18.055264810550554},{"$f":"('2005'!M44/'2005 Rate'!AA44)*1000","v":2.1770985974460957},{"$f":"('2005'!N44/'2005 Rate'!AA44)*1000","v":9.0642662759053803},{"$f":"('2005'!O44/'2005 Rate'!AA44)*1000","v":6.8871676784592841},{"$f":"('2005'!P44/'2005 Rate'!AA44)*1000","v":1.3781313237038588},{"$f":"('2005'!Q44/'2005 Rate'!AA44)*1000","v":5.7044169981159722},{"$f":"('2005'!R44/'2005 Rate'!AA44)*1000","v":4.3262856744121141},null,null,{"$f":"('2005'!U44/'2005 Rate'!AA44)*1000","v":0.64545391110180728},null,null,null,null,"Forth Valley",{"$f":"'Population estimates'!C44","v":286620}]
[42,"Grampian",null,{"$f":"('2005'!D45/'2005 Rate'!AA45)*1000","v":8.5446342009098366},{"$f":"('2005'!E45/'2005 Rate'!AA45)*1000","v":2.0173018122156763},{"$f":"('2005'!F45/'2005 Rate'!AA45)*1000","v":5.9269893355209193},{"$f":"('2005'!G45/'2005 Rate'!AA45)*1000","v":0.60034305317324188},{"$f":"('2005'!H45/'2005 Rate'!AA45)*1000","v":37.226862555000373},{"$f":"('2005'!I45/'2005 Rate'!AA45)*1000","v":28.682228354090537},{"$f":"('2005'!J45/'2005 Rate'!AA45)*1000","v":-0.53508837348049809},{"$f":"('2005'!K45/'2005 Rate'!AA45)*1000","v":12.665001118651652},{"$f":"('2005'!L45/'2005 Rate'!AA45)*1000","v":13.200089492132149},{"$f":"('2005'!M45/'2005 Rate'!AA45)*1000","v":3.782907002759341},{"$f":"('2005'!N45/'2005 Rate'!AA45)*1000","v":12.974494742337237},{"$f":"('2005'!O45/'2005 Rate'!AA45)*1000","v":9.1915877395778942},{"$f":"('2005'!P45/'2005 Rate'!AA45)*1000","v":5.2968155716309937},{"$f":"('2005'!Q45/'2005 Rate'!AA45)*1000","v":11.587366694011486},{"$f":"('2005'!R45/'2005 Rate'!AA45)*1000","v":6.2905511223804904},null,null,{"$f":"('2005'!U45/'2005 Rate'!AA45)*1000","v":1.0701767469609962},null,null,null,null,"Grampian",{"$f":"'Population estimates'!C45","v":536360}]
[43,"Greater Glasgow & Clyde",null,{"$f":"('2005'!D46/'2005 Rate'!AA46)*1000","v":-2.0418843748153526},{"$f":"('2005'!E46/'2005 Rate'!AA46)*1000","v":-0.66599701187652471},{"$f":"('2005'!F46/'2005 Rate'!AA46)*1000","v":-0.74027804742168835},{"$f":"('2005'!G46/'2005 Rate'!AA46)*1000","v":-0.63560931551713951},{"$f":"('2005'!H46/'2005 Rate'!AA46)*1000","v":31.885978610438176},{"$f":"('2005'!I46/'2005 Rate'!AA46)*1000","v":33.927862985253526},{"$f":"('2005'!J46/'2005 Rate'!AA46)*1000","v":-3.2109665819750317},{"$f":"('2005'!K46/'2005 Rate'!AA46)*1000","v":15.27403793397429},{"$f":"('2005'!L46/'2005 Rate'!AA46)*1000","v":18.485004515949321},{"$f":"('2005'!M46/'2005 Rate'!AA46)*1000","v":-0.10888924528779681},{"$f":"('2005'!N46/'2005 Rate'!AA46)*1000","v":7.8248318125416771},{"$f":"('2005'!O46/'2005 Rate'!AA46)*1000","v":7.9337210578294748},{"$f":"('2005'!P46/'2005 Rate'!AA46)*1000","v":1.2779714524474757},{"$f":"('2005'!Q46/'2005 Rate'!AA46)*1000","v":8.7871088639222084},{"$f":"('2005'!R46/'2005 Rate'!AA46)*1000","v":7.5091374114747316},null,null,{"$f":"('2005'!U46/'2005 Rate'!AA46)*1000","v":1.3049827381002623},null,null,null,null,"Greater Glasgow",{"$f":"'Population estimates'!C46","v":1184690}]
[44,"Highland",null,{"$f":"('2005'!D47/'2005 Rate'!AA47)*1000","v":10.696799714665541},{"$f":"('2005'!E47/'2005 Rate'!AA47)*1000","v":2.3507668363542038},{"$f":"('2005'!F47/'2005 Rate'!AA47)*1000","v":7.6099996757562982},{"$f":"('2005'!G47/'2005 Rate'!AA47)*1000","v":0.73603320255504034},{"$f":"('2005'!H47/'2005 Rate'!AA47)*1000","v":47.388216983885087},{"$f":"('2005'!I47/'2005 Rate'!AA47)*1000","v":36.691417269219549},{"$f":"('2005'!J47/'2005 Rate'!AA47)*1000","v":0.18806134690833631},{"$f":"('2005'!K47/'2005 Rate'!AA47)*1000","v":21.422781362472033},{"$f":"('2005'!L47/'2005 Rate'!AA47)*1000","v":21.234720015563699},{"$f":"('2005'!M47/'2005 Rate'!AA47)*1000","v":8.8129438085665193},{"$f":"('2005'!N47/'2005 Rate'!AA47)*1000","v":19.61025907071755},{"$f":"('2005'!O47/'2005 Rate'!AA47)*1000","v":10.797315262151034},{"$f":"('2005'!P47/'2005 Rate'!AA47)*1000","v":1.6957945591906878},{"$f":"('2005'!Q47/'2005 Rate'!AA47)*1000","v":6.3551765506955027},{"$f":"('2005'!R47/'2005 Rate'!AA47)*1000","v":4.6593819915048149},null,null,{"$f":"('2005'!U47/'2005 Rate'!AA47)*1000","v":0.69712395836710872},null,null,null,null,"Highland",{"$f":"'Population estimates'!C47","v":308410}]
[45,"Lanarkshire",null,{"$f":"('2005'!D48/'2005 Rate'!AA48)*1000","v":1.825546950283736},{"$f":"('2005'!E48/'2005 Rate'!AA48)*1000","v":0.53178200506798956},{"$f":"('2005'!F48/'2005 Rate'!AA48)*1000","v":0.7851814839930048},{"$f":"('2005'!G48/'2005 Rate'!AA48)*1000","v":0.50858346122274167},{"$f":"('2005'!H48/'2005 Rate'!AA48)*1000","v":22.391948320782326},{"$f":"('2005'!I48/'2005 Rate'!AA48)*1000","v":20.566401370498593},{"$f":"('2005'!J48/'2005 Rate'!AA48)*1000","v":1.6488811163853101},{"$f":"('2005'!K48/'2005 Rate'!AA48)*1000","v":14.686462757414612},{"$f":"('2005'!L48/'2005 Rate'!AA48)*1000","v":13.037581641029302},{"$f":"('2005'!M48/'2005 Rate'!AA48)*1000","v":0.55676505228594886},{"$f":"('2005'!N48/'2005 Rate'!AA48)*1000","v":5.3802776687247933},{"$f":"('2005'!O48/'2005 Rate'!AA48)*1000","v":4.8235126164388449},{"$f":"('2005'!P48/'2005 Rate'!AA48)*1000","v":-0.38009921838752275},{"$f":"('2005'!Q48/'2005 Rate'!AA48)*1000","v":2.3252078946429209},{"$f":"('2005'!R48/'2005 Rate'!AA48)*1000","v":2.7053071130304436},null,null,{"$f":"('2005'!U48/'2005 Rate'!AA48)*1000","v":0.35154716442414075},null,null,null,null,"Lanarkshire",{"$f":"'Population estimates'!C48","v":560380}]
[46,"Lothian",null,{"$f":"('2005'!D49/'2005 Rate'!AA49)*1000","v":8.0500508130081307},{"$f":"('2005'!E49/'2005 Rate'!AA49)*1000","v":0.19817073170731708},{"$f":"('2005'!F49/'2005 Rate'!AA49)*1000","v":8.0627540650406502},{"$f":"('2005'!G49/'2005 Rate'!AA49)*1000","v":-0.2108739837398374},{"$f":"('2005'!H49/'2005 Rate'!AA49)*1000","v":45.630081300813011},{"$f":"('2005'!I49/'2005 Rate'!AA49)*1000","v":37.580030487804883},{"$f":"('2005'!J49/'2005 Rate'!AA49)*1000","v":-0.9070121951219513},{"$f":"('2005'!K49/'2005 Rate'!AA49)*1000","v":15.40650406504065},{"$f":"('2005'!L49/'2005 Rate'!AA49)*1000","v":16.313516260162601},{"$f":"('2005'!M49/'2005 Rate'!AA49)*1000","v":2.1265243902439024},{"$f":"('2005'!N49/'2005 Rate'!AA49)*1000","v":14.99364837398374},{"$f":"('2005'!O49/'2005 Rate'!AA49)*1000","v":12.867123983739837},{"$f":"('2005'!P49/'2005 Rate'!AA49)*1000","v":6.8305386178861784},{"$f":"('2005'!Q49/'2005 Rate'!AA49)*1000","v":15.229928861788618},{"$f":"('2005'!R49/'2005 Rate'!AA49)*1000","v":8.3993902439024399},null,null,{"$f":"('2005'!U49/'2005 Rate'!AA49)*1000","v":1.3897357723577235},null,null,null,null,"Lothian",{"$f":"'Population estimates'!C49","v":787200}]
[47,"Orkney",null,{"$f":"('2005'!D50/'2005 Rate'!AA50)*1000","v":6.7264573991031398},{"$f":"('2005'!E50/'2005 Rate'!AA50)*1000","v":3.1390134529147979},{"$f":"('2005'!F50/'2005 Rate'!AA50)*1000","v":3.338315894369706},{"$f":"('2005'!G50/'2005 Rate'!AA50)*1000","v":0.24912805181863476},{"$f":"('2005'!H50/'2005 Rate'!AA50)*1000","v":39.91031390134529},{"$f":"('2005'!I50/'2005 Rate'!AA50)*1000","v":33.183856502242158},{"$f":"('2005'!J50/'2005 Rate'!AA50)*1000","v":-0.74738415545590431},{"$f":"('2005'!K50/'2005 Rate'!AA50)*1000","v":18.98355754857997},{"$f":"('2005'!L50/'2005 Rate'!AA50)*1000","v":19.730941704035875},{"$f":"('2005'!M50/'2005 Rate'!AA50)*1000","v":8.7194818136522176},{"$f":"('2005'!N50/'2005 Rate'!AA50)*1000","v":18.435475834578977},{"$f":"('2005'!O50/'2005 Rate'!AA50)*1000","v":9.7159940209267557},{"$f":"('2005'!P50/'2005 Rate'!AA50)*1000","v":-1.2456402590931739},{"$f":"('2005'!Q50/'2005 Rate'!AA50)*1000","v":2.4912805181863478},{"$f":"('2005'!R50/'2005 Rate'!AA50)*1000","v":3.7369207772795217},null,null,{"$f":"('2005'!U50/'2005 Rate'!AA50)*1000","v":0.1993024414549078},null,null,null,null,"Orkney",{"$f":"'Population estimates'!C50","v":20070}]
[48,"Shetland",null,{"$f":"('2005'!D51/'2005 Rate'!AA51)*1000","v":3.9550561797752808},{"$f":"('2005'!E51/'2005 Rate'!AA51)*1000","v":4.2696629213483153},{"$f":"('2005'!F51/'2005 Rate'!AA51)*1000","v":-0.4943820224719101},{"$f":"('2005'!G51/'2005 Rate'!AA51)*1000","v":0.17977528089887643},{"$f":"('2005'!H51/'2005 Rate'!AA51)*1000","v":36.988764044943821},{"$f":"('2005'!I51/'2005 Rate'!AA51)*1000","v":33.033707865168537},{"$f":"('2005'!J51/'2005 Rate'!AA51)*1000","v":-4.5393258426966288},{"$f":"('2005'!K51/'2005 Rate'!AA51)*1000","v":17.078651685393261},{"$f":"('2005'!L51/'2005 Rate'!AA51)*1000","v":21.617977528089888},{"$f":"('2005'!M51/'2005 Rate'!AA51)*1000","v":8.6741573033707873},{"$f":"('2005'!N51/'2005 Rate'!AA51)*1000","v":16.674157303370784},{"$f":"('2005'!O51/'2005 Rate'!AA51)*1000","v":8},{"$f":"('2005'!P51/'2005 Rate'!AA51)*1000","v":-0.17977528089887643},{"$f":"('2005'!Q51/'2005 Rate'!AA51)*1000","v":3.2359550561797752},{"$f":"('2005'!R51/'2005 Rate'!AA51)*1000","v":3.4157303370786516},null,null,{"$f":"('2005'!U51/'2005 Rate'!AA51)*1000","v":0.8089887640449438},null,null,null,null,"Shetland",{"$f":"'Population estimates'!C51","v":22250}]
[49,"Tayside",null,{"$f":"('2005'!D52/'2005 Rate'!AA52)*1000","v":9.4355946867525056},{"$f":"('2005'!E52/'2005 Rate'!AA52)*1000","v":1.949208611125248},{"$f":"('2005'!F52/'2005 Rate'!AA52)*1000","v":6.9112931955824726},{"$f":"('2005'!G52/'2005 Rate'!AA52)*1000","v":0.57509288004478598},{"$f":"('2005'!H52/'2005 Rate'!AA52)*1000","v":39.24372741615349},{"$f":"('2005'!I52/'2005 Rate'!AA52)*1000","v":29.808132729400988},{"$f":"('2005'!J52/'2005 Rate'!AA52)*1000","v":1.3766603898417222},{"$f":"('2005'!K52/'2005 Rate'!AA52)*1000","v":18.011094712199093},{"$f":"('2005'!L52/'2005 Rate'!AA52)*1000","v":16.634434322357375},{"$f":"('2005'!M52/'2005 Rate'!AA52)*1000","v":3.1935467453814441},{"$f":"('2005'!N52/'2005 Rate'!AA52)*1000","v":11.71815359560283},{"$f":"('2005'!O52/'2005 Rate'!AA52)*1000","v":8.5246068502213852},{"$f":"('2005'!P52/'2005 Rate'!AA52)*1000","v":4.8653875515293397},{"$f":"('2005'!Q52/'2005 Rate'!AA52)*1000","v":9.5144791083515692},{"$f":"('2005'!R52/'2005 Rate'!AA52)*1000","v":4.6490915568222304},null,null,{"$f":"('2005'!U52/'2005 Rate'!AA52)*1000","v":0.8117461448419766},null,null,null,null,"Tayside",{"$f":"'Population estimates'!C52","v":392980}]
[50,"Western Isles",null,{"$f":"('2005'!D53/'2005 Rate'!AA53)*1000","v":10.174526550315633},{"$f":"('2005'!E53/'2005 Rate'!AA53)*1000","v":3.8618640920906051},{"$f":"('2005'!F53/'2005 Rate'!AA53)*1000","v":4.6416635722242852},{"$f":"('2005'!G53/'2005 Rate'!AA53)*1000","v":1.6709988860007428},{"$f":"('2005'!H53/'2005 Rate'!AA53)*1000","v":45.265503156331228},{"$f":"('2005'!I53/'2005 Rate'!AA53)*1000","v":35.090976606015595},{"$f":"('2005'!J53/'2005 Rate'!AA53)*1000","v":1.2996658002227999},{"$f":"('2005'!K53/'2005 Rate'!AA53)*1000","v":25.102116598588932},{"$f":"('2005'!L53/'2005 Rate'!AA53)*1000","v":23.802450798366134},{"$f":"('2005'!M53/'2005 Rate'!AA53)*1000","v":9.0976606015595998},{"$f":"('2005'!N53/'2005 Rate'!AA53)*1000","v":17.192721871518749},{"$f":"('2005'!O53/'2005 Rate'!AA53)*1000","v":8.0950612699591531},{"$f":"('2005'!P53/'2005 Rate'!AA53)*1000","v":-0.2227998514667657},{"$f":"('2005'!Q53/'2005 Rate'!AA53)*1000","v":2.9706646862235426},{"$f":"('2005'!R53/'2005 Rate'!AA53)*1000","v":3.1934645376903079},null,null,{"$f":"('2005'!U53/'2005 Rate'!AA53)*1000","v":0.29706646862235425},null,null,null,null,"Western Isles",{"$f":"'Population estimates'!C53","v":26930}]

{"sheet":"2006","index":39,"n_rows":53,"n_cols":25,"rows_kept":53,"cut":false,"hidden":true,"merged":[]}
[null,2006]
[null,null,"Not specified ",{"$f":"'Comparing Indicators'!$U8","v":"Total net migration"},{"$f":"'Comparing Indicators'!$U9","v":"Total net migration for ages 0-15"},{"$f":"'Comparing Indicators'!$U10","v":"Total net migration for ages 16-64"},{"$f":"'Comparing Indicators'!$U11","v":"Total net migration for people aged 65+"},{"$f":"'Comparing Indicators'!$U12","v":"Total in-migration"},{"$f":"'Comparing Indicators'!$U13","v":"Total out-migration"},{"$f":"'Comparing Indicators'!$U14","v":"Within Scotland net migration"},{"$f":"'Comparing Indicators'!$U15","v":"Within Scotland in-migration"},{"$f":"'Comparing Indicators'!$U16","v":"Within Scotland out-migration"},{"$f":"'Comparing Indicators'!$U17","v":"Rest of UK net migration"},{"$f":"'Comparing Indicators'!$U18","v":"Rest of UK in-migration"},{"$f":"'Comparing Indicators'!$U19","v":"Rest of UK out-migration"},{"$f":"'Comparing Indicators'!$U20","v":"Overseas net migration"},{"$f":"'Comparing Indicators'!$U21","v":"Overseas in-migration"},{"$f":"'Comparing Indicators'!$U22","v":"Overseas out-migration"},{"$f":"'Comparing Indicators'!$U23","v":"Worker Registration Scheme"},{"$f":"'Comparing Indicators'!$U24","v":"NINo Allocation"},{"$f":"'Comparing Indicators'!$U25","v":"Births to non-UK mothers"},{"$f":"'Comparing Indicators'!$U26","v":"Pupils from a minority ethnic group"},{"$f":"'Comparing Indicators'!$U27","v":"Pupils with English as an additional language"},{"$f":"'Comparing Indicators'!$U28","v":"Estimate of resident population born outside the UK"},"NHS registrations from overseas"]
[1,"Not specified"]
[2,"SCOTLAND",null,{"$f":"'Total net migration'!D4","v":18822},{"$f":"'Total net migration 0-15'!D4","v":2416},{"$f":"'Total net migration 16-64'!D4","v":16044},{"$f":"'Total net migration 65+'!D4","v":362},{"$f":"'Total in-migration'!D4","v":94635},{"$f":"'Total out-migration'!D4","v":75813},null,null,null,{"$f":"'Rest of UK net migration'!D4","v":8922},{"$f":"'Rest of UK in-migration'!D4","v":53335},{"$f":"'Rest of UK out-migration'!D4","v":44413},{"$f":"'Overseas net migration'!D4","v":9900},{"$f":"'Overseas in-migration'!D4","v":41300},{"$f":"'Overseas out-migration'!D4","v":31400},{"$f":"WRS!D5","v":18035},{"$f":"NINo!D5","v":45490},{"$f":"'Non-UK Births'!D5","v":5222},{"$f":"'Pupils ethnic group'!E5","v":27543},{"$f":"'Pupils with English as an add.'!B4","v":9486},{"$f":"'Pop born outside UK'!D5","v":228000},{"$f":"'NHS Overseas'!$D$5","v":47401}]
[3,"Aberdeen City",null,{"$f":"'Total net migration'!D5","v":1143},{"$f":"'Total net migration 0-15'!D5","v":-6},{"$f":"'Total net migration 16-64'!D5","v":1306},{"$f":"'Total net migration 65+'!D5","v":-157},{"$f":"'Total in-migration'!D5","v":12747},{"$f":"'Total out-migration'!D5","v":11604},{"$f":"'Within Scotland net migration'!D5","v":-1135},{"$f":"'Within Scotland in-migration'!D5","v":5796},{"$f":"'Within Scotland out-migration'!D5","v":6931},{"$f":"'Rest of UK net migration'!D5","v":140},{"$f":"'Rest of UK in-migration'!D5","v":2492},{"$f":"'Rest of UK out-migration'!D5","v":2352},{"$f":"'Overseas net migration'!D5","v":2138},{"$f":"'Overseas in-migration'!D5","v":4459},{"$f":"'Overseas out-migration'!D5","v":2321},{"$f":"WRS!D6","v":1135},{"$f":"NINo!D6","v":4960},{"$f":"'Non-UK Births'!D6","v":395},{"$f":"'Pupils ethnic group'!E6","v":1391},{"$f":"'Pupils with English as an add.'!B5","v":846},{"$f":"'Pop born outside UK'!D6","v":14000}]
[4,"Aberdeenshire",null,{"$f":"'Total net migration'!D6","v":3067},{"$f":"'Total net migration 0-15'!D6","v":828},{"$f":"'Total net migration 16-64'!D6","v":1962},{"$f":"'Total net migration 65+'!D6","v":277},{"$f":"'Total in-migration'!D6","v":10285},{"$f":"'Total out-migration'!D6","v":7218},{"$f":"'Within Scotland net migration'!D6","v":1342},{"$f":"'Within Scotland in-migration'!D6","v":6057},{"$f":"'Within Scotland out-migration'!D6","v":4715},{"$f":"'Rest of UK net migration'!D6","v":1070},{"$f":"'Rest of UK in-migration'!D6","v":2671},{"$f":"'Rest of UK out-migration'!D6","v":1601},{"$f":"'Overseas net migration'!D6","v":655},{"$f":"'Overseas in-migration'!D6","v":1557},{"$f":"'Overseas out-migration'!D6","v":902},{"$f":"WRS!D7","v":1320},{"$f":"NINo!D7","v":1600},{"$f":"'Non-UK Births'!D7","v":229},{"$f":"'Pupils ethnic group'!E7","v":487},{"$f":"'Pupils with English as an add.'!B6","v":279},{"$f":"'Pop born outside UK'!D7","v":"*"}]
[5,"Angus",null,{"$f":"'Total net migration'!D7","v":954},{"$f":"'Total net migration 0-15'!D7","v":276},{"$f":"'Total net migration 16-64'!D7","v":576},{"$f":"'Total net migration 65+'!D7","v":102},{"$f":"'Total in-migration'!D7","v":4444},{"$f":"'Total out-migration'!D7","v":3490},{"$f":"'Within Scotland net migration'!D7","v":687},{"$f":"'Within Scotland in-migration'!D7","v":3066},{"$f":"'Within Scotland out-migration'!D7","v":2379},{"$f":"'Rest of UK net migration'!D7","v":130},{"$f":"'Rest of UK in-migration'!D7","v":932},{"$f":"'Rest of UK out-migration'!D7","v":802},{"$f":"'Overseas net migration'!D7","v":137},{"$f":"'Overseas in-migration'!D7","v":446},{"$f":"'Overseas out-migration'!D7","v":309},{"$f":"WRS!D8","v":775},{"$f":"NINo!D8","v":660},{"$f":"'Non-UK Births'!D8","v":68},{"$f":"'Pupils ethnic group'!E8","v":198},{"$f":"'Pupils with English as an add.'!B7","v":76},{"$f":"'Pop born outside UK'!D8","v":3000}]
[6,"Argyll & Bute",null,{"$f":"'Total net migration'!D8","v":200},{"$f":"'Total net migration 0-15'!D8","v":41},{"$f":"'Total net migration 16-64'!D8","v":136},{"$f":"'Total net migration 65+'!D8","v":23},{"$f":"'Total in-migration'!D8","v":4435},{"$f":"'Total out-migration'!D8","v":4235},{"$f":"'Within Scotland net migration'!D8","v":-238},{"$f":"'Within Scotland in-migration'!D8","v":2254},{"$f":"'Within Scotland out-migration'!D8","v":2492},{"$f":"'Rest of UK net migration'!D8","v":549},{"$f":"'Rest of UK in-migration'!D8","v":1721},{"$f":"'Rest of UK out-migration'!D8","v":1172},{"$f":"'Overseas net migration'!D8","v":-111},{"$f":"'Overseas in-migration'!D8","v":460},{"$f":"'Overseas out-migration'!D8","v":571},{"$f":"WRS!D9","v":400},{"$f":"NINo!D9","v":780},{"$f":"'Non-UK Births'!D9","v":55},{"$f":"'Pupils ethnic group'!E9","v":180},{"$f":"'Pupils with English as an add.'!B8","v":43},{"$f":"'Pop born outside UK'!D9","v":"*"}]
[7,"Clackmannanshire",null,{"$f":"'Total net migration'!D9","v":297},{"$f":"'Total net migration 0-15'!D9","v":97},{"$f":"'Total net migration 16-64'!D9","v":223},{"$f":"'Total net migration 65+'!D9","v":-23},{"$f":"'Total in-migration'!D9","v":2005},{"$f":"'Total out-migration'!D9","v":1708},{"$f":"'Within Scotland net migration'!D9","v":144},{"$f":"'Within Scotland in-migration'!D9","v":1328},{"$f":"'Within Scotland out-migration'!D9","v":1184},{"$f":"'Rest of UK net migration'!D9","v":141},{"$f":"'Rest of UK in-migration'!D9","v":504},{"$f":"'Rest of UK out-migration'!D9","v":363},{"$f":"'Overseas net migration'!D9","v":12},{"$f":"'Overseas in-migration'!D9","v":173},{"$f":"'Overseas out-migration'!D9","v":161},{"$f":"WRS!D10","v":30},{"$f":"NINo!D10","v":160},{"$f":"'Non-UK Births'!D10","v":23},{"$f":"'Pupils ethnic group'!E10","v":188},{"$f":"'Pupils with English as an add.'!B9","v":22},{"$f":"'Pop born outside UK'!D10","v":"*"}]
[8,"Dumfries & Galloway",null,{"$f":"'Total net migration'!D10","v":469},{"$f":"'Total net migration 0-15'!D10","v":100},{"$f":"'Total net migration 16-64'!D10","v":318},{"$f":"'Total net migration 65+'!D10","v":51},{"$f":"'Total in-migration'!D10","v":4740},{"$f":"'Total out-migration'!D10","v":4271},{"$f":"'Within Scotland net migration'!D10","v":-261},{"$f":"'Within Scotland in-migration'!D10","v":1663},{"$f":"'Within Scotland out-migration'!D10","v":1924},{"$f":"'Rest of UK net migration'!D10","v":846},{"$f":"'Rest of UK in-migration'!D10","v":2556},{"$f":"'Rest of UK out-migration'!D10","v":1710},{"$f":"'Overseas net migration'!D10","v":-116},{"$f":"'Overseas in-migration'!D10","v":521},{"$f":"'Overseas out-migration'!D10","v":637},{"$f":"WRS!D11","v":375},{"$f":"NINo!D11","v":590},{"$f":"'Non-UK Births'!D11","v":76},{"$f":"'Pupils ethnic group'!E11","v":325},{"$f":"'Pupils with English as an add.'!B10","v":131},{"$f":"'Pop born outside UK'!D11","v":"*"}]
[9,"Dundee City",null,{"$f":"'Total net migration'!D11","v":-109},{"$f":"'Total net migration 0-15'!D11","v":-142},{"$f":"'Total net migration 16-64'!D11","v":113},{"$f":"'Total net migration 65+'!D11","v":-80},{"$f":"'Total in-migration'!D11","v":6482},{"$f":"'Total out-migration'!D11","v":6591},{"$f":"'Within Scotland net migration'!D11","v":-647},{"$f":"'Within Scotland in-migration'!D11","v":3502},{"$f":"'Within Scotland out-migration'!D11","v":4149},{"$f":"'Rest of UK net migration'!D11","v":-149},{"$f":"'Rest of UK in-migration'!D11","v":1350},{"$f":"'Rest of UK out-migration'!D11","v":1499},{"$f":"'Overseas net migration'!D11","v":687},{"$f":"'Overseas in-migration'!D11","v":1630},{"$f":"'Overseas out-migration'!D11","v":943},{"$f":"WRS!D12","v":435},{"$f":"NINo!D12","v":1480},{"$f":"'Non-UK Births'!D12","v":170},{"$f":"'Pupils ethnic group'!E12","v":936},{"$f":"'Pupils with English as an add.'!B11","v":435},{"$f":"'Pop born outside UK'!D12","v":9000}]
[10,"East Ayrshire",null,{"$f":"'Total net migration'!D12","v":91},{"$f":"'Total net migration 0-15'!D12","v":37},{"$f":"'Total net migration 16-64'!D12","v":14},{"$f":"'Total net migration 65+'!D12","v":40},{"$f":"'Total in-migration'!D12","v":3403},{"$f":"'Total out-migration'!D12","v":3312},{"$f":"'Within Scotland net migration'!D12","v":174},{"$f":"'Within Scotland in-migration'!D12","v":2465},{"$f":"'Within Scotland out-migration'!D12","v":2291},{"$f":"'Rest of UK net migration'!D12","v":111},{"$f":"'Rest of UK in-migration'!D12","v":818},{"$f":"'Rest of UK out-migration'!D12","v":707},{"$f":"'Overseas net migration'!D12","v":-194},{"$f":"'Overseas in-migration'!D12","v":120},{"$f":"'Overseas out-migration'!D12","v":314},{"$f":"WRS!D13","v":165},{"$f":"NINo!D13","v":140},{"$f":"'Non-UK Births'!D13","v":38},{"$f":"'Pupils ethnic group'!E13","v":244},{"$f":"'Pupils with English as an add.'!B12","v":22},{"$f":"'Pop born outside UK'!D13","v":"*"}]
[11,"East Dunbartonshire",null,{"$f":"'Total net migration'!D13","v":-449},{"$f":"'Total net migration 0-15'!D13","v":266},{"$f":"'Total net migration 16-64'!D13","v":-613},{"$f":"'Total net migration 65+'!D13","v":-102},{"$f":"'Total in-migration'!D13","v":3489},{"$f":"'Total out-migration'!D13","v":3938},{"$f":"'Within Scotland net migration'!D13","v":-130},{"$f":"'Within Scotland in-migration'!D13","v":2808},{"$f":"'Within Scotland out-migration'!D13","v":2938},{"$f":"'Rest of UK net migration'!D13","v":-128},{"$f":"'Rest of UK in-migration'!D13","v":469},{"$f":"'Rest of UK out-migration'!D13","v":597},{"$f":"'Overseas net migration'!D13","v":-191},{"$f":"'Overseas in-migration'!D13","v":212},{"$f":"'Overseas out-migration'!D13","v":403},{"$f":"WRS!D14","v":85},{"$f":"NINo!D14","v":220},{"$f":"'Non-UK Births'!D14","v":69},{"$f":"'Pupils ethnic group'!E14","v":950},{"$f":"'Pupils with English as an add.'!B13","v":255},{"$f":"'Pop born outside UK'!D14","v":4000}]
[12,"East Lothian",null,{"$f":"'Total net migration'!D14","v":925},{"$f":"'Total net migration 0-15'!D14","v":229},{"$f":"'Total net migration 16-64'!D14","v":561},{"$f":"'Total net migration 65+'!D14","v":135},{"$f":"'Total in-migration'!D14","v":3940},{"$f":"'Total out-migration'!D14","v":3015},{"$f":"'Within Scotland net migration'!D14","v":879},{"$f":"'Within Scotland in-migration'!D14","v":2919},{"$f":"'Within Scotland out-migration'!D14","v":2040},{"$f":"'Rest of UK net migration'!D14","v":9},{"$f":"'Rest of UK in-migration'!D14","v":666},{"$f":"'Rest of UK out-migration'!D14","v":657},{"$f":"'Overseas net migration'!D14","v":37},{"$f":"'Overseas in-migration'!D14","v":355},{"$f":"'Overseas out-migration'!D14","v":318},{"$f":"WRS!D15","v":180},{"$f":"NINo!D15","v":350},{"$f":"'Non-UK Births'!D15","v":69},{"$f":"'Pupils ethnic group'!E15","v":211},{"$f":"'Pupils with English as an add.'!B14","v":73},{"$f":"'Pop born outside UK'!D15","v":4000}]
[13,"East Renfrewshire",null,{"$f":"'Total net migration'!D15","v":-213},{"$f":"'Total net migration 0-15'!D15","v":244},{"$f":"'Total net migration 16-64'!D15","v":-494},{"$f":"'Total net migration 65+'!D15","v":37},{"$f":"'Total in-migration'!D15","v":3326},{"$f":"'Total out-migration'!D15","v":3539},{"$f":"'Within Scotland net migration'!D15","v":73},{"$f":"'Within Scotland in-migration'!D15","v":2765},{"$f":"'Within Scotland out-migration'!D15","v":2692},{"$f":"'Rest of UK net migration'!D15","v":-161},{"$f":"'Rest of UK in-migration'!D15","v":400},{"$f":"'Rest of UK out-migration'!D15","v":561},{"$f":"'Overseas net migration'!D15","v":-125},{"$f":"'Overseas in-migration'!D15","v":161},{"$f":"'Overseas out-migration'!D15","v":286},{"$f":"WRS!D16","v":65},{"$f":"NINo!D16","v":190},{"$f":"'Non-UK Births'!D16","v":79},{"$f":"'Pupils ethnic group'!E16","v":1648},{"$f":"'Pupils with English as an add.'!B15","v":373},{"$f":"'Pop born outside UK'!D16","v":4000}]
[14,"Edinburgh, City of",null,{"$f":"'Total net migration'!D16","v":3412},{"$f":"'Total net migration 0-15'!D16","v":-280},{"$f":"'Total net migration 16-64'!D16","v":3946},{"$f":"'Total net migration 65+'!D16","v":-254},{"$f":"'Total in-migration'!D16","v":30273},{"$f":"'Total out-migration'!D16","v":26861},{"$f":"'Within Scotland net migration'!D16","v":-2614},{"$f":"'Within Scotland in-migration'!D16","v":10338},{"$f":"'Within Scotland out-migration'!D16","v":12952},{"$f":"'Rest of UK net migration'!D16","v":1917},{"$f":"'Rest of UK in-migration'!D16","v":9476},{"$f":"'Rest of UK out-migration'!D16","v":7559},{"$f":"'Overseas net migration'!D16","v":4109},{"$f":"'Overseas in-migration'!D16","v":10459},{"$f":"'Overseas out-migration'!D16","v":6350},{"$f":"WRS!D17","v":2460},{"$f":"NINo!D17","v":11950},{"$f":"'Non-UK Births'!D17","v":996},{"$f":"'Pupils ethnic group'!E17","v":4052},{"$f":"'Pupils with English as an add.'!B16","v":1910},{"$f":"'Pop born outside UK'!D17","v":50000}]
[15,"Eilean Siar",null,{"$f":"'Total net migration'!D17","v":129},{"$f":"'Total net migration 0-15'!D17","v":41},{"$f":"'Total net migration 16-64'!D17","v":60},{"$f":"'Total net migration 65+'!D17","v":28},{"$f":"'Total in-migration'!D17","v":1091},{"$f":"'Total out-migration'!D17","v":962},{"$f":"'Within Scotland net migration'!D17","v":-48},{"$f":"'Within Scotland in-migration'!D17","v":613},{"$f":"'Within Scotland out-migration'!D17","v":661},{"$f":"'Rest of UK net migration'!D17","v":188},{"$f":"'Rest of UK in-migration'!D17","v":391},{"$f":"'Rest of UK out-migration'!D17","v":203},{"$f":"'Overseas net migration'!D17","v":-11},{"$f":"'Overseas in-migration'!D17","v":87},{"$f":"'Overseas out-migration'!D17","v":98},{"$f":"WRS!D18","v":65},{"$f":"NINo!D18","v":90},{"$f":"'Non-UK Births'!D18","v":11},{"$f":"'Pupils ethnic group'!E18","v":55},{"$f":"'Pupils with English as an add.'!B17","v":23},{"$f":"'Pop born outside UK'!D18","v":"*"}]
[16,"Falkirk",null,{"$f":"'Total net migration'!D18","v":941},{"$f":"'Total net migration 0-15'!D18","v":90},{"$f":"'Total net migration 16-64'!D18","v":792},{"$f":"'Total net migration 65+'!D18","v":59},{"$f":"'Total in-migration'!D18","v":4536},{"$f":"'Total out-migration'!D18","v":3595},{"$f":"'Within Scotland net migration'!D18","v":772},{"$f":"'Within Scotland in-migration'!D18","v":3152},{"$f":"'Within Scotland out-migration'!D18","v":2380},{"$f":"'Rest of UK net migration'!D18","v":100},{"$f":"'Rest of UK in-migration'!D18","v":816},{"$f":"'Rest of UK out-migration'!D18","v":716},{"$f":"'Overseas net migration'!D18","v":69},{"$f":"'Overseas in-migration'!D18","v":568},{"$f":"'Overseas out-migration'!D18","v":499},{"$f":"WRS!D19","v":330},{"$f":"NINo!D19","v":530},{"$f":"'Non-UK Births'!D19","v":86},{"$f":"'Pupils ethnic group'!E19","v":486},{"$f":"'Pupils with English as an add.'!B18","v":254},{"$f":"'Pop born outside UK'!D19","v":"*"}]
[17,"Fife",null,{"$f":"'Total net migration'!D19","v":1560},{"$f":"'Total net migration 0-15'!D19","v":196},{"$f":"'Total net migration 16-64'!D19","v":1292},{"$f":"'Total net migration 65+'!D19","v":72},{"$f":"'Total in-migration'!D19","v":12154},{"$f":"'Total out-migration'!D19","v":10594},{"$f":"'Within Scotland net migration'!D19","v":635},{"$f":"'Within Scotland in-migration'!D19","v":6375},{"$f":"'Within Scotland out-migration'!D19","v":5740},{"$f":"'Rest of UK net migration'!D19","v":653},{"$f":"'Rest of UK in-migration'!D19","v":3610},{"$f":"'Rest of UK out-migration'!D19","v":2957},{"$f":"'Overseas net migration'!D19","v":272},{"$f":"'Overseas in-migration'!D19","v":2169},{"$f":"'Overseas out-migration'!D19","v":1897},{"$f":"WRS!D20","v":1165},{"$f":"NINo!D20","v":1800},{"$f":"'Non-UK Births'!D20","v":285},{"$f":"'Pupils ethnic group'!E20","v":1166},{"$f":"'Pupils with English as an add.'!B19","v":282},{"$f":"'Pop born outside UK'!D20","v":"*"}]
[18,"Glasgow City",null,{"$f":"'Total net migration'!D20","v":-1988},{"$f":"'Total net migration 0-15'!D20","v":-1413},{"$f":"'Total net migration 16-64'!D20","v":19},{"$f":"'Total net migration 65+'!D20","v":-594},{"$f":"'Total in-migration'!D20","v":27497},{"$f":"'Total out-migration'!D20","v":29485},{"$f":"'Within Scotland net migration'!D20","v":-2651},{"$f":"'Within Scotland in-migration'!D20","v":13809},{"$f":"'Within Scotland out-migration'!D20","v":16460},{"$f":"'Rest of UK net migration'!D20","v":-402},{"$f":"'Rest of UK in-migration'!D20","v":5698},{"$f":"'Rest of UK out-migration'!D20","v":6100},{"$f":"'Overseas net migration'!D20","v":1065},{"$f":"'Overseas in-migration'!D20","v":7990},{"$f":"'Overseas out-migration'!D20","v":6925},{"$f":"WRS!D21","v":2200},{"$f":"NINo!D21","v":7840},{"$f":"'Non-UK Births'!D21","v":1195},{"$f":"'Pupils ethnic group'!E21","v":8342},{"$f":"'Pupils with English as an add.'!B20","v":2691},{"$f":"'Pop born outside UK'!D21","v":45000}]
[19,"Highland",null,{"$f":"'Total net migration'!D21","v":2054},{"$f":"'Total net migration 0-15'!D21","v":418},{"$f":"'Total net migration 16-64'!D21","v":1506},{"$f":"'Total net migration 65+'!D21","v":130},{"$f":"'Total in-migration'!D21","v":9584},{"$f":"'Total out-migration'!D21","v":7530},{"$f":"'Within Scotland net migration'!D21","v":131},{"$f":"'Within Scotland in-migration'!D21","v":4445},{"$f":"'Within Scotland out-migration'!D21","v":4314},{"$f":"'Rest of UK net migration'!D21","v":1464},{"$f":"'Rest of UK in-migration'!D21","v":3609},{"$f":"'Rest of UK out-migration'!D21","v":2145},{"$f":"'Overseas net migration'!D21","v":459},{"$f":"'Overseas in-migration'!D21","v":1530},{"$f":"'Overseas out-migration'!D21","v":1071},{"$f":"WRS!D22","v":1475},{"$f":"NINo!D22","v":2360},{"$f":"'Non-UK Births'!D22","v":203},{"$f":"'Pupils ethnic group'!E22","v":552},{"$f":"'Pupils with English as an add.'!B21","v":254},{"$f":"'Pop born outside UK'!D22","v":"*"}]
[20,"Inverclyde",null,{"$f":"'Total net migration'!D22","v":-353},{"$f":"'Total net migration 0-15'!D22","v":-74},{"$f":"'Total net migration 16-64'!D22","v":-289},{"$f":"'Total net migration 65+'!D22","v":10},{"$f":"'Total in-migration'!D22","v":1658},{"$f":"'Total out-migration'!D22","v":2011},{"$f":"'Within Scotland net migration'!D22","v":-312},{"$f":"'Within Scotland in-migration'!D22","v":976},{"$f":"'Within Scotland out-migration'!D22","v":1288},{"$f":"'Rest of UK net migration'!D22","v":-41},{"$f":"'Rest of UK in-migration'!D22","v":416},{"$f":"'Rest of UK out-migration'!D22","v":457},{"$f":"'Overseas net migration'!D22","v":0},{"$f":"'Overseas in-migration'!D22","v":266},{"$f":"'Overseas out-migration'!D22","v":266},{"$f":"WRS!D23","v":35},{"$f":"NINo!D23","v":230},{"$f":"'Non-UK Births'!D23","v":32},{"$f":"'Pupils ethnic group'!E23","v":198},{"$f":"'Pupils with English as an add.'!B22","v":16},{"$f":"'Pop born outside UK'!D23","v":"*"}]
[21,"Midlothian",null,{"$f":"'Total net migration'!D23","v":-261},{"$f":"'Total net migration 0-15'!D23","v":-66},{"$f":"'Total net migration 16-64'!D23","v":-206},{"$f":"'Total net migration 65+'!D23","v":11},{"$f":"'Total in-migration'!D23","v":2560},{"$f":"'Total out-migration'!D23","v":2821},{"$f":"'Within Scotland net migration'!D23","v":-217},{"$f":"'Within Scotland in-migration'!D23","v":1947},{"$f":"'Within Scotland out-migration'!D23","v":2164},{"$f":"'Rest of UK net migration'!D23","v":-43},{"$f":"'Rest of UK in-migration'!D23","v":413},{"$f":"'Rest of UK out-migration'!D23","v":456},{"$f":"'Overseas net migration'!D23","v":-1},{"$f":"'Overseas in-migration'!D23","v":200},{"$f":"'Overseas out-migration'!D23","v":201},{"$f":"WRS!D24","v":235},{"$f":"NINo!D24","v":250},{"$f":"'Non-UK Births'!D24","v":53},{"$f":"'Pupils ethnic group'!E24","v":227},{"$f":"'Pupils with English as an add.'!B23","v":42},{"$f":"'Pop born outside UK'!D24","v":"*"}]
[22,"Moray",null,{"$f":"'Total net migration'!D24","v":458},{"$f":"'Total net migration 0-15'!D24","v":-25},{"$f":"'Total net migration 16-64'!D24","v":455},{"$f":"'Total net migration 65+'!D24","v":28},{"$f":"'Total in-migration'!D24","v":3861},{"$f":"'Total out-migration'!D24","v":3403},{"$f":"'Within Scotland net migration'!D24","v":6},{"$f":"'Within Scotland in-migration'!D24","v":1707},{"$f":"'Within Scotland out-migration'!D24","v":1701},{"$f":"'Rest of UK net migration'!D24","v":428},{"$f":"'Rest of UK in-migration'!D24","v":1624},{"$f":"'Rest of UK out-migration'!D24","v":1196},{"$f":"'Overseas net migration'!D24","v":24},{"$f":"'Overseas in-migration'!D24","v":530},{"$f":"'Overseas out-migration'!D24","v":506},{"$f":"WRS!D25","v":255},{"$f":"NINo!D25","v":520},{"$f":"'Non-UK Births'!D25","v":59},{"$f":"'Pupils ethnic group'!E25","v":197},{"$f":"'Pupils with English as an add.'!B24","v":127},{"$f":"'Pop born outside UK'!D25","v":3000}]
[23,"North Ayrshire",null,{"$f":"'Total net migration'!D25","v":-21},{"$f":"'Total net migration 0-15'!D25","v":45},{"$f":"'Total net migration 16-64'!D25","v":-124},{"$f":"'Total net migration 65+'!D25","v":58},{"$f":"'Total in-migration'!D25","v":4127},{"$f":"'Total out-migration'!D25","v":4148},{"$f":"'Within Scotland net migration'!D25","v":147},{"$f":"'Within Scotland in-migration'!D25","v":2878},{"$f":"'Within Scotland out-migration'!D25","v":2731},{"$f":"'Rest of UK net migration'!D25","v":110},{"$f":"'Rest of UK in-migration'!D25","v":1028},{"$f":"'Rest of UK out-migration'!D25","v":918},{"$f":"'Overseas net migration'!D25","v":-278},{"$f":"'Overseas in-migration'!D25","v":221},{"$f":"'Overseas out-migration'!D25","v":499},{"$f":"WRS!D26","v":70},{"$f":"NINo!D26","v":280},{"$f":"'Non-UK Births'!D26","v":49},{"$f":"'Pupils ethnic group'!E26","v":282},{"$f":"'Pupils with English as an add.'!B25","v":13},{"$f":"'Pop born outside UK'!D26","v":"*"}]
[24,"North Lanarkshire",null,{"$f":"'Total net migration'!D26","v":302},{"$f":"'Total net migration 0-15'!D26","v":21},{"$f":"'Total net migration 16-64'!D26","v":268},{"$f":"'Total net migration 65+'!D26","v":13},{"$f":"'Total in-migration'!D26","v":7841},{"$f":"'Total out-migration'!D26","v":7539},{"$f":"'Within Scotland net migration'!D26","v":342},{"$f":"'Within Scotland in-migration'!D26","v":5665},{"$f":"'Within Scotland out-migration'!D26","v":5323},{"$f":"'Rest of UK net migration'!D26","v":-7},{"$f":"'Rest of UK in-migration'!D26","v":1332},{"$f":"'Rest of UK out-migration'!D26","v":1339},{"$f":"'Overseas net migration'!D26","v":-33},{"$f":"'Overseas in-migration'!D26","v":844},{"$f":"'Overseas out-migration'!D26","v":877},{"$f":"WRS!D27","v":645},{"$f":"NINo!D27","v":1100},{"$f":"'Non-UK Births'!D27","v":162},{"$f":"'Pupils ethnic group'!E27","v":1262},{"$f":"'Pupils with English as an add.'!B26","v":302},{"$f":"'Pop born outside UK'!D27","v":"*"}]
[25,"Orkney Islands",null,{"$f":"'Total net migration'!D27","v":200},{"$f":"'Total net migration 0-15'!D27","v":32},{"$f":"'Total net migration 16-64'!D27","v":142},{"$f":"'Total net migration 65+'!D27","v":26},{"$f":"'Total in-migration'!D27","v":779},{"$f":"'Total out-migration'!D27","v":579},{"$f":"'Within Scotland net migration'!D27","v":79},{"$f":"'Within Scotland in-migration'!D27","v":420},{"$f":"'Within Scotland out-migration'!D27","v":341},{"$f":"'Rest of UK net migration'!D27","v":148},{"$f":"'Rest of UK in-migration'!D27","v":309},{"$f":"'Rest of UK out-migration'!D27","v":161},{"$f":"'Overseas net migration'!D27","v":-27},{"$f":"'Overseas in-migration'!D27","v":50},{"$f":"'Overseas out-migration'!D27","v":77},{"$f":"WRS!D28","v":20},{"$f":"NINo!D28","v":70},{"$f":"'Non-UK Births'!D28","v":9},{"$f":"'Pupils ethnic group'!E28","v":30},{"$f":"'Pupils with English as an add.'!B27","v":0},{"$f":"'Pop born outside UK'!D28","v":"*"}]
[26,"Perth & Kinross",null,{"$f":"'Total net migration'!D28","v":2023},{"$f":"'Total net migration 0-15'!D28","v":369},{"$f":"'Total net migration 16-64'!D28","v":1520},{"$f":"'Total net migration 65+'!D28","v":134},{"$f":"'Total in-migration'!D28","v":7299},{"$f":"'Total out-migration'!D28","v":5276},{"$f":"'Within Scotland net migration'!D28","v":603},{"$f":"'Within Scotland in-migration'!D28","v":3940},{"$f":"'Within Scotland out-migration'!D28","v":3337},{"$f":"'Rest of UK net migration'!D28","v":450},{"$f":"'Rest of UK in-migration'!D28","v":1626},{"$f":"'Rest of UK out-migration'!D28","v":1176},{"$f":"'Overseas net migration'!D28","v":970},{"$f":"'Overseas in-migration'!D28","v":1733},{"$f":"'Overseas out-migration'!D28","v":763},{"$f":"WRS!D29","v":1765},{"$f":"NINo!D29","v":1750},{"$f":"'Non-UK Births'!D29","v":111},{"$f":"'Pupils ethnic group'!E29","v":321},{"$f":"'Pupils with English as an add.'!B28","v":165},{"$f":"'Pop born outside UK'!D29","v":5000}]
[27,"Renfrewshire",null,{"$f":"'Total net migration'!D29","v":-344},{"$f":"'Total net migration 0-15'!D29","v":-1},{"$f":"'Total net migration 16-64'!D29","v":-312},{"$f":"'Total net migration 65+'!D29","v":-31},{"$f":"'Total in-migration'!D29","v":4829},{"$f":"'Total out-migration'!D29","v":5173},{"$f":"'Within Scotland net migration'!D29","v":-208},{"$f":"'Within Scotland in-migration'!D29","v":3270},{"$f":"'Within Scotland out-migration'!D29","v":3478},{"$f":"'Rest of UK net migration'!D29","v":-215},{"$f":"'Rest of UK in-migration'!D29","v":748},{"$f":"'Rest of UK out-migration'!D29","v":963},{"$f":"'Overseas net migration'!D29","v":79},{"$f":"'Overseas in-migration'!D29","v":811},{"$f":"'Overseas out-migration'!D29","v":732},{"$f":"WRS!D30","v":325},{"$f":"NINo!D30","v":930},{"$f":"'Non-UK Births'!D30","v":101},{"$f":"'Pupils ethnic group'!E30","v":606},{"$f":"'Pupils with English as an add.'!B29","v":42},{"$f":"'Pop born outside UK'!D30","v":"*"}]
[28,"Scottish Borders",null,{"$f":"'Total net migration'!D30","v":835},{"$f":"'Total net migration 0-15'!D30","v":179},{"$f":"'Total net migration 16-64'!D30","v":649},{"$f":"'Total net migration 65+'!D30","v":7},{"$f":"'Total in-migration'!D30","v":4760},{"$f":"'Total out-migration'!D30","v":3925},{"$f":"'Within Scotland net migration'!D30","v":272},{"$f":"'Within Scotland in-migration'!D30","v":2350},{"$f":"'Within Scotland out-migration'!D30","v":2078},{"$f":"'Rest of UK net migration'!D30","v":552},{"$f":"'Rest of UK in-migration'!D30","v":1828},{"$f":"'Rest of UK out-migration'!D30","v":1276},{"$f":"'Overseas net migration'!D30","v":11},{"$f":"'Overseas in-migration'!D30","v":582},{"$f":"'Overseas out-migration'!D30","v":571},{"$f":"WRS!D31","v":475},{"$f":"NINo!D31","v":760},{"$f":"'Non-UK Births'!D31","v":84},{"$f":"'Pupils ethnic group'!E31","v":174},{"$f":"'Pupils with English as an add.'!B30","v":137},{"$f":"'Pop born outside UK'!D31","v":4000}]
[29,"Shetland Islands",null,{"$f":"'Total net migration'!D31","v":-112},{"$f":"'Total net migration 0-15'!D31","v":-48},{"$f":"'Total net migration 16-64'!D31","v":-69},{"$f":"'Total net migration 65+'!D31","v":5},{"$f":"'Total in-migration'!D31","v":724},{"$f":"'Total out-migration'!D31","v":836},{"$f":"'Within Scotland net migration'!D31","v":-84},{"$f":"'Within Scotland in-migration'!D31","v":394},{"$f":"'Within Scotland out-migration'!D31","v":478},{"$f":"'Rest of UK net migration'!D31","v":14},{"$f":"'Rest of UK in-migration'!D31","v":265},{"$f":"'Rest of UK out-migration'!D31","v":251},{"$f":"'Overseas net migration'!D31","v":-42},{"$f":"'Overseas in-migration'!D31","v":65},{"$f":"'Overseas out-migration'!D31","v":107},{"$f":"WRS!D32","v":75},{"$f":"NINo!D32","v":150},{"$f":"'Non-UK Births'!D32","v":21},{"$f":"'Pupils ethnic group'!E32","v":51},{"$f":"'Pupils with English as an add.'!B31","v":0},{"$f":"'Pop born outside UK'!D32","v":"*"}]
[30,"South Ayrshire",null,{"$f":"'Total net migration'!D32","v":366},{"$f":"'Total net migration 0-15'!D32","v":177},{"$f":"'Total net migration 16-64'!D32","v":99},{"$f":"'Total net migration 65+'!D32","v":90},{"$f":"'Total in-migration'!D32","v":3742},{"$f":"'Total out-migration'!D32","v":3376},{"$f":"'Within Scotland net migration'!D32","v":255},{"$f":"'Within Scotland in-migration'!D32","v":2436},{"$f":"'Within Scotland out-migration'!D32","v":2181},{"$f":"'Rest of UK net migration'!D32","v":196},{"$f":"'Rest of UK in-migration'!D32","v":980},{"$f":"'Rest of UK out-migration'!D32","v":784},{"$f":"'Overseas net migration'!D32","v":-85},{"$f":"'Overseas in-migration'!D32","v":326},{"$f":"'Overseas out-migration'!D32","v":411},{"$f":"WRS!D33","v":125},{"$f":"NINo!D33","v":410},{"$f":"'Non-UK Births'!D33","v":44},{"$f":"'Pupils ethnic group'!E33","v":268},{"$f":"'Pupils with English as an add.'!B32","v":30},{"$f":"'Pop born outside UK'!D33","v":"*"}]
[31,"South Lanarkshire",null,{"$f":"'Total net migration'!D33","v":1334},{"$f":"'Total net migration 0-15'!D33","v":391},{"$f":"'Total net migration 16-64'!D33","v":763},{"$f":"'Total net migration 65+'!D33","v":180},{"$f":"'Total in-migration'!D33","v":9274},{"$f":"'Total out-migration'!D33","v":7940},{"$f":"'Within Scotland net migration'!D33","v":1239},{"$f":"'Within Scotland in-migration'!D33","v":6778},{"$f":"'Within Scotland out-migration'!D33","v":5539},{"$f":"'Rest of UK net migration'!D33","v":296},{"$f":"'Rest of UK in-migration'!D33","v":1761},{"$f":"'Rest of UK out-migration'!D33","v":1465},{"$f":"'Overseas net migration'!D33","v":-201},{"$f":"'Overseas in-migration'!D33","v":735},{"$f":"'Overseas out-migration'!D33","v":936},{"$f":"WRS!D34","v":530},{"$f":"NINo!D34","v":870},{"$f":"'Non-UK Births'!D34","v":169},{"$f":"'Pupils ethnic group'!E34","v":1135},{"$f":"'Pupils with English as an add.'!B33","v":268},{"$f":"'Pop born outside UK'!D34","v":"*"}]
[32,"Stirling",null,{"$f":"'Total net migration'!D34","v":701},{"$f":"'Total net migration 0-15'!D34","v":234},{"$f":"'Total net migration 16-64'!D34","v":443},{"$f":"'Total net migration 65+'!D34","v":24},{"$f":"'Total in-migration'!D34","v":5292},{"$f":"'Total out-migration'!D34","v":4591},{"$f":"'Within Scotland net migration'!D34","v":222},{"$f":"'Within Scotland in-migration'!D34","v":3239},{"$f":"'Within Scotland out-migration'!D34","v":3017},{"$f":"'Rest of UK net migration'!D34","v":301},{"$f":"'Rest of UK in-migration'!D34","v":1165},{"$f":"'Rest of UK out-migration'!D34","v":864},{"$f":"'Overseas net migration'!D34","v":178},{"$f":"'Overseas in-migration'!D34","v":888},{"$f":"'Overseas out-migration'!D34","v":710},{"$f":"WRS!D35","v":280},{"$f":"NINo!D35","v":750},{"$f":"'Non-UK Births'!D35","v":85},{"$f":"'Pupils ethnic group'!E35","v":334},{"$f":"'Pupils with English as an add.'!B34","v":91},{"$f":"'Pop born outside UK'!D35","v":6000}]
[33,"West Dunbartonshire",null,{"$f":"'Total net migration'!D35","v":-108},{"$f":"'Total net migration 0-15'!D35","v":-58},{"$f":"'Total net migration 16-64'!D35","v":-35},{"$f":"'Total net migration 65+'!D35","v":-15},{"$f":"'Total in-migration'!D35","v":2439},{"$f":"'Total out-migration'!D35","v":2547},{"$f":"'Within Scotland net migration'!D35","v":28},{"$f":"'Within Scotland in-migration'!D35","v":1834},{"$f":"'Within Scotland out-migration'!D35","v":1806},{"$f":"'Rest of UK net migration'!D35","v":-27},{"$f":"'Rest of UK in-migration'!D35","v":420},{"$f":"'Rest of UK out-migration'!D35","v":447},{"$f":"'Overseas net migration'!D35","v":-109},{"$f":"'Overseas in-migration'!D35","v":185},{"$f":"'Overseas out-migration'!D35","v":294},{"$f":"WRS!D36","v":45},{"$f":"NINo!D36","v":230},{"$f":"'Non-UK Births'!D36","v":38},{"$f":"'Pupils ethnic group'!E36","v":212},{"$f":"'Pupils with English as an add.'!B35","v":22},{"$f":"'Pop born outside UK'!D36","v":"*"}]
[34,"West Lothian",null,{"$f":"'Total net migration'!D36","v":1319},{"$f":"'Total net migration 0-15'!D36","v":218},{"$f":"'Total net migration 16-64'!D36","v":1023},{"$f":"'Total net migration 65+'!D36","v":78},{"$f":"'Total in-migration'!D36","v":6197},{"$f":"'Total out-migration'!D36","v":4878},{"$f":"'Within Scotland net migration'!D36","v":515},{"$f":"'Within Scotland in-migration'!D36","v":3989},{"$f":"'Within Scotland out-migration'!D36","v":3474},{"$f":"'Rest of UK net migration'!D36","v":282},{"$f":"'Rest of UK in-migration'!D36","v":1241},{"$f":"'Rest of UK out-migration'!D36","v":959},{"$f":"'Overseas net migration'!D36","v":522},{"$f":"'Overseas in-migration'!E36","v":1248},{"$f":"'Overseas out-migration'!D36","v":445},{"$f":"WRS!D37","v":510},{"$f":"NINo!D37","v":1490},{"$f":"'Non-UK Births'!D37","v":158},{"$f":"'Pupils ethnic group'!E37","v":835},{"$f":"'Pupils with English as an add.'!B36","v":173},{"$f":"'Pop born outside UK'!D37","v":7000}]
[]
[35,"Not specified"]
[36,"SCOTLAND",null,{"$f":"'Total net migration'!D4","v":18822},{"$f":"'Total net migration 0-15'!D4","v":2416},{"$f":"'Total net migration 16-64'!D4","v":16044},{"$f":"'Total net migration 65+'!D4","v":362},{"$f":"'Total in-migration'!D4","v":94635},{"$f":"'Total out-migration'!D4","v":75813},null,null,null,{"$f":"'Rest of UK net migration'!D39","v":8922},{"$f":"'Rest of UK in-migration'!D39","v":53335},{"$f":"'Rest of UK out-migration'!D39","v":44413},{"$f":"'Overseas net migration'!D39","v":9900},{"$f":"'Overseas in-migration'!D39","v":41300},{"$f":"'Overseas out-migration'!D39","v":31400},null,null,{"$f":"'Non-UK Births'!D40","v":5222},null,null,null,{"$f":"'NHS Overseas'!$D$5","v":47401}]
[37,"Ayrshire & Arran",null,{"$f":"'Total net migration'!D40","v":436},{"$f":"'Total net migration 0-15'!D40","v":259},{"$f":"'Total net migration 16-64'!D40","v":-11},{"$f":"'Total net migration 65+'!D40","v":188},{"$f":"'Total in-migration'!D40","v":8673},{"$f":"'Total out-migration'!D40","v":8237},{"$f":"'Within Scotland net migration'!D40","v":576},{"$f":"'Within Scotland in-migration'!D40","v":5180},{"$f":"'Within Scotland out-migration'!D40","v":4604},{"$f":"'Rest of UK net migration'!D40","v":417},{"$f":"'Rest of UK in-migration'!D40","v":2826},{"$f":"'Rest of UK out-migration'!D40","v":2409},{"$f":"'Overseas net migration'!D40","v":-557},{"$f":"'Overseas in-migration'!D40","v":667},{"$f":"'Overseas out-migration'!D40","v":1224},null,null,{"$f":"'Non-UK Births'!D41","v":131}]
[38,"Borders",null,{"$f":"'Total net migration'!D41","v":835},{"$f":"'Total net migration 0-15'!D41","v":179},{"$f":"'Total net migration 16-64'!D41","v":649},{"$f":"'Total net migration 65+'!D41","v":7},{"$f":"'Total in-migration'!D41","v":4760},{"$f":"'Total out-migration'!D41","v":3925},{"$f":"'Within Scotland net migration'!D41","v":272},{"$f":"'Within Scotland in-migration'!D41","v":2350},{"$f":"'Within Scotland out-migration'!D41","v":2078},{"$f":"'Rest of UK net migration'!D41","v":552},{"$f":"'Rest of UK in-migration'!D41","v":1828},{"$f":"'Rest of UK out-migration'!D41","v":1276},{"$f":"'Overseas net migration'!D41","v":11},{"$f":"'Overseas in-migration'!D41","v":582},{"$f":"'Overseas out-migration'!D41","v":571},null,null,{"$f":"'Non-UK Births'!D42","v":84}]
[39,"Dumfries & Galloway",null,{"$f":"'Total net migration'!D42","v":469},{"$f":"'Total net migration 0-15'!D42","v":100},{"$f":"'Total net migration 16-64'!D42","v":318},{"$f":"'Total net migration 65+'!D42","v":51},{"$f":"'Total in-migration'!D42","v":4740},{"$f":"'Total out-migration'!D42","v":4271},{"$f":"'Within Scotland net migration'!D42","v":-261},{"$f":"'Within Scotland in-migration'!D42","v":1663},{"$f":"'Within Scotland out-migration'!D42","v":1924},{"$f":"'Rest of UK net migration'!D42","v":846},{"$f":"'Rest of UK in-migration'!D42","v":2556},{"$f":"'Rest of UK out-migration'!D42","v":1710},{"$f":"'Overseas net migration'!D42","v":-116},{"$f":"'Overseas in-migration'!D42","v":521},{"$f":"'Overseas out-migration'!D42","v":637},null,null,{"$f":"'Non-UK Births'!D43","v":76}]
[40,"Fife",null,{"$f":"'Total net migration'!D43","v":1563},{"$f":"'Total net migration 0-15'!D43","v":196},{"$f":"'Total net migration 16-64'!D43","v":1293},{"$f":"'Total net migration 65+'!D43","v":74},{"$f":"'Total in-migration'!D43","v":12154},{"$f":"'Total out-migration'!D43","v":10591},{"$f":"'Within Scotland net migration'!D43","v":638},{"$f":"'Within Scotland in-migration'!D43","v":6375},{"$f":"'Within Scotland out-migration'!D43","v":5737},{"$f":"'Rest of UK net migration'!D43","v":653},{"$f":"'Rest of UK in-migration'!D43","v":3610},{"$f":"'Rest of UK out-migration'!D43","v":2957},{"$f":"'Overseas net migration'!D43","v":272},{"$f":"'Overseas in-migration'!D43","v":2169},{"$f":"'Overseas out-migration'!D43","v":1897},null,null,{"$f":"'Non-UK Births'!D44","v":285}]
[41,"Forth Valley",null,{"$f":"'Total net migration'!D44","v":1939},{"$f":"'Total net migration 0-15'!D44","v":421},{"$f":"'Total net migration 16-64'!D44","v":1458},{"$f":"'Total net migration 65+'!D44","v":60},{"$f":"'Total in-migration'!D44","v":10253},{"$f":"'Total out-migration'!D44","v":8314},{"$f":"'Within Scotland net migration'!D44","v":1138},{"$f":"'Within Scotland in-migration'!D44","v":6139},{"$f":"'Within Scotland out-migration'!D44","v":5001},{"$f":"'Rest of UK net migration'!D44","v":542},{"$f":"'Rest of UK in-migration'!D44","v":2485},{"$f":"'Rest of UK out-migration'!D44","v":1943},{"$f":"'Overseas net migration'!D44","v":259},{"$f":"'Overseas in-migration'!D44","v":1629},{"$f":"'Overseas out-migration'!D44","v":1370},null,null,{"$f":"'Non-UK Births'!D45","v":194}]
[42,"Grampian",null,{"$f":"'Total net migration'!D45","v":4668},{"$f":"'Total net migration 0-15'!D45","v":797},{"$f":"'Total net migration 16-64'!D45","v":3723},{"$f":"'Total net migration 65+'!D45","v":148},{"$f":"'Total in-migration'!D45","v":20186},{"$f":"'Total out-migration'!D45","v":15518},{"$f":"'Within Scotland net migration'!D45","v":213},{"$f":"'Within Scotland in-migration'!D45","v":6853},{"$f":"'Within Scotland out-migration'!D45","v":6640},{"$f":"'Rest of UK net migration'!D45","v":1638},{"$f":"'Rest of UK in-migration'!D45","v":6787},{"$f":"'Rest of UK out-migration'!D45","v":5149},{"$f":"'Overseas net migration'!D45","v":2817},{"$f":"'Overseas in-migration'!D45","v":6546},{"$f":"'Overseas out-migration'!D45","v":3729},null,null,{"$f":"'Non-UK Births'!D46","v":683}]
[43,"Greater Glasgow & Clyde",null,{"$f":"'Total net migration'!D46","v":-2796},{"$f":"'Total net migration 0-15'!D46","v":-887},{"$f":"'Total net migration 16-64'!D46","v":-1172},{"$f":"'Total net migration 65+'!D46","v":-737},{"$f":"'Total in-migration'!D46","v":36530},{"$f":"'Total out-migration'!D46","v":39326},{"$f":"'Within Scotland net migration'!D46","v":-2552},{"$f":"'Within Scotland in-migration'!D46","v":18307},{"$f":"'Within Scotland out-migration'!D46","v":20859},{"$f":"'Rest of UK net migration'!D46","v":-912},{"$f":"'Rest of UK in-migration'!D46","v":8471},{"$f":"'Rest of UK out-migration'!D46","v":9383},{"$f":"'Overseas net migration'!D46","v":668},{"$f":"'Overseas in-migration'!D46","v":9752},{"$f":"'Overseas out-migration'!D46","v":9084},null,null,{"$f":"'Non-UK Births'!D47","v":1560}]
[44,"Highland",null,{"$f":"'Total net migration'!D47","v":2254},{"$f":"'Total net migration 0-15'!D47","v":459},{"$f":"'Total net migration 16-64'!D47","v":1642},{"$f":"'Total net migration 65+'!D47","v":153},{"$f":"'Total in-migration'!D47","v":13678},{"$f":"'Total out-migration'!D47","v":11424},{"$f":"'Within Scotland net migration'!D47","v":-107},{"$f":"'Within Scotland in-migration'!D47","v":6358},{"$f":"'Within Scotland out-migration'!D47","v":6465},{"$f":"'Rest of UK net migration'!D47","v":2013},{"$f":"'Rest of UK in-migration'!D47","v":5330},{"$f":"'Rest of UK out-migration'!D47","v":3317},{"$f":"'Overseas net migration'!D47","v":348},{"$f":"'Overseas in-migration'!D47","v":1990},{"$f":"'Overseas out-migration'!D47","v":1642},null,null,{"$f":"'Non-UK Births'!D48","v":258}]
[45,"Lanarkshire",null,{"$f":"'Total net migration'!D48","v":977},{"$f":"'Total net migration 0-15'!D48","v":263},{"$f":"'Total net migration 16-64'!D48","v":479},{"$f":"'Total net migration 65+'!D48","v":235},{"$f":"'Total in-migration'!D48","v":12516},{"$f":"'Total out-migration'!D48","v":11539},{"$f":"'Within Scotland net migration'!D48","v":933},{"$f":"'Within Scotland in-migration'!D48","v":8291},{"$f":"'Within Scotland out-migration'!D48","v":7358},{"$f":"'Rest of UK net migration'!D48","v":227},{"$f":"'Rest of UK in-migration'!D48","v":2773},{"$f":"'Rest of UK out-migration'!D48","v":2546},{"$f":"'Overseas net migration'!D48","v":-183},{"$f":"'Overseas in-migration'!D48","v":1452},{"$f":"'Overseas out-migration'!D48","v":1635},null,null,{"$f":"'Non-UK Births'!D49","v":286}]
[46,"Lothian",null,{"$f":"'Total net migration'!D49","v":5395},{"$f":"'Total net migration 0-15'!D49","v":101},{"$f":"'Total net migration 16-64'!D49","v":5324},{"$f":"'Total net migration 65+'!D49","v":-30},{"$f":"'Total in-migration'!D49","v":34812},{"$f":"'Total out-migration'!D49","v":29417},{"$f":"'Within Scotland net migration'!D49","v":-1437},{"$f":"'Within Scotland in-migration'!D49","v":11035},{"$f":"'Within Scotland out-migration'!D49","v":12472},{"$f":"'Rest of UK net migration'!D49","v":2165},{"$f":"'Rest of UK in-migration'!D49","v":11796},{"$f":"'Rest of UK out-migration'!D49","v":9631},{"$f":"'Overseas net migration'!D49","v":4667},{"$f":"'Overseas in-migration'!D49","v":11981},{"$f":"'Overseas out-migration'!D49","v":7314},null,null,{"$f":"'Non-UK Births'!D50","v":1275}]
[47,"Orkney",null,{"$f":"'Total net migration'!D50","v":200},{"$f":"'Total net migration 0-15'!D50","v":32},{"$f":"'Total net migration 16-64'!D50","v":142},{"$f":"'Total net migration 65+'!D50","v":26},{"$f":"'Total in-migration'!D50","v":779},{"$f":"'Total out-migration'!D50","v":579},{"$f":"'Within Scotland net migration'!D50","v":79},{"$f":"'Within Scotland in-migration'!D50","v":420},{"$f":"'Within Scotland out-migration'!D50","v":341},{"$f":"'Rest of UK net migration'!D50","v":148},{"$f":"'Rest of UK in-migration'!D50","v":309},{"$f":"'Rest of UK out-migration'!D50","v":161},{"$f":"'Overseas net migration'!D50","v":-27},{"$f":"'Overseas in-migration'!D50","v":50},{"$f":"'Overseas out-migration'!D50","v":77},null,null,{"$f":"'Non-UK Births'!D51","v":9}]
[48,"Shetland",null,{"$f":"'Total net migration'!D51","v":-112},{"$f":"'Total net migration 0-15'!D51","v":-48},{"$f":"'Total net migration 16-64'!D51","v":-69},{"$f":"'Total net migration 65+'!D51","v":5},{"$f":"'Total in-migration'!D51","v":724},{"$f":"'Total out-migration'!D51","v":836},{"$f":"'Within Scotland net migration'!D51","v":-84},{"$f":"'Within Scotland in-migration'!D51","v":394},{"$f":"'Within Scotland out-migration'!D51","v":478},{"$f":"'Rest of UK net migration'!D51","v":14},{"$f":"'Rest of UK in-migration'!D51","v":265},{"$f":"'Rest of UK out-migration'!D51","v":251},{"$f":"'Overseas net migration'!D51","v":-42},{"$f":"'Overseas in-migration'!D51","v":65},{"$f":"'Overseas out-migration'!D51","v":107},null,null,{"$f":"'Non-UK Births'!D52","v":21}]
[49,"Tayside",null,{"$f":"'Total net migration'!D52","v":2865},{"$f":"'Total net migration 0-15'!D52","v":503},{"$f":"'Total net migration 16-64'!D52","v":2208},{"$f":"'Total net migration 65+'!D52","v":154},{"$f":"'Total in-migration'!D52","v":14657},{"$f":"'Total out-migration'!D52","v":11792},{"$f":"'Within Scotland net migration'!D52","v":640},{"$f":"'Within Scotland in-migration'!D52","v":6940},{"$f":"'Within Scotland out-migration'!D52","v":6300},{"$f":"'Rest of UK net migration'!D52","v":431},{"$f":"'Rest of UK in-migration'!D52","v":3908},{"$f":"'Rest of UK out-migration'!D52","v":3477},{"$f":"'Overseas net migration'!D52","v":1794},{"$f":"'Overseas in-migration'!D52","v":3809},{"$f":"'Overseas out-migration'!D52","v":2015},null,null,{"$f":"'Non-UK Births'!D53","v":349}]
[50,"Western Isles",null,{"$f":"'Total net migration'!D53","v":129},{"$f":"'Total net migration 0-15'!D53","v":41},{"$f":"'Total net migration 16-64'!D53","v":60},{"$f":"'Total net migration 65+'!D53","v":28},{"$f":"'Total in-migration'!D53","v":1091},{"$f":"'Total out-migration'!D53","v":962},{"$f":"'Within Scotland net migration'!D53","v":-48},{"$f":"'Within Scotland in-migration'!D53","v":613},{"$f":"'Within Scotland out-migration'!D53","v":661},{"$f":"'Rest of UK net migration'!D53","v":188},{"$f":"'Rest of UK in-migration'!D53","v":391},{"$f":"'Rest of UK out-migration'!D53","v":203},{"$f":"'Overseas net migration'!D53","v":-11},{"$f":"'Overseas in-migration'!D53","v":87},{"$f":"'Overseas out-migration'!D53","v":98},null,null,{"$f":"'Non-UK Births'!D54","v":11}]

{"sheet":"2006 Rate","index":40,"n_rows":53,"n_cols":27,"rows_kept":53,"cut":false,"hidden":true,"merged":[]}
[null,2006,"RATE"]
[null,null,"Not specified ",{"$f":"'Comparing Indicators'!$U8","v":"Total net migration"},{"$f":"'Comparing Indicators'!$U9","v":"Total net migration for ages 0-15"},{"$f":"'Comparing Indicators'!$U10","v":"Total net migration for ages 16-64"},{"$f":"'Comparing Indicators'!$U11","v":"Total net migration for people aged 65+"},{"$f":"'Comparing Indicators'!$U12","v":"Total in-migration"},{"$f":"'Comparing Indicators'!$U13","v":"Total out-migration"},{"$f":"'Comparing Indicators'!$U14","v":"Within Scotland net migration"},{"$f":"'Comparing Indicators'!$U15","v":"Within Scotland in-migration"},{"$f":"'Comparing Indicators'!$U16","v":"Within Scotland out-migration"},{"$f":"'Comparing Indicators'!$U17","v":"Rest of UK net migration"},{"$f":"'Comparing Indicators'!$U18","v":"Rest of UK in-migration"},{"$f":"'Comparing Indicators'!$U19","v":"Rest of UK out-migration"},{"$f":"'Comparing Indicators'!$U20","v":"Overseas net migration"},{"$f":"'Comparing Indicators'!$U21","v":"Overseas in-migration"},{"$f":"'Comparing Indicators'!$U22","v":"Overseas out-migration"},{"$f":"'Comparing Indicators'!$U23","v":"Worker Registration Scheme"},{"$f":"'Comparing Indicators'!$U24","v":"NINo Allocation"},{"$f":"'Comparing Indicators'!$U25","v":"Births to non-UK mothers"},{"$f":"'Comparing Indicators'!$U26","v":"Pupils from a minority ethnic group"},{"$f":"'Comparing Indicators'!$U27","v":"Pupils with English as an additional language"},{"$f":"'Comparing Indicators'!$U28","v":"Estimate of resident population born outside the UK"},"NHS registrations from overseas",null,"Mid-year population estimate"]
[1,"Not specified"]
[2,"SCOTLAND",null,{"$f":"('2006'!D4/'2006 Rate'!$AA4)*1000","v":3.6667900488983265},{"$f":"('2006'!E4/'2006 Rate'!$AA4)*1000","v":0.47067074477411314},{"$f":"('2006'!F4/'2006 Rate'!$AA4)*1000","v":3.1255966180280921},{"$f":"('2006'!G4/'2006 Rate'!$AA4)*1000","v":7.0522686096121251E-2},{"$f":"('2006'!H4/'2006 Rate'!$AA4)*1000","v":18.436227620736009},{"$f":"('2006'!I4/'2006 Rate'!$AA4)*1000","v":14.769437571837681},null,null,null,{"$f":"('2006'!M4/'2006 Rate'!$AA4)*1000","v":1.738130954004403},{"$f":"('2006'!N4/'2006 Rate'!$AA4)*1000","v":10.390407356178528},{"$f":"('2006'!O4/'2006 Rate'!$AA4)*1000","v":8.6522764021741239},{"$f":"('2006'!P4/'2006 Rate'!$AA4)*1000","v":1.9286590948939237},{"$f":"('2006'!Q4/'2006 Rate'!$AA4)*1000","v":8.0458202645574808},{"$f":"('2006'!R4/'2006 Rate'!$AA4)*1000","v":6.1171611696635564},{"$f":"('2006'!S4/'2006 Rate'!$AA4)*1000","v":3.513471391556759},{"$f":"('2006'!T4/'2006 Rate'!$AA4)*1000","v":8.8620911340125854},{"$f":"('2006'!U4/'2006 Rate'!$AA4)*1000","v":1.0173189690440474},{"$f":"('2006'!V4/'2006 Rate'!$AA4)*1000","v":5.3657633788548829},{"$f":"('2006'!W4/'2006 Rate'!$AA4)*1000","v":1.8480060781983596},{"$f":"('2006'!X4/'2006 Rate'!$AA4)*1000","v":44.417603397557031},{"$f":"('2006'!Y4/'2006 Rate'!$AA4)*1000","v":9.2343807835421075},"SCOTLAND",{"$f":"'Population estimates'!D4","v":5133100}]
[3,"Aberdeen City",null,{"$f":"('2006'!D5/'2006 Rate'!$AA5)*1000","v":5.4527239767197786},{"$f":"('2006'!E5/'2006 Rate'!$AA5)*1000","v":-2.8623222974906975E-2},{"$f":"('2006'!F5/'2006 Rate'!$AA5)*1000","v":6.2303215342047515},{"$f":"('2006'!G5/'2006 Rate'!$AA5)*1000","v":-0.74897433451006579},{"$f":"('2006'!H5/'2006 Rate'!$AA5)*1000","v":60.810037210189869},{"$f":"('2006'!I5/'2006 Rate'!$AA5)*1000","v":55.357313233470087},{"$f":"('2006'!J5/'2006 Rate'!$AA5)*1000","v":-5.4145596794199022},{"$f":"('2006'!K5/'2006 Rate'!$AA5)*1000","v":27.650033393760136},{"$f":"('2006'!L5/'2006 Rate'!$AA5)*1000","v":33.064593073180042},{"$f":"('2006'!M5/'2006 Rate'!$AA5)*1000","v":0.66787520274782941},{"$f":"('2006'!N5/'2006 Rate'!$AA5)*1000","v":11.888178608911364},{"$f":"('2006'!O5/'2006 Rate'!$AA5)*1000","v":11.220303406163534},{"$f":"('2006'!P5/'2006 Rate'!$AA5)*1000","v":10.199408453391852},{"$f":"('2006'!Q5/'2006 Rate'!$AA5)*1000","v":21.271825207518368},{"$f":"('2006'!R5/'2006 Rate'!$AA5)*1000","v":11.072416754126515},{"$f":"('2006'!S5/'2006 Rate'!$AA5)*1000","v":5.4145596794199022},{"$f":"('2006'!T5/'2006 Rate'!$AA5)*1000","v":23.661864325923098},{"$f":"('2006'!U5/'2006 Rate'!$AA5)*1000","v":1.8843621791813758},{"$f":"('2006'!V5/'2006 Rate'!$AA5)*1000","v":6.6358171930159333},{"$f":"('2006'!W5/'2006 Rate'!$AA5)*1000","v":4.0358744394618835},{"$f":"('2006'!X5/'2006 Rate'!$AA5)*1000","v":66.787520274782935},null,"Aberdeen City",{"$f":"'Population estimates'!D5","v":209620}]
[4,"Aberdeenshire",null,{"$f":"('2006'!D6/'2006 Rate'!$AA6)*1000","v":12.716643171075546},{"$f":"('2006'!E6/'2006 Rate'!$AA6)*1000","v":3.4331204909196451},{"$f":"('2006'!F6/'2006 Rate'!$AA6)*1000","v":8.1350029023965504},{"$f":"('2006'!G6/'2006 Rate'!$AA6)*1000","v":1.1485197777593499},{"$f":"('2006'!H6/'2006 Rate'!$AA6)*1000","v":42.644497885396802},{"$f":"('2006'!I6/'2006 Rate'!$AA6)*1000","v":29.927854714321256},{"$f":"('2006'!J6/'2006 Rate'!$AA6)*1000","v":5.5643088149929509},{"$f":"('2006'!K6/'2006 Rate'!$AA6)*1000","v":25.11402272161871},{"$f":"('2006'!L6/'2006 Rate'!$AA6)*1000","v":19.549713906625758},{"$f":"('2006'!M6/'2006 Rate'!$AA6)*1000","v":4.4365204411642756},{"$f":"('2006'!N6/'2006 Rate'!$AA6)*1000","v":11.074715979766149},{"$f":"('2006'!O6/'2006 Rate'!$AA6)*1000","v":6.6381955386018747},{"$f":"('2006'!P6/'2006 Rate'!$AA6)*1000","v":2.7158139149183183},{"$f":"('2006'!Q6/'2006 Rate'!$AA6)*1000","v":6.4557591840119413},{"$f":"('2006'!R6/'2006 Rate'!$AA6)*1000","v":3.739945269093623},{"$f":"('2006'!S6/'2006 Rate'!$AA6)*1000","v":5.4730906376979842},{"$f":"('2006'!T6/'2006 Rate'!$AA6)*1000","v":6.6340492578157395},{"$f":"('2006'!U6/'2006 Rate'!$AA6)*1000","v":0.94949830002487767},{"$f":"('2006'!V6/'2006 Rate'!$AA6)*1000","v":2.0192387428476657},{"$f":"('2006'!W6/'2006 Rate'!$AA6)*1000","v":1.1568123393316196},null,null,"Aberdeenshire",{"$f":"'Population estimates'!D6","v":241180}]
[5,"Angus",null,{"$f":"('2006'!D7/'2006 Rate'!$AA7)*1000","v":8.48},{"$f":"('2006'!E7/'2006 Rate'!$AA7)*1000","v":2.4533333333333336},{"$f":"('2006'!F7/'2006 Rate'!$AA7)*1000","v":5.12},{"$f":"('2006'!G7/'2006 Rate'!$AA7)*1000","v":0.90666666666666662},{"$f":"('2006'!H7/'2006 Rate'!$AA7)*1000","v":39.502222222222223},{"$f":"('2006'!I7/'2006 Rate'!$AA7)*1000","v":31.022222222222222},{"$f":"('2006'!J7/'2006 Rate'!$AA7)*1000","v":6.1066666666666665},{"$f":"('2006'!K7/'2006 Rate'!$AA7)*1000","v":27.253333333333334},{"$f":"('2006'!L7/'2006 Rate'!$AA7)*1000","v":21.146666666666668},{"$f":"('2006'!M7/'2006 Rate'!$AA7)*1000","v":1.1555555555555554},{"$f":"('2006'!N7/'2006 Rate'!$AA7)*1000","v":8.2844444444444445},{"$f":"('2006'!O7/'2006 Rate'!$AA7)*1000","v":7.1288888888888886},{"$f":"('2006'!P7/'2006 Rate'!$AA7)*1000","v":1.2177777777777776},{"$f":"('2006'!Q7/'2006 Rate'!$AA7)*1000","v":3.9644444444444442},{"$f":"('2006'!R7/'2006 Rate'!$AA7)*1000","v":2.7466666666666666},{"$f":"('2006'!S7/'2006 Rate'!$AA7)*1000","v":6.8888888888888893},{"$f":"('2006'!T7/'2006 Rate'!$AA7)*1000","v":5.8666666666666671},{"$f":"('2006'!U7/'2006 Rate'!$AA7)*1000","v":0.60444444444444445},{"$f":"('2006'!V7/'2006 Rate'!$AA7)*1000","v":1.76},{"$f":"('2006'!W7/'2006 Rate'!$AA7)*1000","v":0.67555555555555558},{"$f":"('2006'!X7/'2006 Rate'!$AA7)*1000","v":26.666666666666668},null,"Angus",{"$f":"'Population estimates'!D7","v":112500}]
[6,"Argyll & Bute",null,{"$f":"('2006'!D8/'2006 Rate'!$AA8)*1000","v":2.2009464069549907},{"$f":"('2006'!E8/'2006 Rate'!$AA8)*1000","v":0.45119401342577303},{"$f":"('2006'!F8/'2006 Rate'!$AA8)*1000","v":1.4966435567293936},{"$f":"('2006'!G8/'2006 Rate'!$AA8)*1000","v":0.25310883679982393},{"$f":"('2006'!H8/'2006 Rate'!$AA8)*1000","v":48.805986574226921},{"$f":"('2006'!I8/'2006 Rate'!$AA8)*1000","v":46.605040167271923},{"$f":"('2006'!J8/'2006 Rate'!$AA8)*1000","v":-2.6191262242764388},{"$f":"('2006'!K8/'2006 Rate'!$AA8)*1000","v":24.804666006382746},{"$f":"('2006'!L8/'2006 Rate'!$AA8)*1000","v":27.423792230659185},{"$f":"('2006'!M8/'2006 Rate'!$AA8)*1000","v":6.0415978870914486},{"$f":"('2006'!N8/'2006 Rate'!$AA8)*1000","v":18.939143831847694},{"$f":"('2006'!O8/'2006 Rate'!$AA8)*1000","v":12.897545944756246},{"$f":"('2006'!P8/'2006 Rate'!$AA8)*1000","v":-1.2215252558600198},{"$f":"('2006'!Q8/'2006 Rate'!$AA8)*1000","v":5.0621767359964789},{"$f":"('2006'!R8/'2006 Rate'!$AA8)*1000","v":6.283701991856498},{"$f":"('2006'!S8/'2006 Rate'!$AA8)*1000","v":4.4018928139099813},{"$f":"('2006'!T8/'2006 Rate'!$AA8)*1000","v":8.5836909871244629},{"$f":"('2006'!U8/'2006 Rate'!$AA8)*1000","v":0.60526026191262239},{"$f":"('2006'!V8/'2006 Rate'!$AA8)*1000","v":1.9808517662594918},{"$f":"('2006'!W8/'2006 Rate'!$AA8)*1000","v":0.47320347749532299},null,null,"Argyll & Bute",{"$f":"'Population estimates'!D8","v":90870}]
[7,"Clackmannanshire",null,{"$f":"('2006'!D9/'2006 Rate'!$AA9)*1000","v":5.9951554299555916},{"$f":"('2006'!E9/'2006 Rate'!$AA9)*1000","v":1.9580137262817923},{"$f":"('2006'!F9/'2006 Rate'!$AA9)*1000","v":4.5014129995962859},{"$f":"('2006'!G9/'2006 Rate'!$AA9)*1000","v":-0.46427129592248684},{"$f":"('2006'!H9/'2006 Rate'!$AA9)*1000","v":40.472345579329833},{"$f":"('2006'!I9/'2006 Rate'!$AA9)*1000","v":34.477190149374238},{"$f":"('2006'!J9/'2006 Rate'!$AA9)*1000","v":2.9067420266451354},{"$f":"('2006'!K9/'2006 Rate'!$AA9)*1000","v":26.806620912394024},{"$f":"('2006'!L9/'2006 Rate'!$AA9)*1000","v":23.89987888574889},{"$f":"('2006'!M9/'2006 Rate'!$AA9)*1000","v":2.8461849010900284},{"$f":"('2006'!N9/'2006 Rate'!$AA9)*1000","v":10.173597093257973},{"$f":"('2006'!O9/'2006 Rate'!$AA9)*1000","v":7.3274121921679445},{"$f":"('2006'!P9/'2006 Rate'!$AA9)*1000","v":0.24222850222042794},{"$f":"('2006'!Q9/'2006 Rate'!$AA9)*1000","v":3.4921275736778359},{"$f":"('2006'!R9/'2006 Rate'!$AA9)*1000","v":3.2498990714574081},{"$f":"('2006'!S9/'2006 Rate'!$AA9)*1000","v":0.60557125555106983},{"$f":"('2006'!T9/'2006 Rate'!$AA9)*1000","v":3.2297133629390391},{"$f":"('2006'!U9/'2006 Rate'!$AA9)*1000","v":0.46427129592248684},{"$f":"('2006'!V9/'2006 Rate'!$AA9)*1000","v":3.7949132014533711},{"$f":"('2006'!W9/'2006 Rate'!$AA9)*1000","v":0.44408558740411791},null,null,"Clackmannanshire",{"$f":"'Population estimates'!D9","v":49540}]
[8,"Dumfries & Galloway",null,{"$f":"('2006'!D10/'2006 Rate'!$AA10)*1000","v":3.1312591801308587},{"$f":"('2006'!E10/'2006 Rate'!$AA10)*1000","v":0.66764588062491659},{"$f":"('2006'!F10/'2006 Rate'!$AA10)*1000","v":2.1231139003872346},{"$f":"('2006'!G10/'2006 Rate'!$AA10)*1000","v":0.34049939911870747},{"$f":"('2006'!H10/'2006 Rate'!$AA10)*1000","v":31.646414741621047},{"$f":"('2006'!I10/'2006 Rate'!$AA10)*1000","v":28.515155561490186},{"$f":"('2006'!J10/'2006 Rate'!$AA10)*1000","v":-1.7425557484310321},{"$f":"('2006'!K10/'2006 Rate'!$AA10)*1000","v":11.102950994792362},{"$f":"('2006'!L10/'2006 Rate'!$AA10)*1000","v":12.845506743223394},{"$f":"('2006'!M10/'2006 Rate'!$AA10)*1000","v":5.648284150086794},{"$f":"('2006'!N10/'2006 Rate'!$AA10)*1000","v":17.065028708772868},{"$f":"('2006'!O10/'2006 Rate'!$AA10)*1000","v":11.416744558686073},{"$f":"('2006'!P10/'2006 Rate'!$AA10)*1000","v":-0.77446922152490316},{"$f":"('2006'!Q10/'2006 Rate'!$AA10)*1000","v":3.4784350380558151},{"$f":"('2006'!R10/'2006 Rate'!$AA10)*1000","v":4.2529042595807178},{"$f":"('2006'!S10/'2006 Rate'!$AA10)*1000","v":2.503672052343437},{"$f":"('2006'!T10/'2006 Rate'!$AA10)*1000","v":3.9391106956870079},{"$f":"('2006'!U10/'2006 Rate'!$AA10)*1000","v":0.50741086927493662},{"$f":"('2006'!V10/'2006 Rate'!$AA10)*1000","v":2.1698491120309789},{"$f":"('2006'!W10/'2006 Rate'!$AA10)*1000","v":0.87461610361864062},null,null,"Dumfries & Galloway",{"$f":"'Population estimates'!D10","v":149780}]
[9,"Dundee City",null,{"$f":"('2006'!D11/'2006 Rate'!$AA11)*1000","v":-0.76027062844388638},{"$f":"('2006'!E11/'2006 Rate'!$AA11)*1000","v":-0.9904443049452466},{"$f":"('2006'!F11/'2006 Rate'!$AA11)*1000","v":0.78817046801980895},{"$f":"('2006'!G11/'2006 Rate'!$AA11)*1000","v":-0.55799679151844883},{"$f":"('2006'!H11/'2006 Rate'!$AA11)*1000","v":45.211690032782307},{"$f":"('2006'!I11/'2006 Rate'!$AA11)*1000","v":45.971960661226198},{"$f":"('2006'!J11/'2006 Rate'!$AA11)*1000","v":-4.5127990514054543},{"$f":"('2006'!K11/'2006 Rate'!$AA11)*1000","v":24.426309548720095},{"$f":"('2006'!L11/'2006 Rate'!$AA11)*1000","v":28.939108600125547},{"$f":"('2006'!M11/'2006 Rate'!$AA11)*1000","v":-1.0392690242031108},{"$f":"('2006'!N11/'2006 Rate'!$AA11)*1000","v":9.4161958568738218},{"$f":"('2006'!O11/'2006 Rate'!$AA11)*1000","v":10.455464881076933},{"$f":"('2006'!P11/'2006 Rate'!$AA11)*1000","v":4.7917974471646794},{"$f":"('2006'!Q11/'2006 Rate'!$AA11)*1000","v":11.369184627188394},{"$f":"('2006'!R11/'2006 Rate'!$AA11)*1000","v":6.5773871800237149},{"$f":"('2006'!S11/'2006 Rate'!$AA11)*1000","v":3.0341075538815652},{"$f":"('2006'!T11/'2006 Rate'!$AA11)*1000","v":10.322940643091302},{"$f":"('2006'!U11/'2006 Rate'!$AA11)*1000","v":1.1857431819767037},{"$f":"('2006'!V11/'2006 Rate'!$AA11)*1000","v":6.5285624607658503},{"$f":"('2006'!W11/'2006 Rate'!$AA11)*1000","v":3.0341075538815652},{"$f":"('2006'!X11/'2006 Rate'!$AA11)*1000","v":62.774639045825488},null,"Dundee City",{"$f":"'Population estimates'!D11","v":143370}]
[10,"East Ayrshire",null,{"$f":"('2006'!D12/'2006 Rate'!$AA12)*1000","v":0.75550020755500202},{"$f":"('2006'!E12/'2006 Rate'!$AA12)*1000","v":0.30718140307181407},{"$f":"('2006'!F12/'2006 Rate'!$AA12)*1000","v":0.11623080116230801},{"$f":"('2006'!G12/'2006 Rate'!$AA12)*1000","v":0.33208800332088007},{"$f":"('2006'!H12/'2006 Rate'!$AA12)*1000","v":28.252386882523869},{"$f":"('2006'!I12/'2006 Rate'!$AA12)*1000","v":27.496886674968867},{"$f":"('2006'!J12/'2006 Rate'!$AA12)*1000","v":1.4445828144458281},{"$f":"('2006'!K12/'2006 Rate'!$AA12)*1000","v":20.464923204649232},{"$f":"('2006'!L12/'2006 Rate'!$AA12)*1000","v":19.020340390203405},{"$f":"('2006'!M12/'2006 Rate'!$AA12)*1000","v":0.92154420921544211},{"$f":"('2006'!N12/'2006 Rate'!$AA12)*1000","v":6.7911996679119966},{"$f":"('2006'!O12/'2006 Rate'!$AA12)*1000","v":5.8696554586965544},{"$f":"('2006'!P12/'2006 Rate'!$AA12)*1000","v":-1.610626816106268},{"$f":"('2006'!Q12/'2006 Rate'!$AA12)*1000","v":0.99626400996264008},{"$f":"('2006'!R12/'2006 Rate'!$AA12)*1000","v":2.6068908260689083},{"$f":"('2006'!S12/'2006 Rate'!$AA12)*1000","v":1.3698630136986301},{"$f":"('2006'!T12/'2006 Rate'!$AA12)*1000","v":1.16230801162308},{"$f":"('2006'!U12/'2006 Rate'!$AA12)*1000","v":0.31548360315483603},{"$f":"('2006'!V12/'2006 Rate'!$AA12)*1000","v":2.0257368202573685},{"$f":"('2006'!W12/'2006 Rate'!$AA12)*1000","v":0.18264840182648404},null,null,"East Ayrshire",{"$f":"'Population estimates'!D12","v":120450}]
[11,"East Dunbartonshire",null,{"$f":"('2006'!D13/'2006 Rate'!$AA13)*1000","v":-4.2522966189980105},{"$f":"('2006'!E13/'2006 Rate'!$AA13)*1000","v":2.519177952457619},{"$f":"('2006'!F13/'2006 Rate'!$AA13)*1000","v":-5.8054740032200023},{"$f":"('2006'!G13/'2006 Rate'!$AA13)*1000","v":-0.96600056823562841},{"$f":"('2006'!H13/'2006 Rate'!$AA13)*1000","v":33.042901789942228},{"$f":"('2006'!I13/'2006 Rate'!$AA13)*1000","v":37.295198408940237},{"$f":"('2006'!J13/'2006 Rate'!$AA13)*1000","v":-1.2311771948101147},{"$f":"('2006'!K13/'2006 Rate'!$AA13)*1000","v":26.593427407898474},{"$f":"('2006'!L13/'2006 Rate'!$AA13)*1000","v":27.82460460270859},{"$f":"('2006'!M13/'2006 Rate'!$AA13)*1000","v":-1.2122360071976512},{"$f":"('2006'!N13/'2006 Rate'!$AA13)*1000","v":4.4417084951226444},{"$f":"('2006'!O13/'2006 Rate'!$AA13)*1000","v":5.6539445023202957},{"$f":"('2006'!P13/'2006 Rate'!$AA13)*1000","v":-1.8088834169902452},{"$f":"('2006'!Q13/'2006 Rate'!$AA13)*1000","v":2.0077658869211099},{"$f":"('2006'!R13/'2006 Rate'!$AA13)*1000","v":3.8166493039113552},{"$f":"('2006'!S13/'2006 Rate'!$AA13)*1000","v":0.80500047352969029},{"$f":"('2006'!T13/'2006 Rate'!$AA13)*1000","v":2.0835306373709628},{"$f":"('2006'!U13/'2006 Rate'!$AA13)*1000","v":0.65347097262998388},{"$f":"('2006'!V13/'2006 Rate'!$AA13)*1000","v":8.9970641159200682},{"$f":"('2006'!W13/'2006 Rate'!$AA13)*1000","v":2.4150014205890709},{"$f":"('2006'!X13/'2006 Rate'!$AA13)*1000","v":37.882375224926598},null,"East Dunbartonshire",{"$f":"'Population estimates'!D13","v":105590}]
[12,"East Lothian",null,{"$f":"('2006'!D14/'2006 Rate'!$AA14)*1000","v":9.8561534363345764},{"$f":"('2006'!E14/'2006 Rate'!$AA14)*1000","v":2.4400639318060735},{"$f":"('2006'!F14/'2006 Rate'!$AA14)*1000","v":5.9776238678742679},{"$f":"('2006'!G14/'2006 Rate'!$AA14)*1000","v":1.4384656366542354},{"$f":"('2006'!H14/'2006 Rate'!$AA14)*1000","v":41.981885988279167},{"$f":"('2006'!I14/'2006 Rate'!$AA14)*1000","v":32.125732551944594},{"$f":"('2006'!J14/'2006 Rate'!$AA14)*1000","v":9.3660095897709112},{"$f":"('2006'!K14/'2006 Rate'!$AA14)*1000","v":31.102823654768248},{"$f":"('2006'!L14/'2006 Rate'!$AA14)*1000","v":21.736814064997336},{"$f":"('2006'!M14/'2006 Rate'!$AA14)*1000","v":9.5897709110282364E-2},{"$f":"('2006'!N14/'2006 Rate'!$AA14)*1000","v":7.0964304741608952},{"$f":"('2006'!O14/'2006 Rate'!$AA14)*1000","v":7.0005327650506128},{"$f":"('2006'!P14/'2006 Rate'!$AA14)*1000","v":0.39424613745338305},{"$f":"('2006'!Q14/'2006 Rate'!$AA14)*1000","v":3.7826318593500265},{"$f":"('2006'!R14/'2006 Rate'!$AA14)*1000","v":3.3883857218966433},{"$f":"('2006'!S14/'2006 Rate'!$AA14)*1000","v":1.9179541822056474},{"$f":"('2006'!T14/'2006 Rate'!$AA14)*1000","v":3.7293553542887588},{"$f":"('2006'!U14/'2006 Rate'!$AA14)*1000","v":0.73521576984549808},{"$f":"('2006'!V14/'2006 Rate'!$AA14)*1000","v":2.2482685135855087},{"$f":"('2006'!W14/'2006 Rate'!$AA14)*1000","v":0.77783697389451256},{"$f":"('2006'!X14/'2006 Rate'!$AA14)*1000","v":42.621204049014388},null,"East Lothian",{"$f":"'Population estimates'!D14","v":93850}]
[13,"East Renfrewshire",null,{"$f":"('2006'!D15/'2006 Rate'!$AA15)*1000","v":-2.3732590529247912},{"$f":"('2006'!E15/'2006 Rate'!$AA15)*1000","v":2.7186629526462394},{"$f":"('2006'!F15/'2006 Rate'!$AA15)*1000","v":-5.5041782729805009},{"$f":"('2006'!G15/'2006 Rate'!$AA15)*1000","v":0.41225626740947074},{"$f":"('2006'!H15/'2006 Rate'!$AA15)*1000","v":37.058495821727014},{"$f":"('2006'!I15/'2006 Rate'!$AA15)*1000","v":39.431754874651809},{"$f":"('2006'!J15/'2006 Rate'!$AA15)*1000","v":0.81337047353760439},{"$f":"('2006'!K15/'2006 Rate'!$AA15)*1000","v":30.807799442896936},{"$f":"('2006'!L15/'2006 Rate'!$AA15)*1000","v":29.994428969359333},{"$f":"('2006'!M15/'2006 Rate'!$AA15)*1000","v":-1.7938718662952646},{"$f":"('2006'!N15/'2006 Rate'!$AA15)*1000","v":4.4568245125348191},{"$f":"('2006'!O15/'2006 Rate'!$AA15)*1000","v":6.2506963788300833},{"$f":"('2006'!P15/'2006 Rate'!$AA15)*1000","v":-1.392757660167131},{"$f":"('2006'!Q15/'2006 Rate'!$AA15)*1000","v":1.7938718662952646},{"$f":"('2006'!R15/'2006 Rate'!$AA15)*1000","v":3.1866295264623958},{"$f":"('2006'!S15/'2006 Rate'!$AA15)*1000","v":0.72423398328690802},{"$f":"('2006'!T15/'2006 Rate'!$AA15)*1000","v":2.116991643454039},{"$f":"('2006'!U15/'2006 Rate'!$AA15)*1000","v":0.88022284122562677},{"$f":"('2006'!V15/'2006 Rate'!$AA15)*1000","v":18.362116991643454},{"$f":"('2006'!W15/'2006 Rate'!$AA15)*1000","v":4.155988857938719},{"$f":"('2006'!X15/'2006 Rate'!$AA15)*1000","v":44.568245125348191},null,"East Renfrewshire",{"$f":"'Population estimates'!D15","v":89750}]
[14,"Edinburgh, City of",null,{"$f":"('2006'!D16/'2006 Rate'!$AA16)*1000","v":7.5476706631863033},{"$f":"('2006'!E16/'2006 Rate'!$AA16)*1000","v":-0.61938680706100957},{"$f":"('2006'!F16/'2006 Rate'!$AA16)*1000","v":8.7289297880812278},{"$f":"('2006'!G16/'2006 Rate'!$AA16)*1000","v":-0.56187231783391578},{"$f":"('2006'!H16/'2006 Rate'!$AA16)*1000","v":66.966774321992659},{"$f":"('2006'!I16/'2006 Rate'!$AA16)*1000","v":59.41910365880635},{"$f":"('2006'!J16/'2006 Rate'!$AA16)*1000","v":-5.782418263062425},{"$f":"('2006'!K16/'2006 Rate'!$AA16)*1000","v":22.868645754988275},{"$f":"('2006'!L16/'2006 Rate'!$AA16)*1000","v":28.6510640180507},{"$f":"('2006'!M16/'2006 Rate'!$AA16)*1000","v":4.2405875326284121},{"$f":"('2006'!N16/'2006 Rate'!$AA16)*1000","v":20.961819227536168},{"$f":"('2006'!O16/'2006 Rate'!$AA16)*1000","v":16.721231694907758},{"$f":"('2006'!P16/'2006 Rate'!$AA16)*1000","v":9.0895013936203171},{"$f":"('2006'!Q16/'2006 Rate'!$AA16)*1000","v":23.136309339468212},{"$f":"('2006'!R16/'2006 Rate'!$AA16)*1000","v":14.046807945847895},{"$f":"('2006'!S16/'2006 Rate'!$AA16)*1000","v":5.4417555191788702},{"$f":"('2006'!T16/'2006 Rate'!$AA16)*1000","v":26.43454408706809},{"$f":"('2006'!U16/'2006 Rate'!$AA16)*1000","v":2.2032473565455915},{"$f":"('2006'!V16/'2006 Rate'!$AA16)*1000","v":8.96341193646861},{"$f":"('2006'!W16/'2006 Rate'!$AA16)*1000","v":4.2251028624518865},{"$f":"('2006'!X16/'2006 Rate'!$AA16)*1000","v":110.60478697518028},null,"Edinburgh, City of",{"$f":"'Population estimates'!D16","v":452060}]
[15,"Eilean Siar",null,{"$f":"('2006'!D17/'2006 Rate'!$AA17)*1000","v":4.7671840354767188},{"$f":"('2006'!E17/'2006 Rate'!$AA17)*1000","v":1.5151515151515151},{"$f":"('2006'!F17/'2006 Rate'!$AA17)*1000","v":2.2172949002217295},{"$f":"('2006'!G17/'2006 Rate'!$AA17)*1000","v":1.0347376201034737},{"$f":"('2006'!H17/'2006 Rate'!$AA17)*1000","v":40.317812269031784},{"$f":"('2006'!I17/'2006 Rate'!$AA17)*1000","v":35.550628233555067},{"$f":"('2006'!J17/'2006 Rate'!$AA17)*1000","v":-1.7738359201773837},{"$f":"('2006'!K17/'2006 Rate'!$AA17)*1000","v":22.653362897265335},{"$f":"('2006'!L17/'2006 Rate'!$AA17)*1000","v":24.427198817442719},{"$f":"('2006'!M17/'2006 Rate'!$AA17)*1000","v":6.9475240206947522},{"$f":"('2006'!N17/'2006 Rate'!$AA17)*1000","v":14.449371766444937},{"$f":"('2006'!O17/'2006 Rate'!$AA17)*1000","v":7.5018477457501849},{"$f":"('2006'!P17/'2006 Rate'!$AA17)*1000","v":-0.4065040650406504},{"$f":"('2006'!Q17/'2006 Rate'!$AA17)*1000","v":3.215077605321508},{"$f":"('2006'!R17/'2006 Rate'!$AA17)*1000","v":3.6215816703621582},{"$f":"('2006'!S17/'2006 Rate'!$AA17)*1000","v":2.4020694752402072},{"$f":"('2006'!T17/'2006 Rate'!$AA17)*1000","v":3.3259423503325944},{"$f":"('2006'!U17/'2006 Rate'!$AA17)*1000","v":0.4065040650406504},{"$f":"('2006'!V17/'2006 Rate'!$AA17)*1000","v":2.0325203252032522},{"$f":"('2006'!W17/'2006 Rate'!$AA17)*1000","v":0.84996304508499632},null,null,"Eilean Siar",{"$f":"'Population estimates'!D17","v":27060}]
[16,"Falkirk",null,{"$f":"('2006'!D18/'2006 Rate'!$AA18)*1000","v":6.228075981203256},{"$f":"('2006'!E18/'2006 Rate'!$AA18)*1000","v":0.59567145410020528},{"$f":"('2006'!F18/'2006 Rate'!$AA18)*1000","v":5.2419087960818054},{"$f":"('2006'!G18/'2006 Rate'!$AA18)*1000","v":0.39049573102124563},{"$f":"('2006'!H18/'2006 Rate'!$AA18)*1000","v":30.021841286650339},{"$f":"('2006'!I18/'2006 Rate'!$AA18)*1000","v":23.793765305447085},{"$f":"('2006'!J18/'2006 Rate'!$AA18)*1000","v":5.1095373618373152},{"$f":"('2006'!K18/'2006 Rate'!$AA18)*1000","v":20.86173803693163},{"$f":"('2006'!L18/'2006 Rate'!$AA18)*1000","v":15.752200675094315},{"$f":"('2006'!M18/'2006 Rate'!$AA18)*1000","v":0.66185717122245025},{"$f":"('2006'!N18/'2006 Rate'!$AA18)*1000","v":5.4007545171751943},{"$f":"('2006'!O18/'2006 Rate'!$AA18)*1000","v":4.7388973459527435},{"$f":"('2006'!P18/'2006 Rate'!$AA18)*1000","v":0.45668144814349065},{"$f":"('2006'!Q18/'2006 Rate'!$AA18)*1000","v":3.7593487325435171},{"$f":"('2006'!R18/'2006 Rate'!$AA18)*1000","v":3.3026672844000267},{"$f":"('2006'!S18/'2006 Rate'!$AA18)*1000","v":2.1841286650340854},{"$f":"('2006'!T18/'2006 Rate'!$AA18)*1000","v":3.5078430074789857},{"$f":"('2006'!U18/'2006 Rate'!$AA18)*1000","v":0.56919716725130709},{"$f":"('2006'!V18/'2006 Rate'!$AA18)*1000","v":3.216625852141108},{"$f":"('2006'!W18/'2006 Rate'!$AA18)*1000","v":1.6811172149050235},null,null,"Falkirk",{"$f":"'Population estimates'!D18","v":151090}]
[17,"Fife",null,{"$f":"('2006'!D19/'2006 Rate'!$AA19)*1000","v":4.3665677657728263},{"$f":"('2006'!E19/'2006 Rate'!$AA19)*1000","v":0.54862005262273972},{"$f":"('2006'!F19/'2006 Rate'!$AA19)*1000","v":3.6164138162682642},{"$f":"('2006'!G19/'2006 Rate'!$AA19)*1000","v":0.20153389688182277},{"$f":"('2006'!H19/'2006 Rate'!$AA19)*1000","v":34.020041426412135},{"$f":"('2006'!I19/'2006 Rate'!$AA19)*1000","v":29.65347366063931},{"$f":"('2006'!J19/'2006 Rate'!$AA19)*1000","v":1.7774170072216313},{"$f":"('2006'!K19/'2006 Rate'!$AA19)*1000","v":17.844147119744722},{"$f":"('2006'!L19/'2006 Rate'!$AA19)*1000","v":16.066730112523093},{"$f":"('2006'!M19/'2006 Rate'!$AA19)*1000","v":1.827800481442087},{"$f":"('2006'!N19/'2006 Rate'!$AA19)*1000","v":10.104685663102503},{"$f":"('2006'!O19/'2006 Rate'!$AA19)*1000","v":8.2768851816604148},{"$f":"('2006'!P19/'2006 Rate'!$AA19)*1000","v":0.76135027710910819},{"$f":"('2006'!Q19/'2006 Rate'!$AA19)*1000","v":6.0712086435649102},{"$f":"('2006'!R19/'2006 Rate'!$AA19)*1000","v":5.3098583664558019},{"$f":"('2006'!S19/'2006 Rate'!$AA19)*1000","v":3.260930414823938},{"$f":"('2006'!T19/'2006 Rate'!$AA19)*1000","v":5.0383474220455691},{"$f":"('2006'!U19/'2006 Rate'!$AA19)*1000","v":0.79773834182388181},{"$f":"('2006'!V19/'2006 Rate'!$AA19)*1000","v":3.2637294967250741},{"$f":"('2006'!W19/'2006 Rate'!$AA19)*1000","v":0.78934109612047254},null,null,"Fife",{"$f":"'Population estimates'!D19","v":357260}]
[18,"Glasgow City",null,{"$f":"('2006'!D20/'2006 Rate'!$AA20)*1000","v":-3.49704475091472},{"$f":"('2006'!E20/'2006 Rate'!$AA20)*1000","v":-2.4855755699408952},{"$f":"('2006'!F20/'2006 Rate'!$AA20)*1000","v":3.342245989304813E-2},{"$f":"('2006'!G20/'2006 Rate'!$AA20)*1000","v":-1.0448916408668731},{"$f":"('2006'!H20/'2006 Rate'!$AA20)*1000","v":48.369335772586552},{"$f":"('2006'!I20/'2006 Rate'!$AA20)*1000","v":51.86638052350127},{"$f":"('2006'!J20/'2006 Rate'!$AA20)*1000","v":-4.6633126934984528},{"$f":"('2006'!K20/'2006 Rate'!$AA20)*1000","v":24.291092034900082},{"$f":"('2006'!L20/'2006 Rate'!$AA20)*1000","v":28.954404728398536},{"$f":"('2006'!M20/'2006 Rate'!$AA20)*1000","v":-0.70714888826343936},{"$f":"('2006'!N20/'2006 Rate'!$AA20)*1000","v":10.023219814241486},{"$f":"('2006'!O20/'2006 Rate'!$AA20)*1000","v":10.730368702504924},{"$f":"('2006'!P20/'2006 Rate'!$AA20)*1000","v":1.8734168308471715},{"$f":"('2006'!Q20/'2006 Rate'!$AA20)*1000","v":14.055023923444976},{"$f":"('2006'!R20/'2006 Rate'!$AA20)*1000","v":12.181607092597805},{"$f":"('2006'!S20/'2006 Rate'!$AA20)*1000","v":3.8699690402476778},{"$f":"('2006'!T20/'2006 Rate'!$AA20)*1000","v":13.791162397973544},{"$f":"('2006'!U20/'2006 Rate'!$AA20)*1000","v":2.1020968195890797},{"$f":"('2006'!V20/'2006 Rate'!$AA20)*1000","v":14.674218969884604},{"$f":"('2006'!W20/'2006 Rate'!$AA20)*1000","v":4.7336757669575009},{"$f":"('2006'!X20/'2006 Rate'!$AA20)*1000","v":79.158457641429777},null,"Glasgow City",{"$f":"'Population estimates'!D20","v":568480}]
[19,"Highland",null,{"$f":"('2006'!D21/'2006 Rate'!$AA21)*1000","v":9.3033789292508384},{"$f":"('2006'!E21/'2006 Rate'!$AA21)*1000","v":1.8932874354561102},{"$f":"('2006'!F21/'2006 Rate'!$AA21)*1000","v":6.8212700425763204},{"$f":"('2006'!G21/'2006 Rate'!$AA21)*1000","v":0.58882145121840745},{"$f":"('2006'!H21/'2006 Rate'!$AA21)*1000","v":43.409729142132441},{"$f":"('2006'!I21/'2006 Rate'!$AA21)*1000","v":34.106350212881601},{"$f":"('2006'!J21/'2006 Rate'!$AA21)*1000","v":0.59335084699701057},{"$f":"('2006'!K21/'2006 Rate'!$AA21)*1000","v":20.133164235890934},{"$f":"('2006'!L21/'2006 Rate'!$AA21)*1000","v":19.539813388893918},{"$f":"('2006'!M21/'2006 Rate'!$AA21)*1000","v":6.6310354198749888},{"$f":"('2006'!N21/'2006 Rate'!$AA21)*1000","v":16.346589364978712},{"$f":"('2006'!O21/'2006 Rate'!$AA21)*1000","v":9.7155539451037232},{"$f":"('2006'!P21/'2006 Rate'!$AA21)*1000","v":2.0789926623788388},{"$f":"('2006'!Q21/'2006 Rate'!$AA21)*1000","v":6.9299755412627952},{"$f":"('2006'!R21/'2006 Rate'!$AA21)*1000","v":4.8509828788839569},{"$f":"('2006'!S21/'2006 Rate'!$AA21)*1000","v":6.6808587734396232},{"$f":"('2006'!T21/'2006 Rate'!$AA21)*1000","v":10.689374037503399},{"$f":"('2006'!U21/'2006 Rate'!$AA21)*1000","v":0.91946734305643629},{"$f":"('2006'!V21/'2006 Rate'!$AA21)*1000","v":2.5002264697889305},{"$f":"('2006'!W21/'2006 Rate'!$AA21)*1000","v":1.150466527765196},null,null,"Highland",{"$f":"'Population estimates'!D21","v":220780}]
[20,"Inverclyde",null,{"$f":"('2006'!D22/'2006 Rate'!$AA22)*1000","v":-4.2881438289601554},{"$f":"('2006'!E22/'2006 Rate'!$AA22)*1000","v":-0.89893100097181733},{"$f":"('2006'!F22/'2006 Rate'!$AA22)*1000","v":-3.5106899902818269},{"$f":"('2006'!G22/'2006 Rate'!$AA22)*1000","v":0.12147716229348882},{"$f":"('2006'!H22/'2006 Rate'!$AA22)*1000","v":20.140913508260446},{"$f":"('2006'!I22/'2006 Rate'!$AA22)*1000","v":24.429057337220602},{"$f":"('2006'!J22/'2006 Rate'!$AA22)*1000","v":-3.7900874635568513},{"$f":"('2006'!K22/'2006 Rate'!$AA22)*1000","v":11.85617103984451},{"$f":"('2006'!L22/'2006 Rate'!$AA22)*1000","v":15.646258503401363},{"$f":"('2006'!M22/'2006 Rate'!$AA22)*1000","v":-0.49805636540330417},{"$f":"('2006'!N22/'2006 Rate'!$AA22)*1000","v":5.0534499514091351},{"$f":"('2006'!O22/'2006 Rate'!$AA22)*1000","v":5.5515063168124392},{"$f":"('2006'!P22/'2006 Rate'!$AA22)*1000","v":0},{"$f":"('2006'!Q22/'2006 Rate'!$AA22)*1000","v":3.2312925170068025},{"$f":"('2006'!R22/'2006 Rate'!$AA22)*1000","v":3.2312925170068025},{"$f":"('2006'!S22/'2006 Rate'!$AA22)*1000","v":0.42517006802721086},{"$f":"('2006'!T22/'2006 Rate'!$AA22)*1000","v":2.7939747327502431},{"$f":"('2006'!U22/'2006 Rate'!$AA22)*1000","v":0.38872691933916426},{"$f":"('2006'!V22/'2006 Rate'!$AA22)*1000","v":2.4052478134110786},{"$f":"('2006'!W22/'2006 Rate'!$AA22)*1000","v":0.19436345966958213},null,null,"Inverclyde",{"$f":"'Population estimates'!D22","v":82320}]
[21,"Midlothian",null,{"$f":"('2006'!D23/'2006 Rate'!$AA23)*1000","v":-3.2625000000000002},{"$f":"('2006'!E23/'2006 Rate'!$AA23)*1000","v":-0.82499999999999996},{"$f":"('2006'!F23/'2006 Rate'!$AA23)*1000","v":-2.5750000000000002},{"$f":"('2006'!G23/'2006 Rate'!$AA23)*1000","v":0.13750000000000001},{"$f":"('2006'!H23/'2006 Rate'!$AA23)*1000","v":32},{"$f":"('2006'!I23/'2006 Rate'!$AA23)*1000","v":35.262500000000003},{"$f":"('2006'!J23/'2006 Rate'!$AA23)*1000","v":-2.7124999999999999},{"$f":"('2006'!K23/'2006 Rate'!$AA23)*1000","v":24.337500000000002},{"$f":"('2006'!L23/'2006 Rate'!$AA23)*1000","v":27.05},{"$f":"('2006'!M23/'2006 Rate'!$AA23)*1000","v":-0.53749999999999998},{"$f":"('2006'!N23/'2006 Rate'!$AA23)*1000","v":5.1625000000000005},{"$f":"('2006'!O23/'2006 Rate'!$AA23)*1000","v":5.7},{"$f":"('2006'!P23/'2006 Rate'!$AA23)*1000","v":-1.2500000000000001E-2},{"$f":"('2006'!Q23/'2006 Rate'!$AA23)*1000","v":2.5},{"$f":"('2006'!R23/'2006 Rate'!$AA23)*1000","v":2.5125000000000002},{"$f":"('2006'!S23/'2006 Rate'!$AA23)*1000","v":2.9375},{"$f":"('2006'!T23/'2006 Rate'!$AA23)*1000","v":3.125},{"$f":"('2006'!U23/'2006 Rate'!$AA23)*1000","v":0.66249999999999998},{"$f":"('2006'!V23/'2006 Rate'!$AA23)*1000","v":2.8375000000000004},{"$f":"('2006'!W23/'2006 Rate'!$AA23)*1000","v":0.52500000000000002},null,null,"Midlothian",{"$f":"'Population estimates'!D23","v":80000}]
[22,"Moray",null,{"$f":"('2006'!D24/'2006 Rate'!$AA24)*1000","v":5.0451641330689583},{"$f":"('2006'!E24/'2006 Rate'!$AA24)*1000","v":-0.27539105529852387},{"$f":"('2006'!F24/'2006 Rate'!$AA24)*1000","v":5.0121172064331354},{"$f":"('2006'!G24/'2006 Rate'!$AA24)*1000","v":0.30843798193434679},{"$f":"('2006'!H24/'2006 Rate'!$AA24)*1000","v":42.531394580304031},{"$f":"('2006'!I24/'2006 Rate'!$AA24)*1000","v":37.486230447235073},{"$f":"('2006'!J24/'2006 Rate'!$AA24)*1000","v":6.6093853271645742E-2},{"$f":"('2006'!K24/'2006 Rate'!$AA24)*1000","v":18.803701255783213},{"$f":"('2006'!L24/'2006 Rate'!$AA24)*1000","v":18.737607402511564},{"$f":"('2006'!M24/'2006 Rate'!$AA24)*1000","v":4.7146948667107296},{"$f":"('2006'!N24/'2006 Rate'!$AA24)*1000","v":17.889402952192111},{"$f":"('2006'!O24/'2006 Rate'!$AA24)*1000","v":13.174708085481385},{"$f":"('2006'!P24/'2006 Rate'!$AA24)*1000","v":0.26437541308658297},{"$f":"('2006'!Q24/'2006 Rate'!$AA24)*1000","v":5.8382903723287063},{"$f":"('2006'!R24/'2006 Rate'!$AA24)*1000","v":5.5739149592421242},{"$f":"('2006'!S24/'2006 Rate'!$AA24)*1000","v":2.8089887640449436},{"$f":"('2006'!T24/'2006 Rate'!$AA24)*1000","v":5.7281339502092976},{"$f":"('2006'!U24/'2006 Rate'!$AA24)*1000","v":0.64992289050451646},{"$f":"('2006'!V24/'2006 Rate'!$AA24)*1000","v":2.1700815157523681},{"$f":"('2006'!W24/'2006 Rate'!$AA24)*1000","v":1.3989865609165015},{"$f":"('2006'!X24/'2006 Rate'!$AA24)*1000","v":33.046926635822871},null,"Moray",{"$f":"'Population estimates'!D24","v":90780}]
[23,"North Ayrshire",null,{"$f":"('2006'!D25/'2006 Rate'!$AA25)*1000","v":-0.15351999415161929},{"$f":"('2006'!E25/'2006 Rate'!$AA25)*1000","v":0.32897141603918417},{"$f":"('2006'!F25/'2006 Rate'!$AA25)*1000","v":-0.90649901308575187},{"$f":"('2006'!G25/'2006 Rate'!$AA25)*1000","v":0.42400760289494843},{"$f":"('2006'!H25/'2006 Rate'!$AA25)*1000","v":30.170334088749179},{"$f":"('2006'!I25/'2006 Rate'!$AA25)*1000","v":30.323854082900798},{"$f":"('2006'!J25/'2006 Rate'!$AA25)*1000","v":1.0746399590613349},{"$f":"('2006'!K25/'2006 Rate'!$AA25)*1000","v":21.039549674683819},{"$f":"('2006'!L25/'2006 Rate'!$AA25)*1000","v":19.964909715622486},{"$f":"('2006'!M25/'2006 Rate'!$AA25)*1000","v":0.80415235031800569},{"$f":"('2006'!N25/'2006 Rate'!$AA25)*1000","v":7.5151692375173624},{"$f":"('2006'!O25/'2006 Rate'!$AA25)*1000","v":6.7110168871993565},{"$f":"('2006'!P25/'2006 Rate'!$AA25)*1000","v":-2.03231230353096},{"$f":"('2006'!Q25/'2006 Rate'!$AA25)*1000","v":1.6156151765479931},{"$f":"('2006'!R25/'2006 Rate'!$AA25)*1000","v":3.6479274800789532},{"$f":"('2006'!S25/'2006 Rate'!$AA25)*1000","v":0.51173331383873089},{"$f":"('2006'!T25/'2006 Rate'!$AA25)*1000","v":2.0469332553549235},{"$f":"('2006'!U25/'2006 Rate'!$AA25)*1000","v":0.35821331968711168},{"$f":"('2006'!V25/'2006 Rate'!$AA25)*1000","v":2.0615542071788875},{"$f":"('2006'!W25/'2006 Rate'!$AA25)*1000","v":9.5036186855764315E-2},null,null,"North Ayrshire",{"$f":"'Population estimates'!D25","v":136790}]
[24,"North Lanarkshire",null,{"$f":"('2006'!D26/'2006 Rate'!$AA26)*1000","v":0.91865912271095707},{"$f":"('2006'!E26/'2006 Rate'!$AA26)*1000","v":6.3880270122285088E-2},{"$f":"('2006'!F26/'2006 Rate'!$AA26)*1000","v":0.81523392346535251},{"$f":"('2006'!G26/'2006 Rate'!$AA26)*1000","v":3.954492912331934E-2},{"$f":"('2006'!H26/'2006 Rate'!$AA26)*1000","v":23.851676096611303},{"$f":"('2006'!I26/'2006 Rate'!$AA26)*1000","v":22.933016973900347},{"$f":"('2006'!J26/'2006 Rate'!$AA26)*1000","v":1.0403358277057857},{"$f":"('2006'!K26/'2006 Rate'!$AA26)*1000","v":17.232463344892622},{"$f":"('2006'!L26/'2006 Rate'!$AA26)*1000","v":16.192127517186837},{"$f":"('2006'!M26/'2006 Rate'!$AA26)*1000","v":-2.1293423374095032E-2},{"$f":"('2006'!N26/'2006 Rate'!$AA26)*1000","v":4.0518342763277975},{"$f":"('2006'!O26/'2006 Rate'!$AA26)*1000","v":4.0731276997018924},{"$f":"('2006'!P26/'2006 Rate'!$AA26)*1000","v":-0.10038328162073371},{"$f":"('2006'!Q26/'2006 Rate'!$AA26)*1000","v":2.5673784753908864},{"$f":"('2006'!R26/'2006 Rate'!$AA26)*1000","v":2.6677617570116201},{"$f":"('2006'!S26/'2006 Rate'!$AA26)*1000","v":1.9620368680416134},{"$f":"('2006'!T26/'2006 Rate'!$AA26)*1000","v":3.3461093873577901},{"$f":"('2006'!U26/'2006 Rate'!$AA26)*1000","v":0.49279065522905635},{"$f":"('2006'!V26/'2006 Rate'!$AA26)*1000","v":3.8389000425868471},{"$f":"('2006'!W26/'2006 Rate'!$AA26)*1000","v":0.91865912271095707},null,null,"North Lanarkshire",{"$f":"'Population estimates'!D26","v":328740}]
[25,"Orkney Islands",null,{"$f":"('2006'!D27/'2006 Rate'!$AA27)*1000","v":9.8328416912487704},{"$f":"('2006'!E27/'2006 Rate'!$AA27)*1000","v":1.5732546705998034},{"$f":"('2006'!F27/'2006 Rate'!$AA27)*1000","v":6.9813176007866273},{"$f":"('2006'!G27/'2006 Rate'!$AA27)*1000","v":1.2782694198623403},{"$f":"('2006'!H27/'2006 Rate'!$AA27)*1000","v":38.298918387413963},{"$f":"('2006'!I27/'2006 Rate'!$AA27)*1000","v":28.466076696165192},{"$f":"('2006'!J27/'2006 Rate'!$AA27)*1000","v":3.8839724680432646},{"$f":"('2006'!K27/'2006 Rate'!$AA27)*1000","v":20.64896755162242},{"$f":"('2006'!L27/'2006 Rate'!$AA27)*1000","v":16.764995083579155},{"$f":"('2006'!M27/'2006 Rate'!$AA27)*1000","v":7.2763028515240897},{"$f":"('2006'!N27/'2006 Rate'!$AA27)*1000","v":15.191740412979351},{"$f":"('2006'!O27/'2006 Rate'!$AA27)*1000","v":7.9154375614552599},{"$f":"('2006'!P27/'2006 Rate'!$AA27)*1000","v":-1.3274336283185841},{"$f":"('2006'!Q27/'2006 Rate'!$AA27)*1000","v":2.4582104228121926},{"$f":"('2006'!R27/'2006 Rate'!$AA27)*1000","v":3.7856440511307765},{"$f":"('2006'!S27/'2006 Rate'!$AA27)*1000","v":0.98328416912487715},{"$f":"('2006'!T27/'2006 Rate'!$AA27)*1000","v":3.4414945919370701},{"$f":"('2006'!U27/'2006 Rate'!$AA27)*1000","v":0.44247787610619471},{"$f":"('2006'!V27/'2006 Rate'!$AA27)*1000","v":1.4749262536873156},{"$f":"('2006'!W27/'2006 Rate'!$AA27)*1000","v":0},null,null,"Orkney Islands",{"$f":"'Population estimates'!D27","v":20340}]
[26,"Perth & Kinross",null,{"$f":"('2006'!D28/'2006 Rate'!$AA28)*1000","v":14.513236243632972},{"$f":"('2006'!E28/'2006 Rate'!$AA28)*1000","v":2.6472487265944475},{"$f":"('2006'!F28/'2006 Rate'!$AA28)*1000","v":10.904656001147858},{"$f":"('2006'!G28/'2006 Rate'!$AA28)*1000","v":0.96133151589066645},{"$f":"('2006'!H28/'2006 Rate'!$AA28)*1000","v":52.363871152880407},{"$f":"('2006'!I28/'2006 Rate'!$AA28)*1000","v":37.850634909247432},{"$f":"('2006'!J28/'2006 Rate'!$AA28)*1000","v":4.3259918215079995},{"$f":"('2006'!K28/'2006 Rate'!$AA28)*1000","v":28.266016213501686},{"$f":"('2006'!L28/'2006 Rate'!$AA28)*1000","v":23.940024391993688},{"$f":"('2006'!M28/'2006 Rate'!$AA28)*1000","v":3.2283521056029847},{"$f":"('2006'!N28/'2006 Rate'!$AA28)*1000","v":11.665112274912117},{"$f":"('2006'!O28/'2006 Rate'!$AA28)*1000","v":8.4367601693091316},{"$f":"('2006'!P28/'2006 Rate'!$AA28)*1000","v":6.9588923165219887},{"$f":"('2006'!Q28/'2006 Rate'!$AA28)*1000","v":12.432742664466605},{"$f":"('2006'!R28/'2006 Rate'!$AA28)*1000","v":5.4738503479446159},{"$f":"('2006'!S28/'2006 Rate'!$AA28)*1000","v":12.662314369753927},{"$f":"('2006'!T28/'2006 Rate'!$AA28)*1000","v":12.554702632900495},{"$f":"('2006'!U28/'2006 Rate'!$AA28)*1000","v":0.79632685271540282},{"$f":"('2006'!V28/'2006 Rate'!$AA28)*1000","v":2.3028911686634621},{"$f":"('2006'!W28/'2006 Rate'!$AA28)*1000","v":1.183729105387761},{"$f":"('2006'!X28/'2006 Rate'!$AA28)*1000","v":35.870578951144275},null,"Perth & Kinross",{"$f":"'Population estimates'!D28","v":139390}]
[27,"Renfrewshire",null,{"$f":"('2006'!D29/'2006 Rate'!$AA29)*1000","v":-2.0085245518771533},{"$f":"('2006'!E29/'2006 Rate'!$AA29)*1000","v":-5.8387341624335839E-3},{"$f":"('2006'!F29/'2006 Rate'!$AA29)*1000","v":-1.8216850586792783},{"$f":"('2006'!G29/'2006 Rate'!$AA29)*1000","v":-0.18100075903544111},{"$f":"('2006'!H29/'2006 Rate'!$AA29)*1000","v":28.195247270391778},{"$f":"('2006'!I29/'2006 Rate'!$AA29)*1000","v":30.20377182226893},{"$f":"('2006'!J29/'2006 Rate'!$AA29)*1000","v":-1.2144567057861857},{"$f":"('2006'!K29/'2006 Rate'!$AA29)*1000","v":19.092660711157819},{"$f":"('2006'!L29/'2006 Rate'!$AA29)*1000","v":20.307117416944006},{"$f":"('2006'!M29/'2006 Rate'!$AA29)*1000","v":-1.2553278449232206},{"$f":"('2006'!N29/'2006 Rate'!$AA29)*1000","v":4.3673731535003206},{"$f":"('2006'!O29/'2006 Rate'!$AA29)*1000","v":5.6227009984235421},{"$f":"('2006'!P29/'2006 Rate'!$AA29)*1000","v":0.46125999883225316},{"$f":"('2006'!Q29/'2006 Rate'!$AA29)*1000","v":4.7352134057336368},{"$f":"('2006'!R29/'2006 Rate'!$AA29)*1000","v":4.2739534069013834},{"$f":"('2006'!S29/'2006 Rate'!$AA29)*1000","v":1.897588602790915},{"$f":"('2006'!T29/'2006 Rate'!$AA29)*1000","v":5.4300227710632338},{"$f":"('2006'!U29/'2006 Rate'!$AA29)*1000","v":0.58971215040579206},{"$f":"('2006'!V29/'2006 Rate'!$AA29)*1000","v":3.5382729024347523},{"$f":"('2006'!W29/'2006 Rate'!$AA29)*1000","v":0.24522683482221053},null,null,"Renfrewshire",{"$f":"'Population estimates'!D29","v":171270}]
[28,"Scottish Borders",null,{"$f":"('2006'!D30/'2006 Rate'!$AA30)*1000","v":7.5320223705574598},{"$f":"('2006'!E30/'2006 Rate'!$AA30)*1000","v":1.6146491069817788},{"$f":"('2006'!F30/'2006 Rate'!$AA30)*1000","v":5.8542305610680136},{"$f":"('2006'!G30/'2006 Rate'!$AA30)*1000","v":6.314270250766732E-2},{"$f":"('2006'!H30/'2006 Rate'!$AA30)*1000","v":42.937037705213783},{"$f":"('2006'!I30/'2006 Rate'!$AA30)*1000","v":35.405015334656319},{"$f":"('2006'!J30/'2006 Rate'!$AA30)*1000","v":2.4535450117265016},{"$f":"('2006'!K30/'2006 Rate'!$AA30)*1000","v":21.197907270431177},{"$f":"('2006'!L30/'2006 Rate'!$AA30)*1000","v":18.744362258704673},{"$f":"('2006'!M30/'2006 Rate'!$AA30)*1000","v":4.9792531120331951},{"$f":"('2006'!N30/'2006 Rate'!$AA30)*1000","v":16.489265740573696},{"$f":"('2006'!O30/'2006 Rate'!$AA30)*1000","v":11.510012628540501},{"$f":"('2006'!P30/'2006 Rate'!$AA30)*1000","v":9.9224246797762941E-2},{"$f":"('2006'!Q30/'2006 Rate'!$AA30)*1000","v":5.2498646942089122},{"$f":"('2006'!R30/'2006 Rate'!$AA30)*1000","v":5.1506404474111491},{"$f":"('2006'!S30/'2006 Rate'!$AA30)*1000","v":4.2846833844488543},{"$f":"('2006'!T30/'2006 Rate'!$AA30)*1000","v":6.8554934151181675},{"$f":"('2006'!U30/'2006 Rate'!$AA30)*1000","v":0.75771243009200795},{"$f":"('2006'!V30/'2006 Rate'!$AA30)*1000","v":1.5695471766191593},{"$f":"('2006'!W30/'2006 Rate'!$AA30)*1000","v":1.2357928919357748},{"$f":"('2006'!X30/'2006 Rate'!$AA30)*1000","v":36.081544290095614},null,"Scottish Borders",{"$f":"'Population estimates'!D30","v":110860}]
[29,"Shetland Islands",null,{"$f":"('2006'!D31/'2006 Rate'!$AA31)*1000","v":-5.0427735254389914},{"$f":"('2006'!E31/'2006 Rate'!$AA31)*1000","v":-2.1611886537595679},{"$f":"('2006'!F31/'2006 Rate'!$AA31)*1000","v":-3.1067086897793788},{"$f":"('2006'!G31/'2006 Rate'!$AA31)*1000","v":0.22512381809995496},{"$f":"('2006'!H31/'2006 Rate'!$AA31)*1000","v":32.597928860873481},{"$f":"('2006'!I31/'2006 Rate'!$AA31)*1000","v":37.640702386312476},{"$f":"('2006'!J31/'2006 Rate'!$AA31)*1000","v":-3.7820801440792433},{"$f":"('2006'!K31/'2006 Rate'!$AA31)*1000","v":17.739756866276451},{"$f":"('2006'!L31/'2006 Rate'!$AA31)*1000","v":21.521837010355693},{"$f":"('2006'!M31/'2006 Rate'!$AA31)*1000","v":0.63034669067987392},{"$f":"('2006'!N31/'2006 Rate'!$AA31)*1000","v":11.931562359297613},{"$f":"('2006'!O31/'2006 Rate'!$AA31)*1000","v":11.30121566861774},{"$f":"('2006'!P31/'2006 Rate'!$AA31)*1000","v":-1.8910400720396217},{"$f":"('2006'!Q31/'2006 Rate'!$AA31)*1000","v":2.9266096352994149},{"$f":"('2006'!R31/'2006 Rate'!$AA31)*1000","v":4.8176497073390365},{"$f":"('2006'!S31/'2006 Rate'!$AA31)*1000","v":3.3768572714993246},{"$f":"('2006'!T31/'2006 Rate'!$AA31)*1000","v":6.7537145429986492},{"$f":"('2006'!U31/'2006 Rate'!$AA31)*1000","v":0.94552003601981083},{"$f":"('2006'!V31/'2006 Rate'!$AA31)*1000","v":2.2962629446195408},{"$f":"('2006'!W31/'2006 Rate'!$AA31)*1000","v":0},null,null,"Shetland Islands",{"$f":"'Population estimates'!D31","v":22210}]
[30,"South Ayrshire",null,{"$f":"('2006'!D32/'2006 Rate'!$AA32)*1000","v":3.2649420160570917},{"$f":"('2006'!E32/'2006 Rate'!$AA32)*1000","v":1.5789473684210527},{"$f":"('2006'!F32/'2006 Rate'!$AA32)*1000","v":0.88314005352363967},{"$f":"('2006'!G32/'2006 Rate'!$AA32)*1000","v":0.80285459411239968},{"$f":"('2006'!H32/'2006 Rate'!$AA32)*1000","v":33.380909901873324},{"$f":"('2006'!I32/'2006 Rate'!$AA32)*1000","v":30.115967885816236},{"$f":"('2006'!J32/'2006 Rate'!$AA32)*1000","v":2.2747546833184655},{"$f":"('2006'!K32/'2006 Rate'!$AA32)*1000","v":21.730597680642283},{"$f":"('2006'!L32/'2006 Rate'!$AA32)*1000","v":19.455842997323817},{"$f":"('2006'!M32/'2006 Rate'!$AA32)*1000","v":1.7484388938447812},{"$f":"('2006'!N32/'2006 Rate'!$AA32)*1000","v":8.7421944692239073},{"$f":"('2006'!O32/'2006 Rate'!$AA32)*1000","v":6.993755575379125},{"$f":"('2006'!P32/'2006 Rate'!$AA32)*1000","v":-0.75825156110615521},{"$f":"('2006'!Q32/'2006 Rate'!$AA32)*1000","v":2.9081177520071368},{"$f":"('2006'!R32/'2006 Rate'!$AA32)*1000","v":3.6663693131132917},{"$f":"('2006'!S32/'2006 Rate'!$AA32)*1000","v":1.1150758251561106},{"$f":"('2006'!T32/'2006 Rate'!$AA32)*1000","v":3.6574487065120427},{"$f":"('2006'!U32/'2006 Rate'!$AA32)*1000","v":0.39250669045495096},{"$f":"('2006'!V32/'2006 Rate'!$AA32)*1000","v":2.3907225691347014},{"$f":"('2006'!W32/'2006 Rate'!$AA32)*1000","v":0.26761819803746656},null,null,"South Ayrshire",{"$f":"'Population estimates'!D32","v":112100}]
[31,"South Lanarkshire",null,{"$f":"('2006'!D33/'2006 Rate'!$AA33)*1000","v":4.324850056735289},{"$f":"('2006'!E33/'2006 Rate'!$AA33)*1000","v":1.267628464905171},{"$f":"('2006'!F33/'2006 Rate'!$AA33)*1000","v":2.4736586156589397},{"$f":"('2006'!G33/'2006 Rate'!$AA33)*1000","v":0.58356297617117847},{"$f":"('2006'!H33/'2006 Rate'!$AA33)*1000","v":30.066461338952831},{"$f":"('2006'!I33/'2006 Rate'!$AA33)*1000","v":25.741611282217537},{"$f":"('2006'!J33/'2006 Rate'!$AA33)*1000","v":4.0168584859782781},{"$f":"('2006'!K33/'2006 Rate'!$AA33)*1000","v":21.974388069379152},{"$f":"('2006'!L33/'2006 Rate'!$AA33)*1000","v":17.957529583400877},{"$f":"('2006'!M33/'2006 Rate'!$AA33)*1000","v":0.95963689414816022},{"$f":"('2006'!N33/'2006 Rate'!$AA33)*1000","v":5.7091911168746963},{"$f":"('2006'!O33/'2006 Rate'!$AA33)*1000","v":4.7495542227265357},{"$f":"('2006'!P33/'2006 Rate'!$AA33)*1000","v":-0.65164532339114933},{"$f":"('2006'!Q33/'2006 Rate'!$AA33)*1000","v":2.3828821526989787},{"$f":"('2006'!R33/'2006 Rate'!$AA33)*1000","v":3.0345274760901284},{"$f":"('2006'!S33/'2006 Rate'!$AA33)*1000","v":1.7182687631706923},{"$f":"('2006'!T33/'2006 Rate'!$AA33)*1000","v":2.8205543848273624},{"$f":"('2006'!U33/'2006 Rate'!$AA33)*1000","v":0.54790079429405092},{"$f":"('2006'!V33/'2006 Rate'!$AA33)*1000","v":3.6796887664127089},{"$f":"('2006'!W33/'2006 Rate'!$AA33)*1000","v":0.868860431188199},null,null,"South Lanarkshire",{"$f":"'Population estimates'!D33","v":308450}]
[32,"Stirling",null,{"$f":"('2006'!D34/'2006 Rate'!$AA34)*1000","v":7.9577704620274714},{"$f":"('2006'!E34/'2006 Rate'!$AA34)*1000","v":2.6563741627880577},{"$f":"('2006'!F34/'2006 Rate'!$AA34)*1000","v":5.0289476671585875},{"$f":"('2006'!G34/'2006 Rate'!$AA34)*1000","v":0.27244863208082643},{"$f":"('2006'!H34/'2006 Rate'!$AA34)*1000","v":60.074923373822223},{"$f":"('2006'!I34/'2006 Rate'!$AA34)*1000","v":52.117152911794754},{"$f":"('2006'!J34/'2006 Rate'!$AA34)*1000","v":2.5201498467476444},{"$f":"('2006'!K34/'2006 Rate'!$AA34)*1000","v":36.769213304574869},{"$f":"('2006'!L34/'2006 Rate'!$AA34)*1000","v":34.249063457827226},{"$f":"('2006'!M34/'2006 Rate'!$AA34)*1000","v":3.4169599273470315},{"$f":"('2006'!N34/'2006 Rate'!$AA34)*1000","v":13.225110682256782},{"$f":"('2006'!O34/'2006 Rate'!$AA34)*1000","v":9.8081507549097502},{"$f":"('2006'!P34/'2006 Rate'!$AA34)*1000","v":2.020660687932796},{"$f":"('2006'!Q34/'2006 Rate'!$AA34)*1000","v":10.080599386990578},{"$f":"('2006'!R34/'2006 Rate'!$AA34)*1000","v":8.0599386990577813},{"$f":"('2006'!S34/'2006 Rate'!$AA34)*1000","v":3.1785673742763083},{"$f":"('2006'!T34/'2006 Rate'!$AA34)*1000","v":8.5140197525258259},{"$f":"('2006'!U34/'2006 Rate'!$AA34)*1000","v":0.96492223861959359},{"$f":"('2006'!V34/'2006 Rate'!$AA34)*1000","v":3.7915767964581679},{"$f":"('2006'!W34/'2006 Rate'!$AA34)*1000","v":1.0330343966398001},{"$f":"('2006'!X34/'2006 Rate'!$AA34)*1000","v":68.112158020206607},null,"Stirling",{"$f":"'Population estimates'!D34","v":88090}]
[33,"West Dunbartonshire",null,{"$f":"('2006'!D35/'2006 Rate'!$AA35)*1000","v":-1.1813607525705534},{"$f":"('2006'!E35/'2006 Rate'!$AA35)*1000","v":-0.63443447823233423},{"$f":"('2006'!F35/'2006 Rate'!$AA35)*1000","v":-0.38284839203675347},{"$f":"('2006'!G35/'2006 Rate'!$AA35)*1000","v":-0.16407788230146578},{"$f":"('2006'!H35/'2006 Rate'!$AA35)*1000","v":26.679063662218333},{"$f":"('2006'!I35/'2006 Rate'!$AA35)*1000","v":27.860424414788884},{"$f":"('2006'!J35/'2006 Rate'!$AA35)*1000","v":0.30627871362940273},{"$f":"('2006'!K35/'2006 Rate'!$AA35)*1000","v":20.06125574272588},{"$f":"('2006'!L35/'2006 Rate'!$AA35)*1000","v":19.75497702909648},{"$f":"('2006'!M35/'2006 Rate'!$AA35)*1000","v":-0.29534018814263835},{"$f":"('2006'!N35/'2006 Rate'!$AA35)*1000","v":4.5941807044410421},{"$f":"('2006'!O35/'2006 Rate'!$AA35)*1000","v":4.8895208925836791},{"$f":"('2006'!P35/'2006 Rate'!$AA35)*1000","v":-1.1922992780573178},{"$f":"('2006'!Q35/'2006 Rate'!$AA35)*1000","v":2.0236272150514112},{"$f":"('2006'!R35/'2006 Rate'!$AA35)*1000","v":3.2159264931087286},{"$f":"('2006'!S35/'2006 Rate'!$AA35)*1000","v":0.49223364690439725},{"$f":"('2006'!T35/'2006 Rate'!$AA35)*1000","v":2.5158608619558085},{"$f":"('2006'!U35/'2006 Rate'!$AA35)*1000","v":0.41566396849704657},{"$f":"('2006'!V35/'2006 Rate'!$AA35)*1000","v":2.318967403194049},{"$f":"('2006'!W35/'2006 Rate'!$AA35)*1000","v":0.24064756070881646},null,null,"West Dunbartonshire",{"$f":"'Population estimates'!D35","v":91420}]
[34,"West Lothian",null,{"$f":"('2006'!D36/'2006 Rate'!$AA36)*1000","v":7.8930046077434026},{"$f":"('2006'!E36/'2006 Rate'!$AA36)*1000","v":1.3045299503321166},{"$f":"('2006'!F36/'2006 Rate'!$AA36)*1000","v":6.1217162348153913},{"$f":"('2006'!G36/'2006 Rate'!$AA36)*1000","v":0.4667584225958949},{"$f":"('2006'!H36/'2006 Rate'!$AA36)*1000","v":37.08335826700975},{"$f":"('2006'!I36/'2006 Rate'!$AA36)*1000","v":29.190353659266354},{"$f":"('2006'!J36/'2006 Rate'!$AA36)*1000","v":3.0818024056011013},{"$f":"('2006'!K36/'2006 Rate'!$AA36)*1000","v":23.870504458141344},{"$f":"('2006'!L36/'2006 Rate'!$AA36)*1000","v":20.788702052540241},{"$f":"('2006'!M36/'2006 Rate'!$AA36)*1000","v":1.6875112201543894},{"$f":"('2006'!N36/'2006 Rate'!$AA36)*1000","v":7.4262461851475079},{"$f":"('2006'!O36/'2006 Rate'!$AA36)*1000","v":5.7387349649931183},{"$f":"('2006'!P36/'2006 Rate'!$AA36)*1000","v":3.1236909819879122},{"$f":"('2006'!Q36/'2006 Rate'!$AA36)*1000","v":7.4681347615343183},{"$f":"('2006'!R36/'2006 Rate'!$AA36)*1000","v":2.6629166417329899},{"$f":"('2006'!S36/'2006 Rate'!$AA36)*1000","v":3.0518819938962358},{"$f":"('2006'!T36/'2006 Rate'!$AA36)*1000","v":8.9162826880497885},{"$f":"('2006'!U36/'2006 Rate'!$AA36)*1000","v":0.94548500987373585},{"$f":"('2006'!V36/'2006 Rate'!$AA36)*1000","v":4.9967087547124649},{"$f":"('2006'!W36/'2006 Rate'!$AA36)*1000","v":1.0352462449883311},{"$f":"('2006'!X36/'2006 Rate'!$AA36)*1000","v":41.888576386811081},null,"West Lothian",{"$f":"'Population estimates'!D36","v":167110}]
[]
[35,"Not specified"]
[36,"SCOTLAND",null,{"$f":"('2006'!D39/'2006 Rate'!$AA39)*1000","v":3.6667900488983265},{"$f":"('2006'!E39/'2006 Rate'!$AA39)*1000","v":0.47067074477411314},{"$f":"('2006'!F39/'2006 Rate'!$AA39)*1000","v":3.1255966180280921},{"$f":"('2006'!G39/'2006 Rate'!$AA39)*1000","v":7.0522686096121251E-2},{"$f":"('2006'!H39/'2006 Rate'!$AA39)*1000","v":18.436227620736009},{"$f":"('2006'!I39/'2006 Rate'!$AA39)*1000","v":14.769437571837681},null,null,null,{"$f":"('2006'!M39/'2006 Rate'!$AA39)*1000","v":1.738130954004403},{"$f":"('2006'!N39/'2006 Rate'!$AA39)*1000","v":10.390407356178528},{"$f":"('2006'!O39/'2006 Rate'!$AA39)*1000","v":8.6522764021741239},{"$f":"('2006'!P39/'2006 Rate'!$AA39)*1000","v":1.9286590948939237},{"$f":"('2006'!Q39/'2006 Rate'!$AA39)*1000","v":8.0458202645574808},{"$f":"('2006'!R39/'2006 Rate'!$AA39)*1000","v":6.1171611696635564},null,null,{"$f":"('2006'!U39/'2006 Rate'!$AA39)*1000","v":1.0173189690440474},null,null,null,{"$f":"('2006'!Y39/'2006 Rate'!$AA39)*1000","v":9.2343807835421075},"SCOTLAND",{"$f":"'Population estimates'!D39","v":5133100}]
[37,"Ayrshire & Arran",null,{"$f":"('2006'!D40/'2006 Rate'!$AA40)*1000","v":1.1806119685892227},{"$f":"('2006'!E40/'2006 Rate'!$AA40)*1000","v":0.70132683455185485},{"$f":"('2006'!F40/'2006 Rate'!$AA40)*1000","v":-2.9786081776333604E-2},{"$f":"('2006'!G40/'2006 Rate'!$AA40)*1000","v":0.50907121581370163},{"$f":"('2006'!H40/'2006 Rate'!$AA40)*1000","v":23.484971567831032},{"$f":"('2006'!I40/'2006 Rate'!$AA40)*1000","v":22.30435959924181},{"$f":"('2006'!J40/'2006 Rate'!$AA40)*1000","v":1.5597075548334687},{"$f":"('2006'!K40/'2006 Rate'!$AA40)*1000","v":14.026536691037096},{"$f":"('2006'!L40/'2006 Rate'!$AA40)*1000","v":12.466829136203629},{"$f":"('2006'!M40/'2006 Rate'!$AA40)*1000","v":1.1291632818846467},{"$f":"('2006'!N40/'2006 Rate'!$AA40)*1000","v":7.6523151909017058},{"$f":"('2006'!O40/'2006 Rate'!$AA40)*1000","v":6.5231519090170593},{"$f":"('2006'!P40/'2006 Rate'!$AA40)*1000","v":-1.5082588681288924},{"$f":"('2006'!Q40/'2006 Rate'!$AA40)*1000","v":1.8061196858922286},{"$f":"('2006'!R40/'2006 Rate'!$AA40)*1000","v":3.314378554021121},null,null,{"$f":"('2006'!U40/'2006 Rate'!$AA40)*1000","v":0.35472515569997287},null,null,null,null,"Ayrshire & Arran",{"$f":"'Population estimates'!D40","v":369300}]
[38,"Borders",null,{"$f":"('2006'!D41/'2006 Rate'!$AA41)*1000","v":7.5320223705574598},{"$f":"('2006'!E41/'2006 Rate'!$AA41)*1000","v":1.6146491069817788},{"$f":"('2006'!F41/'2006 Rate'!$AA41)*1000","v":5.8542305610680136},{"$f":"('2006'!G41/'2006 Rate'!$AA41)*1000","v":6.314270250766732E-2},{"$f":"('2006'!H41/'2006 Rate'!$AA41)*1000","v":42.937037705213783},{"$f":"('2006'!I41/'2006 Rate'!$AA41)*1000","v":35.405015334656319},{"$f":"('2006'!J41/'2006 Rate'!$AA41)*1000","v":2.4535450117265016},{"$f":"('2006'!K41/'2006 Rate'!$AA41)*1000","v":21.197907270431177},{"$f":"('2006'!L41/'2006 Rate'!$AA41)*1000","v":18.744362258704673},{"$f":"('2006'!M41/'2006 Rate'!$AA41)*1000","v":4.9792531120331951},{"$f":"('2006'!N41/'2006 Rate'!$AA41)*1000","v":16.489265740573696},{"$f":"('2006'!O41/'2006 Rate'!$AA41)*1000","v":11.510012628540501},{"$f":"('2006'!P41/'2006 Rate'!$AA41)*1000","v":9.9224246797762941E-2},{"$f":"('2006'!Q41/'2006 Rate'!$AA41)*1000","v":5.2498646942089122},{"$f":"('2006'!R41/'2006 Rate'!$AA41)*1000","v":5.1506404474111491},null,null,{"$f":"('2006'!U41/'2006 Rate'!$AA41)*1000","v":0.75771243009200795},null,null,null,null,"Borders",{"$f":"'Population estimates'!D41","v":110860}]
[39,"Dumfries & Galloway",null,{"$f":"('2006'!D42/'2006 Rate'!$AA42)*1000","v":3.1312591801308587},{"$f":"('2006'!E42/'2006 Rate'!$AA42)*1000","v":0.66764588062491659},{"$f":"('2006'!F42/'2006 Rate'!$AA42)*1000","v":2.1231139003872346},{"$f":"('2006'!G42/'2006 Rate'!$AA42)*1000","v":0.34049939911870747},{"$f":"('2006'!H42/'2006 Rate'!$AA42)*1000","v":31.646414741621047},{"$f":"('2006'!I42/'2006 Rate'!$AA42)*1000","v":28.515155561490186},{"$f":"('2006'!J42/'2006 Rate'!$AA42)*1000","v":-1.7425557484310321},{"$f":"('2006'!K42/'2006 Rate'!$AA42)*1000","v":11.102950994792362},{"$f":"('2006'!L42/'2006 Rate'!$AA42)*1000","v":12.845506743223394},{"$f":"('2006'!M42/'2006 Rate'!$AA42)*1000","v":5.648284150086794},{"$f":"('2006'!N42/'2006 Rate'!$AA42)*1000","v":17.065028708772868},{"$f":"('2006'!O42/'2006 Rate'!$AA42)*1000","v":11.416744558686073},{"$f":"('2006'!P42/'2006 Rate'!$AA42)*1000","v":-0.77446922152490316},{"$f":"('2006'!Q42/'2006 Rate'!$AA42)*1000","v":3.4784350380558151},{"$f":"('2006'!R42/'2006 Rate'!$AA42)*1000","v":4.2529042595807178},null,null,{"$f":"('2006'!U42/'2006 Rate'!$AA42)*1000","v":0.50741086927493662},null,null,null,null,"Dumfries & Galloway",{"$f":"'Population estimates'!D42","v":149780}]
[40,"Fife",null,{"$f":"('2006'!D43/'2006 Rate'!$AA43)*1000","v":4.3749650114762355},{"$f":"('2006'!E43/'2006 Rate'!$AA43)*1000","v":0.54862005262273972},{"$f":"('2006'!F43/'2006 Rate'!$AA43)*1000","v":3.6192128981694007},{"$f":"('2006'!G43/'2006 Rate'!$AA43)*1000","v":0.20713206068409562},{"$f":"('2006'!H43/'2006 Rate'!$AA43)*1000","v":34.020041426412135},{"$f":"('2006'!I43/'2006 Rate'!$AA43)*1000","v":29.6450764149359},{"$f":"('2006'!J43/'2006 Rate'!$AA43)*1000","v":1.7858142529250407},{"$f":"('2006'!K43/'2006 Rate'!$AA43)*1000","v":17.844147119744722},{"$f":"('2006'!L43/'2006 Rate'!$AA43)*1000","v":16.058332866819683},{"$f":"('2006'!M43/'2006 Rate'!$AA43)*1000","v":1.827800481442087},{"$f":"('2006'!N43/'2006 Rate'!$AA43)*1000","v":10.104685663102503},{"$f":"('2006'!O43/'2006 Rate'!$AA43)*1000","v":8.2768851816604148},{"$f":"('2006'!P43/'2006 Rate'!$AA43)*1000","v":0.76135027710910819},{"$f":"('2006'!Q43/'2006 Rate'!$AA43)*1000","v":6.0712086435649102},{"$f":"('2006'!R43/'2006 Rate'!$AA43)*1000","v":5.3098583664558019},null,null,{"$f":"('2006'!U43/'2006 Rate'!$AA43)*1000","v":0.79773834182388181},null,null,null,null,"Fife",{"$f":"'Population estimates'!D43","v":357260}]
[41,"Forth Valley",null,{"$f":"('2006'!D44/'2006 Rate'!$AA44)*1000","v":6.7188745278769186},{"$f":"('2006'!E44/'2006 Rate'!$AA44)*1000","v":1.4588170068262933},{"$f":"('2006'!F44/'2006 Rate'!$AA44)*1000","v":5.0521501091513912},{"$f":"('2006'!G44/'2006 Rate'!$AA44)*1000","v":0.20790741189923423},{"$f":"('2006'!H44/'2006 Rate'!$AA44)*1000","v":35.527911570047472},{"$f":"('2006'!I44/'2006 Rate'!$AA44)*1000","v":28.809037042170555},{"$f":"('2006'!J44/'2006 Rate'!$AA44)*1000","v":3.9433105790221421},{"$f":"('2006'!K44/'2006 Rate'!$AA44)*1000","v":21.272393360823312},{"$f":"('2006'!L44/'2006 Rate'!$AA44)*1000","v":17.329082781801173},{"$f":"('2006'!M44/'2006 Rate'!$AA44)*1000","v":1.8780969541564156},{"$f":"('2006'!N44/'2006 Rate'!$AA44)*1000","v":8.6108319761599503},{"$f":"('2006'!O44/'2006 Rate'!$AA44)*1000","v":6.7327350220035349},{"$f":"('2006'!P44/'2006 Rate'!$AA44)*1000","v":0.897466994698361},{"$f":"('2006'!Q44/'2006 Rate'!$AA44)*1000","v":5.6446862330642089},{"$f":"('2006'!R44/'2006 Rate'!$AA44)*1000","v":4.7472192383658474},null,null,{"$f":"('2006'!U44/'2006 Rate'!$AA44)*1000","v":0.67223396514085731},null,null,null,null,"Forth Valley",{"$f":"'Population estimates'!D44","v":288590}]
[42,"Grampian",null,{"$f":"('2006'!D45/'2006 Rate'!$AA45)*1000","v":8.6192252298829359},{"$f":"('2006'!E45/'2006 Rate'!$AA45)*1000","v":1.4716200745965509},{"$f":"('2006'!F45/'2006 Rate'!$AA45)*1000","v":6.8743306621367113},{"$f":"('2006'!G45/'2006 Rate'!$AA45)*1000","v":0.27327449314967317},{"$f":"('2006'!H45/'2006 Rate'!$AA45)*1000","v":37.272425126481771},{"$f":"('2006'!I45/'2006 Rate'!$AA45)*1000","v":28.653199896598842},{"$f":"('2006'!J45/'2006 Rate'!$AA45)*1000","v":0.39329369622216481},{"$f":"('2006'!K45/'2006 Rate'!$AA45)*1000","v":12.653716902396692},{"$f":"('2006'!L45/'2006 Rate'!$AA45)*1000","v":12.260423206174526},{"$f":"('2006'!M45/'2006 Rate'!$AA45)*1000","v":3.0244839174267883},{"$f":"('2006'!N45/'2006 Rate'!$AA45)*1000","v":12.531851250046161},{"$f":"('2006'!O45/'2006 Rate'!$AA45)*1000","v":9.5073673326193724},{"$f":"('2006'!P45/'2006 Rate'!$AA45)*1000","v":5.201447616233982},{"$f":"('2006'!Q45/'2006 Rate'!$AA45)*1000","v":12.086856974038922},{"$f":"('2006'!R45/'2006 Rate'!$AA45)*1000","v":6.8854093578049413},null,null,{"$f":"('2006'!U45/'2006 Rate'!$AA45)*1000","v":1.2611248569001809},null,null,null,null,"Grampian",{"$f":"'Population estimates'!D45","v":541580}]
[43,"Greater Glasgow & Clyde",null,{"$f":"('2006'!D46/'2006 Rate'!$AA46)*1000","v":-2.3623643921727671},{"$f":"('2006'!E46/'2006 Rate'!$AA46)*1000","v":-0.74943391125080261},{"$f":"('2006'!F46/'2006 Rate'!$AA46)*1000","v":-0.9902328568048937},{"$f":"('2006'!G46/'2006 Rate'!$AA46)*1000","v":-0.62269762411707053},{"$f":"('2006'!H46/'2006 Rate'!$AA46)*1000","v":30.86451045996823},{"$f":"('2006'!I46/'2006 Rate'!$AA46)*1000","v":33.226874852141002},{"$f":"('2006'!J46/'2006 Rate'!$AA46)*1000","v":-2.1562066984352293},{"$f":"('2006'!K46/'2006 Rate'!$AA46)*1000","v":15.46774139038156},{"$f":"('2006'!L46/'2006 Rate'!$AA46)*1000","v":17.623948088816793},{"$f":"('2006'!M46/'2006 Rate'!$AA46)*1000","v":-0.77055662577309136},{"$f":"('2006'!N46/'2006 Rate'!$AA46)*1000","v":7.157220588732299},{"$f":"('2006'!O46/'2006 Rate'!$AA46)*1000","v":7.9277772145053911},{"$f":"('2006'!P46/'2006 Rate'!$AA46)*1000","v":0.5643989320355538},{"$f":"('2006'!Q46/'2006 Rate'!$AA46)*1000","v":8.2395484808543706},{"$f":"('2006'!R46/'2006 Rate'!$AA46)*1000","v":7.6751495488188173},null,null,{"$f":"('2006'!U46/'2006 Rate'!$AA46)*1000","v":1.3180573861908143},null,null,null,null,"Greater Glasgow",{"$f":"'Population estimates'!D46","v":1183560}]
[44,"Highland",null,{"$f":"('2006'!D47/'2006 Rate'!$AA47)*1000","v":7.2324723247232479},{"$f":"('2006'!E47/'2006 Rate'!$AA47)*1000","v":1.47280603240815},{"$f":"('2006'!F47/'2006 Rate'!$AA47)*1000","v":5.268730948179047},{"$f":"('2006'!G47/'2006 Rate'!$AA47)*1000","v":0.49093534413605},{"$f":"('2006'!H47/'2006 Rate'!$AA47)*1000","v":43.888978020214985},{"$f":"('2006'!I47/'2006 Rate'!$AA47)*1000","v":36.656505695491738},{"$f":"('2006'!J47/'2006 Rate'!$AA47)*1000","v":-0.34333386812128991},{"$f":"('2006'!K47/'2006 Rate'!$AA47)*1000","v":20.401090967431411},{"$f":"('2006'!L47/'2006 Rate'!$AA47)*1000","v":20.744424835552703},{"$f":"('2006'!M47/'2006 Rate'!$AA47)*1000","v":6.4591689395154823},{"$f":"('2006'!N47/'2006 Rate'!$AA47)*1000","v":17.10251885127547},{"$f":"('2006'!O47/'2006 Rate'!$AA47)*1000","v":10.643349911759987},{"$f":"('2006'!P47/'2006 Rate'!$AA47)*1000","v":1.1166372533290549},{"$f":"('2006'!Q47/'2006 Rate'!$AA47)*1000","v":6.3853682015081015},{"$f":"('2006'!R47/'2006 Rate'!$AA47)*1000","v":5.268730948179047},null,null,{"$f":"('2006'!U47/'2006 Rate'!$AA47)*1000","v":0.82785175677843736},null,null,null,null,"Highland",{"$f":"'Population estimates'!D47","v":311650}]
[45,"Lanarkshire",null,{"$f":"('2006'!D48/'2006 Rate'!$AA48)*1000","v":1.7368580114131305},{"$f":"('2006'!E48/'2006 Rate'!$AA48)*1000","v":0.46754724360455813},{"$f":"('2006'!F48/'2006 Rate'!$AA48)*1000","v":0.85154041705925232},{"$f":"('2006'!G48/'2006 Rate'!$AA48)*1000","v":0.41777035074932001},{"$f":"('2006'!H48/'2006 Rate'!$AA48)*1000","v":22.250271106291443},{"$f":"('2006'!I48/'2006 Rate'!$AA48)*1000","v":20.513413094878313},{"$f":"('2006'!J48/'2006 Rate'!$AA48)*1000","v":1.6586371797834705},{"$f":"('2006'!K48/'2006 Rate'!$AA48)*1000","v":14.739293523670691},{"$f":"('2006'!L48/'2006 Rate'!$AA48)*1000","v":13.08065634388722},{"$f":"('2006'!M48/'2006 Rate'!$AA48)*1000","v":0.40354838136210908},{"$f":"('2006'!N48/'2006 Rate'!$AA48)*1000","v":4.9296901388419769},{"$f":"('2006'!O48/'2006 Rate'!$AA48)*1000","v":4.5261417574798672},{"$f":"('2006'!P48/'2006 Rate'!$AA48)*1000","v":-0.32532754973244921},{"$f":"('2006'!Q48/'2006 Rate'!$AA48)*1000","v":2.5812874437787774},{"$f":"('2006'!R48/'2006 Rate'!$AA48)*1000","v":2.9066149935112264},null,null,{"$f":"('2006'!U48/'2006 Rate'!$AA48)*1000","v":0.50843540559278955},null,null,null,null,"Lanarkshire",{"$f":"'Population estimates'!D48","v":562510}]
[46,"Lothian",null,{"$f":"('2006'!D49/'2006 Rate'!$AA49)*1000","v":6.8022493443615089},{"$f":"('2006'!E49/'2006 Rate'!$AA49)*1000","v":0.12734516844865845},{"$f":"('2006'!F49/'2006 Rate'!$AA49)*1000","v":6.7127294734718577},{"$f":"('2006'!G49/'2006 Rate'!$AA49)*1000","v":-3.7825297559007459E-2},{"$f":"('2006'!H49/'2006 Rate'!$AA49)*1000","v":43.892475287472259},{"$f":"('2006'!I49/'2006 Rate'!$AA49)*1000","v":37.090225943110752},{"$f":"('2006'!J49/'2006 Rate'!$AA49)*1000","v":-1.8118317530764576},{"$f":"('2006'!K49/'2006 Rate'!$AA49)*1000","v":13.913405285454912},{"$f":"('2006'!L49/'2006 Rate'!$AA49)*1000","v":15.725237038531368},{"$f":"('2006'!M49/'2006 Rate'!$AA49)*1000","v":2.7297256405083723},{"$f":"('2006'!N49/'2006 Rate'!$AA49)*1000","v":14.872907000201735},{"$f":"('2006'!O49/'2006 Rate'!$AA49)*1000","v":12.143181359693363},{"$f":"('2006'!P49/'2006 Rate'!$AA49)*1000","v":5.8843554569295948},{"$f":"('2006'!Q49/'2006 Rate'!$AA49)*1000","v":15.106163001815615},{"$f":"('2006'!R49/'2006 Rate'!$AA49)*1000","v":9.2218075448860208},null,null,{"$f":"('2006'!U49/'2006 Rate'!$AA49)*1000","v":1.6075751462578172},null,null,null,null,"Lothian",{"$f":"'Population estimates'!D49","v":793120}]
[47,"Orkney",null,{"$f":"('2006'!D50/'2006 Rate'!$AA50)*1000","v":9.8328416912487704},{"$f":"('2006'!E50/'2006 Rate'!$AA50)*1000","v":1.5732546705998034},{"$f":"('2006'!F50/'2006 Rate'!$AA50)*1000","v":6.9813176007866273},{"$f":"('2006'!G50/'2006 Rate'!$AA50)*1000","v":1.2782694198623403},{"$f":"('2006'!H50/'2006 Rate'!$AA50)*1000","v":38.298918387413963},{"$f":"('2006'!I50/'2006 Rate'!$AA50)*1000","v":28.466076696165192},{"$f":"('2006'!J50/'2006 Rate'!$AA50)*1000","v":3.8839724680432646},{"$f":"('2006'!K50/'2006 Rate'!$AA50)*1000","v":20.64896755162242},{"$f":"('2006'!L50/'2006 Rate'!$AA50)*1000","v":16.764995083579155},{"$f":"('2006'!M50/'2006 Rate'!$AA50)*1000","v":7.2763028515240897},{"$f":"('2006'!N50/'2006 Rate'!$AA50)*1000","v":15.191740412979351},{"$f":"('2006'!O50/'2006 Rate'!$AA50)*1000","v":7.9154375614552599},{"$f":"('2006'!P50/'2006 Rate'!$AA50)*1000","v":-1.3274336283185841},{"$f":"('2006'!Q50/'2006 Rate'!$AA50)*1000","v":2.4582104228121926},{"$f":"('2006'!R50/'2006 Rate'!$AA50)*1000","v":3.7856440511307765},null,null,{"$f":"('2006'!U50/'2006 Rate'!$AA50)*1000","v":0.44247787610619471},null,null,null,null,"Orkney",{"$f":"'Population estimates'!D50","v":20340}]
[48,"Shetland",null,{"$f":"('2006'!D51/'2006 Rate'!$AA51)*1000","v":-5.0427735254389914},{"$f":"('2006'!E51/'2006 Rate'!$AA51)*1000","v":-2.1611886537595679},{"$f":"('2006'!F51/'2006 Rate'!$AA51)*1000","v":-3.1067086897793788},{"$f":"('2006'!G51/'2006 Rate'!$AA51)*1000","v":0.22512381809995496},{"$f":"('2006'!H51/'2006 Rate'!$AA51)*1000","v":32.597928860873481},{"$f":"('2006'!I51/'2006 Rate'!$AA51)*1000","v":37.640702386312476},{"$f":"('2006'!J51/'2006 Rate'!$AA51)*1000","v":-3.7820801440792433},{"$f":"('2006'!K51/'2006 Rate'!$AA51)*1000","v":17.739756866276451},{"$f":"('2006'!L51/'2006 Rate'!$AA51)*1000","v":21.521837010355693},{"$f":"('2006'!M51/'2006 Rate'!$AA51)*1000","v":0.63034669067987392},{"$f":"('2006'!N51/'2006 Rate'!$AA51)*1000","v":11.931562359297613},{"$f":"('2006'!O51/'2006 Rate'!$AA51)*1000","v":11.30121566861774},{"$f":"('2006'!P51/'2006 Rate'!$AA51)*1000","v":-1.8910400720396217},{"$f":"('2006'!Q51/'2006 Rate'!$AA51)*1000","v":2.9266096352994149},{"$f":"('2006'!R51/'2006 Rate'!$AA51)*1000","v":4.8176497073390365},null,null,{"$f":"('2006'!U51/'2006 Rate'!$AA51)*1000","v":0.94552003601981083},null,null,null,null,"Shetland",{"$f":"'Population estimates'!D51","v":22210}]
[49,"Tayside",null,{"$f":"('2006'!D52/'2006 Rate'!$AA52)*1000","v":7.2480267152398303},{"$f":"('2006'!E52/'2006 Rate'!$AA52)*1000","v":1.2725156850839912},{"$f":"('2006'!F52/'2006 Rate'!$AA52)*1000","v":5.5859137826350942},{"$f":"('2006'!G52/'2006 Rate'!$AA52)*1000","v":0.38959724752074476},{"$f":"('2006'!H52/'2006 Rate'!$AA52)*1000","v":37.080044525399714},{"$f":"('2006'!I52/'2006 Rate'!$AA52)*1000","v":29.832017810159886},{"$f":"('2006'!J52/'2006 Rate'!$AA52)*1000","v":1.6191054442420563},{"$f":"('2006'!K52/'2006 Rate'!$AA52)*1000","v":17.557174660999799},{"$f":"('2006'!L52/'2006 Rate'!$AA52)*1000","v":15.938069216757743},{"$f":"('2006'!M52/'2006 Rate'!$AA52)*1000","v":1.0903663226067599},{"$f":"('2006'!N52/'2006 Rate'!$AA52)*1000","v":9.8866626189030562},{"$f":"('2006'!O52/'2006 Rate'!$AA52)*1000","v":8.7962962962962976},{"$f":"('2006'!P52/'2006 Rate'!$AA52)*1000","v":4.5385549483910141},{"$f":"('2006'!Q52/'2006 Rate'!$AA52)*1000","v":9.6362072454968626},{"$f":"('2006'!R52/'2006 Rate'!$AA52)*1000","v":5.0976522971058484},null,null,{"$f":"('2006'!U52/'2006 Rate'!$AA52)*1000","v":0.88291843756324628},null,null,null,null,"Tayside",{"$f":"'Population estimates'!D52","v":395280}]
[50,"Western Isles",null,{"$f":"('2006'!D53/'2006 Rate'!$AA53)*1000","v":4.7671840354767188},{"$f":"('2006'!E53/'2006 Rate'!$AA53)*1000","v":1.5151515151515151},{"$f":"('2006'!F53/'2006 Rate'!$AA53)*1000","v":2.2172949002217295},{"$f":"('2006'!G53/'2006 Rate'!$AA53)*1000","v":1.0347376201034737},{"$f":"('2006'!H53/'2006 Rate'!$AA53)*1000","v":40.317812269031784},{"$f":"('2006'!I53/'2006 Rate'!$AA53)*1000","v":35.550628233555067},{"$f":"('2006'!J53/'2006 Rate'!$AA53)*1000","v":-1.7738359201773837},{"$f":"('2006'!K53/'2006 Rate'!$AA53)*1000","v":22.653362897265335},{"$f":"('2006'!L53/'2006 Rate'!$AA53)*1000","v":24.427198817442719},{"$f":"('2006'!M53/'2006 Rate'!$AA53)*1000","v":6.9475240206947522},{"$f":"('2006'!N53/'2006 Rate'!$AA53)*1000","v":14.449371766444937},{"$f":"('2006'!O53/'2006 Rate'!$AA53)*1000","v":7.5018477457501849},{"$f":"('2006'!P53/'2006 Rate'!$AA53)*1000","v":-0.4065040650406504},{"$f":"('2006'!Q53/'2006 Rate'!$AA53)*1000","v":3.215077605321508},{"$f":"('2006'!R53/'2006 Rate'!$AA53)*1000","v":3.6215816703621582},null,null,{"$f":"('2006'!U53/'2006 Rate'!$AA53)*1000","v":0.4065040650406504},null,null,null,null,"Western Isles",{"$f":"'Population estimates'!D53","v":27060}]

{"sheet":"2007","index":41,"n_rows":53,"n_cols":25,"rows_kept":53,"cut":false,"hidden":true,"merged":[]}
[null,2007]
[null,null,"Not specified ",{"$f":"'Comparing Indicators'!$U8","v":"Total net migration"},{"$f":"'Comparing Indicators'!$U9","v":"Total net migration for ages 0-15"},{"$f":"'Comparing Indicators'!$U10","v":"Total net migration for ages 16-64"},{"$f":"'Comparing Indicators'!$U11","v":"Total net migration for people aged 65+"},{"$f":"'Comparing Indicators'!$U12","v":"Total in-migration"},{"$f":"'Comparing Indicators'!$U13","v":"Total out-migration"},{"$f":"'Comparing Indicators'!$U14","v":"Within Scotland net migration"},{"$f":"'Comparing Indicators'!$U15","v":"Within Scotland in-migration"},{"$f":"'Comparing Indicators'!$U16","v":"Within Scotland out-migration"},{"$f":"'Comparing Indicators'!$U17","v":"Rest of UK net migration"},{"$f":"'Comparing Indicators'!$U18","v":"Rest of UK in-migration"},{"$f":"'Comparing Indicators'!$U19","v":"Rest of UK out-migration"},{"$f":"'Comparing Indicators'!$U20","v":"Overseas net migration"},{"$f":"'Comparing Indicators'!$U21","v":"Overseas in-migration"},{"$f":"'Comparing Indicators'!$U22","v":"Overseas out-migration"},{"$f":"'Comparing Indicators'!$U23","v":"Worker Registration Scheme"},{"$f":"'Comparing Indicators'!$U24","v":"NINo Allocation"},{"$f":"'Comparing Indicators'!$U25","v":"Births to non-UK mothers"},{"$f":"'Comparing Indicators'!$U26","v":"Pupils from a minority ethnic group"},{"$f":"'Comparing Indicators'!$U27","v":"Pupils with English as an additional language"},{"$f":"'Comparing Indicators'!$U28","v":"Estimate of resident population born outside the UK"},"NHS registrations from overseas"]
[1,"Not specified"]
[2,"SCOTLAND",null,{"$f":"'Total net migration'!E4","v":33049},{"$f":"'Total net migration 0-15'!E4","v":5380},{"$f":"'Total net migration 16-64'!E4","v":26935},{"$f":"'Total net migration 65+'!E4","v":734},{"$f":"'Total in-migration'!E4","v":96646},{"$f":"'Total out-migration'!E4","v":63597},null,null,null,{"$f":"'Rest of UK net migration'!E4","v":8849},{"$f":"'Rest of UK in-migration'!E4","v":51546},{"$f":"'Rest of UK out-migration'!E4","v":42697},{"$f":"'Overseas net migration'!E4","v":24200},{"$f":"'Overseas in-migration'!E4","v":45100},{"$f":"'Overseas out-migration'!E4","v":20900},{"$f":"WRS!E5","v":19630},{"$f":"NINo!E5","v":57080},{"$f":"'Non-UK Births'!E5","v":6350},{"$f":"'Pupils ethnic group'!F5","v":29896},{"$f":"'Pupils with English as an add.'!C4","v":15411},{"$f":"'Pop born outside UK'!E5","v":255000},{"$f":"'NHS Overseas'!$E$5","v":51929}]
[3,"Aberdeen City",null,{"$f":"'Total net migration'!E5","v":2953},{"$f":"'Total net migration 0-15'!E5","v":333},{"$f":"'Total net migration 16-64'!E5","v":2776},{"$f":"'Total net migration 65+'!E5","v":-156},{"$f":"'Total in-migration'!E5","v":13511},{"$f":"'Total out-migration'!E5","v":10558},{"$f":"'Within Scotland net migration'!E5","v":-1116},{"$f":"'Within Scotland in-migration'!E5","v":5631},{"$f":"'Within Scotland out-migration'!E5","v":6747},{"$f":"'Rest of UK net migration'!E5","v":317},{"$f":"'Rest of UK in-migration'!E5","v":2530},{"$f":"'Rest of UK out-migration'!E5","v":2213},{"$f":"'Overseas net migration'!E5","v":3752},{"$f":"'Overseas in-migration'!E5","v":5350},{"$f":"'Overseas out-migration'!E5","v":1598},{"$f":"WRS!E6","v":1240},{"$f":"NINo!E6","v":6360},{"$f":"'Non-UK Births'!E6","v":555},{"$f":"'Pupils ethnic group'!F6","v":1552},{"$f":"'Pupils with English as an add.'!C5","v":1181},{"$f":"'Pop born outside UK'!E6","v":20000}]
[4,"Aberdeenshire",null,{"$f":"'Total net migration'!E6","v":2683},{"$f":"'Total net migration 0-15'!E6","v":692},{"$f":"'Total net migration 16-64'!E6","v":1758},{"$f":"'Total net migration 65+'!E6","v":233},{"$f":"'Total in-migration'!E6","v":9934},{"$f":"'Total out-migration'!E6","v":7251},{"$f":"'Within Scotland net migration'!E6","v":1097},{"$f":"'Within Scotland in-migration'!E6","v":5939},{"$f":"'Within Scotland out-migration'!E6","v":4842},{"$f":"'Rest of UK net migration'!E6","v":750},{"$f":"'Rest of UK in-migration'!E6","v":2484},{"$f":"'Rest of UK out-migration'!E6","v":1734},{"$f":"'Overseas net migration'!E6","v":836},{"$f":"'Overseas in-migration'!E6","v":1511},{"$f":"'Overseas out-migration'!E6","v":675},{"$f":"WRS!E7","v":1275},{"$f":"NINo!E7","v":2000},{"$f":"'Non-UK Births'!E7","v":270},{"$f":"'Pupils ethnic group'!F7","v":563},{"$f":"'Pupils with English as an add.'!C6","v":443},{"$f":"'Pop born outside UK'!E7","v":9000}]
[5,"Angus",null,{"$f":"'Total net migration'!E7","v":756},{"$f":"'Total net migration 0-15'!E7","v":166},{"$f":"'Total net migration 16-64'!E7","v":494},{"$f":"'Total net migration 65+'!E7","v":96},{"$f":"'Total in-migration'!E7","v":4180},{"$f":"'Total out-migration'!E7","v":3424},{"$f":"'Within Scotland net migration'!E7","v":392},{"$f":"'Within Scotland in-migration'!E7","v":2933},{"$f":"'Within Scotland out-migration'!E7","v":2541},{"$f":"'Rest of UK net migration'!E7","v":158},{"$f":"'Rest of UK in-migration'!E7","v":823},{"$f":"'Rest of UK out-migration'!E7","v":665},{"$f":"'Overseas net migration'!E7","v":206},{"$f":"'Overseas in-migration'!E7","v":424},{"$f":"'Overseas out-migration'!E7","v":218},{"$f":"WRS!E8","v":1010},{"$f":"NINo!E8","v":920},{"$f":"'Non-UK Births'!E8","v":85},{"$f":"'Pupils ethnic group'!F8","v":619},{"$f":"'Pupils with English as an add.'!C7","v":100},{"$f":"'Pop born outside UK'!E8","v":4000}]
[6,"Argyll & Bute",null,{"$f":"'Total net migration'!E8","v":378},{"$f":"'Total net migration 0-15'!E8","v":123},{"$f":"'Total net migration 16-64'!E8","v":225},{"$f":"'Total net migration 65+'!E8","v":30},{"$f":"'Total in-migration'!E8","v":4309},{"$f":"'Total out-migration'!E8","v":3931},{"$f":"'Within Scotland net migration'!E8","v":-231},{"$f":"'Within Scotland in-migration'!E8","v":2201},{"$f":"'Within Scotland out-migration'!E8","v":2432},{"$f":"'Rest of UK net migration'!E8","v":472},{"$f":"'Rest of UK in-migration'!E8","v":1567},{"$f":"'Rest of UK out-migration'!E8","v":1095},{"$f":"'Overseas net migration'!E8","v":137},{"$f":"'Overseas in-migration'!E8","v":541},{"$f":"'Overseas out-migration'!E8","v":404},{"$f":"WRS!E9","v":290},{"$f":"NINo!E9","v":770},{"$f":"'Non-UK Births'!E9","v":73},{"$f":"'Pupils ethnic group'!F9","v":178},{"$f":"'Pupils with English as an add.'!C8","v":56},{"$f":"'Pop born outside UK'!E9","v":3000}]
[7,"Clackmannanshire",null,{"$f":"'Total net migration'!E9","v":741},{"$f":"'Total net migration 0-15'!E9","v":224},{"$f":"'Total net migration 16-64'!E9","v":503},{"$f":"'Total net migration 65+'!E9","v":14},{"$f":"'Total in-migration'!E9","v":2268},{"$f":"'Total out-migration'!E9","v":1527},{"$f":"'Within Scotland net migration'!E9","v":394},{"$f":"'Within Scotland in-migration'!E9","v":1573},{"$f":"'Within Scotland out-migration'!E9","v":1179},{"$f":"'Rest of UK net migration'!E9","v":189},{"$f":"'Rest of UK in-migration'!E9","v":447},{"$f":"'Rest of UK out-migration'!E9","v":258},{"$f":"'Overseas net migration'!E9","v":158},{"$f":"'Overseas in-migration'!E9","v":248},{"$f":"'Overseas out-migration'!E9","v":90},{"$f":"WRS!E10","v":45},{"$f":"NINo!E10","v":210},{"$f":"'Non-UK Births'!E10","v":53},{"$f":"'Pupils ethnic group'!F10","v":197},{"$f":"'Pupils with English as an add.'!C9","v":54},{"$f":"'Pop born outside UK'!E10","v":"*"}]
[8,"Dumfries & Galloway",null,{"$f":"'Total net migration'!E10","v":712},{"$f":"'Total net migration 0-15'!E10","v":195},{"$f":"'Total net migration 16-64'!E10","v":404},{"$f":"'Total net migration 65+'!E10","v":113},{"$f":"'Total in-migration'!E10","v":4672},{"$f":"'Total out-migration'!E10","v":3960},{"$f":"'Within Scotland net migration'!E10","v":-56},{"$f":"'Within Scotland in-migration'!E10","v":1728},{"$f":"'Within Scotland out-migration'!E10","v":1784},{"$f":"'Rest of UK net migration'!E10","v":736},{"$f":"'Rest of UK in-migration'!E10","v":2451},{"$f":"'Rest of UK out-migration'!E10","v":1715},{"$f":"'Overseas net migration'!E10","v":32},{"$f":"'Overseas in-migration'!E10","v":493},{"$f":"'Overseas out-migration'!E10","v":461},{"$f":"WRS!E11","v":280},{"$f":"NINo!E11","v":800},{"$f":"'Non-UK Births'!E11","v":86},{"$f":"'Pupils ethnic group'!F11","v":328},{"$f":"'Pupils with English as an add.'!C10","v":179},{"$f":"'Pop born outside UK'!E11","v":"*"}]
[9,"Dundee City",null,{"$f":"'Total net migration'!E11","v":265},{"$f":"'Total net migration 0-15'!E11","v":-16},{"$f":"'Total net migration 16-64'!E11","v":320},{"$f":"'Total net migration 65+'!E11","v":-39},{"$f":"'Total in-migration'!E11","v":6672},{"$f":"'Total out-migration'!E11","v":6407},{"$f":"'Within Scotland net migration'!E11","v":-528},{"$f":"'Within Scotland in-migration'!E11","v":3598},{"$f":"'Within Scotland out-migration'!E11","v":4126},{"$f":"'Rest of UK net migration'!E11","v":-270},{"$f":"'Rest of UK in-migration'!E11","v":1229},{"$f":"'Rest of UK out-migration'!E11","v":1499},{"$f":"'Overseas net migration'!E11","v":1063},{"$f":"'Overseas in-migration'!E11","v":1845},{"$f":"'Overseas out-migration'!E11","v":782},{"$f":"WRS!E12","v":425},{"$f":"NINo!E12","v":1940},{"$f":"'Non-UK Births'!E12","v":215},{"$f":"'Pupils ethnic group'!F12","v":1075},{"$f":"'Pupils with English as an add.'!C11","v":490},{"$f":"'Pop born outside UK'!E12","v":8000}]
[10,"East Ayrshire",null,{"$f":"'Total net migration'!E12","v":325},{"$f":"'Total net migration 0-15'!E12","v":80},{"$f":"'Total net migration 16-64'!E12","v":276},{"$f":"'Total net migration 65+'!E12","v":-31},{"$f":"'Total in-migration'!E12","v":3672},{"$f":"'Total out-migration'!E12","v":3347},{"$f":"'Within Scotland net migration'!E12","v":246},{"$f":"'Within Scotland in-migration'!E12","v":2722},{"$f":"'Within Scotland out-migration'!E12","v":2476},{"$f":"'Rest of UK net migration'!E12","v":146},{"$f":"'Rest of UK in-migration'!E12","v":787},{"$f":"'Rest of UK out-migration'!E12","v":641},{"$f":"'Overseas net migration'!E12","v":-67},{"$f":"'Overseas in-migration'!E12","v":163},{"$f":"'Overseas out-migration'!E12","v":230},{"$f":"WRS!E13","v":195},{"$f":"NINo!E13","v":190},{"$f":"'Non-UK Births'!E13","v":51},{"$f":"'Pupils ethnic group'!F13","v":248},{"$f":"'Pupils with English as an add.'!C12","v":36},{"$f":"'Pop born outside UK'!E13","v":"*"}]
[11,"East Dunbartonshire",null,{"$f":"'Total net migration'!E13","v":-289},{"$f":"'Total net migration 0-15'!E13","v":206},{"$f":"'Total net migration 16-64'!E13","v":-435},{"$f":"'Total net migration 65+'!E13","v":-60},{"$f":"'Total in-migration'!E13","v":3493},{"$f":"'Total out-migration'!E13","v":3782},{"$f":"'Within Scotland net migration'!E13","v":-170},{"$f":"'Within Scotland in-migration'!E13","v":2873},{"$f":"'Within Scotland out-migration'!E13","v":3043},{"$f":"'Rest of UK net migration'!E13","v":-128},{"$f":"'Rest of UK in-migration'!E13","v":400},{"$f":"'Rest of UK out-migration'!E13","v":528},{"$f":"'Overseas net migration'!E13","v":9},{"$f":"'Overseas in-migration'!E13","v":220},{"$f":"'Overseas out-migration'!E13","v":211},{"$f":"WRS!E14","v":75},{"$f":"NINo!E14","v":270},{"$f":"'Non-UK Births'!E14","v":74},{"$f":"'Pupils ethnic group'!F14","v":958},{"$f":"'Pupils with English as an add.'!C13","v":253},{"$f":"'Pop born outside UK'!E14","v":4000}]
[12,"East Lothian",null,{"$f":"'Total net migration'!E14","v":1559},{"$f":"'Total net migration 0-15'!E14","v":346},{"$f":"'Total net migration 16-64'!E14","v":1167},{"$f":"'Total net migration 65+'!E14","v":46},{"$f":"'Total in-migration'!E14","v":4402},{"$f":"'Total out-migration'!E14","v":2843},{"$f":"'Within Scotland net migration'!E14","v":1093},{"$f":"'Within Scotland in-migration'!E14","v":3186},{"$f":"'Within Scotland out-migration'!E14","v":2093},{"$f":"'Rest of UK net migration'!E14","v":278},{"$f":"'Rest of UK in-migration'!E14","v":834},{"$f":"'Rest of UK out-migration'!E14","v":556},{"$f":"'Overseas net migration'!E14","v":188},{"$f":"'Overseas in-migration'!E14","v":382},{"$f":"'Overseas out-migration'!E14","v":194},{"$f":"WRS!E15","v":185},{"$f":"NINo!E15","v":490},{"$f":"'Non-UK Births'!E15","v":79},{"$f":"'Pupils ethnic group'!F15","v":222},{"$f":"'Pupils with English as an add.'!C14","v":104},{"$f":"'Pop born outside UK'!E15","v":4000}]
[13,"East Renfrewshire",null,{"$f":"'Total net migration'!E15","v":45},{"$f":"'Total net migration 0-15'!E15","v":180},{"$f":"'Total net migration 16-64'!E15","v":-118},{"$f":"'Total net migration 65+'!E15","v":-17},{"$f":"'Total in-migration'!E15","v":3286},{"$f":"'Total out-migration'!E15","v":3241},{"$f":"'Within Scotland net migration'!E15","v":247},{"$f":"'Within Scotland in-migration'!E15","v":2850},{"$f":"'Within Scotland out-migration'!E15","v":2603},{"$f":"'Rest of UK net migration'!E15","v":-194},{"$f":"'Rest of UK in-migration'!E15","v":293},{"$f":"'Rest of UK out-migration'!E15","v":487},{"$f":"'Overseas net migration'!E15","v":-8},{"$f":"'Overseas in-migration'!E15","v":143},{"$f":"'Overseas out-migration'!E15","v":151},{"$f":"WRS!E16","v":75},{"$f":"NINo!E16","v":230},{"$f":"'Non-UK Births'!E16","v":78},{"$f":"'Pupils ethnic group'!F16","v":1778},{"$f":"'Pupils with English as an add.'!C15","v":549},{"$f":"'Pop born outside UK'!E16","v":4000}]
[14,"Edinburgh, City of",null,{"$f":"'Total net migration'!E16","v":4919},{"$f":"'Total net migration 0-15'!E16","v":-86},{"$f":"'Total net migration 16-64'!E16","v":5148},{"$f":"'Total net migration 65+'!E16","v":-143},{"$f":"'Total in-migration'!E16","v":29702},{"$f":"'Total out-migration'!E16","v":24783},{"$f":"'Within Scotland net migration'!E16","v":-1953},{"$f":"'Within Scotland in-migration'!E16","v":11202},{"$f":"'Within Scotland out-migration'!E16","v":13155},{"$f":"'Rest of UK net migration'!E16","v":751},{"$f":"'Rest of UK in-migration'!E16","v":8315},{"$f":"'Rest of UK out-migration'!E16","v":7564},{"$f":"'Overseas net migration'!E16","v":6121},{"$f":"'Overseas in-migration'!E16","v":10185},{"$f":"'Overseas out-migration'!E16","v":4064},{"$f":"WRS!E17","v":2325},{"$f":"NINo!E17","v":13630},{"$f":"'Non-UK Births'!E17","v":1116},{"$f":"'Pupils ethnic group'!F17","v":4326},{"$f":"'Pupils with English as an add.'!C16","v":2211},{"$f":"'Pop born outside UK'!E17","v":48000}]
[15,"Eilean Siar",null,{"$f":"'Total net migration'!E17","v":73},{"$f":"'Total net migration 0-15'!E17","v":11},{"$f":"'Total net migration 16-64'!E17","v":45},{"$f":"'Total net migration 65+'!E17","v":17},{"$f":"'Total in-migration'!E17","v":1034},{"$f":"'Total out-migration'!E17","v":961},{"$f":"'Within Scotland net migration'!E17","v":-52},{"$f":"'Within Scotland in-migration'!E17","v":588},{"$f":"'Within Scotland out-migration'!E17","v":640},{"$f":"'Rest of UK net migration'!E17","v":99},{"$f":"'Rest of UK in-migration'!E17","v":347},{"$f":"'Rest of UK out-migration'!E17","v":248},{"$f":"'Overseas net migration'!E17","v":26},{"$f":"'Overseas in-migration'!E17","v":99},{"$f":"'Overseas out-migration'!E17","v":73},{"$f":"WRS!E18","v":60},{"$f":"NINo!E18","v":130},{"$f":"'Non-UK Births'!E18","v":13},{"$f":"'Pupils ethnic group'!F18","v":54},{"$f":"'Pupils with English as an add.'!C17","v":32},{"$f":"'Pop born outside UK'!E18","v":"*"}]
[16,"Falkirk",null,{"$f":"'Total net migration'!E18","v":935},{"$f":"'Total net migration 0-15'!E18","v":108},{"$f":"'Total net migration 16-64'!E18","v":820},{"$f":"'Total net migration 65+'!E18","v":7},{"$f":"'Total in-migration'!E18","v":4577},{"$f":"'Total out-migration'!E18","v":3642},{"$f":"'Within Scotland net migration'!E18","v":580},{"$f":"'Within Scotland in-migration'!E18","v":3164},{"$f":"'Within Scotland out-migration'!E18","v":2584},{"$f":"'Rest of UK net migration'!E18","v":38},{"$f":"'Rest of UK in-migration'!E18","v":751},{"$f":"'Rest of UK out-migration'!E18","v":713},{"$f":"'Overseas net migration'!E18","v":317},{"$f":"'Overseas in-migration'!E18","v":662},{"$f":"'Overseas out-migration'!E18","v":345},{"$f":"WRS!E19","v":295},{"$f":"NINo!E19","v":670},{"$f":"'Non-UK Births'!E19","v":107},{"$f":"'Pupils ethnic group'!F19","v":506},{"$f":"'Pupils with English as an add.'!C18","v":298},{"$f":"'Pop born outside UK'!E19","v":"*"}]
[17,"Fife",null,{"$f":"'Total net migration'!E19","v":1893},{"$f":"'Total net migration 0-15'!E19","v":368},{"$f":"'Total net migration 16-64'!E19","v":1394},{"$f":"'Total net migration 65+'!E19","v":131},{"$f":"'Total in-migration'!E19","v":11939},{"$f":"'Total out-migration'!E19","v":10046},{"$f":"'Within Scotland net migration'!E19","v":266},{"$f":"'Within Scotland in-migration'!E19","v":6103},{"$f":"'Within Scotland out-migration'!E19","v":5837},{"$f":"'Rest of UK net migration'!E19","v":614},{"$f":"'Rest of UK in-migration'!E19","v":3545},{"$f":"'Rest of UK out-migration'!E19","v":2931},{"$f":"'Overseas net migration'!E19","v":1013},{"$f":"'Overseas in-migration'!E19","v":2291},{"$f":"'Overseas out-migration'!E19","v":1278},{"$f":"WRS!E20","v":1285},{"$f":"NINo!E20","v":2450},{"$f":"'Non-UK Births'!E20","v":322},{"$f":"'Pupils ethnic group'!F20","v":1259},{"$f":"'Pupils with English as an add.'!C19","v":432},{"$f":"'Pop born outside UK'!E20","v":"*"}]
[18,"Glasgow City",null,{"$f":"'Total net migration'!E20","v":2303},{"$f":"'Total net migration 0-15'!E20","v":-550},{"$f":"'Total net migration 16-64'!E20","v":3295},{"$f":"'Total net migration 65+'!E20","v":-442},{"$f":"'Total in-migration'!E20","v":29034},{"$f":"'Total out-migration'!E20","v":26731},{"$f":"'Within Scotland net migration'!E20","v":-2762},{"$f":"'Within Scotland in-migration'!E20","v":13905},{"$f":"'Within Scotland out-migration'!E20","v":16667},{"$f":"'Rest of UK net migration'!E20","v":325},{"$f":"'Rest of UK in-migration'!E20","v":6010},{"$f":"'Rest of UK out-migration'!E20","v":5685},{"$f":"'Overseas net migration'!E20","v":4740},{"$f":"'Overseas in-migration'!E20","v":9119},{"$f":"'Overseas out-migration'!E20","v":4379},{"$f":"WRS!E21","v":2690},{"$f":"NINo!E21","v":10700},{"$f":"'Non-UK Births'!E21","v":1449},{"$f":"'Pupils ethnic group'!F21","v":8853},{"$f":"'Pupils with English as an add.'!C20","v":6365},{"$f":"'Pop born outside UK'!E21","v":57000}]
[19,"Highland",null,{"$f":"'Total net migration'!E21","v":2677},{"$f":"'Total net migration 0-15'!E21","v":499},{"$f":"'Total net migration 16-64'!E21","v":2010},{"$f":"'Total net migration 65+'!E21","v":168},{"$f":"'Total in-migration'!E21","v":9633},{"$f":"'Total out-migration'!E21","v":6956},{"$f":"'Within Scotland net migration'!E21","v":62},{"$f":"'Within Scotland in-migration'!E21","v":4164},{"$f":"'Within Scotland out-migration'!E21","v":4102},{"$f":"'Rest of UK net migration'!E21","v":1643},{"$f":"'Rest of UK in-migration'!E21","v":3696},{"$f":"'Rest of UK out-migration'!E21","v":2053},{"$f":"'Overseas net migration'!E21","v":972},{"$f":"'Overseas in-migration'!E21","v":1773},{"$f":"'Overseas out-migration'!E21","v":801},{"$f":"WRS!E22","v":1630},{"$f":"NINo!E22","v":2960},{"$f":"'Non-UK Births'!E22","v":241},{"$f":"'Pupils ethnic group'!F22","v":631},{"$f":"'Pupils with English as an add.'!C21","v":372},{"$f":"'Pop born outside UK'!E22","v":"*"}]
[20,"Inverclyde",null,{"$f":"'Total net migration'!E22","v":-318},{"$f":"'Total net migration 0-15'!E22","v":-49},{"$f":"'Total net migration 16-64'!E22","v":-259},{"$f":"'Total net migration 65+'!E22","v":-10},{"$f":"'Total in-migration'!E22","v":1618},{"$f":"'Total out-migration'!E22","v":1936},{"$f":"'Within Scotland net migration'!E22","v":-271},{"$f":"'Within Scotland in-migration'!E22","v":1038},{"$f":"'Within Scotland out-migration'!E22","v":1309},{"$f":"'Rest of UK net migration'!E22","v":-64},{"$f":"'Rest of UK in-migration'!E22","v":363},{"$f":"'Rest of UK out-migration'!E22","v":427},{"$f":"'Overseas net migration'!E22","v":17},{"$f":"'Overseas in-migration'!E22","v":217},{"$f":"'Overseas out-migration'!E22","v":200},{"$f":"WRS!E23","v":35},{"$f":"NINo!E23","v":270},{"$f":"'Non-UK Births'!E23","v":32},{"$f":"'Pupils ethnic group'!F23","v":189},{"$f":"'Pupils with English as an add.'!C22","v":20},{"$f":"'Pop born outside UK'!E23","v":"*"}]
[21,"Midlothian",null,{"$f":"'Total net migration'!E23","v":109},{"$f":"'Total net migration 0-15'!E23","v":32},{"$f":"'Total net migration 16-64'!E23","v":99},{"$f":"'Total net migration 65+'!E23","v":-22},{"$f":"'Total in-migration'!E23","v":2953},{"$f":"'Total out-migration'!E23","v":2844},{"$f":"'Within Scotland net migration'!E23","v":-1},{"$f":"'Within Scotland in-migration'!E23","v":2331},{"$f":"'Within Scotland out-migration'!E23","v":2332},{"$f":"'Rest of UK net migration'!E23","v":17},{"$f":"'Rest of UK in-migration'!E23","v":410},{"$f":"'Rest of UK out-migration'!E23","v":393},{"$f":"'Overseas net migration'!E23","v":93},{"$f":"'Overseas in-migration'!E23","v":212},{"$f":"'Overseas out-migration'!E23","v":119},{"$f":"WRS!E24","v":195},{"$f":"NINo!E24","v":240},{"$f":"'Non-UK Births'!E24","v":75},{"$f":"'Pupils ethnic group'!F24","v":226},{"$f":"'Pupils with English as an add.'!C23","v":82},{"$f":"'Pop born outside UK'!E24","v":"*"}]
[22,"Moray",null,{"$f":"'Total net migration'!E24","v":525},{"$f":"'Total net migration 0-15'!E24","v":86},{"$f":"'Total net migration 16-64'!E24","v":347},{"$f":"'Total net migration 65+'!E24","v":92},{"$f":"'Total in-migration'!E24","v":3453},{"$f":"'Total out-migration'!E24","v":2928},{"$f":"'Within Scotland net migration'!E24","v":-168},{"$f":"'Within Scotland in-migration'!E24","v":1549},{"$f":"'Within Scotland out-migration'!E24","v":1717},{"$f":"'Rest of UK net migration'!E24","v":456},{"$f":"'Rest of UK in-migration'!E24","v":1388},{"$f":"'Rest of UK out-migration'!E24","v":932},{"$f":"'Overseas net migration'!E24","v":237},{"$f":"'Overseas in-migration'!E24","v":516},{"$f":"'Overseas out-migration'!E24","v":279},{"$f":"WRS!E25","v":300},{"$f":"NINo!E25","v":560},{"$f":"'Non-UK Births'!E25","v":102},{"$f":"'Pupils ethnic group'!F25","v":201},{"$f":"'Pupils with English as an add.'!C24","v":185},{"$f":"'Pop born outside UK'!E25","v":4000}]
[23,"North Ayrshire",null,{"$f":"'Total net migration'!E25","v":428},{"$f":"'Total net migration 0-15'!E25","v":103},{"$f":"'Total net migration 16-64'!E25","v":242},{"$f":"'Total net migration 65+'!E25","v":83},{"$f":"'Total in-migration'!E25","v":4340},{"$f":"'Total out-migration'!E25","v":3912},{"$f":"'Within Scotland net migration'!E25","v":351},{"$f":"'Within Scotland in-migration'!E25","v":3109},{"$f":"'Within Scotland out-migration'!E25","v":2758},{"$f":"'Rest of UK net migration'!E25","v":124},{"$f":"'Rest of UK in-migration'!E25","v":971},{"$f":"'Rest of UK out-migration'!E25","v":847},{"$f":"'Overseas net migration'!E25","v":-47},{"$f":"'Overseas in-migration'!E25","v":260},{"$f":"'Overseas out-migration'!E25","v":307},{"$f":"WRS!E26","v":80},{"$f":"NINo!E26","v":340},{"$f":"'Non-UK Births'!E26","v":54},{"$f":"'Pupils ethnic group'!F26","v":269},{"$f":"'Pupils with English as an add.'!C25","v":65},{"$f":"'Pop born outside UK'!E26","v":"*"}]
[24,"North Lanarkshire",null,{"$f":"'Total net migration'!E26","v":849},{"$f":"'Total net migration 0-15'!E26","v":377},{"$f":"'Total net migration 16-64'!E26","v":589},{"$f":"'Total net migration 65+'!E26","v":-117},{"$f":"'Total in-migration'!E26","v":8239},{"$f":"'Total out-migration'!E26","v":7390},{"$f":"'Within Scotland net migration'!E26","v":267},{"$f":"'Within Scotland in-migration'!E26","v":5791},{"$f":"'Within Scotland out-migration'!E26","v":5524},{"$f":"'Rest of UK net migration'!E26","v":9},{"$f":"'Rest of UK in-migration'!E26","v":1267},{"$f":"'Rest of UK out-migration'!E26","v":1258},{"$f":"'Overseas net migration'!E26","v":573},{"$f":"'Overseas in-migration'!E26","v":1181},{"$f":"'Overseas out-migration'!E26","v":608},{"$f":"WRS!E27","v":855},{"$f":"NINo!E27","v":1650},{"$f":"'Non-UK Births'!E27","v":190},{"$f":"'Pupils ethnic group'!F27","v":1373},{"$f":"'Pupils with English as an add.'!C26","v":493},{"$f":"'Pop born outside UK'!E27","v":"*"}]
[25,"Orkney Islands",null,{"$f":"'Total net migration'!E27","v":143},{"$f":"'Total net migration 0-15'!E27","v":40},{"$f":"'Total net migration 16-64'!E27","v":80},{"$f":"'Total net migration 65+'!E27","v":23},{"$f":"'Total in-migration'!E27","v":739},{"$f":"'Total out-migration'!E27","v":596},{"$f":"'Within Scotland net migration'!E27","v":-17},{"$f":"'Within Scotland in-migration'!E27","v":363},{"$f":"'Within Scotland out-migration'!E27","v":380},{"$f":"'Rest of UK net migration'!E27","v":157},{"$f":"'Rest of UK in-migration'!E27","v":322},{"$f":"'Rest of UK out-migration'!E27","v":165},{"$f":"'Overseas net migration'!E27","v":3},{"$f":"'Overseas in-migration'!E27","v":54},{"$f":"'Overseas out-migration'!E27","v":51},{"$f":"WRS!E28","v":50},{"$f":"NINo!E28","v":110},{"$f":"'Non-UK Births'!E28","v":6},{"$f":"'Pupils ethnic group'!F28","v":35},{"$f":"'Pupils with English as an add.'!C27","v":6},{"$f":"'Pop born outside UK'!E28","v":"*"}]
[26,"Perth & Kinross",null,{"$f":"'Total net migration'!E28","v":2440},{"$f":"'Total net migration 0-15'!E28","v":436},{"$f":"'Total net migration 16-64'!E28","v":1865},{"$f":"'Total net migration 65+'!E28","v":139},{"$f":"'Total in-migration'!E28","v":7526},{"$f":"'Total out-migration'!E28","v":5086},{"$f":"'Within Scotland net migration'!E28","v":473},{"$f":"'Within Scotland in-migration'!E28","v":3749},{"$f":"'Within Scotland out-migration'!E28","v":3276},{"$f":"'Rest of UK net migration'!E28","v":575},{"$f":"'Rest of UK in-migration'!E28","v":1734},{"$f":"'Rest of UK out-migration'!E28","v":1159},{"$f":"'Overseas net migration'!E28","v":1392},{"$f":"'Overseas in-migration'!E28","v":2043},{"$f":"'Overseas out-migration'!E28","v":651},{"$f":"WRS!E29","v":1850},{"$f":"NINo!E29","v":2450},{"$f":"'Non-UK Births'!E29","v":145},{"$f":"'Pupils ethnic group'!F29","v":369},{"$f":"'Pupils with English as an add.'!C28","v":240},{"$f":"'Pop born outside UK'!E29","v":7000}]
[27,"Renfrewshire",null,{"$f":"'Total net migration'!E29","v":269},{"$f":"'Total net migration 0-15'!E29","v":131},{"$f":"'Total net migration 16-64'!E29","v":127},{"$f":"'Total net migration 65+'!E29","v":11},{"$f":"'Total in-migration'!E29","v":5245},{"$f":"'Total out-migration'!E29","v":4976},{"$f":"'Within Scotland net migration'!E29","v":-224},{"$f":"'Within Scotland in-migration'!E29","v":3488},{"$f":"'Within Scotland out-migration'!E29","v":3712},{"$f":"'Rest of UK net migration'!E29","v":-8},{"$f":"'Rest of UK in-migration'!E29","v":846},{"$f":"'Rest of UK out-migration'!E29","v":854},{"$f":"'Overseas net migration'!E29","v":501},{"$f":"'Overseas in-migration'!E29","v":911},{"$f":"'Overseas out-migration'!E29","v":410},{"$f":"WRS!E30","v":440},{"$f":"NINo!E30","v":1180},{"$f":"'Non-UK Births'!E30","v":123},{"$f":"'Pupils ethnic group'!F30","v":660},{"$f":"'Pupils with English as an add.'!C29","v":98},{"$f":"'Pop born outside UK'!E30","v":7000}]
[28,"Scottish Borders",null,{"$f":"'Total net migration'!E30","v":1492},{"$f":"'Total net migration 0-15'!E30","v":322},{"$f":"'Total net migration 16-64'!E30","v":1031},{"$f":"'Total net migration 65+'!E30","v":139},{"$f":"'Total in-migration'!E30","v":5150},{"$f":"'Total out-migration'!E30","v":3658},{"$f":"'Within Scotland net migration'!E30","v":547},{"$f":"'Within Scotland in-migration'!E30","v":2591},{"$f":"'Within Scotland out-migration'!E30","v":2044},{"$f":"'Rest of UK net migration'!E30","v":686},{"$f":"'Rest of UK in-migration'!E30","v":1919},{"$f":"'Rest of UK out-migration'!E30","v":1233},{"$f":"'Overseas net migration'!E30","v":259},{"$f":"'Overseas in-migration'!E30","v":640},{"$f":"'Overseas out-migration'!E30","v":381},{"$f":"WRS!E31","v":475},{"$f":"NINo!E31","v":870},{"$f":"'Non-UK Births'!E31","v":126},{"$f":"'Pupils ethnic group'!F31","v":200},{"$f":"'Pupils with English as an add.'!C30","v":171},{"$f":"'Pop born outside UK'!E31","v":5000}]
[29,"Shetland Islands",null,{"$f":"'Total net migration'!E31","v":46},{"$f":"'Total net migration 0-15'!E31","v":23},{"$f":"'Total net migration 16-64'!E31","v":15},{"$f":"'Total net migration 65+'!E31","v":8},{"$f":"'Total in-migration'!E31","v":781},{"$f":"'Total out-migration'!E31","v":735},{"$f":"'Within Scotland net migration'!E31","v":-102},{"$f":"'Within Scotland in-migration'!E31","v":365},{"$f":"'Within Scotland out-migration'!E31","v":467},{"$f":"'Rest of UK net migration'!E31","v":134},{"$f":"'Rest of UK in-migration'!E31","v":340},{"$f":"'Rest of UK out-migration'!E31","v":206},{"$f":"'Overseas net migration'!E31","v":14},{"$f":"'Overseas in-migration'!E31","v":76},{"$f":"'Overseas out-migration'!E31","v":62},{"$f":"WRS!E32","v":85},{"$f":"NINo!E32","v":170},{"$f":"'Non-UK Births'!E32","v":15},{"$f":"'Pupils ethnic group'!F32","v":52},{"$f":"'Pupils with English as an add.'!C31","v":12},{"$f":"'Pop born outside UK'!E32","v":"*"}]
[30,"South Ayrshire",null,{"$f":"'Total net migration'!E32","v":578},{"$f":"'Total net migration 0-15'!E32","v":220},{"$f":"'Total net migration 16-64'!E32","v":287},{"$f":"'Total net migration 65+'!E32","v":71},{"$f":"'Total in-migration'!E32","v":3918},{"$f":"'Total out-migration'!E32","v":3340},{"$f":"'Within Scotland net migration'!E32","v":294},{"$f":"'Within Scotland in-migration'!E32","v":2601},{"$f":"'Within Scotland out-migration'!E32","v":2307},{"$f":"'Rest of UK net migration'!E32","v":219},{"$f":"'Rest of UK in-migration'!E32","v":984},{"$f":"'Rest of UK out-migration'!E32","v":765},{"$f":"'Overseas net migration'!E32","v":65},{"$f":"'Overseas in-migration'!E32","v":333},{"$f":"'Overseas out-migration'!E32","v":268},{"$f":"WRS!E33","v":110},{"$f":"NINo!E33","v":490},{"$f":"'Non-UK Births'!E33","v":62},{"$f":"'Pupils ethnic group'!F33","v":277},{"$f":"'Pupils with English as an add.'!C32","v":63},{"$f":"'Pop born outside UK'!E33","v":"*"}]
[31,"South Lanarkshire",null,{"$f":"'Total net migration'!E33","v":1651},{"$f":"'Total net migration 0-15'!E33","v":430},{"$f":"'Total net migration 16-64'!E33","v":1014},{"$f":"'Total net migration 65+'!E33","v":207},{"$f":"'Total in-migration'!E33","v":9270},{"$f":"'Total out-migration'!E33","v":7619},{"$f":"'Within Scotland net migration'!E33","v":1302},{"$f":"'Within Scotland in-migration'!E33","v":6809},{"$f":"'Within Scotland out-migration'!E33","v":5507},{"$f":"'Rest of UK net migration'!E33","v":276},{"$f":"'Rest of UK in-migration'!E33","v":1741},{"$f":"'Rest of UK out-migration'!E33","v":1465},{"$f":"'Overseas net migration'!E33","v":73},{"$f":"'Overseas in-migration'!E33","v":720},{"$f":"'Overseas out-migration'!E33","v":647},{"$f":"WRS!E34","v":560},{"$f":"NINo!E34","v":1060},{"$f":"'Non-UK Births'!E34","v":195},{"$f":"'Pupils ethnic group'!F34","v":1181},{"$f":"'Pupils with English as an add.'!C33","v":291},{"$f":"'Pop born outside UK'!E34","v":"*"}]
[32,"Stirling",null,{"$f":"'Total net migration'!E34","v":477},{"$f":"'Total net migration 0-15'!E34","v":118},{"$f":"'Total net migration 16-64'!E34","v":317},{"$f":"'Total net migration 65+'!E34","v":42},{"$f":"'Total in-migration'!E34","v":5145},{"$f":"'Total out-migration'!E34","v":4668},{"$f":"'Within Scotland net migration'!E34","v":-356},{"$f":"'Within Scotland in-migration'!E34","v":2981},{"$f":"'Within Scotland out-migration'!E34","v":3337},{"$f":"'Rest of UK net migration'!E34","v":269},{"$f":"'Rest of UK in-migration'!E34","v":1155},{"$f":"'Rest of UK out-migration'!E34","v":886},{"$f":"'Overseas net migration'!E34","v":564},{"$f":"'Overseas in-migration'!E34","v":1009},{"$f":"'Overseas out-migration'!E34","v":445},{"$f":"WRS!E35","v":295},{"$f":"NINo!E35","v":880},{"$f":"'Non-UK Births'!E35","v":82},{"$f":"'Pupils ethnic group'!F35","v":324},{"$f":"'Pupils with English as an add.'!C34","v":106},{"$f":"'Pop born outside UK'!E35","v":5000}]
[33,"West Dunbartonshire",null,{"$f":"'Total net migration'!E35","v":-32},{"$f":"'Total net migration 0-15'!E35","v":13},{"$f":"'Total net migration 16-64'!E35","v":-21},{"$f":"'Total net migration 65+'!E35","v":-24},{"$f":"'Total in-migration'!E35","v":2458},{"$f":"'Total out-migration'!E35","v":2490},{"$f":"'Within Scotland net migration'!E35","v":-108},{"$f":"'Within Scotland in-migration'!E35","v":1782},{"$f":"'Within Scotland out-migration'!E35","v":1890},{"$f":"'Rest of UK net migration'!E35","v":8},{"$f":"'Rest of UK in-migration'!E35","v":445},{"$f":"'Rest of UK out-migration'!E35","v":437},{"$f":"'Overseas net migration'!E35","v":68},{"$f":"'Overseas in-migration'!E35","v":231},{"$f":"'Overseas out-migration'!E35","v":163},{"$f":"WRS!E36","v":35},{"$f":"NINo!E36","v":260},{"$f":"'Non-UK Births'!E36","v":49},{"$f":"'Pupils ethnic group'!F36","v":245},{"$f":"'Pupils with English as an add.'!C35","v":77},{"$f":"'Pop born outside UK'!E36","v":"*"}]
[34,"West Lothian",null,{"$f":"'Total net migration'!E36","v":1464},{"$f":"'Total net migration 0-15'!E36","v":219},{"$f":"'Total net migration 16-64'!E36","v":1120},{"$f":"'Total net migration 65+'!E36","v":125},{"$f":"'Total in-migration'!E36","v":6712},{"$f":"'Total out-migration'!E36","v":5248},{"$f":"'Within Scotland net migration'!E36","v":504},{"$f":"'Within Scotland in-migration'!E36","v":4312},{"$f":"'Within Scotland out-migration'!E36","v":3808},{"$f":"'Rest of UK net migration'!E36","v":67},{"$f":"'Rest of UK in-migration'!E36","v":1152},{"$f":"'Rest of UK out-migration'!E36","v":1085},{"$f":"'Overseas net migration'!E36","v":893},{"$f":"'Overseas in-migration'!E36","v":1248},{"$f":"'Overseas out-migration'!E36","v":355},{"$f":"WRS!E37","v":900},{"$f":"NINo!E37","v":1850},{"$f":"'Non-UK Births'!E37","v":227},{"$f":"'Pupils ethnic group'!F37","v":949},{"$f":"'Pupils with English as an add.'!C36","v":289},{"$f":"'Pop born outside UK'!E37","v":9000}]
[]
[35,"Not specified"]
[36,"SCOTLAND",null,{"$f":"'Total net migration'!E39","v":33049},{"$f":"'Total net migration 0-15'!E4","v":5380},{"$f":"'Total net migration 16-64'!E39","v":26935},{"$f":"'Total net migration 65+'!E39","v":734},{"$f":"'Total in-migration'!E39","v":96646},{"$f":"'Total out-migration'!E39","v":63597},null,null,null,{"$f":"'Rest of UK net migration'!E39","v":8849},{"$f":"'Rest of UK in-migration'!E39","v":51546},{"$f":"'Rest of UK out-migration'!E39","v":42697},{"$f":"'Overseas net migration'!E39","v":24200},{"$f":"'Overseas in-migration'!E39","v":45100},{"$f":"'Overseas out-migration'!E39","v":20900},null,null,{"$f":"'Non-UK Births'!E40","v":6350},null,null,null,{"$f":"'NHS Overseas'!$E$5","v":51929}]
[37,"Ayrshire & Arran",null,{"$f":"'Total net migration'!E40","v":1331},{"$f":"'Total net migration 0-15'!E40","v":403},{"$f":"'Total net migration 16-64'!E40","v":805},{"$f":"'Total net migration 65+'!E40","v":123},{"$f":"'Total in-migration'!E40","v":9104},{"$f":"'Total out-migration'!E40","v":7773},{"$f":"'Within Scotland net migration'!E40","v":891},{"$f":"'Within Scotland in-migration'!E40","v":5606},{"$f":"'Within Scotland out-migration'!E40","v":4715},{"$f":"'Rest of UK net migration'!E40","v":489},{"$f":"'Rest of UK in-migration'!E40","v":2742},{"$f":"'Rest of UK out-migration'!E40","v":2253},{"$f":"'Overseas net migration'!E40","v":-49},{"$f":"'Overseas in-migration'!E40","v":756},{"$f":"'Overseas out-migration'!E40","v":805},null,null,{"$f":"'Non-UK Births'!E41","v":167}]
[38,"Borders",null,{"$f":"'Total net migration'!E41","v":1492},{"$f":"'Total net migration 0-15'!E41","v":322},{"$f":"'Total net migration 16-64'!E41","v":1031},{"$f":"'Total net migration 65+'!E41","v":139},{"$f":"'Total in-migration'!E41","v":5150},{"$f":"'Total out-migration'!E41","v":3658},{"$f":"'Within Scotland net migration'!E41","v":547},{"$f":"'Within Scotland in-migration'!E41","v":2591},{"$f":"'Within Scotland out-migration'!E41","v":2044},{"$f":"'Rest of UK net migration'!E41","v":686},{"$f":"'Rest of UK in-migration'!E41","v":1919},{"$f":"'Rest of UK out-migration'!E41","v":1233},{"$f":"'Overseas net migration'!E41","v":259},{"$f":"'Overseas in-migration'!E41","v":640},{"$f":"'Overseas out-migration'!E41","v":381},null,null,{"$f":"'Non-UK Births'!E42","v":126}]
[39,"Dumfries & Galloway",null,{"$f":"'Total net migration'!E42","v":712},{"$f":"'Total net migration 0-15'!E42","v":195},{"$f":"'Total net migration 16-64'!E42","v":404},{"$f":"'Total net migration 65+'!E42","v":113},{"$f":"'Total in-migration'!E42","v":4672},{"$f":"'Total out-migration'!E42","v":3960},{"$f":"'Within Scotland net migration'!E42","v":-56},{"$f":"'Within Scotland in-migration'!E42","v":1728},{"$f":"'Within Scotland out-migration'!E42","v":1784},{"$f":"'Rest of UK net migration'!E42","v":736},{"$f":"'Rest of UK in-migration'!E42","v":2451},{"$f":"'Rest of UK out-migration'!E42","v":1715},{"$f":"'Overseas net migration'!E42","v":32},{"$f":"'Overseas in-migration'!E42","v":493},{"$f":"'Overseas out-migration'!E42","v":461},null,null,{"$f":"'Non-UK Births'!E43","v":86}]
[40,"Fife",null,{"$f":"'Total net migration'!E43","v":1891},{"$f":"'Total net migration 0-15'!E43","v":369},{"$f":"'Total net migration 16-64'!E43","v":1391},{"$f":"'Total net migration 65+'!E43","v":131},{"$f":"'Total in-migration'!E43","v":11935},{"$f":"'Total out-migration'!E43","v":10044},{"$f":"'Within Scotland net migration'!E43","v":264},{"$f":"'Within Scotland in-migration'!E43","v":6099},{"$f":"'Within Scotland out-migration'!E43","v":5835},{"$f":"'Rest of UK net migration'!E43","v":614},{"$f":"'Rest of UK in-migration'!E43","v":3545},{"$f":"'Rest of UK out-migration'!E43","v":2931},{"$f":"'Overseas net migration'!E43","v":1013},{"$f":"'Overseas in-migration'!E43","v":2291},{"$f":"'Overseas out-migration'!E43","v":1278},null,null,{"$f":"'Non-UK Births'!E44","v":322}]
[41,"Forth Valley",null,{"$f":"'Total net migration'!E44","v":2153},{"$f":"'Total net migration 0-15'!E44","v":450},{"$f":"'Total net migration 16-64'!E44","v":1640},{"$f":"'Total net migration 65+'!E44","v":63},{"$f":"'Total in-migration'!E44","v":10256},{"$f":"'Total out-migration'!E44","v":8103},{"$f":"'Within Scotland net migration'!E44","v":618},{"$f":"'Within Scotland in-migration'!E44","v":5984},{"$f":"'Within Scotland out-migration'!E44","v":5366},{"$f":"'Rest of UK net migration'!E44","v":496},{"$f":"'Rest of UK in-migration'!E44","v":2353},{"$f":"'Rest of UK out-migration'!E44","v":1857},{"$f":"'Overseas net migration'!E44","v":1039},{"$f":"'Overseas in-migration'!E44","v":1919},{"$f":"'Overseas out-migration'!E44","v":880},null,null,{"$f":"'Non-UK Births'!E45","v":242}]
[42,"Grampian",null,{"$f":"'Total net migration'!E45","v":6161},{"$f":"'Total net migration 0-15'!E45","v":1111},{"$f":"'Total net migration 16-64'!E45","v":4881},{"$f":"'Total net migration 65+'!E45","v":169},{"$f":"'Total in-migration'!E45","v":20237},{"$f":"'Total out-migration'!E45","v":14076},{"$f":"'Within Scotland net migration'!E45","v":-187},{"$f":"'Within Scotland in-migration'!E45","v":6458},{"$f":"'Within Scotland out-migration'!E45","v":6645},{"$f":"'Rest of UK net migration'!E45","v":1523},{"$f":"'Rest of UK in-migration'!E45","v":6402},{"$f":"'Rest of UK out-migration'!E45","v":4879},{"$f":"'Overseas net migration'!E45","v":4825},{"$f":"'Overseas in-migration'!E45","v":7377},{"$f":"'Overseas out-migration'!E45","v":2552},null,null,{"$f":"'Non-UK Births'!E46","v":927}]
[43,"Greater Glasgow & Clyde",null,{"$f":"'Total net migration'!E46","v":2705},{"$f":"'Total net migration 0-15'!E46","v":69},{"$f":"'Total net migration 16-64'!E46","v":3247},{"$f":"'Total net migration 65+'!E46","v":-611},{"$f":"'Total in-migration'!E46","v":38261},{"$f":"'Total out-migration'!E46","v":35556},{"$f":"'Within Scotland net migration'!E46","v":-2564},{"$f":"'Within Scotland in-migration'!E46","v":18605},{"$f":"'Within Scotland out-migration'!E46","v":21169},{"$f":"'Rest of UK net migration'!E46","v":-70},{"$f":"'Rest of UK in-migration'!E46","v":8675},{"$f":"'Rest of UK out-migration'!E46","v":8745},{"$f":"'Overseas net migration'!E46","v":5339},{"$f":"'Overseas in-migration'!E46","v":10981},{"$f":"'Overseas out-migration'!E46","v":5642},null,null,{"$f":"'Non-UK Births'!E47","v":1866}]
[44,"Highland",null,{"$f":"'Total net migration'!E47","v":3055},{"$f":"'Total net migration 0-15'!E47","v":622},{"$f":"'Total net migration 16-64'!E47","v":2235},{"$f":"'Total net migration 65+'!E47","v":198},{"$f":"'Total in-migration'!E47","v":13615},{"$f":"'Total out-migration'!E47","v":10560},{"$f":"'Within Scotland net migration'!E47","v":-169},{"$f":"'Within Scotland in-migration'!E47","v":6038},{"$f":"'Within Scotland out-migration'!E47","v":6207},{"$f":"'Rest of UK net migration'!E47","v":2115},{"$f":"'Rest of UK in-migration'!E47","v":5263},{"$f":"'Rest of UK out-migration'!E47","v":3148},{"$f":"'Overseas net migration'!E47","v":1109},{"$f":"'Overseas in-migration'!E47","v":2314},{"$f":"'Overseas out-migration'!E47","v":1205},null,null,{"$f":"'Non-UK Births'!E48","v":314}]
[45,"Lanarkshire",null,{"$f":"'Total net migration'!E48","v":1773},{"$f":"'Total net migration 0-15'!E48","v":669},{"$f":"'Total net migration 16-64'!E48","v":945},{"$f":"'Total net migration 65+'!E48","v":159},{"$f":"'Total in-migration'!E48","v":12635},{"$f":"'Total out-migration'!E48","v":10862},{"$f":"'Within Scotland net migration'!E48","v":845},{"$f":"'Within Scotland in-migration'!E48","v":8184},{"$f":"'Within Scotland out-migration'!E48","v":7339},{"$f":"'Rest of UK net migration'!E48","v":294},{"$f":"'Rest of UK in-migration'!E48","v":2690},{"$f":"'Rest of UK out-migration'!E48","v":2396},{"$f":"'Overseas net migration'!E48","v":634},{"$f":"'Overseas in-migration'!E48","v":1761},{"$f":"'Overseas out-migration'!E48","v":1127},null,null,{"$f":"'Non-UK Births'!E49","v":324}]
[46,"Lothian",null,{"$f":"'Total net migration'!E49","v":8051},{"$f":"'Total net migration 0-15'!E49","v":511},{"$f":"'Total net migration 16-64'!E49","v":7534},{"$f":"'Total net migration 65+'!E49","v":6},{"$f":"'Total in-migration'!E49","v":34655},{"$f":"'Total out-migration'!E49","v":26604},{"$f":"'Within Scotland net migration'!E49","v":-357},{"$f":"'Within Scotland in-migration'!E49","v":11917},{"$f":"'Within Scotland out-migration'!E49","v":12274},{"$f":"'Rest of UK net migration'!E49","v":1113},{"$f":"'Rest of UK in-migration'!E49","v":10711},{"$f":"'Rest of UK out-migration'!E49","v":9598},{"$f":"'Overseas net migration'!E49","v":7295},{"$f":"'Overseas in-migration'!E49","v":12027},{"$f":"'Overseas out-migration'!E49","v":4732},null,null,{"$f":"'Non-UK Births'!E50","v":1497}]
[47,"Orkney",null,{"$f":"'Total net migration'!E50","v":143},{"$f":"'Total net migration 0-15'!E50","v":40},{"$f":"'Total net migration 16-64'!E50","v":80},{"$f":"'Total net migration 65+'!E50","v":23},{"$f":"'Total in-migration'!E50","v":739},{"$f":"'Total out-migration'!E50","v":596},{"$f":"'Within Scotland net migration'!E50","v":-17},{"$f":"'Within Scotland in-migration'!E50","v":363},{"$f":"'Within Scotland out-migration'!E50","v":380},{"$f":"'Rest of UK net migration'!E50","v":157},{"$f":"'Rest of UK in-migration'!E50","v":322},{"$f":"'Rest of UK out-migration'!E50","v":165},{"$f":"'Overseas net migration'!E50","v":3},{"$f":"'Overseas in-migration'!E50","v":54},{"$f":"'Overseas out-migration'!E50","v":51},null,null,{"$f":"'Non-UK Births'!E51","v":6}]
[48,"Shetland",null,{"$f":"'Total net migration'!E51","v":46},{"$f":"'Total net migration 0-15'!E51","v":23},{"$f":"'Total net migration 16-64'!E51","v":15},{"$f":"'Total net migration 65+'!E51","v":8},{"$f":"'Total in-migration'!E51","v":781},{"$f":"'Total out-migration'!E51","v":735},{"$f":"'Within Scotland net migration'!E51","v":-102},{"$f":"'Within Scotland in-migration'!E51","v":365},{"$f":"'Within Scotland out-migration'!E51","v":467},{"$f":"'Rest of UK net migration'!E51","v":134},{"$f":"'Rest of UK in-migration'!E51","v":340},{"$f":"'Rest of UK out-migration'!E51","v":206},{"$f":"'Overseas net migration'!E51","v":14},{"$f":"'Overseas in-migration'!E51","v":76},{"$f":"'Overseas out-migration'!E51","v":62},null,null,{"$f":"'Non-UK Births'!E52","v":15}]
[49,"Tayside",null,{"$f":"'Total net migration'!E52","v":3463},{"$f":"'Total net migration 0-15'!E52","v":585},{"$f":"'Total net migration 16-64'!E52","v":2682},{"$f":"'Total net migration 65+'!E52","v":196},{"$f":"'Total in-migration'!E52","v":14789},{"$f":"'Total out-migration'!E52","v":11326},{"$f":"'Within Scotland net migration'!E52","v":339},{"$f":"'Within Scotland in-migration'!E52","v":6691},{"$f":"'Within Scotland out-migration'!E52","v":6352},{"$f":"'Rest of UK net migration'!E52","v":463},{"$f":"'Rest of UK in-migration'!E52","v":3786},{"$f":"'Rest of UK out-migration'!E52","v":3323},{"$f":"'Overseas net migration'!E52","v":2661},{"$f":"'Overseas in-migration'!E52","v":4312},{"$f":"'Overseas out-migration'!E52","v":1651},null,null,{"$f":"'Non-UK Births'!E53","v":445}]
[50,"Western Isles",null,{"$f":"'Total net migration'!E53","v":73},{"$f":"'Total net migration 0-15'!E53","v":11},{"$f":"'Total net migration 16-64'!E53","v":45},{"$f":"'Total net migration 65+'!E53","v":17},{"$f":"'Total in-migration'!E53","v":1034},{"$f":"'Total out-migration'!E53","v":961},{"$f":"'Within Scotland net migration'!E53","v":-52},{"$f":"'Within Scotland in-migration'!E53","v":588},{"$f":"'Within Scotland out-migration'!E53","v":640},{"$f":"'Rest of UK net migration'!E53","v":99},{"$f":"'Rest of UK in-migration'!E53","v":347},{"$f":"'Rest of UK out-migration'!E53","v":248},{"$f":"'Overseas net migration'!E53","v":26},{"$f":"'Overseas in-migration'!E53","v":99},{"$f":"'Overseas out-migration'!E53","v":73},null,null,{"$f":"'Non-UK Births'!E54","v":13}]

{"sheet":"2007 Rate","index":42,"n_rows":53,"n_cols":27,"rows_kept":53,"cut":false,"hidden":true,"merged":[]}
[null,2007,"RATE"]
[null,null,"Not specified ",{"$f":"'Comparing Indicators'!$U8","v":"Total net migration"},{"$f":"'Comparing Indicators'!$U9","v":"Total net migration for ages 0-15"},{"$f":"'Comparing Indicators'!$U10","v":"Total net migration for ages 16-64"},{"$f":"'Comparing Indicators'!$U11","v":"Total net migration for people aged 65+"},{"$f":"'Comparing Indicators'!$U12","v":"Total in-migration"},{"$f":"'Comparing Indicators'!$U13","v":"Total out-migration"},{"$f":"'Comparing Indicators'!$U14","v":"Within Scotland net migration"},{"$f":"'Comparing Indicators'!$U15","v":"Within Scotland in-migration"},{"$f":"'Comparing Indicators'!$U16","v":"Within Scotland out-migration"},{"$f":"'Comparing Indicators'!$U17","v":"Rest of UK net migration"},{"$f":"'Comparing Indicators'!$U18","v":"Rest of UK in-migration"},{"$f":"'Comparing Indicators'!$U19","v":"Rest of UK out-migration"},{"$f":"'Comparing Indicators'!$U20","v":"Overseas net migration"},{"$f":"'Comparing Indicators'!$U21","v":"Overseas in-migration"},{"$f":"'Comparing Indicators'!$U22","v":"Overseas out-migration"},{"$f":"'Comparing Indicators'!$U23","v":"Worker Registration Scheme"},{"$f":"'Comparing Indicators'!$U24","v":"NINo Allocation"},{"$f":"'Comparing Indicators'!$U25","v":"Births to non-UK mothers"},{"$f":"'Comparing Indicators'!$U26","v":"Pupils from a minority ethnic group"},{"$f":"'Comparing Indicators'!$U27","v":"Pupils with English as an additional language"},{"$f":"'Comparing Indicators'!$U28","v":"Estimate of resident population born outside the UK"},"NHS registrations from overseas",null,"Mid-year population estimate"]
[1,"Not specified"]
[2,"SCOTLAND",null,{"$f":"('2007'!D4/'2007 Rate'!$AA4)*1000","v":6.3924564796905221},{"$f":"('2007'!E4/'2007 Rate'!$AA4)*1000","v":1.0406189555125727},{"$f":"('2007'!F4/'2007 Rate'!$AA4)*1000","v":5.2098646034816252},{"$f":"('2007'!G4/'2007 Rate'!$AA4)*1000","v":0.14197292069632494},{"$f":"('2007'!H4/'2007 Rate'!$AA4)*1000","v":18.693617021276594},{"$f":"('2007'!I4/'2007 Rate'!$AA4)*1000","v":12.301160541586073},null,null,null,{"$f":"('2007'!M4/'2007 Rate'!$AA4)*1000","v":1.711605415860735},{"$f":"('2007'!N4/'2007 Rate'!$AA4)*1000","v":9.9702127659574469},{"$f":"('2007'!O4/'2007 Rate'!$AA4)*1000","v":8.2586073500967121},{"$f":"('2007'!P4/'2007 Rate'!$AA4)*1000","v":4.6808510638297873},{"$f":"('2007'!Q4/'2007 Rate'!$AA4)*1000","v":8.7234042553191475},{"$f":"('2007'!R4/'2007 Rate'!$AA4)*1000","v":4.042553191489362},{"$f":"('2007'!S4/'2007 Rate'!$AA4)*1000","v":3.7969052224371374},{"$f":"('2007'!T4/'2007 Rate'!$AA4)*1000","v":11.040618955512572},{"$f":"('2007'!U4/'2007 Rate'!$AA4)*1000","v":1.2282398452611218},{"$f":"('2007'!V4/'2007 Rate'!$AA4)*1000","v":5.7825918762088975},{"$f":"('2007'!W4/'2007 Rate'!$AA4)*1000","v":2.9808510638297876},{"$f":"('2007'!X4/'2007 Rate'!$AA4)*1000","v":49.323017408123789},{"$f":"('2007'!Y4/'2007 Rate'!$AA4)*1000","v":10.044294003868472},"SCOTLAND",{"$f":"'Population estimates'!E4","v":5170000}]
[3,"Aberdeen City",null,{"$f":"('2007'!D5/'2007 Rate'!$AA5)*1000","v":13.899086886943424},{"$f":"('2007'!E5/'2007 Rate'!$AA5)*1000","v":1.5673538548432646},{"$f":"('2007'!F5/'2007 Rate'!$AA5)*1000","v":13.065988892026734},{"$f":"('2007'!G5/'2007 Rate'!$AA5)*1000","v":-0.73425585992657449},{"$f":"('2007'!H5/'2007 Rate'!$AA5)*1000","v":63.593146945307346},{"$f":"('2007'!I5/'2007 Rate'!$AA5)*1000","v":49.694060058363931},{"$f":"('2007'!J5/'2007 Rate'!$AA5)*1000","v":-5.2527534594747243},{"$f":"('2007'!K5/'2007 Rate'!$AA5)*1000","v":26.50381248234962},{"$f":"('2007'!L5/'2007 Rate'!$AA5)*1000","v":31.756565941824341},{"$f":"('2007'!M5/'2007 Rate'!$AA5)*1000","v":1.4920455615174621},{"$f":"('2007'!N5/'2007 Rate'!$AA5)*1000","v":11.908123882142521},{"$f":"('2007'!O5/'2007 Rate'!$AA5)*1000","v":10.416078320625058},{"$f":"('2007'!P5/'2007 Rate'!$AA5)*1000","v":17.659794784900686},{"$f":"('2007'!Q5/'2007 Rate'!$AA5)*1000","v":25.181210580815211},{"$f":"('2007'!R5/'2007 Rate'!$AA5)*1000","v":7.5214157959145256},{"$f":"('2007'!S5/'2007 Rate'!$AA5)*1000","v":5.8363927327496947},{"$f":"('2007'!T5/'2007 Rate'!$AA5)*1000","v":29.935046597006497},{"$f":"('2007'!U5/'2007 Rate'!$AA5)*1000","v":2.6122564247387743},{"$f":"('2007'!V5/'2007 Rate'!$AA5)*1000","v":7.3049044526028437},{"$f":"('2007'!W5/'2007 Rate'!$AA5)*1000","v":5.5586934011107969},{"$f":"('2007'!X5/'2007 Rate'!$AA5)*1000","v":94.13536665725313},null,"Aberdeen City",{"$f":"'Population estimates'!E5","v":212460}]
[4,"Aberdeenshire",null,{"$f":"('2007'!D6/'2007 Rate'!$AA6)*1000","v":10.978354269814639},{"$f":"('2007'!E6/'2007 Rate'!$AA6)*1000","v":2.8315397520356806},{"$f":"('2007'!F6/'2007 Rate'!$AA6)*1000","v":7.1934203527149227},{"$f":"('2007'!G6/'2007 Rate'!$AA6)*1000","v":0.95339416506403696},{"$f":"('2007'!H6/'2007 Rate'!$AA6)*1000","v":40.648144359425508},{"$f":"('2007'!I6/'2007 Rate'!$AA6)*1000","v":29.669790089610867},{"$f":"('2007'!J6/'2007 Rate'!$AA6)*1000","v":4.4887270346577193},{"$f":"('2007'!K6/'2007 Rate'!$AA6)*1000","v":24.301321658005648},{"$f":"('2007'!L6/'2007 Rate'!$AA6)*1000","v":19.812594623347927},{"$f":"('2007'!M6/'2007 Rate'!$AA6)*1000","v":3.0688653381889606},{"$f":"('2007'!N6/'2007 Rate'!$AA6)*1000","v":10.164082000081837},{"$f":"('2007'!O6/'2007 Rate'!$AA6)*1000","v":7.0952166618928763},{"$f":"('2007'!P6/'2007 Rate'!$AA6)*1000","v":3.420761896967961},{"$f":"('2007'!Q6/'2007 Rate'!$AA6)*1000","v":6.1827407013380249},{"$f":"('2007'!R6/'2007 Rate'!$AA6)*1000","v":2.7619788043700639},{"$f":"('2007'!S6/'2007 Rate'!$AA6)*1000","v":5.2170710749212326},{"$f":"('2007'!T6/'2007 Rate'!$AA6)*1000","v":8.1836409018372276},{"$f":"('2007'!U6/'2007 Rate'!$AA6)*1000","v":1.1047915217480258},{"$f":"('2007'!V6/'2007 Rate'!$AA6)*1000","v":2.3036949138671798},{"$f":"('2007'!W6/'2007 Rate'!$AA6)*1000","v":1.8126764597569458},{"$f":"('2007'!X6/'2007 Rate'!$AA6)*1000","v":36.826384058267529},null,"Aberdeenshire",{"$f":"'Population estimates'!E6","v":244390}]
[5,"Angus",null,{"$f":"('2007'!D7/'2007 Rate'!$AA7)*1000","v":6.6584463625154129},{"$f":"('2007'!E7/'2007 Rate'!$AA7)*1000","v":1.4620398097586753},{"$f":"('2007'!F7/'2007 Rate'!$AA7)*1000","v":4.350889554342082},{"$f":"('2007'!G7/'2007 Rate'!$AA7)*1000","v":0.84551699841465566},{"$f":"('2007'!H7/'2007 Rate'!$AA7)*1000","v":36.815219305971468},{"$f":"('2007'!I7/'2007 Rate'!$AA7)*1000","v":30.156772943456051},{"$f":"('2007'!J7/'2007 Rate'!$AA7)*1000","v":3.4525277435265105},{"$f":"('2007'!K7/'2007 Rate'!$AA7)*1000","v":25.832305795314426},{"$f":"('2007'!L7/'2007 Rate'!$AA7)*1000","v":22.379778051787916},{"$f":"('2007'!M7/'2007 Rate'!$AA7)*1000","v":1.3915800598907873},{"$f":"('2007'!N7/'2007 Rate'!$AA7)*1000","v":7.2485467676589748},{"$f":"('2007'!O7/'2007 Rate'!$AA7)*1000","v":5.856966707768188},{"$f":"('2007'!P7/'2007 Rate'!$AA7)*1000","v":1.8143385590981151},{"$f":"('2007'!Q7/'2007 Rate'!$AA7)*1000","v":3.7343667429980623},{"$f":"('2007'!R7/'2007 Rate'!$AA7)*1000","v":1.9200281838999471},{"$f":"('2007'!S7/'2007 Rate'!$AA7)*1000","v":8.8955434208208555},{"$f":"('2007'!T7/'2007 Rate'!$AA7)*1000","v":8.1028712348071164},{"$f":"('2007'!U7/'2007 Rate'!$AA7)*1000","v":0.74863484234630961},{"$f":"('2007'!V7/'2007 Rate'!$AA7)*1000","v":5.4518231460278317},{"$f":"('2007'!W7/'2007 Rate'!$AA7)*1000","v":0.88074687334859958},{"$f":"('2007'!X7/'2007 Rate'!$AA7)*1000","v":35.229874933943989},null,"Angus",{"$f":"'Population estimates'!E7","v":113540}]
[6,"Argyll & Bute",null,{"$f":"('2007'!D8/'2007 Rate'!$AA8)*1000","v":4.1634541249036232},{"$f":"('2007'!E8/'2007 Rate'!$AA8)*1000","v":1.354774754928957},{"$f":"('2007'!F8/'2007 Rate'!$AA8)*1000","v":2.4782465029188239},{"$f":"('2007'!G8/'2007 Rate'!$AA8)*1000","v":0.33043286705584318},{"$f":"('2007'!H8/'2007 Rate'!$AA8)*1000","v":47.461174138120938},{"$f":"('2007'!I8/'2007 Rate'!$AA8)*1000","v":43.297720013217315},{"$f":"('2007'!J8/'2007 Rate'!$AA8)*1000","v":-2.5443330763299925},{"$f":"('2007'!K8/'2007 Rate'!$AA8)*1000","v":24.242758012997026},{"$f":"('2007'!L8/'2007 Rate'!$AA8)*1000","v":26.787091089327017},{"$f":"('2007'!M8/'2007 Rate'!$AA8)*1000","v":5.1988104416785994},{"$f":"('2007'!N8/'2007 Rate'!$AA8)*1000","v":17.259610089216874},{"$f":"('2007'!O8/'2007 Rate'!$AA8)*1000","v":12.060799647538275},{"$f":"('2007'!P8/'2007 Rate'!$AA8)*1000","v":1.5089767595550172},{"$f":"('2007'!Q8/'2007 Rate'!$AA8)*1000","v":5.9588060359070383},{"$f":"('2007'!R8/'2007 Rate'!$AA8)*1000","v":4.4498292763520206},{"$f":"('2007'!S8/'2007 Rate'!$AA8)*1000","v":3.194184381539817},{"$f":"('2007'!T8/'2007 Rate'!$AA8)*1000","v":8.4811102544333075},{"$f":"('2007'!U8/'2007 Rate'!$AA8)*1000","v":0.80405330983588508},{"$f":"('2007'!V8/'2007 Rate'!$AA8)*1000","v":1.960568344531336},{"$f":"('2007'!W8/'2007 Rate'!$AA8)*1000","v":0.6168080185042405},{"$f":"('2007'!X8/'2007 Rate'!$AA8)*1000","v":33.043286705584322},null,"Argyll & Bute",{"$f":"'Population estimates'!E8","v":90790}]
[7,"Clackmannanshire",null,{"$f":"('2007'!D9/'2007 Rate'!$AA9)*1000","v":14.644268774703557},{"$f":"('2007'!E9/'2007 Rate'!$AA9)*1000","v":4.4268774703557314},{"$f":"('2007'!F9/'2007 Rate'!$AA9)*1000","v":9.9407114624505937},{"$f":"('2007'!G9/'2007 Rate'!$AA9)*1000","v":0.27667984189723321},{"$f":"('2007'!H9/'2007 Rate'!$AA9)*1000","v":44.822134387351774},{"$f":"('2007'!I9/'2007 Rate'!$AA9)*1000","v":30.177865612648223},{"$f":"('2007'!J9/'2007 Rate'!$AA9)*1000","v":7.7865612648221347},{"$f":"('2007'!K9/'2007 Rate'!$AA9)*1000","v":31.086956521739129},{"$f":"('2007'!L9/'2007 Rate'!$AA9)*1000","v":23.300395256916996},{"$f":"('2007'!M9/'2007 Rate'!$AA9)*1000","v":3.735177865612648},{"$f":"('2007'!N9/'2007 Rate'!$AA9)*1000","v":8.8339920948616601},{"$f":"('2007'!O9/'2007 Rate'!$AA9)*1000","v":5.0988142292490126},{"$f":"('2007'!P9/'2007 Rate'!$AA9)*1000","v":3.1225296442687749},{"$f":"('2007'!Q9/'2007 Rate'!$AA9)*1000","v":4.9011857707509883},{"$f":"('2007'!R9/'2007 Rate'!$AA9)*1000","v":1.7786561264822134},{"$f":"('2007'!S9/'2007 Rate'!$AA9)*1000","v":0.88932806324110669},{"$f":"('2007'!T9/'2007 Rate'!$AA9)*1000","v":4.150197628458498},{"$f":"('2007'!U9/'2007 Rate'!$AA9)*1000","v":1.0474308300395256},{"$f":"('2007'!V9/'2007 Rate'!$AA9)*1000","v":3.8932806324110674},{"$f":"('2007'!W9/'2007 Rate'!$AA9)*1000","v":1.0671936758893281},null,null,"Clackmannanshire",{"$f":"'Population estimates'!E9","v":50600}]
[8,"Dumfries & Galloway",null,{"$f":"('2007'!D10/'2007 Rate'!$AA10)*1000","v":4.7349870319877638},{"$f":"('2007'!E10/'2007 Rate'!$AA10)*1000","v":1.2968012236483342},{"$f":"('2007'!F10/'2007 Rate'!$AA10)*1000","v":2.6867061248919333},{"$f":"('2007'!G10/'2007 Rate'!$AA10)*1000","v":0.75147968344749616},{"$f":"('2007'!H10/'2007 Rate'!$AA10)*1000","v":31.070027266077012},{"$f":"('2007'!I10/'2007 Rate'!$AA10)*1000","v":26.335040234089245},{"$f":"('2007'!J10/'2007 Rate'!$AA10)*1000","v":-0.37241471038106005},{"$f":"('2007'!K10/'2007 Rate'!$AA10)*1000","v":11.491653920329853},{"$f":"('2007'!L10/'2007 Rate'!$AA10)*1000","v":11.864068630710912},{"$f":"('2007'!M10/'2007 Rate'!$AA10)*1000","v":4.8945933364367891},{"$f":"('2007'!N10/'2007 Rate'!$AA10)*1000","v":16.299793841856754},{"$f":"('2007'!O10/'2007 Rate'!$AA10)*1000","v":11.405200505419964},{"$f":"('2007'!P10/'2007 Rate'!$AA10)*1000","v":0.21280840593203432},{"$f":"('2007'!Q10/'2007 Rate'!$AA10)*1000","v":3.2785795038904038},{"$f":"('2007'!R10/'2007 Rate'!$AA10)*1000","v":3.0657710979583692},{"$f":"('2007'!S10/'2007 Rate'!$AA10)*1000","v":1.8620735519053002},{"$f":"('2007'!T10/'2007 Rate'!$AA10)*1000","v":5.3202101483008581},{"$f":"('2007'!U10/'2007 Rate'!$AA10)*1000","v":0.57192259094234221},{"$f":"('2007'!V10/'2007 Rate'!$AA10)*1000","v":2.1812861608033516},{"$f":"('2007'!W10/'2007 Rate'!$AA10)*1000","v":1.1903970206823169},null,null,"Dumfries & Galloway",{"$f":"'Population estimates'!E10","v":150370}]
[9,"Dundee City",null,{"$f":"('2007'!D11/'2007 Rate'!$AA11)*1000","v":1.8441196938065414},{"$f":"('2007'!E11/'2007 Rate'!$AA11)*1000","v":-0.11134307585247043},{"$f":"('2007'!F11/'2007 Rate'!$AA11)*1000","v":2.2268615170494086},{"$f":"('2007'!G11/'2007 Rate'!$AA11)*1000","v":-0.27139874739039666},{"$f":"('2007'!H11/'2007 Rate'!$AA11)*1000","v":46.430062630480172},{"$f":"('2007'!I11/'2007 Rate'!$AA11)*1000","v":44.585942936673625},{"$f":"('2007'!J11/'2007 Rate'!$AA11)*1000","v":-3.6743215031315244},{"$f":"('2007'!K11/'2007 Rate'!$AA11)*1000","v":25.038274182324287},{"$f":"('2007'!L11/'2007 Rate'!$AA11)*1000","v":28.71259568545581},{"$f":"('2007'!M11/'2007 Rate'!$AA11)*1000","v":-1.8789144050104383},{"$f":"('2007'!N11/'2007 Rate'!$AA11)*1000","v":8.5525400139178842},{"$f":"('2007'!O11/'2007 Rate'!$AA11)*1000","v":10.431454418928322},{"$f":"('2007'!P11/'2007 Rate'!$AA11)*1000","v":7.3973556019485036},{"$f":"('2007'!Q11/'2007 Rate'!$AA11)*1000","v":12.839248434237996},{"$f":"('2007'!R11/'2007 Rate'!$AA11)*1000","v":5.4418928322894917},{"$f":"('2007'!S11/'2007 Rate'!$AA11)*1000","v":2.9575504523312457},{"$f":"('2007'!T11/'2007 Rate'!$AA11)*1000","v":13.50034794711204},{"$f":"('2007'!U11/'2007 Rate'!$AA11)*1000","v":1.4961725817675713},{"$f":"('2007'!V11/'2007 Rate'!$AA11)*1000","v":7.4808629088378567},{"$f":"('2007'!W11/'2007 Rate'!$AA11)*1000","v":3.4098816979819069},{"$f":"('2007'!X11/'2007 Rate'!$AA11)*1000","v":55.67153792623521},null,"Dundee City",{"$f":"'Population estimates'!E11","v":143700}]
[10,"East Ayrshire",null,{"$f":"('2007'!D12/'2007 Rate'!$AA12)*1000","v":2.6870607689127741},{"$f":"('2007'!E12/'2007 Rate'!$AA12)*1000","v":0.66143034311699056},{"$f":"('2007'!F12/'2007 Rate'!$AA12)*1000","v":2.2819346837536174},{"$f":"('2007'!G12/'2007 Rate'!$AA12)*1000","v":-0.25630425795783379},{"$f":"('2007'!H12/'2007 Rate'!$AA12)*1000","v":30.359652749069863},{"$f":"('2007'!I12/'2007 Rate'!$AA12)*1000","v":27.67259198015709},{"$f":"('2007'!J12/'2007 Rate'!$AA12)*1000","v":2.0338983050847457},{"$f":"('2007'!K12/'2007 Rate'!$AA12)*1000","v":22.505167424555601},{"$f":"('2007'!L12/'2007 Rate'!$AA12)*1000","v":20.471269119470858},{"$f":"('2007'!M12/'2007 Rate'!$AA12)*1000","v":1.2071103761885076},{"$f":"('2007'!N12/'2007 Rate'!$AA12)*1000","v":6.5068210004133933},{"$f":"('2007'!O12/'2007 Rate'!$AA12)*1000","v":5.2997106242248861},{"$f":"('2007'!P12/'2007 Rate'!$AA12)*1000","v":-0.55394791236047958},{"$f":"('2007'!Q12/'2007 Rate'!$AA12)*1000","v":1.3476643241008681},{"$f":"('2007'!R12/'2007 Rate'!$AA12)*1000","v":1.9016122364613477},{"$f":"('2007'!S12/'2007 Rate'!$AA12)*1000","v":1.6122364613476643},{"$f":"('2007'!T12/'2007 Rate'!$AA12)*1000","v":1.5708970649028524},{"$f":"('2007'!U12/'2007 Rate'!$AA12)*1000","v":0.42166184373708143},{"$f":"('2007'!V12/'2007 Rate'!$AA12)*1000","v":2.0504340636626703},{"$f":"('2007'!W12/'2007 Rate'!$AA12)*1000","v":0.29764365440264573},null,null,"East Ayrshire",{"$f":"'Population estimates'!E12","v":120950}]
[11,"East Dunbartonshire",null,{"$f":"('2007'!D13/'2007 Rate'!$AA13)*1000","v":-2.7510709186101856},{"$f":"('2007'!E13/'2007 Rate'!$AA13)*1000","v":1.9609709662065682},{"$f":"('2007'!F13/'2007 Rate'!$AA13)*1000","v":-4.1408852927177531},{"$f":"('2007'!G13/'2007 Rate'!$AA13)*1000","v":-0.57115659209900038},{"$f":"('2007'!H13/'2007 Rate'!$AA13)*1000","v":33.25083293669681},{"$f":"('2007'!I13/'2007 Rate'!$AA13)*1000","v":36.001903855306992},{"$f":"('2007'!J13/'2007 Rate'!$AA13)*1000","v":-1.618277010947168},{"$f":"('2007'!K13/'2007 Rate'!$AA13)*1000","v":27.348881485007141},{"$f":"('2007'!L13/'2007 Rate'!$AA13)*1000","v":28.967158495954308},{"$f":"('2007'!M13/'2007 Rate'!$AA13)*1000","v":-1.2184673964778676},{"$f":"('2007'!N13/'2007 Rate'!$AA13)*1000","v":3.8077106139933363},{"$f":"('2007'!O13/'2007 Rate'!$AA13)*1000","v":5.0261780104712042},{"$f":"('2007'!P13/'2007 Rate'!$AA13)*1000","v":8.5673488814850068E-2},{"$f":"('2007'!Q13/'2007 Rate'!$AA13)*1000","v":2.0942408376963355},{"$f":"('2007'!R13/'2007 Rate'!$AA13)*1000","v":2.0085673488814852},{"$f":"('2007'!S13/'2007 Rate'!$AA13)*1000","v":0.71394574012375056},{"$f":"('2007'!T13/'2007 Rate'!$AA13)*1000","v":2.5702046644455021},{"$f":"('2007'!U13/'2007 Rate'!$AA13)*1000","v":0.70442646358876726},{"$f":"('2007'!V13/'2007 Rate'!$AA13)*1000","v":9.1194669205140411},{"$f":"('2007'!W13/'2007 Rate'!$AA13)*1000","v":2.4083769633507854},{"$f":"('2007'!X13/'2007 Rate'!$AA13)*1000","v":38.077106139933363},null,"East Dunbartonshire",{"$f":"'Population estimates'!E13","v":105050}]
[12,"East Lothian",null,{"$f":"('2007'!D14/'2007 Rate'!$AA14)*1000","v":16.314357471745502},{"$f":"('2007'!E14/'2007 Rate'!$AA14)*1000","v":3.6207618250313942},{"$f":"('2007'!F14/'2007 Rate'!$AA14)*1000","v":12.212222687316869},{"$f":"('2007'!G14/'2007 Rate'!$AA14)*1000","v":0.48137295939723729},{"$f":"('2007'!H14/'2007 Rate'!$AA14)*1000","v":46.065299288405193},{"$f":"('2007'!I14/'2007 Rate'!$AA14)*1000","v":29.75094181665969},{"$f":"('2007'!J14/'2007 Rate'!$AA14)*1000","v":11.437840100460443},{"$f":"('2007'!K14/'2007 Rate'!$AA14)*1000","v":33.340309753034745},{"$f":"('2007'!L14/'2007 Rate'!$AA14)*1000","v":21.902469652574297},{"$f":"('2007'!M14/'2007 Rate'!$AA14)*1000","v":2.9091670154876517},{"$f":"('2007'!N14/'2007 Rate'!$AA14)*1000","v":8.7275010464629545},{"$f":"('2007'!O14/'2007 Rate'!$AA14)*1000","v":5.8183340309753033},{"$f":"('2007'!P14/'2007 Rate'!$AA14)*1000","v":1.9673503557974046},{"$f":"('2007'!Q14/'2007 Rate'!$AA14)*1000","v":3.9974884889074929},{"$f":"('2007'!R14/'2007 Rate'!$AA14)*1000","v":2.0301381331100878},{"$f":"('2007'!S14/'2007 Rate'!$AA14)*1000","v":1.9359564671410632},{"$f":"('2007'!T14/'2007 Rate'!$AA14)*1000","v":5.1276684805357888},{"$f":"('2007'!U14/'2007 Rate'!$AA14)*1000","v":0.82670573461699459},{"$f":"('2007'!V14/'2007 Rate'!$AA14)*1000","v":2.3231477605692756},{"$f":"('2007'!W14/'2007 Rate'!$AA14)*1000","v":1.088321473419841},{"$f":"('2007'!X14/'2007 Rate'!$AA14)*1000","v":41.858518208455422},null,"East Lothian",{"$f":"'Population estimates'!E14","v":95560}]
[13,"East Renfrewshire",null,{"$f":"('2007'!D15/'2007 Rate'!$AA15)*1000","v":0.50089047195013348},{"$f":"('2007'!E15/'2007 Rate'!$AA15)*1000","v":2.0035618878005339},{"$f":"('2007'!F15/'2007 Rate'!$AA15)*1000","v":-1.313446126447017},{"$f":"('2007'!G15/'2007 Rate'!$AA15)*1000","v":-0.18922528940338382},{"$f":"('2007'!H15/'2007 Rate'!$AA15)*1000","v":36.576135351736418},{"$f":"('2007'!I15/'2007 Rate'!$AA15)*1000","v":36.075244879786283},{"$f":"('2007'!J15/'2007 Rate'!$AA15)*1000","v":2.7493321460373998},{"$f":"('2007'!K15/'2007 Rate'!$AA15)*1000","v":31.723063223508458},{"$f":"('2007'!L15/'2007 Rate'!$AA15)*1000","v":28.973731077471061},{"$f":"('2007'!M15/'2007 Rate'!$AA15)*1000","v":-2.1593944790739092},{"$f":"('2007'!N15/'2007 Rate'!$AA15)*1000","v":3.2613535173642028},{"$f":"('2007'!O15/'2007 Rate'!$AA15)*1000","v":5.420747996438112},{"$f":"('2007'!P15/'2007 Rate'!$AA15)*1000","v":-8.9047195013357089E-2},{"$f":"('2007'!Q15/'2007 Rate'!$AA15)*1000","v":1.5917186108637578},{"$f":"('2007'!R15/'2007 Rate'!$AA15)*1000","v":1.6807658058771149},{"$f":"('2007'!S15/'2007 Rate'!$AA15)*1000","v":0.83481745325022261},{"$f":"('2007'!T15/'2007 Rate'!$AA15)*1000","v":2.5601068566340159},{"$f":"('2007'!U15/'2007 Rate'!$AA15)*1000","v":0.8682101513802315},{"$f":"('2007'!V15/'2007 Rate'!$AA15)*1000","v":19.79073909171861},{"$f":"('2007'!W15/'2007 Rate'!$AA15)*1000","v":6.1108637577916287},{"$f":"('2007'!X15/'2007 Rate'!$AA15)*1000","v":44.523597506678534},null,"East Renfrewshire",{"$f":"'Population estimates'!E15","v":89840}]
[14,"Edinburgh, City of",null,{"$f":"('2007'!D16/'2007 Rate'!$AA16)*1000","v":10.786334532058591},{"$f":"('2007'!E16/'2007 Rate'!$AA16)*1000","v":-0.18857994912726952},{"$f":"('2007'!F16/'2007 Rate'!$AA16)*1000","v":11.288483466362599},{"$f":"('2007'!G16/'2007 Rate'!$AA16)*1000","v":-0.31356898517673887},{"$f":"('2007'!H16/'2007 Rate'!$AA16)*1000","v":65.130251732304188},{"$f":"('2007'!I16/'2007 Rate'!$AA16)*1000","v":54.343917200245592},{"$f":"('2007'!J16/'2007 Rate'!$AA16)*1000","v":-4.2825190772739239},{"$f":"('2007'!K16/'2007 Rate'!$AA16)*1000","v":24.563634768879922},{"$f":"('2007'!L16/'2007 Rate'!$AA16)*1000","v":28.846153846153847},{"$f":"('2007'!M16/'2007 Rate'!$AA16)*1000","v":1.6467853697044119},{"$f":"('2007'!N16/'2007 Rate'!$AA16)*1000","v":18.233049732479607},{"$f":"('2007'!O16/'2007 Rate'!$AA16)*1000","v":16.586264362775196},{"$f":"('2007'!P16/'2007 Rate'!$AA16)*1000","v":13.422068239628103},{"$f":"('2007'!Q16/'2007 Rate'!$AA16)*1000","v":22.333567230944656},{"$f":"('2007'!R16/'2007 Rate'!$AA16)*1000","v":8.9114989913165523},{"$f":"('2007'!S16/'2007 Rate'!$AA16)*1000","v":5.0982369967546708},{"$f":"('2007'!T16/'2007 Rate'!$AA16)*1000","v":29.887729146566091},{"$f":"('2007'!U16/'2007 Rate'!$AA16)*1000","v":2.447153758442242},{"$f":"('2007'!V16/'2007 Rate'!$AA16)*1000","v":9.4860099991228832},{"$f":"('2007'!W16/'2007 Rate'!$AA16)*1000","v":4.8482589246557319},{"$f":"('2007'!X16/'2007 Rate'!$AA16)*1000","v":105.25392509428998},null,"Edinburgh, City of",{"$f":"'Population estimates'!E16","v":456040}]
[15,"Eilean Siar",null,{"$f":"('2007'!D17/'2007 Rate'!$AA17)*1000","v":2.6828371922087468},{"$f":"('2007'!E17/'2007 Rate'!$AA17)*1000","v":0.40426313855200297},{"$f":"('2007'!F17/'2007 Rate'!$AA17)*1000","v":1.6538037486218302},{"$f":"('2007'!G17/'2007 Rate'!$AA17)*1000","v":0.6247703050349136},{"$f":"('2007'!H17/'2007 Rate'!$AA17)*1000","v":38.000735023888275},{"$f":"('2007'!I17/'2007 Rate'!$AA17)*1000","v":35.317897831679531},{"$f":"('2007'!J17/'2007 Rate'!$AA17)*1000","v":-1.9110621095185594},{"$f":"('2007'!K17/'2007 Rate'!$AA17)*1000","v":21.609702315325247},{"$f":"('2007'!L17/'2007 Rate'!$AA17)*1000","v":23.520764424843808},{"$f":"('2007'!M17/'2007 Rate'!$AA17)*1000","v":3.6383682469680267},{"$f":"('2007'!N17/'2007 Rate'!$AA17)*1000","v":12.752664461595002},{"$f":"('2007'!O17/'2007 Rate'!$AA17)*1000","v":9.1142962146269753},{"$f":"('2007'!P17/'2007 Rate'!$AA17)*1000","v":0.95553105475927969},{"$f":"('2007'!Q17/'2007 Rate'!$AA17)*1000","v":3.6383682469680267},{"$f":"('2007'!R17/'2007 Rate'!$AA17)*1000","v":2.6828371922087468},{"$f":"('2007'!S17/'2007 Rate'!$AA17)*1000","v":2.2050716648291071},{"$f":"('2007'!T17/'2007 Rate'!$AA17)*1000","v":4.7776552737963982},{"$f":"('2007'!U17/'2007 Rate'!$AA17)*1000","v":0.47776552737963984},{"$f":"('2007'!V17/'2007 Rate'!$AA17)*1000","v":1.9845644983461963},{"$f":"('2007'!W17/'2007 Rate'!$AA17)*1000","v":1.1760382212421903},null,null,"Eilean Siar",{"$f":"'Population estimates'!E17","v":27210}]
[16,"Falkirk",null,{"$f":"('2007'!D18/'2007 Rate'!$AA18)*1000","v":6.1383928571428568},{"$f":"('2007'!E18/'2007 Rate'!$AA18)*1000","v":0.70903361344537807},{"$f":"('2007'!F18/'2007 Rate'!$AA18)*1000","v":5.3834033613445378},{"$f":"('2007'!G18/'2007 Rate'!$AA18)*1000","v":4.5955882352941173E-2},{"$f":"('2007'!H18/'2007 Rate'!$AA18)*1000","v":30.048581932773111},{"$f":"('2007'!I18/'2007 Rate'!$AA18)*1000","v":23.91018907563025},{"$f":"('2007'!J18/'2007 Rate'!$AA18)*1000","v":3.8077731092436973},{"$f":"('2007'!K18/'2007 Rate'!$AA18)*1000","v":20.772058823529409},{"$f":"('2007'!L18/'2007 Rate'!$AA18)*1000","v":16.964285714285712},{"$f":"('2007'!M18/'2007 Rate'!$AA18)*1000","v":0.24947478991596636},{"$f":"('2007'!N18/'2007 Rate'!$AA18)*1000","v":4.9304096638655457},{"$f":"('2007'!O18/'2007 Rate'!$AA18)*1000","v":4.68093487394958},{"$f":"('2007'!P18/'2007 Rate'!$AA18)*1000","v":2.0811449579831933},{"$f":"('2007'!Q18/'2007 Rate'!$AA18)*1000","v":4.3461134453781511},{"$f":"('2007'!R18/'2007 Rate'!$AA18)*1000","v":2.2649684873949583},{"$f":"('2007'!S18/'2007 Rate'!$AA18)*1000","v":1.9367121848739497},{"$f":"('2007'!T18/'2007 Rate'!$AA18)*1000","v":4.3986344537815123},{"$f":"('2007'!U18/'2007 Rate'!$AA18)*1000","v":0.70246848739495793},{"$f":"('2007'!V18/'2007 Rate'!$AA18)*1000","v":3.321953781512605},{"$f":"('2007'!W18/'2007 Rate'!$AA18)*1000","v":1.95640756302521},null,null,"Falkirk",{"$f":"'Population estimates'!E18","v":152320}]
[17,"Fife",null,{"$f":"('2007'!D19/'2007 Rate'!$AA19)*1000","v":5.2766550522648084},{"$f":"('2007'!E19/'2007 Rate'!$AA19)*1000","v":1.0257839721254354},{"$f":"('2007'!F19/'2007 Rate'!$AA19)*1000","v":3.8857142857142857},{"$f":"('2007'!G19/'2007 Rate'!$AA19)*1000","v":0.36515679442508714},{"$f":"('2007'!H19/'2007 Rate'!$AA19)*1000","v":33.279442508710801},{"$f":"('2007'!I19/'2007 Rate'!$AA19)*1000","v":28.002787456445994},{"$f":"('2007'!J19/'2007 Rate'!$AA19)*1000","v":0.74146341463414644},{"$f":"('2007'!K19/'2007 Rate'!$AA19)*1000","v":17.011846689895471},{"$f":"('2007'!L19/'2007 Rate'!$AA19)*1000","v":16.270383275261324},{"$f":"('2007'!M19/'2007 Rate'!$AA19)*1000","v":1.7114982578397213},{"$f":"('2007'!N19/'2007 Rate'!$AA19)*1000","v":9.8815331010452976},{"$f":"('2007'!O19/'2007 Rate'!$AA19)*1000","v":8.170034843205574},{"$f":"('2007'!P19/'2007 Rate'!$AA19)*1000","v":2.8236933797909409},{"$f":"('2007'!Q19/'2007 Rate'!$AA19)*1000","v":6.3860627177700353},{"$f":"('2007'!R19/'2007 Rate'!$AA19)*1000","v":3.5623693379790939},{"$f":"('2007'!S19/'2007 Rate'!$AA19)*1000","v":3.5818815331010452},{"$f":"('2007'!T19/'2007 Rate'!$AA19)*1000","v":6.8292682926829267},{"$f":"('2007'!U19/'2007 Rate'!$AA19)*1000","v":0.89756097560975612},{"$f":"('2007'!V19/'2007 Rate'!$AA19)*1000","v":3.5094076655052264},{"$f":"('2007'!W19/'2007 Rate'!$AA19)*1000","v":1.2041811846689896},null,null,"Fife",{"$f":"'Population estimates'!E19","v":358750}]
[18,"Glasgow City",null,{"$f":"('2007'!D20/'2007 Rate'!$AA20)*1000","v":4.0279138099902054},{"$f":"('2007'!E20/'2007 Rate'!$AA20)*1000","v":-0.96194207359731365},{"$f":"('2007'!F20/'2007 Rate'!$AA20)*1000","v":5.7629075136420873},{"$f":"('2007'!G20/'2007 Rate'!$AA20)*1000","v":-0.77305163005456834},{"$f":"('2007'!H20/'2007 Rate'!$AA20)*1000","v":50.780047572408002},{"$f":"('2007'!I20/'2007 Rate'!$AA20)*1000","v":46.752133762417799},{"$f":"('2007'!J20/'2007 Rate'!$AA20)*1000","v":-4.8306981950468728},{"$f":"('2007'!K20/'2007 Rate'!$AA20)*1000","v":24.319644606128445},{"$f":"('2007'!L20/'2007 Rate'!$AA20)*1000","v":29.15034280117532},{"$f":"('2007'!M20/'2007 Rate'!$AA20)*1000","v":0.56842031621659439},{"$f":"('2007'!N20/'2007 Rate'!$AA20)*1000","v":10.5114033860361},{"$f":"('2007'!O20/'2007 Rate'!$AA20)*1000","v":9.9429830698195047},{"$f":"('2007'!P20/'2007 Rate'!$AA20)*1000","v":8.2901916888204834},{"$f":"('2007'!Q20/'2007 Rate'!$AA20)*1000","v":15.948999580243459},{"$f":"('2007'!R20/'2007 Rate'!$AA20)*1000","v":7.6588078914229749},{"$f":"('2007'!S20/'2007 Rate'!$AA20)*1000","v":4.7047712326850428},{"$f":"('2007'!T20/'2007 Rate'!$AA20)*1000","v":18.714145795438647},{"$f":"('2007'!U20/'2007 Rate'!$AA20)*1000","v":2.5342801175318312},{"$f":"('2007'!V20/'2007 Rate'!$AA20)*1000","v":15.483769413740031},{"$f":"('2007'!W20/'2007 Rate'!$AA20)*1000","v":11.132293269903455},{"$f":"('2007'!X20/'2007 Rate'!$AA20)*1000","v":99.692178536448864},null,"Glasgow City",{"$f":"'Population estimates'!E20","v":571760}]
[19,"Highland",null,{"$f":"('2007'!D21/'2007 Rate'!$AA21)*1000","v":11.950892857142858},{"$f":"('2007'!E21/'2007 Rate'!$AA21)*1000","v":2.2276785714285716},{"$f":"('2007'!F21/'2007 Rate'!$AA21)*1000","v":8.9732142857142865},{"$f":"('2007'!G21/'2007 Rate'!$AA21)*1000","v":0.75},{"$f":"('2007'!H21/'2007 Rate'!$AA21)*1000","v":43.004464285714285},{"$f":"('2007'!I21/'2007 Rate'!$AA21)*1000","v":31.053571428571427},{"$f":"('2007'!J21/'2007 Rate'!$AA21)*1000","v":0.2767857142857143},{"$f":"('2007'!K21/'2007 Rate'!$AA21)*1000","v":18.589285714285715},{"$f":"('2007'!L21/'2007 Rate'!$AA21)*1000","v":18.3125},{"$f":"('2007'!M21/'2007 Rate'!$AA21)*1000","v":7.3348214285714288},{"$f":"('2007'!N21/'2007 Rate'!$AA21)*1000","v":16.5},{"$f":"('2007'!O21/'2007 Rate'!$AA21)*1000","v":9.1651785714285712},{"$f":"('2007'!P21/'2007 Rate'!$AA21)*1000","v":4.3392857142857135},{"$f":"('2007'!Q21/'2007 Rate'!$AA21)*1000","v":7.9151785714285712},{"$f":"('2007'!R21/'2007 Rate'!$AA21)*1000","v":3.5758928571428572},{"$f":"('2007'!S21/'2007 Rate'!$AA21)*1000","v":7.2767857142857135},{"$f":"('2007'!T21/'2007 Rate'!$AA21)*1000","v":13.214285714285715},{"$f":"('2007'!U21/'2007 Rate'!$AA21)*1000","v":1.075892857142857},{"$f":"('2007'!V21/'2007 Rate'!$AA21)*1000","v":2.816964285714286},{"$f":"('2007'!W21/'2007 Rate'!$AA21)*1000","v":1.6607142857142858},null,null,"Highland",{"$f":"'Population estimates'!E21","v":224000}]
[20,"Inverclyde",null,{"$f":"('2007'!D22/'2007 Rate'!$AA22)*1000","v":-3.8728534892217756},{"$f":"('2007'!E22/'2007 Rate'!$AA22)*1000","v":-0.5967604433077579},{"$f":"('2007'!F22/'2007 Rate'!$AA22)*1000","v":-3.1543052003410059},{"$f":"('2007'!G22/'2007 Rate'!$AA22)*1000","v":-0.12178784557301181},{"$f":"('2007'!H22/'2007 Rate'!$AA22)*1000","v":19.705273413713311},{"$f":"('2007'!I22/'2007 Rate'!$AA22)*1000","v":23.578126902935086},{"$f":"('2007'!J22/'2007 Rate'!$AA22)*1000","v":-3.3004506150286201},{"$f":"('2007'!K22/'2007 Rate'!$AA22)*1000","v":12.641578370478626},{"$f":"('2007'!L22/'2007 Rate'!$AA22)*1000","v":15.942028985507246},{"$f":"('2007'!M22/'2007 Rate'!$AA22)*1000","v":-0.77944221166727556},{"$f":"('2007'!N22/'2007 Rate'!$AA22)*1000","v":4.4208987943003288},{"$f":"('2007'!O22/'2007 Rate'!$AA22)*1000","v":5.200341005967605},{"$f":"('2007'!P22/'2007 Rate'!$AA22)*1000","v":0.20703933747412009},{"$f":"('2007'!Q22/'2007 Rate'!$AA22)*1000","v":2.6427962489343564},{"$f":"('2007'!R22/'2007 Rate'!$AA22)*1000","v":2.4357569114602362},{"$f":"('2007'!S22/'2007 Rate'!$AA22)*1000","v":0.42625745950554134},{"$f":"('2007'!T22/'2007 Rate'!$AA22)*1000","v":3.2882718304713192},{"$f":"('2007'!U22/'2007 Rate'!$AA22)*1000","v":0.38972110583363778},{"$f":"('2007'!V22/'2007 Rate'!$AA22)*1000","v":2.3017902813299229},{"$f":"('2007'!W22/'2007 Rate'!$AA22)*1000","v":0.24357569114602362},null,null,"Inverclyde",{"$f":"'Population estimates'!E22","v":82110}]
[21,"Midlothian",null,{"$f":"('2007'!D23/'2007 Rate'!$AA23)*1000","v":1.3562274480527559},{"$f":"('2007'!E23/'2007 Rate'!$AA23)*1000","v":0.39815851685952469},{"$f":"('2007'!F23/'2007 Rate'!$AA23)*1000","v":1.2318029115341544},{"$f":"('2007'!G23/'2007 Rate'!$AA23)*1000","v":-0.27373398034092328},{"$f":"('2007'!H23/'2007 Rate'!$AA23)*1000","v":36.742565633943016},{"$f":"('2007'!I23/'2007 Rate'!$AA23)*1000","v":35.38633818589026},{"$f":"('2007'!J23/'2007 Rate'!$AA23)*1000","v":-1.2442453651860147E-2},{"$f":"('2007'!K23/'2007 Rate'!$AA23)*1000","v":29.003359462486003},{"$f":"('2007'!L23/'2007 Rate'!$AA23)*1000","v":29.01580191613786},{"$f":"('2007'!M23/'2007 Rate'!$AA23)*1000","v":0.21152171208162251},{"$f":"('2007'!N23/'2007 Rate'!$AA23)*1000","v":5.1014059972626606},{"$f":"('2007'!O23/'2007 Rate'!$AA23)*1000","v":4.8898842851810373},{"$f":"('2007'!P23/'2007 Rate'!$AA23)*1000","v":1.1571481896229938},{"$f":"('2007'!Q23/'2007 Rate'!$AA23)*1000","v":2.6378001741943513},{"$f":"('2007'!R23/'2007 Rate'!$AA23)*1000","v":1.4806519845713575},{"$f":"('2007'!S23/'2007 Rate'!$AA23)*1000","v":2.4262784621127289},{"$f":"('2007'!T23/'2007 Rate'!$AA23)*1000","v":2.9861888764464353},{"$f":"('2007'!U23/'2007 Rate'!$AA23)*1000","v":0.93318402388951105},{"$f":"('2007'!V23/'2007 Rate'!$AA23)*1000","v":2.8119945253203928},{"$f":"('2007'!W23/'2007 Rate'!$AA23)*1000","v":1.020281199452532},null,null,"Midlothian",{"$f":"'Population estimates'!E23","v":80370}]
[22,"Moray",null,{"$f":"('2007'!D24/'2007 Rate'!$AA24)*1000","v":5.741469816272966},{"$f":"('2007'!E24/'2007 Rate'!$AA24)*1000","v":0.94050743657042868},{"$f":"('2007'!F24/'2007 Rate'!$AA24)*1000","v":3.794838145231846},{"$f":"('2007'!G24/'2007 Rate'!$AA24)*1000","v":1.0061242344706911},{"$f":"('2007'!H24/'2007 Rate'!$AA24)*1000","v":37.762467191601047},{"$f":"('2007'!I24/'2007 Rate'!$AA24)*1000","v":32.020997375328086},{"$f":"('2007'!J24/'2007 Rate'!$AA24)*1000","v":-1.837270341207349},{"$f":"('2007'!K24/'2007 Rate'!$AA24)*1000","v":16.940069991251093},{"$f":"('2007'!L24/'2007 Rate'!$AA24)*1000","v":18.777340332458444},{"$f":"('2007'!M24/'2007 Rate'!$AA24)*1000","v":4.9868766404199478},{"$f":"('2007'!N24/'2007 Rate'!$AA24)*1000","v":15.179352580927384},{"$f":"('2007'!O24/'2007 Rate'!$AA24)*1000","v":10.192475940507437},{"$f":"('2007'!P24/'2007 Rate'!$AA24)*1000","v":2.5918635170603674},{"$f":"('2007'!Q24/'2007 Rate'!$AA24)*1000","v":5.6430446194225725},{"$f":"('2007'!R24/'2007 Rate'!$AA24)*1000","v":3.0511811023622046},{"$f":"('2007'!S24/'2007 Rate'!$AA24)*1000","v":3.2808398950131235},{"$f":"('2007'!T24/'2007 Rate'!$AA24)*1000","v":6.1242344706911629},{"$f":"('2007'!U24/'2007 Rate'!$AA24)*1000","v":1.1154855643044619},{"$f":"('2007'!V24/'2007 Rate'!$AA24)*1000","v":2.1981627296587924},{"$f":"('2007'!W24/'2007 Rate'!$AA24)*1000","v":2.0231846019247595},{"$f":"('2007'!X24/'2007 Rate'!$AA24)*1000","v":43.744531933508306},null,"Moray",{"$f":"'Population estimates'!E24","v":91440}]
[23,"North Ayrshire",null,{"$f":"('2007'!D25/'2007 Rate'!$AA25)*1000","v":3.1145393683597726},{"$f":"('2007'!E25/'2007 Rate'!$AA25)*1000","v":0.74952699752583318},{"$f":"('2007'!F25/'2007 Rate'!$AA25)*1000","v":1.7610245961286568},{"$f":"('2007'!G25/'2007 Rate'!$AA25)*1000","v":0.60398777470528309},{"$f":"('2007'!H25/'2007 Rate'!$AA25)*1000","v":31.582011352059382},{"$f":"('2007'!I25/'2007 Rate'!$AA25)*1000","v":28.467471983699607},{"$f":"('2007'!J25/'2007 Rate'!$AA25)*1000","v":2.554213360500655},{"$f":"('2007'!K25/'2007 Rate'!$AA25)*1000","v":22.624072187454519},{"$f":"('2007'!L25/'2007 Rate'!$AA25)*1000","v":20.069858826953862},{"$f":"('2007'!M25/'2007 Rate'!$AA25)*1000","v":0.90234318148741077},{"$f":"('2007'!N25/'2007 Rate'!$AA25)*1000","v":7.065929267937709},{"$f":"('2007'!O25/'2007 Rate'!$AA25)*1000","v":6.1635860864502989},{"$f":"('2007'!P25/'2007 Rate'!$AA25)*1000","v":-0.34201717362829281},{"$f":"('2007'!Q25/'2007 Rate'!$AA25)*1000","v":1.8920098966671519},{"$f":"('2007'!R25/'2007 Rate'!$AA25)*1000","v":2.2340270702954448},{"$f":"('2007'!S25/'2007 Rate'!$AA25)*1000","v":0.58215689128220049},{"$f":"('2007'!T25/'2007 Rate'!$AA25)*1000","v":2.4741667879493523},{"$f":"('2007'!U25/'2007 Rate'!$AA25)*1000","v":0.39295590161548533},{"$f":"('2007'!V25/'2007 Rate'!$AA25)*1000","v":1.9575025469363991},{"$f":"('2007'!W25/'2007 Rate'!$AA25)*1000","v":0.47300247416678798},null,null,"North Ayrshire",{"$f":"'Population estimates'!E25","v":137420}]
[24,"North Lanarkshire",null,{"$f":"('2007'!D26/'2007 Rate'!$AA26)*1000","v":2.5636380106893739},{"$f":"('2007'!E26/'2007 Rate'!$AA26)*1000","v":1.1383881390222543},{"$f":"('2007'!F26/'2007 Rate'!$AA26)*1000","v":1.7785427423981641},{"$f":"('2007'!G26/'2007 Rate'!$AA26)*1000","v":-0.35329287073104443},{"$f":"('2007'!H26/'2007 Rate'!$AA26)*1000","v":24.87846121327415},{"$f":"('2007'!I26/'2007 Rate'!$AA26)*1000","v":22.314823202584776},{"$f":"('2007'!J26/'2007 Rate'!$AA26)*1000","v":0.8062324485913579},{"$f":"('2007'!K26/'2007 Rate'!$AA26)*1000","v":17.486487302593833},{"$f":"('2007'!L26/'2007 Rate'!$AA26)*1000","v":16.680254854002474},{"$f":"('2007'!M26/'2007 Rate'!$AA26)*1000","v":2.7176374671618805E-2},{"$f":"('2007'!N26/'2007 Rate'!$AA26)*1000","v":3.825829634326781},{"$f":"('2007'!O26/'2007 Rate'!$AA26)*1000","v":3.7986532596551621},{"$f":"('2007'!P26/'2007 Rate'!$AA26)*1000","v":1.7302291874263973},{"$f":"('2007'!Q26/'2007 Rate'!$AA26)*1000","v":3.5661442763535347},{"$f":"('2007'!R26/'2007 Rate'!$AA26)*1000","v":1.8359150889271372},{"$f":"('2007'!S26/'2007 Rate'!$AA26)*1000","v":2.5817555938037868},{"$f":"('2007'!T26/'2007 Rate'!$AA26)*1000","v":4.9823353564634472},{"$f":"('2007'!U26/'2007 Rate'!$AA26)*1000","v":0.57372346528973028},{"$f":"('2007'!V26/'2007 Rate'!$AA26)*1000","v":4.145906936014736},{"$f":"('2007'!W26/'2007 Rate'!$AA26)*1000","v":1.4886614125675635},null,null,"North Lanarkshire",{"$f":"'Population estimates'!E26","v":331170}]
[25,"Orkney Islands",null,{"$f":"('2007'!D27/'2007 Rate'!$AA27)*1000","v":6.9484936831875608},{"$f":"('2007'!E27/'2007 Rate'!$AA27)*1000","v":1.9436345966958211},{"$f":"('2007'!F27/'2007 Rate'!$AA27)*1000","v":3.8872691933916421},{"$f":"('2007'!G27/'2007 Rate'!$AA27)*1000","v":1.1175898931000972},{"$f":"('2007'!H27/'2007 Rate'!$AA27)*1000","v":35.908649173955297},{"$f":"('2007'!I27/'2007 Rate'!$AA27)*1000","v":28.960155490767736},{"$f":"('2007'!J27/'2007 Rate'!$AA27)*1000","v":-0.82604470359572391},{"$f":"('2007'!K27/'2007 Rate'!$AA27)*1000","v":17.638483965014579},{"$f":"('2007'!L27/'2007 Rate'!$AA27)*1000","v":18.464528668610299},{"$f":"('2007'!M27/'2007 Rate'!$AA27)*1000","v":7.6287657920310981},{"$f":"('2007'!N27/'2007 Rate'!$AA27)*1000","v":15.646258503401363},{"$f":"('2007'!O27/'2007 Rate'!$AA27)*1000","v":8.017492711370263},{"$f":"('2007'!P27/'2007 Rate'!$AA27)*1000","v":0.1457725947521866},{"$f":"('2007'!Q27/'2007 Rate'!$AA27)*1000","v":2.6239067055393588},{"$f":"('2007'!R27/'2007 Rate'!$AA27)*1000","v":2.4781341107871717},{"$f":"('2007'!S27/'2007 Rate'!$AA27)*1000","v":2.4295432458697763},{"$f":"('2007'!T27/'2007 Rate'!$AA27)*1000","v":5.3449951409135084},{"$f":"('2007'!U27/'2007 Rate'!$AA27)*1000","v":0.29154518950437319},{"$f":"('2007'!V27/'2007 Rate'!$AA27)*1000","v":1.7006802721088434},{"$f":"('2007'!W27/'2007 Rate'!$AA27)*1000","v":0.29154518950437319},null,null,"Orkney Islands",{"$f":"'Population estimates'!E27","v":20580}]
[26,"Perth & Kinross",null,{"$f":"('2007'!D28/'2007 Rate'!$AA28)*1000","v":17.287799348164945},{"$f":"('2007'!E28/'2007 Rate'!$AA28)*1000","v":3.0891313589343916},{"$f":"('2007'!F28/'2007 Rate'!$AA28)*1000","v":13.213830239478531},{"$f":"('2007'!G28/'2007 Rate'!$AA28)*1000","v":0.98483774975201932},{"$f":"('2007'!H28/'2007 Rate'!$AA28)*1000","v":53.322941759954652},{"$f":"('2007'!I28/'2007 Rate'!$AA28)*1000","v":36.035142411789714},{"$f":"('2007'!J28/'2007 Rate'!$AA28)*1000","v":3.3512824146237778},{"$f":"('2007'!K28/'2007 Rate'!$AA28)*1000","v":26.562278588635397},{"$f":"('2007'!L28/'2007 Rate'!$AA28)*1000","v":23.210996174011619},{"$f":"('2007'!M28/'2007 Rate'!$AA28)*1000","v":4.0739691086864109},{"$f":"('2007'!N28/'2007 Rate'!$AA28)*1000","v":12.285673799064758},{"$f":"('2007'!O28/'2007 Rate'!$AA28)*1000","v":8.2117046903783493},{"$f":"('2007'!P28/'2007 Rate'!$AA28)*1000","v":9.8625478248547545},{"$f":"('2007'!Q28/'2007 Rate'!$AA28)*1000","v":14.474989372254498},{"$f":"('2007'!R28/'2007 Rate'!$AA28)*1000","v":4.6124415473997447},{"$f":"('2007'!S28/'2007 Rate'!$AA28)*1000","v":13.107552784469322},{"$f":"('2007'!T28/'2007 Rate'!$AA28)*1000","v":17.358650984837748},{"$f":"('2007'!U28/'2007 Rate'!$AA28)*1000","v":1.0273487317557035},{"$f":"('2007'!V28/'2007 Rate'!$AA28)*1000","v":2.6144253932265835},{"$f":"('2007'!W28/'2007 Rate'!$AA28)*1000","v":1.7004392801473713},{"$f":"('2007'!X28/'2007 Rate'!$AA28)*1000","v":49.596145670965001},null,"Perth & Kinross",{"$f":"'Population estimates'!E28","v":141140}]
[27,"Renfrewshire",null,{"$f":"('2007'!D29/'2007 Rate'!$AA29)*1000","v":1.5652275107645759},{"$f":"('2007'!E29/'2007 Rate'!$AA29)*1000","v":0.76224834167345512},{"$f":"('2007'!F29/'2007 Rate'!$AA29)*1000","v":0.7389735831490748},{"$f":"('2007'!G29/'2007 Rate'!$AA29)*1000","v":6.4005585942045848E-2},{"$f":"('2007'!H29/'2007 Rate'!$AA29)*1000","v":30.519027115093682},{"$f":"('2007'!I29/'2007 Rate'!$AA29)*1000","v":28.953799604329106},{"$f":"('2007'!J29/'2007 Rate'!$AA29)*1000","v":-1.3033864773652974},{"$f":"('2007'!K29/'2007 Rate'!$AA29)*1000","v":20.295589433259629},{"$f":"('2007'!L29/'2007 Rate'!$AA29)*1000","v":21.598975910624926},{"$f":"('2007'!M29/'2007 Rate'!$AA29)*1000","v":-4.6549517048760619E-2},{"$f":"('2007'!N29/'2007 Rate'!$AA29)*1000","v":4.9226114279064355},{"$f":"('2007'!O29/'2007 Rate'!$AA29)*1000","v":4.9691609449551963},{"$f":"('2007'!P29/'2007 Rate'!$AA29)*1000","v":2.9151635051786338},{"$f":"('2007'!Q29/'2007 Rate'!$AA29)*1000","v":5.3008262539276156},{"$f":"('2007'!R29/'2007 Rate'!$AA29)*1000","v":2.3856627487489819},{"$f":"('2007'!S29/'2007 Rate'!$AA29)*1000","v":2.560223437681834},{"$f":"('2007'!T29/'2007 Rate'!$AA29)*1000","v":6.8660537646921913},{"$f":"('2007'!U29/'2007 Rate'!$AA29)*1000","v":0.71569882462469459},{"$f":"('2007'!V29/'2007 Rate'!$AA29)*1000","v":3.8403351565227513},{"$f":"('2007'!W29/'2007 Rate'!$AA29)*1000","v":0.57023158384731754},{"$f":"('2007'!X29/'2007 Rate'!$AA29)*1000","v":40.730827417665537},null,"Renfrewshire",{"$f":"'Population estimates'!E29","v":171860}]
[28,"Scottish Borders",null,{"$f":"('2007'!D30/'2007 Rate'!$AA30)*1000","v":13.297682709447416},{"$f":"('2007'!E30/'2007 Rate'!$AA30)*1000","v":2.8698752228163995},{"$f":"('2007'!F30/'2007 Rate'!$AA30)*1000","v":9.1889483065953659},{"$f":"('2007'!G30/'2007 Rate'!$AA30)*1000","v":1.2388591800356505},{"$f":"('2007'!H30/'2007 Rate'!$AA30)*1000","v":45.900178253119428},{"$f":"('2007'!I30/'2007 Rate'!$AA30)*1000","v":32.602495543672013},{"$f":"('2007'!J30/'2007 Rate'!$AA30)*1000","v":4.8752228163992868},{"$f":"('2007'!K30/'2007 Rate'!$AA30)*1000","v":23.092691622103388},{"$f":"('2007'!L30/'2007 Rate'!$AA30)*1000","v":18.217468805704101},{"$f":"('2007'!M30/'2007 Rate'!$AA30)*1000","v":6.1140819964349378},{"$f":"('2007'!N30/'2007 Rate'!$AA30)*1000","v":17.103386809269164},{"$f":"('2007'!O30/'2007 Rate'!$AA30)*1000","v":10.989304812834225},{"$f":"('2007'!P30/'2007 Rate'!$AA30)*1000","v":2.3083778966131909},{"$f":"('2007'!Q30/'2007 Rate'!$AA30)*1000","v":5.7040998217468806},{"$f":"('2007'!R30/'2007 Rate'!$AA30)*1000","v":3.3957219251336896},{"$f":"('2007'!S30/'2007 Rate'!$AA30)*1000","v":4.2335115864527628},{"$f":"('2007'!T30/'2007 Rate'!$AA30)*1000","v":7.7540106951871657},{"$f":"('2007'!U30/'2007 Rate'!$AA30)*1000","v":1.1229946524064172},{"$f":"('2007'!V30/'2007 Rate'!$AA30)*1000","v":1.7825311942959001},{"$f":"('2007'!W30/'2007 Rate'!$AA30)*1000","v":1.5240641711229945},{"$f":"('2007'!X30/'2007 Rate'!$AA30)*1000","v":44.563279857397504},null,"Scottish Borders",{"$f":"'Population estimates'!E30","v":112200}]
[29,"Shetland Islands",null,{"$f":"('2007'!D31/'2007 Rate'!$AA31)*1000","v":2.058165548098434},{"$f":"('2007'!E31/'2007 Rate'!$AA31)*1000","v":1.029082774049217},{"$f":"('2007'!F31/'2007 Rate'!$AA31)*1000","v":0.67114093959731536},{"$f":"('2007'!G31/'2007 Rate'!$AA31)*1000","v":0.35794183445190159},{"$f":"('2007'!H31/'2007 Rate'!$AA31)*1000","v":34.944071588366889},{"$f":"('2007'!I31/'2007 Rate'!$AA31)*1000","v":32.885906040268452},{"$f":"('2007'!J31/'2007 Rate'!$AA31)*1000","v":-4.5637583892617446},{"$f":"('2007'!K31/'2007 Rate'!$AA31)*1000","v":16.331096196868007},{"$f":"('2007'!L31/'2007 Rate'!$AA31)*1000","v":20.894854586129753},{"$f":"('2007'!M31/'2007 Rate'!$AA31)*1000","v":5.9955257270693512},{"$f":"('2007'!N31/'2007 Rate'!$AA31)*1000","v":15.212527964205815},{"$f":"('2007'!O31/'2007 Rate'!$AA31)*1000","v":9.2170022371364659},{"$f":"('2007'!P31/'2007 Rate'!$AA31)*1000","v":0.62639821029082776},{"$f":"('2007'!Q31/'2007 Rate'!$AA31)*1000","v":3.4004474272930647},{"$f":"('2007'!R31/'2007 Rate'!$AA31)*1000","v":2.7740492170022373},{"$f":"('2007'!S31/'2007 Rate'!$AA31)*1000","v":3.8031319910514538},{"$f":"('2007'!T31/'2007 Rate'!$AA31)*1000","v":7.6062639821029077},{"$f":"('2007'!U31/'2007 Rate'!$AA31)*1000","v":0.67114093959731536},{"$f":"('2007'!V31/'2007 Rate'!$AA31)*1000","v":2.3266219239373602},{"$f":"('2007'!W31/'2007 Rate'!$AA31)*1000","v":0.53691275167785235},null,null,"Shetland Islands",{"$f":"'Population estimates'!E31","v":22350}]
[30,"South Ayrshire",null,{"$f":"('2007'!D32/'2007 Rate'!$AA32)*1000","v":5.1432639259654742},{"$f":"('2007'!E32/'2007 Rate'!$AA32)*1000","v":1.9576437088449903},{"$f":"('2007'!F32/'2007 Rate'!$AA32)*1000","v":2.5538352019932371},{"$f":"('2007'!G32/'2007 Rate'!$AA32)*1000","v":0.63178501512724683},{"$f":"('2007'!H32/'2007 Rate'!$AA32)*1000","v":34.86385477843033},{"$f":"('2007'!I32/'2007 Rate'!$AA32)*1000","v":29.720590852464849},{"$f":"('2007'!J32/'2007 Rate'!$AA32)*1000","v":2.6161238654564869},{"$f":"('2007'!K32/'2007 Rate'!$AA32)*1000","v":23.144687666844636},{"$f":"('2007'!L32/'2007 Rate'!$AA32)*1000","v":20.528563801388145},{"$f":"('2007'!M32/'2007 Rate'!$AA32)*1000","v":1.9487453283502403},{"$f":"('2007'!N32/'2007 Rate'!$AA32)*1000","v":8.756006406833956},{"$f":"('2007'!O32/'2007 Rate'!$AA32)*1000","v":6.807261078483716},{"$f":"('2007'!P32/'2007 Rate'!$AA32)*1000","v":0.57839473215874715},{"$f":"('2007'!Q32/'2007 Rate'!$AA32)*1000","v":2.963160704751735},{"$f":"('2007'!R32/'2007 Rate'!$AA32)*1000","v":2.3847659725929882},{"$f":"('2007'!S32/'2007 Rate'!$AA32)*1000","v":0.97882185442249514},{"$f":"('2007'!T32/'2007 Rate'!$AA32)*1000","v":4.3602064424274785},{"$f":"('2007'!U32/'2007 Rate'!$AA32)*1000","v":0.55169959067449725},{"$f":"('2007'!V32/'2007 Rate'!$AA32)*1000","v":2.4648513970457375},{"$f":"('2007'!W32/'2007 Rate'!$AA32)*1000","v":0.56059797116924714},null,null,"South Ayrshire",{"$f":"'Population estimates'!E32","v":112380}]
[31,"South Lanarkshire",null,{"$f":"('2007'!D33/'2007 Rate'!$AA33)*1000","v":5.3192860364714214},{"$f":"('2007'!E33/'2007 Rate'!$AA33)*1000","v":1.3853985437206007},{"$f":"('2007'!F33/'2007 Rate'!$AA33)*1000","v":3.2669630775178815},{"$f":"('2007'!G33/'2007 Rate'!$AA33)*1000","v":0.66692441523294033},{"$f":"('2007'!H33/'2007 Rate'!$AA33)*1000","v":29.866615116953412},{"$f":"('2007'!I33/'2007 Rate'!$AA33)*1000","v":24.54732908048199},{"$f":"('2007'!J33/'2007 Rate'!$AA33)*1000","v":4.1948579161028414},{"$f":"('2007'!K33/'2007 Rate'!$AA33)*1000","v":21.937624846961789},{"$f":"('2007'!L33/'2007 Rate'!$AA33)*1000","v":17.742766930858945},{"$f":"('2007'!M33/'2007 Rate'!$AA33)*1000","v":0.88923255364392029},{"$f":"('2007'!N33/'2007 Rate'!$AA33)*1000","v":5.6092531735292219},{"$f":"('2007'!O33/'2007 Rate'!$AA33)*1000","v":4.7200206198853021},{"$f":"('2007'!P33/'2007 Rate'!$AA33)*1000","v":0.2351955667246601},{"$f":"('2007'!Q33/'2007 Rate'!$AA33)*1000","v":2.3197370964624011},{"$f":"('2007'!R33/'2007 Rate'!$AA33)*1000","v":2.0845415297377405},{"$f":"('2007'!S33/'2007 Rate'!$AA33)*1000","v":1.8042399639152007},{"$f":"('2007'!T33/'2007 Rate'!$AA33)*1000","v":3.4151685031252015},{"$f":"('2007'!U33/'2007 Rate'!$AA33)*1000","v":0.62826213029190026},{"$f":"('2007'!V33/'2007 Rate'!$AA33)*1000","v":3.8050132096140215},{"$f":"('2007'!W33/'2007 Rate'!$AA33)*1000","v":0.93756040982022038},null,null,"South Lanarkshire",{"$f":"'Population estimates'!E33","v":310380}]
[32,"Stirling",null,{"$f":"('2007'!D34/'2007 Rate'!$AA34)*1000","v":5.3940970258961896},{"$f":"('2007'!E34/'2007 Rate'!$AA34)*1000","v":1.3343887820875269},{"$f":"('2007'!F34/'2007 Rate'!$AA34)*1000","v":3.584756304421576},{"$f":"('2007'!G34/'2007 Rate'!$AA34)*1000","v":0.47495193938708585},{"$f":"('2007'!H34/'2007 Rate'!$AA34)*1000","v":58.181612574918013},{"$f":"('2007'!I34/'2007 Rate'!$AA34)*1000","v":52.787515549021826},{"$f":"('2007'!J34/'2007 Rate'!$AA34)*1000","v":-4.0257831052810129},{"$f":"('2007'!K34/'2007 Rate'!$AA34)*1000","v":33.710279316973882},{"$f":"('2007'!L34/'2007 Rate'!$AA34)*1000","v":37.736062422254889},{"$f":"('2007'!M34/'2007 Rate'!$AA34)*1000","v":3.0419540879791924},{"$f":"('2007'!N34/'2007 Rate'!$AA34)*1000","v":13.061178333144861},{"$f":"('2007'!O34/'2007 Rate'!$AA34)*1000","v":10.019224245165667},{"$f":"('2007'!P34/'2007 Rate'!$AA34)*1000","v":6.3779260431980092},{"$f":"('2007'!Q34/'2007 Rate'!$AA34)*1000","v":11.410154924799276},{"$f":"('2007'!R34/'2007 Rate'!$AA34)*1000","v":5.0322288816012666},{"$f":"('2007'!S34/'2007 Rate'!$AA34)*1000","v":3.3359719552188172},{"$f":"('2007'!T34/'2007 Rate'!$AA34)*1000","v":9.951373968110369},{"$f":"('2007'!U34/'2007 Rate'!$AA34)*1000","v":0.92728711975573896},{"$f":"('2007'!V34/'2007 Rate'!$AA34)*1000","v":3.6639149609860904},{"$f":"('2007'!W34/'2007 Rate'!$AA34)*1000","v":1.1986882279769311},{"$f":"('2007'!X34/'2007 Rate'!$AA34)*1000","v":56.541897546081643},null,"Stirling",{"$f":"'Population estimates'!E34","v":88430}]
[33,"West Dunbartonshire",null,{"$f":"('2007'!D35/'2007 Rate'!$AA35)*1000","v":-0.35022436248221522},{"$f":"('2007'!E35/'2007 Rate'!$AA35)*1000","v":0.14227864725839992},{"$f":"('2007'!F35/'2007 Rate'!$AA35)*1000","v":-0.2298347378789537},{"$f":"('2007'!G35/'2007 Rate'!$AA35)*1000","v":-0.26266827186166136},{"$f":"('2007'!H35/'2007 Rate'!$AA35)*1000","v":26.901608843165153},{"$f":"('2007'!I35/'2007 Rate'!$AA35)*1000","v":27.251833205647365},{"$f":"('2007'!J35/'2007 Rate'!$AA35)*1000","v":-1.1820072233774761},{"$f":"('2007'!K35/'2007 Rate'!$AA35)*1000","v":19.503119185728355},{"$f":"('2007'!L35/'2007 Rate'!$AA35)*1000","v":20.685126409105834},{"$f":"('2007'!M35/'2007 Rate'!$AA35)*1000","v":8.7556090620553806E-2},{"$f":"('2007'!N35/'2007 Rate'!$AA35)*1000","v":4.8703075407683052},{"$f":"('2007'!O35/'2007 Rate'!$AA35)*1000","v":4.7827514501477504},{"$f":"('2007'!P35/'2007 Rate'!$AA35)*1000","v":0.74422677027470729},{"$f":"('2007'!Q35/'2007 Rate'!$AA35)*1000","v":2.5281821166684906},{"$f":"('2007'!R35/'2007 Rate'!$AA35)*1000","v":1.7839553463937834},{"$f":"('2007'!S35/'2007 Rate'!$AA35)*1000","v":0.38305789646492283},{"$f":"('2007'!T35/'2007 Rate'!$AA35)*1000","v":2.8455729451679983},{"$f":"('2007'!U35/'2007 Rate'!$AA35)*1000","v":0.53628105505089196},{"$f":"('2007'!V35/'2007 Rate'!$AA35)*1000","v":2.6814052752544599},{"$f":"('2007'!W35/'2007 Rate'!$AA35)*1000","v":0.84272737222283034},null,null,"West Dunbartonshire",{"$f":"'Population estimates'!E35","v":91370}]
[34,"West Lothian",null,{"$f":"('2007'!D36/'2007 Rate'!$AA36)*1000","v":8.6386971145335458},{"$f":"('2007'!E36/'2007 Rate'!$AA36)*1000","v":1.2922641175429279},{"$f":"('2007'!F36/'2007 Rate'!$AA36)*1000","v":6.6088393225939699},{"$f":"('2007'!G36/'2007 Rate'!$AA36)*1000","v":0.73759367439664836},{"$f":"('2007'!H36/'2007 Rate'!$AA36)*1000","v":39.60582994040243},{"$f":"('2007'!I36/'2007 Rate'!$AA36)*1000","v":30.967132825868884},{"$f":"('2007'!J36/'2007 Rate'!$AA36)*1000","v":2.9739776951672861},{"$f":"('2007'!K36/'2007 Rate'!$AA36)*1000","v":25.444031391986783},{"$f":"('2007'!L36/'2007 Rate'!$AA36)*1000","v":22.470053696819495},{"$f":"('2007'!M36/'2007 Rate'!$AA36)*1000","v":0.39535020947660354},{"$f":"('2007'!N36/'2007 Rate'!$AA36)*1000","v":6.7976633032395117},{"$f":"('2007'!O36/'2007 Rate'!$AA36)*1000","v":6.402313093762908},{"$f":"('2007'!P36/'2007 Rate'!$AA36)*1000","v":5.2693692098896561},{"$f":"('2007'!Q36/'2007 Rate'!$AA36)*1000","v":7.3641352451761373},{"$f":"('2007'!R36/'2007 Rate'!$AA36)*1000","v":2.0947660352864812},{"$f":"('2007'!S36/'2007 Rate'!$AA36)*1000","v":5.3106744556558683},{"$f":"('2007'!T36/'2007 Rate'!$AA36)*1000","v":10.916386381070396},{"$f":"('2007'!U36/'2007 Rate'!$AA36)*1000","v":1.3394701127043134},{"$f":"('2007'!V36/'2007 Rate'!$AA36)*1000","v":5.5998111760193545},{"$f":"('2007'!W36/'2007 Rate'!$AA36)*1000","v":1.705316575205051},{"$f":"('2007'!X36/'2007 Rate'!$AA36)*1000","v":53.106744556558688},null,"West Lothian",{"$f":"'Population estimates'!E36","v":169470}]
[]
[35,"Not specified"]
[36,"SCOTLAND",null,{"$f":"('2007'!D39/'2007 Rate'!$AA39)*1000","v":6.3924564796905221},{"$f":"('2007'!E39/'2007 Rate'!$AA39)*1000","v":1.0406189555125727},{"$f":"('2007'!F39/'2007 Rate'!$AA39)*1000","v":5.2098646034816252},{"$f":"('2007'!G39/'2007 Rate'!$AA39)*1000","v":0.14197292069632494},{"$f":"('2007'!H39/'2007 Rate'!$AA39)*1000","v":18.693617021276594},{"$f":"('2007'!I39/'2007 Rate'!$AA39)*1000","v":12.301160541586073},null,null,null,{"$f":"('2007'!M39/'2007 Rate'!$AA39)*1000","v":1.711605415860735},{"$f":"('2007'!N39/'2007 Rate'!$AA39)*1000","v":9.9702127659574469},{"$f":"('2007'!O39/'2007 Rate'!$AA39)*1000","v":8.2586073500967121},{"$f":"('2007'!P39/'2007 Rate'!$AA39)*1000","v":4.6808510638297873},{"$f":"('2007'!Q39/'2007 Rate'!$AA39)*1000","v":8.7234042553191475},{"$f":"('2007'!R39/'2007 Rate'!$AA39)*1000","v":4.042553191489362},null,null,{"$f":"('2007'!U39/'2007 Rate'!$AA39)*1000","v":1.2282398452611218},null,null,null,{"$f":"('2007'!Y39/'2007 Rate'!$AA39)*1000","v":10.044294003868472},"SCOTLAND",{"$f":"'Population estimates'!E39","v":5170000}]
[37,"Ayrshire & Arran",null,{"$f":"('2007'!D40/'2007 Rate'!$AA40)*1000","v":3.5903107466551578},{"$f":"('2007'!E40/'2007 Rate'!$AA40)*1000","v":1.0870738023305999},{"$f":"('2007'!F40/'2007 Rate'!$AA40)*1000","v":2.1714501510574018},{"$f":"('2007'!G40/'2007 Rate'!$AA40)*1000","v":0.33178679326715582},{"$f":"('2007'!H40/'2007 Rate'!$AA40)*1000","v":24.557617608977125},{"$f":"('2007'!I40/'2007 Rate'!$AA40)*1000","v":20.967306862321969},{"$f":"('2007'!J40/'2007 Rate'!$AA40)*1000","v":2.4034311609840309},{"$f":"('2007'!K40/'2007 Rate'!$AA40)*1000","v":15.121924902891669},{"$f":"('2007'!L40/'2007 Rate'!$AA40)*1000","v":12.718493741907638},{"$f":"('2007'!M40/'2007 Rate'!$AA40)*1000","v":1.3190548122572292},{"$f":"('2007'!N40/'2007 Rate'!$AA40)*1000","v":7.3964177816141561},{"$f":"('2007'!O40/'2007 Rate'!$AA40)*1000","v":6.0773629693569271},{"$f":"('2007'!P40/'2007 Rate'!$AA40)*1000","v":-0.13217522658610273},{"$f":"('2007'!Q40/'2007 Rate'!$AA40)*1000","v":2.0392749244712993},{"$f":"('2007'!R40/'2007 Rate'!$AA40)*1000","v":2.1714501510574018},null,null,{"$f":"('2007'!U40/'2007 Rate'!$AA40)*1000","v":0.45047475183426849},null,null,null,null,"Ayrshire & Arran",{"$f":"'Population estimates'!E40","v":370720}]
[38,"Borders",null,{"$f":"('2007'!D41/'2007 Rate'!$AA41)*1000","v":13.297682709447416},{"$f":"('2007'!E41/'2007 Rate'!$AA41)*1000","v":2.8698752228163995},{"$f":"('2007'!F41/'2007 Rate'!$AA41)*1000","v":9.1889483065953659},{"$f":"('2007'!G41/'2007 Rate'!$AA41)*1000","v":1.2388591800356505},{"$f":"('2007'!H41/'2007 Rate'!$AA41)*1000","v":45.900178253119428},{"$f":"('2007'!I41/'2007 Rate'!$AA41)*1000","v":32.602495543672013},{"$f":"('2007'!J41/'2007 Rate'!$AA41)*1000","v":4.8752228163992868},{"$f":"('2007'!K41/'2007 Rate'!$AA41)*1000","v":23.092691622103388},{"$f":"('2007'!L41/'2007 Rate'!$AA41)*1000","v":18.217468805704101},{"$f":"('2007'!M41/'2007 Rate'!$AA41)*1000","v":6.1140819964349378},{"$f":"('2007'!N41/'2007 Rate'!$AA41)*1000","v":17.103386809269164},{"$f":"('2007'!O41/'2007 Rate'!$AA41)*1000","v":10.989304812834225},{"$f":"('2007'!P41/'2007 Rate'!$AA41)*1000","v":2.3083778966131909},{"$f":"('2007'!Q41/'2007 Rate'!$AA41)*1000","v":5.7040998217468806},{"$f":"('2007'!R41/'2007 Rate'!$AA41)*1000","v":3.3957219251336896},null,null,{"$f":"('2007'!U41/'2007 Rate'!$AA41)*1000","v":1.1229946524064172},null,null,null,null,"Borders",{"$f":"'Population estimates'!E41","v":112200}]
[39,"Dumfries & Galloway",null,{"$f":"('2007'!D42/'2007 Rate'!$AA42)*1000","v":4.7349870319877638},{"$f":"('2007'!E42/'2007 Rate'!$AA42)*1000","v":1.2968012236483342},{"$f":"('2007'!F42/'2007 Rate'!$AA42)*1000","v":2.6867061248919333},{"$f":"('2007'!G42/'2007 Rate'!$AA42)*1000","v":0.75147968344749616},{"$f":"('2007'!H42/'2007 Rate'!$AA42)*1000","v":31.070027266077012},{"$f":"('2007'!I42/'2007 Rate'!$AA42)*1000","v":26.335040234089245},{"$f":"('2007'!J42/'2007 Rate'!$AA42)*1000","v":-0.37241471038106005},{"$f":"('2007'!K42/'2007 Rate'!$AA42)*1000","v":11.491653920329853},{"$f":"('2007'!L42/'2007 Rate'!$AA42)*1000","v":11.864068630710912},{"$f":"('2007'!M42/'2007 Rate'!$AA42)*1000","v":4.8945933364367891},{"$f":"('2007'!N42/'2007 Rate'!$AA42)*1000","v":16.299793841856754},{"$f":"('2007'!O42/'2007 Rate'!$AA42)*1000","v":11.405200505419964},{"$f":"('2007'!P42/'2007 Rate'!$AA42)*1000","v":0.21280840593203432},{"$f":"('2007'!Q42/'2007 Rate'!$AA42)*1000","v":3.2785795038904038},{"$f":"('2007'!R42/'2007 Rate'!$AA42)*1000","v":3.0657710979583692},null,null,{"$f":"('2007'!U42/'2007 Rate'!$AA42)*1000","v":0.57192259094234221},null,null,null,null,"Dumfries & Galloway",{"$f":"'Population estimates'!E42","v":150370}]
[40,"Fife",null,{"$f":"('2007'!D43/'2007 Rate'!$AA43)*1000","v":5.2710801393728222},{"$f":"('2007'!E43/'2007 Rate'!$AA43)*1000","v":1.0285714285714287},{"$f":"('2007'!F43/'2007 Rate'!$AA43)*1000","v":3.8773519163763068},{"$f":"('2007'!G43/'2007 Rate'!$AA43)*1000","v":0.36515679442508714},{"$f":"('2007'!H43/'2007 Rate'!$AA43)*1000","v":33.268292682926834},{"$f":"('2007'!I43/'2007 Rate'!$AA43)*1000","v":27.997212543554006},{"$f":"('2007'!J43/'2007 Rate'!$AA43)*1000","v":0.73588850174216025},{"$f":"('2007'!K43/'2007 Rate'!$AA43)*1000","v":17.000696864111497},{"$f":"('2007'!L43/'2007 Rate'!$AA43)*1000","v":16.264808362369337},{"$f":"('2007'!M43/'2007 Rate'!$AA43)*1000","v":1.7114982578397213},{"$f":"('2007'!N43/'2007 Rate'!$AA43)*1000","v":9.8815331010452976},{"$f":"('2007'!O43/'2007 Rate'!$AA43)*1000","v":8.170034843205574},{"$f":"('2007'!P43/'2007 Rate'!$AA43)*1000","v":2.8236933797909409},{"$f":"('2007'!Q43/'2007 Rate'!$AA43)*1000","v":6.3860627177700353},{"$f":"('2007'!R43/'2007 Rate'!$AA43)*1000","v":3.5623693379790939},null,null,{"$f":"('2007'!U43/'2007 Rate'!$AA43)*1000","v":0.89756097560975612},null,null,null,null,"Fife",{"$f":"'Population estimates'!E43","v":358750}]
[41,"Forth Valley",null,{"$f":"('2007'!D44/'2007 Rate'!$AA44)*1000","v":7.3927823369845136},{"$f":"('2007'!E44/'2007 Rate'!$AA44)*1000","v":1.5451704838100468},{"$f":"('2007'!F44/'2007 Rate'!$AA44)*1000","v":5.6312879854410598},{"$f":"('2007'!G44/'2007 Rate'!$AA44)*1000","v":0.21632386773340659},{"$f":"('2007'!H44/'2007 Rate'!$AA44)*1000","v":35.216152182124091},{"$f":"('2007'!I44/'2007 Rate'!$AA44)*1000","v":27.823369845139581},{"$f":"('2007'!J44/'2007 Rate'!$AA44)*1000","v":2.1220341310991313},{"$f":"('2007'!K44/'2007 Rate'!$AA44)*1000","v":20.54733372248738},{"$f":"('2007'!L44/'2007 Rate'!$AA44)*1000","v":18.425299591388249},{"$f":"('2007'!M44/'2007 Rate'!$AA44)*1000","v":1.7031212443772963},{"$f":"('2007'!N44/'2007 Rate'!$AA44)*1000","v":8.0795247742334233},{"$f":"('2007'!O44/'2007 Rate'!$AA44)*1000","v":6.3764035298561277},{"$f":"('2007'!P44/'2007 Rate'!$AA44)*1000","v":3.5676269615080862},{"$f":"('2007'!Q44/'2007 Rate'!$AA44)*1000","v":6.5892936854032893},{"$f":"('2007'!R44/'2007 Rate'!$AA44)*1000","v":3.0216667238952031},null,null,{"$f":"('2007'!U44/'2007 Rate'!$AA44)*1000","v":0.83095834907118082},null,null,null,null,"Forth Valley",{"$f":"'Population estimates'!E44","v":291230}]
[42,"Grampian",null,{"$f":"('2007'!D45/'2007 Rate'!$AA45)*1000","v":11.236754272374109},{"$f":"('2007'!E45/'2007 Rate'!$AA45)*1000","v":2.0262999507559867},{"$f":"('2007'!F45/'2007 Rate'!$AA45)*1000","v":8.9022232760035749},{"$f":"('2007'!G45/'2007 Rate'!$AA45)*1000","v":0.30823104561454706},{"$f":"('2007'!H45/'2007 Rate'!$AA45)*1000","v":36.909299823086322},{"$f":"('2007'!I45/'2007 Rate'!$AA45)*1000","v":25.672545550712215},{"$f":"('2007'!J45/'2007 Rate'!$AA45)*1000","v":-0.34106038775100772},{"$f":"('2007'!K45/'2007 Rate'!$AA45)*1000","v":11.77843841762571},{"$f":"('2007'!L45/'2007 Rate'!$AA45)*1000","v":12.119498805376717},{"$f":"('2007'!M45/'2007 Rate'!$AA45)*1000","v":2.7777271152127523},{"$f":"('2007'!N45/'2007 Rate'!$AA45)*1000","v":11.676302686534498},{"$f":"('2007'!O45/'2007 Rate'!$AA45)*1000","v":8.8985755713217465},{"$f":"('2007'!P45/'2007 Rate'!$AA45)*1000","v":8.8000875449123637},{"$f":"('2007'!Q45/'2007 Rate'!$AA45)*1000","v":13.454558718926116},{"$f":"('2007'!R45/'2007 Rate'!$AA45)*1000","v":4.6544711740137519},null,null,{"$f":"('2007'!U45/'2007 Rate'!$AA45)*1000","v":1.6907111200277225},null,null,null,null,"Grampian",{"$f":"'Population estimates'!E45","v":548290}]
[43,"Greater Glasgow & Clyde",null,{"$f":"('2007'!D46/'2007 Rate'!$AA46)*1000","v":2.2769551932255321},{"$f":"('2007'!E46/'2007 Rate'!$AA46)*1000","v":5.8081296980614316E-2},{"$f":"('2007'!F46/'2007 Rate'!$AA46)*1000","v":2.7331879897978939},{"$f":"('2007'!G46/'2007 Rate'!$AA46)*1000","v":-0.51431409355297597},{"$f":"('2007'!H46/'2007 Rate'!$AA46)*1000","v":32.206500054714269},{"$f":"('2007'!I46/'2007 Rate'!$AA46)*1000","v":29.929544861488733},{"$f":"('2007'!J46/'2007 Rate'!$AA46)*1000","v":-2.1582673254825377},{"$f":"('2007'!K46/'2007 Rate'!$AA46)*1000","v":15.660906236584484},{"$f":"('2007'!L46/'2007 Rate'!$AA46)*1000","v":17.819173562067022},{"$f":"('2007'!M46/'2007 Rate'!$AA46)*1000","v":-5.8923054907869594E-2},{"$f":"('2007'!N46/'2007 Rate'!$AA46)*1000","v":7.3022500189395538},{"$f":"('2007'!O46/'2007 Rate'!$AA46)*1000","v":7.3611730738474233},{"$f":"('2007'!P46/'2007 Rate'!$AA46)*1000","v":4.4941455736159392},{"$f":"('2007'!Q46/'2007 Rate'!$AA46)*1000","v":9.2433437991902281},{"$f":"('2007'!R46/'2007 Rate'!$AA46)*1000","v":4.7491982255742897},null,null,{"$f":"('2007'!U46/'2007 Rate'!$AA46)*1000","v":1.5707202922583523},null,null,null,null,"Greater Glasgow",{"$f":"'Population estimates'!E46","v":1187990}]
[44,"Highland",null,{"$f":"('2007'!D47/'2007 Rate'!$AA47)*1000","v":9.7048826201594718},{"$f":"('2007'!E47/'2007 Rate'!$AA47)*1000","v":1.9759204549064457},{"$f":"('2007'!F47/'2007 Rate'!$AA47)*1000","v":7.0999714095111033},{"$f":"('2007'!G47/'2007 Rate'!$AA47)*1000","v":0.6289907557419232},{"$f":"('2007'!H47/'2007 Rate'!$AA47)*1000","v":43.251056259728706},{"$f":"('2007'!I47/'2007 Rate'!$AA47)*1000","v":33.54617363956924},{"$f":"('2007'!J47/'2007 Rate'!$AA47)*1000","v":-0.53686584707265161},{"$f":"('2007'!K47/'2007 Rate'!$AA47)*1000","v":19.181041329140061},{"$f":"('2007'!L47/'2007 Rate'!$AA47)*1000","v":19.717907176212716},{"$f":"('2007'!M47/'2007 Rate'!$AA47)*1000","v":6.7187648908796342},{"$f":"('2007'!N47/'2007 Rate'!$AA47)*1000","v":16.719082562978492},{"$f":"('2007'!O47/'2007 Rate'!$AA47)*1000","v":10.000317672098859},{"$f":"('2007'!P47/'2007 Rate'!$AA47)*1000","v":3.5229835763524893},{"$f":"('2007'!Q47/'2007 Rate'!$AA47)*1000","v":7.3509323676101523},{"$f":"('2007'!R47/'2007 Rate'!$AA47)*1000","v":3.827948791257664},null,null,{"$f":"('2007'!U47/'2007 Rate'!$AA47)*1000","v":0.99749039041900955},null,null,null,null,"Highland",{"$f":"'Population estimates'!E47","v":314790}]
[45,"Lanarkshire",null,{"$f":"('2007'!D48/'2007 Rate'!$AA48)*1000","v":3.1341146523837304},{"$f":"('2007'!E48/'2007 Rate'!$AA48)*1000","v":1.1825847165508832},{"$f":"('2007'!F48/'2007 Rate'!$AA48)*1000","v":1.6704672005090948},{"$f":"('2007'!G48/'2007 Rate'!$AA48)*1000","v":0.28106273532375248},{"$f":"('2007'!H48/'2007 Rate'!$AA48)*1000","v":22.334765162362341},{"$f":"('2007'!I48/'2007 Rate'!$AA48)*1000","v":19.200650509978612},{"$f":"('2007'!J48/'2007 Rate'!$AA48)*1000","v":1.4936981845822064},{"$f":"('2007'!K48/'2007 Rate'!$AA48)*1000","v":14.466776263456541},{"$f":"('2007'!L48/'2007 Rate'!$AA48)*1000","v":12.973078078874336},{"$f":"('2007'!M48/'2007 Rate'!$AA48)*1000","v":0.51970090682505166},{"$f":"('2007'!N48/'2007 Rate'!$AA48)*1000","v":4.7550865284332966},{"$f":"('2007'!O48/'2007 Rate'!$AA48)*1000","v":4.2353856216082448},{"$f":"('2007'!P48/'2007 Rate'!$AA48)*1000","v":1.1207155609764721},{"$f":"('2007'!Q48/'2007 Rate'!$AA48)*1000","v":3.1129023704725038},{"$f":"('2007'!R48/'2007 Rate'!$AA48)*1000","v":1.9921868094960313},null,null,{"$f":"('2007'!U48/'2007 Rate'!$AA48)*1000","v":0.57273161160311825},null,null,null,null,"Lanarkshire",{"$f":"'Population estimates'!E48","v":565710}]
[46,"Lothian",null,{"$f":"('2007'!D49/'2007 Rate'!$AA49)*1000","v":10.045793144753754},{"$f":"('2007'!E49/'2007 Rate'!$AA49)*1000","v":0.6376102716394445},{"$f":"('2007'!F49/'2007 Rate'!$AA49)*1000","v":9.4006962554433962},{"$f":"('2007'!G49/'2007 Rate'!$AA49)*1000","v":7.4866176709132426E-3},{"$f":"('2007'!H49/'2007 Rate'!$AA49)*1000","v":43.241455897583066},{"$f":"('2007'!I49/'2007 Rate'!$AA49)*1000","v":33.195662752829321},{"$f":"('2007'!J49/'2007 Rate'!$AA49)*1000","v":-0.44545375141933796},{"$f":"('2007'!K49/'2007 Rate'!$AA49)*1000","v":14.86967046404552},{"$f":"('2007'!L49/'2007 Rate'!$AA49)*1000","v":15.315124215464857},{"$f":"('2007'!M49/'2007 Rate'!$AA49)*1000","v":1.3887675779544064},{"$f":"('2007'!N49/'2007 Rate'!$AA49)*1000","v":13.364860312191958},{"$f":"('2007'!O49/'2007 Rate'!$AA49)*1000","v":11.97609273423755},{"$f":"('2007'!P49/'2007 Rate'!$AA49)*1000","v":9.1024793182186841},{"$f":"('2007'!Q49/'2007 Rate'!$AA49)*1000","v":15.006925121345594},{"$f":"('2007'!R49/'2007 Rate'!$AA49)*1000","v":5.9044458031269107},null,null,{"$f":"('2007'!U49/'2007 Rate'!$AA49)*1000","v":1.8679111088928539},null,null,null,null,"Lothian",{"$f":"'Population estimates'!E49","v":801430}]
[47,"Orkney",null,{"$f":"('2007'!D50/'2007 Rate'!$AA50)*1000","v":6.9484936831875608},{"$f":"('2007'!E50/'2007 Rate'!$AA50)*1000","v":1.9436345966958211},{"$f":"('2007'!F50/'2007 Rate'!$AA50)*1000","v":3.8872691933916421},{"$f":"('2007'!G50/'2007 Rate'!$AA50)*1000","v":1.1175898931000972},{"$f":"('2007'!H50/'2007 Rate'!$AA50)*1000","v":35.908649173955297},{"$f":"('2007'!I50/'2007 Rate'!$AA50)*1000","v":28.960155490767736},{"$f":"('2007'!J50/'2007 Rate'!$AA50)*1000","v":-0.82604470359572391},{"$f":"('2007'!K50/'2007 Rate'!$AA50)*1000","v":17.638483965014579},{"$f":"('2007'!L50/'2007 Rate'!$AA50)*1000","v":18.464528668610299},{"$f":"('2007'!M50/'2007 Rate'!$AA50)*1000","v":7.6287657920310981},{"$f":"('2007'!N50/'2007 Rate'!$AA50)*1000","v":15.646258503401363},{"$f":"('2007'!O50/'2007 Rate'!$AA50)*1000","v":8.017492711370263},{"$f":"('2007'!P50/'2007 Rate'!$AA50)*1000","v":0.1457725947521866},{"$f":"('2007'!Q50/'2007 Rate'!$AA50)*1000","v":2.6239067055393588},{"$f":"('2007'!R50/'2007 Rate'!$AA50)*1000","v":2.4781341107871717},null,null,{"$f":"('2007'!U50/'2007 Rate'!$AA50)*1000","v":0.29154518950437319},null,null,null,null,"Orkney",{"$f":"'Population estimates'!E50","v":20580}]
[48,"Shetland",null,{"$f":"('2007'!D51/'2007 Rate'!$AA51)*1000","v":2.058165548098434},{"$f":"('2007'!E51/'2007 Rate'!$AA51)*1000","v":1.029082774049217},{"$f":"('2007'!F51/'2007 Rate'!$AA51)*1000","v":0.67114093959731536},{"$f":"('2007'!G51/'2007 Rate'!$AA51)*1000","v":0.35794183445190159},{"$f":"('2007'!H51/'2007 Rate'!$AA51)*1000","v":34.944071588366889},{"$f":"('2007'!I51/'2007 Rate'!$AA51)*1000","v":32.885906040268452},{"$f":"('2007'!J51/'2007 Rate'!$AA51)*1000","v":-4.5637583892617446},{"$f":"('2007'!K51/'2007 Rate'!$AA51)*1000","v":16.331096196868007},{"$f":"('2007'!L51/'2007 Rate'!$AA51)*1000","v":20.894854586129753},{"$f":"('2007'!M51/'2007 Rate'!$AA51)*1000","v":5.9955257270693512},{"$f":"('2007'!N51/'2007 Rate'!$AA51)*1000","v":15.212527964205815},{"$f":"('2007'!O51/'2007 Rate'!$AA51)*1000","v":9.2170022371364659},{"$f":"('2007'!P51/'2007 Rate'!$AA51)*1000","v":0.62639821029082776},{"$f":"('2007'!Q51/'2007 Rate'!$AA51)*1000","v":3.4004474272930647},{"$f":"('2007'!R51/'2007 Rate'!$AA51)*1000","v":2.7740492170022373},null,null,{"$f":"('2007'!U51/'2007 Rate'!$AA51)*1000","v":0.67114093959731536},null,null,null,null,"Shetland",{"$f":"'Population estimates'!E51","v":22350}]
[49,"Tayside",null,{"$f":"('2007'!D52/'2007 Rate'!$AA52)*1000","v":8.6927054571012601},{"$f":"('2007'!E52/'2007 Rate'!$AA52)*1000","v":1.4684472112053819},{"$f":"('2007'!F52/'2007 Rate'!$AA52)*1000","v":6.7322656759877502},{"$f":"('2007'!G52/'2007 Rate'!$AA52)*1000","v":0.49199256990812784},{"$f":"('2007'!H52/'2007 Rate'!$AA52)*1000","v":37.122847532506647},{"$f":"('2007'!I52/'2007 Rate'!$AA52)*1000","v":28.430142075405392},{"$f":"('2007'!J52/'2007 Rate'!$AA52)*1000","v":0.8509463326472213},{"$f":"('2007'!K52/'2007 Rate'!$AA52)*1000","v":16.795521863547368},{"$f":"('2007'!L52/'2007 Rate'!$AA52)*1000","v":15.944575530900146},{"$f":"('2007'!M52/'2007 Rate'!$AA52)*1000","v":1.1622069380993023},{"$f":"('2007'!N52/'2007 Rate'!$AA52)*1000","v":9.503489130980471},{"$f":"('2007'!O52/'2007 Rate'!$AA52)*1000","v":8.3412821928811702},{"$f":"('2007'!P52/'2007 Rate'!$AA52)*1000","v":6.6795521863547362},{"$f":"('2007'!Q52/'2007 Rate'!$AA52)*1000","v":10.823836537978814},{"$f":"('2007'!R52/'2007 Rate'!$AA52)*1000","v":4.1442843516240782},null,null,{"$f":"('2007'!U52/'2007 Rate'!$AA52)*1000","v":1.1170239469852905},null,null,null,null,"Tayside",{"$f":"'Population estimates'!E52","v":398380}]
[50,"Western Isles",null,{"$f":"('2007'!D53/'2007 Rate'!$AA53)*1000","v":2.6828371922087468},{"$f":"('2007'!E53/'2007 Rate'!$AA53)*1000","v":0.40426313855200297},{"$f":"('2007'!F53/'2007 Rate'!$AA53)*1000","v":1.6538037486218302},{"$f":"('2007'!G53/'2007 Rate'!$AA53)*1000","v":0.6247703050349136},{"$f":"('2007'!H53/'2007 Rate'!$AA53)*1000","v":38.000735023888275},{"$f":"('2007'!I53/'2007 Rate'!$AA53)*1000","v":35.317897831679531},{"$f":"('2007'!J53/'2007 Rate'!$AA53)*1000","v":-1.9110621095185594},{"$f":"('2007'!K53/'2007 Rate'!$AA53)*1000","v":21.609702315325247},{"$f":"('2007'!L53/'2007 Rate'!$AA53)*1000","v":23.520764424843808},{"$f":"('2007'!M53/'2007 Rate'!$AA53)*1000","v":3.6383682469680267},{"$f":"('2007'!N53/'2007 Rate'!$AA53)*1000","v":12.752664461595002},{"$f":"('2007'!O53/'2007 Rate'!$AA53)*1000","v":9.1142962146269753},{"$f":"('2007'!P53/'2007 Rate'!$AA53)*1000","v":0.95553105475927969},{"$f":"('2007'!Q53/'2007 Rate'!$AA53)*1000","v":3.6383682469680267},{"$f":"('2007'!R53/'2007 Rate'!$AA53)*1000","v":2.6828371922087468},null,null,{"$f":"('2007'!U53/'2007 Rate'!$AA53)*1000","v":0.47776552737963984},null,null,null,null,"Western Isles",{"$f":"'Population estimates'!E53","v":27210}]

{"sheet":"2008","index":43,"n_rows":53,"n_cols":25,"rows_kept":53,"cut":false,"hidden":true,"merged":[]}
[null,2008]
[null,null,"Not specified ",{"$f":"'Comparing Indicators'!$U8","v":"Total net migration"},{"$f":"'Comparing Indicators'!$U9","v":"Total net migration for ages 0-15"},{"$f":"'Comparing Indicators'!$U10","v":"Total net migration for ages 16-64"},{"$f":"'Comparing Indicators'!$U11","v":"Total net migration for people aged 65+"},{"$f":"'Comparing Indicators'!$U12","v":"Total in-migration"},{"$f":"'Comparing Indicators'!$U13","v":"Total out-migration"},{"$f":"'Comparing Indicators'!$U14","v":"Within Scotland net migration"},{"$f":"'Comparing Indicators'!$U15","v":"Within Scotland in-migration"},{"$f":"'Comparing Indicators'!$U16","v":"Within Scotland out-migration"},{"$f":"'Comparing Indicators'!$U17","v":"Rest of UK net migration"},{"$f":"'Comparing Indicators'!$U18","v":"Rest of UK in-migration"},{"$f":"'Comparing Indicators'!$U19","v":"Rest of UK out-migration"},{"$f":"'Comparing Indicators'!$U20","v":"Overseas net migration"},{"$f":"'Comparing Indicators'!$U21","v":"Overseas in-migration"},{"$f":"'Comparing Indicators'!$U22","v":"Overseas out-migration"},{"$f":"'Comparing Indicators'!$U23","v":"Worker Registration Scheme"},{"$f":"'Comparing Indicators'!$U24","v":"NINo Allocation"},{"$f":"'Comparing Indicators'!$U25","v":"Births to non-UK mothers"},{"$f":"'Comparing Indicators'!$U26","v":"Pupils from a minority ethnic group"},{"$f":"'Comparing Indicators'!$U27","v":"Pupils with English as an additional language"},{"$f":"'Comparing Indicators'!$U28","v":"Estimate of resident population born outside the UK"},"NHS registrations from overseas"]
[1,"Not specified"]
[2,"SCOTLAND",null,{"$f":"'Total net migration'!F4","v":26409},{"$f":"'Total net migration 0-15'!F4","v":4287},{"$f":"'Total net migration 16-64'!F4","v":21574},{"$f":"'Total net migration 65+'!F4","v":548},{"$f":"'Total in-migration'!F4","v":98527},{"$f":"'Total out-migration'!F4","v":72118},null,null,null,{"$f":"'Rest of UK net migration'!F4","v":11509},{"$f":"'Rest of UK in-migration'!F4","v":53327},{"$f":"'Rest of UK out-migration'!F4","v":41818},{"$f":"'Overseas net migration'!F4","v":14900},{"$f":"'Overseas in-migration'!F4","v":45200},{"$f":"'Overseas out-migration'!F4","v":30300},{"$f":"WRS!F5","v":14180},{"$f":"NINo!F5","v":46110},{"$f":"'Non-UK Births'!F5","v":7607},{"$f":"'Pupils ethnic group'!G5","v":31477},{"$f":"'Pupils with English as an add.'!D4","v":19001},{"$f":"'Pop born outside UK'!F5","v":289000},{"$f":"'NHS Overseas'!$F$5","v":62246}]
[3,"Aberdeen City",null,{"$f":"'Total net migration'!F5","v":1646},{"$f":"'Total net migration 0-15'!F5","v":180},{"$f":"'Total net migration 16-64'!F5","v":1641},{"$f":"'Total net migration 65+'!F5","v":-175},{"$f":"'Total in-migration'!F5","v":13628},{"$f":"'Total out-migration'!F5","v":11982},{"$f":"'Within Scotland net migration'!F5","v":-1657},{"$f":"'Within Scotland in-migration'!F5","v":5634},{"$f":"'Within Scotland out-migration'!F5","v":7291},{"$f":"'Rest of UK net migration'!F5","v":273},{"$f":"'Rest of UK in-migration'!F5","v":2585},{"$f":"'Rest of UK out-migration'!F5","v":2312},{"$f":"'Overseas net migration'!F5","v":3030},{"$f":"'Overseas in-migration'!F5","v":5409},{"$f":"'Overseas out-migration'!F5","v":2379},{"$f":"WRS!F6","v":890},{"$f":"NINo!F6","v":5020},{"$f":"'Non-UK Births'!F6","v":726},{"$f":"'Pupils ethnic group'!G6","v":1627},{"$f":"'Pupils with English as an add.'!D5","v":1417},{"$f":"'Pop born outside UK'!F6","v":24000}]
[4,"Aberdeenshire",null,{"$f":"'Total net migration'!F6","v":1881},{"$f":"'Total net migration 0-15'!F6","v":569},{"$f":"'Total net migration 16-64'!F6","v":1177},{"$f":"'Total net migration 65+'!F6","v":135},{"$f":"'Total in-migration'!F6","v":9778},{"$f":"'Total out-migration'!F6","v":7897},{"$f":"'Within Scotland net migration'!F6","v":878},{"$f":"'Within Scotland in-migration'!F6","v":6013},{"$f":"'Within Scotland out-migration'!F6","v":5135},{"$f":"'Rest of UK net migration'!F6","v":598},{"$f":"'Rest of UK in-migration'!F6","v":2251},{"$f":"'Rest of UK out-migration'!F6","v":1653},{"$f":"'Overseas net migration'!F6","v":405},{"$f":"'Overseas in-migration'!F6","v":1514},{"$f":"'Overseas out-migration'!F6","v":1109},{"$f":"WRS!F7","v":1020},{"$f":"NINo!F7","v":1690},{"$f":"'Non-UK Births'!F7","v":298},{"$f":"'Pupils ethnic group'!G7","v":559},{"$f":"'Pupils with English as an add.'!D6","v":515},{"$f":"'Pop born outside UK'!F7","v":14000}]
[5,"Angus",null,{"$f":"'Total net migration'!F7","v":653},{"$f":"'Total net migration 0-15'!F7","v":170},{"$f":"'Total net migration 16-64'!F7","v":342},{"$f":"'Total net migration 65+'!F7","v":141},{"$f":"'Total in-migration'!F7","v":4282},{"$f":"'Total out-migration'!F7","v":3629},{"$f":"'Within Scotland net migration'!F7","v":380},{"$f":"'Within Scotland in-migration'!F7","v":2934},{"$f":"'Within Scotland out-migration'!F7","v":2554},{"$f":"'Rest of UK net migration'!F7","v":166},{"$f":"'Rest of UK in-migration'!F7","v":832},{"$f":"'Rest of UK out-migration'!F7","v":666},{"$f":"'Overseas net migration'!F7","v":107},{"$f":"'Overseas in-migration'!F7","v":516},{"$f":"'Overseas out-migration'!F7","v":409},{"$f":"WRS!F8","v":770},{"$f":"NINo!F8","v":1260},{"$f":"'Non-UK Births'!F8","v":95},{"$f":"'Pupils ethnic group'!G8","v":570},{"$f":"'Pupils with English as an add.'!D7","v":150},{"$f":"'Pop born outside UK'!F8","v":5000}]
[6,"Argyll & Bute",null,{"$f":"'Total net migration'!F8","v":-39},{"$f":"'Total net migration 0-15'!F8","v":-28},{"$f":"'Total net migration 16-64'!F8","v":12},{"$f":"'Total net migration 65+'!F8","v":-23},{"$f":"'Total in-migration'!F8","v":4081},{"$f":"'Total out-migration'!F8","v":4120},{"$f":"'Within Scotland net migration'!F8","v":-211},{"$f":"'Within Scotland in-migration'!F8","v":2212},{"$f":"'Within Scotland out-migration'!F8","v":2423},{"$f":"'Rest of UK net migration'!F8","v":398},{"$f":"'Rest of UK in-migration'!F8","v":1455},{"$f":"'Rest of UK out-migration'!F8","v":1057},{"$f":"'Overseas net migration'!F8","v":-226},{"$f":"'Overseas in-migration'!F8","v":414},{"$f":"'Overseas out-migration'!F8","v":640},{"$f":"WRS!F9","v":250},{"$f":"NINo!F9","v":560},{"$f":"'Non-UK Births'!F9","v":83},{"$f":"'Pupils ethnic group'!G9","v":203},{"$f":"'Pupils with English as an add.'!D8","v":102},{"$f":"'Pop born outside UK'!F9","v":4000}]
[7,"Clackmannanshire",null,{"$f":"'Total net migration'!F9","v":397},{"$f":"'Total net migration 0-15'!F9","v":139},{"$f":"'Total net migration 16-64'!F9","v":288},{"$f":"'Total net migration 65+'!F9","v":-30},{"$f":"'Total in-migration'!F9","v":2133},{"$f":"'Total out-migration'!F9","v":1736},{"$f":"'Within Scotland net migration'!F9","v":291},{"$f":"'Within Scotland in-migration'!F9","v":1511},{"$f":"'Within Scotland out-migration'!F9","v":1220},{"$f":"'Rest of UK net migration'!F9","v":118},{"$f":"'Rest of UK in-migration'!F9","v":433},{"$f":"'Rest of UK out-migration'!F9","v":315},{"$f":"'Overseas net migration'!F9","v":-12},{"$f":"'Overseas in-migration'!F9","v":189},{"$f":"'Overseas out-migration'!F9","v":201},{"$f":"WRS!F10","v":35},{"$f":"NINo!F10","v":170},{"$f":"'Non-UK Births'!F10","v":46},{"$f":"'Pupils ethnic group'!G10","v":188},{"$f":"'Pupils with English as an add.'!D9","v":84},{"$f":"'Pop born outside UK'!F10","v":"*"}]
[8,"Dumfries & Galloway",null,{"$f":"'Total net migration'!F10","v":810},{"$f":"'Total net migration 0-15'!F10","v":165},{"$f":"'Total net migration 16-64'!F10","v":523},{"$f":"'Total net migration 65+'!F10","v":122},{"$f":"'Total in-migration'!F10","v":4931},{"$f":"'Total out-migration'!F10","v":4121},{"$f":"'Within Scotland net migration'!F10","v":54},{"$f":"'Within Scotland in-migration'!F10","v":1790},{"$f":"'Within Scotland out-migration'!F10","v":1736},{"$f":"'Rest of UK net migration'!F10","v":931},{"$f":"'Rest of UK in-migration'!F10","v":2617},{"$f":"'Rest of UK out-migration'!F10","v":1686},{"$f":"'Overseas net migration'!F10","v":-175},{"$f":"'Overseas in-migration'!F10","v":524},{"$f":"'Overseas out-migration'!F10","v":699},{"$f":"WRS!F11","v":185},{"$f":"NINo!F11","v":420},{"$f":"'Non-UK Births'!F11","v":81},{"$f":"'Pupils ethnic group'!G11","v":341},{"$f":"'Pupils with English as an add.'!D10","v":232},{"$f":"'Pop born outside UK'!F11","v":"*"}]
[9,"Dundee City",null,{"$f":"'Total net migration'!F11","v":608},{"$f":"'Total net migration 0-15'!F11","v":65},{"$f":"'Total net migration 16-64'!F11","v":608},{"$f":"'Total net migration 65+'!F11","v":-65},{"$f":"'Total in-migration'!F11","v":7296},{"$f":"'Total out-migration'!F11","v":6688},{"$f":"'Within Scotland net migration'!F11","v":-392},{"$f":"'Within Scotland in-migration'!F11","v":3776},{"$f":"'Within Scotland out-migration'!F11","v":4168},{"$f":"'Rest of UK net migration'!F11","v":50},{"$f":"'Rest of UK in-migration'!F11","v":1448},{"$f":"'Rest of UK out-migration'!F11","v":1398},{"$f":"'Overseas net migration'!F11","v":950},{"$f":"'Overseas in-migration'!F11","v":2072},{"$f":"'Overseas out-migration'!F11","v":1122},{"$f":"WRS!F12","v":315},{"$f":"NINo!F12","v":1660},{"$f":"'Non-UK Births'!F12","v":288},{"$f":"'Pupils ethnic group'!G12","v":1191},{"$f":"'Pupils with English as an add.'!D11","v":657},{"$f":"'Pop born outside UK'!F12","v":9000}]
[10,"East Ayrshire",null,{"$f":"'Total net migration'!F12","v":549},{"$f":"'Total net migration 0-15'!F12","v":165},{"$f":"'Total net migration 16-64'!F12","v":388},{"$f":"'Total net migration 65+'!F12","v":-4},{"$f":"'Total in-migration'!F12","v":3790},{"$f":"'Total out-migration'!F12","v":3241},{"$f":"'Within Scotland net migration'!F12","v":359},{"$f":"'Within Scotland in-migration'!F12","v":2686},{"$f":"'Within Scotland out-migration'!F12","v":2327},{"$f":"'Rest of UK net migration'!F12","v":283},{"$f":"'Rest of UK in-migration'!F12","v":882},{"$f":"'Rest of UK out-migration'!F12","v":599},{"$f":"'Overseas net migration'!F12","v":-93},{"$f":"'Overseas in-migration'!F12","v":222},{"$f":"'Overseas out-migration'!F12","v":315},{"$f":"WRS!F13","v":125},{"$f":"NINo!F13","v":130},{"$f":"'Non-UK Births'!F13","v":52},{"$f":"'Pupils ethnic group'!G13","v":258},{"$f":"'Pupils with English as an add.'!D12","v":77},{"$f":"'Pop born outside UK'!F13","v":"*"}]
[11,"East Dunbartonshire",null,{"$f":"'Total net migration'!F13","v":-180},{"$f":"'Total net migration 0-15'!F13","v":238},{"$f":"'Total net migration 16-64'!F13","v":-362},{"$f":"'Total net migration 65+'!F13","v":-56},{"$f":"'Total in-migration'!F13","v":3425},{"$f":"'Total out-migration'!F13","v":3605},{"$f":"'Within Scotland net migration'!F13","v":-102},{"$f":"'Within Scotland in-migration'!F13","v":2828},{"$f":"'Within Scotland out-migration'!F13","v":2930},{"$f":"'Rest of UK net migration'!F13","v":43},{"$f":"'Rest of UK in-migration'!F13","v":461},{"$f":"'Rest of UK out-migration'!F13","v":418},{"$f":"'Overseas net migration'!F13","v":-121},{"$f":"'Overseas in-migration'!F13","v":136},{"$f":"'Overseas out-migration'!F13","v":257},{"$f":"WRS!F14","v":35},{"$f":"NINo!F14","v":150},{"$f":"'Non-UK Births'!F14","v":80},{"$f":"'Pupils ethnic group'!G14","v":979},{"$f":"'Pupils with English as an add.'!D13","v":333},{"$f":"'Pop born outside UK'!F14","v":5000}]
[12,"East Lothian",null,{"$f":"'Total net migration'!F14","v":1635},{"$f":"'Total net migration 0-15'!F14","v":233},{"$f":"'Total net migration 16-64'!F14","v":1318},{"$f":"'Total net migration 65+'!F14","v":84},{"$f":"'Total in-migration'!F14","v":4813},{"$f":"'Total out-migration'!F14","v":3178},{"$f":"'Within Scotland net migration'!F14","v":991},{"$f":"'Within Scotland in-migration'!F14","v":3246},{"$f":"'Within Scotland out-migration'!F14","v":2255},{"$f":"'Rest of UK net migration'!F14","v":391},{"$f":"'Rest of UK in-migration'!F14","v":1019},{"$f":"'Rest of UK out-migration'!F14","v":628},{"$f":"'Overseas net migration'!F14","v":253},{"$f":"'Overseas in-migration'!F14","v":548},{"$f":"'Overseas out-migration'!F14","v":295},{"$f":"WRS!F15","v":125},{"$f":"NINo!F15","v":490},{"$f":"'Non-UK Births'!F15","v":106},{"$f":"'Pupils ethnic group'!G15","v":240},{"$f":"'Pupils with English as an add.'!D14","v":117},{"$f":"'Pop born outside UK'!F15","v":4000}]
[13,"East Renfrewshire",null,{"$f":"'Total net migration'!F15","v":-72},{"$f":"'Total net migration 0-15'!F15","v":255},{"$f":"'Total net migration 16-64'!F15","v":-327},{"$f":"'Total net migration 65+'!F15","v":0},{"$f":"'Total in-migration'!F15","v":3287},{"$f":"'Total out-migration'!F15","v":3359},{"$f":"'Within Scotland net migration'!F15","v":158},{"$f":"'Within Scotland in-migration'!F15","v":2829},{"$f":"'Within Scotland out-migration'!F15","v":2671},{"$f":"'Rest of UK net migration'!F15","v":-131},{"$f":"'Rest of UK in-migration'!F15","v":321},{"$f":"'Rest of UK out-migration'!F15","v":452},{"$f":"'Overseas net migration'!F15","v":-99},{"$f":"'Overseas in-migration'!F15","v":137},{"$f":"'Overseas out-migration'!F15","v":236},{"$f":"WRS!F16","v":35},{"$f":"NINo!F16","v":100},{"$f":"'Non-UK Births'!F16","v":77},{"$f":"'Pupils ethnic group'!G16","v":1852},{"$f":"'Pupils with English as an add.'!D15","v":679},{"$f":"'Pop born outside UK'!F16","v":3000}]
[14,"Edinburgh, City of",null,{"$f":"'Total net migration'!F16","v":3356},{"$f":"'Total net migration 0-15'!F16","v":-124},{"$f":"'Total net migration 16-64'!F16","v":3653},{"$f":"'Total net migration 65+'!F16","v":-173},{"$f":"'Total in-migration'!F16","v":29672},{"$f":"'Total out-migration'!F16","v":26316},{"$f":"'Within Scotland net migration'!F16","v":-1978},{"$f":"'Within Scotland in-migration'!F16","v":10744},{"$f":"'Within Scotland out-migration'!F16","v":12722},{"$f":"'Rest of UK net migration'!F16","v":1349},{"$f":"'Rest of UK in-migration'!F16","v":8938},{"$f":"'Rest of UK out-migration'!F16","v":7589},{"$f":"'Overseas net migration'!F16","v":3985},{"$f":"'Overseas in-migration'!F16","v":9990},{"$f":"'Overseas out-migration'!F16","v":6005},{"$f":"WRS!F17","v":1565},{"$f":"NINo!F17","v":10330},{"$f":"'Non-UK Births'!F17","v":1455},{"$f":"'Pupils ethnic group'!G17","v":4672},{"$f":"'Pupils with English as an add.'!D16","v":2602},{"$f":"'Pop born outside UK'!F17","v":60000}]
[15,"Eilean Siar",null,{"$f":"'Total net migration'!F17","v":23},{"$f":"'Total net migration 0-15'!F17","v":40},{"$f":"'Total net migration 16-64'!F17","v":-59},{"$f":"'Total net migration 65+'!F17","v":42},{"$f":"'Total in-migration'!F17","v":1028},{"$f":"'Total out-migration'!F17","v":1005},{"$f":"'Within Scotland net migration'!F17","v":-80},{"$f":"'Within Scotland in-migration'!F17","v":616},{"$f":"'Within Scotland out-migration'!F17","v":696},{"$f":"'Rest of UK net migration'!F17","v":130},{"$f":"'Rest of UK in-migration'!F17","v":334},{"$f":"'Rest of UK out-migration'!F17","v":204},{"$f":"'Overseas net migration'!F17","v":-27},{"$f":"'Overseas in-migration'!F17","v":78},{"$f":"'Overseas out-migration'!F17","v":105},{"$f":"WRS!F18","v":40},{"$f":"NINo!F18","v":70},{"$f":"'Non-UK Births'!F18","v":14},{"$f":"'Pupils ethnic group'!G18","v":39},{"$f":"'Pupils with English as an add.'!D17","v":19},{"$f":"'Pop born outside UK'!F18","v":"*"}]
[16,"Falkirk",null,{"$f":"'Total net migration'!F18","v":663},{"$f":"'Total net migration 0-15'!F18","v":59},{"$f":"'Total net migration 16-64'!F18","v":532},{"$f":"'Total net migration 65+'!F18","v":72},{"$f":"'Total in-migration'!F18","v":4314},{"$f":"'Total out-migration'!F18","v":3651},{"$f":"'Within Scotland net migration'!F18","v":440},{"$f":"'Within Scotland in-migration'!F18","v":2997},{"$f":"'Within Scotland out-migration'!F18","v":2557},{"$f":"'Rest of UK net migration'!F18","v":114},{"$f":"'Rest of UK in-migration'!F18","v":753},{"$f":"'Rest of UK out-migration'!F18","v":639},{"$f":"'Overseas net migration'!F18","v":109},{"$f":"'Overseas in-migration'!F18","v":564},{"$f":"'Overseas out-migration'!F18","v":455},{"$f":"WRS!F19","v":160},{"$f":"NINo!F19","v":430},{"$f":"'Non-UK Births'!F19","v":144},{"$f":"'Pupils ethnic group'!G19","v":544},{"$f":"'Pupils with English as an add.'!D18","v":328},{"$f":"'Pop born outside UK'!F19","v":"*"}]
[17,"Fife",null,{"$f":"'Total net migration'!F19","v":1627},{"$f":"'Total net migration 0-15'!F19","v":278},{"$f":"'Total net migration 16-64'!F19","v":1248},{"$f":"'Total net migration 65+'!F19","v":101},{"$f":"'Total in-migration'!F19","v":12083},{"$f":"'Total out-migration'!F19","v":10456},{"$f":"'Within Scotland net migration'!F19","v":731},{"$f":"'Within Scotland in-migration'!F19","v":6397},{"$f":"'Within Scotland out-migration'!F19","v":5666},{"$f":"'Rest of UK net migration'!F19","v":512},{"$f":"'Rest of UK in-migration'!F19","v":3477},{"$f":"'Rest of UK out-migration'!F19","v":2965},{"$f":"'Overseas net migration'!F19","v":384},{"$f":"'Overseas in-migration'!F19","v":2209},{"$f":"'Overseas out-migration'!F19","v":1825},{"$f":"WRS!F20","v":1015},{"$f":"NINo!F20","v":1950},{"$f":"'Non-UK Births'!F20","v":388},{"$f":"'Pupils ethnic group'!G20","v":1276},{"$f":"'Pupils with English as an add.'!D19","v":512},{"$f":"'Pop born outside UK'!F20","v":"*"}]
[18,"Glasgow City",null,{"$f":"'Total net migration'!F20","v":2929},{"$f":"'Total net migration 0-15'!F20","v":-648},{"$f":"'Total net migration 16-64'!F20","v":3976},{"$f":"'Total net migration 65+'!F20","v":-399},{"$f":"'Total in-migration'!F20","v":31107},{"$f":"'Total out-migration'!F20","v":28178},{"$f":"'Within Scotland net migration'!F20","v":-2169},{"$f":"'Within Scotland in-migration'!F20","v":14583},{"$f":"'Within Scotland out-migration'!F20","v":16752},{"$f":"'Rest of UK net migration'!F20","v":850},{"$f":"'Rest of UK in-migration'!F20","v":6755},{"$f":"'Rest of UK out-migration'!F20","v":5905},{"$f":"'Overseas net migration'!F20","v":4248},{"$f":"'Overseas in-migration'!F20","v":9769},{"$f":"'Overseas out-migration'!F20","v":5521},{"$f":"WRS!F21","v":1690},{"$f":"NINo!F21","v":8820},{"$f":"'Non-UK Births'!F21","v":1733},{"$f":"'Pupils ethnic group'!G21","v":9177},{"$f":"'Pupils with English as an add.'!D20","v":7804},{"$f":"'Pop born outside UK'!F21","v":62000}]
[19,"Highland",null,{"$f":"'Total net migration'!F21","v":2111},{"$f":"'Total net migration 0-15'!F21","v":451},{"$f":"'Total net migration 16-64'!F21","v":1495},{"$f":"'Total net migration 65+'!F21","v":165},{"$f":"'Total in-migration'!F21","v":9621},{"$f":"'Total out-migration'!F21","v":7510},{"$f":"'Within Scotland net migration'!F21","v":431},{"$f":"'Within Scotland in-migration'!F21","v":4531},{"$f":"'Within Scotland out-migration'!F21","v":4100},{"$f":"'Rest of UK net migration'!F21","v":1368},{"$f":"'Rest of UK in-migration'!F21","v":3531},{"$f":"'Rest of UK out-migration'!F21","v":2163},{"$f":"'Overseas net migration'!F21","v":312},{"$f":"'Overseas in-migration'!F21","v":1559},{"$f":"'Overseas out-migration'!F21","v":1247},{"$f":"WRS!F22","v":1260},{"$f":"NINo!F22","v":2140},{"$f":"'Non-UK Births'!F22","v":261},{"$f":"'Pupils ethnic group'!G22","v":632},{"$f":"'Pupils with English as an add.'!D21","v":486},{"$f":"'Pop born outside UK'!F22","v":8000}]
[20,"Inverclyde",null,{"$f":"'Total net migration'!F22","v":-203},{"$f":"'Total net migration 0-15'!F22","v":-7},{"$f":"'Total net migration 16-64'!F22","v":-160},{"$f":"'Total net migration 65+'!F22","v":-36},{"$f":"'Total in-migration'!F22","v":1658},{"$f":"'Total out-migration'!F22","v":1861},{"$f":"'Within Scotland net migration'!F22","v":-203},{"$f":"'Within Scotland in-migration'!F22","v":1045},{"$f":"'Within Scotland out-migration'!F22","v":1248},{"$f":"'Rest of UK net migration'!F22","v":52},{"$f":"'Rest of UK in-migration'!F22","v":426},{"$f":"'Rest of UK out-migration'!F22","v":374},{"$f":"'Overseas net migration'!F22","v":-52},{"$f":"'Overseas in-migration'!F22","v":187},{"$f":"'Overseas out-migration'!F22","v":239},{"$f":"WRS!F23","v":10},{"$f":"NINo!F23","v":250},{"$f":"'Non-UK Births'!F23","v":36},{"$f":"'Pupils ethnic group'!G23","v":185},{"$f":"'Pupils with English as an add.'!D22","v":24},{"$f":"'Pop born outside UK'!F23","v":"*"}]
[21,"Midlothian",null,{"$f":"'Total net migration'!F23","v":427},{"$f":"'Total net migration 0-15'!F23","v":121},{"$f":"'Total net migration 16-64'!F23","v":270},{"$f":"'Total net migration 65+'!F23","v":36},{"$f":"'Total in-migration'!F23","v":2986},{"$f":"'Total out-migration'!F23","v":2559},{"$f":"'Within Scotland net migration'!F23","v":331},{"$f":"'Within Scotland in-migration'!F23","v":2338},{"$f":"'Within Scotland out-migration'!F23","v":2007},{"$f":"'Rest of UK net migration'!F23","v":89},{"$f":"'Rest of UK in-migration'!F23","v":450},{"$f":"'Rest of UK out-migration'!F23","v":361},{"$f":"'Overseas net migration'!F23","v":7},{"$f":"'Overseas in-migration'!F23","v":198},{"$f":"'Overseas out-migration'!F23","v":191},{"$f":"WRS!F24","v":115},{"$f":"NINo!F24","v":180},{"$f":"'Non-UK Births'!F24","v":82},{"$f":"'Pupils ethnic group'!G24","v":279},{"$f":"'Pupils with English as an add.'!D23","v":99},{"$f":"'Pop born outside UK'!F24","v":"*"}]
[22,"Moray",null,{"$f":"'Total net migration'!F24","v":330},{"$f":"'Total net migration 0-15'!F24","v":77},{"$f":"'Total net migration 16-64'!F24","v":155},{"$f":"'Total net migration 65+'!F24","v":98},{"$f":"'Total in-migration'!F24","v":3479},{"$f":"'Total out-migration'!F24","v":3149},{"$f":"'Within Scotland net migration'!F24","v":-64},{"$f":"'Within Scotland in-migration'!F24","v":1643},{"$f":"'Within Scotland out-migration'!F24","v":1707},{"$f":"'Rest of UK net migration'!F24","v":403},{"$f":"'Rest of UK in-migration'!F24","v":1336},{"$f":"'Rest of UK out-migration'!F24","v":933},{"$f":"'Overseas net migration'!F24","v":-9},{"$f":"'Overseas in-migration'!F24","v":500},{"$f":"'Overseas out-migration'!F24","v":509},{"$f":"WRS!F25","v":205},{"$f":"NINo!F25","v":380},{"$f":"'Non-UK Births'!F25","v":84},{"$f":"'Pupils ethnic group'!G25","v":230},{"$f":"'Pupils with English as an add.'!D24","v":193},{"$f":"'Pop born outside UK'!F25","v":4000}]
[23,"North Ayrshire",null,{"$f":"'Total net migration'!F25","v":333},{"$f":"'Total net migration 0-15'!F25","v":127},{"$f":"'Total net migration 16-64'!F25","v":120},{"$f":"'Total net migration 65+'!F25","v":86},{"$f":"'Total in-migration'!F25","v":4193},{"$f":"'Total out-migration'!F25","v":3860},{"$f":"'Within Scotland net migration'!F25","v":139},{"$f":"'Within Scotland in-migration'!F25","v":2901},{"$f":"'Within Scotland out-migration'!F25","v":2762},{"$f":"'Rest of UK net migration'!F25","v":340},{"$f":"'Rest of UK in-migration'!F25","v":1031},{"$f":"'Rest of UK out-migration'!F25","v":691},{"$f":"'Overseas net migration'!F25","v":-146},{"$f":"'Overseas in-migration'!F25","v":261},{"$f":"'Overseas out-migration'!F25","v":407},{"$f":"WRS!F26","v":60},{"$f":"NINo!F26","v":220},{"$f":"'Non-UK Births'!F26","v":55},{"$f":"'Pupils ethnic group'!G26","v":263},{"$f":"'Pupils with English as an add.'!D25","v":66},{"$f":"'Pop born outside UK'!F26","v":"*"}]
[24,"North Lanarkshire",null,{"$f":"'Total net migration'!F26","v":534},{"$f":"'Total net migration 0-15'!F26","v":218},{"$f":"'Total net migration 16-64'!F26","v":379},{"$f":"'Total net migration 65+'!F26","v":-63},{"$f":"'Total in-migration'!F26","v":8007},{"$f":"'Total out-migration'!F26","v":7473},{"$f":"'Within Scotland net migration'!F26","v":219},{"$f":"'Within Scotland in-migration'!F26","v":5578},{"$f":"'Within Scotland out-migration'!F26","v":5359},{"$f":"'Rest of UK net migration'!F26","v":218},{"$f":"'Rest of UK in-migration'!F26","v":1350},{"$f":"'Rest of UK out-migration'!F26","v":1132},{"$f":"'Overseas net migration'!F26","v":97},{"$f":"'Overseas in-migration'!F26","v":1079},{"$f":"'Overseas out-migration'!F26","v":982},{"$f":"WRS!F27","v":545},{"$f":"NINo!F27","v":1170},{"$f":"'Non-UK Births'!F27","v":245},{"$f":"'Pupils ethnic group'!G27","v":1425},{"$f":"'Pupils with English as an add.'!D26","v":667},{"$f":"'Pop born outside UK'!F27","v":"*"}]
[25,"Orkney Islands",null,{"$f":"'Total net migration'!F27","v":95},{"$f":"'Total net migration 0-15'!F27","v":45},{"$f":"'Total net migration 16-64'!F27","v":30},{"$f":"'Total net migration 65+'!F27","v":20},{"$f":"'Total in-migration'!F27","v":745},{"$f":"'Total out-migration'!F27","v":650},{"$f":"'Within Scotland net migration'!F27","v":-51},{"$f":"'Within Scotland in-migration'!F27","v":368},{"$f":"'Within Scotland out-migration'!F27","v":419},{"$f":"'Rest of UK net migration'!F27","v":172},{"$f":"'Rest of UK in-migration'!F27","v":329},{"$f":"'Rest of UK out-migration'!F27","v":157},{"$f":"'Overseas net migration'!F27","v":-26},{"$f":"'Overseas in-migration'!F27","v":48},{"$f":"'Overseas out-migration'!F27","v":74},{"$f":"WRS!F28","v":20},{"$f":"NINo!F28","v":60},{"$f":"'Non-UK Births'!F28","v":13},{"$f":"'Pupils ethnic group'!G28","v":46},{"$f":"'Pupils with English as an add.'!D27","v":6},{"$f":"'Pop born outside UK'!F28","v":"*"}]
[26,"Perth & Kinross",null,{"$f":"'Total net migration'!F28","v":2400},{"$f":"'Total net migration 0-15'!F28","v":391},{"$f":"'Total net migration 16-64'!F28","v":1895},{"$f":"'Total net migration 65+'!F28","v":114},{"$f":"'Total in-migration'!F28","v":7845},{"$f":"'Total out-migration'!F28","v":5445},{"$f":"'Within Scotland net migration'!F28","v":491},{"$f":"'Within Scotland in-migration'!F28","v":3905},{"$f":"'Within Scotland out-migration'!F28","v":3414},{"$f":"'Rest of UK net migration'!F28","v":529},{"$f":"'Rest of UK in-migration'!F28","v":1597},{"$f":"'Rest of UK out-migration'!F28","v":1068},{"$f":"'Overseas net migration'!F28","v":1380},{"$f":"'Overseas in-migration'!F28","v":2343},{"$f":"'Overseas out-migration'!F28","v":963},{"$f":"WRS!F29","v":1695},{"$f":"NINo!F29","v":3930},{"$f":"'Non-UK Births'!F29","v":166},{"$f":"'Pupils ethnic group'!G29","v":438},{"$f":"'Pupils with English as an add.'!D28","v":315},{"$f":"'Pop born outside UK'!F29","v":7000}]
[27,"Renfrewshire",null,{"$f":"'Total net migration'!F29","v":398},{"$f":"'Total net migration 0-15'!F29","v":114},{"$f":"'Total net migration 16-64'!F29","v":241},{"$f":"'Total net migration 65+'!F29","v":43},{"$f":"'Total in-migration'!F29","v":5066},{"$f":"'Total out-migration'!F29","v":4668},{"$f":"'Within Scotland net migration'!F29","v":153},{"$f":"'Within Scotland in-migration'!F29","v":3536},{"$f":"'Within Scotland out-migration'!F29","v":3383},{"$f":"'Rest of UK net migration'!F29","v":113},{"$f":"'Rest of UK in-migration'!F29","v":840},{"$f":"'Rest of UK out-migration'!F29","v":727},{"$f":"'Overseas net migration'!F29","v":132},{"$f":"'Overseas in-migration'!F29","v":690},{"$f":"'Overseas out-migration'!F29","v":558},{"$f":"WRS!F30","v":245},{"$f":"NINo!F30","v":780},{"$f":"'Non-UK Births'!F30","v":155},{"$f":"'Pupils ethnic group'!G30","v":732},{"$f":"'Pupils with English as an add.'!D29","v":197},{"$f":"'Pop born outside UK'!F30","v":9000}]
[28,"Scottish Borders",null,{"$f":"'Total net migration'!F30","v":1302},{"$f":"'Total net migration 0-15'!F30","v":305},{"$f":"'Total net migration 16-64'!F30","v":950},{"$f":"'Total net migration 65+'!F30","v":47},{"$f":"'Total in-migration'!F30","v":5304},{"$f":"'Total out-migration'!F30","v":4002},{"$f":"'Within Scotland net migration'!F30","v":360},{"$f":"'Within Scotland in-migration'!F30","v":2496},{"$f":"'Within Scotland out-migration'!F30","v":2136},{"$f":"'Rest of UK net migration'!F30","v":852},{"$f":"'Rest of UK in-migration'!F30","v":2123},{"$f":"'Rest of UK out-migration'!F30","v":1271},{"$f":"'Overseas net migration'!F30","v":90},{"$f":"'Overseas in-migration'!F30","v":685},{"$f":"'Overseas out-migration'!F30","v":595},{"$f":"WRS!F31","v":300},{"$f":"NINo!F31","v":610},{"$f":"'Non-UK Births'!F31","v":135},{"$f":"'Pupils ethnic group'!G31","v":227},{"$f":"'Pupils with English as an add.'!D30","v":217},{"$f":"'Pop born outside UK'!F31","v":4000}]
[29,"Shetland Islands",null,{"$f":"'Total net migration'!F31","v":26},{"$f":"'Total net migration 0-15'!F31","v":16},{"$f":"'Total net migration 16-64'!F31","v":4},{"$f":"'Total net migration 65+'!F31","v":6},{"$f":"'Total in-migration'!F31","v":750},{"$f":"'Total out-migration'!F31","v":724},{"$f":"'Within Scotland net migration'!F31","v":-103},{"$f":"'Within Scotland in-migration'!F31","v":330},{"$f":"'Within Scotland out-migration'!F31","v":433},{"$f":"'Rest of UK net migration'!F31","v":126},{"$f":"'Rest of UK in-migration'!F31","v":326},{"$f":"'Rest of UK out-migration'!F31","v":200},{"$f":"'Overseas net migration'!F31","v":3},{"$f":"'Overseas in-migration'!F31","v":94},{"$f":"'Overseas out-migration'!F31","v":91},{"$f":"WRS!F32","v":80},{"$f":"NINo!F32","v":160},{"$f":"'Non-UK Births'!F32","v":24},{"$f":"'Pupils ethnic group'!G32","v":55},{"$f":"'Pupils with English as an add.'!D31","v":25},{"$f":"'Pop born outside UK'!F32","v":"*"}]
[30,"South Ayrshire",null,{"$f":"'Total net migration'!F32","v":400},{"$f":"'Total net migration 0-15'!F32","v":218},{"$f":"'Total net migration 16-64'!F32","v":141},{"$f":"'Total net migration 65+'!F32","v":41},{"$f":"'Total in-migration'!F32","v":3832},{"$f":"'Total out-migration'!F32","v":3432},{"$f":"'Within Scotland net migration'!F32","v":222},{"$f":"'Within Scotland in-migration'!F32","v":2507},{"$f":"'Within Scotland out-migration'!F32","v":2285},{"$f":"'Rest of UK net migration'!F32","v":254},{"$f":"'Rest of UK in-migration'!F32","v":995},{"$f":"'Rest of UK out-migration'!F32","v":741},{"$f":"'Overseas net migration'!F32","v":-76},{"$f":"'Overseas in-migration'!F32","v":330},{"$f":"'Overseas out-migration'!F32","v":406},{"$f":"WRS!F33","v":75},{"$f":"NINo!F33","v":310},{"$f":"'Non-UK Births'!F33","v":59},{"$f":"'Pupils ethnic group'!G33","v":279},{"$f":"'Pupils with English as an add.'!D32","v":86},{"$f":"'Pop born outside UK'!F33","v":"*"}]
[31,"South Lanarkshire",null,{"$f":"'Total net migration'!F33","v":735},{"$f":"'Total net migration 0-15'!F33","v":199},{"$f":"'Total net migration 16-64'!F33","v":401},{"$f":"'Total net migration 65+'!F33","v":135},{"$f":"'Total in-migration'!F33","v":8788},{"$f":"'Total out-migration'!F33","v":8053},{"$f":"'Within Scotland net migration'!F33","v":695},{"$f":"'Within Scotland in-migration'!F33","v":6527},{"$f":"'Within Scotland out-migration'!F33","v":5832},{"$f":"'Rest of UK net migration'!F33","v":223},{"$f":"'Rest of UK in-migration'!F33","v":1553},{"$f":"'Rest of UK out-migration'!F33","v":1330},{"$f":"'Overseas net migration'!F33","v":-183},{"$f":"'Overseas in-migration'!F33","v":708},{"$f":"'Overseas out-migration'!F33","v":891},{"$f":"WRS!F34","v":325},{"$f":"NINo!F34","v":720},{"$f":"'Non-UK Births'!F34","v":214},{"$f":"'Pupils ethnic group'!G34","v":1235},{"$f":"'Pupils with English as an add.'!D33","v":373},{"$f":"'Pop born outside UK'!F34","v":"*"}]
[32,"Stirling",null,{"$f":"'Total net migration'!F34","v":244},{"$f":"'Total net migration 0-15'!F34","v":156},{"$f":"'Total net migration 16-64'!F34","v":52},{"$f":"'Total net migration 65+'!F34","v":36},{"$f":"'Total in-migration'!F34","v":4991},{"$f":"'Total out-migration'!F34","v":4747},{"$f":"'Within Scotland net migration'!F34","v":-334},{"$f":"'Within Scotland in-migration'!F34","v":2884},{"$f":"'Within Scotland out-migration'!F34","v":3218},{"$f":"'Rest of UK net migration'!F34","v":319},{"$f":"'Rest of UK in-migration'!F34","v":1180},{"$f":"'Rest of UK out-migration'!F34","v":861},{"$f":"'Overseas net migration'!F34","v":259},{"$f":"'Overseas in-migration'!F34","v":927},{"$f":"'Overseas out-migration'!F34","v":668},{"$f":"WRS!F35","v":325},{"$f":"NINo!F35","v":720},{"$f":"'Non-UK Births'!F35","v":85},{"$f":"'Pupils ethnic group'!G35","v":432},{"$f":"'Pupils with English as an add.'!D34","v":120},{"$f":"'Pop born outside UK'!F35","v":"*"}]
[33,"West Dunbartonshire",null,{"$f":"'Total net migration'!F35","v":-205},{"$f":"'Total net migration 0-15'!F35","v":-17},{"$f":"'Total net migration 16-64'!F35","v":-137},{"$f":"'Total net migration 65+'!F35","v":-51},{"$f":"'Total in-migration'!F35","v":2434},{"$f":"'Total out-migration'!F35","v":2639},{"$f":"'Within Scotland net migration'!F35","v":-150},{"$f":"'Within Scotland in-migration'!F35","v":1874},{"$f":"'Within Scotland out-migration'!F35","v":2024},{"$f":"'Rest of UK net migration'!F35","v":19},{"$f":"'Rest of UK in-migration'!F35","v":404},{"$f":"'Rest of UK out-migration'!F35","v":385},{"$f":"'Overseas net migration'!F35","v":-74},{"$f":"'Overseas in-migration'!F35","v":156},{"$f":"'Overseas out-migration'!F35","v":230},{"$f":"WRS!F36","v":20},{"$f":"NINo!F36","v":150},{"$f":"'Non-UK Births'!F36","v":49},{"$f":"'Pupils ethnic group'!G36","v":264},{"$f":"'Pupils with English as an add.'!D35","v":109},{"$f":"'Pop born outside UK'!F36","v":"*"}]
[34,"West Lothian",null,{"$f":"'Total net migration'!F36","v":996},{"$f":"'Total net migration 0-15'!F36","v":117},{"$f":"'Total net migration 16-64'!F36","v":780},{"$f":"'Total net migration 65+'!F36","v":99},{"$f":"'Total in-migration'!F36","v":6349},{"$f":"'Total out-migration'!F36","v":5353},{"$f":"'Within Scotland net migration'!F36","v":171},{"$f":"'Within Scotland in-migration'!F36","v":3910},{"$f":"'Within Scotland out-migration'!F36","v":3739},{"$f":"'Rest of UK net migration'!F36","v":357},{"$f":"'Rest of UK in-migration'!F36","v":1295},{"$f":"'Rest of UK out-migration'!F36","v":938},{"$f":"'Overseas net migration'!F36","v":468},{"$f":"'Overseas in-migration'!F36","v":1144},{"$f":"'Overseas out-migration'!F36","v":676},{"$f":"WRS!F37","v":650},{"$f":"NINo!F37","v":1110},{"$f":"'Non-UK Births'!F37","v":278},{"$f":"'Pupils ethnic group'!G37","v":939},{"$f":"'Pupils with English as an add.'!D36","v":359},{"$f":"'Pop born outside UK'!F37","v":8000}]
[]
[35,"Not specified"]
[36,"SCOTLAND",null,{"$f":"'Total net migration'!F39","v":26409},{"$f":"'Total net migration 0-15'!F4","v":4287},{"$f":"'Total net migration 16-64'!F39","v":21574},{"$f":"'Total net migration 65+'!F39","v":548},{"$f":"'Total in-migration'!F39","v":98527},{"$f":"'Total out-migration'!F39","v":72118},null,null,null,{"$f":"'Rest of UK net migration'!F39","v":11509},{"$f":"'Rest of UK in-migration'!F39","v":53327},{"$f":"'Rest of UK out-migration'!F39","v":41818},{"$f":"'Overseas net migration'!F39","v":14900},{"$f":"'Overseas in-migration'!F39","v":45200},{"$f":"'Overseas out-migration'!F39","v":30300},null,null,{"$f":"'Non-UK Births'!F40","v":7607},null,null,null,{"$f":"'NHS Overseas'!$F$5","v":62246}]
[37,"Ayrshire & Arran",null,{"$f":"'Total net migration'!F40","v":1282},{"$f":"'Total net migration 0-15'!F40","v":510},{"$f":"'Total net migration 16-64'!F40","v":649},{"$f":"'Total net migration 65+'!F40","v":123},{"$f":"'Total in-migration'!F40","v":9062},{"$f":"'Total out-migration'!F40","v":7780},{"$f":"'Within Scotland net migration'!F40","v":720},{"$f":"'Within Scotland in-migration'!F40","v":5341},{"$f":"'Within Scotland out-migration'!F40","v":4621},{"$f":"'Rest of UK net migration'!F40","v":877},{"$f":"'Rest of UK in-migration'!F40","v":2908},{"$f":"'Rest of UK out-migration'!F40","v":2031},{"$f":"'Overseas net migration'!F40","v":-315},{"$f":"'Overseas in-migration'!F40","v":813},{"$f":"'Overseas out-migration'!F40","v":1128},null,null,{"$f":"'Non-UK Births'!F41","v":166}]
[38,"Borders",null,{"$f":"'Total net migration'!F41","v":1302},{"$f":"'Total net migration 0-15'!F41","v":305},{"$f":"'Total net migration 16-64'!F41","v":950},{"$f":"'Total net migration 65+'!F41","v":47},{"$f":"'Total in-migration'!F41","v":5304},{"$f":"'Total out-migration'!F41","v":4002},{"$f":"'Within Scotland net migration'!F41","v":360},{"$f":"'Within Scotland in-migration'!F41","v":2496},{"$f":"'Within Scotland out-migration'!F41","v":2136},{"$f":"'Rest of UK net migration'!F41","v":852},{"$f":"'Rest of UK in-migration'!F41","v":2123},{"$f":"'Rest of UK out-migration'!F41","v":1271},{"$f":"'Overseas net migration'!F41","v":90},{"$f":"'Overseas in-migration'!F41","v":685},{"$f":"'Overseas out-migration'!F41","v":595},null,null,{"$f":"'Non-UK Births'!F42","v":135}]
[39,"Dumfries & Galloway",null,{"$f":"'Total net migration'!F42","v":810},{"$f":"'Total net migration 0-15'!F42","v":165},{"$f":"'Total net migration 16-64'!F42","v":523},{"$f":"'Total net migration 65+'!F42","v":122},{"$f":"'Total in-migration'!F42","v":4931},{"$f":"'Total out-migration'!F42","v":4121},{"$f":"'Within Scotland net migration'!F42","v":54},{"$f":"'Within Scotland in-migration'!F42","v":1790},{"$f":"'Within Scotland out-migration'!F42","v":1736},{"$f":"'Rest of UK net migration'!F42","v":931},{"$f":"'Rest of UK in-migration'!F42","v":2617},{"$f":"'Rest of UK out-migration'!F42","v":1686},{"$f":"'Overseas net migration'!F42","v":-175},{"$f":"'Overseas in-migration'!F42","v":524},{"$f":"'Overseas out-migration'!F42","v":699},null,null,{"$f":"'Non-UK Births'!F43","v":81}]
[40,"Fife",null,{"$f":"'Total net migration'!F43","v":1620},{"$f":"'Total net migration 0-15'!F43","v":277},{"$f":"'Total net migration 16-64'!F43","v":1242},{"$f":"'Total net migration 65+'!F43","v":101},{"$f":"'Total in-migration'!F43","v":12076},{"$f":"'Total out-migration'!F43","v":10456},{"$f":"'Within Scotland net migration'!F43","v":730},{"$f":"'Within Scotland in-migration'!F43","v":6396},{"$f":"'Within Scotland out-migration'!F43","v":5666},{"$f":"'Rest of UK net migration'!F43","v":506},{"$f":"'Rest of UK in-migration'!F43","v":3471},{"$f":"'Rest of UK out-migration'!F43","v":2965},{"$f":"'Overseas net migration'!F43","v":384},{"$f":"'Overseas in-migration'!F43","v":2209},{"$f":"'Overseas out-migration'!F43","v":1825},null,null,{"$f":"'Non-UK Births'!F44","v":388}]
[41,"Forth Valley",null,{"$f":"'Total net migration'!F44","v":1304},{"$f":"'Total net migration 0-15'!F44","v":354},{"$f":"'Total net migration 16-64'!F44","v":872},{"$f":"'Total net migration 65+'!F44","v":78},{"$f":"'Total in-migration'!F44","v":9834},{"$f":"'Total out-migration'!F44","v":8530},{"$f":"'Within Scotland net migration'!F44","v":397},{"$f":"'Within Scotland in-migration'!F44","v":5788},{"$f":"'Within Scotland out-migration'!F44","v":5391},{"$f":"'Rest of UK net migration'!F44","v":551},{"$f":"'Rest of UK in-migration'!F44","v":2366},{"$f":"'Rest of UK out-migration'!F44","v":1815},{"$f":"'Overseas net migration'!F44","v":356},{"$f":"'Overseas in-migration'!F44","v":1680},{"$f":"'Overseas out-migration'!F44","v":1324},null,null,{"$f":"'Non-UK Births'!F45","v":276}]
[42,"Grampian",null,{"$f":"'Total net migration'!F45","v":3857},{"$f":"'Total net migration 0-15'!F45","v":826},{"$f":"'Total net migration 16-64'!F45","v":2973},{"$f":"'Total net migration 65+'!F45","v":58},{"$f":"'Total in-migration'!F45","v":19916},{"$f":"'Total out-migration'!F45","v":16059},{"$f":"'Within Scotland net migration'!F45","v":-843},{"$f":"'Within Scotland in-migration'!F45","v":6321},{"$f":"'Within Scotland out-migration'!F45","v":7164},{"$f":"'Rest of UK net migration'!F45","v":1274},{"$f":"'Rest of UK in-migration'!F45","v":6172},{"$f":"'Rest of UK out-migration'!F45","v":4898},{"$f":"'Overseas net migration'!F45","v":3426},{"$f":"'Overseas in-migration'!F45","v":7423},{"$f":"'Overseas out-migration'!F45","v":3997},null,null,{"$f":"'Non-UK Births'!F46","v":1108}]
[43,"Greater Glasgow & Clyde",null,{"$f":"'Total net migration'!F46","v":2885},{"$f":"'Total net migration 0-15'!F46","v":-103},{"$f":"'Total net migration 16-64'!F46","v":3555},{"$f":"'Total net migration 65+'!F46","v":-567},{"$f":"'Total in-migration'!F46","v":40069},{"$f":"'Total out-migration'!F46","v":37184},{"$f":"'Within Scotland net migration'!F46","v":-2083},{"$f":"'Within Scotland in-migration'!F46","v":19385},{"$f":"'Within Scotland out-migration'!F46","v":21468},{"$f":"'Rest of UK net migration'!F46","v":964},{"$f":"'Rest of UK in-migration'!F46","v":9485},{"$f":"'Rest of UK out-migration'!F46","v":8521},{"$f":"'Overseas net migration'!F46","v":4004},{"$f":"'Overseas in-migration'!F46","v":11199},{"$f":"'Overseas out-migration'!F46","v":7195},null,null,{"$f":"'Non-UK Births'!F47","v":2198}]
[44,"Highland",null,{"$f":"'Total net migration'!F47","v":2072},{"$f":"'Total net migration 0-15'!F47","v":423},{"$f":"'Total net migration 16-64'!F47","v":1507},{"$f":"'Total net migration 65+'!F47","v":142},{"$f":"'Total in-migration'!F47","v":13351},{"$f":"'Total out-migration'!F47","v":11279},{"$f":"'Within Scotland net migration'!F47","v":220},{"$f":"'Within Scotland in-migration'!F47","v":6392},{"$f":"'Within Scotland out-migration'!F47","v":6172},{"$f":"'Rest of UK net migration'!F47","v":1766},{"$f":"'Rest of UK in-migration'!F47","v":4986},{"$f":"'Rest of UK out-migration'!F47","v":3220},{"$f":"'Overseas net migration'!F47","v":86},{"$f":"'Overseas in-migration'!F47","v":1973},{"$f":"'Overseas out-migration'!F47","v":1887},null,null,{"$f":"'Non-UK Births'!F48","v":344}]
[45,"Lanarkshire",null,{"$f":"'Total net migration'!F48","v":1051},{"$f":"'Total net migration 0-15'!F48","v":455},{"$f":"'Total net migration 16-64'!F48","v":456},{"$f":"'Total net migration 65+'!F48","v":140},{"$f":"'Total in-migration'!F48","v":12418},{"$f":"'Total out-migration'!F48","v":11367},{"$f":"'Within Scotland net migration'!F48","v":684},{"$f":"'Within Scotland in-migration'!F48","v":8130},{"$f":"'Within Scotland out-migration'!F48","v":7446},{"$f":"'Rest of UK net migration'!F48","v":423},{"$f":"'Rest of UK in-migration'!F48","v":2625},{"$f":"'Rest of UK out-migration'!F48","v":2202},{"$f":"'Overseas net migration'!F48","v":-56},{"$f":"'Overseas in-migration'!F48","v":1663},{"$f":"'Overseas out-migration'!F48","v":1719},null,null,{"$f":"'Non-UK Births'!F49","v":392}]
[46,"Lothian",null,{"$f":"'Total net migration'!F49","v":6414},{"$f":"'Total net migration 0-15'!F49","v":347},{"$f":"'Total net migration 16-64'!F49","v":6021},{"$f":"'Total net migration 65+'!F49","v":46},{"$f":"'Total in-migration'!F49","v":35301},{"$f":"'Total out-migration'!F49","v":28887},{"$f":"'Within Scotland net migration'!F49","v":-485},{"$f":"'Within Scotland in-migration'!F49","v":11719},{"$f":"'Within Scotland out-migration'!F49","v":12204},{"$f":"'Rest of UK net migration'!F49","v":2186},{"$f":"'Rest of UK in-migration'!F49","v":11702},{"$f":"'Rest of UK out-migration'!F49","v":9516},{"$f":"'Overseas net migration'!F49","v":4713},{"$f":"'Overseas in-migration'!F49","v":11880},{"$f":"'Overseas out-migration'!F49","v":7167},null,null,{"$f":"'Non-UK Births'!F50","v":1920}]
[47,"Orkney",null,{"$f":"'Total net migration'!F50","v":95},{"$f":"'Total net migration 0-15'!F50","v":45},{"$f":"'Total net migration 16-64'!F50","v":30},{"$f":"'Total net migration 65+'!F50","v":20},{"$f":"'Total in-migration'!F50","v":745},{"$f":"'Total out-migration'!F50","v":650},{"$f":"'Within Scotland net migration'!F50","v":-51},{"$f":"'Within Scotland in-migration'!F50","v":368},{"$f":"'Within Scotland out-migration'!F50","v":419},{"$f":"'Rest of UK net migration'!F50","v":172},{"$f":"'Rest of UK in-migration'!F50","v":329},{"$f":"'Rest of UK out-migration'!F50","v":157},{"$f":"'Overseas net migration'!F50","v":-26},{"$f":"'Overseas in-migration'!F50","v":48},{"$f":"'Overseas out-migration'!F50","v":74},null,null,{"$f":"'Non-UK Births'!F51","v":13}]
[48,"Shetland",null,{"$f":"'Total net migration'!F51","v":26},{"$f":"'Total net migration 0-15'!F51","v":16},{"$f":"'Total net migration 16-64'!F51","v":4},{"$f":"'Total net migration 65+'!F51","v":6},{"$f":"'Total in-migration'!F51","v":750},{"$f":"'Total out-migration'!F51","v":724},{"$f":"'Within Scotland net migration'!F51","v":-103},{"$f":"'Within Scotland in-migration'!F51","v":330},{"$f":"'Within Scotland out-migration'!F51","v":433},{"$f":"'Rest of UK net migration'!F51","v":126},{"$f":"'Rest of UK in-migration'!F51","v":326},{"$f":"'Rest of UK out-migration'!F51","v":200},{"$f":"'Overseas net migration'!F51","v":3},{"$f":"'Overseas in-migration'!F51","v":94},{"$f":"'Overseas out-migration'!F51","v":91},null,null,{"$f":"'Non-UK Births'!F52","v":24}]
[49,"Tayside",null,{"$f":"'Total net migration'!F52","v":3668},{"$f":"'Total net migration 0-15'!F52","v":627},{"$f":"'Total net migration 16-64'!F52","v":2851},{"$f":"'Total net migration 65+'!F52","v":190},{"$f":"'Total in-migration'!F52","v":15732},{"$f":"'Total out-migration'!F52","v":12064},{"$f":"'Within Scotland net migration'!F52","v":480},{"$f":"'Within Scotland in-migration'!F52","v":6918},{"$f":"'Within Scotland out-migration'!F52","v":6438},{"$f":"'Rest of UK net migration'!F52","v":751},{"$f":"'Rest of UK in-migration'!F52","v":3883},{"$f":"'Rest of UK out-migration'!F52","v":3132},{"$f":"'Overseas net migration'!F52","v":2437},{"$f":"'Overseas in-migration'!F52","v":4931},{"$f":"'Overseas out-migration'!F52","v":2494},null,null,{"$f":"'Non-UK Births'!F53","v":548}]
[50,"Western Isles",null,{"$f":"'Total net migration'!F53","v":23},{"$f":"'Total net migration 0-15'!F53","v":40},{"$f":"'Total net migration 16-64'!F53","v":-59},{"$f":"'Total net migration 65+'!F53","v":42},{"$f":"'Total in-migration'!F53","v":1028},{"$f":"'Total out-migration'!F53","v":1005},{"$f":"'Within Scotland net migration'!F53","v":-80},{"$f":"'Within Scotland in-migration'!F53","v":616},{"$f":"'Within Scotland out-migration'!F53","v":696},{"$f":"'Rest of UK net migration'!F53","v":130},{"$f":"'Rest of UK in-migration'!F53","v":334},{"$f":"'Rest of UK out-migration'!F53","v":204},{"$f":"'Overseas net migration'!F53","v":-27},{"$f":"'Overseas in-migration'!F53","v":78},{"$f":"'Overseas out-migration'!F53","v":105},null,null,{"$f":"'Non-UK Births'!F54","v":14}]

{"sheet":"2008 Rate","index":44,"n_rows":53,"n_cols":27,"rows_kept":53,"cut":false,"hidden":true,"merged":[]}
[null,2008,"RATE"]
[null,null,"Not specified ",{"$f":"'Comparing Indicators'!$U8","v":"Total net migration"},{"$f":"'Comparing Indicators'!$U9","v":"Total net migration for ages 0-15"},{"$f":"'Comparing Indicators'!$U10","v":"Total net migration for ages 16-64"},{"$f":"'Comparing Indicators'!$U11","v":"Total net migration for people aged 65+"},{"$f":"'Comparing Indicators'!$U12","v":"Total in-migration"},{"$f":"'Comparing Indicators'!$U13","v":"Total out-migration"},{"$f":"'Comparing Indicators'!$U14","v":"Within Scotland net migration"},{"$f":"'Comparing Indicators'!$U15","v":"Within Scotland in-migration"},{"$f":"'Comparing Indicators'!$U16","v":"Within Scotland out-migration"},{"$f":"'Comparing Indicators'!$U17","v":"Rest of UK net migration"},{"$f":"'Comparing Indicators'!$U18","v":"Rest of UK in-migration"},{"$f":"'Comparing Indicators'!$U19","v":"Rest of UK out-migration"},{"$f":"'Comparing Indicators'!$U20","v":"Overseas net migration"},{"$f":"'Comparing Indicators'!$U21","v":"Overseas in-migration"},{"$f":"'Comparing Indicators'!$U22","v":"Overseas out-migration"},{"$f":"'Comparing Indicators'!$U23","v":"Worker Registration Scheme"},{"$f":"'Comparing Indicators'!$U24","v":"NINo Allocation"},{"$f":"'Comparing Indicators'!$U25","v":"Births to non-UK mothers"},{"$f":"'Comparing Indicators'!$U26","v":"Pupils from a minority ethnic group"},{"$f":"'Comparing Indicators'!$U27","v":"Pupils with English as an additional language"},{"$f":"'Comparing Indicators'!$U28","v":"Estimate of resident population born outside the UK"},"NHS registrations from overseas",null,"Mid-year population estimate"]
[1,"Not specified"]
[2,"SCOTLAND",null,{"$f":"('2008'!D4/'2008 Rate'!$AA4)*1000","v":5.0758230986565192},{"$f":"('2008'!E4/'2008 Rate'!$AA4)*1000","v":0.82396355878452399},{"$f":"('2008'!F4/'2008 Rate'!$AA4)*1000","v":4.1465336639181993},{"$f":"('2008'!G4/'2008 Rate'!$AA4)*1000","v":0.105325875953795},{"$f":"('2008'!H4/'2008 Rate'!$AA4)*1000","v":18.936939014780219},{"$f":"('2008'!I4/'2008 Rate'!$AA4)*1000","v":13.861115916123699},null,null,null,{"$f":"('2008'!M4/'2008 Rate'!$AA4)*1000","v":2.2120355955332607},{"$f":"('2008'!N4/'2008 Rate'!$AA4)*1000","v":10.249476253627783},{"$f":"('2008'!O4/'2008 Rate'!$AA4)*1000","v":8.0374406580945248},{"$f":"('2008'!P4/'2008 Rate'!$AA4)*1000","v":2.8637875031232585},{"$f":"('2008'!Q4/'2008 Rate'!$AA4)*1000","v":8.6874627611524353},{"$f":"('2008'!R4/'2008 Rate'!$AA4)*1000","v":5.8236752580291755},{"$f":"('2008'!S4/'2008 Rate'!$AA4)*1000","v":2.725403140556228},{"$f":"('2008'!T4/'2008 Rate'!$AA4)*1000","v":8.8623652193968745},{"$f":"('2008'!U4/'2008 Rate'!$AA4)*1000","v":1.4620692306213843},{"$f":"('2008'!V4/'2008 Rate'!$AA4)*1000","v":6.049895250725557},{"$f":"('2008'!W4/'2008 Rate'!$AA4)*1000","v":3.6520017682446326},{"$f":"('2008'!X4/'2008 Rate'!$AA4)*1000","v":55.545945530377288},{"$f":"('2008'!Y4/'2008 Rate'!$AA4)*1000","v":11.963712544926867},"SCOTLAND",{"$f":"'Population estimates'!F4","v":5202900}]
[3,"Aberdeen City",null,{"$f":"('2008'!D5/'2008 Rate'!$AA5)*1000","v":7.6908700121483973},{"$f":"('2008'!E5/'2008 Rate'!$AA5)*1000","v":0.84104289318755254},{"$f":"('2008'!F5/'2008 Rate'!$AA5)*1000","v":7.6675077095598541},{"$f":"('2008'!G5/'2008 Rate'!$AA5)*1000","v":-0.81768059059900944},{"$f":"('2008'!H5/'2008 Rate'!$AA5)*1000","v":63.67629193533314},{"$f":"('2008'!I5/'2008 Rate'!$AA5)*1000","v":55.985421923184752},{"$f":"('2008'!J5/'2008 Rate'!$AA5)*1000","v":-7.7422670778431923},{"$f":"('2008'!K5/'2008 Rate'!$AA5)*1000","v":26.324642556770396},{"$f":"('2008'!L5/'2008 Rate'!$AA5)*1000","v":34.066909634613587},{"$f":"('2008'!M5/'2008 Rate'!$AA5)*1000","v":1.2755817213344547},{"$f":"('2008'!N5/'2008 Rate'!$AA5)*1000","v":12.078310438276796},{"$f":"('2008'!O5/'2008 Rate'!$AA5)*1000","v":10.802728716942342},{"$f":"('2008'!P5/'2008 Rate'!$AA5)*1000","v":14.157555368657135},{"$f":"('2008'!Q5/'2008 Rate'!$AA5)*1000","v":25.273338940285957},{"$f":"('2008'!R5/'2008 Rate'!$AA5)*1000","v":11.115783571628819},{"$f":"('2008'!S5/'2008 Rate'!$AA5)*1000","v":4.1584898607606764},{"$f":"('2008'!T5/'2008 Rate'!$AA5)*1000","v":23.4557517988973},{"$f":"('2008'!U5/'2008 Rate'!$AA5)*1000","v":3.392206335856462},{"$f":"('2008'!V5/'2008 Rate'!$AA5)*1000","v":7.6020932623119331},{"$f":"('2008'!W5/'2008 Rate'!$AA5)*1000","v":6.6208765535931224},{"$f":"('2008'!X5/'2008 Rate'!$AA5)*1000","v":112.13905242500701},null,"Aberdeen City",{"$f":"'Population estimates'!F5","v":214020}]
[4,"Aberdeenshire",null,{"$f":"('2008'!D6/'2008 Rate'!$AA6)*1000","v":7.6203208556149731},{"$f":"('2008'!E6/'2008 Rate'!$AA6)*1000","v":2.30513693080538},{"$f":"('2008'!F6/'2008 Rate'!$AA6)*1000","v":4.7682709447415332},{"$f":"('2008'!G6/'2008 Rate'!$AA6)*1000","v":0.54691298006806033},{"$f":"('2008'!H6/'2008 Rate'!$AA6)*1000","v":39.612704585966618},{"$f":"('2008'!I6/'2008 Rate'!$AA6)*1000","v":31.992383730351648},{"$f":"('2008'!J6/'2008 Rate'!$AA6)*1000","v":3.5569599740722735},{"$f":"('2008'!K6/'2008 Rate'!$AA6)*1000","v":24.35990925295738},{"$f":"('2008'!L6/'2008 Rate'!$AA6)*1000","v":20.802949278885109},{"$f":"('2008'!M6/'2008 Rate'!$AA6)*1000","v":2.422621941338519},{"$f":"('2008'!N6/'2008 Rate'!$AA6)*1000","v":9.1192675417274334},{"$f":"('2008'!O6/'2008 Rate'!$AA6)*1000","v":6.6966456003889157},{"$f":"('2008'!P6/'2008 Rate'!$AA6)*1000","v":1.640738940204181},{"$f":"('2008'!Q6/'2008 Rate'!$AA6)*1000","v":6.1335277912818018},{"$f":"('2008'!R6/'2008 Rate'!$AA6)*1000","v":4.4927888510776208},{"$f":"('2008'!S6/'2008 Rate'!$AA6)*1000","v":4.1322314049586781},{"$f":"('2008'!T6/'2008 Rate'!$AA6)*1000","v":6.8465402690001627},{"$f":"('2008'!U6/'2008 Rate'!$AA6)*1000","v":1.2072597634094959},{"$f":"('2008'!V6/'2008 Rate'!$AA6)*1000","v":2.2646248582077462},{"$f":"('2008'!W6/'2008 Rate'!$AA6)*1000","v":2.0863717387781557},{"$f":"('2008'!X6/'2008 Rate'!$AA6)*1000","v":56.71690163668773},null,"Aberdeenshire",{"$f":"'Population estimates'!F6","v":246840}]
[5,"Angus",null,{"$f":"('2008'!D7/'2008 Rate'!$AA7)*1000","v":5.7035548956240723},{"$f":"('2008'!E7/'2008 Rate'!$AA7)*1000","v":1.4848458380644596},{"$f":"('2008'!F7/'2008 Rate'!$AA7)*1000","v":2.9871604506943839},{"$f":"('2008'!G7/'2008 Rate'!$AA7)*1000","v":1.2315486068652284},{"$f":"('2008'!H7/'2008 Rate'!$AA7)*1000","v":37.400646344658924},{"$f":"('2008'!I7/'2008 Rate'!$AA7)*1000","v":31.697091449034847},{"$f":"('2008'!J7/'2008 Rate'!$AA7)*1000","v":3.3190671674382042},{"$f":"('2008'!K7/'2008 Rate'!$AA7)*1000","v":25.626692287536031},{"$f":"('2008'!L7/'2008 Rate'!$AA7)*1000","v":22.307625120097825},{"$f":"('2008'!M7/'2008 Rate'!$AA7)*1000","v":1.4499082889335313},{"$f":"('2008'!N7/'2008 Rate'!$AA7)*1000","v":7.2670102192331214},{"$f":"('2008'!O7/'2008 Rate'!$AA7)*1000","v":5.8171019302995894},{"$f":"('2008'!P7/'2008 Rate'!$AA7)*1000","v":0.93457943925233644},{"$f":"('2008'!Q7/'2008 Rate'!$AA7)*1000","v":4.5069438378897715},{"$f":"('2008'!R7/'2008 Rate'!$AA7)*1000","v":3.5723643986374358},{"$f":"('2008'!S7/'2008 Rate'!$AA7)*1000","v":6.7254782077037296},{"$f":"('2008'!T7/'2008 Rate'!$AA7)*1000","v":11.005327976242466},{"$f":"('2008'!U7/'2008 Rate'!$AA7)*1000","v":0.82976679185955105},{"$f":"('2008'!V7/'2008 Rate'!$AA7)*1000","v":4.9786007511573063},{"$f":"('2008'!W7/'2008 Rate'!$AA7)*1000","v":1.3101580924098175},{"$f":"('2008'!X7/'2008 Rate'!$AA7)*1000","v":43.671936413660582},null,"Angus",{"$f":"'Population estimates'!F7","v":114490}]
[6,"Argyll & Bute",null,{"$f":"('2008'!D8/'2008 Rate'!$AA8)*1000","v":-0.43376710043376709},{"$f":"('2008'!E8/'2008 Rate'!$AA8)*1000","v":-0.31142253364475586},{"$f":"('2008'!F8/'2008 Rate'!$AA8)*1000","v":0.13346680013346682},{"$f":"('2008'!G8/'2008 Rate'!$AA8)*1000","v":-0.25581136692247802},{"$f":"('2008'!H8/'2008 Rate'!$AA8)*1000","v":45.389834278723164},{"$f":"('2008'!I8/'2008 Rate'!$AA8)*1000","v":45.823601379156933},{"$f":"('2008'!J8/'2008 Rate'!$AA8)*1000","v":-2.3467912356801248},{"$f":"('2008'!K8/'2008 Rate'!$AA8)*1000","v":24.602380157935713},{"$f":"('2008'!L8/'2008 Rate'!$AA8)*1000","v":26.949171393615838},{"$f":"('2008'!M8/'2008 Rate'!$AA8)*1000","v":4.4266488710933158},{"$f":"('2008'!N8/'2008 Rate'!$AA8)*1000","v":16.182849516182849},{"$f":"('2008'!O8/'2008 Rate'!$AA8)*1000","v":11.756200645089534},{"$f":"('2008'!P8/'2008 Rate'!$AA8)*1000","v":-2.5136247358469581},{"$f":"('2008'!Q8/'2008 Rate'!$AA8)*1000","v":4.6046046046046039},{"$f":"('2008'!R8/'2008 Rate'!$AA8)*1000","v":7.1182293404515633},{"$f":"('2008'!S8/'2008 Rate'!$AA8)*1000","v":2.7805583361138919},{"$f":"('2008'!T8/'2008 Rate'!$AA8)*1000","v":6.228450672895117},{"$f":"('2008'!U8/'2008 Rate'!$AA8)*1000","v":0.92314536758981203},{"$f":"('2008'!V8/'2008 Rate'!$AA8)*1000","v":2.2578133689244799},{"$f":"('2008'!W8/'2008 Rate'!$AA8)*1000","v":1.134467801134468},{"$f":"('2008'!X8/'2008 Rate'!$AA8)*1000","v":44.488933377822271},null,"Argyll & Bute",{"$f":"'Population estimates'!F8","v":89910}]
[7,"Clackmannanshire",null,{"$f":"('2008'!D9/'2008 Rate'!$AA9)*1000","v":7.7554209806602854},{"$f":"('2008'!E9/'2008 Rate'!$AA9)*1000","v":2.7153740965032234},{"$f":"('2008'!F9/'2008 Rate'!$AA9)*1000","v":5.6260988474311384},{"$f":"('2008'!G9/'2008 Rate'!$AA9)*1000","v":-0.58605196327407705},{"$f":"('2008'!H9/'2008 Rate'!$AA9)*1000","v":41.668294588786878},{"$f":"('2008'!I9/'2008 Rate'!$AA9)*1000","v":33.912873608126588},{"$f":"('2008'!J9/'2008 Rate'!$AA9)*1000","v":5.684704043758547},{"$f":"('2008'!K9/'2008 Rate'!$AA9)*1000","v":29.517483883571007},{"$f":"('2008'!L9/'2008 Rate'!$AA9)*1000","v":23.832779839812464},{"$f":"('2008'!M9/'2008 Rate'!$AA9)*1000","v":2.3051377222113691},{"$f":"('2008'!N9/'2008 Rate'!$AA9)*1000","v":8.4586833365891785},{"$f":"('2008'!O9/'2008 Rate'!$AA9)*1000","v":6.1535456143778084},{"$f":"('2008'!P9/'2008 Rate'!$AA9)*1000","v":-0.23442078530963079},{"$f":"('2008'!Q9/'2008 Rate'!$AA9)*1000","v":3.6921273686266849},{"$f":"('2008'!R9/'2008 Rate'!$AA9)*1000","v":3.9265481539363152},{"$f":"('2008'!S9/'2008 Rate'!$AA9)*1000","v":0.68372729048642311},{"$f":"('2008'!T9/'2008 Rate'!$AA9)*1000","v":3.3209611252197693},{"$f":"('2008'!U9/'2008 Rate'!$AA9)*1000","v":0.89861301035358465},{"$f":"('2008'!V9/'2008 Rate'!$AA9)*1000","v":3.6725923031842158},{"$f":"('2008'!W9/'2008 Rate'!$AA9)*1000","v":1.6409454971674156},null,null,"Clackmannanshire",{"$f":"'Population estimates'!F9","v":51190}]
[8,"Dumfries & Galloway",null,{"$f":"('2008'!D10/'2008 Rate'!$AA10)*1000","v":5.3638831865439371},{"$f":"('2008'!E10/'2008 Rate'!$AA10)*1000","v":1.0926428713330245},{"$f":"('2008'!F10/'2008 Rate'!$AA10)*1000","v":3.4633467982252832},{"$f":"('2008'!G10/'2008 Rate'!$AA10)*1000","v":0.80789351698563006},{"$f":"('2008'!H10/'2008 Rate'!$AA10)*1000","v":32.653466657837228},{"$f":"('2008'!I10/'2008 Rate'!$AA10)*1000","v":27.289583471293291},{"$f":"('2008'!J10/'2008 Rate'!$AA10)*1000","v":0.35759221243626249},{"$f":"('2008'!K10/'2008 Rate'!$AA10)*1000","v":11.853519634461295},{"$f":"('2008'!L10/'2008 Rate'!$AA10)*1000","v":11.49592742202503},{"$f":"('2008'!M10/'2008 Rate'!$AA10)*1000","v":6.1651546255214891},{"$f":"('2008'!N10/'2008 Rate'!$AA10)*1000","v":17.329978147142572},{"$f":"('2008'!O10/'2008 Rate'!$AA10)*1000","v":11.164823521621084},{"$f":"('2008'!P10/'2008 Rate'!$AA10)*1000","v":-1.1588636514138138},{"$f":"('2008'!Q10/'2008 Rate'!$AA10)*1000","v":3.469968876233362},{"$f":"('2008'!R10/'2008 Rate'!$AA10)*1000","v":4.6288325276471749},{"$f":"('2008'!S10/'2008 Rate'!$AA10)*1000","v":1.225084431494603},{"$f":"('2008'!T10/'2008 Rate'!$AA10)*1000","v":2.7812727633931531},{"$f":"('2008'!U10/'2008 Rate'!$AA10)*1000","v":0.53638831865439374},{"$f":"('2008'!V10/'2008 Rate'!$AA10)*1000","v":2.2581286007549171},{"$f":"('2008'!W10/'2008 Rate'!$AA10)*1000","v":1.5363220978743128},null,null,"Dumfries & Galloway",{"$f":"'Population estimates'!F10","v":151010}]
[9,"Dundee City",null,{"$f":"('2008'!D11/'2008 Rate'!$AA11)*1000","v":4.2137362256566639},{"$f":"('2008'!E11/'2008 Rate'!$AA11)*1000","v":0.45048166886132096},{"$f":"('2008'!F11/'2008 Rate'!$AA11)*1000","v":4.2137362256566639},{"$f":"('2008'!G11/'2008 Rate'!$AA11)*1000","v":-0.45048166886132096},{"$f":"('2008'!H11/'2008 Rate'!$AA11)*1000","v":50.564834707879967},{"$f":"('2008'!I11/'2008 Rate'!$AA11)*1000","v":46.3510984822233},{"$f":"('2008'!J11/'2008 Rate'!$AA11)*1000","v":-2.7167509875944282},{"$f":"('2008'!K11/'2008 Rate'!$AA11)*1000","v":26.169519717236124},{"$f":"('2008'!L11/'2008 Rate'!$AA11)*1000","v":28.886270704830551},{"$f":"('2008'!M11/'2008 Rate'!$AA11)*1000","v":0.3465243606625546},{"$f":"('2008'!N11/'2008 Rate'!$AA11)*1000","v":10.03534548478758},{"$f":"('2008'!O11/'2008 Rate'!$AA11)*1000","v":9.6888211241250257},{"$f":"('2008'!P11/'2008 Rate'!$AA11)*1000","v":6.5839628525885363},{"$f":"('2008'!Q11/'2008 Rate'!$AA11)*1000","v":14.359969505856261},{"$f":"('2008'!R11/'2008 Rate'!$AA11)*1000","v":7.776006653267725},{"$f":"('2008'!S11/'2008 Rate'!$AA11)*1000","v":2.1831034721740936},{"$f":"('2008'!T11/'2008 Rate'!$AA11)*1000","v":11.504608773996813},{"$f":"('2008'!U11/'2008 Rate'!$AA11)*1000","v":1.9959803174163142},{"$f":"('2008'!V11/'2008 Rate'!$AA11)*1000","v":8.2542102709820515},{"$f":"('2008'!W11/'2008 Rate'!$AA11)*1000","v":4.5533300991059669},{"$f":"('2008'!X11/'2008 Rate'!$AA11)*1000","v":62.374384919259825},null,"Dundee City",{"$f":"'Population estimates'!F11","v":144290}]
[10,"East Ayrshire",null,{"$f":"('2008'!D12/'2008 Rate'!$AA12)*1000","v":4.5151739452257589},{"$f":"('2008'!E12/'2008 Rate'!$AA12)*1000","v":1.3570194917345175},{"$f":"('2008'!F12/'2008 Rate'!$AA12)*1000","v":3.1910518957151082},{"$f":"('2008'!G12/'2008 Rate'!$AA12)*1000","v":-3.2897442223867097E-2},{"$f":"('2008'!H12/'2008 Rate'!$AA12)*1000","v":31.170326507114073},{"$f":"('2008'!I12/'2008 Rate'!$AA12)*1000","v":26.655152561888311},{"$f":"('2008'!J12/'2008 Rate'!$AA12)*1000","v":2.9525454395920714},{"$f":"('2008'!K12/'2008 Rate'!$AA12)*1000","v":22.090632453326755},{"$f":"('2008'!L12/'2008 Rate'!$AA12)*1000","v":19.138087013734683},{"$f":"('2008'!M12/'2008 Rate'!$AA12)*1000","v":2.3274940373385968},{"$f":"('2008'!N12/'2008 Rate'!$AA12)*1000","v":7.2538860103626943},{"$f":"('2008'!O12/'2008 Rate'!$AA12)*1000","v":4.9263919730240975},{"$f":"('2008'!P12/'2008 Rate'!$AA12)*1000","v":-0.7648655317049099},{"$f":"('2008'!Q12/'2008 Rate'!$AA12)*1000","v":1.8258080434246236},{"$f":"('2008'!R12/'2008 Rate'!$AA12)*1000","v":2.5906735751295336},{"$f":"('2008'!S12/'2008 Rate'!$AA12)*1000","v":1.0280450694958467},{"$f":"('2008'!T12/'2008 Rate'!$AA12)*1000","v":1.0691668722756806},{"$f":"('2008'!U12/'2008 Rate'!$AA12)*1000","v":0.42766674891027223},{"$f":"('2008'!V12/'2008 Rate'!$AA12)*1000","v":2.1218850234394275},{"$f":"('2008'!W12/'2008 Rate'!$AA12)*1000","v":0.63327576280944153},null,null,"East Ayrshire",{"$f":"'Population estimates'!F12","v":121590}]
[11,"East Dunbartonshire",null,{"$f":"('2008'!D13/'2008 Rate'!$AA13)*1000","v":-1.7152658662092624},{"$f":"('2008'!E13/'2008 Rate'!$AA13)*1000","v":2.2679626453211359},{"$f":"('2008'!F13/'2008 Rate'!$AA13)*1000","v":-3.4495902420430724},{"$f":"('2008'!G13/'2008 Rate'!$AA13)*1000","v":-0.53363826948732618},{"$f":"('2008'!H13/'2008 Rate'!$AA13)*1000","v":32.637697732037353},{"$f":"('2008'!I13/'2008 Rate'!$AA13)*1000","v":34.352963598246617},{"$f":"('2008'!J13/'2008 Rate'!$AA13)*1000","v":-0.97198399085191545},{"$f":"('2008'!K13/'2008 Rate'!$AA13)*1000","v":26.948732609109967},{"$f":"('2008'!L13/'2008 Rate'!$AA13)*1000","v":27.920716599961885},{"$f":"('2008'!M13/'2008 Rate'!$AA13)*1000","v":0.40975795692776829},{"$f":"('2008'!N13/'2008 Rate'!$AA13)*1000","v":4.392986468458167},{"$f":"('2008'!O13/'2008 Rate'!$AA13)*1000","v":3.983228511530398},{"$f":"('2008'!P13/'2008 Rate'!$AA13)*1000","v":-1.1530398322851154},{"$f":"('2008'!Q13/'2008 Rate'!$AA13)*1000","v":1.2959786544692204},{"$f":"('2008'!R13/'2008 Rate'!$AA13)*1000","v":2.4490184867543361},{"$f":"('2008'!S13/'2008 Rate'!$AA13)*1000","v":0.33352391842957885},{"$f":"('2008'!T13/'2008 Rate'!$AA13)*1000","v":1.4293882218410521},{"$f":"('2008'!U13/'2008 Rate'!$AA13)*1000","v":0.76234038498189438},{"$f":"('2008'!V13/'2008 Rate'!$AA13)*1000","v":9.3291404612159337},{"$f":"('2008'!W13/'2008 Rate'!$AA13)*1000","v":3.1732418524871355},{"$f":"('2008'!X13/'2008 Rate'!$AA13)*1000","v":47.646274061368402},null,"East Dunbartonshire",{"$f":"'Population estimates'!F13","v":104940}]
[12,"East Lothian",null,{"$f":"('2008'!D14/'2008 Rate'!$AA14)*1000","v":16.774392120652507},{"$f":"('2008'!E14/'2008 Rate'!$AA14)*1000","v":2.3904791217810608},{"$f":"('2008'!F14/'2008 Rate'!$AA14)*1000","v":13.522109366984713},{"$f":"('2008'!G14/'2008 Rate'!$AA14)*1000","v":0.86180363188673437},{"$f":"('2008'!H14/'2008 Rate'!$AA14)*1000","v":49.379296193700625},{"$f":"('2008'!I14/'2008 Rate'!$AA14)*1000","v":32.604904073048118},{"$f":"('2008'!J14/'2008 Rate'!$AA14)*1000","v":10.167230942854211},{"$f":"('2008'!K14/'2008 Rate'!$AA14)*1000","v":33.302554632194521},{"$f":"('2008'!L14/'2008 Rate'!$AA14)*1000","v":23.135323689340311},{"$f":"('2008'!M14/'2008 Rate'!$AA14)*1000","v":4.0114907150918233},{"$f":"('2008'!N14/'2008 Rate'!$AA14)*1000","v":10.454498820149789},{"$f":"('2008'!O14/'2008 Rate'!$AA14)*1000","v":6.4430081050579666},{"$f":"('2008'!P14/'2008 Rate'!$AA14)*1000","v":2.5956704627064737},{"$f":"('2008'!Q14/'2008 Rate'!$AA14)*1000","v":5.6222427413563141},{"$f":"('2008'!R14/'2008 Rate'!$AA14)*1000","v":3.0265722786498408},{"$f":"('2008'!S14/'2008 Rate'!$AA14)*1000","v":1.282445880783831},{"$f":"('2008'!T14/'2008 Rate'!$AA14)*1000","v":5.0271878526726175},{"$f":"('2008'!U14/'2008 Rate'!$AA14)*1000","v":1.0875141069046885},{"$f":"('2008'!V14/'2008 Rate'!$AA14)*1000","v":2.4622960911049554},{"$f":"('2008'!W14/'2008 Rate'!$AA14)*1000","v":1.2003693444136658},{"$f":"('2008'!X14/'2008 Rate'!$AA14)*1000","v":41.038268185082593},null,"East Lothian",{"$f":"'Population estimates'!F14","v":97470}]
[13,"East Renfrewshire",null,{"$f":"('2008'!D15/'2008 Rate'!$AA15)*1000","v":-0.80115722710581949},{"$f":"('2008'!E15/'2008 Rate'!$AA15)*1000","v":2.8374318459997774},{"$f":"('2008'!F15/'2008 Rate'!$AA15)*1000","v":-3.6385890731055968},{"$f":"('2008'!G15/'2008 Rate'!$AA15)*1000","v":0},{"$f":"('2008'!H15/'2008 Rate'!$AA15)*1000","v":36.575052854122625},{"$f":"('2008'!I15/'2008 Rate'!$AA15)*1000","v":37.376210081228443},{"$f":"('2008'!J15/'2008 Rate'!$AA15)*1000","v":1.7580950261488817},{"$f":"('2008'!K15/'2008 Rate'!$AA15)*1000","v":31.478802715032824},{"$f":"('2008'!L15/'2008 Rate'!$AA15)*1000","v":29.720707688883941},{"$f":"('2008'!M15/'2008 Rate'!$AA15)*1000","v":-1.4576610659841993},{"$f":"('2008'!N15/'2008 Rate'!$AA15)*1000","v":3.5718259708467786},{"$f":"('2008'!O15/'2008 Rate'!$AA15)*1000","v":5.0294870368309788},{"$f":"('2008'!P15/'2008 Rate'!$AA15)*1000","v":-1.101591187270502},{"$f":"('2008'!Q15/'2008 Rate'!$AA15)*1000","v":1.5244241682430177},{"$f":"('2008'!R15/'2008 Rate'!$AA15)*1000","v":2.6260153555135193},{"$f":"('2008'!S15/'2008 Rate'!$AA15)*1000","v":0.38945142984310671},{"$f":"('2008'!T15/'2008 Rate'!$AA15)*1000","v":1.1127183709803048},{"$f":"('2008'!U15/'2008 Rate'!$AA15)*1000","v":0.85679314565483478},{"$f":"('2008'!V15/'2008 Rate'!$AA15)*1000","v":20.607544230555249},{"$f":"('2008'!W15/'2008 Rate'!$AA15)*1000","v":7.5553577389562694},{"$f":"('2008'!X15/'2008 Rate'!$AA15)*1000","v":33.381551129409146},null,"East Renfrewshire",{"$f":"'Population estimates'!F15","v":89870}]
[14,"Edinburgh, City of",null,{"$f":"('2008'!D16/'2008 Rate'!$AA16)*1000","v":7.3192009072668585},{"$f":"('2008'!E16/'2008 Rate'!$AA16)*1000","v":-0.2704353136177266},{"$f":"('2008'!F16/'2008 Rate'!$AA16)*1000","v":7.9669371019802835},{"$f":"('2008'!G16/'2008 Rate'!$AA16)*1000","v":-0.37730088109569926},{"$f":"('2008'!H16/'2008 Rate'!$AA16)*1000","v":64.71255343278375},{"$f":"('2008'!I16/'2008 Rate'!$AA16)*1000","v":57.393352525516882},{"$f":"('2008'!J16/'2008 Rate'!$AA16)*1000","v":-4.3138794381924459},{"$f":"('2008'!K16/'2008 Rate'!$AA16)*1000","v":23.431911367006894},{"$f":"('2008'!L16/'2008 Rate'!$AA16)*1000","v":27.745790805199338},{"$f":"('2008'!M16/'2008 Rate'!$AA16)*1000","v":2.9420745005670415},{"$f":"('2008'!N16/'2008 Rate'!$AA16)*1000","v":19.493151879961616},{"$f":"('2008'!O16/'2008 Rate'!$AA16)*1000","v":16.551077379394574},{"$f":"('2008'!P16/'2008 Rate'!$AA16)*1000","v":8.6910058448922616},{"$f":"('2008'!Q16/'2008 Rate'!$AA16)*1000","v":21.78749018581523},{"$f":"('2008'!R16/'2008 Rate'!$AA16)*1000","v":13.096484340922968},{"$f":"('2008'!S16/'2008 Rate'!$AA16)*1000","v":3.4131553694495333},{"$f":"('2008'!T16/'2008 Rate'!$AA16)*1000","v":22.52900636831545},{"$f":"('2008'!U16/'2008 Rate'!$AA16)*1000","v":3.1732530751112278},{"$f":"('2008'!V16/'2008 Rate'!$AA16)*1000","v":10.189304719532409},{"$f":"('2008'!W16/'2008 Rate'!$AA16)*1000","v":5.6747797260751991},{"$f":"('2008'!X16/'2008 Rate'!$AA16)*1000","v":130.8557969118032},null,"Edinburgh, City of",{"$f":"'Population estimates'!F16","v":458520}]
[15,"Eilean Siar",null,{"$f":"('2008'!D17/'2008 Rate'!$AA17)*1000","v":0.84310850439882701},{"$f":"('2008'!E17/'2008 Rate'!$AA17)*1000","v":1.466275659824047},{"$f":"('2008'!F17/'2008 Rate'!$AA17)*1000","v":-2.1627565982404695},{"$f":"('2008'!G17/'2008 Rate'!$AA17)*1000","v":1.5395894428152495},{"$f":"('2008'!H17/'2008 Rate'!$AA17)*1000","v":37.683284457478003},{"$f":"('2008'!I17/'2008 Rate'!$AA17)*1000","v":36.840175953079182},{"$f":"('2008'!J17/'2008 Rate'!$AA17)*1000","v":-2.9325513196480939},{"$f":"('2008'!K17/'2008 Rate'!$AA17)*1000","v":22.58064516129032},{"$f":"('2008'!L17/'2008 Rate'!$AA17)*1000","v":25.513196480938415},{"$f":"('2008'!M17/'2008 Rate'!$AA17)*1000","v":4.7653958944281527},{"$f":"('2008'!N17/'2008 Rate'!$AA17)*1000","v":12.243401759530792},{"$f":"('2008'!O17/'2008 Rate'!$AA17)*1000","v":7.4780058651026389},{"$f":"('2008'!P17/'2008 Rate'!$AA17)*1000","v":-0.98973607038123157},{"$f":"('2008'!Q17/'2008 Rate'!$AA17)*1000","v":2.8592375366568912},{"$f":"('2008'!R17/'2008 Rate'!$AA17)*1000","v":3.8489736070381233},{"$f":"('2008'!S17/'2008 Rate'!$AA17)*1000","v":1.466275659824047},{"$f":"('2008'!T17/'2008 Rate'!$AA17)*1000","v":2.5659824046920821},{"$f":"('2008'!U17/'2008 Rate'!$AA17)*1000","v":0.51319648093841641},{"$f":"('2008'!V17/'2008 Rate'!$AA17)*1000","v":1.4296187683284456},{"$f":"('2008'!W17/'2008 Rate'!$AA17)*1000","v":0.69648093841642233},null,null,"Eilean Siar",{"$f":"'Population estimates'!F17","v":27280}]
[16,"Falkirk",null,{"$f":"('2008'!D18/'2008 Rate'!$AA18)*1000","v":4.3251353643420964},{"$f":"('2008'!E18/'2008 Rate'!$AA18)*1000","v":0.38489138234718506},{"$f":"('2008'!F18/'2008 Rate'!$AA18)*1000","v":3.4705460238763131},{"$f":"('2008'!G18/'2008 Rate'!$AA18)*1000","v":0.46969795811859871},{"$f":"('2008'!H18/'2008 Rate'!$AA18)*1000","v":28.142735990606042},{"$f":"('2008'!I18/'2008 Rate'!$AA18)*1000","v":23.817600626263946},{"$f":"('2008'!J18/'2008 Rate'!$AA18)*1000","v":2.87037641072477},{"$f":"('2008'!K18/'2008 Rate'!$AA18)*1000","v":19.55117750668667},{"$f":"('2008'!L18/'2008 Rate'!$AA18)*1000","v":16.680801095961904},{"$f":"('2008'!M18/'2008 Rate'!$AA18)*1000","v":0.74368843368778137},{"$f":"('2008'!N18/'2008 Rate'!$AA18)*1000","v":4.9122578119903455},{"$f":"('2008'!O18/'2008 Rate'!$AA18)*1000","v":4.1685693783025641},{"$f":"('2008'!P18/'2008 Rate'!$AA18)*1000","v":0.71107051992954529},{"$f":"('2008'!Q18/'2008 Rate'!$AA18)*1000","v":3.6793006719290231},{"$f":"('2008'!R18/'2008 Rate'!$AA18)*1000","v":2.968230151999478},{"$f":"('2008'!S18/'2008 Rate'!$AA18)*1000","v":1.0437732402635527},{"$f":"('2008'!T18/'2008 Rate'!$AA18)*1000","v":2.8051405832082978},{"$f":"('2008'!U18/'2008 Rate'!$AA18)*1000","v":0.93939591623719743},{"$f":"('2008'!V18/'2008 Rate'!$AA18)*1000","v":3.5488290168960797},{"$f":"('2008'!W18/'2008 Rate'!$AA18)*1000","v":2.1397351425402831},null,null,"Falkirk",{"$f":"'Population estimates'!F18","v":153290}]
[17,"Fife",null,{"$f":"('2008'!D19/'2008 Rate'!$AA19)*1000","v":4.5188168309956955},{"$f":"('2008'!E19/'2008 Rate'!$AA19)*1000","v":0.77211498402999579},{"$f":"('2008'!F19/'2008 Rate'!$AA19)*1000","v":3.4661852520483269},{"$f":"('2008'!G19/'2008 Rate'!$AA19)*1000","v":0.28051659491737263},{"$f":"('2008'!H19/'2008 Rate'!$AA19)*1000","v":33.559227885015964},{"$f":"('2008'!I19/'2008 Rate'!$AA19)*1000","v":29.040411054020275},{"$f":"('2008'!J19/'2008 Rate'!$AA19)*1000","v":2.0302735731148451},{"$f":"('2008'!K19/'2008 Rate'!$AA19)*1000","v":17.766976808776558},{"$f":"('2008'!L19/'2008 Rate'!$AA19)*1000","v":15.736703235661713},{"$f":"('2008'!M19/'2008 Rate'!$AA19)*1000","v":1.4220247187890571},{"$f":"('2008'!N19/'2008 Rate'!$AA19)*1000","v":9.6569920844327175},{"$f":"('2008'!O19/'2008 Rate'!$AA19)*1000","v":8.2349673656436604},{"$f":"('2008'!P19/'2008 Rate'!$AA19)*1000","v":1.0665185390917926},{"$f":"('2008'!Q19/'2008 Rate'!$AA19)*1000","v":6.1352589918066931},{"$f":"('2008'!R19/'2008 Rate'!$AA19)*1000","v":5.0687404527149003},{"$f":"('2008'!S19/'2008 Rate'!$AA19)*1000","v":2.8190529093181502},{"$f":"('2008'!T19/'2008 Rate'!$AA19)*1000","v":5.4159144563255106},{"$f":"('2008'!U19/'2008 Rate'!$AA19)*1000","v":1.0776281072073324},{"$f":"('2008'!V19/'2008 Rate'!$AA19)*1000","v":3.5439522288571035},{"$f":"('2008'!W19/'2008 Rate'!$AA19)*1000","v":1.4220247187890571},null,null,"Fife",{"$f":"'Population estimates'!F19","v":360050}]
[18,"Glasgow City",null,{"$f":"('2008'!D20/'2008 Rate'!$AA20)*1000","v":5.0833044081915997},{"$f":"('2008'!E20/'2008 Rate'!$AA20)*1000","v":-1.1246095105866019},{"$f":"('2008'!F20/'2008 Rate'!$AA20)*1000","v":6.9003818118708784},{"$f":"('2008'!G20/'2008 Rate'!$AA20)*1000","v":-0.6924678930926762},{"$f":"('2008'!H20/'2008 Rate'!$AA20)*1000","v":53.986463033668862},{"$f":"('2008'!I20/'2008 Rate'!$AA20)*1000","v":48.903158625477261},{"$f":"('2008'!J20/'2008 Rate'!$AA20)*1000","v":-3.7643179451579312},{"$f":"('2008'!K20/'2008 Rate'!$AA20)*1000","v":25.308920513710518},{"$f":"('2008'!L20/'2008 Rate'!$AA20)*1000","v":29.073238458868449},{"$f":"('2008'!M20/'2008 Rate'!$AA20)*1000","v":1.4751822283929192},{"$f":"('2008'!N20/'2008 Rate'!$AA20)*1000","v":11.723359944463729},{"$f":"('2008'!O20/'2008 Rate'!$AA20)*1000","v":10.24817771607081},{"$f":"('2008'!P20/'2008 Rate'!$AA20)*1000","v":7.3724401249566123},{"$f":"('2008'!Q20/'2008 Rate'!$AA20)*1000","v":16.95418257549462},{"$f":"('2008'!R20/'2008 Rate'!$AA20)*1000","v":9.5817424505380071},{"$f":"('2008'!S20/'2008 Rate'!$AA20)*1000","v":2.9330093717459218},{"$f":"('2008'!T20/'2008 Rate'!$AA20)*1000","v":15.307185005206525},{"$f":"('2008'!U20/'2008 Rate'!$AA20)*1000","v":3.0076362374175631},{"$f":"('2008'!V20/'2008 Rate'!$AA20)*1000","v":15.926761541131551},{"$f":"('2008'!W20/'2008 Rate'!$AA20)*1000","v":13.54390836515099},{"$f":"('2008'!X20/'2008 Rate'!$AA20)*1000","v":107.6015272474835},null,"Glasgow City",{"$f":"'Population estimates'!F20","v":576200}]
[19,"Highland",null,{"$f":"('2008'!D21/'2008 Rate'!$AA21)*1000","v":9.3003788880077547},{"$f":"('2008'!E21/'2008 Rate'!$AA21)*1000","v":1.9869592034540486},{"$f":"('2008'!F21/'2008 Rate'!$AA21)*1000","v":6.5864833906071016},{"$f":"('2008'!G21/'2008 Rate'!$AA21)*1000","v":0.7269362939466032},{"$f":"('2008'!H21/'2008 Rate'!$AA21)*1000","v":42.386994448850118},{"$f":"('2008'!I21/'2008 Rate'!$AA21)*1000","v":33.086615560842368},{"$f":"('2008'!J21/'2008 Rate'!$AA21)*1000","v":1.8988457132787029},{"$f":"('2008'!K21/'2008 Rate'!$AA21)*1000","v":19.962111199224601},{"$f":"('2008'!L21/'2008 Rate'!$AA21)*1000","v":18.063265485945898},{"$f":"('2008'!M21/'2008 Rate'!$AA21)*1000","v":6.0269627279936557},{"$f":"('2008'!N21/'2008 Rate'!$AA21)*1000","v":15.556436690457309},{"$f":"('2008'!O21/'2008 Rate'!$AA21)*1000","v":9.5294739624636549},{"$f":"('2008'!P21/'2008 Rate'!$AA21)*1000","v":1.3745704467353952},{"$f":"('2008'!Q21/'2008 Rate'!$AA21)*1000","v":6.8684465591682082},{"$f":"('2008'!R21/'2008 Rate'!$AA21)*1000","v":5.4938761124328135},{"$f":"('2008'!S21/'2008 Rate'!$AA21)*1000","v":5.5511498810467881},{"$f":"('2008'!T21/'2008 Rate'!$AA21)*1000","v":9.4281434487620057},{"$f":"('2008'!U21/'2008 Rate'!$AA21)*1000","v":1.1498810467882634},{"$f":"('2008'!V21/'2008 Rate'!$AA21)*1000","v":2.7843862895409286},{"$f":"('2008'!W21/'2008 Rate'!$AA21)*1000","v":2.1411578112609044},{"$f":"('2008'!X21/'2008 Rate'!$AA21)*1000","v":35.245396070138341},null,"Highland",{"$f":"'Population estimates'!F21","v":226980}]
[20,"Inverclyde",null,{"$f":"('2008'!D22/'2008 Rate'!$AA22)*1000","v":-2.475609756097561},{"$f":"('2008'!E22/'2008 Rate'!$AA22)*1000","v":-8.5365853658536578E-2},{"$f":"('2008'!F22/'2008 Rate'!$AA22)*1000","v":-1.9512195121951219},{"$f":"('2008'!G22/'2008 Rate'!$AA22)*1000","v":-0.43902439024390244},{"$f":"('2008'!H22/'2008 Rate'!$AA22)*1000","v":20.219512195121951},{"$f":"('2008'!I22/'2008 Rate'!$AA22)*1000","v":22.695121951219512},{"$f":"('2008'!J22/'2008 Rate'!$AA22)*1000","v":-2.475609756097561},{"$f":"('2008'!K22/'2008 Rate'!$AA22)*1000","v":12.743902439024389},{"$f":"('2008'!L22/'2008 Rate'!$AA22)*1000","v":15.219512195121951},{"$f":"('2008'!M22/'2008 Rate'!$AA22)*1000","v":0.63414634146341464},{"$f":"('2008'!N22/'2008 Rate'!$AA22)*1000","v":5.1951219512195124},{"$f":"('2008'!O22/'2008 Rate'!$AA22)*1000","v":4.5609756097560972},{"$f":"('2008'!P22/'2008 Rate'!$AA22)*1000","v":-0.63414634146341464},{"$f":"('2008'!Q22/'2008 Rate'!$AA22)*1000","v":2.2804878048780486},{"$f":"('2008'!R22/'2008 Rate'!$AA22)*1000","v":2.9146341463414633},{"$f":"('2008'!S22/'2008 Rate'!$AA22)*1000","v":0.12195121951219512},{"$f":"('2008'!T22/'2008 Rate'!$AA22)*1000","v":3.0487804878048781},{"$f":"('2008'!U22/'2008 Rate'!$AA22)*1000","v":0.43902439024390244},{"$f":"('2008'!V22/'2008 Rate'!$AA22)*1000","v":2.2560975609756095},{"$f":"('2008'!W22/'2008 Rate'!$AA22)*1000","v":0.29268292682926828},null,null,"Inverclyde",{"$f":"'Population estimates'!F22","v":82000}]
[21,"Midlothian",null,{"$f":"('2008'!D23/'2008 Rate'!$AA23)*1000","v":5.2366936472896741},{"$f":"('2008'!E23/'2008 Rate'!$AA23)*1000","v":1.4839342653912191},{"$f":"('2008'!F23/'2008 Rate'!$AA23)*1000","v":3.3112582781456954},{"$f":"('2008'!G23/'2008 Rate'!$AA23)*1000","v":0.44150110375275936},{"$f":"('2008'!H23/'2008 Rate'!$AA23)*1000","v":36.620063772381656},{"$f":"('2008'!I23/'2008 Rate'!$AA23)*1000","v":31.383370125091979},{"$f":"('2008'!J23/'2008 Rate'!$AA23)*1000","v":4.0593573706156487},{"$f":"('2008'!K23/'2008 Rate'!$AA23)*1000","v":28.673043904831985},{"$f":"('2008'!L23/'2008 Rate'!$AA23)*1000","v":24.613686534216338},{"$f":"('2008'!M23/'2008 Rate'!$AA23)*1000","v":1.0914888398332105},{"$f":"('2008'!N23/'2008 Rate'!$AA23)*1000","v":5.5187637969094929},{"$f":"('2008'!O23/'2008 Rate'!$AA23)*1000","v":4.427274957076281},{"$f":"('2008'!P23/'2008 Rate'!$AA23)*1000","v":8.5847436840814334E-2},{"$f":"('2008'!Q23/'2008 Rate'!$AA23)*1000","v":2.4282560706401766},{"$f":"('2008'!R23/'2008 Rate'!$AA23)*1000","v":2.3424086337993621},{"$f":"('2008'!S23/'2008 Rate'!$AA23)*1000","v":1.4103507480990924},{"$f":"('2008'!T23/'2008 Rate'!$AA23)*1000","v":2.2075055187637971},{"$f":"('2008'!U23/'2008 Rate'!$AA23)*1000","v":1.0056414029923963},{"$f":"('2008'!V23/'2008 Rate'!$AA23)*1000","v":3.4216335540838854},{"$f":"('2008'!W23/'2008 Rate'!$AA23)*1000","v":1.2141280353200883},null,null,"Midlothian",{"$f":"'Population estimates'!F23","v":81540}]
[22,"Moray",null,{"$f":"('2008'!D24/'2008 Rate'!$AA24)*1000","v":3.5548852741570616},{"$f":"('2008'!E24/'2008 Rate'!$AA24)*1000","v":0.82947323063664768},{"$f":"('2008'!F24/'2008 Rate'!$AA24)*1000","v":1.669718840891953},{"$f":"('2008'!G24/'2008 Rate'!$AA24)*1000","v":1.0556932026284607},{"$f":"('2008'!H24/'2008 Rate'!$AA24)*1000","v":37.477108693310356},{"$f":"('2008'!I24/'2008 Rate'!$AA24)*1000","v":33.922223419153291},{"$f":"('2008'!J24/'2008 Rate'!$AA24)*1000","v":-0.6894322955940968},{"$f":"('2008'!K24/'2008 Rate'!$AA24)*1000","v":17.699019713454703},{"$f":"('2008'!L24/'2008 Rate'!$AA24)*1000","v":18.388452009048798},{"$f":"('2008'!M24/'2008 Rate'!$AA24)*1000","v":4.3412689863190783},{"$f":"('2008'!N24/'2008 Rate'!$AA24)*1000","v":14.39189917052677},{"$f":"('2008'!O24/'2008 Rate'!$AA24)*1000","v":10.050630184207693},{"$f":"('2008'!P24/'2008 Rate'!$AA24)*1000","v":-9.6951416567919849E-2},{"$f":"('2008'!Q24/'2008 Rate'!$AA24)*1000","v":5.3861898093288803},{"$f":"('2008'!R24/'2008 Rate'!$AA24)*1000","v":5.4831412258968006},{"$f":"('2008'!S24/'2008 Rate'!$AA24)*1000","v":2.2083378218248413},{"$f":"('2008'!T24/'2008 Rate'!$AA24)*1000","v":4.0935042550899494},{"$f":"('2008'!U24/'2008 Rate'!$AA24)*1000","v":0.90487988796725194},{"$f":"('2008'!V24/'2008 Rate'!$AA24)*1000","v":2.477647312291285},{"$f":"('2008'!W24/'2008 Rate'!$AA24)*1000","v":2.079069266400948},{"$f":"('2008'!X24/'2008 Rate'!$AA24)*1000","v":43.089518474631042},null,"Moray",{"$f":"'Population estimates'!F24","v":92830}]
[23,"North Ayrshire",null,{"$f":"('2008'!D25/'2008 Rate'!$AA25)*1000","v":2.4146182292799652},{"$f":"('2008'!E25/'2008 Rate'!$AA25)*1000","v":0.92089043579145824},{"$f":"('2008'!F25/'2008 Rate'!$AA25)*1000","v":0.87013269523602355},{"$f":"('2008'!G25/'2008 Rate'!$AA25)*1000","v":0.62359509825248349},{"$f":"('2008'!H25/'2008 Rate'!$AA25)*1000","v":30.403886592705387},{"$f":"('2008'!I25/'2008 Rate'!$AA25)*1000","v":27.989268363425424},{"$f":"('2008'!J25/'2008 Rate'!$AA25)*1000","v":1.0079037053150606},{"$f":"('2008'!K25/'2008 Rate'!$AA25)*1000","v":21.035457907330866},{"$f":"('2008'!L25/'2008 Rate'!$AA25)*1000","v":20.027554202015807},{"$f":"('2008'!M25/'2008 Rate'!$AA25)*1000","v":2.4653759698353999},{"$f":"('2008'!N25/'2008 Rate'!$AA25)*1000","v":7.4758900732361688},{"$f":"('2008'!O25/'2008 Rate'!$AA25)*1000","v":5.0105141034007685},{"$f":"('2008'!P25/'2008 Rate'!$AA25)*1000","v":-1.0586614458704953},{"$f":"('2008'!Q25/'2008 Rate'!$AA25)*1000","v":1.8925386121383512},{"$f":"('2008'!R25/'2008 Rate'!$AA25)*1000","v":2.9512000580088462},{"$f":"('2008'!S25/'2008 Rate'!$AA25)*1000","v":0.43506634761801177},{"$f":"('2008'!T25/'2008 Rate'!$AA25)*1000","v":1.5952432745993763},{"$f":"('2008'!U25/'2008 Rate'!$AA25)*1000","v":0.39881081864984408},{"$f":"('2008'!V25/'2008 Rate'!$AA25)*1000","v":1.9070408237256182},{"$f":"('2008'!W25/'2008 Rate'!$AA25)*1000","v":0.47857298237981294},null,null,"North Ayrshire",{"$f":"'Population estimates'!F25","v":137910}]
[24,"North Lanarkshire",null,{"$f":"('2008'!D26/'2008 Rate'!$AA26)*1000","v":1.60220828707732},{"$f":"('2008'!E26/'2008 Rate'!$AA26)*1000","v":0.65408503105403704},{"$f":"('2008'!F26/'2008 Rate'!$AA26)*1000","v":1.1371478292177983},{"$f":"('2008'!G26/'2008 Rate'!$AA26)*1000","v":-0.18902457319451527},{"$f":"('2008'!H26/'2008 Rate'!$AA26)*1000","v":24.024123136007681},{"$f":"('2008'!I26/'2008 Rate'!$AA26)*1000","v":22.42191484893036},{"$f":"('2008'!J26/'2008 Rate'!$AA26)*1000","v":0.65708542110474355},{"$f":"('2008'!K26/'2008 Rate'!$AA26)*1000","v":16.736175702841372},{"$f":"('2008'!L26/'2008 Rate'!$AA26)*1000","v":16.079090281736626},{"$f":"('2008'!M26/'2008 Rate'!$AA26)*1000","v":0.65408503105403704},{"$f":"('2008'!N26/'2008 Rate'!$AA26)*1000","v":4.0505265684538987},{"$f":"('2008'!O26/'2008 Rate'!$AA26)*1000","v":3.3964415373998622},{"$f":"('2008'!P26/'2008 Rate'!$AA26)*1000","v":0.29103783491853941},{"$f":"('2008'!Q26/'2008 Rate'!$AA26)*1000","v":3.237420864712413},{"$f":"('2008'!R26/'2008 Rate'!$AA26)*1000","v":2.9463830297938731},{"$f":"('2008'!S26/'2008 Rate'!$AA26)*1000","v":1.6352125776350925},{"$f":"('2008'!T26/'2008 Rate'!$AA26)*1000","v":3.5104563593267124},{"$f":"('2008'!U26/'2008 Rate'!$AA26)*1000","v":0.73509556242311502},{"$f":"('2008'!V26/'2008 Rate'!$AA26)*1000","v":4.2755558222568935},{"$f":"('2008'!W26/'2008 Rate'!$AA26)*1000","v":2.0012601638212968},null,null,"North Lanarkshire",{"$f":"'Population estimates'!F26","v":333290}]
[25,"Orkney Islands",null,{"$f":"('2008'!D27/'2008 Rate'!$AA27)*1000","v":4.5805207328833175},{"$f":"('2008'!E27/'2008 Rate'!$AA27)*1000","v":2.1697203471552555},{"$f":"('2008'!F27/'2008 Rate'!$AA27)*1000","v":1.4464802314368372},{"$f":"('2008'!G27/'2008 Rate'!$AA27)*1000","v":0.96432015429122475},{"$f":"('2008'!H27/'2008 Rate'!$AA27)*1000","v":35.920925747348122},{"$f":"('2008'!I27/'2008 Rate'!$AA27)*1000","v":31.3404050144648},{"$f":"('2008'!J27/'2008 Rate'!$AA27)*1000","v":-2.459016393442623},{"$f":"('2008'!K27/'2008 Rate'!$AA27)*1000","v":17.743490838958536},{"$f":"('2008'!L27/'2008 Rate'!$AA27)*1000","v":20.20250723240116},{"$f":"('2008'!M27/'2008 Rate'!$AA27)*1000","v":8.2931533269045321},{"$f":"('2008'!N27/'2008 Rate'!$AA27)*1000","v":15.863066538090647},{"$f":"('2008'!O27/'2008 Rate'!$AA27)*1000","v":7.5699132111861136},{"$f":"('2008'!P27/'2008 Rate'!$AA27)*1000","v":-1.253616200578592},{"$f":"('2008'!Q27/'2008 Rate'!$AA27)*1000","v":2.3143683702989395},{"$f":"('2008'!R27/'2008 Rate'!$AA27)*1000","v":3.5679845708775311},{"$f":"('2008'!S27/'2008 Rate'!$AA27)*1000","v":0.96432015429122475},{"$f":"('2008'!T27/'2008 Rate'!$AA27)*1000","v":2.8929604628736745},{"$f":"('2008'!U27/'2008 Rate'!$AA27)*1000","v":0.62680810028929601},{"$f":"('2008'!V27/'2008 Rate'!$AA27)*1000","v":2.217936354869817},{"$f":"('2008'!W27/'2008 Rate'!$AA27)*1000","v":0.28929604628736744},null,null,"Orkney Islands",{"$f":"'Population estimates'!F27","v":20740}]
[26,"Perth & Kinross",null,{"$f":"('2008'!D28/'2008 Rate'!$AA28)*1000","v":16.767973171242925},{"$f":"('2008'!E28/'2008 Rate'!$AA28)*1000","v":2.7317822958149933},{"$f":"('2008'!F28/'2008 Rate'!$AA28)*1000","v":13.239712149793894},{"$f":"('2008'!G28/'2008 Rate'!$AA28)*1000","v":0.79647872563403899},{"$f":"('2008'!H28/'2008 Rate'!$AA28)*1000","v":54.810312303500318},{"$f":"('2008'!I28/'2008 Rate'!$AA28)*1000","v":38.042339132257389},{"$f":"('2008'!J28/'2008 Rate'!$AA28)*1000","v":3.4304478446167819},{"$f":"('2008'!K28/'2008 Rate'!$AA28)*1000","v":27.282889680709843},{"$f":"('2008'!L28/'2008 Rate'!$AA28)*1000","v":23.85244183609306},{"$f":"('2008'!M28/'2008 Rate'!$AA28)*1000","v":3.6959407531614614},{"$f":"('2008'!N28/'2008 Rate'!$AA28)*1000","v":11.157688814364564},{"$f":"('2008'!O28/'2008 Rate'!$AA28)*1000","v":7.4617480612031022},{"$f":"('2008'!P28/'2008 Rate'!$AA28)*1000","v":9.6415845734646819},{"$f":"('2008'!Q28/'2008 Rate'!$AA28)*1000","v":16.369733808425906},{"$f":"('2008'!R28/'2008 Rate'!$AA28)*1000","v":6.728149234961224},{"$f":"('2008'!S28/'2008 Rate'!$AA28)*1000","v":11.842381052190317},{"$f":"('2008'!T28/'2008 Rate'!$AA28)*1000","v":27.457556067910293},{"$f":"('2008'!U28/'2008 Rate'!$AA28)*1000","v":1.159784811010969},{"$f":"('2008'!V28/'2008 Rate'!$AA28)*1000","v":3.0601551037518342},{"$f":"('2008'!W28/'2008 Rate'!$AA28)*1000","v":2.2007964787256338},{"$f":"('2008'!X28/'2008 Rate'!$AA28)*1000","v":48.906588416125196},null,"Perth & Kinross",{"$f":"'Population estimates'!F28","v":143130}]
[27,"Renfrewshire",null,{"$f":"('2008'!D29/'2008 Rate'!$AA29)*1000","v":2.3053753475440222},{"$f":"('2008'!E29/'2008 Rate'!$AA29)*1000","v":0.66033364226135305},{"$f":"('2008'!F29/'2008 Rate'!$AA29)*1000","v":1.3959684893419835},{"$f":"('2008'!G29/'2008 Rate'!$AA29)*1000","v":0.24907321594068585},{"$f":"('2008'!H29/'2008 Rate'!$AA29)*1000","v":29.344300278035217},{"$f":"('2008'!I29/'2008 Rate'!$AA29)*1000","v":27.038924930491198},{"$f":"('2008'!J29/'2008 Rate'!$AA29)*1000","v":0.88623725671918441},{"$f":"('2008'!K29/'2008 Rate'!$AA29)*1000","v":20.481927710843376},{"$f":"('2008'!L29/'2008 Rate'!$AA29)*1000","v":19.595690454124188},{"$f":"('2008'!M29/'2008 Rate'!$AA29)*1000","v":0.65454124189063945},{"$f":"('2008'!N29/'2008 Rate'!$AA29)*1000","v":4.8656163113994442},{"$f":"('2008'!O29/'2008 Rate'!$AA29)*1000","v":4.2110750695088051},{"$f":"('2008'!P29/'2008 Rate'!$AA29)*1000","v":0.76459684893419833},{"$f":"('2008'!Q29/'2008 Rate'!$AA29)*1000","v":3.9967562557924001},{"$f":"('2008'!R29/'2008 Rate'!$AA29)*1000","v":3.232159406858202},{"$f":"('2008'!S29/'2008 Rate'!$AA29)*1000","v":1.4191380908248379},{"$f":"('2008'!T29/'2008 Rate'!$AA29)*1000","v":4.5180722891566267},{"$f":"('2008'!U29/'2008 Rate'!$AA29)*1000","v":0.89782205746061161},{"$f":"('2008'!V29/'2008 Rate'!$AA29)*1000","v":4.240037071362373},{"$f":"('2008'!W29/'2008 Rate'!$AA29)*1000","v":1.1411028730305839},{"$f":"('2008'!X29/'2008 Rate'!$AA29)*1000","v":52.131603336422607},null,"Renfrewshire",{"$f":"'Population estimates'!F29","v":172640}]
[28,"Scottish Borders",null,{"$f":"('2008'!D30/'2008 Rate'!$AA30)*1000","v":11.485532815808046},{"$f":"('2008'!E30/'2008 Rate'!$AA30)*1000","v":2.690543401552576},{"$f":"('2008'!F30/'2008 Rate'!$AA30)*1000","v":8.380381086803105},{"$f":"('2008'!G30/'2008 Rate'!$AA30)*1000","v":0.4146083274523642},{"$f":"('2008'!H30/'2008 Rate'!$AA30)*1000","v":46.788990825688074},{"$f":"('2008'!I30/'2008 Rate'!$AA30)*1000","v":35.303458009880032},{"$f":"('2008'!J30/'2008 Rate'!$AA30)*1000","v":3.1757233592095977},{"$f":"('2008'!K30/'2008 Rate'!$AA30)*1000","v":22.018348623853214},{"$f":"('2008'!L30/'2008 Rate'!$AA30)*1000","v":18.842625264643615},{"$f":"('2008'!M30/'2008 Rate'!$AA30)*1000","v":7.5158786167960487},{"$f":"('2008'!N30/'2008 Rate'!$AA30)*1000","v":18.727946365561046},{"$f":"('2008'!O30/'2008 Rate'!$AA30)*1000","v":11.212067748764998},{"$f":"('2008'!P30/'2008 Rate'!$AA30)*1000","v":0.79393083980239942},{"$f":"('2008'!Q30/'2008 Rate'!$AA30)*1000","v":6.0426958362738183},{"$f":"('2008'!R30/'2008 Rate'!$AA30)*1000","v":5.2487649964714187},{"$f":"('2008'!S30/'2008 Rate'!$AA30)*1000","v":2.646436132674665},{"$f":"('2008'!T30/'2008 Rate'!$AA30)*1000","v":5.381086803105152},{"$f":"('2008'!U30/'2008 Rate'!$AA30)*1000","v":1.1908962597035992},{"$f":"('2008'!V30/'2008 Rate'!$AA30)*1000","v":2.002470007057163},{"$f":"('2008'!W30/'2008 Rate'!$AA30)*1000","v":1.9142554693013409},{"$f":"('2008'!X30/'2008 Rate'!$AA30)*1000","v":35.285815102328868},null,"Scottish Borders",{"$f":"'Population estimates'!F30","v":113360}]
[29,"Shetland Islands",null,{"$f":"('2008'!D31/'2008 Rate'!$AA31)*1000","v":1.1565836298932384},{"$f":"('2008'!E31/'2008 Rate'!$AA31)*1000","v":0.71174377224199292},{"$f":"('2008'!F31/'2008 Rate'!$AA31)*1000","v":0.17793594306049823},{"$f":"('2008'!G31/'2008 Rate'!$AA31)*1000","v":0.26690391459074736},{"$f":"('2008'!H31/'2008 Rate'!$AA31)*1000","v":33.362989323843415},{"$f":"('2008'!I31/'2008 Rate'!$AA31)*1000","v":32.206405693950174},{"$f":"('2008'!J31/'2008 Rate'!$AA31)*1000","v":-4.5818505338078293},{"$f":"('2008'!K31/'2008 Rate'!$AA31)*1000","v":14.679715302491102},{"$f":"('2008'!L31/'2008 Rate'!$AA31)*1000","v":19.261565836298931},{"$f":"('2008'!M31/'2008 Rate'!$AA31)*1000","v":5.604982206405694},{"$f":"('2008'!N31/'2008 Rate'!$AA31)*1000","v":14.501779359430605},{"$f":"('2008'!O31/'2008 Rate'!$AA31)*1000","v":8.8967971530249113},{"$f":"('2008'!P31/'2008 Rate'!$AA31)*1000","v":0.13345195729537368},{"$f":"('2008'!Q31/'2008 Rate'!$AA31)*1000","v":4.1814946619217084},{"$f":"('2008'!R31/'2008 Rate'!$AA31)*1000","v":4.0480427046263348},{"$f":"('2008'!S31/'2008 Rate'!$AA31)*1000","v":3.5587188612099641},{"$f":"('2008'!T31/'2008 Rate'!$AA31)*1000","v":7.1174377224199281},{"$f":"('2008'!U31/'2008 Rate'!$AA31)*1000","v":1.0676156583629894},{"$f":"('2008'!V31/'2008 Rate'!$AA31)*1000","v":2.4466192170818504},{"$f":"('2008'!W31/'2008 Rate'!$AA31)*1000","v":1.1120996441281139},null,null,"Shetland Islands",{"$f":"'Population estimates'!F31","v":22480}]
[30,"South Ayrshire",null,{"$f":"('2008'!D32/'2008 Rate'!$AA32)*1000","v":3.5520824083118727},{"$f":"('2008'!E32/'2008 Rate'!$AA32)*1000","v":1.9358849125299709},{"$f":"('2008'!F32/'2008 Rate'!$AA32)*1000","v":1.2521090489299351},{"$f":"('2008'!G32/'2008 Rate'!$AA32)*1000","v":0.36408844685196701},{"$f":"('2008'!H32/'2008 Rate'!$AA32)*1000","v":34.02894947162774},{"$f":"('2008'!I32/'2008 Rate'!$AA32)*1000","v":30.476867063315868},{"$f":"('2008'!J32/'2008 Rate'!$AA32)*1000","v":1.9714057366130895},{"$f":"('2008'!K32/'2008 Rate'!$AA32)*1000","v":22.262676494094663},{"$f":"('2008'!L32/'2008 Rate'!$AA32)*1000","v":20.291270757481573},{"$f":"('2008'!M32/'2008 Rate'!$AA32)*1000","v":2.2555723292780394},{"$f":"('2008'!N32/'2008 Rate'!$AA32)*1000","v":8.8358049906757845},{"$f":"('2008'!O32/'2008 Rate'!$AA32)*1000","v":6.5802326613977451},{"$f":"('2008'!P32/'2008 Rate'!$AA32)*1000","v":-0.67489565757925585},{"$f":"('2008'!Q32/'2008 Rate'!$AA32)*1000","v":2.9304679868572951},{"$f":"('2008'!R32/'2008 Rate'!$AA32)*1000","v":3.6053636444365509},{"$f":"('2008'!S32/'2008 Rate'!$AA32)*1000","v":0.66601545155847608},{"$f":"('2008'!T32/'2008 Rate'!$AA32)*1000","v":2.7528638664417011},{"$f":"('2008'!U32/'2008 Rate'!$AA32)*1000","v":0.52393215522600123},{"$f":"('2008'!V32/'2008 Rate'!$AA32)*1000","v":2.4775774797975316},{"$f":"('2008'!W32/'2008 Rate'!$AA32)*1000","v":0.76369771778705275},null,null,"South Ayrshire",{"$f":"'Population estimates'!F32","v":112610}]
[31,"South Lanarkshire",null,{"$f":"('2008'!D33/'2008 Rate'!$AA33)*1000","v":2.360914814338944},{"$f":"('2008'!E33/'2008 Rate'!$AA33)*1000","v":0.63921367082102021},{"$f":"('2008'!F33/'2008 Rate'!$AA33)*1000","v":1.2880637286393422},{"$f":"('2008'!G33/'2008 Rate'!$AA33)*1000","v":0.43363741487858154},{"$f":"('2008'!H33/'2008 Rate'!$AA33)*1000","v":28.228189644096108},{"$f":"('2008'!I33/'2008 Rate'!$AA33)*1000","v":25.867274829757161},{"$f":"('2008'!J33/'2008 Rate'!$AA33)*1000","v":2.2324296543749198},{"$f":"('2008'!K33/'2008 Rate'!$AA33)*1000","v":20.965565977129643},{"$f":"('2008'!L33/'2008 Rate'!$AA33)*1000","v":18.733136322754724},{"$f":"('2008'!M33/'2008 Rate'!$AA33)*1000","v":0.71630476679943467},{"$f":"('2008'!N33/'2008 Rate'!$AA33)*1000","v":4.9884363356032377},{"$f":"('2008'!O33/'2008 Rate'!$AA33)*1000","v":4.2721315688038031},{"$f":"('2008'!P33/'2008 Rate'!$AA33)*1000","v":-0.58781960683541057},{"$f":"('2008'!Q33/'2008 Rate'!$AA33)*1000","v":2.2741873313632275},{"$f":"('2008'!R33/'2008 Rate'!$AA33)*1000","v":2.8620069381986379},{"$f":"('2008'!S33/'2008 Rate'!$AA33)*1000","v":1.0439419247076964},{"$f":"('2008'!T33/'2008 Rate'!$AA33)*1000","v":2.3127328793524349},{"$f":"('2008'!U33/'2008 Rate'!$AA33)*1000","v":0.68739560580752923},{"$f":"('2008'!V33/'2008 Rate'!$AA33)*1000","v":3.966979313889246},{"$f":"('2008'!W33/'2008 Rate'!$AA33)*1000","v":1.1981241166645253},null,null,"South Lanarkshire",{"$f":"'Population estimates'!F33","v":311320}]
[32,"Stirling",null,{"$f":"('2008'!D34/'2008 Rate'!$AA34)*1000","v":2.7558165800768015},{"$f":"('2008'!E34/'2008 Rate'!$AA34)*1000","v":1.7619155184097581},{"$f":"('2008'!F34/'2008 Rate'!$AA34)*1000","v":0.58730517280325278},{"$f":"('2008'!G34/'2008 Rate'!$AA34)*1000","v":0.40659588886379039},{"$f":"('2008'!H34/'2008 Rate'!$AA34)*1000","v":56.370002258866052},{"$f":"('2008'!I34/'2008 Rate'!$AA34)*1000","v":53.614185678789248},{"$f":"('2008'!J34/'2008 Rate'!$AA34)*1000","v":-3.7723063022362773},{"$f":"('2008'!K34/'2008 Rate'!$AA34)*1000","v":32.572848430088101},{"$f":"('2008'!L34/'2008 Rate'!$AA34)*1000","v":36.345154732324374},{"$f":"('2008'!M34/'2008 Rate'!$AA34)*1000","v":3.6028913485430314},{"$f":"('2008'!N34/'2008 Rate'!$AA34)*1000","v":13.327309690535351},{"$f":"('2008'!O34/'2008 Rate'!$AA34)*1000","v":9.7244183419923207},{"$f":"('2008'!P34/'2008 Rate'!$AA34)*1000","v":2.9252315337700474},{"$f":"('2008'!Q34/'2008 Rate'!$AA34)*1000","v":10.469844138242602},{"$f":"('2008'!R34/'2008 Rate'!$AA34)*1000","v":7.5446126044725546},{"$f":"('2008'!S34/'2008 Rate'!$AA34)*1000","v":3.67065733002033},{"$f":"('2008'!T34/'2008 Rate'!$AA34)*1000","v":8.131917777275806},{"$f":"('2008'!U34/'2008 Rate'!$AA34)*1000","v":0.96001807092839397},{"$f":"('2008'!V34/'2008 Rate'!$AA34)*1000","v":4.8791506663654838},{"$f":"('2008'!W34/'2008 Rate'!$AA34)*1000","v":1.355319629545968},null,null,"Stirling",{"$f":"'Population estimates'!F34","v":88540}]
[33,"West Dunbartonshire",null,{"$f":"('2008'!D35/'2008 Rate'!$AA35)*1000","v":-2.2480535146397629},{"$f":"('2008'!E35/'2008 Rate'!$AA35)*1000","v":-0.18642394999451692},{"$f":"('2008'!F35/'2008 Rate'!$AA35)*1000","v":-1.5023577146616955},{"$f":"('2008'!G35/'2008 Rate'!$AA35)*1000","v":-0.55927184998355084},{"$f":"('2008'!H35/'2008 Rate'!$AA35)*1000","v":26.691523193332603},{"$f":"('2008'!I35/'2008 Rate'!$AA35)*1000","v":28.939576707972368},{"$f":"('2008'!J35/'2008 Rate'!$AA35)*1000","v":-1.6449172058339729},{"$f":"('2008'!K35/'2008 Rate'!$AA35)*1000","v":20.550498958219102},{"$f":"('2008'!L35/'2008 Rate'!$AA35)*1000","v":22.195416164053075},{"$f":"('2008'!M35/'2008 Rate'!$AA35)*1000","v":0.20835617940563658},{"$f":"('2008'!N35/'2008 Rate'!$AA35)*1000","v":4.4303103410461677},{"$f":"('2008'!O35/'2008 Rate'!$AA35)*1000","v":4.2219541616405305},{"$f":"('2008'!P35/'2008 Rate'!$AA35)*1000","v":-0.81149248821142672},{"$f":"('2008'!Q35/'2008 Rate'!$AA35)*1000","v":1.7107138940673319},{"$f":"('2008'!R35/'2008 Rate'!$AA35)*1000","v":2.5222063822787586},{"$f":"('2008'!S35/'2008 Rate'!$AA35)*1000","v":0.21932229411119641},{"$f":"('2008'!T35/'2008 Rate'!$AA35)*1000","v":1.6449172058339729},{"$f":"('2008'!U35/'2008 Rate'!$AA35)*1000","v":0.53733962057243123},{"$f":"('2008'!V35/'2008 Rate'!$AA35)*1000","v":2.8950542822677927},{"$f":"('2008'!W35/'2008 Rate'!$AA35)*1000","v":1.1953065029060204},null,null,"West Dunbartonshire",{"$f":"'Population estimates'!F35","v":91190}]
[34,"West Lothian",null,{"$f":"('2008'!D36/'2008 Rate'!$AA36)*1000","v":5.8116466332127441},{"$f":"('2008'!E36/'2008 Rate'!$AA36)*1000","v":0.6826934298051115},{"$f":"('2008'!F36/'2008 Rate'!$AA36)*1000","v":4.5512895320340769},{"$f":"('2008'!G36/'2008 Rate'!$AA36)*1000","v":0.5776636713735559},{"$f":"('2008'!H36/'2008 Rate'!$AA36)*1000","v":37.046329793441473},{"$f":"('2008'!I36/'2008 Rate'!$AA36)*1000","v":31.234683160228734},{"$f":"('2008'!J36/'2008 Rate'!$AA36)*1000","v":0.99778270509977829},{"$f":"('2008'!K36/'2008 Rate'!$AA36)*1000","v":22.814797525965687},{"$f":"('2008'!L36/'2008 Rate'!$AA36)*1000","v":21.817014820865914},{"$f":"('2008'!M36/'2008 Rate'!$AA36)*1000","v":2.0830902088925196},{"$f":"('2008'!N36/'2008 Rate'!$AA36)*1000","v":7.5563076204924728},{"$f":"('2008'!O36/'2008 Rate'!$AA36)*1000","v":5.4732174115999532},{"$f":"('2008'!P36/'2008 Rate'!$AA36)*1000","v":2.730773719220446},{"$f":"('2008'!Q36/'2008 Rate'!$AA36)*1000","v":6.6752246469833123},{"$f":"('2008'!R36/'2008 Rate'!$AA36)*1000","v":3.9444509277628659},{"$f":"('2008'!S36/'2008 Rate'!$AA36)*1000","v":3.7927412766950637},{"$f":"('2008'!T36/'2008 Rate'!$AA36)*1000","v":6.4768351032792619},{"$f":"('2008'!U36/'2008 Rate'!$AA36)*1000","v":1.622126269109581},{"$f":"('2008'!V36/'2008 Rate'!$AA36)*1000","v":5.4790523981794843},{"$f":"('2008'!W36/'2008 Rate'!$AA36)*1000","v":2.0947601820515813},{"$f":"('2008'!X36/'2008 Rate'!$AA36)*1000","v":46.67989263624694},null,"West Lothian",{"$f":"'Population estimates'!F36","v":171380}]
[]
[35,"Not specified"]
[36,"SCOTLAND",null,{"$f":"('2008'!D39/'2008 Rate'!$AA39)*1000","v":5.0758230986565192},{"$f":"('2008'!E39/'2008 Rate'!$AA39)*1000","v":0.82396355878452399},{"$f":"('2008'!F39/'2008 Rate'!$AA39)*1000","v":4.1465336639181993},{"$f":"('2008'!G39/'2008 Rate'!$AA39)*1000","v":0.105325875953795},{"$f":"('2008'!H39/'2008 Rate'!$AA39)*1000","v":18.936939014780219},{"$f":"('2008'!I39/'2008 Rate'!$AA39)*1000","v":13.861115916123699},null,null,null,{"$f":"('2008'!M39/'2008 Rate'!$AA39)*1000","v":2.2120355955332607},{"$f":"('2008'!N39/'2008 Rate'!$AA39)*1000","v":10.249476253627783},{"$f":"('2008'!O39/'2008 Rate'!$AA39)*1000","v":8.0374406580945248},{"$f":"('2008'!P39/'2008 Rate'!$AA39)*1000","v":2.8637875031232585},{"$f":"('2008'!Q39/'2008 Rate'!$AA39)*1000","v":8.6874627611524353},{"$f":"('2008'!R39/'2008 Rate'!$AA39)*1000","v":5.8236752580291755},null,null,{"$f":"('2008'!U39/'2008 Rate'!$AA39)*1000","v":1.4620692306213843},null,null,null,{"$f":"('2008'!Y39/'2008 Rate'!$AA39)*1000","v":11.963712544926867},"SCOTLAND",{"$f":"'Population estimates'!F39","v":5202900}]
[37,"Ayrshire & Arran",null,{"$f":"('2008'!D40/'2008 Rate'!$AA40)*1000","v":3.4454955923457322},{"$f":"('2008'!E40/'2008 Rate'!$AA40)*1000","v":1.3706729735540744},{"$f":"('2008'!F40/'2008 Rate'!$AA40)*1000","v":1.7442485486992045},{"$f":"('2008'!G40/'2008 Rate'!$AA40)*1000","v":0.33057407009245326},{"$f":"('2008'!H40/'2008 Rate'!$AA40)*1000","v":24.354977424209849},{"$f":"('2008'!I40/'2008 Rate'!$AA40)*1000","v":20.909481831864117},{"$f":"('2008'!J40/'2008 Rate'!$AA40)*1000","v":1.935067727370458},{"$f":"('2008'!K40/'2008 Rate'!$AA40)*1000","v":14.354439905396688},{"$f":"('2008'!L40/'2008 Rate'!$AA40)*1000","v":12.419372178026231},{"$f":"('2008'!M40/'2008 Rate'!$AA40)*1000","v":2.3570199956998494},{"$f":"('2008'!N40/'2008 Rate'!$AA40)*1000","v":7.8155235433240158},{"$f":"('2008'!O40/'2008 Rate'!$AA40)*1000","v":5.4585035476241668},{"$f":"('2008'!P40/'2008 Rate'!$AA40)*1000","v":-0.84659213072457529},{"$f":"('2008'!Q40/'2008 Rate'!$AA40)*1000","v":2.185013975489142},{"$f":"('2008'!R40/'2008 Rate'!$AA40)*1000","v":3.0316061062137174},null,null,{"$f":"('2008'!U40/'2008 Rate'!$AA40)*1000","v":0.44614061492152224},null,null,null,null,"Ayrshire & Arran",{"$f":"'Population estimates'!F40","v":372080}]
[38,"Borders",null,{"$f":"('2008'!D41/'2008 Rate'!$AA41)*1000","v":11.485532815808046},{"$f":"('2008'!E41/'2008 Rate'!$AA41)*1000","v":2.690543401552576},{"$f":"('2008'!F41/'2008 Rate'!$AA41)*1000","v":8.380381086803105},{"$f":"('2008'!G41/'2008 Rate'!$AA41)*1000","v":0.4146083274523642},{"$f":"('2008'!H41/'2008 Rate'!$AA41)*1000","v":46.788990825688074},{"$f":"('2008'!I41/'2008 Rate'!$AA41)*1000","v":35.303458009880032},{"$f":"('2008'!J41/'2008 Rate'!$AA41)*1000","v":3.1757233592095977},{"$f":"('2008'!K41/'2008 Rate'!$AA41)*1000","v":22.018348623853214},{"$f":"('2008'!L41/'2008 Rate'!$AA41)*1000","v":18.842625264643615},{"$f":"('2008'!M41/'2008 Rate'!$AA41)*1000","v":7.5158786167960487},{"$f":"('2008'!N41/'2008 Rate'!$AA41)*1000","v":18.727946365561046},{"$f":"('2008'!O41/'2008 Rate'!$AA41)*1000","v":11.212067748764998},{"$f":"('2008'!P41/'2008 Rate'!$AA41)*1000","v":0.79393083980239942},{"$f":"('2008'!Q41/'2008 Rate'!$AA41)*1000","v":6.0426958362738183},{"$f":"('2008'!R41/'2008 Rate'!$AA41)*1000","v":5.2487649964714187},null,null,{"$f":"('2008'!U41/'2008 Rate'!$AA41)*1000","v":1.1908962597035992},null,null,null,null,"Borders",{"$f":"'Population estimates'!F41","v":113360}]
[39,"Dumfries & Galloway",null,{"$f":"('2008'!D42/'2008 Rate'!$AA42)*1000","v":5.3638831865439371},{"$f":"('2008'!E42/'2008 Rate'!$AA42)*1000","v":1.0926428713330245},{"$f":"('2008'!F42/'2008 Rate'!$AA42)*1000","v":3.4633467982252832},{"$f":"('2008'!G42/'2008 Rate'!$AA42)*1000","v":0.80789351698563006},{"$f":"('2008'!H42/'2008 Rate'!$AA42)*1000","v":32.653466657837228},{"$f":"('2008'!I42/'2008 Rate'!$AA42)*1000","v":27.289583471293291},{"$f":"('2008'!J42/'2008 Rate'!$AA42)*1000","v":0.35759221243626249},{"$f":"('2008'!K42/'2008 Rate'!$AA42)*1000","v":11.853519634461295},{"$f":"('2008'!L42/'2008 Rate'!$AA42)*1000","v":11.49592742202503},{"$f":"('2008'!M42/'2008 Rate'!$AA42)*1000","v":6.1651546255214891},{"$f":"('2008'!N42/'2008 Rate'!$AA42)*1000","v":17.329978147142572},{"$f":"('2008'!O42/'2008 Rate'!$AA42)*1000","v":11.164823521621084},{"$f":"('2008'!P42/'2008 Rate'!$AA42)*1000","v":-1.1588636514138138},{"$f":"('2008'!Q42/'2008 Rate'!$AA42)*1000","v":3.469968876233362},{"$f":"('2008'!R42/'2008 Rate'!$AA42)*1000","v":4.6288325276471749},null,null,{"$f":"('2008'!U42/'2008 Rate'!$AA42)*1000","v":0.53638831865439374},null,null,null,null,"Dumfries & Galloway",{"$f":"'Population estimates'!F42","v":151010}]
[40,"Fife",null,{"$f":"('2008'!D43/'2008 Rate'!$AA43)*1000","v":4.499375086793501},{"$f":"('2008'!E43/'2008 Rate'!$AA43)*1000","v":0.76933759200111096},{"$f":"('2008'!F43/'2008 Rate'!$AA43)*1000","v":3.4495208998750178},{"$f":"('2008'!G43/'2008 Rate'!$AA43)*1000","v":0.28051659491737263},{"$f":"('2008'!H43/'2008 Rate'!$AA43)*1000","v":33.539786140813781},{"$f":"('2008'!I43/'2008 Rate'!$AA43)*1000","v":29.040411054020275},{"$f":"('2008'!J43/'2008 Rate'!$AA43)*1000","v":2.0274961810859602},{"$f":"('2008'!K43/'2008 Rate'!$AA43)*1000","v":17.764199416747672},{"$f":"('2008'!L43/'2008 Rate'!$AA43)*1000","v":15.736703235661713},{"$f":"('2008'!M43/'2008 Rate'!$AA43)*1000","v":1.4053603666157477},{"$f":"('2008'!N43/'2008 Rate'!$AA43)*1000","v":9.6403277322594079},{"$f":"('2008'!O43/'2008 Rate'!$AA43)*1000","v":8.2349673656436604},{"$f":"('2008'!P43/'2008 Rate'!$AA43)*1000","v":1.0665185390917926},{"$f":"('2008'!Q43/'2008 Rate'!$AA43)*1000","v":6.1352589918066931},{"$f":"('2008'!R43/'2008 Rate'!$AA43)*1000","v":5.0687404527149003},null,null,{"$f":"('2008'!U43/'2008 Rate'!$AA43)*1000","v":1.0776281072073324},null,null,null,null,"Fife",{"$f":"'Population estimates'!F43","v":360050}]
[41,"Forth Valley",null,{"$f":"('2008'!D44/'2008 Rate'!$AA44)*1000","v":4.45142349969277},{"$f":"('2008'!E44/'2008 Rate'!$AA44)*1000","v":1.2084385881067794},{"$f":"('2008'!F44/'2008 Rate'!$AA44)*1000","v":2.9767187820031409},{"$f":"('2008'!G44/'2008 Rate'!$AA44)*1000","v":0.26626612958284973},{"$f":"('2008'!H44/'2008 Rate'!$AA44)*1000","v":33.570014337406981},{"$f":"('2008'!I44/'2008 Rate'!$AA44)*1000","v":29.118590837714208},{"$f":"('2008'!J44/'2008 Rate'!$AA44)*1000","v":1.3552263262101454},{"$f":"('2008'!K44/'2008 Rate'!$AA44)*1000","v":19.758312282378643},{"$f":"('2008'!L44/'2008 Rate'!$AA44)*1000","v":18.4030859561685},{"$f":"('2008'!M44/'2008 Rate'!$AA44)*1000","v":1.8809312487198744},{"$f":"('2008'!N44/'2008 Rate'!$AA44)*1000","v":8.0767392640131082},{"$f":"('2008'!O44/'2008 Rate'!$AA44)*1000","v":6.1958080152932347},{"$f":"('2008'!P44/'2008 Rate'!$AA44)*1000","v":1.21526592476275},{"$f":"('2008'!Q44/'2008 Rate'!$AA44)*1000","v":5.7349627910152252},{"$f":"('2008'!R44/'2008 Rate'!$AA44)*1000","v":4.5196968662524757},null,null,{"$f":"('2008'!U44/'2008 Rate'!$AA44)*1000","v":0.94217245852392983},null,null,null,null,"Forth Valley",{"$f":"'Population estimates'!F44","v":292940}]
[42,"Grampian",null,{"$f":"('2008'!D45/'2008 Rate'!$AA45)*1000","v":6.9659918004659644},{"$f":"('2008'!E45/'2008 Rate'!$AA45)*1000","v":1.4918094962885369},{"$f":"('2008'!F45/'2008 Rate'!$AA45)*1000","v":5.3694305477794426},{"$f":"('2008'!G45/'2008 Rate'!$AA45)*1000","v":0.10475175639798444},{"$f":"('2008'!H45/'2008 Rate'!$AA45)*1000","v":35.969585869349274},{"$f":"('2008'!I45/'2008 Rate'!$AA45)*1000","v":29.003594068883309},{"$f":"('2008'!J45/'2008 Rate'!$AA45)*1000","v":-1.5225125973017393},{"$f":"('2008'!K45/'2008 Rate'!$AA45)*1000","v":11.41613538261482},{"$f":"('2008'!L45/'2008 Rate'!$AA45)*1000","v":12.93864797991656},{"$f":"('2008'!M45/'2008 Rate'!$AA45)*1000","v":2.3009265112246924},{"$f":"('2008'!N45/'2008 Rate'!$AA45)*1000","v":11.147031732557929},{"$f":"('2008'!O45/'2008 Rate'!$AA45)*1000","v":8.8461052213332358},{"$f":"('2008'!P45/'2008 Rate'!$AA45)*1000","v":6.1875778865430116},{"$f":"('2008'!Q45/'2008 Rate'!$AA45)*1000","v":13.406418754176524},{"$f":"('2008'!R45/'2008 Rate'!$AA45)*1000","v":7.2188408676335136},null,null,{"$f":"('2008'!U45/'2008 Rate'!$AA45)*1000","v":2.0011197601545989},null,null,null,null,"Grampian",{"$f":"'Population estimates'!F45","v":553690}]
[43,"Greater Glasgow & Clyde",null,{"$f":"('2008'!D46/'2008 Rate'!$AA46)*1000","v":2.417300666957134},{"$f":"('2008'!E46/'2008 Rate'!$AA46)*1000","v":-8.6302242182525052E-2},{"$f":"('2008'!F46/'2008 Rate'!$AA46)*1000","v":2.9786841840667626},{"$f":"('2008'!G46/'2008 Rate'!$AA46)*1000","v":-0.47508127492710395},{"$f":"('2008'!H46/'2008 Rate'!$AA46)*1000","v":33.573247980695108},{"$f":"('2008'!I46/'2008 Rate'!$AA46)*1000","v":31.155947313737975},{"$f":"('2008'!J46/'2008 Rate'!$AA46)*1000","v":-1.7453162181184434},{"$f":"('2008'!K46/'2008 Rate'!$AA46)*1000","v":16.242417133089788},{"$f":"('2008'!L46/'2008 Rate'!$AA46)*1000","v":17.987733351208231},{"$f":"('2008'!M46/'2008 Rate'!$AA46)*1000","v":0.80772195596071994},{"$f":"('2008'!N46/'2008 Rate'!$AA46)*1000","v":7.9473472534101957},{"$f":"('2008'!O46/'2008 Rate'!$AA46)*1000","v":7.1396252974494754},{"$f":"('2008'!P46/'2008 Rate'!$AA46)*1000","v":3.3548949291148573},{"$f":"('2008'!Q46/'2008 Rate'!$AA46)*1000","v":9.3834835941951269},{"$f":"('2008'!R46/'2008 Rate'!$AA46)*1000","v":6.0285886650802691},null,null,{"$f":"('2008'!U46/'2008 Rate'!$AA46)*1000","v":1.841673090458156},null,null,null,null,"Greater Glasgow",{"$f":"'Population estimates'!F46","v":1193480}]
[44,"Highland",null,{"$f":"('2008'!D47/'2008 Rate'!$AA47)*1000","v":6.5385464987850668},{"$f":"('2008'!E47/'2008 Rate'!$AA47)*1000","v":1.334848054529963},{"$f":"('2008'!F47/'2008 Rate'!$AA47)*1000","v":4.7555934235854709},{"$f":"('2008'!G47/'2008 Rate'!$AA47)*1000","v":0.44810502066963304},{"$f":"('2008'!H47/'2008 Rate'!$AA47)*1000","v":42.131338950424436},{"$f":"('2008'!I47/'2008 Rate'!$AA47)*1000","v":35.592792451639369},{"$f":"('2008'!J47/'2008 Rate'!$AA47)*1000","v":0.69424721512196663},{"$f":"('2008'!K47/'2008 Rate'!$AA47)*1000","v":20.171037268452778},{"$f":"('2008'!L47/'2008 Rate'!$AA47)*1000","v":19.476790053330809},{"$f":"('2008'!M47/'2008 Rate'!$AA47)*1000","v":5.5729117359336051},{"$f":"('2008'!N47/'2008 Rate'!$AA47)*1000","v":15.734166429991481},{"$f":"('2008'!O47/'2008 Rate'!$AA47)*1000","v":10.161254694057876},{"$f":"('2008'!P47/'2008 Rate'!$AA47)*1000","v":0.27138754772949603},{"$f":"('2008'!Q47/'2008 Rate'!$AA47)*1000","v":6.2261352519801818},{"$f":"('2008'!R47/'2008 Rate'!$AA47)*1000","v":5.9547477042506864},null,null,{"$f":"('2008'!U47/'2008 Rate'!$AA47)*1000","v":1.0855501909179841},null,null,null,null,"Highland",{"$f":"'Population estimates'!F47","v":316890}]
[45,"Lanarkshire",null,{"$f":"('2008'!D48/'2008 Rate'!$AA48)*1000","v":1.8503846898713006},{"$f":"('2008'!E48/'2008 Rate'!$AA48)*1000","v":0.80107044138101025},{"$f":"('2008'!F48/'2008 Rate'!$AA48)*1000","v":0.80283103575767178},{"$f":"('2008'!G48/'2008 Rate'!$AA48)*1000","v":0.24648321273261856},{"$f":"('2008'!H48/'2008 Rate'!$AA48)*1000","v":21.863060969383266},{"$f":"('2008'!I48/'2008 Rate'!$AA48)*1000","v":20.012676279511961},{"$f":"('2008'!J48/'2008 Rate'!$AA48)*1000","v":1.2042465536365077},{"$f":"('2008'!K48/'2008 Rate'!$AA48)*1000","v":14.31363228225849},{"$f":"('2008'!L48/'2008 Rate'!$AA48)*1000","v":13.109385728621984},{"$f":"('2008'!M48/'2008 Rate'!$AA48)*1000","v":0.7447314213278402},{"$f":"('2008'!N48/'2008 Rate'!$AA48)*1000","v":4.6215602387365973},{"$f":"('2008'!O48/'2008 Rate'!$AA48)*1000","v":3.8768288174087573},{"$f":"('2008'!P48/'2008 Rate'!$AA48)*1000","v":-9.859328509304742E-2},{"$f":"('2008'!Q48/'2008 Rate'!$AA48)*1000","v":2.9278684483881756},{"$f":"('2008'!R48/'2008 Rate'!$AA48)*1000","v":3.0264617334812232},null,null,{"$f":"('2008'!U48/'2008 Rate'!$AA48)*1000","v":0.69015299565133181},null,null,null,null,"Lanarkshire",{"$f":"'Population estimates'!F48","v":567990}]
[46,"Lothian",null,{"$f":"('2008'!D49/'2008 Rate'!$AA49)*1000","v":7.9284045538263754},{"$f":"('2008'!E49/'2008 Rate'!$AA49)*1000","v":0.42892990024598576},{"$f":"('2008'!F49/'2008 Rate'!$AA49)*1000","v":7.4426136293402889},{"$f":"('2008'!G49/'2008 Rate'!$AA49)*1000","v":5.6861024240101851E-2},{"$f":"('2008'!H49/'2008 Rate'!$AA49)*1000","v":43.635891667387732},{"$f":"('2008'!I49/'2008 Rate'!$AA49)*1000","v":35.707487113561349},{"$f":"('2008'!J49/'2008 Rate'!$AA49)*1000","v":-0.59951297296629125},{"$f":"('2008'!K49/'2008 Rate'!$AA49)*1000","v":14.485963979777253},{"$f":"('2008'!L49/'2008 Rate'!$AA49)*1000","v":15.085476952743544},{"$f":"('2008'!M49/'2008 Rate'!$AA49)*1000","v":2.7021347606274491},{"$f":"('2008'!N49/'2008 Rate'!$AA49)*1000","v":14.464950122992869},{"$f":"('2008'!O49/'2008 Rate'!$AA49)*1000","v":11.762815362365417},{"$f":"('2008'!P49/'2008 Rate'!$AA49)*1000","v":5.8257827661652186},{"$f":"('2008'!Q49/'2008 Rate'!$AA49)*1000","v":14.68497756461761},{"$f":"('2008'!R49/'2008 Rate'!$AA49)*1000","v":8.8591947984523927},null,null,{"$f":"('2008'!U49/'2008 Rate'!$AA49)*1000","v":2.3733297074129474},null,null,null,null,"Lothian",{"$f":"'Population estimates'!F49","v":808990}]
[47,"Orkney",null,{"$f":"('2008'!D50/'2008 Rate'!$AA50)*1000","v":4.5805207328833175},{"$f":"('2008'!E50/'2008 Rate'!$AA50)*1000","v":2.1697203471552555},{"$f":"('2008'!F50/'2008 Rate'!$AA50)*1000","v":1.4464802314368372},{"$f":"('2008'!G50/'2008 Rate'!$AA50)*1000","v":0.96432015429122475},{"$f":"('2008'!H50/'2008 Rate'!$AA50)*1000","v":35.920925747348122},{"$f":"('2008'!I50/'2008 Rate'!$AA50)*1000","v":31.3404050144648},{"$f":"('2008'!J50/'2008 Rate'!$AA50)*1000","v":-2.459016393442623},{"$f":"('2008'!K50/'2008 Rate'!$AA50)*1000","v":17.743490838958536},{"$f":"('2008'!L50/'2008 Rate'!$AA50)*1000","v":20.20250723240116},{"$f":"('2008'!M50/'2008 Rate'!$AA50)*1000","v":8.2931533269045321},{"$f":"('2008'!N50/'2008 Rate'!$AA50)*1000","v":15.863066538090647},{"$f":"('2008'!O50/'2008 Rate'!$AA50)*1000","v":7.5699132111861136},{"$f":"('2008'!P50/'2008 Rate'!$AA50)*1000","v":-1.253616200578592},{"$f":"('2008'!Q50/'2008 Rate'!$AA50)*1000","v":2.3143683702989395},{"$f":"('2008'!R50/'2008 Rate'!$AA50)*1000","v":3.5679845708775311},null,null,{"$f":"('2008'!U50/'2008 Rate'!$AA50)*1000","v":0.62680810028929601},null,null,null,null,"Orkney",{"$f":"'Population estimates'!F50","v":20740}]
[48,"Shetland",null,{"$f":"('2008'!D51/'2008 Rate'!$AA51)*1000","v":1.1565836298932384},{"$f":"('2008'!E51/'2008 Rate'!$AA51)*1000","v":0.71174377224199292},{"$f":"('2008'!F51/'2008 Rate'!$AA51)*1000","v":0.17793594306049823},{"$f":"('2008'!G51/'2008 Rate'!$AA51)*1000","v":0.26690391459074736},{"$f":"('2008'!H51/'2008 Rate'!$AA51)*1000","v":33.362989323843415},{"$f":"('2008'!I51/'2008 Rate'!$AA51)*1000","v":32.206405693950174},{"$f":"('2008'!J51/'2008 Rate'!$AA51)*1000","v":-4.5818505338078293},{"$f":"('2008'!K51/'2008 Rate'!$AA51)*1000","v":14.679715302491102},{"$f":"('2008'!L51/'2008 Rate'!$AA51)*1000","v":19.261565836298931},{"$f":"('2008'!M51/'2008 Rate'!$AA51)*1000","v":5.604982206405694},{"$f":"('2008'!N51/'2008 Rate'!$AA51)*1000","v":14.501779359430605},{"$f":"('2008'!O51/'2008 Rate'!$AA51)*1000","v":8.8967971530249113},{"$f":"('2008'!P51/'2008 Rate'!$AA51)*1000","v":0.13345195729537368},{"$f":"('2008'!Q51/'2008 Rate'!$AA51)*1000","v":4.1814946619217084},{"$f":"('2008'!R51/'2008 Rate'!$AA51)*1000","v":4.0480427046263348},null,null,{"$f":"('2008'!U51/'2008 Rate'!$AA51)*1000","v":1.0676156583629894},null,null,null,null,"Shetland",{"$f":"'Population estimates'!F51","v":22480}]
[49,"Tayside",null,{"$f":"('2008'!D52/'2008 Rate'!$AA52)*1000","v":9.126194267515924},{"$f":"('2008'!E52/'2008 Rate'!$AA52)*1000","v":1.5600119426751593},{"$f":"('2008'!F52/'2008 Rate'!$AA52)*1000","v":7.093451433121019},{"$f":"('2008'!G52/'2008 Rate'!$AA52)*1000","v":0.47273089171974525},{"$f":"('2008'!H52/'2008 Rate'!$AA52)*1000","v":39.142117834394902},{"$f":"('2008'!I52/'2008 Rate'!$AA52)*1000","v":30.015923566878982},{"$f":"('2008'!J52/'2008 Rate'!$AA52)*1000","v":1.1942675159235667},{"$f":"('2008'!K52/'2008 Rate'!$AA52)*1000","v":17.212380573248407},{"$f":"('2008'!L52/'2008 Rate'!$AA52)*1000","v":16.01811305732484},{"$f":"('2008'!M52/'2008 Rate'!$AA52)*1000","v":1.8685310509554141},{"$f":"('2008'!N52/'2008 Rate'!$AA52)*1000","v":9.6611265923566876},{"$f":"('2008'!O52/'2008 Rate'!$AA52)*1000","v":7.7925955414012735},{"$f":"('2008'!P52/'2008 Rate'!$AA52)*1000","v":6.063395700636943},{"$f":"('2008'!Q52/'2008 Rate'!$AA52)*1000","v":12.26861066878981},{"$f":"('2008'!R52/'2008 Rate'!$AA52)*1000","v":6.205214968152867},null,null,{"$f":"('2008'!U52/'2008 Rate'!$AA52)*1000","v":1.3634554140127388},null,null,null,null,"Tayside",{"$f":"'Population estimates'!F52","v":401920}]
[50,"Western Isles",null,{"$f":"('2008'!D53/'2008 Rate'!$AA53)*1000","v":0.84310850439882701},{"$f":"('2008'!E53/'2008 Rate'!$AA53)*1000","v":1.466275659824047},{"$f":"('2008'!F53/'2008 Rate'!$AA53)*1000","v":-2.1627565982404695},{"$f":"('2008'!G53/'2008 Rate'!$AA53)*1000","v":1.5395894428152495},{"$f":"('2008'!H53/'2008 Rate'!$AA53)*1000","v":37.683284457478003},{"$f":"('2008'!I53/'2008 Rate'!$AA53)*1000","v":36.840175953079182},{"$f":"('2008'!J53/'2008 Rate'!$AA53)*1000","v":-2.9325513196480939},{"$f":"('2008'!K53/'2008 Rate'!$AA53)*1000","v":22.58064516129032},{"$f":"('2008'!L53/'2008 Rate'!$AA53)*1000","v":25.513196480938415},{"$f":"('2008'!M53/'2008 Rate'!$AA53)*1000","v":4.7653958944281527},{"$f":"('2008'!N53/'2008 Rate'!$AA53)*1000","v":12.243401759530792},{"$f":"('2008'!O53/'2008 Rate'!$AA53)*1000","v":7.4780058651026389},{"$f":"('2008'!P53/'2008 Rate'!$AA53)*1000","v":-0.98973607038123157},{"$f":"('2008'!Q53/'2008 Rate'!$AA53)*1000","v":2.8592375366568912},{"$f":"('2008'!R53/'2008 Rate'!$AA53)*1000","v":3.8489736070381233},null,null,{"$f":"('2008'!U53/'2008 Rate'!$AA53)*1000","v":0.51319648093841641},null,null,null,null,"Western Isles",{"$f":"'Population estimates'!F53","v":27280}]

{"sheet":"2009","index":45,"n_rows":53,"n_cols":25,"rows_kept":53,"cut":false,"hidden":true,"merged":[]}
[null,2009]
[null,null,"Not specified ",{"$f":"'Comparing Indicators'!$U8","v":"Total net migration"},{"$f":"'Comparing Indicators'!$U9","v":"Total net migration for ages 0-15"},{"$f":"'Comparing Indicators'!$U10","v":"Total net migration for ages 16-64"},{"$f":"'Comparing Indicators'!$U11","v":"Total net migration for people aged 65+"},{"$f":"'Comparing Indicators'!$U12","v":"Total in-migration"},{"$f":"'Comparing Indicators'!$U13","v":"Total out-migration"},{"$f":"'Comparing Indicators'!$U14","v":"Within Scotland net migration"},{"$f":"'Comparing Indicators'!$U15","v":"Within Scotland in-migration"},{"$f":"'Comparing Indicators'!$U16","v":"Within Scotland out-migration"},{"$f":"'Comparing Indicators'!$U17","v":"Rest of UK net migration"},{"$f":"'Comparing Indicators'!$U18","v":"Rest of UK in-migration"},{"$f":"'Comparing Indicators'!$U19","v":"Rest of UK out-migration"},{"$f":"'Comparing Indicators'!$U20","v":"Overseas net migration"},{"$f":"'Comparing Indicators'!$U21","v":"Overseas in-migration"},{"$f":"'Comparing Indicators'!$U22","v":"Overseas out-migration"},{"$f":"'Comparing Indicators'!$U23","v":"Worker Registration Scheme"},{"$f":"'Comparing Indicators'!$U24","v":"NINo Allocation"},{"$f":"'Comparing Indicators'!$U25","v":"Births to non-UK mothers"},{"$f":"'Comparing Indicators'!$U26","v":"Pupils from a minority ethnic group"},{"$f":"'Comparing Indicators'!$U27","v":"Pupils with English as an additional language"},{"$f":"'Comparing Indicators'!$U28","v":"Estimate of resident population born outside the UK"},"NHS registrations from overseas"]
[1,"Not specified"]
[2,"SCOTLAND",null,{"$f":"'Total net migration'!G4","v":24422},{"$f":"'Total net migration 0-15'!G4","v":3522},{"$f":"'Total net migration 16-64'!G4","v":20601},{"$f":"'Total net migration 65+'!G4","v":299},{"$f":"'Total in-migration'!G4","v":90507},{"$f":"'Total out-migration'!G4","v":66085},null,null,null,{"$f":"'Rest of UK net migration'!G4","v":4122},{"$f":"'Rest of UK in-migration'!G4","v":45407},{"$f":"'Rest of UK out-migration'!G4","v":41285},{"$f":"'Overseas net migration'!G4","v":20300},{"$f":"'Overseas in-migration'!G4","v":45100},{"$f":"'Overseas out-migration'!G4","v":24800},{"$f":"WRS!G5","v":10315},{"$f":"NINo!G5","v":41610},{"$f":"'Non-UK Births'!G5","v":7984},{"$f":"'Pupils ethnic group'!H5","v":33417},{"$f":"'Pupils with English as an add.'!E4","v":21223},{"$f":"'Pop born outside UK'!G5","v":321000},{"$f":"'NHS Overseas'!$G$5","v":54033}]
[3,"Aberdeen City",null,{"$f":"'Total net migration'!G5","v":2974},{"$f":"'Total net migration 0-15'!G5","v":42},{"$f":"'Total net migration 16-64'!G5","v":3043},{"$f":"'Total net migration 65+'!G5","v":-111},{"$f":"'Total in-migration'!G5","v":14163},{"$f":"'Total out-migration'!G5","v":11189},{"$f":"'Within Scotland net migration'!G5","v":-976},{"$f":"'Within Scotland in-migration'!G5","v":5740},{"$f":"'Within Scotland out-migration'!G5","v":6716},{"$f":"'Rest of UK net migration'!G5","v":281},{"$f":"'Rest of UK in-migration'!G5","v":2559},{"$f":"'Rest of UK out-migration'!G5","v":2278},{"$f":"'Overseas net migration'!G5","v":3669},{"$f":"'Overseas in-migration'!G5","v":5864},{"$f":"'Overseas out-migration'!G5","v":2195},{"$f":"WRS!G6","v":880},{"$f":"NINo!G6","v":4830},{"$f":"'Non-UK Births'!G6","v":782},{"$f":"'Pupils ethnic group'!H6","v":1739},{"$f":"'Pupils with English as an add.'!E5","v":1503},{"$f":"'Pop born outside UK'!G6","v":31000}]
[4,"Aberdeenshire",null,{"$f":"'Total net migration'!G6","v":1507},{"$f":"'Total net migration 0-15'!G6","v":579},{"$f":"'Total net migration 16-64'!G6","v":884},{"$f":"'Total net migration 65+'!G6","v":44},{"$f":"'Total in-migration'!G6","v":8826},{"$f":"'Total out-migration'!G6","v":7319},{"$f":"'Within Scotland net migration'!G6","v":685},{"$f":"'Within Scotland in-migration'!G6","v":5527},{"$f":"'Within Scotland out-migration'!G6","v":4842},{"$f":"'Rest of UK net migration'!G6","v":217},{"$f":"'Rest of UK in-migration'!G6","v":1786},{"$f":"'Rest of UK out-migration'!G6","v":1569},{"$f":"'Overseas net migration'!G6","v":605},{"$f":"'Overseas in-migration'!G6","v":1513},{"$f":"'Overseas out-migration'!G6","v":908},{"$f":"WRS!G7","v":1060},{"$f":"NINo!G7","v":1680},{"$f":"'Non-UK Births'!G7","v":322},{"$f":"'Pupils ethnic group'!H7","v":731},{"$f":"'Pupils with English as an add.'!E6","v":681},{"$f":"'Pop born outside UK'!G7","v":14000}]
[5,"Angus",null,{"$f":"'Total net migration'!G7","v":148},{"$f":"'Total net migration 0-15'!G7","v":116},{"$f":"'Total net migration 16-64'!G7","v":-13},{"$f":"'Total net migration 65+'!G7","v":45},{"$f":"'Total in-migration'!G7","v":3385},{"$f":"'Total out-migration'!G7","v":3237},{"$f":"'Within Scotland net migration'!G7","v":-24},{"$f":"'Within Scotland in-migration'!G7","v":2285},{"$f":"'Within Scotland out-migration'!G7","v":2309},{"$f":"'Rest of UK net migration'!G7","v":27},{"$f":"'Rest of UK in-migration'!G7","v":642},{"$f":"'Rest of UK out-migration'!G7","v":615},{"$f":"'Overseas net migration'!G7","v":145},{"$f":"'Overseas in-migration'!G7","v":458},{"$f":"'Overseas out-migration'!G7","v":313},{"$f":"WRS!G8","v":330},{"$f":"NINo!G8","v":1350},{"$f":"'Non-UK Births'!G8","v":116},{"$f":"'Pupils ethnic group'!H8","v":503},{"$f":"'Pupils with English as an add.'!E7","v":203},{"$f":"'Pop born outside UK'!G8","v":5000}]
[6,"Argyll & Bute",null,{"$f":"'Total net migration'!G8","v":-27},{"$f":"'Total net migration 0-15'!G8","v":56},{"$f":"'Total net migration 16-64'!G8","v":-28},{"$f":"'Total net migration 65+'!G8","v":-55},{"$f":"'Total in-migration'!G8","v":3860},{"$f":"'Total out-migration'!G8","v":3887},{"$f":"'Within Scotland net migration'!G8","v":-285},{"$f":"'Within Scotland in-migration'!G8","v":2091},{"$f":"'Within Scotland out-migration'!G8","v":2376},{"$f":"'Rest of UK net migration'!G8","v":309},{"$f":"'Rest of UK in-migration'!G8","v":1337},{"$f":"'Rest of UK out-migration'!G8","v":1028},{"$f":"'Overseas net migration'!G8","v":-51},{"$f":"'Overseas in-migration'!G8","v":432},{"$f":"'Overseas out-migration'!G8","v":483},{"$f":"WRS!G9","v":195},{"$f":"NINo!G9","v":530},{"$f":"'Non-UK Births'!G9","v":83},{"$f":"'Pupils ethnic group'!H9","v":209},{"$f":"'Pupils with English as an add.'!E8","v":104},{"$f":"'Pop born outside UK'!G9","v":3000}]
[7,"Clackmannanshire",null,{"$f":"'Total net migration'!G9","v":39},{"$f":"'Total net migration 0-15'!G9","v":-21},{"$f":"'Total net migration 16-64'!G9","v":82},{"$f":"'Total net migration 65+'!G9","v":-22},{"$f":"'Total in-migration'!G9","v":1679},{"$f":"'Total out-migration'!G9","v":1640},{"$f":"'Within Scotland net migration'!G9","v":5},{"$f":"'Within Scotland in-migration'!G9","v":1191},{"$f":"'Within Scotland out-migration'!G9","v":1186},{"$f":"'Rest of UK net migration'!G9","v":1},{"$f":"'Rest of UK in-migration'!G9","v":310},{"$f":"'Rest of UK out-migration'!G9","v":309},{"$f":"'Overseas net migration'!G9","v":33},{"$f":"'Overseas in-migration'!G9","v":178},{"$f":"'Overseas out-migration'!G9","v":145},{"$f":"WRS!G10","v":40},{"$f":"NINo!G10","v":120},{"$f":"'Non-UK Births'!G10","v":49},{"$f":"'Pupils ethnic group'!H10","v":209},{"$f":"'Pupils with English as an add.'!E9","v":89},{"$f":"'Pop born outside UK'!G10","v":"*"}]
[8,"Dumfries & Galloway",null,{"$f":"'Total net migration'!G10","v":304},{"$f":"'Total net migration 0-15'!G10","v":170},{"$f":"'Total net migration 16-64'!G10","v":111},{"$f":"'Total net migration 65+'!G10","v":23},{"$f":"'Total in-migration'!G10","v":4186},{"$f":"'Total out-migration'!G10","v":3882},{"$f":"'Within Scotland net migration'!G10","v":-84},{"$f":"'Within Scotland in-migration'!G10","v":1713},{"$f":"'Within Scotland out-migration'!G10","v":1797},{"$f":"'Rest of UK net migration'!G10","v":559},{"$f":"'Rest of UK in-migration'!G10","v":2085},{"$f":"'Rest of UK out-migration'!G10","v":1526},{"$f":"'Overseas net migration'!G10","v":-171},{"$f":"'Overseas in-migration'!G10","v":388},{"$f":"'Overseas out-migration'!G10","v":559},{"$f":"WRS!G11","v":130},{"$f":"NINo!G11","v":350},{"$f":"'Non-UK Births'!G11","v":116},{"$f":"'Pupils ethnic group'!H11","v":443},{"$f":"'Pupils with English as an add.'!E10","v":225},{"$f":"'Pop born outside UK'!G11","v":"*"}]
[9,"Dundee City",null,{"$f":"'Total net migration'!G11","v":919},{"$f":"'Total net migration 0-15'!G11","v":-11},{"$f":"'Total net migration 16-64'!G11","v":1036},{"$f":"'Total net migration 65+'!G11","v":-106},{"$f":"'Total in-migration'!G11","v":6862},{"$f":"'Total out-migration'!G11","v":5943},{"$f":"'Within Scotland net migration'!G11","v":-103},{"$f":"'Within Scotland in-migration'!G11","v":3599},{"$f":"'Within Scotland out-migration'!G11","v":3702},{"$f":"'Rest of UK net migration'!G11","v":-12},{"$f":"'Rest of UK in-migration'!G11","v":1339},{"$f":"'Rest of UK out-migration'!G11","v":1351},{"$f":"'Overseas net migration'!G11","v":1034},{"$f":"'Overseas in-migration'!G11","v":1924},{"$f":"'Overseas out-migration'!G11","v":890},{"$f":"WRS!G12","v":290},{"$f":"NINo!G12","v":1500},{"$f":"'Non-UK Births'!G12","v":292},{"$f":"'Pupils ethnic group'!H12","v":1229},{"$f":"'Pupils with English as an add.'!E11","v":702},{"$f":"'Pop born outside UK'!G12","v":11000}]
[10,"East Ayrshire",null,{"$f":"'Total net migration'!G12","v":383},{"$f":"'Total net migration 0-15'!G12","v":63},{"$f":"'Total net migration 16-64'!G12","v":326},{"$f":"'Total net migration 65+'!G12","v":-6},{"$f":"'Total in-migration'!G12","v":3373},{"$f":"'Total out-migration'!G12","v":2990},{"$f":"'Within Scotland net migration'!G12","v":401},{"$f":"'Within Scotland in-migration'!G12","v":2540},{"$f":"'Within Scotland out-migration'!G12","v":2139},{"$f":"'Rest of UK net migration'!G12","v":122},{"$f":"'Rest of UK in-migration'!G12","v":715},{"$f":"'Rest of UK out-migration'!G12","v":593},{"$f":"'Overseas net migration'!G12","v":-140},{"$f":"'Overseas in-migration'!G12","v":118},{"$f":"'Overseas out-migration'!G12","v":258},{"$f":"WRS!G13","v":60},{"$f":"NINo!G13","v":100},{"$f":"'Non-UK Births'!G13","v":68},{"$f":"'Pupils ethnic group'!H13","v":273},{"$f":"'Pupils with English as an add.'!E12","v":80},{"$f":"'Pop born outside UK'!G13","v":"*"}]
[11,"East Dunbartonshire",null,{"$f":"'Total net migration'!G13","v":-79},{"$f":"'Total net migration 0-15'!G13","v":220},{"$f":"'Total net migration 16-64'!G13","v":-218},{"$f":"'Total net migration 65+'!G13","v":-81},{"$f":"'Total in-migration'!G13","v":3229},{"$f":"'Total out-migration'!G13","v":3308},{"$f":"'Within Scotland net migration'!G13","v":-13},{"$f":"'Within Scotland in-migration'!G13","v":2594},{"$f":"'Within Scotland out-migration'!G13","v":2607},{"$f":"'Rest of UK net migration'!G13","v":-37},{"$f":"'Rest of UK in-migration'!G13","v":455},{"$f":"'Rest of UK out-migration'!G13","v":492},{"$f":"'Overseas net migration'!G13","v":-29},{"$f":"'Overseas in-migration'!G13","v":180},{"$f":"'Overseas out-migration'!G13","v":209},{"$f":"WRS!G14","v":15},{"$f":"NINo!G14","v":150},{"$f":"'Non-UK Births'!G14","v":78},{"$f":"'Pupils ethnic group'!H14","v":992},{"$f":"'Pupils with English as an add.'!E13","v":350},{"$f":"'Pop born outside UK'!G14","v":"*"}]
[12,"East Lothian",null,{"$f":"'Total net migration'!G14","v":705},{"$f":"'Total net migration 0-15'!G14","v":232},{"$f":"'Total net migration 16-64'!G14","v":421},{"$f":"'Total net migration 65+'!G14","v":52},{"$f":"'Total in-migration'!G14","v":3648},{"$f":"'Total out-migration'!G14","v":2943},{"$f":"'Within Scotland net migration'!G14","v":422},{"$f":"'Within Scotland in-migration'!G14","v":2514},{"$f":"'Within Scotland out-migration'!G14","v":2092},{"$f":"'Rest of UK net migration'!G14","v":67},{"$f":"'Rest of UK in-migration'!G14","v":685},{"$f":"'Rest of UK out-migration'!G14","v":618},{"$f":"'Overseas net migration'!G14","v":216},{"$f":"'Overseas in-migration'!G14","v":449},{"$f":"'Overseas out-migration'!G14","v":233},{"$f":"WRS!G15","v":115},{"$f":"NINo!G15","v":420},{"$f":"'Non-UK Births'!G15","v":90},{"$f":"'Pupils ethnic group'!H15","v":260},{"$f":"'Pupils with English as an add.'!E14","v":125},{"$f":"'Pop born outside UK'!G15","v":"*"}]
[13,"East Renfrewshire",null,{"$f":"'Total net migration'!G15","v":72},{"$f":"'Total net migration 0-15'!G15","v":281},{"$f":"'Total net migration 16-64'!G15","v":-280},{"$f":"'Total net migration 65+'!G15","v":71},{"$f":"'Total in-migration'!G15","v":2945},{"$f":"'Total out-migration'!G15","v":2873},{"$f":"'Within Scotland net migration'!G15","v":119},{"$f":"'Within Scotland in-migration'!G15","v":2442},{"$f":"'Within Scotland out-migration'!G15","v":2323},{"$f":"'Rest of UK net migration'!G15","v":-28},{"$f":"'Rest of UK in-migration'!G15","v":348},{"$f":"'Rest of UK out-migration'!G15","v":376},{"$f":"'Overseas net migration'!G15","v":-19},{"$f":"'Overseas in-migration'!G15","v":155},{"$f":"'Overseas out-migration'!G15","v":174},{"$f":"WRS!G16","v":30},{"$f":"NINo!G16","v":110},{"$f":"'Non-UK Births'!G16","v":82},{"$f":"'Pupils ethnic group'!H16","v":1921},{"$f":"'Pupils with English as an add.'!E15","v":771},{"$f":"'Pop born outside UK'!G16","v":4000}]
[14,"Edinburgh, City of",null,{"$f":"'Total net migration'!G16","v":5861},{"$f":"'Total net migration 0-15'!G16","v":208},{"$f":"'Total net migration 16-64'!G16","v":5710},{"$f":"'Total net migration 65+'!G16","v":-57},{"$f":"'Total in-migration'!G16","v":29507},{"$f":"'Total out-migration'!G16","v":23646},{"$f":"'Within Scotland net migration'!G16","v":-768},{"$f":"'Within Scotland in-migration'!G16","v":10798},{"$f":"'Within Scotland out-migration'!G16","v":11566},{"$f":"'Rest of UK net migration'!G16","v":358},{"$f":"'Rest of UK in-migration'!G16","v":8055},{"$f":"'Rest of UK out-migration'!G16","v":7697},{"$f":"'Overseas net migration'!G16","v":6271},{"$f":"'Overseas in-migration'!G16","v":10654},{"$f":"'Overseas out-migration'!G16","v":4383},{"$f":"WRS!G17","v":1245},{"$f":"NINo!G17","v":10450},{"$f":"'Non-UK Births'!G17","v":1475},{"$f":"'Pupils ethnic group'!H17","v":4883},{"$f":"'Pupils with English as an add.'!E16","v":2979},{"$f":"'Pop born outside UK'!G17","v":66000}]
[15,"Eilean Siar",null,{"$f":"'Total net migration'!G17","v":71},{"$f":"'Total net migration 0-15'!G17","v":48},{"$f":"'Total net migration 16-64'!G17","v":2},{"$f":"'Total net migration 65+'!G17","v":21},{"$f":"'Total in-migration'!G17","v":966},{"$f":"'Total out-migration'!G17","v":895},{"$f":"'Within Scotland net migration'!G17","v":-31},{"$f":"'Within Scotland in-migration'!G17","v":598},{"$f":"'Within Scotland out-migration'!G17","v":629},{"$f":"'Rest of UK net migration'!G17","v":115},{"$f":"'Rest of UK in-migration'!G17","v":292},{"$f":"'Rest of UK out-migration'!G17","v":177},{"$f":"'Overseas net migration'!G17","v":-13},{"$f":"'Overseas in-migration'!G17","v":76},{"$f":"'Overseas out-migration'!G17","v":89},{"$f":"WRS!G18","v":20},{"$f":"NINo!G18","v":50},{"$f":"'Non-UK Births'!G18","v":22},{"$f":"'Pupils ethnic group'!H18","v":51},{"$f":"'Pupils with English as an add.'!E17","v":27},{"$f":"'Pop born outside UK'!G18","v":"*"}]
[16,"Falkirk",null,{"$f":"'Total net migration'!G18","v":565},{"$f":"'Total net migration 0-15'!G18","v":10},{"$f":"'Total net migration 16-64'!G18","v":477},{"$f":"'Total net migration 65+'!G18","v":78},{"$f":"'Total in-migration'!G18","v":3774},{"$f":"'Total out-migration'!G18","v":3209},{"$f":"'Within Scotland net migration'!G18","v":431},{"$f":"'Within Scotland in-migration'!G18","v":2658},{"$f":"'Within Scotland out-migration'!G18","v":2227},{"$f":"'Rest of UK net migration'!G18","v":10},{"$f":"'Rest of UK in-migration'!G18","v":611},{"$f":"'Rest of UK out-migration'!G18","v":601},{"$f":"'Overseas net migration'!G18","v":124},{"$f":"'Overseas in-migration'!G18","v":505},{"$f":"'Overseas out-migration'!G18","v":381},{"$f":"WRS!G19","v":115},{"$f":"NINo!G19","v":320},{"$f":"'Non-UK Births'!G19","v":131},{"$f":"'Pupils ethnic group'!H19","v":612},{"$f":"'Pupils with English as an add.'!E18","v":394},{"$f":"'Pop born outside UK'!G19","v":"*"}]
[17,"Fife",null,{"$f":"'Total net migration'!G19","v":1550},{"$f":"'Total net migration 0-15'!G19","v":282},{"$f":"'Total net migration 16-64'!G19","v":1146},{"$f":"'Total net migration 65+'!G19","v":122},{"$f":"'Total in-migration'!G19","v":11195},{"$f":"'Total out-migration'!G19","v":9645},{"$f":"'Within Scotland net migration'!G19","v":252},{"$f":"'Within Scotland in-migration'!G19","v":5675},{"$f":"'Within Scotland out-migration'!G19","v":5423},{"$f":"'Rest of UK net migration'!G19","v":239},{"$f":"'Rest of UK in-migration'!G19","v":3117},{"$f":"'Rest of UK out-migration'!G19","v":2878},{"$f":"'Overseas net migration'!G19","v":1059},{"$f":"'Overseas in-migration'!G19","v":2403},{"$f":"'Overseas out-migration'!G19","v":1344},{"$f":"WRS!G20","v":675},{"$f":"NINo!G20","v":1650},{"$f":"'Non-UK Births'!G20","v":388},{"$f":"'Pupils ethnic group'!H20","v":1646},{"$f":"'Pupils with English as an add.'!E19","v":550},{"$f":"'Pop born outside UK'!G20","v":"*"}]
[18,"Glasgow City",null,{"$f":"'Total net migration'!G20","v":3989},{"$f":"'Total net migration 0-15'!G20","v":-406},{"$f":"'Total net migration 16-64'!G20","v":4706},{"$f":"'Total net migration 65+'!G20","v":-311},{"$f":"'Total in-migration'!G20","v":29919},{"$f":"'Total out-migration'!G20","v":25930},{"$f":"'Within Scotland net migration'!G20","v":-1521},{"$f":"'Within Scotland in-migration'!G20","v":13898},{"$f":"'Within Scotland out-migration'!G20","v":15419},{"$f":"'Rest of UK net migration'!G20","v":62},{"$f":"'Rest of UK in-migration'!G20","v":5999},{"$f":"'Rest of UK out-migration'!G20","v":5937},{"$f":"'Overseas net migration'!G20","v":5448},{"$f":"'Overseas in-migration'!G20","v":10022},{"$f":"'Overseas out-migration'!G20","v":4574},{"$f":"WRS!G21","v":1130},{"$f":"NINo!G21","v":7650},{"$f":"'Non-UK Births'!G21","v":1827},{"$f":"'Pupils ethnic group'!H21","v":9670},{"$f":"'Pupils with English as an add.'!E20","v":8425},{"$f":"'Pop born outside UK'!G21","v":72000}]
[19,"Highland",null,{"$f":"'Total net migration'!G21","v":990},{"$f":"'Total net migration 0-15'!G21","v":271},{"$f":"'Total net migration 16-64'!G21","v":667},{"$f":"'Total net migration 65+'!G21","v":52},{"$f":"'Total in-migration'!G21","v":8045},{"$f":"'Total out-migration'!G21","v":7055},{"$f":"'Within Scotland net migration'!G21","v":77},{"$f":"'Within Scotland in-migration'!G21","v":4134},{"$f":"'Within Scotland out-migration'!G21","v":4057},{"$f":"'Rest of UK net migration'!G21","v":728},{"$f":"'Rest of UK in-migration'!G21","v":2619},{"$f":"'Rest of UK out-migration'!G21","v":1891},{"$f":"'Overseas net migration'!G21","v":185},{"$f":"'Overseas in-migration'!G21","v":1292},{"$f":"'Overseas out-migration'!G21","v":1107},{"$f":"WRS!G22","v":710},{"$f":"NINo!G22","v":1560},{"$f":"'Non-UK Births'!G22","v":301},{"$f":"'Pupils ethnic group'!H22","v":642},{"$f":"'Pupils with English as an add.'!E21","v":643},{"$f":"'Pop born outside UK'!G22","v":"*"}]
[20,"Inverclyde",null,{"$f":"'Total net migration'!G22","v":-359},{"$f":"'Total net migration 0-15'!G22","v":-3},{"$f":"'Total net migration 16-64'!G22","v":-334},{"$f":"'Total net migration 65+'!G22","v":-22},{"$f":"'Total in-migration'!G22","v":1329},{"$f":"'Total out-migration'!G22","v":1688},{"$f":"'Within Scotland net migration'!G22","v":-311},{"$f":"'Within Scotland in-migration'!G22","v":853},{"$f":"'Within Scotland out-migration'!G22","v":1164},{"$f":"'Rest of UK net migration'!G22","v":-43},{"$f":"'Rest of UK in-migration'!G22","v":297},{"$f":"'Rest of UK out-migration'!G22","v":340},{"$f":"'Overseas net migration'!G22","v":-5},{"$f":"'Overseas in-migration'!G22","v":179},{"$f":"'Overseas out-migration'!G22","v":184},{"$f":"WRS!G23","v":20},{"$f":"NINo!G23","v":150},{"$f":"'Non-UK Births'!G23","v":42},{"$f":"'Pupils ethnic group'!H23","v":185},{"$f":"'Pupils with English as an add.'!E22","v":47},{"$f":"'Pop born outside UK'!G23","v":"*"}]
[21,"Midlothian",null,{"$f":"'Total net migration'!G23","v":467},{"$f":"'Total net migration 0-15'!G23","v":161},{"$f":"'Total net migration 16-64'!G23","v":291},{"$f":"'Total net migration 65+'!G23","v":15},{"$f":"'Total in-migration'!G23","v":2783},{"$f":"'Total out-migration'!G23","v":2316},{"$f":"'Within Scotland net migration'!G23","v":489},{"$f":"'Within Scotland in-migration'!G23","v":2194},{"$f":"'Within Scotland out-migration'!G23","v":1705},{"$f":"'Rest of UK net migration'!G23","v":-43},{"$f":"'Rest of UK in-migration'!G23","v":409},{"$f":"'Rest of UK out-migration'!G23","v":452},{"$f":"'Overseas net migration'!G23","v":21},{"$f":"'Overseas in-migration'!G23","v":180},{"$f":"'Overseas out-migration'!G23","v":159},{"$f":"WRS!G24","v":60},{"$f":"NINo!G24","v":150},{"$f":"'Non-UK Births'!G24","v":81},{"$f":"'Pupils ethnic group'!H24","v":286},{"$f":"'Pupils with English as an add.'!E23","v":124},{"$f":"'Pop born outside UK'!G24","v":"*"}]
[22,"Moray",null,{"$f":"'Total net migration'!G24","v":404},{"$f":"'Total net migration 0-15'!G24","v":142},{"$f":"'Total net migration 16-64'!G24","v":251},{"$f":"'Total net migration 65+'!G24","v":11},{"$f":"'Total in-migration'!G24","v":3171},{"$f":"'Total out-migration'!G24","v":2767},{"$f":"'Within Scotland net migration'!G24","v":52},{"$f":"'Within Scotland in-migration'!G24","v":1679},{"$f":"'Within Scotland out-migration'!G24","v":1627},{"$f":"'Rest of UK net migration'!G24","v":310},{"$f":"'Rest of UK in-migration'!G24","v":1104},{"$f":"'Rest of UK out-migration'!G24","v":794},{"$f":"'Overseas net migration'!G24","v":42},{"$f":"'Overseas in-migration'!G24","v":388},{"$f":"'Overseas out-migration'!G24","v":346},{"$f":"WRS!G25","v":100},{"$f":"NINo!G25","v":260},{"$f":"'Non-UK Births'!G25","v":99},{"$f":"'Pupils ethnic group'!H25","v":242},{"$f":"'Pupils with English as an add.'!E24","v":222},{"$f":"'Pop born outside UK'!G25","v":5000}]
[23,"North Ayrshire",null,{"$f":"'Total net migration'!G25","v":-117},{"$f":"'Total net migration 0-15'!G25","v":58},{"$f":"'Total net migration 16-64'!G25","v":-252},{"$f":"'Total net migration 65+'!G25","v":77},{"$f":"'Total in-migration'!G25","v":3544},{"$f":"'Total out-migration'!G25","v":3661},{"$f":"'Within Scotland net migration'!G25","v":-174},{"$f":"'Within Scotland in-migration'!G25","v":2486},{"$f":"'Within Scotland out-migration'!G25","v":2660},{"$f":"'Rest of UK net migration'!G25","v":145},{"$f":"'Rest of UK in-migration'!G25","v":832},{"$f":"'Rest of UK out-migration'!G25","v":687},{"$f":"'Overseas net migration'!G25","v":-88},{"$f":"'Overseas in-migration'!G25","v":226},{"$f":"'Overseas out-migration'!G25","v":314},{"$f":"WRS!G26","v":25},{"$f":"NINo!G26","v":230},{"$f":"'Non-UK Births'!G26","v":77},{"$f":"'Pupils ethnic group'!H26","v":256},{"$f":"'Pupils with English as an add.'!E25","v":71},{"$f":"'Pop born outside UK'!G26","v":"*"}]
[24,"North Lanarkshire",null,{"$f":"'Total net migration'!G26","v":88},{"$f":"'Total net migration 0-15'!G26","v":79},{"$f":"'Total net migration 16-64'!G26","v":7},{"$f":"'Total net migration 65+'!G26","v":2},{"$f":"'Total in-migration'!G26","v":7123},{"$f":"'Total out-migration'!G26","v":7035},{"$f":"'Within Scotland net migration'!G26","v":55},{"$f":"'Within Scotland in-migration'!G26","v":5037},{"$f":"'Within Scotland out-migration'!G26","v":4982},{"$f":"'Rest of UK net migration'!G26","v":14},{"$f":"'Rest of UK in-migration'!G26","v":1187},{"$f":"'Rest of UK out-migration'!G26","v":1173},{"$f":"'Overseas net migration'!G26","v":19},{"$f":"'Overseas in-migration'!G26","v":899},{"$f":"'Overseas out-migration'!G26","v":880},{"$f":"WRS!G27","v":220},{"$f":"NINo!G27","v":670},{"$f":"'Non-UK Births'!G27","v":253},{"$f":"'Pupils ethnic group'!H27","v":1502},{"$f":"'Pupils with English as an add.'!E26","v":740},{"$f":"'Pop born outside UK'!G27","v":"*"}]
[25,"Orkney Islands",null,{"$f":"'Total net migration'!G27","v":88},{"$f":"'Total net migration 0-15'!G27","v":41},{"$f":"'Total net migration 16-64'!G27","v":36},{"$f":"'Total net migration 65+'!G27","v":11},{"$f":"'Total in-migration'!G27","v":708},{"$f":"'Total out-migration'!G27","v":620},{"$f":"'Within Scotland net migration'!G27","v":-63},{"$f":"'Within Scotland in-migration'!G27","v":352},{"$f":"'Within Scotland out-migration'!G27","v":415},{"$f":"'Rest of UK net migration'!G27","v":166},{"$f":"'Rest of UK in-migration'!G27","v":309},{"$f":"'Rest of UK out-migration'!G27","v":143},{"$f":"'Overseas net migration'!G27","v":-15},{"$f":"'Overseas in-migration'!G27","v":47},{"$f":"'Overseas out-migration'!G27","v":62},{"$f":"WRS!G28","v":15},{"$f":"NINo!G28","v":60},{"$f":"'Non-UK Births'!G28","v":7},{"$f":"'Pupils ethnic group'!H28","v":55},{"$f":"'Pupils with English as an add.'!E27","v":7},{"$f":"'Pop born outside UK'!G28","v":"*"}]
[26,"Perth & Kinross",null,{"$f":"'Total net migration'!G28","v":1800},{"$f":"'Total net migration 0-15'!G28","v":341},{"$f":"'Total net migration 16-64'!G28","v":1396},{"$f":"'Total net migration 65+'!G28","v":63},{"$f":"'Total in-migration'!G28","v":6980},{"$f":"'Total out-migration'!G28","v":5180},{"$f":"'Within Scotland net migration'!G28","v":369},{"$f":"'Within Scotland in-migration'!G28","v":3453},{"$f":"'Within Scotland out-migration'!G28","v":3084},{"$f":"'Rest of UK net migration'!G28","v":262},{"$f":"'Rest of UK in-migration'!G28","v":1367},{"$f":"'Rest of UK out-migration'!G28","v":1105},{"$f":"'Overseas net migration'!G28","v":1169},{"$f":"'Overseas in-migration'!G28","v":2160},{"$f":"'Overseas out-migration'!G28","v":991},{"$f":"WRS!G29","v":1255},{"$f":"NINo!G29","v":3580},{"$f":"'Non-UK Births'!G29","v":196},{"$f":"'Pupils ethnic group'!H29","v":495},{"$f":"'Pupils with English as an add.'!E28","v":379},{"$f":"'Pop born outside UK'!G29","v":7000}]
[27,"Renfrewshire",null,{"$f":"'Total net migration'!G29","v":156},{"$f":"'Total net migration 0-15'!G29","v":-51},{"$f":"'Total net migration 16-64'!G29","v":189},{"$f":"'Total net migration 65+'!G29","v":18},{"$f":"'Total in-migration'!G29","v":4687},{"$f":"'Total out-migration'!G29","v":4531},{"$f":"'Within Scotland net migration'!G29","v":126},{"$f":"'Within Scotland in-migration'!G29","v":3301},{"$f":"'Within Scotland out-migration'!G29","v":3175},{"$f":"'Rest of UK net migration'!G29","v":-69},{"$f":"'Rest of UK in-migration'!G29","v":724},{"$f":"'Rest of UK out-migration'!G29","v":793},{"$f":"'Overseas net migration'!G29","v":99},{"$f":"'Overseas in-migration'!G29","v":662},{"$f":"'Overseas out-migration'!G29","v":563},{"$f":"WRS!G30","v":210},{"$f":"NINo!G30","v":570},{"$f":"'Non-UK Births'!G30","v":162},{"$f":"'Pupils ethnic group'!H30","v":771},{"$f":"'Pupils with English as an add.'!E29","v":265},{"$f":"'Pop born outside UK'!G30","v":7000}]
[28,"Scottish Borders",null,{"$f":"'Total net migration'!G30","v":421},{"$f":"'Total net migration 0-15'!G30","v":117},{"$f":"'Total net migration 16-64'!G30","v":189},{"$f":"'Total net migration 65+'!G30","v":115},{"$f":"'Total in-migration'!G30","v":4311},{"$f":"'Total out-migration'!G30","v":3890},{"$f":"'Within Scotland net migration'!G30","v":158},{"$f":"'Within Scotland in-migration'!G30","v":2282},{"$f":"'Within Scotland out-migration'!G30","v":2124},{"$f":"'Rest of UK net migration'!G30","v":248},{"$f":"'Rest of UK in-migration'!G30","v":1509},{"$f":"'Rest of UK out-migration'!G30","v":1261},{"$f":"'Overseas net migration'!G30","v":15},{"$f":"'Overseas in-migration'!G30","v":520},{"$f":"'Overseas out-migration'!G30","v":505},{"$f":"WRS!G31","v":220},{"$f":"NINo!G31","v":390},{"$f":"'Non-UK Births'!G31","v":118},{"$f":"'Pupils ethnic group'!H31","v":289},{"$f":"'Pupils with English as an add.'!E30","v":242},{"$f":"'Pop born outside UK'!G31","v":6000}]
[29,"Shetland Islands",null,{"$f":"'Total net migration'!G31","v":203},{"$f":"'Total net migration 0-15'!G31","v":45},{"$f":"'Total net migration 16-64'!G31","v":135},{"$f":"'Total net migration 65+'!G31","v":23},{"$f":"'Total in-migration'!G31","v":811},{"$f":"'Total out-migration'!G31","v":608},{"$f":"'Within Scotland net migration'!G31","v":9},{"$f":"'Within Scotland in-migration'!G31","v":384},{"$f":"'Within Scotland out-migration'!G31","v":375},{"$f":"'Rest of UK net migration'!G31","v":116},{"$f":"'Rest of UK in-migration'!G31","v":279},{"$f":"'Rest of UK out-migration'!G31","v":163},{"$f":"'Overseas net migration'!G31","v":78},{"$f":"'Overseas in-migration'!G31","v":148},{"$f":"'Overseas out-migration'!G31","v":70},{"$f":"WRS!G32","v":80},{"$f":"NINo!G32","v":160},{"$f":"'Non-UK Births'!G32","v":22},{"$f":"'Pupils ethnic group'!H32","v":57},{"$f":"'Pupils with English as an add.'!E31","v":49},{"$f":"'Pop born outside UK'!G32","v":"*"}]
[30,"South Ayrshire",null,{"$f":"'Total net migration'!G32","v":173},{"$f":"'Total net migration 0-15'!G32","v":28},{"$f":"'Total net migration 16-64'!G32","v":73},{"$f":"'Total net migration 65+'!G32","v":72},{"$f":"'Total in-migration'!G32","v":3505},{"$f":"'Total out-migration'!G32","v":3332},{"$f":"'Within Scotland net migration'!G32","v":127},{"$f":"'Within Scotland in-migration'!G32","v":2328},{"$f":"'Within Scotland out-migration'!G32","v":2201},{"$f":"'Rest of UK net migration'!G32","v":152},{"$f":"'Rest of UK in-migration'!G32","v":902},{"$f":"'Rest of UK out-migration'!G32","v":750},{"$f":"'Overseas net migration'!G32","v":-106},{"$f":"'Overseas in-migration'!G32","v":275},{"$f":"'Overseas out-migration'!G32","v":381},{"$f":"WRS!G33","v":40},{"$f":"NINo!G33","v":290},{"$f":"'Non-UK Births'!G33","v":58},{"$f":"'Pupils ethnic group'!H33","v":291},{"$f":"'Pupils with English as an add.'!E32","v":74},{"$f":"'Pop born outside UK'!G33","v":4000}]
[31,"South Lanarkshire",null,{"$f":"'Total net migration'!G33","v":640},{"$f":"'Total net migration 0-15'!G33","v":263},{"$f":"'Total net migration 16-64'!G33","v":269},{"$f":"'Total net migration 65+'!G33","v":108},{"$f":"'Total in-migration'!G33","v":8056},{"$f":"'Total out-migration'!G33","v":7416},{"$f":"'Within Scotland net migration'!G33","v":746},{"$f":"'Within Scotland in-migration'!G33","v":5987},{"$f":"'Within Scotland out-migration'!G33","v":5241},{"$f":"'Rest of UK net migration'!G33","v":-58},{"$f":"'Rest of UK in-migration'!G33","v":1352},{"$f":"'Rest of UK out-migration'!G33","v":1410},{"$f":"'Overseas net migration'!G33","v":-48},{"$f":"'Overseas in-migration'!G33","v":717},{"$f":"'Overseas out-migration'!G33","v":765},{"$f":"WRS!G34","v":175},{"$f":"NINo!G34","v":480},{"$f":"'Non-UK Births'!G34","v":206},{"$f":"'Pupils ethnic group'!H34","v":1307},{"$f":"'Pupils with English as an add.'!E33","v":414},{"$f":"'Pop born outside UK'!G34","v":"*"}]
[32,"Stirling",null,{"$f":"'Total net migration'!G34","v":310},{"$f":"'Total net migration 0-15'!G34","v":90},{"$f":"'Total net migration 16-64'!G34","v":198},{"$f":"'Total net migration 65+'!G34","v":22},{"$f":"'Total in-migration'!G34","v":4747},{"$f":"'Total out-migration'!G34","v":4437},{"$f":"'Within Scotland net migration'!G34","v":-148},{"$f":"'Within Scotland in-migration'!G34","v":2797},{"$f":"'Within Scotland out-migration'!G34","v":2945},{"$f":"'Rest of UK net migration'!G34","v":103},{"$f":"'Rest of UK in-migration'!G34","v":991},{"$f":"'Rest of UK out-migration'!G34","v":888},{"$f":"'Overseas net migration'!G34","v":355},{"$f":"'Overseas in-migration'!G34","v":959},{"$f":"'Overseas out-migration'!G34","v":604},{"$f":"WRS!G35","v":245},{"$f":"NINo!G35","v":680},{"$f":"'Non-UK Births'!G35","v":108},{"$f":"'Pupils ethnic group'!H35","v":480},{"$f":"'Pupils with English as an add.'!E34","v":139},{"$f":"'Pop born outside UK'!G35","v":"*"}]
[33,"West Dunbartonshire",null,{"$f":"'Total net migration'!G35","v":-56},{"$f":"'Total net migration 0-15'!G35","v":44},{"$f":"'Total net migration 16-64'!G35","v":-83},{"$f":"'Total net migration 65+'!G35","v":-17},{"$f":"'Total in-migration'!G35","v":2247},{"$f":"'Total out-migration'!G35","v":2303},{"$f":"'Within Scotland net migration'!G35","v":14},{"$f":"'Within Scotland in-migration'!G35","v":1726},{"$f":"'Within Scotland out-migration'!G35","v":1712},{"$f":"'Rest of UK net migration'!G35","v":-40},{"$f":"'Rest of UK in-migration'!G35","v":349},{"$f":"'Rest of UK out-migration'!G35","v":389},{"$f":"'Overseas net migration'!G35","v":-30},{"$f":"'Overseas in-migration'!G35","v":172},{"$f":"'Overseas out-migration'!G35","v":202},{"$f":"WRS!G36","v":10},{"$f":"NINo!G36","v":180},{"$f":"'Non-UK Births'!G36","v":39},{"$f":"'Pupils ethnic group'!H36","v":282},{"$f":"'Pupils with English as an add.'!E35","v":120},{"$f":"'Pop born outside UK'!G36","v":4000}]
[34,"West Lothian",null,{"$f":"'Total net migration'!G36","v":233},{"$f":"'Total net migration 0-15'!G36","v":27},{"$f":"'Total net migration 16-64'!G36","v":164},{"$f":"'Total net migration 65+'!G36","v":42},{"$f":"'Total in-migration'!G36","v":5064},{"$f":"'Total out-migration'!G36","v":4831},{"$f":"'Within Scotland net migration'!G36","v":-36},{"$f":"'Within Scotland in-migration'!G36","v":3265},{"$f":"'Within Scotland out-migration'!G36","v":3301},{"$f":"'Rest of UK net migration'!G36","v":-159},{"$f":"'Rest of UK in-migration'!G36","v":842},{"$f":"'Rest of UK out-migration'!G36","v":1001},{"$f":"'Overseas net migration'!G36","v":428},{"$f":"'Overseas in-migration'!G36","v":957},{"$f":"'Overseas out-migration'!G36","v":529},{"$f":"WRS!G37","v":630},{"$f":"NINo!G37","v":950},{"$f":"'Non-UK Births'!G37","v":294},{"$f":"'Pupils ethnic group'!H37","v":906},{"$f":"'Pupils with English as an add.'!E36","v":422},{"$f":"'Pop born outside UK'!G37","v":8000}]
[]
[35,"Not specified"]
[36,"SCOTLAND",null,{"$f":"'Total net migration'!G39","v":24422},{"$f":"'Total net migration 0-15'!G4","v":3522},{"$f":"'Total net migration 16-64'!G39","v":20601},{"$f":"'Total net migration 65+'!G39","v":299},{"$f":"'Total in-migration'!G39","v":90507},{"$f":"'Total out-migration'!G39","v":66085},null,null,null,{"$f":"'Rest of UK net migration'!G39","v":4122},{"$f":"'Rest of UK in-migration'!G39","v":45407},{"$f":"'Rest of UK out-migration'!G39","v":41285},{"$f":"'Overseas net migration'!G39","v":20300},{"$f":"'Overseas in-migration'!G39","v":45100},{"$f":"'Overseas out-migration'!G39","v":24800},null,null,{"$f":"'Non-UK Births'!G40","v":7984},null,null,null,{"$f":"'NHS Overseas'!$G$5","v":54033}]
[37,"Ayrshire & Arran",null,{"$f":"'Total net migration'!G40","v":439},{"$f":"'Total net migration 0-15'!G40","v":149},{"$f":"'Total net migration 16-64'!G40","v":147},{"$f":"'Total net migration 65+'!G40","v":143},{"$f":"'Total in-migration'!G40","v":7962},{"$f":"'Total out-migration'!G40","v":7523},{"$f":"'Within Scotland net migration'!G40","v":354},{"$f":"'Within Scotland in-migration'!G40","v":4894},{"$f":"'Within Scotland out-migration'!G40","v":4540},{"$f":"'Rest of UK net migration'!G40","v":419},{"$f":"'Rest of UK in-migration'!G40","v":2449},{"$f":"'Rest of UK out-migration'!G40","v":2030},{"$f":"'Overseas net migration'!G40","v":-334},{"$f":"'Overseas in-migration'!G40","v":619},{"$f":"'Overseas out-migration'!G40","v":953},null,null,{"$f":"'Non-UK Births'!G41","v":203}]
[38,"Borders",null,{"$f":"'Total net migration'!G41","v":421},{"$f":"'Total net migration 0-15'!G41","v":117},{"$f":"'Total net migration 16-64'!G41","v":189},{"$f":"'Total net migration 65+'!G41","v":115},{"$f":"'Total in-migration'!G41","v":4311},{"$f":"'Total out-migration'!G41","v":3890},{"$f":"'Within Scotland net migration'!G41","v":158},{"$f":"'Within Scotland in-migration'!G41","v":2282},{"$f":"'Within Scotland out-migration'!G41","v":2124},{"$f":"'Rest of UK net migration'!G41","v":248},{"$f":"'Rest of UK in-migration'!G41","v":1509},{"$f":"'Rest of UK out-migration'!G41","v":1261},{"$f":"'Overseas net migration'!G41","v":15},{"$f":"'Overseas in-migration'!G41","v":520},{"$f":"'Overseas out-migration'!G41","v":505},null,null,{"$f":"'Non-UK Births'!G42","v":118}]
[39,"Dumfries & Galloway",null,{"$f":"'Total net migration'!G42","v":304},{"$f":"'Total net migration 0-15'!G42","v":170},{"$f":"'Total net migration 16-64'!G42","v":111},{"$f":"'Total net migration 65+'!G42","v":23},{"$f":"'Total in-migration'!G42","v":4186},{"$f":"'Total out-migration'!G42","v":3882},{"$f":"'Within Scotland net migration'!G42","v":-84},{"$f":"'Within Scotland in-migration'!G42","v":1713},{"$f":"'Within Scotland out-migration'!G42","v":1797},{"$f":"'Rest of UK net migration'!G42","v":559},{"$f":"'Rest of UK in-migration'!G42","v":2085},{"$f":"'Rest of UK out-migration'!G42","v":1526},{"$f":"'Overseas net migration'!G42","v":-171},{"$f":"'Overseas in-migration'!G42","v":388},{"$f":"'Overseas out-migration'!G42","v":559},null,null,{"$f":"'Non-UK Births'!G43","v":116}]
[40,"Fife",null,{"$f":"'Total net migration'!G43","v":1548},{"$f":"'Total net migration 0-15'!G43","v":281},{"$f":"'Total net migration 16-64'!G43","v":1145},{"$f":"'Total net migration 65+'!G43","v":122},{"$f":"'Total in-migration'!G43","v":11192},{"$f":"'Total out-migration'!G43","v":9644},{"$f":"'Within Scotland net migration'!G43","v":250},{"$f":"'Within Scotland in-migration'!G43","v":5673},{"$f":"'Within Scotland out-migration'!G43","v":5423},{"$f":"'Rest of UK net migration'!G43","v":240},{"$f":"'Rest of UK in-migration'!G43","v":3117},{"$f":"'Rest of UK out-migration'!G43","v":2877},{"$f":"'Overseas net migration'!G43","v":1058},{"$f":"'Overseas in-migration'!G43","v":2402},{"$f":"'Overseas out-migration'!G43","v":1344},null,null,{"$f":"'Non-UK Births'!G44","v":388}]
[41,"Forth Valley",null,{"$f":"'Total net migration'!G44","v":914},{"$f":"'Total net migration 0-15'!G44","v":79},{"$f":"'Total net migration 16-64'!G44","v":757},{"$f":"'Total net migration 65+'!G44","v":78},{"$f":"'Total in-migration'!G44","v":8836},{"$f":"'Total out-migration'!G44","v":7922},{"$f":"'Within Scotland net migration'!G44","v":288},{"$f":"'Within Scotland in-migration'!G44","v":5282},{"$f":"'Within Scotland out-migration'!G44","v":4994},{"$f":"'Rest of UK net migration'!G44","v":114},{"$f":"'Rest of UK in-migration'!G44","v":1912},{"$f":"'Rest of UK out-migration'!G44","v":1798},{"$f":"'Overseas net migration'!G44","v":512},{"$f":"'Overseas in-migration'!G44","v":1642},{"$f":"'Overseas out-migration'!G44","v":1130},null,null,{"$f":"'Non-UK Births'!G45","v":288}]
[42,"Grampian",null,{"$f":"'Total net migration'!G45","v":4885},{"$f":"'Total net migration 0-15'!G45","v":763},{"$f":"'Total net migration 16-64'!G45","v":4178},{"$f":"'Total net migration 65+'!G45","v":-56},{"$f":"'Total in-migration'!G45","v":19892},{"$f":"'Total out-migration'!G45","v":15007},{"$f":"'Within Scotland net migration'!G45","v":-239},{"$f":"'Within Scotland in-migration'!G45","v":6678},{"$f":"'Within Scotland out-migration'!G45","v":6917},{"$f":"'Rest of UK net migration'!G45","v":808},{"$f":"'Rest of UK in-migration'!G45","v":5449},{"$f":"'Rest of UK out-migration'!G45","v":4641},{"$f":"'Overseas net migration'!G45","v":4316},{"$f":"'Overseas in-migration'!G45","v":7765},{"$f":"'Overseas out-migration'!G45","v":3449},null,null,{"$f":"'Non-UK Births'!G46","v":1203}]
[43,"Greater Glasgow & Clyde",null,{"$f":"'Total net migration'!G46","v":4124},{"$f":"'Total net migration 0-15'!G46","v":138},{"$f":"'Total net migration 16-64'!G46","v":4397},{"$f":"'Total net migration 65+'!G46","v":-411},{"$f":"'Total in-migration'!G46","v":38430},{"$f":"'Total out-migration'!G46","v":34306},{"$f":"'Within Scotland net migration'!G46","v":-1104},{"$f":"'Within Scotland in-migration'!G46","v":18513},{"$f":"'Within Scotland out-migration'!G46","v":19617},{"$f":"'Rest of UK net migration'!G46","v":-209},{"$f":"'Rest of UK in-migration'!G46","v":8433},{"$f":"'Rest of UK out-migration'!G46","v":8642},{"$f":"'Overseas net migration'!G46","v":5437},{"$f":"'Overseas in-migration'!G46","v":11484},{"$f":"'Overseas out-migration'!G46","v":6047},null,null,{"$f":"'Non-UK Births'!G47","v":2291}]
[44,"Highland",null,{"$f":"'Total net migration'!G47","v":963},{"$f":"'Total net migration 0-15'!G47","v":327},{"$f":"'Total net migration 16-64'!G47","v":639},{"$f":"'Total net migration 65+'!G47","v":-3},{"$f":"'Total in-migration'!G47","v":11596},{"$f":"'Total out-migration'!G47","v":10633},{"$f":"'Within Scotland net migration'!G47","v":-208},{"$f":"'Within Scotland in-migration'!G47","v":5916},{"$f":"'Within Scotland out-migration'!G47","v":6124},{"$f":"'Rest of UK net migration'!G47","v":1037},{"$f":"'Rest of UK in-migration'!G47","v":3956},{"$f":"'Rest of UK out-migration'!G47","v":2919},{"$f":"'Overseas net migration'!G47","v":134},{"$f":"'Overseas in-migration'!G47","v":1724},{"$f":"'Overseas out-migration'!G47","v":1590},null,null,{"$f":"'Non-UK Births'!G48","v":384}]
[45,"Lanarkshire",null,{"$f":"'Total net migration'!G48","v":327},{"$f":"'Total net migration 0-15'!G48","v":289},{"$f":"'Total net migration 16-64'!G48","v":-141},{"$f":"'Total net migration 65+'!G48","v":179},{"$f":"'Total in-migration'!G48","v":11176},{"$f":"'Total out-migration'!G48","v":10849},{"$f":"'Within Scotland net migration'!G48","v":319},{"$f":"'Within Scotland in-migration'!G48","v":7396},{"$f":"'Within Scotland out-migration'!G48","v":7077},{"$f":"'Rest of UK net migration'!G48","v":10},{"$f":"'Rest of UK in-migration'!G48","v":2278},{"$f":"'Rest of UK out-migration'!G48","v":2268},{"$f":"'Overseas net migration'!G48","v":-2},{"$f":"'Overseas in-migration'!G48","v":1502},{"$f":"'Overseas out-migration'!G48","v":1504},null,null,{"$f":"'Non-UK Births'!G49","v":398}]
[46,"Lothian",null,{"$f":"'Total net migration'!G49","v":7266},{"$f":"'Total net migration 0-15'!G49","v":628},{"$f":"'Total net migration 16-64'!G49","v":6586},{"$f":"'Total net migration 65+'!G49","v":52},{"$f":"'Total in-migration'!G49","v":33842},{"$f":"'Total out-migration'!G49","v":26576},{"$f":"'Within Scotland net migration'!G49","v":107},{"$f":"'Within Scotland in-migration'!G49","v":11611},{"$f":"'Within Scotland out-migration'!G49","v":11504},{"$f":"'Rest of UK net migration'!G49","v":223},{"$f":"'Rest of UK in-migration'!G49","v":9991},{"$f":"'Rest of UK out-migration'!G49","v":9768},{"$f":"'Overseas net migration'!G49","v":6936},{"$f":"'Overseas in-migration'!G49","v":12240},{"$f":"'Overseas out-migration'!G49","v":5304},null,null,{"$f":"'Non-UK Births'!G50","v":1940}]
[47,"Orkney",null,{"$f":"'Total net migration'!G50","v":88},{"$f":"'Total net migration 0-15'!G50","v":41},{"$f":"'Total net migration 16-64'!G50","v":36},{"$f":"'Total net migration 65+'!G50","v":11},{"$f":"'Total in-migration'!G50","v":708},{"$f":"'Total out-migration'!G50","v":620},{"$f":"'Within Scotland net migration'!G50","v":-63},{"$f":"'Within Scotland in-migration'!G50","v":352},{"$f":"'Within Scotland out-migration'!G50","v":415},{"$f":"'Rest of UK net migration'!G50","v":166},{"$f":"'Rest of UK in-migration'!G50","v":309},{"$f":"'Rest of UK out-migration'!G50","v":143},{"$f":"'Overseas net migration'!G50","v":-15},{"$f":"'Overseas in-migration'!G50","v":47},{"$f":"'Overseas out-migration'!G50","v":62},null,null,{"$f":"'Non-UK Births'!G51","v":7}]
[48,"Shetland",null,{"$f":"'Total net migration'!G51","v":203},{"$f":"'Total net migration 0-15'!G51","v":45},{"$f":"'Total net migration 16-64'!G51","v":135},{"$f":"'Total net migration 65+'!G51","v":23},{"$f":"'Total in-migration'!G51","v":811},{"$f":"'Total out-migration'!G51","v":608},{"$f":"'Within Scotland net migration'!G51","v":9},{"$f":"'Within Scotland in-migration'!G51","v":384},{"$f":"'Within Scotland out-migration'!G51","v":375},{"$f":"'Rest of UK net migration'!G51","v":116},{"$f":"'Rest of UK in-migration'!G51","v":279},{"$f":"'Rest of UK out-migration'!G51","v":163},{"$f":"'Overseas net migration'!G51","v":78},{"$f":"'Overseas in-migration'!G51","v":148},{"$f":"'Overseas out-migration'!G51","v":70},null,null,{"$f":"'Non-UK Births'!G52","v":22}]
[49,"Tayside",null,{"$f":"'Total net migration'!G52","v":2869},{"$f":"'Total net migration 0-15'!G52","v":447},{"$f":"'Total net migration 16-64'!G52","v":2420},{"$f":"'Total net migration 65+'!G52","v":2},{"$f":"'Total in-migration'!G52","v":14377},{"$f":"'Total out-migration'!G52","v":11508},{"$f":"'Within Scotland net migration'!G52","v":244},{"$f":"'Within Scotland in-migration'!G52","v":6486},{"$f":"'Within Scotland out-migration'!G52","v":6242},{"$f":"'Rest of UK net migration'!G52","v":276},{"$f":"'Rest of UK in-migration'!G52","v":3348},{"$f":"'Rest of UK out-migration'!G52","v":3072},{"$f":"'Overseas net migration'!G52","v":2349},{"$f":"'Overseas in-migration'!G52","v":4543},{"$f":"'Overseas out-migration'!G52","v":2194},null,null,{"$f":"'Non-UK Births'!G53","v":604}]
[50,"Western Isles",null,{"$f":"'Total net migration'!G53","v":71},{"$f":"'Total net migration 0-15'!G53","v":48},{"$f":"'Total net migration 16-64'!G53","v":2},{"$f":"'Total net migration 65+'!G53","v":21},{"$f":"'Total in-migration'!G53","v":966},{"$f":"'Total out-migration'!G53","v":895},{"$f":"'Within Scotland net migration'!G53","v":-31},{"$f":"'Within Scotland in-migration'!G53","v":598},{"$f":"'Within Scotland out-migration'!G53","v":629},{"$f":"'Rest of UK net migration'!G53","v":115},{"$f":"'Rest of UK in-migration'!G53","v":292},{"$f":"'Rest of UK out-migration'!G53","v":177},{"$f":"'Overseas net migration'!G53","v":-13},{"$f":"'Overseas in-migration'!G53","v":76},{"$f":"'Overseas out-migration'!G53","v":89},null,null,{"$f":"'Non-UK Births'!G54","v":22}]

{"sheet":"2009 Rate","index":46,"n_rows":53,"n_cols":27,"rows_kept":53,"cut":false,"hidden":true,"merged":[]}
[null,2009,"RATE"]
[null,null,"Not specified ",{"$f":"'Comparing Indicators'!$U8","v":"Total net migration"},{"$f":"'Comparing Indicators'!$U9","v":"Total net migration for ages 0-15"},{"$f":"'Comparing Indicators'!$U10","v":"Total net migration for ages 16-64"},{"$f":"'Comparing Indicators'!$U11","v":"Total net migration for people aged 65+"},{"$f":"'Comparing Indicators'!$U12","v":"Total in-migration"},{"$f":"'Comparing Indicators'!$U13","v":"Total out-migration"},{"$f":"'Comparing Indicators'!$U14","v":"Within Scotland net migration"},{"$f":"'Comparing Indicators'!$U15","v":"Within Scotland in-migration"},{"$f":"'Comparing Indicators'!$U16","v":"Within Scotland out-migration"},{"$f":"'Comparing Indicators'!$U17","v":"Rest of UK net migration"},{"$f":"'Comparing Indicators'!$U18","v":"Rest of UK in-migration"},{"$f":"'Comparing Indicators'!$U19","v":"Rest of UK out-migration"},{"$f":"'Comparing Indicators'!$U20","v":"Overseas net migration"},{"$f":"'Comparing Indicators'!$U21","v":"Overseas in-migration"},{"$f":"'Comparing Indicators'!$U22","v":"Overseas out-migration"},{"$f":"'Comparing Indicators'!$U23","v":"Worker Registration Scheme"},{"$f":"'Comparing Indicators'!$U24","v":"NINo Allocation"},{"$f":"'Comparing Indicators'!$U25","v":"Births to non-UK mothers"},{"$f":"'Comparing Indicators'!$U26","v":"Pupils from a minority ethnic group"},{"$f":"'Comparing Indicators'!$U27","v":"Pupils with English as an additional language"},{"$f":"'Comparing Indicators'!$U28","v":"Estimate of resident population born outside the UK"},"NHS registrations from overseas",null,"Mid-year population estimate"]
[1,"Not specified"]
[2,"SCOTLAND",null,{"$f":"('2009'!D4/'2009 Rate'!$AA4)*1000","v":4.6679026739807723},{"$f":"('2009'!E4/'2009 Rate'!$AA4)*1000","v":0.67317800416674634},{"$f":"('2009'!F4/'2009 Rate'!$AA4)*1000","v":3.9375752594659681},{"$f":"('2009'!G4/'2009 Rate'!$AA4)*1000","v":5.7149410348057116E-2},{"$f":"('2009'!H4/'2009 Rate'!$AA4)*1000","v":17.299069171811389},{"$f":"('2009'!I4/'2009 Rate'!$AA4)*1000","v":12.631166497830616},null,null,null,{"$f":"('2009'!M4/'2009 Rate'!$AA4)*1000","v":0.78785909516619201},{"$f":"('2009'!N4/'2009 Rate'!$AA4)*1000","v":8.6788738316863849},{"$f":"('2009'!O4/'2009 Rate'!$AA4)*1000","v":7.8910147365201935},{"$f":"('2009'!P4/'2009 Rate'!$AA4)*1000","v":3.8800435788145795},{"$f":"('2009'!Q4/'2009 Rate'!$AA4)*1000","v":8.6201953401250009},{"$f":"('2009'!R4/'2009 Rate'!$AA4)*1000","v":4.7401517613104227},{"$f":"('2009'!S4/'2009 Rate'!$AA4)*1000","v":1.9715590894321373},{"$f":"('2009'!T4/'2009 Rate'!$AA4)*1000","v":7.9531336608115595},{"$f":"('2009'!U4/'2009 Rate'!$AA4)*1000","v":1.5260230508992909},{"$f":"('2009'!V4/'2009 Rate'!$AA4)*1000","v":6.3871633632141283},{"$f":"('2009'!W4/'2009 Rate'!$AA4)*1000","v":4.0564613238020604},{"$f":"('2009'!X4/'2009 Rate'!$AA4)*1000","v":61.35438368470345},{"$f":"('2009'!Y4/'2009 Rate'!$AA4)*1000","v":10.327605649955084},"SCOTLAND",{"$f":"'Population estimates'!G4","v":5231900}]
[3,"Aberdeen City",null,{"$f":"('2009'!D5/'2009 Rate'!$AA5)*1000","v":13.7038061008202},{"$f":"('2009'!E5/'2009 Rate'!$AA5)*1000","v":0.19353055017970694},{"$f":"('2009'!F5/'2009 Rate'!$AA5)*1000","v":14.021749147544005},{"$f":"('2009'!G5/'2009 Rate'!$AA5)*1000","v":-0.51147359690351124},{"$f":"('2009'!H5/'2009 Rate'!$AA5)*1000","v":65.261266242742607},{"$f":"('2009'!I5/'2009 Rate'!$AA5)*1000","v":51.557460141922405},{"$f":"('2009'!J5/'2009 Rate'!$AA5)*1000","v":-4.497281356557},{"$f":"('2009'!K5/'2009 Rate'!$AA5)*1000","v":26.449175191226615},{"$f":"('2009'!L5/'2009 Rate'!$AA5)*1000","v":30.946456547783615},{"$f":"('2009'!M5/'2009 Rate'!$AA5)*1000","v":1.294811538107087},{"$f":"('2009'!N5/'2009 Rate'!$AA5)*1000","v":11.791539950235002},{"$f":"('2009'!O5/'2009 Rate'!$AA5)*1000","v":10.496728412127913},{"$f":"('2009'!P5/'2009 Rate'!$AA5)*1000","v":16.906275919270112},{"$f":"('2009'!Q5/'2009 Rate'!$AA5)*1000","v":27.020551101280986},{"$f":"('2009'!R5/'2009 Rate'!$AA5)*1000","v":10.114275182010875},{"$f":"('2009'!S5/'2009 Rate'!$AA5)*1000","v":4.0549258132890973},{"$f":"('2009'!T5/'2009 Rate'!$AA5)*1000","v":22.256013270666298},{"$f":"('2009'!U5/'2009 Rate'!$AA5)*1000","v":3.603354529536448},{"$f":"('2009'!V5/'2009 Rate'!$AA5)*1000","v":8.0130863514883419},{"$f":"('2009'!W5/'2009 Rate'!$AA5)*1000","v":6.9256289742880837},{"$f":"('2009'!X5/'2009 Rate'!$AA5)*1000","v":142.84397751359322},null,"Aberdeen City",{"$f":"'Population estimates'!G5","v":217020}]
[4,"Aberdeenshire",null,{"$f":"('2009'!D6/'2009 Rate'!$AA6)*1000","v":6.0517227531925144},{"$f":"('2009'!E6/'2009 Rate'!$AA6)*1000","v":2.3251144486386637},{"$f":"('2009'!F6/'2009 Rate'!$AA6)*1000","v":3.5499156694241427},{"$f":"('2009'!G6/'2009 Rate'!$AA6)*1000","v":0.17669263512970845},{"$f":"('2009'!H6/'2009 Rate'!$AA6)*1000","v":35.44293631033652},{"$f":"('2009'!I6/'2009 Rate'!$AA6)*1000","v":29.391213557144003},{"$f":"('2009'!J6/'2009 Rate'!$AA6)*1000","v":2.7507830696329614},{"$f":"('2009'!K6/'2009 Rate'!$AA6)*1000","v":22.195004417315879},{"$f":"('2009'!L6/'2009 Rate'!$AA6)*1000","v":19.44422134768292},{"$f":"('2009'!M6/'2009 Rate'!$AA6)*1000","v":0.87141595052606224},{"$f":"('2009'!N6/'2009 Rate'!$AA6)*1000","v":7.1721146895831662},{"$f":"('2009'!O6/'2009 Rate'!$AA6)*1000","v":6.3006987390571041},{"$f":"('2009'!P6/'2009 Rate'!$AA6)*1000","v":2.4295237330334913},{"$f":"('2009'!Q6/'2009 Rate'!$AA6)*1000","v":6.0758172034374747},{"$f":"('2009'!R6/'2009 Rate'!$AA6)*1000","v":3.6462934704039838},{"$f":"('2009'!S6/'2009 Rate'!$AA6)*1000","v":4.2566862099429761},{"$f":"('2009'!T6/'2009 Rate'!$AA6)*1000","v":6.7464460685888685},{"$f":"('2009'!U6/'2009 Rate'!$AA6)*1000","v":1.2930688298128665},{"$f":"('2009'!V6/'2009 Rate'!$AA6)*1000","v":2.9355071881776564},{"$f":"('2009'!W6/'2009 Rate'!$AA6)*1000","v":2.7347201028029877},{"$f":"('2009'!X6/'2009 Rate'!$AA6)*1000","v":56.220383904907237},null,"Aberdeenshire",{"$f":"'Population estimates'!G6","v":249020}]
[5,"Angus",null,{"$f":"('2009'!D7/'2009 Rate'!$AA7)*1000","v":1.2888617956979882},{"$f":"('2009'!E7/'2009 Rate'!$AA7)*1000","v":1.0101889750065314},{"$f":"('2009'!F7/'2009 Rate'!$AA7)*1000","v":-0.11321083340590438},{"$f":"('2009'!G7/'2009 Rate'!$AA7)*1000","v":0.39188365409736131},{"$f":"('2009'!H7/'2009 Rate'!$AA7)*1000","v":29.478359313768181},{"$f":"('2009'!I7/'2009 Rate'!$AA7)*1000","v":28.189497518070191},{"$f":"('2009'!J7/'2009 Rate'!$AA7)*1000","v":-0.2090046155185927},{"$f":"('2009'!K7/'2009 Rate'!$AA7)*1000","v":19.898981102499345},{"$f":"('2009'!L7/'2009 Rate'!$AA7)*1000","v":20.10798571801794},{"$f":"('2009'!M7/'2009 Rate'!$AA7)*1000","v":0.23513019245841676},{"$f":"('2009'!N7/'2009 Rate'!$AA7)*1000","v":5.5908734651223542},{"$f":"('2009'!O7/'2009 Rate'!$AA7)*1000","v":5.355743272663938},{"$f":"('2009'!P7/'2009 Rate'!$AA7)*1000","v":1.2627362187581643},{"$f":"('2009'!Q7/'2009 Rate'!$AA7)*1000","v":3.9885047461464773},{"$f":"('2009'!R7/'2009 Rate'!$AA7)*1000","v":2.725768527388313},{"$f":"('2009'!S7/'2009 Rate'!$AA7)*1000","v":2.8738134633806496},{"$f":"('2009'!T7/'2009 Rate'!$AA7)*1000","v":11.75650962292084},{"$f":"('2009'!U7/'2009 Rate'!$AA7)*1000","v":1.0101889750065314},{"$f":"('2009'!V7/'2009 Rate'!$AA7)*1000","v":4.3803884002438389},{"$f":"('2009'!W7/'2009 Rate'!$AA7)*1000","v":1.76783070626143},{"$f":"('2009'!X7/'2009 Rate'!$AA7)*1000","v":43.542628233040148},null,"Angus",{"$f":"'Population estimates'!G7","v":114830}]
[6,"Argyll & Bute",null,{"$f":"('2009'!D8/'2009 Rate'!$AA8)*1000","v":-0.30184460592509782},{"$f":"('2009'!E8/'2009 Rate'!$AA8)*1000","v":0.62604807154835107},{"$f":"('2009'!F8/'2009 Rate'!$AA8)*1000","v":-0.31302403577417554},{"$f":"('2009'!G8/'2009 Rate'!$AA8)*1000","v":-0.61486864169927335},{"$f":"('2009'!H8/'2009 Rate'!$AA8)*1000","v":43.152599217439914},{"$f":"('2009'!I8/'2009 Rate'!$AA8)*1000","v":43.454443823365011},{"$f":"('2009'!J8/'2009 Rate'!$AA8)*1000","v":-3.1861375069871434},{"$f":"('2009'!K8/'2009 Rate'!$AA8)*1000","v":23.376187814421463},{"$f":"('2009'!L8/'2009 Rate'!$AA8)*1000","v":26.562325321408608},{"$f":"('2009'!M8/'2009 Rate'!$AA8)*1000","v":3.4544438233650081},{"$f":"('2009'!N8/'2009 Rate'!$AA8)*1000","v":14.946897708216882},{"$f":"('2009'!O8/'2009 Rate'!$AA8)*1000","v":11.492453884851873},{"$f":"('2009'!P8/'2009 Rate'!$AA8)*1000","v":-0.5701509223029626},{"$f":"('2009'!Q8/'2009 Rate'!$AA8)*1000","v":4.8295136948015651},{"$f":"('2009'!R8/'2009 Rate'!$AA8)*1000","v":5.3996646171045271},{"$f":"('2009'!S8/'2009 Rate'!$AA8)*1000","v":2.1799888205701508},{"$f":"('2009'!T8/'2009 Rate'!$AA8)*1000","v":5.925097820011179},{"$f":"('2009'!U8/'2009 Rate'!$AA8)*1000","v":0.92789267747344895},{"$f":"('2009'!V8/'2009 Rate'!$AA8)*1000","v":2.3365008384572388},{"$f":"('2009'!W8/'2009 Rate'!$AA8)*1000","v":1.1626607043040806},{"$f":"('2009'!X8/'2009 Rate'!$AA8)*1000","v":33.538289547233092},null,"Argyll & Bute",{"$f":"'Population estimates'!G8","v":89450}]
[7,"Clackmannanshire",null,{"$f":"('2009'!D9/'2009 Rate'!$AA9)*1000","v":0.760382140768181},{"$f":"('2009'!E9/'2009 Rate'!$AA9)*1000","v":-0.40943653733671281},{"$f":"('2009'!F9/'2009 Rate'!$AA9)*1000","v":1.5987521934100215},{"$f":"('2009'!G9/'2009 Rate'!$AA9)*1000","v":-0.42893351530512774},{"$f":"('2009'!H9/'2009 Rate'!$AA9)*1000","v":32.735426008968609},{"$f":"('2009'!I9/'2009 Rate'!$AA9)*1000","v":31.97504386820043},{"$f":"('2009'!J9/'2009 Rate'!$AA9)*1000","v":9.7484889842074471E-2},{"$f":"('2009'!K9/'2009 Rate'!$AA9)*1000","v":23.220900760382143},{"$f":"('2009'!L9/'2009 Rate'!$AA9)*1000","v":23.123415870540065},{"$f":"('2009'!M9/'2009 Rate'!$AA9)*1000","v":1.9496977968414896E-2},{"$f":"('2009'!N9/'2009 Rate'!$AA9)*1000","v":6.0440631702086174},{"$f":"('2009'!O9/'2009 Rate'!$AA9)*1000","v":6.0245661922402025},{"$f":"('2009'!P9/'2009 Rate'!$AA9)*1000","v":0.64340027295769153},{"$f":"('2009'!Q9/'2009 Rate'!$AA9)*1000","v":3.4704620783778517},{"$f":"('2009'!R9/'2009 Rate'!$AA9)*1000","v":2.8270618054201599},{"$f":"('2009'!S9/'2009 Rate'!$AA9)*1000","v":0.77987911873659577},{"$f":"('2009'!T9/'2009 Rate'!$AA9)*1000","v":2.3396373562097876},{"$f":"('2009'!U9/'2009 Rate'!$AA9)*1000","v":0.95535192045232997},{"$f":"('2009'!V9/'2009 Rate'!$AA9)*1000","v":4.0748683953987133},{"$f":"('2009'!W9/'2009 Rate'!$AA9)*1000","v":1.7352310391889259},null,null,"Clackmannanshire",{"$f":"'Population estimates'!G9","v":51290}]
[8,"Dumfries & Galloway",null,{"$f":"('2009'!D10/'2009 Rate'!$AA10)*1000","v":2.0111140513363326},{"$f":"('2009'!E10/'2009 Rate'!$AA10)*1000","v":1.1246361471288702},{"$f":"('2009'!F10/'2009 Rate'!$AA10)*1000","v":0.73432124900767404},{"$f":"('2009'!G10/'2009 Rate'!$AA10)*1000","v":0.1521566551997883},{"$f":"('2009'!H10/'2009 Rate'!$AA10)*1000","v":27.692511246361473},{"$f":"('2009'!I10/'2009 Rate'!$AA10)*1000","v":25.681397195025141},{"$f":"('2009'!J10/'2009 Rate'!$AA10)*1000","v":-0.55570256681661823},{"$f":"('2009'!K10/'2009 Rate'!$AA10)*1000","v":11.332363059010321},{"$f":"('2009'!L10/'2009 Rate'!$AA10)*1000","v":11.888065625826938},{"$f":"('2009'!M10/'2009 Rate'!$AA10)*1000","v":3.6980682720296376},{"$f":"('2009'!N10/'2009 Rate'!$AA10)*1000","v":13.793331569198202},{"$f":"('2009'!O10/'2009 Rate'!$AA10)*1000","v":10.095263297168563},{"$f":"('2009'!P10/'2009 Rate'!$AA10)*1000","v":-1.131251653876687},{"$f":"('2009'!Q10/'2009 Rate'!$AA10)*1000","v":2.5668166181529508},{"$f":"('2009'!R10/'2009 Rate'!$AA10)*1000","v":3.6980682720296376},{"$f":"('2009'!S10/'2009 Rate'!$AA10)*1000","v":0.86001587721619477},{"$f":"('2009'!T10/'2009 Rate'!$AA10)*1000","v":2.3154273617359094},{"$f":"('2009'!U10/'2009 Rate'!$AA10)*1000","v":0.76739878274675843},{"$f":"('2009'!V10/'2009 Rate'!$AA10)*1000","v":2.9306694892828791},{"$f":"('2009'!W10/'2009 Rate'!$AA10)*1000","v":1.4884890182587986},null,null,"Dumfries & Galloway",{"$f":"'Population estimates'!G10","v":151160}]
[9,"Dundee City",null,{"$f":"('2009'!D11/'2009 Rate'!$AA11)*1000","v":6.3305090583453882},{"$f":"('2009'!E11/'2009 Rate'!$AA11)*1000","v":-7.5773231383894746E-2},{"$f":"('2009'!F11/'2009 Rate'!$AA11)*1000","v":7.136460701246814},{"$f":"('2009'!G11/'2009 Rate'!$AA11)*1000","v":-0.73017841151753116},{"$f":"('2009'!H11/'2009 Rate'!$AA11)*1000","v":47.268719432389609},{"$f":"('2009'!I11/'2009 Rate'!$AA11)*1000","v":40.938210374044225},{"$f":"('2009'!J11/'2009 Rate'!$AA11)*1000","v":-0.70951298477646896},{"$f":"('2009'!K11/'2009 Rate'!$AA11)*1000","v":24.791623613694288},{"$f":"('2009'!L11/'2009 Rate'!$AA11)*1000","v":25.501136598470758},{"$f":"('2009'!M11/'2009 Rate'!$AA11)*1000","v":-8.2661706964248807E-2},{"$f":"('2009'!N11/'2009 Rate'!$AA11)*1000","v":9.223668802094096},{"$f":"('2009'!O11/'2009 Rate'!$AA11)*1000","v":9.3063305090583448},{"$f":"('2009'!P11/'2009 Rate'!$AA11)*1000","v":7.1226837500861055},{"$f":"('2009'!Q11/'2009 Rate'!$AA11)*1000","v":13.253427016601226},{"$f":"('2009'!R11/'2009 Rate'!$AA11)*1000","v":6.13074326651512},{"$f":"('2009'!S11/'2009 Rate'!$AA11)*1000","v":1.9976579183026795},{"$f":"('2009'!T11/'2009 Rate'!$AA11)*1000","v":10.332713370531101},{"$f":"('2009'!U11/'2009 Rate'!$AA11)*1000","v":2.0114348694633879},{"$f":"('2009'!V11/'2009 Rate'!$AA11)*1000","v":8.4659364882551476},{"$f":"('2009'!W11/'2009 Rate'!$AA11)*1000","v":4.8357098574085553},{"$f":"('2009'!X11/'2009 Rate'!$AA11)*1000","v":75.773231383894739},null,"Dundee City",{"$f":"'Population estimates'!G11","v":145170}]
[10,"East Ayrshire",null,{"$f":"('2009'!D12/'2009 Rate'!$AA12)*1000","v":3.1365162558349029},{"$f":"('2009'!E12/'2009 Rate'!$AA12)*1000","v":0.51592826140365244},{"$f":"('2009'!F12/'2009 Rate'!$AA12)*1000","v":2.6697240193268366},{"$f":"('2009'!G12/'2009 Rate'!$AA12)*1000","v":-4.9136024895585946E-2},{"$f":"('2009'!H12/'2009 Rate'!$AA12)*1000","v":27.622635328801898},{"$f":"('2009'!I12/'2009 Rate'!$AA12)*1000","v":24.486119072966996},{"$f":"('2009'!J12/'2009 Rate'!$AA12)*1000","v":3.283924330521661},{"$f":"('2009'!K12/'2009 Rate'!$AA12)*1000","v":20.800917205798051},{"$f":"('2009'!L12/'2009 Rate'!$AA12)*1000","v":17.51699287527639},{"$f":"('2009'!M12/'2009 Rate'!$AA12)*1000","v":0.99909917287691419},{"$f":"('2009'!N12/'2009 Rate'!$AA12)*1000","v":5.8553763000573253},{"$f":"('2009'!O12/'2009 Rate'!$AA12)*1000","v":4.8562771271804115},{"$f":"('2009'!P12/'2009 Rate'!$AA12)*1000","v":-1.1465072475636722},{"$f":"('2009'!Q12/'2009 Rate'!$AA12)*1000","v":0.9663418229465236},{"$f":"('2009'!R12/'2009 Rate'!$AA12)*1000","v":2.1128490705101957},{"$f":"('2009'!S12/'2009 Rate'!$AA12)*1000","v":0.49136024895585945},{"$f":"('2009'!T12/'2009 Rate'!$AA12)*1000","v":0.81893374825976573},{"$f":"('2009'!U12/'2009 Rate'!$AA12)*1000","v":0.55687494881664079},{"$f":"('2009'!V12/'2009 Rate'!$AA12)*1000","v":2.2356891327491604},{"$f":"('2009'!W12/'2009 Rate'!$AA12)*1000","v":0.65514699860781267},null,null,"East Ayrshire",{"$f":"'Population estimates'!G12","v":122110}]
[11,"East Dunbartonshire",null,{"$f":"('2009'!D13/'2009 Rate'!$AA13)*1000","v":-0.75266768292682928},{"$f":"('2009'!E13/'2009 Rate'!$AA13)*1000","v":2.0960365853658538},{"$f":"('2009'!F13/'2009 Rate'!$AA13)*1000","v":-2.0769817073170733},{"$f":"('2009'!G13/'2009 Rate'!$AA13)*1000","v":-0.77172256097560976},{"$f":"('2009'!H13/'2009 Rate'!$AA13)*1000","v":30.764100609756099},{"$f":"('2009'!I13/'2009 Rate'!$AA13)*1000","v":31.516768292682926},{"$f":"('2009'!J13/'2009 Rate'!$AA13)*1000","v":-0.12385670731707317},{"$f":"('2009'!K13/'2009 Rate'!$AA13)*1000","v":24.714176829268293},{"$f":"('2009'!L13/'2009 Rate'!$AA13)*1000","v":24.838033536585364},{"$f":"('2009'!M13/'2009 Rate'!$AA13)*1000","v":-0.35251524390243899},{"$f":"('2009'!N13/'2009 Rate'!$AA13)*1000","v":4.334984756097561},{"$f":"('2009'!O13/'2009 Rate'!$AA13)*1000","v":4.6875},{"$f":"('2009'!P13/'2009 Rate'!$AA13)*1000","v":-0.27629573170731703},{"$f":"('2009'!Q13/'2009 Rate'!$AA13)*1000","v":1.7149390243902438},{"$f":"('2009'!R13/'2009 Rate'!$AA13)*1000","v":1.991234756097561},{"$f":"('2009'!S13/'2009 Rate'!$AA13)*1000","v":0.14291158536585366},{"$f":"('2009'!T13/'2009 Rate'!$AA13)*1000","v":1.4291158536585367},{"$f":"('2009'!U13/'2009 Rate'!$AA13)*1000","v":0.74314024390243905},{"$f":"('2009'!V13/'2009 Rate'!$AA13)*1000","v":9.4512195121951219},{"$f":"('2009'!W13/'2009 Rate'!$AA13)*1000","v":3.3346036585365852},null,null,"East Dunbartonshire",{"$f":"'Population estimates'!G13","v":104960}]
[12,"East Lothian",null,{"$f":"('2009'!D14/'2009 Rate'!$AA14)*1000","v":7.1690054911531425},{"$f":"('2009'!E14/'2009 Rate'!$AA14)*1000","v":2.3591620907057149},{"$f":"('2009'!F14/'2009 Rate'!$AA14)*1000","v":4.2810656904616629},{"$f":"('2009'!G14/'2009 Rate'!$AA14)*1000","v":0.52877770998576368},{"$f":"('2009'!H14/'2009 Rate'!$AA14)*1000","v":37.095790115924345},{"$f":"('2009'!I14/'2009 Rate'!$AA14)*1000","v":29.926784624771201},{"$f":"('2009'!J14/'2009 Rate'!$AA14)*1000","v":4.2912344925767743},{"$f":"('2009'!K14/'2009 Rate'!$AA14)*1000","v":25.564368517388655},{"$f":"('2009'!L14/'2009 Rate'!$AA14)*1000","v":21.273134024811878},{"$f":"('2009'!M14/'2009 Rate'!$AA14)*1000","v":0.6813097417124262},{"$f":"('2009'!N14/'2009 Rate'!$AA14)*1000","v":6.9656294488509252},{"$f":"('2009'!O14/'2009 Rate'!$AA14)*1000","v":6.2843197071384989},{"$f":"('2009'!P14/'2009 Rate'!$AA14)*1000","v":2.1964612568639414},{"$f":"('2009'!Q14/'2009 Rate'!$AA14)*1000","v":4.5657921496847669},{"$f":"('2009'!R14/'2009 Rate'!$AA14)*1000","v":2.3693308928208259},{"$f":"('2009'!S14/'2009 Rate'!$AA14)*1000","v":1.1694122432377467},{"$f":"('2009'!T14/'2009 Rate'!$AA14)*1000","v":4.2708968883465532},{"$f":"('2009'!U14/'2009 Rate'!$AA14)*1000","v":0.91519219035997557},{"$f":"('2009'!V14/'2009 Rate'!$AA14)*1000","v":2.6438885499288181},{"$f":"('2009'!W14/'2009 Rate'!$AA14)*1000","v":1.2711002643888551},null,null,"East Lothian",{"$f":"'Population estimates'!G14","v":98340}]
[13,"East Renfrewshire",null,{"$f":"('2009'!D15/'2009 Rate'!$AA15)*1000","v":0.80017781729273174},{"$f":"('2009'!E15/'2009 Rate'!$AA15)*1000","v":3.1229162036008002},{"$f":"('2009'!F15/'2009 Rate'!$AA15)*1000","v":-3.1118026228050679},{"$f":"('2009'!G15/'2009 Rate'!$AA15)*1000","v":0.78906423649699931},{"$f":"('2009'!H15/'2009 Rate'!$AA15)*1000","v":32.729495443431873},{"$f":"('2009'!I15/'2009 Rate'!$AA15)*1000","v":31.929317626139138},{"$f":"('2009'!J15/'2009 Rate'!$AA15)*1000","v":1.3225161146921538},{"$f":"('2009'!K15/'2009 Rate'!$AA15)*1000","v":27.139364303178485},{"$f":"('2009'!L15/'2009 Rate'!$AA15)*1000","v":25.816848188486329},{"$f":"('2009'!M15/'2009 Rate'!$AA15)*1000","v":-0.31118026228050677},{"$f":"('2009'!N15/'2009 Rate'!$AA15)*1000","v":3.86752611691487},{"$f":"('2009'!O15/'2009 Rate'!$AA15)*1000","v":4.1787063791953765},{"$f":"('2009'!P15/'2009 Rate'!$AA15)*1000","v":-0.21115803511891532},{"$f":"('2009'!Q15/'2009 Rate'!$AA15)*1000","v":1.7226050233385195},{"$f":"('2009'!R15/'2009 Rate'!$AA15)*1000","v":1.933763058457435},{"$f":"('2009'!S15/'2009 Rate'!$AA15)*1000","v":0.33340742387197159},{"$f":"('2009'!T15/'2009 Rate'!$AA15)*1000","v":1.2224938875305624},{"$f":"('2009'!U15/'2009 Rate'!$AA15)*1000","v":0.91131362525005555},{"$f":"('2009'!V15/'2009 Rate'!$AA15)*1000","v":21.349188708601911},{"$f":"('2009'!W15/'2009 Rate'!$AA15)*1000","v":8.568570793509668},{"$f":"('2009'!X15/'2009 Rate'!$AA15)*1000","v":44.454323182929535},null,"East Renfrewshire",{"$f":"'Population estimates'!G15","v":89980}]
[14,"Edinburgh, City of",null,{"$f":"('2009'!D16/'2009 Rate'!$AA16)*1000","v":12.652188930144201},{"$f":"('2009'!E16/'2009 Rate'!$AA16)*1000","v":0.4490113116311199},{"$f":"('2009'!F16/'2009 Rate'!$AA16)*1000","v":12.326223987565841},{"$f":"('2009'!G16/'2009 Rate'!$AA16)*1000","v":-0.12304636905275884},{"$f":"('2009'!H16/'2009 Rate'!$AA16)*1000","v":63.697003712978152},{"$f":"('2009'!I16/'2009 Rate'!$AA16)*1000","v":51.044814782833953},{"$f":"('2009'!J16/'2009 Rate'!$AA16)*1000","v":-1.6578879198687506},{"$f":"('2009'!K16/'2009 Rate'!$AA16)*1000","v":23.309731456696312},{"$f":"('2009'!L16/'2009 Rate'!$AA16)*1000","v":24.967619376565064},{"$f":"('2009'!M16/'2009 Rate'!$AA16)*1000","v":0.77281754598048524},{"$f":"('2009'!N16/'2009 Rate'!$AA16)*1000","v":17.388394784560919},{"$f":"('2009'!O16/'2009 Rate'!$AA16)*1000","v":16.615577238580432},{"$f":"('2009'!P16/'2009 Rate'!$AA16)*1000","v":13.537259304032467},{"$f":"('2009'!Q16/'2009 Rate'!$AA16)*1000","v":22.998877471720924},{"$f":"('2009'!R16/'2009 Rate'!$AA16)*1000","v":9.4616181676884548},{"$f":"('2009'!S16/'2009 Rate'!$AA16)*1000","v":2.6875917450997324},{"$f":"('2009'!T16/'2009 Rate'!$AA16)*1000","v":22.558500993005783},{"$f":"('2009'!U16/'2009 Rate'!$AA16)*1000","v":3.1840946377687591},{"$f":"('2009'!V16/'2009 Rate'!$AA16)*1000","v":10.54097228218634},{"$f":"('2009'!W16/'2009 Rate'!$AA16)*1000","v":6.430791814178396},{"$f":"('2009'!X16/'2009 Rate'!$AA16)*1000","v":142.47474311372073},null,"Edinburgh, City of",{"$f":"'Population estimates'!G16","v":463240}]
[15,"Eilean Siar",null,{"$f":"('2009'!D17/'2009 Rate'!$AA17)*1000","v":2.5893508388037927},{"$f":"('2009'!E17/'2009 Rate'!$AA17)*1000","v":1.7505470459518599},{"$f":"('2009'!F17/'2009 Rate'!$AA17)*1000","v":7.2939460247994164E-2},{"$f":"('2009'!G17/'2009 Rate'!$AA17)*1000","v":0.76586433260393871},{"$f":"('2009'!H17/'2009 Rate'!$AA17)*1000","v":35.229759299781179},{"$f":"('2009'!I17/'2009 Rate'!$AA17)*1000","v":32.64040846097739},{"$f":"('2009'!J17/'2009 Rate'!$AA17)*1000","v":-1.1305616338439097},{"$f":"('2009'!K17/'2009 Rate'!$AA17)*1000","v":21.808898614150255},{"$f":"('2009'!L17/'2009 Rate'!$AA17)*1000","v":22.939460247994166},{"$f":"('2009'!M17/'2009 Rate'!$AA17)*1000","v":4.1940189642596639},{"$f":"('2009'!N17/'2009 Rate'!$AA17)*1000","v":10.649161196207148},{"$f":"('2009'!O17/'2009 Rate'!$AA17)*1000","v":6.4551422319474838},{"$f":"('2009'!P17/'2009 Rate'!$AA17)*1000","v":-0.47410649161196211},{"$f":"('2009'!Q17/'2009 Rate'!$AA17)*1000","v":2.7716994894237783},{"$f":"('2009'!R17/'2009 Rate'!$AA17)*1000","v":3.2458059810357405},{"$f":"('2009'!S17/'2009 Rate'!$AA17)*1000","v":0.7293946024799417},{"$f":"('2009'!T17/'2009 Rate'!$AA17)*1000","v":1.8234865061998542},{"$f":"('2009'!U17/'2009 Rate'!$AA17)*1000","v":0.80233406272793584},{"$f":"('2009'!V17/'2009 Rate'!$AA17)*1000","v":1.8599562363238511},{"$f":"('2009'!W17/'2009 Rate'!$AA17)*1000","v":0.98468271334792123},null,null,"Eilean Siar",{"$f":"'Population estimates'!G17","v":27420}]
[16,"Falkirk",null,{"$f":"('2009'!D18/'2009 Rate'!$AA18)*1000","v":3.6638350301536868},{"$f":"('2009'!E18/'2009 Rate'!$AA18)*1000","v":6.4846637701835158E-2},{"$f":"('2009'!F18/'2009 Rate'!$AA18)*1000","v":3.0931846183775371},{"$f":"('2009'!G18/'2009 Rate'!$AA18)*1000","v":0.50580377407431432},{"$f":"('2009'!H18/'2009 Rate'!$AA18)*1000","v":24.47312106867259},{"$f":"('2009'!I18/'2009 Rate'!$AA18)*1000","v":20.809286038518902},{"$f":"('2009'!J18/'2009 Rate'!$AA18)*1000","v":2.7948900849490954},{"$f":"('2009'!K18/'2009 Rate'!$AA18)*1000","v":17.236236301147787},{"$f":"('2009'!L18/'2009 Rate'!$AA18)*1000","v":14.44134621619869},{"$f":"('2009'!M18/'2009 Rate'!$AA18)*1000","v":6.4846637701835158E-2},{"$f":"('2009'!N18/'2009 Rate'!$AA18)*1000","v":3.9621295635821281},{"$f":"('2009'!O18/'2009 Rate'!$AA18)*1000","v":3.897282925880293},{"$f":"('2009'!P18/'2009 Rate'!$AA18)*1000","v":0.8040983075027559},{"$f":"('2009'!Q18/'2009 Rate'!$AA18)*1000","v":3.2747552039426755},{"$f":"('2009'!R18/'2009 Rate'!$AA18)*1000","v":2.4706568964399196},{"$f":"('2009'!S18/'2009 Rate'!$AA18)*1000","v":0.74573633357110436},{"$f":"('2009'!T18/'2009 Rate'!$AA18)*1000","v":2.0750924064587251},{"$f":"('2009'!U18/'2009 Rate'!$AA18)*1000","v":0.84949095389404061},{"$f":"('2009'!V18/'2009 Rate'!$AA18)*1000","v":3.9686142273523122},{"$f":"('2009'!W18/'2009 Rate'!$AA18)*1000","v":2.5549575254523056},null,null,"Falkirk",{"$f":"'Population estimates'!G18","v":154210}]
[17,"Fife",null,{"$f":"('2009'!D19/'2009 Rate'!$AA19)*1000","v":4.2887579203674493},{"$f":"('2009'!E19/'2009 Rate'!$AA19)*1000","v":0.78027724744749727},{"$f":"('2009'!F19/'2009 Rate'!$AA19)*1000","v":3.1709139204781271},{"$f":"('2009'!G19/'2009 Rate'!$AA19)*1000","v":0.3375667524418251},{"$f":"('2009'!H19/'2009 Rate'!$AA19)*1000","v":30.975899947428129},{"$f":"('2009'!I19/'2009 Rate'!$AA19)*1000","v":26.687142027060681},{"$f":"('2009'!J19/'2009 Rate'!$AA19)*1000","v":0.69726902963393378},{"$f":"('2009'!K19/'2009 Rate'!$AA19)*1000","v":15.702387869732437},{"$f":"('2009'!L19/'2009 Rate'!$AA19)*1000","v":15.005118840098502},{"$f":"('2009'!M19/'2009 Rate'!$AA19)*1000","v":0.6612988019147229},{"$f":"('2009'!N19/'2009 Rate'!$AA19)*1000","v":8.6245538308292531},{"$f":"('2009'!O19/'2009 Rate'!$AA19)*1000","v":7.9632550289145296},{"$f":"('2009'!P19/'2009 Rate'!$AA19)*1000","v":2.9301900888187933},{"$f":"('2009'!Q19/'2009 Rate'!$AA19)*1000","v":6.6489582468664397},{"$f":"('2009'!R19/'2009 Rate'!$AA19)*1000","v":3.7187681580476468},{"$f":"('2009'!S19/'2009 Rate'!$AA19)*1000","v":1.8676849008051797},{"$f":"('2009'!T19/'2009 Rate'!$AA19)*1000","v":4.5654519797459949},{"$f":"('2009'!U19/'2009 Rate'!$AA19)*1000","v":1.0735729503887552},{"$f":"('2009'!V19/'2009 Rate'!$AA19)*1000","v":4.5543842173708526},{"$f":"('2009'!W19/'2009 Rate'!$AA19)*1000","v":1.5218173265819983},null,null,"Fife",{"$f":"'Population estimates'!G19","v":361410}]
[18,"Glasgow City",null,{"$f":"('2009'!D20/'2009 Rate'!$AA20)*1000","v":6.8584299026856028},{"$f":"('2009'!E20/'2009 Rate'!$AA20)*1000","v":-0.69805027337436809},{"$f":"('2009'!F20/'2009 Rate'!$AA20)*1000","v":8.0911935628073319},{"$f":"('2009'!G20/'2009 Rate'!$AA20)*1000","v":-0.5347133867473608},{"$f":"('2009'!H20/'2009 Rate'!$AA20)*1000","v":51.440803273615074},{"$f":"('2009'!I20/'2009 Rate'!$AA20)*1000","v":44.582373370929474},{"$f":"('2009'!J20/'2009 Rate'!$AA20)*1000","v":-2.6151095216808229},{"$f":"('2009'!K20/'2009 Rate'!$AA20)*1000","v":23.895326845706819},{"$f":"('2009'!L20/'2009 Rate'!$AA20)*1000","v":26.510436367387644},{"$f":"('2009'!M20/'2009 Rate'!$AA20)*1000","v":0.1065988102197311},{"$f":"('2009'!N20/'2009 Rate'!$AA20)*1000","v":10.314294556583336},{"$f":"('2009'!O20/'2009 Rate'!$AA20)*1000","v":10.207695746363605},{"$f":"('2009'!P20/'2009 Rate'!$AA20)*1000","v":9.366940614146694},{"$f":"('2009'!Q20/'2009 Rate'!$AA20)*1000","v":17.231181871324921},{"$f":"('2009'!R20/'2009 Rate'!$AA20)*1000","v":7.8642412571782261},{"$f":"('2009'!S20/'2009 Rate'!$AA20)*1000","v":1.9428492830370345},{"$f":"('2009'!T20/'2009 Rate'!$AA20)*1000","v":13.152917712595853},{"$f":"('2009'!U20/'2009 Rate'!$AA20)*1000","v":3.1412262301846563},{"$f":"('2009'!V20/'2009 Rate'!$AA20)*1000","v":16.625975722980641},{"$f":"('2009'!W20/'2009 Rate'!$AA20)*1000","v":14.485402840342491},{"$f":"('2009'!X20/'2009 Rate'!$AA20)*1000","v":123.7921667067845},null,"Glasgow City",{"$f":"'Population estimates'!G20","v":581620}]
[19,"Highland",null,{"$f":"('2009'!D21/'2009 Rate'!$AA21)*1000","v":4.3278688524590159},{"$f":"('2009'!E21/'2009 Rate'!$AA21)*1000","v":1.1846994535519126},{"$f":"('2009'!F21/'2009 Rate'!$AA21)*1000","v":2.915846994535519},{"$f":"('2009'!G21/'2009 Rate'!$AA21)*1000","v":0.22732240437158471},{"$f":"('2009'!H21/'2009 Rate'!$AA21)*1000","v":35.169398907103826},{"$f":"('2009'!I21/'2009 Rate'!$AA21)*1000","v":30.84153005464481},{"$f":"('2009'!J21/'2009 Rate'!$AA21)*1000","v":0.33661202185792349},{"$f":"('2009'!K21/'2009 Rate'!$AA21)*1000","v":18.072131147540986},{"$f":"('2009'!L21/'2009 Rate'!$AA21)*1000","v":17.735519125683059},{"$f":"('2009'!M21/'2009 Rate'!$AA21)*1000","v":3.182513661202186},{"$f":"('2009'!N21/'2009 Rate'!$AA21)*1000","v":11.449180327868852},{"$f":"('2009'!O21/'2009 Rate'!$AA21)*1000","v":8.2666666666666675},{"$f":"('2009'!P21/'2009 Rate'!$AA21)*1000","v":0.80874316939890711},{"$f":"('2009'!Q21/'2009 Rate'!$AA21)*1000","v":5.6480874316939893},{"$f":"('2009'!R21/'2009 Rate'!$AA21)*1000","v":4.8393442622950822},{"$f":"('2009'!S21/'2009 Rate'!$AA21)*1000","v":3.1038251366120218},{"$f":"('2009'!T21/'2009 Rate'!$AA21)*1000","v":6.8196721311475414},{"$f":"('2009'!U21/'2009 Rate'!$AA21)*1000","v":1.3158469945355191},{"$f":"('2009'!V21/'2009 Rate'!$AA21)*1000","v":2.8065573770491805},{"$f":"('2009'!W21/'2009 Rate'!$AA21)*1000","v":2.8109289617486337},null,null,"Highland",{"$f":"'Population estimates'!G21","v":228750}]
[20,"Inverclyde",null,{"$f":"('2009'!D22/'2009 Rate'!$AA22)*1000","v":-4.3957389494306351},{"$f":"('2009'!E22/'2009 Rate'!$AA22)*1000","v":-3.6733194563487205E-2},{"$f":"('2009'!F22/'2009 Rate'!$AA22)*1000","v":-4.0896289947349089},{"$f":"('2009'!G22/'2009 Rate'!$AA22)*1000","v":-0.26937676013223949},{"$f":"('2009'!H22/'2009 Rate'!$AA22)*1000","v":16.272805191624833},{"$f":"('2009'!I22/'2009 Rate'!$AA22)*1000","v":20.668544141055467},{"$f":"('2009'!J22/'2009 Rate'!$AA22)*1000","v":-3.80800783641484},{"$f":"('2009'!K22/'2009 Rate'!$AA22)*1000","v":10.444471654218196},{"$f":"('2009'!L22/'2009 Rate'!$AA22)*1000","v":14.252479490633036},{"$f":"('2009'!M22/'2009 Rate'!$AA22)*1000","v":-0.5265091220766499},{"$f":"('2009'!N22/'2009 Rate'!$AA22)*1000","v":3.6365862617852329},{"$f":"('2009'!O22/'2009 Rate'!$AA22)*1000","v":4.1630953838618838},{"$f":"('2009'!P22/'2009 Rate'!$AA22)*1000","v":-6.1221990939145342E-2},{"$f":"('2009'!Q22/'2009 Rate'!$AA22)*1000","v":2.1917472756214034},{"$f":"('2009'!R22/'2009 Rate'!$AA22)*1000","v":2.2529692665605485},{"$f":"('2009'!S22/'2009 Rate'!$AA22)*1000","v":0.24488796375658137},{"$f":"('2009'!T22/'2009 Rate'!$AA22)*1000","v":1.8366597281743602},{"$f":"('2009'!U22/'2009 Rate'!$AA22)*1000","v":0.51426472388882094},{"$f":"('2009'!V22/'2009 Rate'!$AA22)*1000","v":2.2652136647483778},{"$f":"('2009'!W22/'2009 Rate'!$AA22)*1000","v":0.57548671482796621},null,null,"Inverclyde",{"$f":"'Population estimates'!G22","v":81670}]
[21,"Midlothian",null,{"$f":"('2009'!D23/'2009 Rate'!$AA23)*1000","v":5.7020757020757022},{"$f":"('2009'!E23/'2009 Rate'!$AA23)*1000","v":1.9658119658119659},{"$f":"('2009'!F23/'2009 Rate'!$AA23)*1000","v":3.5531135531135534},{"$f":"('2009'!G23/'2009 Rate'!$AA23)*1000","v":0.18315018315018314},{"$f":"('2009'!H23/'2009 Rate'!$AA23)*1000","v":33.980463980463981},{"$f":"('2009'!I23/'2009 Rate'!$AA23)*1000","v":28.278388278388281},{"$f":"('2009'!J23/'2009 Rate'!$AA23)*1000","v":5.9706959706959708},{"$f":"('2009'!K23/'2009 Rate'!$AA23)*1000","v":26.78876678876679},{"$f":"('2009'!L23/'2009 Rate'!$AA23)*1000","v":20.818070818070819},{"$f":"('2009'!M23/'2009 Rate'!$AA23)*1000","v":-0.52503052503052505},{"$f":"('2009'!N23/'2009 Rate'!$AA23)*1000","v":4.9938949938949939},{"$f":"('2009'!O23/'2009 Rate'!$AA23)*1000","v":5.5189255189255189},{"$f":"('2009'!P23/'2009 Rate'!$AA23)*1000","v":0.25641025641025639},{"$f":"('2009'!Q23/'2009 Rate'!$AA23)*1000","v":2.197802197802198},{"$f":"('2009'!R23/'2009 Rate'!$AA23)*1000","v":1.9413919413919414},{"$f":"('2009'!S23/'2009 Rate'!$AA23)*1000","v":0.73260073260073255},{"$f":"('2009'!T23/'2009 Rate'!$AA23)*1000","v":1.8315018315018314},{"$f":"('2009'!U23/'2009 Rate'!$AA23)*1000","v":0.98901098901098905},{"$f":"('2009'!V23/'2009 Rate'!$AA23)*1000","v":3.4920634920634921},{"$f":"('2009'!W23/'2009 Rate'!$AA23)*1000","v":1.514041514041514},null,null,"Midlothian",{"$f":"'Population estimates'!G23","v":81900}]
[22,"Moray",null,{"$f":"('2009'!D24/'2009 Rate'!$AA24)*1000","v":4.336159708060535},{"$f":"('2009'!E24/'2009 Rate'!$AA24)*1000","v":1.524095738971772},{"$f":"('2009'!F24/'2009 Rate'!$AA24)*1000","v":2.6940002146613717},{"$f":"('2009'!G24/'2009 Rate'!$AA24)*1000","v":0.1180637544273908},{"$f":"('2009'!H24/'2009 Rate'!$AA24)*1000","v":34.034560480841471},{"$f":"('2009'!I24/'2009 Rate'!$AA24)*1000","v":29.698400772780939},{"$f":"('2009'!J24/'2009 Rate'!$AA24)*1000","v":0.55811956638402926},{"$f":"('2009'!K24/'2009 Rate'!$AA24)*1000","v":18.020822153053558},{"$f":"('2009'!L24/'2009 Rate'!$AA24)*1000","v":17.462702586669529},{"$f":"('2009'!M24/'2009 Rate'!$AA24)*1000","v":3.3272512611355589},{"$f":"('2009'!N24/'2009 Rate'!$AA24)*1000","v":11.849307717076311},{"$f":"('2009'!O24/'2009 Rate'!$AA24)*1000","v":8.5220564559407546},{"$f":"('2009'!P24/'2009 Rate'!$AA24)*1000","v":0.45078888054094668},{"$f":"('2009'!Q24/'2009 Rate'!$AA24)*1000","v":4.1644306107116025},{"$f":"('2009'!R24/'2009 Rate'!$AA24)*1000","v":3.7136417301706559},{"$f":"('2009'!S24/'2009 Rate'!$AA24)*1000","v":1.0733068584308254},{"$f":"('2009'!T24/'2009 Rate'!$AA24)*1000","v":2.7905978319201461},{"$f":"('2009'!U24/'2009 Rate'!$AA24)*1000","v":1.0625737898465173},{"$f":"('2009'!V24/'2009 Rate'!$AA24)*1000","v":2.5974025974025974},{"$f":"('2009'!W24/'2009 Rate'!$AA24)*1000","v":2.3827412257164324},{"$f":"('2009'!X24/'2009 Rate'!$AA24)*1000","v":53.665342921541274},null,"Moray",{"$f":"'Population estimates'!G24","v":93170}]
[23,"North Ayrshire",null,{"$f":"('2009'!D25/'2009 Rate'!$AA25)*1000","v":-0.84887179859246897},{"$f":"('2009'!E25/'2009 Rate'!$AA25)*1000","v":0.42080824203729233},{"$f":"('2009'!F25/'2009 Rate'!$AA25)*1000","v":-1.8283392585068563},{"$f":"('2009'!G25/'2009 Rate'!$AA25)*1000","v":0.55865921787709494},{"$f":"('2009'!H25/'2009 Rate'!$AA25)*1000","v":25.712834651382135},{"$f":"('2009'!I25/'2009 Rate'!$AA25)*1000","v":26.561706449974608},{"$f":"('2009'!J25/'2009 Rate'!$AA25)*1000","v":-1.2624247261118768},{"$f":"('2009'!K25/'2009 Rate'!$AA25)*1000","v":18.036711891460495},{"$f":"('2009'!L25/'2009 Rate'!$AA25)*1000","v":19.299136617572373},{"$f":"('2009'!M25/'2009 Rate'!$AA25)*1000","v":1.0520206050932308},{"$f":"('2009'!N25/'2009 Rate'!$AA25)*1000","v":6.0364216788797798},{"$f":"('2009'!O25/'2009 Rate'!$AA25)*1000","v":4.9844010737865485},{"$f":"('2009'!P25/'2009 Rate'!$AA25)*1000","v":-0.63846767757382272},{"$f":"('2009'!Q25/'2009 Rate'!$AA25)*1000","v":1.6397010810418633},{"$f":"('2009'!R25/'2009 Rate'!$AA25)*1000","v":2.2781687586156858},{"$f":"('2009'!S25/'2009 Rate'!$AA25)*1000","v":0.18138286294710876},{"$f":"('2009'!T25/'2009 Rate'!$AA25)*1000","v":1.6687223391134007},{"$f":"('2009'!U25/'2009 Rate'!$AA25)*1000","v":0.55865921787709494},{"$f":"('2009'!V25/'2009 Rate'!$AA25)*1000","v":1.8573605165783937},{"$f":"('2009'!W25/'2009 Rate'!$AA25)*1000","v":0.51512733076978878},null,null,"North Ayrshire",{"$f":"'Population estimates'!G25","v":137830}]
[24,"North Lanarkshire",null,{"$f":"('2009'!D26/'2009 Rate'!$AA26)*1000","v":0.26256116481680392},{"$f":"('2009'!E26/'2009 Rate'!$AA26)*1000","v":0.23570831841508535},{"$f":"('2009'!F26/'2009 Rate'!$AA26)*1000","v":2.0885547201336677E-2},{"$f":"('2009'!G26/'2009 Rate'!$AA26)*1000","v":5.9672992003819069E-3},{"$f":"('2009'!H26/'2009 Rate'!$AA26)*1000","v":21.25253610216016},{"$f":"('2009'!I26/'2009 Rate'!$AA26)*1000","v":20.989974937343359},{"$f":"('2009'!J26/'2009 Rate'!$AA26)*1000","v":0.16410072801050243},{"$f":"('2009'!K26/'2009 Rate'!$AA26)*1000","v":15.028643036161833},{"$f":"('2009'!L26/'2009 Rate'!$AA26)*1000","v":14.86454230815133},{"$f":"('2009'!M26/'2009 Rate'!$AA26)*1000","v":4.1771094402673355E-2},{"$f":"('2009'!N26/'2009 Rate'!$AA26)*1000","v":3.5415920754266619},{"$f":"('2009'!O26/'2009 Rate'!$AA26)*1000","v":3.4998209810239884},{"$f":"('2009'!P26/'2009 Rate'!$AA26)*1000","v":5.6689342403628121E-2},{"$f":"('2009'!Q26/'2009 Rate'!$AA26)*1000","v":2.682300990571667},{"$f":"('2009'!R26/'2009 Rate'!$AA26)*1000","v":2.6256116481680389},{"$f":"('2009'!S26/'2009 Rate'!$AA26)*1000","v":0.65640291204200973},{"$f":"('2009'!T26/'2009 Rate'!$AA26)*1000","v":1.9990452321279388},{"$f":"('2009'!U26/'2009 Rate'!$AA26)*1000","v":0.7548633488483113},{"$f":"('2009'!V26/'2009 Rate'!$AA26)*1000","v":4.4814416994868127},{"$f":"('2009'!W26/'2009 Rate'!$AA26)*1000","v":2.2079007041413057},null,null,"North Lanarkshire",{"$f":"'Population estimates'!G26","v":335160}]
[25,"Orkney Islands",null,{"$f":"('2009'!D27/'2009 Rate'!$AA27)*1000","v":4.2024832855778413},{"$f":"('2009'!E27/'2009 Rate'!$AA27)*1000","v":1.9579751671442214},{"$f":"('2009'!F27/'2009 Rate'!$AA27)*1000","v":1.7191977077363896},{"$f":"('2009'!G27/'2009 Rate'!$AA27)*1000","v":0.52531041069723017},{"$f":"('2009'!H27/'2009 Rate'!$AA27)*1000","v":33.810888252148999},{"$f":"('2009'!I27/'2009 Rate'!$AA27)*1000","v":29.608404966571154},{"$f":"('2009'!J27/'2009 Rate'!$AA27)*1000","v":-3.0085959885386822},{"$f":"('2009'!K27/'2009 Rate'!$AA27)*1000","v":16.809933142311365},{"$f":"('2009'!L27/'2009 Rate'!$AA27)*1000","v":19.818529130850049},{"$f":"('2009'!M27/'2009 Rate'!$AA27)*1000","v":7.9274116523400195},{"$f":"('2009'!N27/'2009 Rate'!$AA27)*1000","v":14.756446991404012},{"$f":"('2009'!O27/'2009 Rate'!$AA27)*1000","v":6.8290353390639922},{"$f":"('2009'!P27/'2009 Rate'!$AA27)*1000","v":-0.71633237822349571},{"$f":"('2009'!Q27/'2009 Rate'!$AA27)*1000","v":2.24450811843362},{"$f":"('2009'!R27/'2009 Rate'!$AA27)*1000","v":2.9608404966571156},{"$f":"('2009'!S27/'2009 Rate'!$AA27)*1000","v":0.71633237822349571},{"$f":"('2009'!T27/'2009 Rate'!$AA27)*1000","v":2.8653295128939829},{"$f":"('2009'!U27/'2009 Rate'!$AA27)*1000","v":0.33428844317096468},{"$f":"('2009'!V27/'2009 Rate'!$AA27)*1000","v":2.6265520534861508},{"$f":"('2009'!W27/'2009 Rate'!$AA27)*1000","v":0.33428844317096468},null,null,"Orkney Islands",{"$f":"'Population estimates'!G27","v":20940}]
[26,"Perth & Kinross",null,{"$f":"('2009'!D28/'2009 Rate'!$AA28)*1000","v":12.467964258502459},{"$f":"('2009'!E28/'2009 Rate'!$AA28)*1000","v":2.3619865623051881},{"$f":"('2009'!F28/'2009 Rate'!$AA28)*1000","v":9.6695989471496855},{"$f":"('2009'!G28/'2009 Rate'!$AA28)*1000","v":0.43637874904758606},{"$f":"('2009'!H28/'2009 Rate'!$AA28)*1000","v":48.347994735748429},{"$f":"('2009'!I28/'2009 Rate'!$AA28)*1000","v":35.880030477245967},{"$f":"('2009'!J28/'2009 Rate'!$AA28)*1000","v":2.5559326729930043},{"$f":"('2009'!K28/'2009 Rate'!$AA28)*1000","v":23.917711435893885},{"$f":"('2009'!L28/'2009 Rate'!$AA28)*1000","v":21.36177876290088},{"$f":"('2009'!M28/'2009 Rate'!$AA28)*1000","v":1.8147814642931357},{"$f":"('2009'!N28/'2009 Rate'!$AA28)*1000","v":9.4687261896515906},{"$f":"('2009'!O28/'2009 Rate'!$AA28)*1000","v":7.6539447253584543},{"$f":"('2009'!P28/'2009 Rate'!$AA28)*1000","v":8.0972501212163177},{"$f":"('2009'!Q28/'2009 Rate'!$AA28)*1000","v":14.961557110202952},{"$f":"('2009'!R28/'2009 Rate'!$AA28)*1000","v":6.8643069889866322},{"$f":"('2009'!S28/'2009 Rate'!$AA28)*1000","v":8.6929417469003258},{"$f":"('2009'!T28/'2009 Rate'!$AA28)*1000","v":24.797395580799336},{"$f":"('2009'!U28/'2009 Rate'!$AA28)*1000","v":1.3576227748147121},{"$f":"('2009'!V28/'2009 Rate'!$AA28)*1000","v":3.4286901710881761},{"$f":"('2009'!W28/'2009 Rate'!$AA28)*1000","v":2.6251991410957958},{"$f":"('2009'!X28/'2009 Rate'!$AA28)*1000","v":48.486527671954008},null,"Perth & Kinross",{"$f":"'Population estimates'!G28","v":144370}]
[27,"Renfrewshire",null,{"$f":"('2009'!D29/'2009 Rate'!$AA29)*1000","v":0.90162986937926248},{"$f":"('2009'!E29/'2009 Rate'!$AA29)*1000","v":-0.29476361114322042},{"$f":"('2009'!F29/'2009 Rate'!$AA29)*1000","v":1.0923592648248759},{"$f":"('2009'!G29/'2009 Rate'!$AA29)*1000","v":0.10403421569760721},{"$f":"('2009'!H29/'2009 Rate'!$AA29)*1000","v":27.089353831926942},{"$f":"('2009'!I29/'2009 Rate'!$AA29)*1000","v":26.187723962547683},{"$f":"('2009'!J29/'2009 Rate'!$AA29)*1000","v":0.72823950988325048},{"$f":"('2009'!K29/'2009 Rate'!$AA29)*1000","v":19.078719223211191},{"$f":"('2009'!L29/'2009 Rate'!$AA29)*1000","v":18.350479713327939},{"$f":"('2009'!M29/'2009 Rate'!$AA29)*1000","v":-0.39879782684082765},{"$f":"('2009'!N29/'2009 Rate'!$AA29)*1000","v":4.1844873425037568},{"$f":"('2009'!O29/'2009 Rate'!$AA29)*1000","v":4.5832851693445846},{"$f":"('2009'!P29/'2009 Rate'!$AA29)*1000","v":0.57218818633683965},{"$f":"('2009'!Q29/'2009 Rate'!$AA29)*1000","v":3.8261472662119984},{"$f":"('2009'!R29/'2009 Rate'!$AA29)*1000","v":3.253959079875159},{"$f":"('2009'!S29/'2009 Rate'!$AA29)*1000","v":1.2137325164720842},{"$f":"('2009'!T29/'2009 Rate'!$AA29)*1000","v":3.2944168304242285},{"$f":"('2009'!U29/'2009 Rate'!$AA29)*1000","v":0.93630794127846495},{"$f":"('2009'!V29/'2009 Rate'!$AA29)*1000","v":4.4561322390475091},{"$f":"('2009'!W29/'2009 Rate'!$AA29)*1000","v":1.5316148422147728},{"$f":"('2009'!X29/'2009 Rate'!$AA29)*1000","v":40.457750549069473},null,"Renfrewshire",{"$f":"'Population estimates'!G29","v":173020}]
[28,"Scottish Borders",null,{"$f":"('2009'!D30/'2009 Rate'!$AA30)*1000","v":3.7063121753675503},{"$f":"('2009'!E30/'2009 Rate'!$AA30)*1000","v":1.0300202482612906},{"$f":"('2009'!F30/'2009 Rate'!$AA30)*1000","v":1.6638788625759309},{"$f":"('2009'!G30/'2009 Rate'!$AA30)*1000","v":1.0124130645303284},{"$f":"('2009'!H30/'2009 Rate'!$AA30)*1000","v":37.952284532089088},{"$f":"('2009'!I30/'2009 Rate'!$AA30)*1000","v":34.245972356721538},{"$f":"('2009'!J30/'2009 Rate'!$AA30)*1000","v":1.3909675147460163},{"$f":"('2009'!K30/'2009 Rate'!$AA30)*1000","v":20.089796637027906},{"$f":"('2009'!L30/'2009 Rate'!$AA30)*1000","v":18.698829122281889},{"$f":"('2009'!M30/'2009 Rate'!$AA30)*1000","v":2.1832907826393169},{"$f":"('2009'!N30/'2009 Rate'!$AA30)*1000","v":13.284620125011005},{"$f":"('2009'!O30/'2009 Rate'!$AA30)*1000","v":11.101329342371688},{"$f":"('2009'!P30/'2009 Rate'!$AA30)*1000","v":0.13205387798221674},{"$f":"('2009'!Q30/'2009 Rate'!$AA30)*1000","v":4.5778677700501804},{"$f":"('2009'!R30/'2009 Rate'!$AA30)*1000","v":4.4458138920679637},{"$f":"('2009'!S30/'2009 Rate'!$AA30)*1000","v":1.9367902104058456},{"$f":"('2009'!T30/'2009 Rate'!$AA30)*1000","v":3.4334008275376351},{"$f":"('2009'!U30/'2009 Rate'!$AA30)*1000","v":1.0388238401267718},{"$f":"('2009'!V30/'2009 Rate'!$AA30)*1000","v":2.5442380491240426},{"$f":"('2009'!W30/'2009 Rate'!$AA30)*1000","v":2.1304692314464302},{"$f":"('2009'!X30/'2009 Rate'!$AA30)*1000","v":52.821551192886702},null,"Scottish Borders",{"$f":"'Population estimates'!G30","v":113590}]
[29,"Shetland Islands",null,{"$f":"('2009'!D31/'2009 Rate'!$AA31)*1000","v":8.9074155331285656},{"$f":"('2009'!E31/'2009 Rate'!$AA31)*1000","v":1.9745502413339184},{"$f":"('2009'!F31/'2009 Rate'!$AA31)*1000","v":5.9236507240017549},{"$f":"('2009'!G31/'2009 Rate'!$AA31)*1000","v":1.0092145677928914},{"$f":"('2009'!H31/'2009 Rate'!$AA31)*1000","v":35.585783238262401},{"$f":"('2009'!I31/'2009 Rate'!$AA31)*1000","v":26.67836770513383},{"$f":"('2009'!J31/'2009 Rate'!$AA31)*1000","v":0.39491004826678366},{"$f":"('2009'!K31/'2009 Rate'!$AA31)*1000","v":16.849495392716104},{"$f":"('2009'!L31/'2009 Rate'!$AA31)*1000","v":16.45458534444932},{"$f":"('2009'!M31/'2009 Rate'!$AA31)*1000","v":5.0899517332163233},{"$f":"('2009'!N31/'2009 Rate'!$AA31)*1000","v":12.242211496270293},{"$f":"('2009'!O31/'2009 Rate'!$AA31)*1000","v":7.152259763053971},{"$f":"('2009'!P31/'2009 Rate'!$AA31)*1000","v":3.4225537516454585},{"$f":"('2009'!Q31/'2009 Rate'!$AA31)*1000","v":6.4940763492759981},{"$f":"('2009'!R31/'2009 Rate'!$AA31)*1000","v":3.07152259763054},{"$f":"('2009'!S31/'2009 Rate'!$AA31)*1000","v":3.5103115401491882},{"$f":"('2009'!T31/'2009 Rate'!$AA31)*1000","v":7.0206230802983765},{"$f":"('2009'!U31/'2009 Rate'!$AA31)*1000","v":0.96533567354102678},{"$f":"('2009'!V31/'2009 Rate'!$AA31)*1000","v":2.5010969723562964},{"$f":"('2009'!W31/'2009 Rate'!$AA31)*1000","v":2.1500658183413779},null,null,"Shetland Islands",{"$f":"'Population estimates'!G31","v":22790}]
[30,"South Ayrshire",null,{"$f":"('2009'!D32/'2009 Rate'!$AA32)*1000","v":1.5379144812872256},{"$f":"('2009'!E32/'2009 Rate'!$AA32)*1000","v":0.2489110143123833},{"$f":"('2009'!F32/'2009 Rate'!$AA32)*1000","v":0.64894657302871361},{"$f":"('2009'!G32/'2009 Rate'!$AA32)*1000","v":0.64005689394612852},{"$f":"('2009'!H32/'2009 Rate'!$AA32)*1000","v":31.158325184460839},{"$f":"('2009'!I32/'2009 Rate'!$AA32)*1000","v":29.620410703173615},{"$f":"('2009'!J32/'2009 Rate'!$AA32)*1000","v":1.12898924348831},{"$f":"('2009'!K32/'2009 Rate'!$AA32)*1000","v":20.695172904258154},{"$f":"('2009'!L32/'2009 Rate'!$AA32)*1000","v":19.566183660769845},{"$f":"('2009'!M32/'2009 Rate'!$AA32)*1000","v":1.351231220552938},{"$f":"('2009'!N32/'2009 Rate'!$AA32)*1000","v":8.0184905324917786},{"$f":"('2009'!O32/'2009 Rate'!$AA32)*1000","v":6.6672593119388397},{"$f":"('2009'!P32/'2009 Rate'!$AA32)*1000","v":-0.94230598275402255},{"$f":"('2009'!Q32/'2009 Rate'!$AA32)*1000","v":2.4446617477109078},{"$f":"('2009'!R32/'2009 Rate'!$AA32)*1000","v":3.3869677304649302},{"$f":"('2009'!S32/'2009 Rate'!$AA32)*1000","v":0.35558716330340473},{"$f":"('2009'!T32/'2009 Rate'!$AA32)*1000","v":2.5780069339496845},{"$f":"('2009'!U32/'2009 Rate'!$AA32)*1000","v":0.51560138678993683},{"$f":"('2009'!V32/'2009 Rate'!$AA32)*1000","v":2.5868966130322693},{"$f":"('2009'!W32/'2009 Rate'!$AA32)*1000","v":0.65783625211129881},{"$f":"('2009'!X32/'2009 Rate'!$AA32)*1000","v":35.558716330340474},null,"South Ayrshire",{"$f":"'Population estimates'!G32","v":112490}]
[31,"South Lanarkshire",null,{"$f":"('2009'!D33/'2009 Rate'!$AA33)*1000","v":2.0500993016849254},{"$f":"('2009'!E33/'2009 Rate'!$AA33)*1000","v":0.84246268178614903},{"$f":"('2009'!F33/'2009 Rate'!$AA33)*1000","v":0.86168236273944521},{"$f":"('2009'!G33/'2009 Rate'!$AA33)*1000","v":0.34595425715933115},{"$f":"('2009'!H33/'2009 Rate'!$AA33)*1000","v":25.805624959958998},{"$f":"('2009'!I33/'2009 Rate'!$AA33)*1000","v":23.755525658274074},{"$f":"('2009'!J33/'2009 Rate'!$AA33)*1000","v":2.3896469985264912},{"$f":"('2009'!K33/'2009 Rate'!$AA33)*1000","v":19.178038311230697},{"$f":"('2009'!L33/'2009 Rate'!$AA33)*1000","v":16.78839131270421},{"$f":"('2009'!M33/'2009 Rate'!$AA33)*1000","v":-0.18579024921519635},{"$f":"('2009'!N33/'2009 Rate'!$AA33)*1000","v":4.3308347748094045},{"$f":"('2009'!O33/'2009 Rate'!$AA33)*1000","v":4.5166250240246013},{"$f":"('2009'!P33/'2009 Rate'!$AA33)*1000","v":-0.15375744762636939},{"$f":"('2009'!Q33/'2009 Rate'!$AA33)*1000","v":2.2967518739188932},{"$f":"('2009'!R33/'2009 Rate'!$AA33)*1000","v":2.4505093215452622},{"$f":"('2009'!S33/'2009 Rate'!$AA33)*1000","v":0.56057402780447185},{"$f":"('2009'!T33/'2009 Rate'!$AA33)*1000","v":1.537574476263694},{"$f":"('2009'!U33/'2009 Rate'!$AA33)*1000","v":0.65987571272983536},{"$f":"('2009'!V33/'2009 Rate'!$AA33)*1000","v":4.1866871676596835},{"$f":"('2009'!W33/'2009 Rate'!$AA33)*1000","v":1.3261579857774362},null,null,"South Lanarkshire",{"$f":"'Population estimates'!G33","v":312180}]
[32,"Stirling",null,{"$f":"('2009'!D34/'2009 Rate'!$AA34)*1000","v":3.4953207802458},{"$f":"('2009'!E34/'2009 Rate'!$AA34)*1000","v":1.0147705491036192},{"$f":"('2009'!F34/'2009 Rate'!$AA34)*1000","v":2.2324952080279625},{"$f":"('2009'!G34/'2009 Rate'!$AA34)*1000","v":0.24805502311421807},{"$f":"('2009'!H34/'2009 Rate'!$AA34)*1000","v":53.523508851054231},{"$f":"('2009'!I34/'2009 Rate'!$AA34)*1000","v":50.02818807080844},{"$f":"('2009'!J34/'2009 Rate'!$AA34)*1000","v":-1.6687337918592851},{"$f":"('2009'!K34/'2009 Rate'!$AA34)*1000","v":31.536813620475815},{"$f":"('2009'!L34/'2009 Rate'!$AA34)*1000","v":33.2055474123351},{"$f":"('2009'!M34/'2009 Rate'!$AA34)*1000","v":1.1613485173074756},{"$f":"('2009'!N34/'2009 Rate'!$AA34)*1000","v":11.173751268463187},{"$f":"('2009'!O34/'2009 Rate'!$AA34)*1000","v":10.01240275115571},{"$f":"('2009'!P34/'2009 Rate'!$AA34)*1000","v":4.0027060547976099},{"$f":"('2009'!Q34/'2009 Rate'!$AA34)*1000","v":10.812943962115233},{"$f":"('2009'!R34/'2009 Rate'!$AA34)*1000","v":6.8102379073176236},{"$f":"('2009'!S34/'2009 Rate'!$AA34)*1000","v":2.7624309392265194},{"$f":"('2009'!T34/'2009 Rate'!$AA34)*1000","v":7.6671552598940131},{"$f":"('2009'!U34/'2009 Rate'!$AA34)*1000","v":1.2177246589243431},{"$f":"('2009'!V34/'2009 Rate'!$AA34)*1000","v":5.4121095952193032},{"$f":"('2009'!W34/'2009 Rate'!$AA34)*1000","v":1.5672567369489232},null,null,"Stirling",{"$f":"'Population estimates'!G34","v":88690}]
[33,"West Dunbartonshire",null,{"$f":"('2009'!D35/'2009 Rate'!$AA35)*1000","v":-0.61484409310496269},{"$f":"('2009'!E35/'2009 Rate'!$AA35)*1000","v":0.48309178743961351},{"$f":"('2009'!F35/'2009 Rate'!$AA35)*1000","v":-0.91128678085199832},{"$f":"('2009'!G35/'2009 Rate'!$AA35)*1000","v":-0.18664909969257795},{"$f":"('2009'!H35/'2009 Rate'!$AA35)*1000","v":24.670619235836625},{"$f":"('2009'!I35/'2009 Rate'!$AA35)*1000","v":25.285463328941589},{"$f":"('2009'!J35/'2009 Rate'!$AA35)*1000","v":0.15371102327624067},{"$f":"('2009'!K35/'2009 Rate'!$AA35)*1000","v":18.950373298199384},{"$f":"('2009'!L35/'2009 Rate'!$AA35)*1000","v":18.796662274923147},{"$f":"('2009'!M35/'2009 Rate'!$AA35)*1000","v":-0.43917435221783052},{"$f":"('2009'!N35/'2009 Rate'!$AA35)*1000","v":3.8317962231005707},{"$f":"('2009'!O35/'2009 Rate'!$AA35)*1000","v":4.2709705753184011},{"$f":"('2009'!P35/'2009 Rate'!$AA35)*1000","v":-0.32938076416337286},{"$f":"('2009'!Q35/'2009 Rate'!$AA35)*1000","v":1.888449714536671},{"$f":"('2009'!R35/'2009 Rate'!$AA35)*1000","v":2.2178304787000442},{"$f":"('2009'!S35/'2009 Rate'!$AA35)*1000","v":0.10979358805445763},{"$f":"('2009'!T35/'2009 Rate'!$AA35)*1000","v":1.9762845849802371},{"$f":"('2009'!U35/'2009 Rate'!$AA35)*1000","v":0.42819499341238471},{"$f":"('2009'!V35/'2009 Rate'!$AA35)*1000","v":3.0961791831357051},{"$f":"('2009'!W35/'2009 Rate'!$AA35)*1000","v":1.3175230566534915},{"$f":"('2009'!X35/'2009 Rate'!$AA35)*1000","v":43.917435221783045},null,"West Dunbartonshire",{"$f":"'Population estimates'!G35","v":91080}]
[34,"West Lothian",null,{"$f":"('2009'!D36/'2009 Rate'!$AA36)*1000","v":1.3465094775774389},{"$f":"('2009'!E36/'2009 Rate'!$AA36)*1000","v":0.15603328710124828},{"$f":"('2009'!F36/'2009 Rate'!$AA36)*1000","v":0.94775774387424871},{"$f":"('2009'!G36/'2009 Rate'!$AA36)*1000","v":0.24271844660194175},{"$f":"('2009'!H36/'2009 Rate'!$AA36)*1000","v":29.264909847434119},{"$f":"('2009'!I36/'2009 Rate'!$AA36)*1000","v":27.91840036985668},{"$f":"('2009'!J36/'2009 Rate'!$AA36)*1000","v":-0.20804438280166437},{"$f":"('2009'!K36/'2009 Rate'!$AA36)*1000","v":18.868469717984283},{"$f":"('2009'!L36/'2009 Rate'!$AA36)*1000","v":19.076514100785946},{"$f":"('2009'!M36/'2009 Rate'!$AA36)*1000","v":-0.91886269070735094},{"$f":"('2009'!N36/'2009 Rate'!$AA36)*1000","v":4.8659269533055935},{"$f":"('2009'!O36/'2009 Rate'!$AA36)*1000","v":5.7847896440129452},{"$f":"('2009'!P36/'2009 Rate'!$AA36)*1000","v":2.4734165510864536},{"$f":"('2009'!Q36/'2009 Rate'!$AA36)*1000","v":5.5305131761442441},{"$f":"('2009'!R36/'2009 Rate'!$AA36)*1000","v":3.0570966250577905},{"$f":"('2009'!S36/'2009 Rate'!$AA36)*1000","v":3.6407766990291264},{"$f":"('2009'!T36/'2009 Rate'!$AA36)*1000","v":5.4900601017105863},{"$f":"('2009'!U36/'2009 Rate'!$AA36)*1000","v":1.6990291262135921},{"$f":"('2009'!V36/'2009 Rate'!$AA36)*1000","v":5.2357836338418862},{"$f":"('2009'!W36/'2009 Rate'!$AA36)*1000","v":2.4387424872861767},{"$f":"('2009'!X36/'2009 Rate'!$AA36)*1000","v":46.232085067036522},null,"West Lothian",{"$f":"'Population estimates'!G36","v":173040}]
[]
[35,"Not specified"]
[36,"SCOTLAND",null,{"$f":"('2009'!D39/'2009 Rate'!$AA39)*1000","v":4.6679026739807723},{"$f":"('2009'!E39/'2009 Rate'!$AA39)*1000","v":0.67317800416674634},{"$f":"('2009'!F39/'2009 Rate'!$AA39)*1000","v":3.9375752594659681},{"$f":"('2009'!G39/'2009 Rate'!$AA39)*1000","v":5.7149410348057116E-2},{"$f":"('2009'!H39/'2009 Rate'!$AA39)*1000","v":17.299069171811389},{"$f":"('2009'!I39/'2009 Rate'!$AA39)*1000","v":12.631166497830616},null,null,null,{"$f":"('2009'!M39/'2009 Rate'!$AA39)*1000","v":0.78785909516619201},{"$f":"('2009'!N39/'2009 Rate'!$AA39)*1000","v":8.6788738316863849},{"$f":"('2009'!O39/'2009 Rate'!$AA39)*1000","v":7.8910147365201935},{"$f":"('2009'!P39/'2009 Rate'!$AA39)*1000","v":3.8800435788145795},{"$f":"('2009'!Q39/'2009 Rate'!$AA39)*1000","v":8.6201953401250009},{"$f":"('2009'!R39/'2009 Rate'!$AA39)*1000","v":4.7401517613104227},null,null,{"$f":"('2009'!U39/'2009 Rate'!$AA39)*1000","v":1.5260230508992909},null,null,null,{"$f":"('2009'!Y39/'2009 Rate'!$AA39)*1000","v":10.327605649955084},"SCOTLAND",{"$f":"'Population estimates'!G39","v":5231900}]
[37,"Ayrshire & Arran",null,{"$f":"('2009'!D40/'2009 Rate'!$AA40)*1000","v":1.178903270852355},{"$f":"('2009'!E40/'2009 Rate'!$AA40)*1000","v":0.4001289005854235},{"$f":"('2009'!F40/'2009 Rate'!$AA40)*1000","v":0.39475804285944466},{"$f":"('2009'!G40/'2009 Rate'!$AA40)*1000","v":0.38401632740748698},{"$f":"('2009'!H40/'2009 Rate'!$AA40)*1000","v":21.38138460712176},{"$f":"('2009'!I40/'2009 Rate'!$AA40)*1000","v":20.202481336269404},{"$f":"('2009'!J40/'2009 Rate'!$AA40)*1000","v":0.95064181749825438},{"$f":"('2009'!K40/'2009 Rate'!$AA40)*1000","v":13.142488855470218},{"$f":"('2009'!L40/'2009 Rate'!$AA40)*1000","v":12.191847037971964},{"$f":"('2009'!M40/'2009 Rate'!$AA40)*1000","v":1.1251946935925667},{"$f":"('2009'!N40/'2009 Rate'!$AA40)*1000","v":6.576615285461088},{"$f":"('2009'!O40/'2009 Rate'!$AA40)*1000","v":5.451420591868521},{"$f":"('2009'!P40/'2009 Rate'!$AA40)*1000","v":-0.8969332402384661},{"$f":"('2009'!Q40/'2009 Rate'!$AA40)*1000","v":1.6622804661904504},{"$f":"('2009'!R40/'2009 Rate'!$AA40)*1000","v":2.5592137064289164},null,null,{"$f":"('2009'!U40/'2009 Rate'!$AA40)*1000","v":0.5451420591868521},null,null,null,null,"Ayrshire & Arran",{"$f":"'Population estimates'!G40","v":372380}]
[38,"Borders",null,{"$f":"('2009'!D41/'2009 Rate'!$AA41)*1000","v":3.7063121753675503},{"$f":"('2009'!E41/'2009 Rate'!$AA41)*1000","v":1.0300202482612906},{"$f":"('2009'!F41/'2009 Rate'!$AA41)*1000","v":1.6638788625759309},{"$f":"('2009'!G41/'2009 Rate'!$AA41)*1000","v":1.0124130645303284},{"$f":"('2009'!H41/'2009 Rate'!$AA41)*1000","v":37.952284532089088},{"$f":"('2009'!I41/'2009 Rate'!$AA41)*1000","v":34.245972356721538},{"$f":"('2009'!J41/'2009 Rate'!$AA41)*1000","v":1.3909675147460163},{"$f":"('2009'!K41/'2009 Rate'!$AA41)*1000","v":20.089796637027906},{"$f":"('2009'!L41/'2009 Rate'!$AA41)*1000","v":18.698829122281889},{"$f":"('2009'!M41/'2009 Rate'!$AA41)*1000","v":2.1832907826393169},{"$f":"('2009'!N41/'2009 Rate'!$AA41)*1000","v":13.284620125011005},{"$f":"('2009'!O41/'2009 Rate'!$AA41)*1000","v":11.101329342371688},{"$f":"('2009'!P41/'2009 Rate'!$AA41)*1000","v":0.13205387798221674},{"$f":"('2009'!Q41/'2009 Rate'!$AA41)*1000","v":4.5778677700501804},{"$f":"('2009'!R41/'2009 Rate'!$AA41)*1000","v":4.4458138920679637},null,null,{"$f":"('2009'!U41/'2009 Rate'!$AA41)*1000","v":1.0388238401267718},null,null,null,null,"Borders",{"$f":"'Population estimates'!G41","v":113590}]
[39,"Dumfries & Galloway",null,{"$f":"('2009'!D42/'2009 Rate'!$AA42)*1000","v":2.0111140513363326},{"$f":"('2009'!E42/'2009 Rate'!$AA42)*1000","v":1.1246361471288702},{"$f":"('2009'!F42/'2009 Rate'!$AA42)*1000","v":0.73432124900767404},{"$f":"('2009'!G42/'2009 Rate'!$AA42)*1000","v":0.1521566551997883},{"$f":"('2009'!H42/'2009 Rate'!$AA42)*1000","v":27.692511246361473},{"$f":"('2009'!I42/'2009 Rate'!$AA42)*1000","v":25.681397195025141},{"$f":"('2009'!J42/'2009 Rate'!$AA42)*1000","v":-0.55570256681661823},{"$f":"('2009'!K42/'2009 Rate'!$AA42)*1000","v":11.332363059010321},{"$f":"('2009'!L42/'2009 Rate'!$AA42)*1000","v":11.888065625826938},{"$f":"('2009'!M42/'2009 Rate'!$AA42)*1000","v":3.6980682720296376},{"$f":"('2009'!N42/'2009 Rate'!$AA42)*1000","v":13.793331569198202},{"$f":"('2009'!O42/'2009 Rate'!$AA42)*1000","v":10.095263297168563},{"$f":"('2009'!P42/'2009 Rate'!$AA42)*1000","v":-1.131251653876687},{"$f":"('2009'!Q42/'2009 Rate'!$AA42)*1000","v":2.5668166181529508},{"$f":"('2009'!R42/'2009 Rate'!$AA42)*1000","v":3.6980682720296376},null,null,{"$f":"('2009'!U42/'2009 Rate'!$AA42)*1000","v":0.76739878274675843},null,null,null,null,"Dumfries & Galloway",{"$f":"'Population estimates'!G42","v":151160}]
[40,"Fife",null,{"$f":"('2009'!D43/'2009 Rate'!$AA43)*1000","v":4.2832240391798786},{"$f":"('2009'!E43/'2009 Rate'!$AA43)*1000","v":0.77751030685371181},{"$f":"('2009'!F43/'2009 Rate'!$AA43)*1000","v":3.1681469798843418},{"$f":"('2009'!G43/'2009 Rate'!$AA43)*1000","v":0.3375667524418251},{"$f":"('2009'!H43/'2009 Rate'!$AA43)*1000","v":30.967599125646771},{"$f":"('2009'!I43/'2009 Rate'!$AA43)*1000","v":26.684375086466893},{"$f":"('2009'!J43/'2009 Rate'!$AA43)*1000","v":0.69173514844636286},{"$f":"('2009'!K43/'2009 Rate'!$AA43)*1000","v":15.696853988544865},{"$f":"('2009'!L43/'2009 Rate'!$AA43)*1000","v":15.005118840098502},{"$f":"('2009'!M43/'2009 Rate'!$AA43)*1000","v":0.66406574250850836},{"$f":"('2009'!N43/'2009 Rate'!$AA43)*1000","v":8.6245538308292531},{"$f":"('2009'!O43/'2009 Rate'!$AA43)*1000","v":7.9604880883207434},{"$f":"('2009'!P43/'2009 Rate'!$AA43)*1000","v":2.9274231482250075},{"$f":"('2009'!Q43/'2009 Rate'!$AA43)*1000","v":6.6461913062726543},{"$f":"('2009'!R43/'2009 Rate'!$AA43)*1000","v":3.7187681580476468},null,null,{"$f":"('2009'!U43/'2009 Rate'!$AA43)*1000","v":1.0735729503887552},null,null,null,null,"Fife",{"$f":"'Population estimates'!G43","v":361410}]
[41,"Forth Valley",null,{"$f":"('2009'!D44/'2009 Rate'!$AA44)*1000","v":3.1073638403481336},{"$f":"('2009'!E44/'2009 Rate'!$AA44)*1000","v":0.2685795879513157},{"$f":"('2009'!F44/'2009 Rate'!$AA44)*1000","v":2.5736044060651393},{"$f":"('2009'!G44/'2009 Rate'!$AA44)*1000","v":0.26517984633167879},{"$f":"('2009'!H44/'2009 Rate'!$AA44)*1000","v":30.040116951111717},{"$f":"('2009'!I44/'2009 Rate'!$AA44)*1000","v":26.932753110763581},{"$f":"('2009'!J44/'2009 Rate'!$AA44)*1000","v":0.97912558645542935},{"$f":"('2009'!K44/'2009 Rate'!$AA44)*1000","v":17.957435234922144},{"$f":"('2009'!L44/'2009 Rate'!$AA44)*1000","v":16.978309648466716},{"$f":"('2009'!M44/'2009 Rate'!$AA44)*1000","v":0.38757054463860752},{"$f":"('2009'!N44/'2009 Rate'!$AA44)*1000","v":6.5003059767457669},{"$f":"('2009'!O44/'2009 Rate'!$AA44)*1000","v":6.1127354321071605},{"$f":"('2009'!P44/'2009 Rate'!$AA44)*1000","v":1.7406677092540965},{"$f":"('2009'!Q44/'2009 Rate'!$AA44)*1000","v":5.5823757394438021},{"$f":"('2009'!R44/'2009 Rate'!$AA44)*1000","v":3.8417080301897055},null,null,{"$f":"('2009'!U44/'2009 Rate'!$AA44)*1000","v":0.97912558645542935},null,null,null,null,"Forth Valley",{"$f":"'Population estimates'!G44","v":294140}]
[42,"Grampian",null,{"$f":"('2009'!D45/'2009 Rate'!$AA45)*1000","v":8.7355376334471853},{"$f":"('2009'!E45/'2009 Rate'!$AA45)*1000","v":1.3644248135762951},{"$f":"('2009'!F45/'2009 Rate'!$AA45)*1000","v":7.471254090592085},{"$f":"('2009'!G45/'2009 Rate'!$AA45)*1000","v":-0.10014127072119598},{"$f":"('2009'!H45/'2009 Rate'!$AA45)*1000","v":35.571609949750538},{"$f":"('2009'!I45/'2009 Rate'!$AA45)*1000","v":26.836072316303358},{"$f":"('2009'!J45/'2009 Rate'!$AA45)*1000","v":-0.4273886375422471},{"$f":"('2009'!K45/'2009 Rate'!$AA45)*1000","v":11.94184653350262},{"$f":"('2009'!L45/'2009 Rate'!$AA45)*1000","v":12.369235171044867},{"$f":"('2009'!M45/'2009 Rate'!$AA45)*1000","v":1.4448954775486846},{"$f":"('2009'!N45/'2009 Rate'!$AA45)*1000","v":9.7441032885677998},{"$f":"('2009'!O45/'2009 Rate'!$AA45)*1000","v":8.2992078110191159},{"$f":"('2009'!P45/'2009 Rate'!$AA45)*1000","v":7.7180307934407466},{"$f":"('2009'!Q45/'2009 Rate'!$AA45)*1000","v":13.88566012768012},{"$f":"('2009'!R45/'2009 Rate'!$AA45)*1000","v":6.1676293342393729},null,null,{"$f":"('2009'!U45/'2009 Rate'!$AA45)*1000","v":2.1512490835285489},null,null,null,null,"Grampian",{"$f":"'Population estimates'!G45","v":559210}]
[43,"Greater Glasgow & Clyde",null,{"$f":"('2009'!D46/'2009 Rate'!$AA46)*1000","v":3.4371535967595408},{"$f":"('2009'!E46/'2009 Rate'!$AA46)*1000","v":0.11501629397497978},{"$f":"('2009'!F46/'2009 Rate'!$AA46)*1000","v":3.6646858304926528},{"$f":"('2009'!G46/'2009 Rate'!$AA46)*1000","v":-0.34254852770809197},{"$f":"('2009'!H46/'2009 Rate'!$AA46)*1000","v":32.029537517815022},{"$f":"('2009'!I46/'2009 Rate'!$AA46)*1000","v":28.592383921055486},{"$f":"('2009'!J46/'2009 Rate'!$AA46)*1000","v":-0.92013035179983826},{"$f":"('2009'!K46/'2009 Rate'!$AA46)*1000","v":15.429685872165225},{"$f":"('2009'!L46/'2009 Rate'!$AA46)*1000","v":16.34981622396506},{"$f":"('2009'!M46/'2009 Rate'!$AA46)*1000","v":-0.17419134377370127},{"$f":"('2009'!N46/'2009 Rate'!$AA46)*1000","v":7.0284957035580042},{"$f":"('2009'!O46/'2009 Rate'!$AA46)*1000","v":7.2026870473317057},{"$f":"('2009'!P46/'2009 Rate'!$AA46)*1000","v":4.5314752923330808},{"$f":"('2009'!Q46/'2009 Rate'!$AA46)*1000","v":9.5713559420917971},{"$f":"('2009'!R46/'2009 Rate'!$AA46)*1000","v":5.0398806497587154},null,null,{"$f":"('2009'!U46/'2009 Rate'!$AA46)*1000","v":1.9094371702657877},null,null,null,null,"Greater Glasgow",{"$f":"'Population estimates'!G46","v":1199830}]
[44,"Highland",null,{"$f":"('2009'!D47/'2009 Rate'!$AA47)*1000","v":3.0263984915147706},{"$f":"('2009'!E47/'2009 Rate'!$AA47)*1000","v":1.0276555625392836},{"$f":"('2009'!F47/'2009 Rate'!$AA47)*1000","v":2.0081709616593337},{"$f":"('2009'!G47/'2009 Rate'!$AA47)*1000","v":-9.4280326838466367E-3},{"$f":"('2009'!H47/'2009 Rate'!$AA47)*1000","v":36.442489000628534},{"$f":"('2009'!I47/'2009 Rate'!$AA47)*1000","v":33.416090509113765},{"$f":"('2009'!J47/'2009 Rate'!$AA47)*1000","v":-0.65367693274670013},{"$f":"('2009'!K47/'2009 Rate'!$AA47)*1000","v":18.592080452545567},{"$f":"('2009'!L47/'2009 Rate'!$AA47)*1000","v":19.245757385292269},{"$f":"('2009'!M47/'2009 Rate'!$AA47)*1000","v":3.2589566310496543},{"$f":"('2009'!N47/'2009 Rate'!$AA47)*1000","v":12.432432432432432},{"$f":"('2009'!O47/'2009 Rate'!$AA47)*1000","v":9.1734758013827786},{"$f":"('2009'!P47/'2009 Rate'!$AA47)*1000","v":0.4211187932118165},{"$f":"('2009'!Q47/'2009 Rate'!$AA47)*1000","v":5.4179761156505339},{"$f":"('2009'!R47/'2009 Rate'!$AA47)*1000","v":4.9968573224387178},null,null,{"$f":"('2009'!U47/'2009 Rate'!$AA47)*1000","v":1.2067881835323695},null,null,null,null,"Highland",{"$f":"'Population estimates'!G47","v":318200}]
[45,"Lanarkshire",null,{"$f":"('2009'!D48/'2009 Rate'!$AA48)*1000","v":0.57388557388557393},{"$f":"('2009'!E48/'2009 Rate'!$AA48)*1000","v":0.50719550719550721},{"$f":"('2009'!F48/'2009 Rate'!$AA48)*1000","v":-0.24745524745524747},{"$f":"('2009'!G48/'2009 Rate'!$AA48)*1000","v":0.31414531414531416},{"$f":"('2009'!H48/'2009 Rate'!$AA48)*1000","v":19.613899613899612},{"$f":"('2009'!I48/'2009 Rate'!$AA48)*1000","v":19.040014040014043},{"$f":"('2009'!J48/'2009 Rate'!$AA48)*1000","v":0.55984555984555984},{"$f":"('2009'!K48/'2009 Rate'!$AA48)*1000","v":12.97999297999298},{"$f":"('2009'!L48/'2009 Rate'!$AA48)*1000","v":12.420147420147419},{"$f":"('2009'!M48/'2009 Rate'!$AA48)*1000","v":1.755001755001755E-2},{"$f":"('2009'!N48/'2009 Rate'!$AA48)*1000","v":3.997893997893998},{"$f":"('2009'!O48/'2009 Rate'!$AA48)*1000","v":3.9803439803439802},{"$f":"('2009'!P48/'2009 Rate'!$AA48)*1000","v":-3.5100035100035102E-3},{"$f":"('2009'!Q48/'2009 Rate'!$AA48)*1000","v":2.6360126360126359},{"$f":"('2009'!R48/'2009 Rate'!$AA48)*1000","v":2.6395226395226392},null,null,{"$f":"('2009'!U48/'2009 Rate'!$AA48)*1000","v":0.69849069849069856},null,null,null,null,"Lanarkshire",{"$f":"'Population estimates'!G48","v":569800}]
[46,"Lothian",null,{"$f":"('2009'!D49/'2009 Rate'!$AA49)*1000","v":8.8974333855799372},{"$f":"('2009'!E49/'2009 Rate'!$AA49)*1000","v":0.76900470219435735},{"$f":"('2009'!F49/'2009 Rate'!$AA49)*1000","v":8.0647531347962378},{"$f":"('2009'!G49/'2009 Rate'!$AA49)*1000","v":6.3675548589341699E-2},{"$f":"('2009'!H49/'2009 Rate'!$AA49)*1000","v":41.440536833855795},{"$f":"('2009'!I49/'2009 Rate'!$AA49)*1000","v":32.543103448275865},{"$f":"('2009'!J49/'2009 Rate'!$AA49)*1000","v":0.13102468652037619},{"$f":"('2009'!K49/'2009 Rate'!$AA49)*1000","v":14.218015282131661},{"$f":"('2009'!L49/'2009 Rate'!$AA49)*1000","v":14.086990595611285},{"$f":"('2009'!M49/'2009 Rate'!$AA49)*1000","v":0.27307014106583072},{"$f":"('2009'!N49/'2009 Rate'!$AA49)*1000","v":12.234277037617554},{"$f":"('2009'!O49/'2009 Rate'!$AA49)*1000","v":11.961206896551724},{"$f":"('2009'!P49/'2009 Rate'!$AA49)*1000","v":8.4933385579937308},{"$f":"('2009'!Q49/'2009 Rate'!$AA49)*1000","v":14.988244514106583},{"$f":"('2009'!R49/'2009 Rate'!$AA49)*1000","v":6.4949059561128522},null,null,{"$f":"('2009'!U49/'2009 Rate'!$AA49)*1000","v":2.3755877742946705},null,null,null,null,"Lothian",{"$f":"'Population estimates'!G49","v":816640}]
[47,"Orkney",null,{"$f":"('2009'!D50/'2009 Rate'!$AA50)*1000","v":4.2024832855778413},{"$f":"('2009'!E50/'2009 Rate'!$AA50)*1000","v":1.9579751671442214},{"$f":"('2009'!F50/'2009 Rate'!$AA50)*1000","v":1.7191977077363896},{"$f":"('2009'!G50/'2009 Rate'!$AA50)*1000","v":0.52531041069723017},{"$f":"('2009'!H50/'2009 Rate'!$AA50)*1000","v":33.810888252148999},{"$f":"('2009'!I50/'2009 Rate'!$AA50)*1000","v":29.608404966571154},{"$f":"('2009'!J50/'2009 Rate'!$AA50)*1000","v":-3.0085959885386822},{"$f":"('2009'!K50/'2009 Rate'!$AA50)*1000","v":16.809933142311365},{"$f":"('2009'!L50/'2009 Rate'!$AA50)*1000","v":19.818529130850049},{"$f":"('2009'!M50/'2009 Rate'!$AA50)*1000","v":7.9274116523400195},{"$f":"('2009'!N50/'2009 Rate'!$AA50)*1000","v":14.756446991404012},{"$f":"('2009'!O50/'2009 Rate'!$AA50)*1000","v":6.8290353390639922},{"$f":"('2009'!P50/'2009 Rate'!$AA50)*1000","v":-0.71633237822349571},{"$f":"('2009'!Q50/'2009 Rate'!$AA50)*1000","v":2.24450811843362},{"$f":"('2009'!R50/'2009 Rate'!$AA50)*1000","v":2.9608404966571156},null,null,{"$f":"('2009'!U50/'2009 Rate'!$AA50)*1000","v":0.33428844317096468},null,null,null,null,"Orkney",{"$f":"'Population estimates'!G50","v":20940}]
[48,"Shetland",null,{"$f":"('2009'!D51/'2009 Rate'!$AA51)*1000","v":8.9074155331285656},{"$f":"('2009'!E51/'2009 Rate'!$AA51)*1000","v":1.9745502413339184},{"$f":"('2009'!F51/'2009 Rate'!$AA51)*1000","v":5.9236507240017549},{"$f":"('2009'!G51/'2009 Rate'!$AA51)*1000","v":1.0092145677928914},{"$f":"('2009'!H51/'2009 Rate'!$AA51)*1000","v":35.585783238262401},{"$f":"('2009'!I51/'2009 Rate'!$AA51)*1000","v":26.67836770513383},{"$f":"('2009'!J51/'2009 Rate'!$AA51)*1000","v":0.39491004826678366},{"$f":"('2009'!K51/'2009 Rate'!$AA51)*1000","v":16.849495392716104},{"$f":"('2009'!L51/'2009 Rate'!$AA51)*1000","v":16.45458534444932},{"$f":"('2009'!M51/'2009 Rate'!$AA51)*1000","v":5.0899517332163233},{"$f":"('2009'!N51/'2009 Rate'!$AA51)*1000","v":12.242211496270293},{"$f":"('2009'!O51/'2009 Rate'!$AA51)*1000","v":7.152259763053971},{"$f":"('2009'!P51/'2009 Rate'!$AA51)*1000","v":3.4225537516454585},{"$f":"('2009'!Q51/'2009 Rate'!$AA51)*1000","v":6.4940763492759981},{"$f":"('2009'!R51/'2009 Rate'!$AA51)*1000","v":3.07152259763054},null,null,{"$f":"('2009'!U51/'2009 Rate'!$AA51)*1000","v":0.96533567354102678},null,null,null,null,"Shetland",{"$f":"'Population estimates'!G51","v":22790}]
[49,"Tayside",null,{"$f":"('2009'!D52/'2009 Rate'!$AA52)*1000","v":7.0946363658844191},{"$f":"('2009'!E52/'2009 Rate'!$AA52)*1000","v":1.1053685798362967},{"$f":"('2009'!F52/'2009 Rate'!$AA52)*1000","v":5.9843220653329707},{"$f":"('2009'!G52/'2009 Rate'!$AA52)*1000","v":4.9457207151512158E-3},{"$f":"('2009'!H52/'2009 Rate'!$AA52)*1000","v":35.552313360864517},{"$f":"('2009'!I52/'2009 Rate'!$AA52)*1000","v":28.457676994980094},{"$f":"('2009'!J52/'2009 Rate'!$AA52)*1000","v":0.6033779272484483},{"$f":"('2009'!K52/'2009 Rate'!$AA52)*1000","v":16.038972279235391},{"$f":"('2009'!L52/'2009 Rate'!$AA52)*1000","v":15.435594351986943},{"$f":"('2009'!M52/'2009 Rate'!$AA52)*1000","v":0.68250945869086777},{"$f":"('2009'!N52/'2009 Rate'!$AA52)*1000","v":8.2791364771631351},{"$f":"('2009'!O52/'2009 Rate'!$AA52)*1000","v":7.5966270184722671},{"$f":"('2009'!P52/'2009 Rate'!$AA52)*1000","v":5.8087489799451024},{"$f":"('2009'!Q52/'2009 Rate'!$AA52)*1000","v":11.234204604465985},{"$f":"('2009'!R52/'2009 Rate'!$AA52)*1000","v":5.4254556245208834},null,null,{"$f":"('2009'!U52/'2009 Rate'!$AA52)*1000","v":1.493607655975667},null,null,null,null,"Tayside",{"$f":"'Population estimates'!G52","v":404390}]
[50,"Western Isles",null,{"$f":"('2009'!D53/'2009 Rate'!$AA53)*1000","v":2.5893508388037927},{"$f":"('2009'!E53/'2009 Rate'!$AA53)*1000","v":1.7505470459518599},{"$f":"('2009'!F53/'2009 Rate'!$AA53)*1000","v":7.2939460247994164E-2},{"$f":"('2009'!G53/'2009 Rate'!$AA53)*1000","v":0.76586433260393871},{"$f":"('2009'!H53/'2009 Rate'!$AA53)*1000","v":35.229759299781179},{"$f":"('2009'!I53/'2009 Rate'!$AA53)*1000","v":32.64040846097739},{"$f":"('2009'!J53/'2009 Rate'!$AA53)*1000","v":-1.1305616338439097},{"$f":"('2009'!K53/'2009 Rate'!$AA53)*1000","v":21.808898614150255},{"$f":"('2009'!L53/'2009 Rate'!$AA53)*1000","v":22.939460247994166},{"$f":"('2009'!M53/'2009 Rate'!$AA53)*1000","v":4.1940189642596639},{"$f":"('2009'!N53/'2009 Rate'!$AA53)*1000","v":10.649161196207148},{"$f":"('2009'!O53/'2009 Rate'!$AA53)*1000","v":6.4551422319474838},{"$f":"('2009'!P53/'2009 Rate'!$AA53)*1000","v":-0.47410649161196211},{"$f":"('2009'!Q53/'2009 Rate'!$AA53)*1000","v":2.7716994894237783},{"$f":"('2009'!R53/'2009 Rate'!$AA53)*1000","v":3.2458059810357405},null,null,{"$f":"('2009'!U53/'2009 Rate'!$AA53)*1000","v":0.80233406272793584},null,null,null,null,"Western Isles",{"$f":"'Population estimates'!G53","v":27420}]

{"sheet":"2010","index":47,"n_rows":53,"n_cols":25,"rows_kept":53,"cut":false,"hidden":true,"merged":[]}
[null,2010]
[null,null,"Not specified ",{"$f":"'Comparing Indicators'!$U8","v":"Total net migration"},{"$f":"'Comparing Indicators'!$U9","v":"Total net migration for ages 0-15"},{"$f":"'Comparing Indicators'!$U10","v":"Total net migration for ages 16-64"},{"$f":"'Comparing Indicators'!$U11","v":"Total net migration for people aged 65+"},{"$f":"'Comparing Indicators'!$U12","v":"Total in-migration"},{"$f":"'Comparing Indicators'!$U13","v":"Total out-migration"},{"$f":"'Comparing Indicators'!$U14","v":"Within Scotland net migration"},{"$f":"'Comparing Indicators'!$U15","v":"Within Scotland in-migration"},{"$f":"'Comparing Indicators'!$U16","v":"Within Scotland out-migration"},{"$f":"'Comparing Indicators'!$U17","v":"Rest of UK net migration"},{"$f":"'Comparing Indicators'!$U18","v":"Rest of UK in-migration"},{"$f":"'Comparing Indicators'!$U19","v":"Rest of UK out-migration"},{"$f":"'Comparing Indicators'!$U20","v":"Overseas net migration"},{"$f":"'Comparing Indicators'!$U21","v":"Overseas in-migration"},{"$f":"'Comparing Indicators'!$U22","v":"Overseas out-migration"},{"$f":"'Comparing Indicators'!$U23","v":"Worker Registration Scheme"},{"$f":"'Comparing Indicators'!$U24","v":"NINo Allocation"},{"$f":"'Comparing Indicators'!$U25","v":"Births to non-UK mothers"},{"$f":"'Comparing Indicators'!$U26","v":"Pupils from a minority ethnic group"},{"$f":"'Comparing Indicators'!$U27","v":"Pupils with English as an additional language"},{"$f":"'Comparing Indicators'!$U28","v":"Estimate of resident population born outside the UK"},"NHS registrations from overseas"]
[1,"Not specified"]
[2,"SCOTLAND",null,{"$f":"'Total net migration'!H4","v":26075},{"$f":"'Total net migration 0-15'!H4","v":2883},{"$f":"'Total net migration 16-64'!H4","v":22931},{"$f":"'Total net migration 65+'!H4","v":261},{"$f":"'Total in-migration'!H4","v":92407},{"$f":"'Total out-migration'!H4","v":66332},null,null,null,{"$f":"'Rest of UK net migration'!H4","v":3275},{"$f":"'Rest of UK in-migration'!H4","v":45007},{"$f":"'Rest of UK out-migration'!H4","v":41732},{"$f":"'Overseas net migration'!H4","v":22800},{"$f":"'Overseas in-migration'!H4","v":47400},{"$f":"'Overseas out-migration'!H4","v":24600},{"$f":"WRS!H5","v":8880},{"$f":"NINo!H5","v":39420},{"$f":"'Non-UK Births'!H5","v":8176},{"$f":"'Pupils ethnic group'!I5","v":34639},{"$f":"'Pupils with English as an add.'!F4","v":22740},{"$f":"'Pop born outside UK'!H5","v":326000},{"$f":"'NHS Overseas'!$H$5","v":53063}]
[3,"Aberdeen City",null,{"$f":"'Total net migration'!H5","v":2754},{"$f":"'Total net migration 0-15'!H5","v":162},{"$f":"'Total net migration 16-64'!H5","v":2709},{"$f":"'Total net migration 65+'!H5","v":-117},{"$f":"'Total in-migration'!H5","v":13971},{"$f":"'Total out-migration'!H5","v":11217},{"$f":"'Within Scotland net migration'!H5","v":-1307},{"$f":"'Within Scotland in-migration'!H5","v":5518},{"$f":"'Within Scotland out-migration'!H5","v":6825},{"$f":"'Rest of UK net migration'!H5","v":319},{"$f":"'Rest of UK in-migration'!H5","v":2602},{"$f":"'Rest of UK out-migration'!H5","v":2283},{"$f":"'Overseas net migration'!H5","v":3742},{"$f":"'Overseas in-migration'!H5","v":5851},{"$f":"'Overseas out-migration'!H5","v":2109},{"$f":"WRS!H6","v":735},{"$f":"NINo!H6","v":4230},{"$f":"'Non-UK Births'!H6","v":840},{"$f":"'Pupils ethnic group'!I6","v":1920},{"$f":"'Pupils with English as an add.'!F5","v":1675},{"$f":"'Pop born outside UK'!H6","v":30000}]
[4,"Aberdeenshire",null,{"$f":"'Total net migration'!H6","v":1693},{"$f":"'Total net migration 0-15'!H6","v":496},{"$f":"'Total net migration 16-64'!H6","v":1193},{"$f":"'Total net migration 65+'!H6","v":4},{"$f":"'Total in-migration'!H6","v":8980},{"$f":"'Total out-migration'!H6","v":7287},{"$f":"'Within Scotland net migration'!H6","v":1077},{"$f":"'Within Scotland in-migration'!H6","v":5785},{"$f":"'Within Scotland out-migration'!H6","v":4708},{"$f":"'Rest of UK net migration'!H6","v":-103},{"$f":"'Rest of UK in-migration'!H6","v":1637},{"$f":"'Rest of UK out-migration'!H6","v":1740},{"$f":"'Overseas net migration'!H6","v":719},{"$f":"'Overseas in-migration'!H6","v":1558},{"$f":"'Overseas out-migration'!H6","v":839},{"$f":"WRS!H7","v":880},{"$f":"NINo!H7","v":1620},{"$f":"'Non-UK Births'!H7","v":359},{"$f":"'Pupils ethnic group'!I7","v":735},{"$f":"'Pupils with English as an add.'!F6","v":829},{"$f":"'Pop born outside UK'!H7","v":13000}]
[5,"Angus",null,{"$f":"'Total net migration'!H7","v":355},{"$f":"'Total net migration 0-15'!H7","v":165},{"$f":"'Total net migration 16-64'!H7","v":174},{"$f":"'Total net migration 65+'!H7","v":16},{"$f":"'Total in-migration'!H7","v":3664},{"$f":"'Total out-migration'!H7","v":3309},{"$f":"'Within Scotland net migration'!H7","v":117},{"$f":"'Within Scotland in-migration'!H7","v":2486},{"$f":"'Within Scotland out-migration'!H7","v":2369},{"$f":"'Rest of UK net migration'!H7","v":23},{"$f":"'Rest of UK in-migration'!H7","v":624},{"$f":"'Rest of UK out-migration'!H7","v":601},{"$f":"'Overseas net migration'!H7","v":215},{"$f":"'Overseas in-migration'!H7","v":554},{"$f":"'Overseas out-migration'!H7","v":339},{"$f":"WRS!H8","v":425},{"$f":"NINo!H8","v":1570},{"$f":"'Non-UK Births'!H8","v":101},{"$f":"'Pupils ethnic group'!I8","v":411},{"$f":"'Pupils with English as an add.'!F7","v":261},{"$f":"'Pop born outside UK'!H8","v":"*"}]
[6,"Argyll & Bute",null,{"$f":"'Total net migration'!H8","v":291},{"$f":"'Total net migration 0-15'!H8","v":110},{"$f":"'Total net migration 16-64'!H8","v":224},{"$f":"'Total net migration 65+'!H8","v":-43},{"$f":"'Total in-migration'!H8","v":3949},{"$f":"'Total out-migration'!H8","v":3658},{"$f":"'Within Scotland net migration'!H8","v":-147},{"$f":"'Within Scotland in-migration'!H8","v":2144},{"$f":"'Within Scotland out-migration'!H8","v":2291},{"$f":"'Rest of UK net migration'!H8","v":352},{"$f":"'Rest of UK in-migration'!H8","v":1330},{"$f":"'Rest of UK out-migration'!H8","v":978},{"$f":"'Overseas net migration'!H8","v":86},{"$f":"'Overseas in-migration'!H8","v":475},{"$f":"'Overseas out-migration'!H8","v":389},{"$f":"WRS!H9","v":215},{"$f":"NINo!H9","v":520},{"$f":"'Non-UK Births'!H9","v":73},{"$f":"'Pupils ethnic group'!I9","v":209},{"$f":"'Pupils with English as an add.'!F8","v":110},{"$f":"'Pop born outside UK'!H9","v":4000}]
[7,"Clackmannanshire",null,{"$f":"'Total net migration'!H9","v":-75},{"$f":"'Total net migration 0-15'!H9","v":10},{"$f":"'Total net migration 16-64'!H9","v":-76},{"$f":"'Total net migration 65+'!H9","v":-9},{"$f":"'Total in-migration'!H9","v":1583},{"$f":"'Total out-migration'!H9","v":1658},{"$f":"'Within Scotland net migration'!H9","v":-105},{"$f":"'Within Scotland in-migration'!H9","v":1120},{"$f":"'Within Scotland out-migration'!H9","v":1225},{"$f":"'Rest of UK net migration'!H9","v":29},{"$f":"'Rest of UK in-migration'!H9","v":313},{"$f":"'Rest of UK out-migration'!H9","v":284},{"$f":"'Overseas net migration'!H9","v":1},{"$f":"'Overseas in-migration'!H9","v":150},{"$f":"'Overseas out-migration'!H9","v":149},{"$f":"WRS!H10","v":15},{"$f":"NINo!H10","v":100},{"$f":"'Non-UK Births'!H10","v":48},{"$f":"'Pupils ethnic group'!I10","v":207},{"$f":"'Pupils with English as an add.'!F9","v":109},{"$f":"'Pop born outside UK'!H10","v":"*"}]
[8,"Dumfries & Galloway",null,{"$f":"'Total net migration'!H10","v":119},{"$f":"'Total net migration 0-15'!H10","v":4},{"$f":"'Total net migration 16-64'!H10","v":91},{"$f":"'Total net migration 65+'!H10","v":24},{"$f":"'Total in-migration'!H10","v":3945},{"$f":"'Total out-migration'!H10","v":3826},{"$f":"'Within Scotland net migration'!H10","v":-101},{"$f":"'Within Scotland in-migration'!H10","v":1621},{"$f":"'Within Scotland out-migration'!H10","v":1722},{"$f":"'Rest of UK net migration'!H10","v":382},{"$f":"'Rest of UK in-migration'!H10","v":1949},{"$f":"'Rest of UK out-migration'!H10","v":1567},{"$f":"'Overseas net migration'!H10","v":-162},{"$f":"'Overseas in-migration'!H10","v":375},{"$f":"'Overseas out-migration'!H10","v":537},{"$f":"WRS!H11","v":110},{"$f":"NINo!H11","v":310},{"$f":"'Non-UK Births'!H11","v":85},{"$f":"'Pupils ethnic group'!I11","v":497},{"$f":"'Pupils with English as an add.'!F10","v":243},{"$f":"'Pop born outside UK'!H11","v":"*"}]
[9,"Dundee City",null,{"$f":"'Total net migration'!H11","v":981},{"$f":"'Total net migration 0-15'!H11","v":-111},{"$f":"'Total net migration 16-64'!H11","v":1133},{"$f":"'Total net migration 65+'!H11","v":-41},{"$f":"'Total in-migration'!H11","v":7131},{"$f":"'Total out-migration'!H11","v":6150},{"$f":"'Within Scotland net migration'!H11","v":-277},{"$f":"'Within Scotland in-migration'!H11","v":3509},{"$f":"'Within Scotland out-migration'!H11","v":3786},{"$f":"'Rest of UK net migration'!H11","v":0},{"$f":"'Rest of UK in-migration'!H11","v":1426},{"$f":"'Rest of UK out-migration'!H11","v":1426},{"$f":"'Overseas net migration'!H11","v":1258},{"$f":"'Overseas in-migration'!H11","v":2196},{"$f":"'Overseas out-migration'!H11","v":938},{"$f":"WRS!H12","v":280},{"$f":"NINo!H12","v":1540},{"$f":"'Non-UK Births'!H12","v":290},{"$f":"'Pupils ethnic group'!I12","v":1266},{"$f":"'Pupils with English as an add.'!F11","v":765},{"$f":"'Pop born outside UK'!H12","v":12000}]
[10,"East Ayrshire",null,{"$f":"'Total net migration'!H12","v":30},{"$f":"'Total net migration 0-15'!H12","v":33},{"$f":"'Total net migration 16-64'!H12","v":-17},{"$f":"'Total net migration 65+'!H12","v":14},{"$f":"'Total in-migration'!H12","v":3078},{"$f":"'Total out-migration'!H12","v":3048},{"$f":"'Within Scotland net migration'!H12","v":73},{"$f":"'Within Scotland in-migration'!H12","v":2267},{"$f":"'Within Scotland out-migration'!H12","v":2194},{"$f":"'Rest of UK net migration'!H12","v":54},{"$f":"'Rest of UK in-migration'!H12","v":661},{"$f":"'Rest of UK out-migration'!H12","v":607},{"$f":"'Overseas net migration'!H12","v":-97},{"$f":"'Overseas in-migration'!H12","v":150},{"$f":"'Overseas out-migration'!H12","v":247},{"$f":"WRS!H13","v":30},{"$f":"NINo!H13","v":90},{"$f":"'Non-UK Births'!H13","v":61},{"$f":"'Pupils ethnic group'!I13","v":296},{"$f":"'Pupils with English as an add.'!F12","v":88},{"$f":"'Pop born outside UK'!H13","v":"*"}]
[11,"East Dunbartonshire",null,{"$f":"'Total net migration'!H13","v":-71},{"$f":"'Total net migration 0-15'!H13","v":270},{"$f":"'Total net migration 16-64'!H13","v":-294},{"$f":"'Total net migration 65+'!H13","v":-47},{"$f":"'Total in-migration'!H13","v":3072},{"$f":"'Total out-migration'!H13","v":3143},{"$f":"'Within Scotland net migration'!H13","v":163},{"$f":"'Within Scotland in-migration'!H13","v":2527},{"$f":"'Within Scotland out-migration'!H13","v":2364},{"$f":"'Rest of UK net migration'!H13","v":-165},{"$f":"'Rest of UK in-migration'!H13","v":391},{"$f":"'Rest of UK out-migration'!H13","v":556},{"$f":"'Overseas net migration'!H13","v":-69},{"$f":"'Overseas in-migration'!H13","v":154},{"$f":"'Overseas out-migration'!H13","v":223},{"$f":"WRS!H14","v":25},{"$f":"NINo!H14","v":150},{"$f":"'Non-UK Births'!H14","v":75},{"$f":"'Pupils ethnic group'!I14","v":1015},{"$f":"'Pupils with English as an add.'!F13","v":295},{"$f":"'Pop born outside UK'!H14","v":4000}]
[12,"East Lothian",null,{"$f":"'Total net migration'!H14","v":595},{"$f":"'Total net migration 0-15'!H14","v":131},{"$f":"'Total net migration 16-64'!H14","v":397},{"$f":"'Total net migration 65+'!H14","v":67},{"$f":"'Total in-migration'!H14","v":3722},{"$f":"'Total out-migration'!H14","v":3127},{"$f":"'Within Scotland net migration'!H14","v":352},{"$f":"'Within Scotland in-migration'!H14","v":2571},{"$f":"'Within Scotland out-migration'!H14","v":2219},{"$f":"'Rest of UK net migration'!H14","v":98},{"$f":"'Rest of UK in-migration'!H14","v":725},{"$f":"'Rest of UK out-migration'!H14","v":627},{"$f":"'Overseas net migration'!H14","v":145},{"$f":"'Overseas in-migration'!H14","v":426},{"$f":"'Overseas out-migration'!H14","v":281},{"$f":"WRS!H15","v":65},{"$f":"NINo!H15","v":400},{"$f":"'Non-UK Births'!H15","v":112},{"$f":"'Pupils ethnic group'!I15","v":306},{"$f":"'Pupils with English as an add.'!F14","v":156},{"$f":"'Pop born outside UK'!H15","v":5000}]
[13,"East Renfrewshire",null,{"$f":"'Total net migration'!H15","v":369},{"$f":"'Total net migration 0-15'!H15","v":325},{"$f":"'Total net migration 16-64'!H15","v":11},{"$f":"'Total net migration 65+'!H15","v":33},{"$f":"'Total in-migration'!H15","v":3100},{"$f":"'Total out-migration'!H15","v":2731},{"$f":"'Within Scotland net migration'!H15","v":382},{"$f":"'Within Scotland in-migration'!H15","v":2539},{"$f":"'Within Scotland out-migration'!H15","v":2157},{"$f":"'Rest of UK net migration'!H15","v":-51},{"$f":"'Rest of UK in-migration'!H15","v":368},{"$f":"'Rest of UK out-migration'!H15","v":419},{"$f":"'Overseas net migration'!H15","v":38},{"$f":"'Overseas in-migration'!H15","v":193},{"$f":"'Overseas out-migration'!H15","v":155},{"$f":"WRS!H16","v":20},{"$f":"NINo!H16","v":110},{"$f":"'Non-UK Births'!H16","v":84},{"$f":"'Pupils ethnic group'!I16","v":1990},{"$f":"'Pupils with English as an add.'!F15","v":759},{"$f":"'Pop born outside UK'!H16","v":5000}]
[14,"Edinburgh, City of",null,{"$f":"'Total net migration'!H16","v":8069},{"$f":"'Total net migration 0-15'!H16","v":200},{"$f":"'Total net migration 16-64'!H16","v":7905},{"$f":"'Total net migration 65+'!H16","v":-36},{"$f":"'Total in-migration'!H16","v":31281},{"$f":"'Total out-migration'!H16","v":23212},{"$f":"'Within Scotland net migration'!H16","v":-364},{"$f":"'Within Scotland in-migration'!H16","v":10794},{"$f":"'Within Scotland out-migration'!H16","v":11158},{"$f":"'Rest of UK net migration'!H16","v":1132},{"$f":"'Rest of UK in-migration'!H16","v":8650},{"$f":"'Rest of UK out-migration'!H16","v":7518},{"$f":"'Overseas net migration'!H16","v":7301},{"$f":"'Overseas in-migration'!H16","v":11837},{"$f":"'Overseas out-migration'!H16","v":4536},{"$f":"WRS!H17","v":1275},{"$f":"NINo!H17","v":9820},{"$f":"'Non-UK Births'!H17","v":1527},{"$f":"'Pupils ethnic group'!I17","v":5051},{"$f":"'Pupils with English as an add.'!F16","v":3258},{"$f":"'Pop born outside UK'!H17","v":66000}]
[15,"Eilean Siar",null,{"$f":"'Total net migration'!H17","v":169},{"$f":"'Total net migration 0-15'!H17","v":45},{"$f":"'Total net migration 16-64'!H17","v":86},{"$f":"'Total net migration 65+'!H17","v":38},{"$f":"'Total in-migration'!H17","v":974},{"$f":"'Total out-migration'!H17","v":805},{"$f":"'Within Scotland net migration'!H17","v":27},{"$f":"'Within Scotland in-migration'!H17","v":601},{"$f":"'Within Scotland out-migration'!H17","v":574},{"$f":"'Rest of UK net migration'!H17","v":147},{"$f":"'Rest of UK in-migration'!H17","v":304},{"$f":"'Rest of UK out-migration'!H17","v":157},{"$f":"'Overseas net migration'!H17","v":-5},{"$f":"'Overseas in-migration'!H17","v":69},{"$f":"'Overseas out-migration'!H17","v":74},{"$f":"WRS!H18","v":10},{"$f":"NINo!H18","v":40},{"$f":"'Non-UK Births'!H18","v":10},{"$f":"'Pupils ethnic group'!I18","v":46},{"$f":"'Pupils with English as an add.'!F17","v":18},{"$f":"'Pop born outside UK'!H18","v":"*"}]
[16,"Falkirk",null,{"$f":"'Total net migration'!H18","v":458},{"$f":"'Total net migration 0-15'!H18","v":50},{"$f":"'Total net migration 16-64'!H18","v":315},{"$f":"'Total net migration 65+'!H18","v":93},{"$f":"'Total in-migration'!H18","v":3564},{"$f":"'Total out-migration'!H18","v":3106},{"$f":"'Within Scotland net migration'!H18","v":282},{"$f":"'Within Scotland in-migration'!H18","v":2502},{"$f":"'Within Scotland out-migration'!H18","v":2220},{"$f":"'Rest of UK net migration'!H18","v":18},{"$f":"'Rest of UK in-migration'!H18","v":606},{"$f":"'Rest of UK out-migration'!H18","v":588},{"$f":"'Overseas net migration'!H18","v":158},{"$f":"'Overseas in-migration'!H18","v":456},{"$f":"'Overseas out-migration'!H18","v":298},{"$f":"WRS!H19","v":125},{"$f":"NINo!H19","v":340},{"$f":"'Non-UK Births'!H19","v":123},{"$f":"'Pupils ethnic group'!I19","v":637},{"$f":"'Pupils with English as an add.'!F18","v":416},{"$f":"'Pop born outside UK'!H19","v":"*"}]
[17,"Fife",null,{"$f":"'Total net migration'!H19","v":1806},{"$f":"'Total net migration 0-15'!H19","v":256},{"$f":"'Total net migration 16-64'!H19","v":1453},{"$f":"'Total net migration 65+'!H19","v":97},{"$f":"'Total in-migration'!H19","v":11337},{"$f":"'Total out-migration'!H19","v":9531},{"$f":"'Within Scotland net migration'!H19","v":531},{"$f":"'Within Scotland in-migration'!H19","v":5753},{"$f":"'Within Scotland out-migration'!H19","v":5222},{"$f":"'Rest of UK net migration'!H19","v":24},{"$f":"'Rest of UK in-migration'!H19","v":2906},{"$f":"'Rest of UK out-migration'!H19","v":2882},{"$f":"'Overseas net migration'!H19","v":1251},{"$f":"'Overseas in-migration'!H19","v":2678},{"$f":"'Overseas out-migration'!H19","v":1427},{"$f":"WRS!H20","v":485},{"$f":"NINo!H20","v":1810},{"$f":"'Non-UK Births'!H20","v":406},{"$f":"'Pupils ethnic group'!I20","v":1553},{"$f":"'Pupils with English as an add.'!F19","v":505},{"$f":"'Pop born outside UK'!H20","v":21000}]
[18,"Glasgow City",null,{"$f":"'Total net migration'!H20","v":3050},{"$f":"'Total net migration 0-15'!H20","v":-871},{"$f":"'Total net migration 16-64'!H20","v":4271},{"$f":"'Total net migration 65+'!H20","v":-350},{"$f":"'Total in-migration'!H20","v":29101},{"$f":"'Total out-migration'!H20","v":26051},{"$f":"'Within Scotland net migration'!H20","v":-1862},{"$f":"'Within Scotland in-migration'!H20","v":13338},{"$f":"'Within Scotland out-migration'!H20","v":15200},{"$f":"'Rest of UK net migration'!H20","v":-471},{"$f":"'Rest of UK in-migration'!H20","v":5598},{"$f":"'Rest of UK out-migration'!H20","v":6069},{"$f":"'Overseas net migration'!H20","v":5383},{"$f":"'Overseas in-migration'!H20","v":10165},{"$f":"'Overseas out-migration'!H20","v":4782},{"$f":"WRS!H21","v":925},{"$f":"NINo!H21","v":7940},{"$f":"'Non-UK Births'!H21","v":1922},{"$f":"'Pupils ethnic group'!I21","v":10104},{"$f":"'Pupils with English as an add.'!F20","v":8914},{"$f":"'Pop born outside UK'!H21","v":65000}]
[19,"Highland",null,{"$f":"'Total net migration'!H21","v":990},{"$f":"'Total net migration 0-15'!H21","v":242},{"$f":"'Total net migration 16-64'!H21","v":736},{"$f":"'Total net migration 65+'!H21","v":12},{"$f":"'Total in-migration'!H21","v":7859},{"$f":"'Total out-migration'!H21","v":6869},{"$f":"'Within Scotland net migration'!H21","v":-73},{"$f":"'Within Scotland in-migration'!H21","v":3911},{"$f":"'Within Scotland out-migration'!H21","v":3984},{"$f":"'Rest of UK net migration'!H21","v":705},{"$f":"'Rest of UK in-migration'!H21","v":2639},{"$f":"'Rest of UK out-migration'!H21","v":1934},{"$f":"'Overseas net migration'!H21","v":358},{"$f":"'Overseas in-migration'!H21","v":1309},{"$f":"'Overseas out-migration'!H21","v":951},{"$f":"WRS!H22","v":605},{"$f":"NINo!H22","v":1310},{"$f":"'Non-UK Births'!H22","v":312},{"$f":"'Pupils ethnic group'!I22","v":646},{"$f":"'Pupils with English as an add.'!F21","v":570},{"$f":"'Pop born outside UK'!H22","v":8000}]
[20,"Inverclyde",null,{"$f":"'Total net migration'!H22","v":-226},{"$f":"'Total net migration 0-15'!H22","v":-16},{"$f":"'Total net migration 16-64'!H22","v":-220},{"$f":"'Total net migration 65+'!H22","v":10},{"$f":"'Total in-migration'!H22","v":1398},{"$f":"'Total out-migration'!H22","v":1624},{"$f":"'Within Scotland net migration'!H22","v":-165},{"$f":"'Within Scotland in-migration'!H22","v":896},{"$f":"'Within Scotland out-migration'!H22","v":1061},{"$f":"'Rest of UK net migration'!H22","v":-86},{"$f":"'Rest of UK in-migration'!H22","v":302},{"$f":"'Rest of UK out-migration'!H22","v":388},{"$f":"'Overseas net migration'!H22","v":25},{"$f":"'Overseas in-migration'!H22","v":200},{"$f":"'Overseas out-migration'!H22","v":175},{"$f":"WRS!H23","v":5},{"$f":"NINo!H23","v":160},{"$f":"'Non-UK Births'!H23","v":33},{"$f":"'Pupils ethnic group'!I23","v":182},{"$f":"'Pupils with English as an add.'!F22","v":54},{"$f":"'Pop born outside UK'!H23","v":"*"}]
[21,"Midlothian",null,{"$f":"'Total net migration'!H23","v":237},{"$f":"'Total net migration 0-15'!H23","v":62},{"$f":"'Total net migration 16-64'!H23","v":133},{"$f":"'Total net migration 65+'!H23","v":42},{"$f":"'Total in-migration'!H23","v":2633},{"$f":"'Total out-migration'!H23","v":2396},{"$f":"'Within Scotland net migration'!H23","v":253},{"$f":"'Within Scotland in-migration'!H23","v":2022},{"$f":"'Within Scotland out-migration'!H23","v":1769},{"$f":"'Rest of UK net migration'!H23","v":-56},{"$f":"'Rest of UK in-migration'!H23","v":404},{"$f":"'Rest of UK out-migration'!H23","v":460},{"$f":"'Overseas net migration'!H23","v":40},{"$f":"'Overseas in-migration'!H23","v":207},{"$f":"'Overseas out-migration'!H23","v":167},{"$f":"WRS!H24","v":50},{"$f":"NINo!H24","v":200},{"$f":"'Non-UK Births'!H24","v":71},{"$f":"'Pupils ethnic group'!I24","v":309},{"$f":"'Pupils with English as an add.'!F23","v":129},{"$f":"'Pop born outside UK'!H24","v":"*"}]
[22,"Moray",null,{"$f":"'Total net migration'!H24","v":-9},{"$f":"'Total net migration 0-15'!H24","v":-4},{"$f":"'Total net migration 16-64'!H24","v":-51},{"$f":"'Total net migration 65+'!H24","v":46},{"$f":"'Total in-migration'!H24","v":3081},{"$f":"'Total out-migration'!H24","v":3090},{"$f":"'Within Scotland net migration'!H24","v":-100},{"$f":"'Within Scotland in-migration'!H24","v":1551},{"$f":"'Within Scotland out-migration'!H24","v":1651},{"$f":"'Rest of UK net migration'!H24","v":41},{"$f":"'Rest of UK in-migration'!H24","v":1079},{"$f":"'Rest of UK out-migration'!H24","v":1038},{"$f":"'Overseas net migration'!H24","v":50},{"$f":"'Overseas in-migration'!H24","v":451},{"$f":"'Overseas out-migration'!H24","v":401},{"$f":"WRS!H25","v":90},{"$f":"NINo!H25","v":270},{"$f":"'Non-UK Births'!H25","v":87},{"$f":"'Pupils ethnic group'!I25","v":268},{"$f":"'Pupils with English as an add.'!F24","v":240},{"$f":"'Pop born outside UK'!H25","v":5000}]
[23,"North Ayrshire",null,{"$f":"'Total net migration'!H25","v":-165},{"$f":"'Total net migration 0-15'!H25","v":1},{"$f":"'Total net migration 16-64'!H25","v":-218},{"$f":"'Total net migration 65+'!H25","v":52},{"$f":"'Total in-migration'!H25","v":3479},{"$f":"'Total out-migration'!H25","v":3644},{"$f":"'Within Scotland net migration'!H25","v":-154},{"$f":"'Within Scotland in-migration'!H25","v":2430},{"$f":"'Within Scotland out-migration'!H25","v":2584},{"$f":"'Rest of UK net migration'!H25","v":80},{"$f":"'Rest of UK in-migration'!H25","v":814},{"$f":"'Rest of UK out-migration'!H25","v":734},{"$f":"'Overseas net migration'!H25","v":-91},{"$f":"'Overseas in-migration'!H25","v":235},{"$f":"'Overseas out-migration'!H25","v":326},{"$f":"WRS!H26","v":35},{"$f":"NINo!H26","v":170},{"$f":"'Non-UK Births'!H26","v":60},{"$f":"'Pupils ethnic group'!I26","v":277},{"$f":"'Pupils with English as an add.'!F25","v":77},{"$f":"'Pop born outside UK'!H26","v":"*"}]
[24,"North Lanarkshire",null,{"$f":"'Total net migration'!H26","v":-422},{"$f":"'Total net migration 0-15'!H26","v":-46},{"$f":"'Total net migration 16-64'!H26","v":-358},{"$f":"'Total net migration 65+'!H26","v":-18},{"$f":"'Total in-migration'!H26","v":6225},{"$f":"'Total out-migration'!H26","v":6647},{"$f":"'Within Scotland net migration'!H26","v":-247},{"$f":"'Within Scotland in-migration'!H26","v":4438},{"$f":"'Within Scotland out-migration'!H26","v":4685},{"$f":"'Rest of UK net migration'!H26","v":-152},{"$f":"'Rest of UK in-migration'!H26","v":1006},{"$f":"'Rest of UK out-migration'!H26","v":1158},{"$f":"'Overseas net migration'!H26","v":-23},{"$f":"'Overseas in-migration'!H26","v":781},{"$f":"'Overseas out-migration'!H26","v":804},{"$f":"WRS!H27","v":245},{"$f":"NINo!H27","v":540},{"$f":"'Non-UK Births'!H27","v":277},{"$f":"'Pupils ethnic group'!I27","v":1564},{"$f":"'Pupils with English as an add.'!F26","v":851},{"$f":"'Pop born outside UK'!H27","v":"*"}]
[25,"Orkney Islands",null,{"$f":"'Total net migration'!H27","v":163},{"$f":"'Total net migration 0-15'!H27","v":37},{"$f":"'Total net migration 16-64'!H27","v":98},{"$f":"'Total net migration 65+'!H27","v":28},{"$f":"'Total in-migration'!H27","v":805},{"$f":"'Total out-migration'!H27","v":642},{"$f":"'Within Scotland net migration'!H27","v":15},{"$f":"'Within Scotland in-migration'!H27","v":430},{"$f":"'Within Scotland out-migration'!H27","v":415},{"$f":"'Rest of UK net migration'!H27","v":145},{"$f":"'Rest of UK in-migration'!H27","v":312},{"$f":"'Rest of UK out-migration'!H27","v":167},{"$f":"'Overseas net migration'!H27","v":3},{"$f":"'Overseas in-migration'!H27","v":63},{"$f":"'Overseas out-migration'!H27","v":60},{"$f":"WRS!H28","v":15},{"$f":"NINo!H28","v":50},{"$f":"'Non-UK Births'!H28","v":14},{"$f":"'Pupils ethnic group'!I28","v":49},{"$f":"'Pupils with English as an add.'!F27","v":15},{"$f":"'Pop born outside UK'!H28","v":"*"}]
[26,"Perth & Kinross",null,{"$f":"'Total net migration'!H28","v":1861},{"$f":"'Total net migration 0-15'!H28","v":417},{"$f":"'Total net migration 16-64'!H28","v":1363},{"$f":"'Total net migration 65+'!H28","v":81},{"$f":"'Total in-migration'!H28","v":6980},{"$f":"'Total out-migration'!H28","v":5119},{"$f":"'Within Scotland net migration'!H28","v":457},{"$f":"'Within Scotland in-migration'!H28","v":3471},{"$f":"'Within Scotland out-migration'!H28","v":3014},{"$f":"'Rest of UK net migration'!H28","v":237},{"$f":"'Rest of UK in-migration'!H28","v":1379},{"$f":"'Rest of UK out-migration'!H28","v":1142},{"$f":"'Overseas net migration'!H28","v":1167},{"$f":"'Overseas in-migration'!H28","v":2130},{"$f":"'Overseas out-migration'!H28","v":963},{"$f":"WRS!H29","v":1110},{"$f":"NINo!H29","v":2930},{"$f":"'Non-UK Births'!H29","v":204},{"$f":"'Pupils ethnic group'!I29","v":509},{"$f":"'Pupils with English as an add.'!F28","v":403},{"$f":"'Pop born outside UK'!H29","v":9000}]
[27,"Renfrewshire",null,{"$f":"'Total net migration'!H29","v":443},{"$f":"'Total net migration 0-15'!H29","v":41},{"$f":"'Total net migration 16-64'!H29","v":364},{"$f":"'Total net migration 65+'!H29","v":38},{"$f":"'Total in-migration'!H29","v":4872},{"$f":"'Total out-migration'!H29","v":4429},{"$f":"'Within Scotland net migration'!H29","v":128},{"$f":"'Within Scotland in-migration'!H29","v":3267},{"$f":"'Within Scotland out-migration'!H29","v":3139},{"$f":"'Rest of UK net migration'!H29","v":-29},{"$f":"'Rest of UK in-migration'!H29","v":758},{"$f":"'Rest of UK out-migration'!H29","v":787},{"$f":"'Overseas net migration'!H29","v":344},{"$f":"'Overseas in-migration'!H29","v":847},{"$f":"'Overseas out-migration'!H29","v":503},{"$f":"WRS!H30","v":195},{"$f":"NINo!H30","v":480},{"$f":"'Non-UK Births'!H30","v":175},{"$f":"'Pupils ethnic group'!I30","v":781},{"$f":"'Pupils with English as an add.'!F29","v":303},{"$f":"'Pop born outside UK'!H30","v":7000}]
[28,"Scottish Borders",null,{"$f":"'Total net migration'!H30","v":286},{"$f":"'Total net migration 0-15'!H30","v":119},{"$f":"'Total net migration 16-64'!H30","v":146},{"$f":"'Total net migration 65+'!H30","v":21},{"$f":"'Total in-migration'!H30","v":4142},{"$f":"'Total out-migration'!H30","v":3856},{"$f":"'Within Scotland net migration'!H30","v":144},{"$f":"'Within Scotland in-migration'!H30","v":2235},{"$f":"'Within Scotland out-migration'!H30","v":2091},{"$f":"'Rest of UK net migration'!H30","v":245},{"$f":"'Rest of UK in-migration'!H30","v":1513},{"$f":"'Rest of UK out-migration'!H30","v":1268},{"$f":"'Overseas net migration'!H30","v":-103},{"$f":"'Overseas in-migration'!H30","v":394},{"$f":"'Overseas out-migration'!H30","v":497},{"$f":"WRS!H31","v":165},{"$f":"NINo!H31","v":380},{"$f":"'Non-UK Births'!H31","v":124},{"$f":"'Pupils ethnic group'!I31","v":338},{"$f":"'Pupils with English as an add.'!F30","v":258},{"$f":"'Pop born outside UK'!H31","v":7000}]
[29,"Shetland Islands",null,{"$f":"'Total net migration'!H31","v":155},{"$f":"'Total net migration 0-15'!H31","v":46},{"$f":"'Total net migration 16-64'!H31","v":114},{"$f":"'Total net migration 65+'!H31","v":-5},{"$f":"'Total in-migration'!H31","v":758},{"$f":"'Total out-migration'!H31","v":603},{"$f":"'Within Scotland net migration'!H31","v":-39},{"$f":"'Within Scotland in-migration'!H31","v":300},{"$f":"'Within Scotland out-migration'!H31","v":339},{"$f":"'Rest of UK net migration'!H31","v":170},{"$f":"'Rest of UK in-migration'!H31","v":356},{"$f":"'Rest of UK out-migration'!H31","v":186},{"$f":"'Overseas net migration'!H31","v":24},{"$f":"'Overseas in-migration'!H31","v":102},{"$f":"'Overseas out-migration'!H31","v":78},{"$f":"WRS!H32","v":60},{"$f":"NINo!H32","v":110},{"$f":"'Non-UK Births'!H32","v":23},{"$f":"'Pupils ethnic group'!I32","v":67},{"$f":"'Pupils with English as an add.'!F31","v":48},{"$f":"'Pop born outside UK'!H32","v":"*"}]
[30,"South Ayrshire",null,{"$f":"'Total net migration'!H32","v":443},{"$f":"'Total net migration 0-15'!H32","v":148},{"$f":"'Total net migration 16-64'!H32","v":267},{"$f":"'Total net migration 65+'!H32","v":28},{"$f":"'Total in-migration'!H32","v":3512},{"$f":"'Total out-migration'!H32","v":3069},{"$f":"'Within Scotland net migration'!H32","v":144},{"$f":"'Within Scotland in-migration'!H32","v":2228},{"$f":"'Within Scotland out-migration'!H32","v":2084},{"$f":"'Rest of UK net migration'!H32","v":325},{"$f":"'Rest of UK in-migration'!H32","v":957},{"$f":"'Rest of UK out-migration'!H32","v":632},{"$f":"'Overseas net migration'!H32","v":-26},{"$f":"'Overseas in-migration'!H32","v":327},{"$f":"'Overseas out-migration'!H32","v":353},{"$f":"WRS!H33","v":15},{"$f":"NINo!H33","v":300},{"$f":"'Non-UK Births'!H33","v":63},{"$f":"'Pupils ethnic group'!I33","v":296},{"$f":"'Pupils with English as an add.'!F32","v":138},{"$f":"'Pop born outside UK'!H33","v":4000}]
[31,"South Lanarkshire",null,{"$f":"'Total net migration'!H33","v":808},{"$f":"'Total net migration 0-15'!H33","v":219},{"$f":"'Total net migration 16-64'!H33","v":470},{"$f":"'Total net migration 65+'!H33","v":119},{"$f":"'Total in-migration'!H33","v":7910},{"$f":"'Total out-migration'!H33","v":7102},{"$f":"'Within Scotland net migration'!H33","v":909},{"$f":"'Within Scotland in-migration'!H33","v":5870},{"$f":"'Within Scotland out-migration'!H33","v":4961},{"$f":"'Rest of UK net migration'!H33","v":-45},{"$f":"'Rest of UK in-migration'!H33","v":1352},{"$f":"'Rest of UK out-migration'!H33","v":1397},{"$f":"'Overseas net migration'!H33","v":-56},{"$f":"'Overseas in-migration'!H33","v":688},{"$f":"'Overseas out-migration'!H33","v":744},{"$f":"WRS!H34","v":115},{"$f":"NINo!H34","v":480},{"$f":"'Non-UK Births'!H34","v":207},{"$f":"'Pupils ethnic group'!I34","v":1413},{"$f":"'Pupils with English as an add.'!F33","v":456},{"$f":"'Pop born outside UK'!H34","v":"*"}]
[32,"Stirling",null,{"$f":"'Total net migration'!H34","v":1006},{"$f":"'Total net migration 0-15'!H34","v":324},{"$f":"'Total net migration 16-64'!H34","v":684},{"$f":"'Total net migration 65+'!H34","v":-2},{"$f":"'Total in-migration'!H34","v":5187},{"$f":"'Total out-migration'!H34","v":4181},{"$f":"'Within Scotland net migration'!H34","v":309},{"$f":"'Within Scotland in-migration'!H34","v":3068},{"$f":"'Within Scotland out-migration'!H34","v":2759},{"$f":"'Rest of UK net migration'!H34","v":34},{"$f":"'Rest of UK in-migration'!H34","v":870},{"$f":"'Rest of UK out-migration'!H34","v":836},{"$f":"'Overseas net migration'!H34","v":663},{"$f":"'Overseas in-migration'!H34","v":1249},{"$f":"'Overseas out-migration'!H34","v":586},{"$f":"WRS!H35","v":155},{"$f":"NINo!H35","v":570},{"$f":"'Non-UK Births'!H35","v":102},{"$f":"'Pupils ethnic group'!I35","v":481},{"$f":"'Pupils with English as an add.'!F34","v":172},{"$f":"'Pop born outside UK'!H35","v":6000}]
[33,"West Dunbartonshire",null,{"$f":"'Total net migration'!H35","v":-291},{"$f":"'Total net migration 0-15'!H35","v":-93},{"$f":"'Total net migration 16-64'!H35","v":-208},{"$f":"'Total net migration 65+'!H35","v":10},{"$f":"'Total in-migration'!H35","v":2075},{"$f":"'Total out-migration'!H35","v":2366},{"$f":"'Within Scotland net migration'!H35","v":-256},{"$f":"'Within Scotland in-migration'!H35","v":1524},{"$f":"'Within Scotland out-migration'!H35","v":1780},{"$f":"'Rest of UK net migration'!H35","v":-86},{"$f":"'Rest of UK in-migration'!H35","v":351},{"$f":"'Rest of UK out-migration'!H35","v":437},{"$f":"'Overseas net migration'!H35","v":51},{"$f":"'Overseas in-migration'!H35","v":200},{"$f":"'Overseas out-migration'!H35","v":149},{"$f":"WRS!H36","v":0},{"$f":"NINo!H36","v":140},{"$f":"'Non-UK Births'!H36","v":54},{"$f":"'Pupils ethnic group'!I36","v":284},{"$f":"'Pupils with English as an add.'!F35","v":87},{"$f":"'Pop born outside UK'!H36","v":"*"}]
[34,"West Lothian",null,{"$f":"'Total net migration'!H36","v":203},{"$f":"'Total net migration 0-15'!H36","v":111},{"$f":"'Total net migration 16-64'!H36","v":36},{"$f":"'Total net migration 65+'!H36","v":56},{"$f":"'Total in-migration'!H36","v":4830},{"$f":"'Total out-migration'!H36","v":4627},{"$f":"'Within Scotland net migration'!H36","v":-166},{"$f":"'Within Scotland in-migration'!H36","v":3075},{"$f":"'Within Scotland out-migration'!H36","v":3241},{"$f":"'Rest of UK net migration'!H36","v":-41},{"$f":"'Rest of UK in-migration'!H36","v":825},{"$f":"'Rest of UK out-migration'!H36","v":866},{"$f":"'Overseas net migration'!H36","v":410},{"$f":"'Overseas in-migration'!H36","v":930},{"$f":"'Overseas out-migration'!H36","v":520},{"$f":"WRS!H37","v":400},{"$f":"NINo!H37","v":750},{"$f":"'Non-UK Births'!H37","v":254},{"$f":"'Pupils ethnic group'!I37","v":932},{"$f":"'Pupils with English as an add.'!F36","v":519},{"$f":"'Pop born outside UK'!H37","v":8000}]
[]
[35,"Not specified"]
[36,"SCOTLAND",null,{"$f":"'Total net migration'!H39","v":26075},{"$f":"'Total net migration 0-15'!H4","v":2883},{"$f":"'Total net migration 16-64'!H39","v":22931},{"$f":"'Total net migration 65+'!H39","v":261},{"$f":"'Total in-migration'!H39","v":92407},{"$f":"'Total out-migration'!H39","v":66332},null,null,null,{"$f":"'Rest of UK net migration'!H39","v":3275},{"$f":"'Rest of UK in-migration'!H39","v":45007},{"$f":"'Rest of UK out-migration'!H39","v":41732},{"$f":"'Overseas net migration'!H39","v":22800},{"$f":"'Overseas in-migration'!H39","v":47400},{"$f":"'Overseas out-migration'!H39","v":24600},null,null,{"$f":"'Non-UK Births'!H40","v":8176},null,null,null,{"$f":"'NHS Overseas'!$H$5","v":53063}]
[37,"Ayrshire & Arran",null,{"$f":"'Total net migration'!H40","v":308},{"$f":"'Total net migration 0-15'!H40","v":182},{"$f":"'Total net migration 16-64'!H40","v":32},{"$f":"'Total net migration 65+'!H40","v":94},{"$f":"'Total in-migration'!H40","v":7716},{"$f":"'Total out-migration'!H40","v":7408},{"$f":"'Within Scotland net migration'!H40","v":63},{"$f":"'Within Scotland in-migration'!H40","v":4572},{"$f":"'Within Scotland out-migration'!H40","v":4509},{"$f":"'Rest of UK net migration'!H40","v":459},{"$f":"'Rest of UK in-migration'!H40","v":2432},{"$f":"'Rest of UK out-migration'!H40","v":1973},{"$f":"'Overseas net migration'!H40","v":-214},{"$f":"'Overseas in-migration'!H40","v":712},{"$f":"'Overseas out-migration'!H40","v":926},null,null,{"$f":"'Non-UK Births'!H41","v":184}]
[38,"Borders",null,{"$f":"'Total net migration'!H41","v":286},{"$f":"'Total net migration 0-15'!H41","v":119},{"$f":"'Total net migration 16-64'!H41","v":146},{"$f":"'Total net migration 65+'!H41","v":21},{"$f":"'Total in-migration'!H41","v":4142},{"$f":"'Total out-migration'!H41","v":3856},{"$f":"'Within Scotland net migration'!H41","v":144},{"$f":"'Within Scotland in-migration'!H41","v":2235},{"$f":"'Within Scotland out-migration'!H41","v":2091},{"$f":"'Rest of UK net migration'!H41","v":245},{"$f":"'Rest of UK in-migration'!H41","v":1513},{"$f":"'Rest of UK out-migration'!H41","v":1268},{"$f":"'Overseas net migration'!H41","v":-103},{"$f":"'Overseas in-migration'!H41","v":394},{"$f":"'Overseas out-migration'!H41","v":497},null,null,{"$f":"'Non-UK Births'!H42","v":124}]
[39,"Dumfries & Galloway",null,{"$f":"'Total net migration'!H42","v":119},{"$f":"'Total net migration 0-15'!H42","v":4},{"$f":"'Total net migration 16-64'!H42","v":91},{"$f":"'Total net migration 65+'!H42","v":24},{"$f":"'Total in-migration'!H42","v":3945},{"$f":"'Total out-migration'!H42","v":3826},{"$f":"'Within Scotland net migration'!H42","v":-101},{"$f":"'Within Scotland in-migration'!H42","v":1621},{"$f":"'Within Scotland out-migration'!H42","v":1722},{"$f":"'Rest of UK net migration'!H42","v":382},{"$f":"'Rest of UK in-migration'!H42","v":1949},{"$f":"'Rest of UK out-migration'!H42","v":1567},{"$f":"'Overseas net migration'!H42","v":-162},{"$f":"'Overseas in-migration'!H42","v":375},{"$f":"'Overseas out-migration'!H42","v":537},null,null,{"$f":"'Non-UK Births'!H43","v":85}]
[40,"Fife",null,{"$f":"'Total net migration'!H43","v":1809},{"$f":"'Total net migration 0-15'!H43","v":257},{"$f":"'Total net migration 16-64'!H43","v":1455},{"$f":"'Total net migration 65+'!H43","v":97},{"$f":"'Total in-migration'!H43","v":11335},{"$f":"'Total out-migration'!H43","v":9526},{"$f":"'Within Scotland net migration'!H43","v":532},{"$f":"'Within Scotland in-migration'!H43","v":5751},{"$f":"'Within Scotland out-migration'!H43","v":5219},{"$f":"'Rest of UK net migration'!H43","v":26},{"$f":"'Rest of UK in-migration'!H43","v":2906},{"$f":"'Rest of UK out-migration'!H43","v":2880},{"$f":"'Overseas net migration'!H43","v":1251},{"$f":"'Overseas in-migration'!H43","v":2678},{"$f":"'Overseas out-migration'!H43","v":1427},null,null,{"$f":"'Non-UK Births'!H44","v":406}]
[41,"Forth Valley",null,{"$f":"'Total net migration'!H44","v":1389},{"$f":"'Total net migration 0-15'!H44","v":384},{"$f":"'Total net migration 16-64'!H44","v":923},{"$f":"'Total net migration 65+'!H44","v":82},{"$f":"'Total in-migration'!H44","v":8925},{"$f":"'Total out-migration'!H44","v":7536},{"$f":"'Within Scotland net migration'!H44","v":486},{"$f":"'Within Scotland in-migration'!H44","v":5281},{"$f":"'Within Scotland out-migration'!H44","v":4795},{"$f":"'Rest of UK net migration'!H44","v":81},{"$f":"'Rest of UK in-migration'!H44","v":1789},{"$f":"'Rest of UK out-migration'!H44","v":1708},{"$f":"'Overseas net migration'!H44","v":822},{"$f":"'Overseas in-migration'!H44","v":1855},{"$f":"'Overseas out-migration'!H44","v":1033},null,null,{"$f":"'Non-UK Births'!H45","v":273}]
[42,"Grampian",null,{"$f":"'Total net migration'!H45","v":4438},{"$f":"'Total net migration 0-15'!H45","v":654},{"$f":"'Total net migration 16-64'!H45","v":3851},{"$f":"'Total net migration 65+'!H45","v":-67},{"$f":"'Total in-migration'!H45","v":19461},{"$f":"'Total out-migration'!H45","v":15023},{"$f":"'Within Scotland net migration'!H45","v":-330},{"$f":"'Within Scotland in-migration'!H45","v":6283},{"$f":"'Within Scotland out-migration'!H45","v":6613},{"$f":"'Rest of UK net migration'!H45","v":257},{"$f":"'Rest of UK in-migration'!H45","v":5318},{"$f":"'Rest of UK out-migration'!H45","v":5061},{"$f":"'Overseas net migration'!H45","v":4511},{"$f":"'Overseas in-migration'!H45","v":7860},{"$f":"'Overseas out-migration'!H45","v":3349},null,null,{"$f":"'Non-UK Births'!H46","v":1286}]
[43,"Greater Glasgow & Clyde",null,{"$f":"'Total net migration'!H46","v":3862},{"$f":"'Total net migration 0-15'!H46","v":-231},{"$f":"'Total net migration 16-64'!H46","v":4428},{"$f":"'Total net migration 65+'!H46","v":-335},{"$f":"'Total in-migration'!H46","v":38147},{"$f":"'Total out-migration'!H46","v":34285},{"$f":"'Within Scotland net migration'!H46","v":-1029},{"$f":"'Within Scotland in-migration'!H46","v":18196},{"$f":"'Within Scotland out-migration'!H46","v":19225},{"$f":"'Rest of UK net migration'!H46","v":-879},{"$f":"'Rest of UK in-migration'!H46","v":8067},{"$f":"'Rest of UK out-migration'!H46","v":8946},{"$f":"'Overseas net migration'!H46","v":5770},{"$f":"'Overseas in-migration'!H46","v":11884},{"$f":"'Overseas out-migration'!H46","v":6114},null,null,{"$f":"'Non-UK Births'!H47","v":2408}]
[44,"Highland",null,{"$f":"'Total net migration'!H47","v":1281},{"$f":"'Total net migration 0-15'!H47","v":352},{"$f":"'Total net migration 16-64'!H47","v":960},{"$f":"'Total net migration 65+'!H47","v":-31},{"$f":"'Total in-migration'!H47","v":11487},{"$f":"'Total out-migration'!H47","v":10206},{"$f":"'Within Scotland net migration'!H47","v":-220},{"$f":"'Within Scotland in-migration'!H47","v":5734},{"$f":"'Within Scotland out-migration'!H47","v":5954},{"$f":"'Rest of UK net migration'!H47","v":1057},{"$f":"'Rest of UK in-migration'!H47","v":3969},{"$f":"'Rest of UK out-migration'!H47","v":2912},{"$f":"'Overseas net migration'!H47","v":444},{"$f":"'Overseas in-migration'!H47","v":1784},{"$f":"'Overseas out-migration'!H47","v":1340},null,null,{"$f":"'Non-UK Births'!H48","v":385}]
[45,"Lanarkshire",null,{"$f":"'Total net migration'!H48","v":-202},{"$f":"'Total net migration 0-15'!H48","v":60},{"$f":"'Total net migration 16-64'!H48","v":-392},{"$f":"'Total net migration 65+'!H48","v":130},{"$f":"'Total in-migration'!H48","v":10327},{"$f":"'Total out-migration'!H48","v":10529},{"$f":"'Within Scotland net migration'!H48","v":81},{"$f":"'Within Scotland in-migration'!H48","v":6924},{"$f":"'Within Scotland out-migration'!H48","v":6843},{"$f":"'Rest of UK net migration'!H48","v":-206},{"$f":"'Rest of UK in-migration'!H48","v":2059},{"$f":"'Rest of UK out-migration'!H48","v":2265},{"$f":"'Overseas net migration'!H48","v":-77},{"$f":"'Overseas in-migration'!H48","v":1344},{"$f":"'Overseas out-migration'!H48","v":1421},null,null,{"$f":"'Non-UK Births'!H49","v":419}]
[46,"Lothian",null,{"$f":"'Total net migration'!H49","v":9104},{"$f":"'Total net migration 0-15'!H49","v":504},{"$f":"'Total net migration 16-64'!H49","v":8471},{"$f":"'Total net migration 65+'!H49","v":129},{"$f":"'Total in-migration'!H49","v":35429},{"$f":"'Total out-migration'!H49","v":26325},{"$f":"'Within Scotland net migration'!H49","v":75},{"$f":"'Within Scotland in-migration'!H49","v":11425},{"$f":"'Within Scotland out-migration'!H49","v":11350},{"$f":"'Rest of UK net migration'!H49","v":1133},{"$f":"'Rest of UK in-migration'!H49","v":10604},{"$f":"'Rest of UK out-migration'!H49","v":9471},{"$f":"'Overseas net migration'!H49","v":7896},{"$f":"'Overseas in-migration'!H49","v":13400},{"$f":"'Overseas out-migration'!H49","v":5504},null,null,{"$f":"'Non-UK Births'!H50","v":1964}]
[47,"Orkney",null,{"$f":"'Total net migration'!H50","v":163},{"$f":"'Total net migration 0-15'!H50","v":37},{"$f":"'Total net migration 16-64'!H50","v":98},{"$f":"'Total net migration 65+'!H50","v":28},{"$f":"'Total in-migration'!H50","v":805},{"$f":"'Total out-migration'!H50","v":642},{"$f":"'Within Scotland net migration'!H50","v":15},{"$f":"'Within Scotland in-migration'!H50","v":430},{"$f":"'Within Scotland out-migration'!H50","v":415},{"$f":"'Rest of UK net migration'!H50","v":145},{"$f":"'Rest of UK in-migration'!H50","v":312},{"$f":"'Rest of UK out-migration'!H50","v":167},{"$f":"'Overseas net migration'!H50","v":3},{"$f":"'Overseas in-migration'!H50","v":63},{"$f":"'Overseas out-migration'!H50","v":60},null,null,{"$f":"'Non-UK Births'!H51","v":14}]
[48,"Shetland",null,{"$f":"'Total net migration'!H51","v":155},{"$f":"'Total net migration 0-15'!H51","v":46},{"$f":"'Total net migration 16-64'!H51","v":114},{"$f":"'Total net migration 65+'!H51","v":-5},{"$f":"'Total in-migration'!H51","v":758},{"$f":"'Total out-migration'!H51","v":603},{"$f":"'Within Scotland net migration'!H51","v":-39},{"$f":"'Within Scotland in-migration'!H51","v":300},{"$f":"'Within Scotland out-migration'!H51","v":339},{"$f":"'Rest of UK net migration'!H51","v":170},{"$f":"'Rest of UK in-migration'!H51","v":356},{"$f":"'Rest of UK out-migration'!H51","v":186},{"$f":"'Overseas net migration'!H51","v":24},{"$f":"'Overseas in-migration'!H51","v":102},{"$f":"'Overseas out-migration'!H51","v":78},null,null,{"$f":"'Non-UK Births'!H52","v":23}]
[49,"Tayside",null,{"$f":"'Total net migration'!H52","v":3194},{"$f":"'Total net migration 0-15'!H52","v":470},{"$f":"'Total net migration 16-64'!H52","v":2668},{"$f":"'Total net migration 65+'!H52","v":56},{"$f":"'Total in-migration'!H52","v":14796},{"$f":"'Total out-migration'!H52","v":11602},{"$f":"'Within Scotland net migration'!H52","v":296},{"$f":"'Within Scotland in-migration'!H52","v":6487},{"$f":"'Within Scotland out-migration'!H52","v":6191},{"$f":"'Rest of UK net migration'!H52","v":258},{"$f":"'Rest of UK in-migration'!H52","v":3429},{"$f":"'Rest of UK out-migration'!H52","v":3171},{"$f":"'Overseas net migration'!H52","v":2640},{"$f":"'Overseas in-migration'!H52","v":4880},{"$f":"'Overseas out-migration'!H52","v":2240},null,null,{"$f":"'Non-UK Births'!H53","v":595}]
[50,"Western Isles",null,{"$f":"'Total net migration'!H53","v":169},{"$f":"'Total net migration 0-15'!H53","v":45},{"$f":"'Total net migration 16-64'!H53","v":86},{"$f":"'Total net migration 65+'!H53","v":38},{"$f":"'Total in-migration'!H53","v":974},{"$f":"'Total out-migration'!H53","v":805},{"$f":"'Within Scotland net migration'!H53","v":27},{"$f":"'Within Scotland in-migration'!H53","v":601},{"$f":"'Within Scotland out-migration'!H53","v":574},{"$f":"'Rest of UK net migration'!H53","v":147},{"$f":"'Rest of UK in-migration'!H53","v":304},{"$f":"'Rest of UK out-migration'!H53","v":157},{"$f":"'Overseas net migration'!H53","v":-5},{"$f":"'Overseas in-migration'!H53","v":69},{"$f":"'Overseas out-migration'!H53","v":74},null,null,{"$f":"'Non-UK Births'!H54","v":10}]

{"sheet":"2010 Rate","index":48,"n_rows":53,"n_cols":27,"rows_kept":53,"cut":false,"hidden":true,"merged":[]}
[null,2010,"RATE"]
[null,null,"Not specified ",{"$f":"'Comparing Indicators'!$U8","v":"Total net migration"},{"$f":"'Comparing Indicators'!$U9","v":"Total net migration for ages 0-15"},{"$f":"'Comparing Indicators'!$U10","v":"Total net migration for ages 16-64"},{"$f":"'Comparing Indicators'!$U11","v":"Total net migration for people aged 65+"},{"$f":"'Comparing Indicators'!$U12","v":"Total in-migration"},{"$f":"'Comparing Indicators'!$U13","v":"Total out-migration"},{"$f":"'Comparing Indicators'!$U14","v":"Within Scotland net migration"},{"$f":"'Comparing Indicators'!$U15","v":"Within Scotland in-migration"},{"$f":"'Comparing Indicators'!$U16","v":"Within Scotland out-migration"},{"$f":"'Comparing Indicators'!$U17","v":"Rest of UK net migration"},{"$f":"'Comparing Indicators'!$U18","v":"Rest of UK in-migration"},{"$f":"'Comparing Indicators'!$U19","v":"Rest of UK out-migration"},{"$f":"'Comparing Indicators'!$U20","v":"Overseas net migration"},{"$f":"'Comparing Indicators'!$U21","v":"Overseas in-migration"},{"$f":"'Comparing Indicators'!$U22","v":"Overseas out-migration"},{"$f":"'Comparing Indicators'!$U23","v":"Worker Registration Scheme"},{"$f":"'Comparing Indicators'!$U24","v":"NINo Allocation"},{"$f":"'Comparing Indicators'!$U25","v":"Births to non-UK mothers"},{"$f":"'Comparing Indicators'!$U26","v":"Pupils from a minority ethnic group"},{"$f":"'Comparing Indicators'!$U27","v":"Pupils with English as an additional language"},{"$f":"'Comparing Indicators'!$U28","v":"Estimate of resident population born outside the UK"},"NHS registrations from overseas",null,"Mid-year population estimate"]
[1,"Not specified"]
[2,"SCOTLAND",null,{"$f":"('2010'!D4/'2010 Rate'!$AA4)*1000","v":4.9551518376344497},{"$f":"('2010'!E4/'2010 Rate'!$AA4)*1000","v":0.54786971228763626},{"$f":"('2010'!F4/'2010 Rate'!$AA4)*1000","v":4.3576830983238954},{"$f":"('2010'!G4/'2010 Rate'!$AA4)*1000","v":4.9599027022918171E-2},{"$f":"('2010'!H4/'2010 Rate'!$AA4)*1000","v":17.560526015734865},{"$f":"('2010'!I4/'2010 Rate'!$AA4)*1000","v":12.605374178100414},null,null,null,{"$f":"('2010'!M4/'2010 Rate'!$AA4)*1000","v":0.6223632701151609},{"$f":"('2010'!N4/'2010 Rate'!$AA4)*1000","v":8.5528866253658169},{"$f":"('2010'!O4/'2010 Rate'!$AA4)*1000","v":7.9305233552506555},{"$f":"('2010'!P4/'2010 Rate'!$AA4)*1000","v":4.3327885675192883},{"$f":"('2010'!Q4/'2010 Rate'!$AA4)*1000","v":9.0076393903690466},{"$f":"('2010'!R4/'2010 Rate'!$AA4)*1000","v":4.6748508228497583},{"$f":"('2010'!S4/'2010 Rate'!$AA4)*1000","v":1.6875071262969861},{"$f":"('2010'!T4/'2010 Rate'!$AA4)*1000","v":7.4911633917372962},{"$f":"('2010'!U4/'2010 Rate'!$AA4)*1000","v":1.5537227775455131},{"$f":"('2010'!V4/'2010 Rate'!$AA4)*1000","v":6.582608034662309},{"$f":"('2010'!W4/'2010 Rate'!$AA4)*1000","v":4.3213864923416061},{"$f":"('2010'!X4/'2010 Rate'!$AA4)*1000","v":61.951275132074038},{"$f":"('2010'!Y4/'2010 Rate'!$AA4)*1000","v":10.083805252555965},"Scotland",{"$f":"'Population estimates'!H4","v":5262200}]
[3,"Aberdeen City",null,{"$f":"('2010'!D5/'2010 Rate'!$AA5)*1000","v":12.533563919355574},{"$f":"('2010'!E5/'2010 Rate'!$AA5)*1000","v":0.7372684658444455},{"$f":"('2010'!F5/'2010 Rate'!$AA5)*1000","v":12.328767123287671},{"$f":"('2010'!G5/'2010 Rate'!$AA5)*1000","v":-0.53247166977654403},{"$f":"('2010'!H5/'2010 Rate'!$AA5)*1000","v":63.582578619214488},{"$f":"('2010'!I5/'2010 Rate'!$AA5)*1000","v":51.049014699858915},{"$f":"('2010'!J5/'2010 Rate'!$AA5)*1000","v":-5.9482091657943839},{"$f":"('2010'!K5/'2010 Rate'!$AA5)*1000","v":25.112638237837345},{"$f":"('2010'!L5/'2010 Rate'!$AA5)*1000","v":31.06084740363173},{"$f":"('2010'!M5/'2010 Rate'!$AA5)*1000","v":1.4517817321257909},{"$f":"('2010'!N5/'2010 Rate'!$AA5)*1000","v":11.841805852637327},{"$f":"('2010'!O5/'2010 Rate'!$AA5)*1000","v":10.390024120511537},{"$f":"('2010'!P5/'2010 Rate'!$AA5)*1000","v":17.029991353024165},{"$f":"('2010'!Q5/'2010 Rate'!$AA5)*1000","v":26.628134528739817},{"$f":"('2010'!R5/'2010 Rate'!$AA5)*1000","v":9.5981431757156503},{"$f":"('2010'!S5/'2010 Rate'!$AA5)*1000","v":3.3450143357757249},{"$f":"('2010'!T5/'2010 Rate'!$AA5)*1000","v":19.250898830382745},{"$f":"('2010'!U5/'2010 Rate'!$AA5)*1000","v":3.8228735266008282},{"$f":"('2010'!V5/'2010 Rate'!$AA5)*1000","v":8.7379966322304661},{"$f":"('2010'!W5/'2010 Rate'!$AA5)*1000","v":7.6229918536385561},{"$f":"('2010'!X5/'2010 Rate'!$AA5)*1000","v":136.53119737860101},null,"Aberdeen City",{"$f":"'Population estimates'!H5","v":219730}]
[4,"Aberdeenshire",null,{"$f":"('2010'!D6/'2010 Rate'!$AA6)*1000","v":6.7334844688382454},{"$f":"('2010'!E6/'2010 Rate'!$AA6)*1000","v":1.9727160641132722},{"$f":"('2010'!F6/'2010 Rate'!$AA6)*1000","v":4.7448594042079311},{"$f":"('2010'!G6/'2010 Rate'!$AA6)*1000","v":1.5909000517042516E-2},{"$f":"('2010'!H6/'2010 Rate'!$AA6)*1000","v":35.715706160760455},{"$f":"('2010'!I6/'2010 Rate'!$AA6)*1000","v":28.982221691922206},{"$f":"('2010'!J6/'2010 Rate'!$AA6)*1000","v":4.2834983892136975},{"$f":"('2010'!K6/'2010 Rate'!$AA6)*1000","v":23.00839199777274},{"$f":"('2010'!L6/'2010 Rate'!$AA6)*1000","v":18.724893608559043},{"$f":"('2010'!M6/'2010 Rate'!$AA6)*1000","v":-0.40965676331384482},{"$f":"('2010'!N6/'2010 Rate'!$AA6)*1000","v":6.5107584615996501},{"$f":"('2010'!O6/'2010 Rate'!$AA6)*1000","v":6.9204152249134951},{"$f":"('2010'!P6/'2010 Rate'!$AA6)*1000","v":2.8596428429383924},{"$f":"('2010'!Q6/'2010 Rate'!$AA6)*1000","v":6.1965557013880597},{"$f":"('2010'!R6/'2010 Rate'!$AA6)*1000","v":3.3369128584496677},{"$f":"('2010'!S6/'2010 Rate'!$AA6)*1000","v":3.4999801137493538},{"$f":"('2010'!T6/'2010 Rate'!$AA6)*1000","v":6.4431452094022195},{"$f":"('2010'!U6/'2010 Rate'!$AA6)*1000","v":1.4278327964045661},{"$f":"('2010'!V6/'2010 Rate'!$AA6)*1000","v":2.9232788450065628},{"$f":"('2010'!W6/'2010 Rate'!$AA6)*1000","v":3.2971403571570619},{"$f":"('2010'!X6/'2010 Rate'!$AA6)*1000","v":51.704251680388182},null,"Aberdeenshire",{"$f":"'Population estimates'!H6","v":251430}]
[5,"Angus",null,{"$f":"('2010'!D7/'2010 Rate'!$AA7)*1000","v":3.0759899488779134},{"$f":"('2010'!E7/'2010 Rate'!$AA7)*1000","v":1.4296854691967766},{"$f":"('2010'!F7/'2010 Rate'!$AA7)*1000","v":1.5076683129711463},{"$f":"('2010'!G7/'2010 Rate'!$AA7)*1000","v":0.13863616670999046},{"$f":"('2010'!H7/'2010 Rate'!$AA7)*1000","v":31.747682176587819},{"$f":"('2010'!I7/'2010 Rate'!$AA7)*1000","v":28.671692227709904},{"$f":"('2010'!J7/'2010 Rate'!$AA7)*1000","v":1.0137769690668055},{"$f":"('2010'!K7/'2010 Rate'!$AA7)*1000","v":21.540594402564768},{"$f":"('2010'!L7/'2010 Rate'!$AA7)*1000","v":20.526817433497964},{"$f":"('2010'!M7/'2010 Rate'!$AA7)*1000","v":0.1992894896456113},{"$f":"('2010'!N7/'2010 Rate'!$AA7)*1000","v":5.4068105016896277},{"$f":"('2010'!O7/'2010 Rate'!$AA7)*1000","v":5.2075210120440172},{"$f":"('2010'!P7/'2010 Rate'!$AA7)*1000","v":1.862923490165497},{"$f":"('2010'!Q7/'2010 Rate'!$AA7)*1000","v":4.8002772723334202},{"$f":"('2010'!R7/'2010 Rate'!$AA7)*1000","v":2.9373537821679232},{"$f":"('2010'!S7/'2010 Rate'!$AA7)*1000","v":3.6825231782341219},{"$f":"('2010'!T7/'2010 Rate'!$AA7)*1000","v":13.603673858417814},{"$f":"('2010'!U7/'2010 Rate'!$AA7)*1000","v":0.8751408023568148},{"$f":"('2010'!V7/'2010 Rate'!$AA7)*1000","v":3.5612165323628804},{"$f":"('2010'!W7/'2010 Rate'!$AA7)*1000","v":2.2615024694567194},null,null,"Angus",{"$f":"'Population estimates'!H7","v":115410}]
[6,"Argyll & Bute",null,{"$f":"('2010'!D8/'2010 Rate'!$AA8)*1000","v":3.2836831415030465},{"$f":"('2010'!E8/'2010 Rate'!$AA8)*1000","v":1.2412547957571656},{"$f":"('2010'!F8/'2010 Rate'!$AA8)*1000","v":2.5276461295418637},{"$f":"('2010'!G8/'2010 Rate'!$AA8)*1000","v":-0.48521778379598285},{"$f":"('2010'!H8/'2010 Rate'!$AA8)*1000","v":44.561047167682233},{"$f":"('2010'!I8/'2010 Rate'!$AA8)*1000","v":41.277364026179193},{"$f":"('2010'!J8/'2010 Rate'!$AA8)*1000","v":-1.6587677725118484},{"$f":"('2010'!K8/'2010 Rate'!$AA8)*1000","v":24.193184382757842},{"$f":"('2010'!L8/'2010 Rate'!$AA8)*1000","v":25.851952155269689},{"$f":"('2010'!M8/'2010 Rate'!$AA8)*1000","v":3.9720153464229293},{"$f":"('2010'!N8/'2010 Rate'!$AA8)*1000","v":15.007898894154819},{"$f":"('2010'!O8/'2010 Rate'!$AA8)*1000","v":11.035883547731888},{"$f":"('2010'!P8/'2010 Rate'!$AA8)*1000","v":0.9704355675919657},{"$f":"('2010'!Q8/'2010 Rate'!$AA8)*1000","v":5.3599638907695777},{"$f":"('2010'!R8/'2010 Rate'!$AA8)*1000","v":4.3895283231776121},{"$f":"('2010'!S8/'2010 Rate'!$AA8)*1000","v":2.426088918979914},{"$f":"('2010'!T8/'2010 Rate'!$AA8)*1000","v":5.8677499435793274},{"$f":"('2010'!U8/'2010 Rate'!$AA8)*1000","v":0.82374181900248244},{"$f":"('2010'!V8/'2010 Rate'!$AA8)*1000","v":2.3583841119386144},{"$f":"('2010'!W8/'2010 Rate'!$AA8)*1000","v":1.2412547957571656},{"$f":"('2010'!X8/'2010 Rate'!$AA8)*1000","v":45.136538027533284},null,"Argyll & Bute",{"$f":"'Population estimates'!H8","v":88620}]
[7,"Clackmannanshire",null,{"$f":"('2010'!D9/'2010 Rate'!$AA9)*1000","v":-1.4611338398597311},{"$f":"('2010'!E9/'2010 Rate'!$AA9)*1000","v":0.19481784531463081},{"$f":"('2010'!F9/'2010 Rate'!$AA9)*1000","v":-1.4806156243911941},{"$f":"('2010'!G9/'2010 Rate'!$AA9)*1000","v":-0.17533606078316774},{"$f":"('2010'!H9/'2010 Rate'!$AA9)*1000","v":30.839664913306059},{"$f":"('2010'!I9/'2010 Rate'!$AA9)*1000","v":32.300798753165793},{"$f":"('2010'!J9/'2010 Rate'!$AA9)*1000","v":-2.0455873758036236},{"$f":"('2010'!K9/'2010 Rate'!$AA9)*1000","v":21.819598675238652},{"$f":"('2010'!L9/'2010 Rate'!$AA9)*1000","v":23.865186051042276},{"$f":"('2010'!M9/'2010 Rate'!$AA9)*1000","v":0.56497175141242939},{"$f":"('2010'!N9/'2010 Rate'!$AA9)*1000","v":6.0977985583479448},{"$f":"('2010'!O9/'2010 Rate'!$AA9)*1000","v":5.5328268069355149},{"$f":"('2010'!P9/'2010 Rate'!$AA9)*1000","v":1.948178453146308E-2},{"$f":"('2010'!Q9/'2010 Rate'!$AA9)*1000","v":2.9222676797194622},{"$f":"('2010'!R9/'2010 Rate'!$AA9)*1000","v":2.9027858951879995},{"$f":"('2010'!S9/'2010 Rate'!$AA9)*1000","v":0.29222676797194619},{"$f":"('2010'!T9/'2010 Rate'!$AA9)*1000","v":1.9481784531463082},{"$f":"('2010'!U9/'2010 Rate'!$AA9)*1000","v":0.93512565751022803},{"$f":"('2010'!V9/'2010 Rate'!$AA9)*1000","v":4.032729398012858},{"$f":"('2010'!W9/'2010 Rate'!$AA9)*1000","v":2.1235145139294755},null,null,"Clackmannanshire",{"$f":"'Population estimates'!H9","v":51330}]
[8,"Dumfries & Galloway",null,{"$f":"('2010'!D10/'2010 Rate'!$AA10)*1000","v":0.78755790866975517},{"$f":"('2010'!E10/'2010 Rate'!$AA10)*1000","v":2.6472534745201854E-2},{"$f":"('2010'!F10/'2010 Rate'!$AA10)*1000","v":0.60225016545334209},{"$f":"('2010'!G10/'2010 Rate'!$AA10)*1000","v":0.15883520847121113},{"$f":"('2010'!H10/'2010 Rate'!$AA10)*1000","v":26.108537392455325},{"$f":"('2010'!I10/'2010 Rate'!$AA10)*1000","v":25.320979483785571},{"$f":"('2010'!J10/'2010 Rate'!$AA10)*1000","v":-0.66843150231634674},{"$f":"('2010'!K10/'2010 Rate'!$AA10)*1000","v":10.727994705493051},{"$f":"('2010'!L10/'2010 Rate'!$AA10)*1000","v":11.396426207809398},{"$f":"('2010'!M10/'2010 Rate'!$AA10)*1000","v":2.5281270681667771},{"$f":"('2010'!N10/'2010 Rate'!$AA10)*1000","v":12.898742554599604},{"$f":"('2010'!O10/'2010 Rate'!$AA10)*1000","v":10.370615486432825},{"$f":"('2010'!P10/'2010 Rate'!$AA10)*1000","v":-1.0721376571806751},{"$f":"('2010'!Q10/'2010 Rate'!$AA10)*1000","v":2.4818001323626739},{"$f":"('2010'!R10/'2010 Rate'!$AA10)*1000","v":3.5539377895433488},{"$f":"('2010'!S10/'2010 Rate'!$AA10)*1000","v":0.7279947054930509},{"$f":"('2010'!T10/'2010 Rate'!$AA10)*1000","v":2.0516214427531434},{"$f":"('2010'!U10/'2010 Rate'!$AA10)*1000","v":0.56254136333553939},{"$f":"('2010'!V10/'2010 Rate'!$AA10)*1000","v":3.2892124420913302},{"$f":"('2010'!W10/'2010 Rate'!$AA10)*1000","v":1.6082064857710126},null,null,"Dumfries & Galloway",{"$f":"'Population estimates'!H10","v":151100}]
[9,"Dundee City",null,{"$f":"('2010'!D11/'2010 Rate'!$AA11)*1000","v":6.7164179104477615},{"$f":"('2010'!E11/'2010 Rate'!$AA11)*1000","v":-0.7599616595919485},{"$f":"('2010'!F11/'2010 Rate'!$AA11)*1000","v":7.757086128988087},{"$f":"('2010'!G11/'2010 Rate'!$AA11)*1000","v":-0.28070655894837737},{"$f":"('2010'!H11/'2010 Rate'!$AA11)*1000","v":48.822401752704366},{"$f":"('2010'!I11/'2010 Rate'!$AA11)*1000","v":42.105983842256606},{"$f":"('2010'!J11/'2010 Rate'!$AA11)*1000","v":-1.8964808982609886},{"$f":"('2010'!K11/'2010 Rate'!$AA11)*1000","v":24.024373545118443},{"$f":"('2010'!L11/'2010 Rate'!$AA11)*1000","v":25.920854443379433},{"$f":"('2010'!M11/'2010 Rate'!$AA11)*1000","v":0},{"$f":"('2010'!N11/'2010 Rate'!$AA11)*1000","v":9.76311105025332},{"$f":"('2010'!O11/'2010 Rate'!$AA11)*1000","v":9.76311105025332},{"$f":"('2010'!P11/'2010 Rate'!$AA11)*1000","v":8.6128988087087492},{"$f":"('2010'!Q11/'2010 Rate'!$AA11)*1000","v":15.034917157332604},{"$f":"('2010'!R11/'2010 Rate'!$AA11)*1000","v":6.4220183486238538},{"$f":"('2010'!S11/'2010 Rate'!$AA11)*1000","v":1.9170204025742847},{"$f":"('2010'!T11/'2010 Rate'!$AA11)*1000","v":10.543612214158564},{"$f":"('2010'!U11/'2010 Rate'!$AA11)*1000","v":1.9854854169519378},{"$f":"('2010'!V11/'2010 Rate'!$AA11)*1000","v":8.6676708202108728},{"$f":"('2010'!W11/'2010 Rate'!$AA11)*1000","v":5.2375735998904558},{"$f":"('2010'!X11/'2010 Rate'!$AA11)*1000","v":82.15801725318363},null,"Dundee City",{"$f":"'Population estimates'!H11","v":146060}]
[10,"East Ayrshire",null,{"$f":"('2010'!D12/'2010 Rate'!$AA12)*1000","v":0.24507801650191977},{"$f":"('2010'!E12/'2010 Rate'!$AA12)*1000","v":0.26958581815211174},{"$f":"('2010'!F12/'2010 Rate'!$AA12)*1000","v":-0.13887754268442121},{"$f":"('2010'!G12/'2010 Rate'!$AA12)*1000","v":0.11436974103422923},{"$f":"('2010'!H12/'2010 Rate'!$AA12)*1000","v":25.14500449309697},{"$f":"('2010'!I12/'2010 Rate'!$AA12)*1000","v":24.899926476595052},{"$f":"('2010'!J12/'2010 Rate'!$AA12)*1000","v":0.59635650682133812},{"$f":"('2010'!K12/'2010 Rate'!$AA12)*1000","v":18.519728780328407},{"$f":"('2010'!L12/'2010 Rate'!$AA12)*1000","v":17.923372273507066},{"$f":"('2010'!M12/'2010 Rate'!$AA12)*1000","v":0.44114042970345563},{"$f":"('2010'!N12/'2010 Rate'!$AA12)*1000","v":5.3998856302589662},{"$f":"('2010'!O12/'2010 Rate'!$AA12)*1000","v":4.9587452005555104},{"$f":"('2010'!P12/'2010 Rate'!$AA12)*1000","v":-0.79241892002287395},{"$f":"('2010'!Q12/'2010 Rate'!$AA12)*1000","v":1.2253900825095987},{"$f":"('2010'!R12/'2010 Rate'!$AA12)*1000","v":2.0178090025324726},{"$f":"('2010'!S12/'2010 Rate'!$AA12)*1000","v":0.24507801650191977},{"$f":"('2010'!T12/'2010 Rate'!$AA12)*1000","v":0.73523404950575943},{"$f":"('2010'!U12/'2010 Rate'!$AA12)*1000","v":0.4983253002205702},{"$f":"('2010'!V12/'2010 Rate'!$AA12)*1000","v":2.4181030961522749},{"$f":"('2010'!W12/'2010 Rate'!$AA12)*1000","v":0.7188955150722981},null,null,"East Ayrshire",{"$f":"'Population estimates'!H12","v":122410}]
[11,"East Dunbartonshire",null,{"$f":"('2010'!D13/'2010 Rate'!$AA13)*1000","v":-0.67670606176134196},{"$f":"('2010'!E13/'2010 Rate'!$AA13)*1000","v":2.5733892489515822},{"$f":"('2010'!F13/'2010 Rate'!$AA13)*1000","v":-2.8021349599695005},{"$f":"('2010'!G13/'2010 Rate'!$AA13)*1000","v":-0.44796035074342355},{"$f":"('2010'!H13/'2010 Rate'!$AA13)*1000","v":29.279451010293556},{"$f":"('2010'!I13/'2010 Rate'!$AA13)*1000","v":29.956157072054896},{"$f":"('2010'!J13/'2010 Rate'!$AA13)*1000","v":1.5535646206633626},{"$f":"('2010'!K13/'2010 Rate'!$AA13)*1000","v":24.085017155928327},{"$f":"('2010'!L13/'2010 Rate'!$AA13)*1000","v":22.531452535264965},{"$f":"('2010'!M13/'2010 Rate'!$AA13)*1000","v":-1.5726267632481892},{"$f":"('2010'!N13/'2010 Rate'!$AA13)*1000","v":3.7266488753335878},{"$f":"('2010'!O13/'2010 Rate'!$AA13)*1000","v":5.2992756385817765},{"$f":"('2010'!P13/'2010 Rate'!$AA13)*1000","v":-0.65764391917651543},{"$f":"('2010'!Q13/'2010 Rate'!$AA13)*1000","v":1.4677849790316431},{"$f":"('2010'!R13/'2010 Rate'!$AA13)*1000","v":2.1254288982081584},{"$f":"('2010'!S13/'2010 Rate'!$AA13)*1000","v":0.2382767823103317},{"$f":"('2010'!T13/'2010 Rate'!$AA13)*1000","v":1.4296606938619902},{"$f":"('2010'!U13/'2010 Rate'!$AA13)*1000","v":0.71483034693099512},{"$f":"('2010'!V13/'2010 Rate'!$AA13)*1000","v":9.674037361799467},{"$f":"('2010'!W13/'2010 Rate'!$AA13)*1000","v":2.8116660312619142},{"$f":"('2010'!X13/'2010 Rate'!$AA13)*1000","v":38.124285169653071},null,"East Dunbartonshire",{"$f":"'Population estimates'!H13","v":104920}]
[12,"East Lothian",null,{"$f":"('2010'!D14/'2010 Rate'!$AA14)*1000","v":6.0016138793625178},{"$f":"('2010'!E14/'2010 Rate'!$AA14)*1000","v":1.3213637280613275},{"$f":"('2010'!F14/'2010 Rate'!$AA14)*1000","v":4.0044381682469234},{"$f":"('2010'!G14/'2010 Rate'!$AA14)*1000","v":0.67581198305426671},{"$f":"('2010'!H14/'2010 Rate'!$AA14)*1000","v":37.542868670566875},{"$f":"('2010'!I14/'2010 Rate'!$AA14)*1000","v":31.541254791204356},{"$f":"('2010'!J14/'2010 Rate'!$AA14)*1000","v":3.5505345975388343},{"$f":"('2010'!K14/'2010 Rate'!$AA14)*1000","v":25.933024006455518},{"$f":"('2010'!L14/'2010 Rate'!$AA14)*1000","v":22.382489408916683},{"$f":"('2010'!M14/'2010 Rate'!$AA14)*1000","v":0.98850110954206172},{"$f":"('2010'!N14/'2010 Rate'!$AA14)*1000","v":7.3128908614081096},{"$f":"('2010'!O14/'2010 Rate'!$AA14)*1000","v":6.3243897518660486},{"$f":"('2010'!P14/'2010 Rate'!$AA14)*1000","v":1.4625781722816218},{"$f":"('2010'!Q14/'2010 Rate'!$AA14)*1000","v":4.2969538027032481},{"$f":"('2010'!R14/'2010 Rate'!$AA14)*1000","v":2.8343756304216261},{"$f":"('2010'!S14/'2010 Rate'!$AA14)*1000","v":0.65563849102279603},{"$f":"('2010'!T14/'2010 Rate'!$AA14)*1000","v":4.0346984062941296},{"$f":"('2010'!U14/'2010 Rate'!$AA14)*1000","v":1.1297155537623562},{"$f":"('2010'!V14/'2010 Rate'!$AA14)*1000","v":3.086544280815009},{"$f":"('2010'!W14/'2010 Rate'!$AA14)*1000","v":1.5735323784547106},{"$f":"('2010'!X14/'2010 Rate'!$AA14)*1000","v":50.433730078676618},null,"East Lothian",{"$f":"'Population estimates'!H14","v":99140}]
[13,"East Renfrewshire",null,{"$f":"('2010'!D15/'2010 Rate'!$AA15)*1000","v":4.081406924012831},{"$f":"('2010'!E15/'2010 Rate'!$AA15)*1000","v":3.5947350956752571},{"$f":"('2010'!F15/'2010 Rate'!$AA15)*1000","v":0.12166795708439332},{"$f":"('2010'!G15/'2010 Rate'!$AA15)*1000","v":0.36500387125317996},{"$f":"('2010'!H15/'2010 Rate'!$AA15)*1000","v":34.288242451056298},{"$f":"('2010'!I15/'2010 Rate'!$AA15)*1000","v":30.20683552704347},{"$f":"('2010'!J15/'2010 Rate'!$AA15)*1000","v":4.225196327839841},{"$f":"('2010'!K15/'2010 Rate'!$AA15)*1000","v":28.083176639752239},{"$f":"('2010'!L15/'2010 Rate'!$AA15)*1000","v":23.857980311912399},{"$f":"('2010'!M15/'2010 Rate'!$AA15)*1000","v":-0.56409689193673263},{"$f":"('2010'!N15/'2010 Rate'!$AA15)*1000","v":4.0703462006415227},{"$f":"('2010'!O15/'2010 Rate'!$AA15)*1000","v":4.6344430925782545},{"$f":"('2010'!P15/'2010 Rate'!$AA15)*1000","v":0.42030748810972235},{"$f":"('2010'!Q15/'2010 Rate'!$AA15)*1000","v":2.134719610662537},{"$f":"('2010'!R15/'2010 Rate'!$AA15)*1000","v":1.7144121225528148},{"$f":"('2010'!S15/'2010 Rate'!$AA15)*1000","v":0.22121446742616968},{"$f":"('2010'!T15/'2010 Rate'!$AA15)*1000","v":1.2166795708439331},{"$f":"('2010'!U15/'2010 Rate'!$AA15)*1000","v":0.92910076318991264},{"$f":"('2010'!V15/'2010 Rate'!$AA15)*1000","v":22.010839508903882},{"$f":"('2010'!W15/'2010 Rate'!$AA15)*1000","v":8.3950890388231389},{"$f":"('2010'!X15/'2010 Rate'!$AA15)*1000","v":55.303616856542419},null,"East Renfrewshire",{"$f":"'Population estimates'!H15","v":90410}]
[14,"Edinburgh, City of",null,{"$f":"('2010'!D16/'2010 Rate'!$AA16)*1000","v":17.170277056645531},{"$f":"('2010'!E16/'2010 Rate'!$AA16)*1000","v":0.42558624505255988},{"$f":"('2010'!F16/'2010 Rate'!$AA16)*1000","v":16.821296335702431},{"$f":"('2010'!G16/'2010 Rate'!$AA16)*1000","v":-7.6605524109460782E-2},{"$f":"('2010'!H16/'2010 Rate'!$AA16)*1000","v":66.563816657445642},{"$f":"('2010'!I16/'2010 Rate'!$AA16)*1000","v":49.393539600800104},{"$f":"('2010'!J16/'2010 Rate'!$AA16)*1000","v":-0.774566965995659},{"$f":"('2010'!K16/'2010 Rate'!$AA16)*1000","v":22.968889645486655},{"$f":"('2010'!L16/'2010 Rate'!$AA16)*1000","v":23.743456611482316},{"$f":"('2010'!M16/'2010 Rate'!$AA16)*1000","v":2.408818146997489},{"$f":"('2010'!N16/'2010 Rate'!$AA16)*1000","v":18.406605098523215},{"$f":"('2010'!O16/'2010 Rate'!$AA16)*1000","v":15.997786951525725},{"$f":"('2010'!P16/'2010 Rate'!$AA16)*1000","v":15.536025875643698},{"$f":"('2010'!Q16/'2010 Rate'!$AA16)*1000","v":25.188321913435757},{"$f":"('2010'!R16/'2010 Rate'!$AA16)*1000","v":9.652296037792059},{"$f":"('2010'!S16/'2010 Rate'!$AA16)*1000","v":2.7131123122100691},{"$f":"('2010'!T16/'2010 Rate'!$AA16)*1000","v":20.89628463208069},{"$f":"('2010'!U16/'2010 Rate'!$AA16)*1000","v":3.2493509809762946},{"$f":"('2010'!V16/'2010 Rate'!$AA16)*1000","v":10.748180618802399},{"$f":"('2010'!W16/'2010 Rate'!$AA16)*1000","v":6.9327999319062004},{"$f":"('2010'!X16/'2010 Rate'!$AA16)*1000","v":140.44346086734478},null,"Edinburgh, City of",{"$f":"'Population estimates'!H16","v":469940}]
[15,"Eilean Siar",null,{"$f":"('2010'!D17/'2010 Rate'!$AA17)*1000","v":6.1231884057971016},{"$f":"('2010'!E17/'2010 Rate'!$AA17)*1000","v":1.6304347826086956},{"$f":"('2010'!F17/'2010 Rate'!$AA17)*1000","v":3.1159420289855073},{"$f":"('2010'!G17/'2010 Rate'!$AA17)*1000","v":1.3768115942028987},{"$f":"('2010'!H17/'2010 Rate'!$AA17)*1000","v":35.289855072463766},{"$f":"('2010'!I17/'2010 Rate'!$AA17)*1000","v":29.166666666666668},{"$f":"('2010'!J17/'2010 Rate'!$AA17)*1000","v":0.97826086956521752},{"$f":"('2010'!K17/'2010 Rate'!$AA17)*1000","v":21.775362318840578},{"$f":"('2010'!L17/'2010 Rate'!$AA17)*1000","v":20.797101449275363},{"$f":"('2010'!M17/'2010 Rate'!$AA17)*1000","v":5.3260869565217392},{"$f":"('2010'!N17/'2010 Rate'!$AA17)*1000","v":11.014492753623189},{"$f":"('2010'!O17/'2010 Rate'!$AA17)*1000","v":5.6884057971014492},{"$f":"('2010'!P17/'2010 Rate'!$AA17)*1000","v":-0.18115942028985507},{"$f":"('2010'!Q17/'2010 Rate'!$AA17)*1000","v":2.5},{"$f":"('2010'!R17/'2010 Rate'!$AA17)*1000","v":2.6811594202898554},{"$f":"('2010'!S17/'2010 Rate'!$AA17)*1000","v":0.36231884057971014},{"$f":"('2010'!T17/'2010 Rate'!$AA17)*1000","v":1.4492753623188406},{"$f":"('2010'!U17/'2010 Rate'!$AA17)*1000","v":0.36231884057971014},{"$f":"('2010'!V17/'2010 Rate'!$AA17)*1000","v":1.6666666666666667},{"$f":"('2010'!W17/'2010 Rate'!$AA17)*1000","v":0.65217391304347827},null,null,"Eilean Siar",{"$f":"'Population estimates'!H17","v":27600}]
[16,"Falkirk",null,{"$f":"('2010'!D18/'2010 Rate'!$AA18)*1000","v":2.9521722315328094},{"$f":"('2010'!E18/'2010 Rate'!$AA18)*1000","v":0.32228954492716255},{"$f":"('2010'!F18/'2010 Rate'!$AA18)*1000","v":2.0304241330411239},{"$f":"('2010'!G18/'2010 Rate'!$AA18)*1000","v":0.59945855356452238},{"$f":"('2010'!H18/'2010 Rate'!$AA18)*1000","v":22.972798762408146},{"$f":"('2010'!I18/'2010 Rate'!$AA18)*1000","v":20.02062653087534},{"$f":"('2010'!J18/'2010 Rate'!$AA18)*1000","v":1.8177130333891969},{"$f":"('2010'!K18/'2010 Rate'!$AA18)*1000","v":16.127368828155213},{"$f":"('2010'!L18/'2010 Rate'!$AA18)*1000","v":14.309655794766018},{"$f":"('2010'!M18/'2010 Rate'!$AA18)*1000","v":0.11602423617377852},{"$f":"('2010'!N18/'2010 Rate'!$AA18)*1000","v":3.9061492845172103},{"$f":"('2010'!O18/'2010 Rate'!$AA18)*1000","v":3.7901250483434317},{"$f":"('2010'!P18/'2010 Rate'!$AA18)*1000","v":1.0184349619698339},{"$f":"('2010'!Q18/'2010 Rate'!$AA18)*1000","v":2.9392806497357227},{"$f":"('2010'!R18/'2010 Rate'!$AA18)*1000","v":1.920845687765889},{"$f":"('2010'!S18/'2010 Rate'!$AA18)*1000","v":0.80572386231790638},{"$f":"('2010'!T18/'2010 Rate'!$AA18)*1000","v":2.1915689055047056},{"$f":"('2010'!U18/'2010 Rate'!$AA18)*1000","v":0.79283228052081989},{"$f":"('2010'!V18/'2010 Rate'!$AA18)*1000","v":4.1059688023720513},{"$f":"('2010'!W18/'2010 Rate'!$AA18)*1000","v":2.6814490137939928},null,null,"Falkirk",{"$f":"'Population estimates'!H18","v":155140}]
[17,"Fife",null,{"$f":"('2010'!D19/'2010 Rate'!$AA19)*1000","v":4.9805576238934393},{"$f":"('2010'!E19/'2010 Rate'!$AA19)*1000","v":0.70599266429497254},{"$f":"('2010'!F19/'2010 Rate'!$AA19)*1000","v":4.007059926642949},{"$f":"('2010'!G19/'2010 Rate'!$AA19)*1000","v":0.26750503295551697},{"$f":"('2010'!H19/'2010 Rate'!$AA19)*1000","v":31.264995449656656},{"$f":"('2010'!I19/'2010 Rate'!$AA19)*1000","v":26.284437825763217},{"$f":"('2010'!J19/'2010 Rate'!$AA19)*1000","v":1.4643832216430877},{"$f":"('2010'!K19/'2010 Rate'!$AA19)*1000","v":15.865530459722569},{"$f":"('2010'!L19/'2010 Rate'!$AA19)*1000","v":14.40114723807948},{"$f":"('2010'!M19/'2010 Rate'!$AA19)*1000","v":6.6186812277653675E-2},{"$f":"('2010'!N19/'2010 Rate'!$AA19)*1000","v":8.0141198532858979},{"$f":"('2010'!O19/'2010 Rate'!$AA19)*1000","v":7.9479330410082465},{"$f":"('2010'!P19/'2010 Rate'!$AA19)*1000","v":3.4499875899726979},{"$f":"('2010'!Q19/'2010 Rate'!$AA19)*1000","v":7.3853451366481897},{"$f":"('2010'!R19/'2010 Rate'!$AA19)*1000","v":3.9353575466754918},{"$f":"('2010'!S19/'2010 Rate'!$AA19)*1000","v":1.3375251647775848},{"$f":"('2010'!T19/'2010 Rate'!$AA19)*1000","v":4.9915887592730481},{"$f":"('2010'!U19/'2010 Rate'!$AA19)*1000","v":1.119660241030308},{"$f":"('2010'!V19/'2010 Rate'!$AA19)*1000","v":4.2828383111331734},{"$f":"('2010'!W19/'2010 Rate'!$AA19)*1000","v":1.3926808416756296},{"$f":"('2010'!X19/'2010 Rate'!$AA19)*1000","v":57.913460742946967},null,"Fife",{"$f":"'Population estimates'!H19","v":362610}]
[18,"Glasgow City",null,{"$f":"('2010'!D20/'2010 Rate'!$AA20)*1000","v":5.200341005967605},{"$f":"('2010'!E20/'2010 Rate'!$AA20)*1000","v":-1.485080988917306},{"$f":"('2010'!F20/'2010 Rate'!$AA20)*1000","v":7.2821824381926685},{"$f":"('2010'!G20/'2010 Rate'!$AA20)*1000","v":-0.5967604433077579},{"$f":"('2010'!H20/'2010 Rate'!$AA20)*1000","v":49.618073316283031},{"$f":"('2010'!I20/'2010 Rate'!$AA20)*1000","v":44.417732310315429},{"$f":"('2010'!J20/'2010 Rate'!$AA20)*1000","v":-3.1747655583972718},{"$f":"('2010'!K20/'2010 Rate'!$AA20)*1000","v":22.741687979539641},{"$f":"('2010'!L20/'2010 Rate'!$AA20)*1000","v":25.916453537936913},{"$f":"('2010'!M20/'2010 Rate'!$AA20)*1000","v":-0.80306905370843995},{"$f":"('2010'!N20/'2010 Rate'!$AA20)*1000","v":9.5447570332480822},{"$f":"('2010'!O20/'2010 Rate'!$AA20)*1000","v":10.347826086956522},{"$f":"('2010'!P20/'2010 Rate'!$AA20)*1000","v":9.1781756180733165},{"$f":"('2010'!Q20/'2010 Rate'!$AA20)*1000","v":17.331628303495311},{"$f":"('2010'!R20/'2010 Rate'!$AA20)*1000","v":8.1534526854219962},{"$f":"('2010'!S20/'2010 Rate'!$AA20)*1000","v":1.577152600170503},{"$f":"('2010'!T20/'2010 Rate'!$AA20)*1000","v":13.537936913895994},{"$f":"('2010'!U20/'2010 Rate'!$AA20)*1000","v":3.2770673486786017},{"$f":"('2010'!V20/'2010 Rate'!$AA20)*1000","v":17.227621483375959},{"$f":"('2010'!W20/'2010 Rate'!$AA20)*1000","v":15.198635976129582},{"$f":"('2010'!X20/'2010 Rate'!$AA20)*1000","v":110.82693947144075},null,"Glasgow City",{"$f":"'Population estimates'!H20","v":586500}]
[19,"Highland",null,{"$f":"('2010'!D21/'2010 Rate'!$AA21)*1000","v":4.2907294240020803},{"$f":"('2010'!E21/'2010 Rate'!$AA21)*1000","v":1.0488449703116196},{"$f":"('2010'!F21/'2010 Rate'!$AA21)*1000","v":3.1898756121874055},{"$f":"('2010'!G21/'2010 Rate'!$AA21)*1000","v":5.2008841503055521E-2},{"$f":"('2010'!H21/'2010 Rate'!$AA21)*1000","v":34.061457114376111},{"$f":"('2010'!I21/'2010 Rate'!$AA21)*1000","v":29.770727690374031},{"$f":"('2010'!J21/'2010 Rate'!$AA21)*1000","v":-0.31638711914358775},{"$f":"('2010'!K21/'2010 Rate'!$AA21)*1000","v":16.950548259870846},{"$f":"('2010'!L21/'2010 Rate'!$AA21)*1000","v":17.266935379014431},{"$f":"('2010'!M21/'2010 Rate'!$AA21)*1000","v":3.0555194383045117},{"$f":"('2010'!N21/'2010 Rate'!$AA21)*1000","v":11.43761106054696},{"$f":"('2010'!O21/'2010 Rate'!$AA21)*1000","v":8.3820916222424486},{"$f":"('2010'!P21/'2010 Rate'!$AA21)*1000","v":1.5515971048411563},{"$f":"('2010'!Q21/'2010 Rate'!$AA21)*1000","v":5.673297793958306},{"$f":"('2010'!R21/'2010 Rate'!$AA21)*1000","v":4.1217006891171506},{"$f":"('2010'!S21/'2010 Rate'!$AA21)*1000","v":2.6221124257790489},{"$f":"('2010'!T21/'2010 Rate'!$AA21)*1000","v":5.677631864083561},{"$f":"('2010'!U21/'2010 Rate'!$AA21)*1000","v":1.3522298790794436},{"$f":"('2010'!V21/'2010 Rate'!$AA21)*1000","v":2.7998093009144891},{"$f":"('2010'!W21/'2010 Rate'!$AA21)*1000","v":2.4704199713951374},{"$f":"('2010'!X21/'2010 Rate'!$AA21)*1000","v":34.672561002037014},null,"Highland",{"$f":"'Population estimates'!H21","v":230730}]
[20,"Inverclyde",null,{"$f":"('2010'!D22/'2010 Rate'!$AA22)*1000","v":-2.7726659305606671},{"$f":"('2010'!E22/'2010 Rate'!$AA22)*1000","v":-0.19629493313703841},{"$f":"('2010'!F22/'2010 Rate'!$AA22)*1000","v":-2.6990553306342777},{"$f":"('2010'!G22/'2010 Rate'!$AA22)*1000","v":0.122684333210649},{"$f":"('2010'!H22/'2010 Rate'!$AA22)*1000","v":17.151269782848729},{"$f":"('2010'!I22/'2010 Rate'!$AA22)*1000","v":19.923935713409399},{"$f":"('2010'!J22/'2010 Rate'!$AA22)*1000","v":-2.0242914979757085},{"$f":"('2010'!K22/'2010 Rate'!$AA22)*1000","v":10.99251625567415},{"$f":"('2010'!L22/'2010 Rate'!$AA22)*1000","v":13.016807753649859},{"$f":"('2010'!M22/'2010 Rate'!$AA22)*1000","v":-1.0550852656115814},{"$f":"('2010'!N22/'2010 Rate'!$AA22)*1000","v":3.7050668629615995},{"$f":"('2010'!O22/'2010 Rate'!$AA22)*1000","v":4.7601521285731812},{"$f":"('2010'!P22/'2010 Rate'!$AA22)*1000","v":0.3067108330266225},{"$f":"('2010'!Q22/'2010 Rate'!$AA22)*1000","v":2.45368666421298},{"$f":"('2010'!R22/'2010 Rate'!$AA22)*1000","v":2.1469758311863574},{"$f":"('2010'!S22/'2010 Rate'!$AA22)*1000","v":6.1342166605324502E-2},{"$f":"('2010'!T22/'2010 Rate'!$AA22)*1000","v":1.9629493313703841},{"$f":"('2010'!U22/'2010 Rate'!$AA22)*1000","v":0.40485829959514169},{"$f":"('2010'!V22/'2010 Rate'!$AA22)*1000","v":2.2328548644338118},{"$f":"('2010'!W22/'2010 Rate'!$AA22)*1000","v":0.66249539933750456},null,null,"Inverclyde",{"$f":"'Population estimates'!H22","v":81510}]
[21,"Midlothian",null,{"$f":"('2010'!D23/'2010 Rate'!$AA23)*1000","v":2.8776104905293831},{"$f":"('2010'!E23/'2010 Rate'!$AA23)*1000","v":0.75279261777561923},{"$f":"('2010'!F23/'2010 Rate'!$AA23)*1000","v":1.6148615832928606},{"$f":"('2010'!G23/'2010 Rate'!$AA23)*1000","v":0.50995628946090332},{"$f":"('2010'!H23/'2010 Rate'!$AA23)*1000","v":31.969402622632341},{"$f":"('2010'!I23/'2010 Rate'!$AA23)*1000","v":29.091792132102963},{"$f":"('2010'!J23/'2010 Rate'!$AA23)*1000","v":3.071879553181156},{"$f":"('2010'!K23/'2010 Rate'!$AA23)*1000","v":24.550752792617775},{"$f":"('2010'!L23/'2010 Rate'!$AA23)*1000","v":21.47887323943662},{"$f":"('2010'!M23/'2010 Rate'!$AA23)*1000","v":-0.6799417192812045},{"$f":"('2010'!N23/'2010 Rate'!$AA23)*1000","v":4.9052938319572608},{"$f":"('2010'!O23/'2010 Rate'!$AA23)*1000","v":5.5852355512384655},{"$f":"('2010'!P23/'2010 Rate'!$AA23)*1000","v":0.48567265662943176},{"$f":"('2010'!Q23/'2010 Rate'!$AA23)*1000","v":2.513355998057309},{"$f":"('2010'!R23/'2010 Rate'!$AA23)*1000","v":2.0276833414278777},{"$f":"('2010'!S23/'2010 Rate'!$AA23)*1000","v":0.60709082078678966},{"$f":"('2010'!T23/'2010 Rate'!$AA23)*1000","v":2.4283632831471587},{"$f":"('2010'!U23/'2010 Rate'!$AA23)*1000","v":0.86206896551724133},{"$f":"('2010'!V23/'2010 Rate'!$AA23)*1000","v":3.7518212724623603},{"$f":"('2010'!W23/'2010 Rate'!$AA23)*1000","v":1.5662943176299173},null,null,"Midlothian",{"$f":"'Population estimates'!H23","v":82360}]
[22,"Moray",null,{"$f":"('2010'!D24/'2010 Rate'!$AA24)*1000","v":-9.6061479346781942E-2},{"$f":"('2010'!E24/'2010 Rate'!$AA24)*1000","v":-4.2693990820791977E-2},{"$f":"('2010'!F24/'2010 Rate'!$AA24)*1000","v":-0.54434838296509758},{"$f":"('2010'!G24/'2010 Rate'!$AA24)*1000","v":0.49098089443910764},{"$f":"('2010'!H24/'2010 Rate'!$AA24)*1000","v":32.885046429715018},{"$f":"('2010'!I24/'2010 Rate'!$AA24)*1000","v":32.981107909061798},{"$f":"('2010'!J24/'2010 Rate'!$AA24)*1000","v":-1.0673497705197994},{"$f":"('2010'!K24/'2010 Rate'!$AA24)*1000","v":16.55459494076209},{"$f":"('2010'!L24/'2010 Rate'!$AA24)*1000","v":17.621944711281888},{"$f":"('2010'!M24/'2010 Rate'!$AA24)*1000","v":0.43761340591311776},{"$f":"('2010'!N24/'2010 Rate'!$AA24)*1000","v":11.516704023908634},{"$f":"('2010'!O24/'2010 Rate'!$AA24)*1000","v":11.079090617995517},{"$f":"('2010'!P24/'2010 Rate'!$AA24)*1000","v":0.5336748852598997},{"$f":"('2010'!Q24/'2010 Rate'!$AA24)*1000","v":4.8137474650442948},{"$f":"('2010'!R24/'2010 Rate'!$AA24)*1000","v":4.2800725797843953},{"$f":"('2010'!S24/'2010 Rate'!$AA24)*1000","v":0.96061479346781942},{"$f":"('2010'!T24/'2010 Rate'!$AA24)*1000","v":2.8818443804034581},{"$f":"('2010'!U24/'2010 Rate'!$AA24)*1000","v":0.92859430035222545},{"$f":"('2010'!V24/'2010 Rate'!$AA24)*1000","v":2.8604973849930624},{"$f":"('2010'!W24/'2010 Rate'!$AA24)*1000","v":2.5616394492475183},{"$f":"('2010'!X24/'2010 Rate'!$AA24)*1000","v":53.367488525989963},null,"Moray",{"$f":"'Population estimates'!H24","v":93690}]
[23,"North Ayrshire",null,{"$f":"('2010'!D25/'2010 Rate'!$AA25)*1000","v":-1.1974744175919878},{"$f":"('2010'!E25/'2010 Rate'!$AA25)*1000","v":7.2574207126787135E-3},{"$f":"('2010'!F25/'2010 Rate'!$AA25)*1000","v":-1.5821177153639596},{"$f":"('2010'!G25/'2010 Rate'!$AA25)*1000","v":0.37738587705929311},{"$f":"('2010'!H25/'2010 Rate'!$AA25)*1000","v":25.248566659409246},{"$f":"('2010'!I25/'2010 Rate'!$AA25)*1000","v":26.446041077001237},{"$f":"('2010'!J25/'2010 Rate'!$AA25)*1000","v":-1.1176427897525218},{"$f":"('2010'!K25/'2010 Rate'!$AA25)*1000","v":17.635532331809273},{"$f":"('2010'!L25/'2010 Rate'!$AA25)*1000","v":18.753175121561796},{"$f":"('2010'!M25/'2010 Rate'!$AA25)*1000","v":0.5805936570142971},{"$f":"('2010'!N25/'2010 Rate'!$AA25)*1000","v":5.9075404601204733},{"$f":"('2010'!O25/'2010 Rate'!$AA25)*1000","v":5.3269468031061757},{"$f":"('2010'!P25/'2010 Rate'!$AA25)*1000","v":-0.66042528485376295},{"$f":"('2010'!Q25/'2010 Rate'!$AA25)*1000","v":1.7054938674794977},{"$f":"('2010'!R25/'2010 Rate'!$AA25)*1000","v":2.3659191523332606},{"$f":"('2010'!S25/'2010 Rate'!$AA25)*1000","v":0.25400972494375501},{"$f":"('2010'!T25/'2010 Rate'!$AA25)*1000","v":1.2337615211553814},{"$f":"('2010'!U25/'2010 Rate'!$AA25)*1000","v":0.43544524276072283},{"$f":"('2010'!V25/'2010 Rate'!$AA25)*1000","v":2.0103055374120036},{"$f":"('2010'!W25/'2010 Rate'!$AA25)*1000","v":0.55882139487626092},null,null,"North Ayrshire",{"$f":"'Population estimates'!H25","v":137790}]
[24,"North Lanarkshire",null,{"$f":"('2010'!D26/'2010 Rate'!$AA26)*1000","v":-1.2549066254311882},{"$f":"('2010'!E26/'2010 Rate'!$AA26)*1000","v":-0.13679076959676459},{"$f":"('2010'!F26/'2010 Rate'!$AA26)*1000","v":-1.0645890329487333},{"$f":"('2010'!G26/'2010 Rate'!$AA26)*1000","v":-5.3526822885690495E-2},{"$f":"('2010'!H26/'2010 Rate'!$AA26)*1000","v":18.511359581301296},{"$f":"('2010'!I26/'2010 Rate'!$AA26)*1000","v":19.766266206732485},{"$f":"('2010'!J26/'2010 Rate'!$AA26)*1000","v":-0.73450695848697511},{"$f":"('2010'!K26/'2010 Rate'!$AA26)*1000","v":13.197335553705246},{"$f":"('2010'!L26/'2010 Rate'!$AA26)*1000","v":13.931842512192221},{"$f":"('2010'!M26/'2010 Rate'!$AA26)*1000","v":-0.45200428214583083},{"$f":"('2010'!N26/'2010 Rate'!$AA26)*1000","v":2.9915546568335909},{"$f":"('2010'!O26/'2010 Rate'!$AA26)*1000","v":3.4435589389794217},{"$f":"('2010'!P26/'2010 Rate'!$AA26)*1000","v":-6.8395384798382294E-2},{"$f":"('2010'!Q26/'2010 Rate'!$AA26)*1000","v":2.3224693707624602},{"$f":"('2010'!R26/'2010 Rate'!$AA26)*1000","v":2.390864755560842},{"$f":"('2010'!S26/'2010 Rate'!$AA26)*1000","v":0.72855953372189841},{"$f":"('2010'!T26/'2010 Rate'!$AA26)*1000","v":1.605804686570715},{"$f":"('2010'!U26/'2010 Rate'!$AA26)*1000","v":0.82371832996312588},{"$f":"('2010'!V26/'2010 Rate'!$AA26)*1000","v":4.6508861662899967},{"$f":"('2010'!W26/'2010 Rate'!$AA26)*1000","v":2.5306292375401451},null,null,"North Lanarkshire",{"$f":"'Population estimates'!H26","v":336280}]
[25,"Orkney Islands",null,{"$f":"('2010'!D27/'2010 Rate'!$AA27)*1000","v":7.6814326107445812},{"$f":"('2010'!E27/'2010 Rate'!$AA27)*1000","v":1.7436380772855797},{"$f":"('2010'!F27/'2010 Rate'!$AA27)*1000","v":4.6182846371347788},{"$f":"('2010'!G27/'2010 Rate'!$AA27)*1000","v":1.3195098963242224},{"$f":"('2010'!H27/'2010 Rate'!$AA27)*1000","v":37.935909519321392},{"$f":"('2010'!I27/'2010 Rate'!$AA27)*1000","v":30.254476908576812},{"$f":"('2010'!J27/'2010 Rate'!$AA27)*1000","v":0.70688030160226201},{"$f":"('2010'!K27/'2010 Rate'!$AA27)*1000","v":20.263901979264844},{"$f":"('2010'!L27/'2010 Rate'!$AA27)*1000","v":19.557021677662583},{"$f":"('2010'!M27/'2010 Rate'!$AA27)*1000","v":6.833176248821867},{"$f":"('2010'!N27/'2010 Rate'!$AA27)*1000","v":14.70311027332705},{"$f":"('2010'!O27/'2010 Rate'!$AA27)*1000","v":7.8699340245051843},{"$f":"('2010'!P27/'2010 Rate'!$AA27)*1000","v":0.14137606032045241},{"$f":"('2010'!Q27/'2010 Rate'!$AA27)*1000","v":2.9688972667295004},{"$f":"('2010'!R27/'2010 Rate'!$AA27)*1000","v":2.827521206409048},{"$f":"('2010'!S27/'2010 Rate'!$AA27)*1000","v":0.70688030160226201},{"$f":"('2010'!T27/'2010 Rate'!$AA27)*1000","v":2.3562676720075397},{"$f":"('2010'!U27/'2010 Rate'!$AA27)*1000","v":0.65975494816211122},{"$f":"('2010'!V27/'2010 Rate'!$AA27)*1000","v":2.3091423185673894},{"$f":"('2010'!W27/'2010 Rate'!$AA27)*1000","v":0.70688030160226201},null,null,"Orkney Islands",{"$f":"'Population estimates'!H27","v":21220}]
[26,"Perth & Kinross",null,{"$f":"('2010'!D28/'2010 Rate'!$AA28)*1000","v":12.781593406593407},{"$f":"('2010'!E28/'2010 Rate'!$AA28)*1000","v":2.8640109890109891},{"$f":"('2010'!F28/'2010 Rate'!$AA28)*1000","v":9.3612637362637354},{"$f":"('2010'!G28/'2010 Rate'!$AA28)*1000","v":0.55631868131868134},{"$f":"('2010'!H28/'2010 Rate'!$AA28)*1000","v":47.939560439560445},{"$f":"('2010'!I28/'2010 Rate'!$AA28)*1000","v":35.157967032967029},{"$f":"('2010'!J28/'2010 Rate'!$AA28)*1000","v":3.1387362637362637},{"$f":"('2010'!K28/'2010 Rate'!$AA28)*1000","v":23.839285714285715},{"$f":"('2010'!L28/'2010 Rate'!$AA28)*1000","v":20.700549450549449},{"$f":"('2010'!M28/'2010 Rate'!$AA28)*1000","v":1.6277472527472527},{"$f":"('2010'!N28/'2010 Rate'!$AA28)*1000","v":9.4711538461538467},{"$f":"('2010'!O28/'2010 Rate'!$AA28)*1000","v":7.843406593406594},{"$f":"('2010'!P28/'2010 Rate'!$AA28)*1000","v":8.0151098901098905},{"$f":"('2010'!Q28/'2010 Rate'!$AA28)*1000","v":14.62912087912088},{"$f":"('2010'!R28/'2010 Rate'!$AA28)*1000","v":6.6140109890109882},{"$f":"('2010'!S28/'2010 Rate'!$AA28)*1000","v":7.6236263736263732},{"$f":"('2010'!T28/'2010 Rate'!$AA28)*1000","v":20.123626373626376},{"$f":"('2010'!U28/'2010 Rate'!$AA28)*1000","v":1.4010989010989012},{"$f":"('2010'!V28/'2010 Rate'!$AA28)*1000","v":3.4958791208791209},{"$f":"('2010'!W28/'2010 Rate'!$AA28)*1000","v":2.7678571428571428},{"$f":"('2010'!X28/'2010 Rate'!$AA28)*1000","v":61.813186813186817},null,"Perth & Kinross",{"$f":"'Population estimates'!H28","v":145600}]
[27,"Renfrewshire",null,{"$f":"('2010'!D29/'2010 Rate'!$AA29)*1000","v":2.5503742084052963},{"$f":"('2010'!E29/'2010 Rate'!$AA29)*1000","v":0.23603914795624642},{"$f":"('2010'!F29/'2010 Rate'!$AA29)*1000","v":2.0955670696603339},{"$f":"('2010'!G29/'2010 Rate'!$AA29)*1000","v":0.21876799078871617},{"$f":"('2010'!H29/'2010 Rate'!$AA29)*1000","v":28.048359240069086},{"$f":"('2010'!I29/'2010 Rate'!$AA29)*1000","v":25.497985031663788},{"$f":"('2010'!J29/'2010 Rate'!$AA29)*1000","v":0.73690270581462292},{"$f":"('2010'!K29/'2010 Rate'!$AA29)*1000","v":18.808290155440417},{"$f":"('2010'!L29/'2010 Rate'!$AA29)*1000","v":18.071387449625792},{"$f":"('2010'!M29/'2010 Rate'!$AA29)*1000","v":-0.16695451928612551},{"$f":"('2010'!N29/'2010 Rate'!$AA29)*1000","v":4.3638457109959701},{"$f":"('2010'!O29/'2010 Rate'!$AA29)*1000","v":4.5308002302820949},{"$f":"('2010'!P29/'2010 Rate'!$AA29)*1000","v":1.9804260218767991},{"$f":"('2010'!Q29/'2010 Rate'!$AA29)*1000","v":4.8762233736327003},{"$f":"('2010'!R29/'2010 Rate'!$AA29)*1000","v":2.8957973517559012},{"$f":"('2010'!S29/'2010 Rate'!$AA29)*1000","v":1.1226252158894647},{"$f":"('2010'!T29/'2010 Rate'!$AA29)*1000","v":2.7633851468048358},{"$f":"('2010'!U29/'2010 Rate'!$AA29)*1000","v":1.0074841681059297},{"$f":"('2010'!V29/'2010 Rate'!$AA29)*1000","v":4.4962579159470355},{"$f":"('2010'!W29/'2010 Rate'!$AA29)*1000","v":1.7443868739205526},{"$f":"('2010'!X29/'2010 Rate'!$AA29)*1000","v":40.299366724237188},null,"Renfrewshire",{"$f":"'Population estimates'!H29","v":173700}]
[28,"Scottish Borders",null,{"$f":"('2010'!D30/'2010 Rate'!$AA30)*1000","v":2.5156126308382443},{"$f":"('2010'!E30/'2010 Rate'!$AA30)*1000","v":1.0467059547893394},{"$f":"('2010'!F30/'2010 Rate'!$AA30)*1000","v":1.2841938604978449},{"$f":"('2010'!G30/'2010 Rate'!$AA30)*1000","v":0.18471281555105989},{"$f":"('2010'!H30/'2010 Rate'!$AA30)*1000","v":36.432403905356672},{"$f":"('2010'!I30/'2010 Rate'!$AA30)*1000","v":33.916791274518431},{"$f":"('2010'!J30/'2010 Rate'!$AA30)*1000","v":1.2666021637786964},{"$f":"('2010'!K30/'2010 Rate'!$AA30)*1000","v":19.658721083648519},{"$f":"('2010'!L30/'2010 Rate'!$AA30)*1000","v":18.392118919869823},{"$f":"('2010'!M30/'2010 Rate'!$AA30)*1000","v":2.154982848095699},{"$f":"('2010'!N30/'2010 Rate'!$AA30)*1000","v":13.308118568035887},{"$f":"('2010'!O30/'2010 Rate'!$AA30)*1000","v":11.153135719940188},{"$f":"('2010'!P30/'2010 Rate'!$AA30)*1000","v":-0.90597238103615096},{"$f":"('2010'!Q30/'2010 Rate'!$AA30)*1000","v":3.4655642536722668},{"$f":"('2010'!R30/'2010 Rate'!$AA30)*1000","v":4.3715366347084172},{"$f":"('2010'!S30/'2010 Rate'!$AA30)*1000","v":1.4513149793297564},{"$f":"('2010'!T30/'2010 Rate'!$AA30)*1000","v":3.3424223766382268},{"$f":"('2010'!U30/'2010 Rate'!$AA30)*1000","v":1.0906851965872109},{"$f":"('2010'!V30/'2010 Rate'!$AA30)*1000","v":2.9729967455361073},{"$f":"('2010'!W30/'2010 Rate'!$AA30)*1000","v":2.2693288767701643},{"$f":"('2010'!X30/'2010 Rate'!$AA30)*1000","v":61.570938517019968},null,"Scottish Borders",{"$f":"'Population estimates'!H30","v":113690}]
[29,"Shetland Islands",null,{"$f":"('2010'!D31/'2010 Rate'!$AA31)*1000","v":6.7215958369470945},{"$f":"('2010'!E31/'2010 Rate'!$AA31)*1000","v":1.9947961838681698},{"$f":"('2010'!F31/'2010 Rate'!$AA31)*1000","v":4.9436253252385081},{"$f":"('2010'!G31/'2010 Rate'!$AA31)*1000","v":-0.21682567215958368},{"$f":"('2010'!H31/'2010 Rate'!$AA31)*1000","v":32.870771899392885},{"$f":"('2010'!I31/'2010 Rate'!$AA31)*1000","v":26.149176062445793},{"$f":"('2010'!J31/'2010 Rate'!$AA31)*1000","v":-1.6912402428447528},{"$f":"('2010'!K31/'2010 Rate'!$AA31)*1000","v":13.009540329575021},{"$f":"('2010'!L31/'2010 Rate'!$AA31)*1000","v":14.700780572419776},{"$f":"('2010'!M31/'2010 Rate'!$AA31)*1000","v":7.3720728534258457},{"$f":"('2010'!N31/'2010 Rate'!$AA31)*1000","v":15.43798785776236},{"$f":"('2010'!O31/'2010 Rate'!$AA31)*1000","v":8.0659150043365138},{"$f":"('2010'!P31/'2010 Rate'!$AA31)*1000","v":1.0407632263660018},{"$f":"('2010'!Q31/'2010 Rate'!$AA31)*1000","v":4.4232437120555081},{"$f":"('2010'!R31/'2010 Rate'!$AA31)*1000","v":3.3824804856895057},{"$f":"('2010'!S31/'2010 Rate'!$AA31)*1000","v":2.6019080659150045},{"$f":"('2010'!T31/'2010 Rate'!$AA31)*1000","v":4.7701647875108417},{"$f":"('2010'!U31/'2010 Rate'!$AA31)*1000","v":0.99739809193408491},{"$f":"('2010'!V31/'2010 Rate'!$AA31)*1000","v":2.9054640069384217},{"$f":"('2010'!W31/'2010 Rate'!$AA31)*1000","v":2.0815264527320037},null,null,"Shetland Islands",{"$f":"'Population estimates'!H31","v":23060}]
[30,"South Ayrshire",null,{"$f":"('2010'!D32/'2010 Rate'!$AA32)*1000","v":3.9342806394316163},{"$f":"('2010'!E32/'2010 Rate'!$AA32)*1000","v":1.3143872113676731},{"$f":"('2010'!F32/'2010 Rate'!$AA32)*1000","v":2.3712255772646538},{"$f":"('2010'!G32/'2010 Rate'!$AA32)*1000","v":0.24866785079928952},{"$f":"('2010'!H32/'2010 Rate'!$AA32)*1000","v":31.19005328596803},{"$f":"('2010'!I32/'2010 Rate'!$AA32)*1000","v":27.255772646536411},{"$f":"('2010'!J32/'2010 Rate'!$AA32)*1000","v":1.2788632326820604},{"$f":"('2010'!K32/'2010 Rate'!$AA32)*1000","v":19.78685612788632},{"$f":"('2010'!L32/'2010 Rate'!$AA32)*1000","v":18.507992895204261},{"$f":"('2010'!M32/'2010 Rate'!$AA32)*1000","v":2.8863232682060391},{"$f":"('2010'!N32/'2010 Rate'!$AA32)*1000","v":8.4991119005328599},{"$f":"('2010'!O32/'2010 Rate'!$AA32)*1000","v":5.6127886323268203},{"$f":"('2010'!P32/'2010 Rate'!$AA32)*1000","v":-0.23090586145648312},{"$f":"('2010'!Q32/'2010 Rate'!$AA32)*1000","v":2.9040852575488452},{"$f":"('2010'!R32/'2010 Rate'!$AA32)*1000","v":3.1349911190053286},{"$f":"('2010'!S32/'2010 Rate'!$AA32)*1000","v":0.13321492007104796},{"$f":"('2010'!T32/'2010 Rate'!$AA32)*1000","v":2.6642984014209592},{"$f":"('2010'!U32/'2010 Rate'!$AA32)*1000","v":0.55950266429840145},{"$f":"('2010'!V32/'2010 Rate'!$AA32)*1000","v":2.6287744227353462},{"$f":"('2010'!W32/'2010 Rate'!$AA32)*1000","v":1.2255772646536414},{"$f":"('2010'!X32/'2010 Rate'!$AA32)*1000","v":35.523978685612789},null,"South Ayrshire",{"$f":"'Population estimates'!H32","v":112600}]
[31,"South Lanarkshire",null,{"$f":"('2010'!D33/'2010 Rate'!$AA33)*1000","v":2.5799859505715563},{"$f":"('2010'!E33/'2010 Rate'!$AA33)*1000","v":0.69927837026630046},{"$f":"('2010'!F33/'2010 Rate'!$AA33)*1000","v":1.5007344019413755},{"$f":"('2010'!G33/'2010 Rate'!$AA33)*1000","v":0.37997317836388017},{"$f":"('2010'!H33/'2010 Rate'!$AA33)*1000","v":25.257040679481449},{"$f":"('2010'!I33/'2010 Rate'!$AA33)*1000","v":22.677054728909894},{"$f":"('2010'!J33/'2010 Rate'!$AA33)*1000","v":2.9024841943930006},{"$f":"('2010'!K33/'2010 Rate'!$AA33)*1000","v":18.743214764672075},{"$f":"('2010'!L33/'2010 Rate'!$AA33)*1000","v":15.840730570279071},{"$f":"('2010'!M33/'2010 Rate'!$AA33)*1000","v":-0.14368733635608916},{"$f":"('2010'!N33/'2010 Rate'!$AA33)*1000","v":4.3170061945207232},{"$f":"('2010'!O33/'2010 Rate'!$AA33)*1000","v":4.4606935308768119},{"$f":"('2010'!P33/'2010 Rate'!$AA33)*1000","v":-0.17881090746535538},{"$f":"('2010'!Q33/'2010 Rate'!$AA33)*1000","v":2.1968197202886519},{"$f":"('2010'!R33/'2010 Rate'!$AA33)*1000","v":2.3756306277540071},{"$f":"('2010'!S33/'2010 Rate'!$AA33)*1000","v":0.3672009706877834},{"$f":"('2010'!T33/'2010 Rate'!$AA33)*1000","v":1.5326649211316177},{"$f":"('2010'!U33/'2010 Rate'!$AA33)*1000","v":0.66096174723801016},{"$f":"('2010'!V33/'2010 Rate'!$AA33)*1000","v":4.5117823615811998},{"$f":"('2010'!W33/'2010 Rate'!$AA33)*1000","v":1.4560316750750366},null,null,"South Lanarkshire",{"$f":"'Population estimates'!H33","v":313180}]
[32,"Stirling",null,{"$f":"('2010'!D34/'2010 Rate'!$AA34)*1000","v":11.233947515354551},{"$f":"('2010'!E34/'2010 Rate'!$AA34)*1000","v":3.6180904522613067},{"$f":"('2010'!F34/'2010 Rate'!$AA34)*1000","v":7.6381909547738696},{"$f":"('2010'!G34/'2010 Rate'!$AA34)*1000","v":-2.2333891680625346E-2},{"$f":"('2010'!H34/'2010 Rate'!$AA34)*1000","v":57.922948073701846},{"$f":"('2010'!I34/'2010 Rate'!$AA34)*1000","v":46.689000558347296},{"$f":"('2010'!J34/'2010 Rate'!$AA34)*1000","v":3.4505862646566166},{"$f":"('2010'!K34/'2010 Rate'!$AA34)*1000","v":34.260189838079285},{"$f":"('2010'!L34/'2010 Rate'!$AA34)*1000","v":30.809603573422667},{"$f":"('2010'!M34/'2010 Rate'!$AA34)*1000","v":0.37967615857063092},{"$f":"('2010'!N34/'2010 Rate'!$AA34)*1000","v":9.7152428810720259},{"$f":"('2010'!O34/'2010 Rate'!$AA34)*1000","v":9.3355667225013956},{"$f":"('2010'!P34/'2010 Rate'!$AA34)*1000","v":7.4036850921273034},{"$f":"('2010'!Q34/'2010 Rate'!$AA34)*1000","v":13.94751535455053},{"$f":"('2010'!R34/'2010 Rate'!$AA34)*1000","v":6.543830262423227},{"$f":"('2010'!S34/'2010 Rate'!$AA34)*1000","v":1.7308766052484645},{"$f":"('2010'!T34/'2010 Rate'!$AA34)*1000","v":6.3651591289782248},{"$f":"('2010'!U34/'2010 Rate'!$AA34)*1000","v":1.1390284757118929},{"$f":"('2010'!V34/'2010 Rate'!$AA34)*1000","v":5.3713009491903962},{"$f":"('2010'!W34/'2010 Rate'!$AA34)*1000","v":1.9207146845337799},{"$f":"('2010'!X34/'2010 Rate'!$AA34)*1000","v":67.001675041876041},null,"Stirling",{"$f":"'Population estimates'!H34","v":89550}]
[33,"West Dunbartonshire",null,{"$f":"('2010'!D35/'2010 Rate'!$AA35)*1000","v":-3.2048458149779737},{"$f":"('2010'!E35/'2010 Rate'!$AA35)*1000","v":-1.0242290748898679},{"$f":"('2010'!F35/'2010 Rate'!$AA35)*1000","v":-2.2907488986784141},{"$f":"('2010'!G35/'2010 Rate'!$AA35)*1000","v":0.11013215859030838},{"$f":"('2010'!H35/'2010 Rate'!$AA35)*1000","v":22.852422907488986},{"$f":"('2010'!I35/'2010 Rate'!$AA35)*1000","v":26.057268722466958},{"$f":"('2010'!J35/'2010 Rate'!$AA35)*1000","v":-2.8193832599118944},{"$f":"('2010'!K35/'2010 Rate'!$AA35)*1000","v":16.784140969162994},{"$f":"('2010'!L35/'2010 Rate'!$AA35)*1000","v":19.603524229074889},{"$f":"('2010'!M35/'2010 Rate'!$AA35)*1000","v":-0.94713656387665202},{"$f":"('2010'!N35/'2010 Rate'!$AA35)*1000","v":3.8656387665198242},{"$f":"('2010'!O35/'2010 Rate'!$AA35)*1000","v":4.8127753303964758},{"$f":"('2010'!P35/'2010 Rate'!$AA35)*1000","v":0.56167400881057272},{"$f":"('2010'!Q35/'2010 Rate'!$AA35)*1000","v":2.2026431718061676},{"$f":"('2010'!R35/'2010 Rate'!$AA35)*1000","v":1.6409691629955949},{"$f":"('2010'!S35/'2010 Rate'!$AA35)*1000","v":0},{"$f":"('2010'!T35/'2010 Rate'!$AA35)*1000","v":1.5418502202643172},{"$f":"('2010'!U35/'2010 Rate'!$AA35)*1000","v":0.59471365638766527},{"$f":"('2010'!V35/'2010 Rate'!$AA35)*1000","v":3.127753303964758},{"$f":"('2010'!W35/'2010 Rate'!$AA35)*1000","v":0.95814977973568283},null,null,"West Dunbartonshire",{"$f":"'Population estimates'!H35","v":90800}]
[34,"West Lothian",null,{"$f":"('2010'!D36/'2010 Rate'!$AA36)*1000","v":1.1660635303578608},{"$f":"('2010'!E36/'2010 Rate'!$AA36)*1000","v":0.63760124073754953},{"$f":"('2010'!F36/'2010 Rate'!$AA36)*1000","v":0.2067895915905566},{"$f":"('2010'!G36/'2010 Rate'!$AA36)*1000","v":0.32167269802975473},{"$f":"('2010'!H36/'2010 Rate'!$AA36)*1000","v":27.744270205066343},{"$f":"('2010'!I36/'2010 Rate'!$AA36)*1000","v":26.578206674708483},{"$f":"('2010'!J36/'2010 Rate'!$AA36)*1000","v":-0.95352978344534434},{"$f":"('2010'!K36/'2010 Rate'!$AA36)*1000","v":17.663277615026711},{"$f":"('2010'!L36/'2010 Rate'!$AA36)*1000","v":18.616807398472051},{"$f":"('2010'!M36/'2010 Rate'!$AA36)*1000","v":-0.23551036820035615},{"$f":"('2010'!N36/'2010 Rate'!$AA36)*1000","v":4.7389281406169221},{"$f":"('2010'!O36/'2010 Rate'!$AA36)*1000","v":4.9744385088172782},{"$f":"('2010'!P36/'2010 Rate'!$AA36)*1000","v":2.3551036820035618},{"$f":"('2010'!Q36/'2010 Rate'!$AA36)*1000","v":5.3420644494227121},{"$f":"('2010'!R36/'2010 Rate'!$AA36)*1000","v":2.9869607674191512},{"$f":"('2010'!S36/'2010 Rate'!$AA36)*1000","v":2.2976621287839625},{"$f":"('2010'!T36/'2010 Rate'!$AA36)*1000","v":4.3081164914699297},{"$f":"('2010'!U36/'2010 Rate'!$AA36)*1000","v":1.459015451777816},{"$f":"('2010'!V36/'2010 Rate'!$AA36)*1000","v":5.3535527600666324},{"$f":"('2010'!W36/'2010 Rate'!$AA36)*1000","v":2.981216612097191},{"$f":"('2010'!X36/'2010 Rate'!$AA36)*1000","v":45.953242575679248},null,"West Lothian",{"$f":"'Population estimates'!H36","v":174090}]
[]
[35,"Not specified"]
[36,"SCOTLAND",null,{"$f":"('2010'!D39/'2010 Rate'!$AA39)*1000","v":4.9551518376344497},{"$f":"('2010'!E39/'2010 Rate'!$AA39)*1000","v":0.54786971228763626},{"$f":"('2010'!F39/'2010 Rate'!$AA39)*1000","v":4.3576830983238954},{"$f":"('2010'!G39/'2010 Rate'!$AA39)*1000","v":4.9599027022918171E-2},{"$f":"('2010'!H39/'2010 Rate'!$AA39)*1000","v":17.560526015734865},{"$f":"('2010'!I39/'2010 Rate'!$AA39)*1000","v":12.605374178100414},null,null,null,{"$f":"('2010'!M39/'2010 Rate'!$AA39)*1000","v":0.6223632701151609},{"$f":"('2010'!N39/'2010 Rate'!$AA39)*1000","v":8.5528866253658169},{"$f":"('2010'!O39/'2010 Rate'!$AA39)*1000","v":7.9305233552506555},{"$f":"('2010'!P39/'2010 Rate'!$AA39)*1000","v":4.3327885675192883},{"$f":"('2010'!Q39/'2010 Rate'!$AA39)*1000","v":9.0076393903690466},{"$f":"('2010'!R39/'2010 Rate'!$AA39)*1000","v":4.6748508228497583},null,null,{"$f":"('2010'!U39/'2010 Rate'!$AA39)*1000","v":1.5537227775455131},null,null,null,{"$f":"('2010'!Y39/'2010 Rate'!$AA39)*1000","v":10.083805252555965},"SCOTLAND",{"$f":"'Population estimates'!H39","v":5262200}]
[37,"Ayrshire & Arran",null,{"$f":"('2010'!D40/'2010 Rate'!$AA40)*1000","v":0.82618025751072954},{"$f":"('2010'!E40/'2010 Rate'!$AA40)*1000","v":0.48819742489270385},{"$f":"('2010'!F40/'2010 Rate'!$AA40)*1000","v":8.5836909871244635E-2},{"$f":"('2010'!G40/'2010 Rate'!$AA40)*1000","v":0.2521459227467811},{"$f":"('2010'!H40/'2010 Rate'!$AA40)*1000","v":20.697424892703861},{"$f":"('2010'!I40/'2010 Rate'!$AA40)*1000","v":19.871244635193133},{"$f":"('2010'!J40/'2010 Rate'!$AA40)*1000","v":0.16899141630901288},{"$f":"('2010'!K40/'2010 Rate'!$AA40)*1000","v":12.263948497854077},{"$f":"('2010'!L40/'2010 Rate'!$AA40)*1000","v":12.094957081545065},{"$f":"('2010'!M40/'2010 Rate'!$AA40)*1000","v":1.2312231759656653},{"$f":"('2010'!N40/'2010 Rate'!$AA40)*1000","v":6.5236051502145926},{"$f":"('2010'!O40/'2010 Rate'!$AA40)*1000","v":5.2923819742489266},{"$f":"('2010'!P40/'2010 Rate'!$AA40)*1000","v":-0.57403433476394849},{"$f":"('2010'!Q40/'2010 Rate'!$AA40)*1000","v":1.9098712446351933},{"$f":"('2010'!R40/'2010 Rate'!$AA40)*1000","v":2.4839055793991416},null,null,{"$f":"('2010'!U40/'2010 Rate'!$AA40)*1000","v":0.49356223175965663},null,null,null,null,"Ayrshire & Arran",{"$f":"'Population estimates'!H40","v":372800}]
[38,"Borders",null,{"$f":"('2010'!D41/'2010 Rate'!$AA41)*1000","v":2.5156126308382443},{"$f":"('2010'!E41/'2010 Rate'!$AA41)*1000","v":1.0467059547893394},{"$f":"('2010'!F41/'2010 Rate'!$AA41)*1000","v":1.2841938604978449},{"$f":"('2010'!G41/'2010 Rate'!$AA41)*1000","v":0.18471281555105989},{"$f":"('2010'!H41/'2010 Rate'!$AA41)*1000","v":36.432403905356672},{"$f":"('2010'!I41/'2010 Rate'!$AA41)*1000","v":33.916791274518431},{"$f":"('2010'!J41/'2010 Rate'!$AA41)*1000","v":1.2666021637786964},{"$f":"('2010'!K41/'2010 Rate'!$AA41)*1000","v":19.658721083648519},{"$f":"('2010'!L41/'2010 Rate'!$AA41)*1000","v":18.392118919869823},{"$f":"('2010'!M41/'2010 Rate'!$AA41)*1000","v":2.154982848095699},{"$f":"('2010'!N41/'2010 Rate'!$AA41)*1000","v":13.308118568035887},{"$f":"('2010'!O41/'2010 Rate'!$AA41)*1000","v":11.153135719940188},{"$f":"('2010'!P41/'2010 Rate'!$AA41)*1000","v":-0.90597238103615096},{"$f":"('2010'!Q41/'2010 Rate'!$AA41)*1000","v":3.4655642536722668},{"$f":"('2010'!R41/'2010 Rate'!$AA41)*1000","v":4.3715366347084172},null,null,{"$f":"('2010'!U41/'2010 Rate'!$AA41)*1000","v":1.0906851965872109},null,null,null,null,"Borders",{"$f":"'Population estimates'!H41","v":113690}]
[39,"Dumfries & Galloway",null,{"$f":"('2010'!D42/'2010 Rate'!$AA42)*1000","v":0.78755790866975517},{"$f":"('2010'!E42/'2010 Rate'!$AA42)*1000","v":2.6472534745201854E-2},{"$f":"('2010'!F42/'2010 Rate'!$AA42)*1000","v":0.60225016545334209},{"$f":"('2010'!G42/'2010 Rate'!$AA42)*1000","v":0.15883520847121113},{"$f":"('2010'!H42/'2010 Rate'!$AA42)*1000","v":26.108537392455325},{"$f":"('2010'!I42/'2010 Rate'!$AA42)*1000","v":25.320979483785571},{"$f":"('2010'!J42/'2010 Rate'!$AA42)*1000","v":-0.66843150231634674},{"$f":"('2010'!K42/'2010 Rate'!$AA42)*1000","v":10.727994705493051},{"$f":"('2010'!L42/'2010 Rate'!$AA42)*1000","v":11.396426207809398},{"$f":"('2010'!M42/'2010 Rate'!$AA42)*1000","v":2.5281270681667771},{"$f":"('2010'!N42/'2010 Rate'!$AA42)*1000","v":12.898742554599604},{"$f":"('2010'!O42/'2010 Rate'!$AA42)*1000","v":10.370615486432825},{"$f":"('2010'!P42/'2010 Rate'!$AA42)*1000","v":-1.0721376571806751},{"$f":"('2010'!Q42/'2010 Rate'!$AA42)*1000","v":2.4818001323626739},{"$f":"('2010'!R42/'2010 Rate'!$AA42)*1000","v":3.5539377895433488},null,null,{"$f":"('2010'!U42/'2010 Rate'!$AA42)*1000","v":0.56254136333553939},null,null,null,null,"Dumfries & Galloway",{"$f":"'Population estimates'!H42","v":151100}]
[40,"Fife",null,{"$f":"('2010'!D43/'2010 Rate'!$AA43)*1000","v":4.9888309754281455},{"$f":"('2010'!E43/'2010 Rate'!$AA43)*1000","v":0.70875044813987476},{"$f":"('2010'!F43/'2010 Rate'!$AA43)*1000","v":4.0125754943327543},{"$f":"('2010'!G43/'2010 Rate'!$AA43)*1000","v":0.26750503295551697},{"$f":"('2010'!H43/'2010 Rate'!$AA43)*1000","v":31.259479881966854},{"$f":"('2010'!I43/'2010 Rate'!$AA43)*1000","v":26.270648906538707},{"$f":"('2010'!J43/'2010 Rate'!$AA43)*1000","v":1.4671410054879899},{"$f":"('2010'!K43/'2010 Rate'!$AA43)*1000","v":15.860014892032762},{"$f":"('2010'!L43/'2010 Rate'!$AA43)*1000","v":14.392873886544772},{"$f":"('2010'!M43/'2010 Rate'!$AA43)*1000","v":7.1702379967458138E-2},{"$f":"('2010'!N43/'2010 Rate'!$AA43)*1000","v":8.0141198532858979},{"$f":"('2010'!O43/'2010 Rate'!$AA43)*1000","v":7.9424174733184421},{"$f":"('2010'!P43/'2010 Rate'!$AA43)*1000","v":3.4499875899726979},{"$f":"('2010'!Q43/'2010 Rate'!$AA43)*1000","v":7.3853451366481897},{"$f":"('2010'!R43/'2010 Rate'!$AA43)*1000","v":3.9353575466754918},null,null,{"$f":"('2010'!U43/'2010 Rate'!$AA43)*1000","v":1.119660241030308},null,null,null,null,"Fife",{"$f":"'Population estimates'!H43","v":362610}]
[41,"Forth Valley",null,{"$f":"('2010'!D44/'2010 Rate'!$AA44)*1000","v":4.6930432138392408},{"$f":"('2010'!E44/'2010 Rate'!$AA44)*1000","v":1.2974287934587965},{"$f":"('2010'!F44/'2010 Rate'!$AA44)*1000","v":3.1185593134439302},{"$f":"('2010'!G44/'2010 Rate'!$AA44)*1000","v":0.27705510693651386},{"$f":"('2010'!H44/'2010 Rate'!$AA44)*1000","v":30.15508328546812},{"$f":"('2010'!I44/'2010 Rate'!$AA44)*1000","v":25.462040071628881},{"$f":"('2010'!J44/'2010 Rate'!$AA44)*1000","v":1.6420583167212892},{"$f":"('2010'!K44/'2010 Rate'!$AA44)*1000","v":17.843024630874751},{"$f":"('2010'!L44/'2010 Rate'!$AA44)*1000","v":16.200966314153462},{"$f":"('2010'!M44/'2010 Rate'!$AA44)*1000","v":0.27367638612021489},{"$f":"('2010'!N44/'2010 Rate'!$AA44)*1000","v":6.04453154035882},{"$f":"('2010'!O44/'2010 Rate'!$AA44)*1000","v":5.7708551542386051},{"$f":"('2010'!P44/'2010 Rate'!$AA44)*1000","v":2.7773085109977362},{"$f":"('2010'!Q44/'2010 Rate'!$AA44)*1000","v":6.267527114234551},{"$f":"('2010'!R44/'2010 Rate'!$AA44)*1000","v":3.4902186032368143},null,null,{"$f":"('2010'!U44/'2010 Rate'!$AA44)*1000","v":0.92239078284961318},null,null,null,null,"Forth Valley",{"$f":"'Population estimates'!H44","v":295970}]
[42,"Grampian",null,{"$f":"('2010'!D45/'2010 Rate'!$AA45)*1000","v":7.8569531734088702},{"$f":"('2010'!E45/'2010 Rate'!$AA45)*1000","v":1.1578295122598921},{"$f":"('2010'!F45/'2010 Rate'!$AA45)*1000","v":6.8177392228025138},{"$f":"('2010'!G45/'2010 Rate'!$AA45)*1000","v":-0.11861556165353633},{"$f":"('2010'!H45/'2010 Rate'!$AA45)*1000","v":34.453394706559259},{"$f":"('2010'!I45/'2010 Rate'!$AA45)*1000","v":26.596441533150394},{"$f":"('2010'!J45/'2010 Rate'!$AA45)*1000","v":-0.58422590068159685},{"$f":"('2010'!K45/'2010 Rate'!$AA45)*1000","v":11.123307072674161},{"$f":"('2010'!L45/'2010 Rate'!$AA45)*1000","v":11.707532973355759},{"$f":"('2010'!M45/'2010 Rate'!$AA45)*1000","v":0.45498804992475878},{"$f":"('2010'!N45/'2010 Rate'!$AA45)*1000","v":9.414888908559794},{"$f":"('2010'!O45/'2010 Rate'!$AA45)*1000","v":8.9599008586350362},{"$f":"('2010'!P45/'2010 Rate'!$AA45)*1000","v":7.9861910241657075},{"$f":"('2010'!Q45/'2010 Rate'!$AA45)*1000","v":13.915198725325308},{"$f":"('2010'!R45/'2010 Rate'!$AA45)*1000","v":5.9290077011596001},null,null,{"$f":"('2010'!U45/'2010 Rate'!$AA45)*1000","v":2.276710631141011},null,null,null,null,"Grampian",{"$f":"'Population estimates'!H45","v":564850}]
[43,"Greater Glasgow & Clyde",null,{"$f":"('2010'!D46/'2010 Rate'!$AA46)*1000","v":3.201047675883562},{"$f":"('2010'!E46/'2010 Rate'!$AA46)*1000","v":-0.19146608315098468},{"$f":"('2010'!F46/'2010 Rate'!$AA46)*1000","v":3.6701810224786153},{"$f":"('2010'!G46/'2010 Rate'!$AA46)*1000","v":-0.27766726344406867},{"$f":"('2010'!H46/'2010 Rate'!$AA46)*1000","v":31.618427160002653},{"$f":"('2010'!I46/'2010 Rate'!$AA46)*1000","v":28.417379484119092},{"$f":"('2010'!J46/'2010 Rate'!$AA46)*1000","v":-0.85289437039984084},{"$f":"('2010'!K46/'2010 Rate'!$AA46)*1000","v":15.08189112127843},{"$f":"('2010'!L46/'2010 Rate'!$AA46)*1000","v":15.934785491678271},{"$f":"('2010'!M46/'2010 Rate'!$AA46)*1000","v":-0.72856574497712356},{"$f":"('2010'!N46/'2010 Rate'!$AA46)*1000","v":6.6863934752337375},{"$f":"('2010'!O46/'2010 Rate'!$AA46)*1000","v":7.4149592202108616},{"$f":"('2010'!P46/'2010 Rate'!$AA46)*1000","v":4.7825077912605272},{"$f":"('2010'!Q46/'2010 Rate'!$AA46)*1000","v":9.8501425634904844},{"$f":"('2010'!R46/'2010 Rate'!$AA46)*1000","v":5.0676347722299582},null,null,{"$f":"('2010'!U46/'2010 Rate'!$AA46)*1000","v":1.9958888667860222},null,null,null,null,"Greater Glasgow",{"$f":"'Population estimates'!H46","v":1206480}]
[44,"Highland",null,{"$f":"('2010'!D47/'2010 Rate'!$AA47)*1000","v":4.0112728980742132},{"$f":"('2010'!E47/'2010 Rate'!$AA47)*1000","v":1.1022389228119618},{"$f":"('2010'!F47/'2010 Rate'!$AA47)*1000","v":3.006106153123532},{"$f":"('2010'!G47/'2010 Rate'!$AA47)*1000","v":-9.7072177861280723E-2},{"$f":"('2010'!H47/'2010 Rate'!$AA47)*1000","v":35.969938938468765},{"$f":"('2010'!I47/'2010 Rate'!$AA47)*1000","v":31.958666040394551},{"$f":"('2010'!J47/'2010 Rate'!$AA47)*1000","v":-0.68889932675747612},{"$f":"('2010'!K47/'2010 Rate'!$AA47)*1000","v":17.955221543760761},{"$f":"('2010'!L47/'2010 Rate'!$AA47)*1000","v":18.64412087051824},{"$f":"('2010'!M47/'2010 Rate'!$AA47)*1000","v":3.3098481290120554},{"$f":"('2010'!N47/'2010 Rate'!$AA47)*1000","v":12.428370126820104},{"$f":"('2010'!O47/'2010 Rate'!$AA47)*1000","v":9.1185219978080472},{"$f":"('2010'!P47/'2010 Rate'!$AA47)*1000","v":1.3903240958196335},{"$f":"('2010'!Q47/'2010 Rate'!$AA47)*1000","v":5.5863472678878967},{"$f":"('2010'!R47/'2010 Rate'!$AA47)*1000","v":4.196023172068263},null,null,{"$f":"('2010'!U47/'2010 Rate'!$AA47)*1000","v":1.2055738218255831},null,null,null,null,"Highland",{"$f":"'Population estimates'!H47","v":319350}]
[45,"Lanarkshire",null,{"$f":"('2010'!D48/'2010 Rate'!$AA48)*1000","v":-0.3538272902434752},{"$f":"('2010'!E48/'2010 Rate'!$AA48)*1000","v":0.10509721492380451},{"$f":"('2010'!F48/'2010 Rate'!$AA48)*1000","v":-0.68663513750218952},{"$f":"('2010'!G48/'2010 Rate'!$AA48)*1000","v":0.22771063233490979},{"$f":"('2010'!H48/'2010 Rate'!$AA48)*1000","v":18.08898230863549},{"$f":"('2010'!I48/'2010 Rate'!$AA48)*1000","v":18.442809598878966},{"$f":"('2010'!J48/'2010 Rate'!$AA48)*1000","v":0.1418812401471361},{"$f":"('2010'!K48/'2010 Rate'!$AA48)*1000","v":12.12821860220704},{"$f":"('2010'!L48/'2010 Rate'!$AA48)*1000","v":11.986337362059906},{"$f":"('2010'!M48/'2010 Rate'!$AA48)*1000","v":-0.36083377123839555},{"$f":"('2010'!N48/'2010 Rate'!$AA48)*1000","v":3.6065860921352249},{"$f":"('2010'!O48/'2010 Rate'!$AA48)*1000","v":3.9674198633736206},{"$f":"('2010'!P48/'2010 Rate'!$AA48)*1000","v":-0.13487475915221581},{"$f":"('2010'!Q48/'2010 Rate'!$AA48)*1000","v":2.3541776142932211},{"$f":"('2010'!R48/'2010 Rate'!$AA48)*1000","v":2.4890523734454373},null,null,{"$f":"('2010'!U48/'2010 Rate'!$AA48)*1000","v":0.73392888421790159},null,null,null,null,"Lanarkshire",{"$f":"'Population estimates'!H48","v":570900}]
[46,"Lothian",null,{"$f":"('2010'!D49/'2010 Rate'!$AA49)*1000","v":11.028601194442087},{"$f":"('2010'!E49/'2010 Rate'!$AA49)*1000","v":0.61054646331269913},{"$f":"('2010'!F49/'2010 Rate'!$AA49)*1000","v":10.26178391016245},{"$f":"('2010'!G49/'2010 Rate'!$AA49)*1000","v":0.15627082096694087},{"$f":"('2010'!H49/'2010 Rate'!$AA49)*1000","v":42.918751287114326},{"$f":"('2010'!I49/'2010 Rate'!$AA49)*1000","v":31.890150092672229},{"$f":"('2010'!J49/'2010 Rate'!$AA49)*1000","v":9.0855128469151655E-2},{"$f":"('2010'!K49/'2010 Rate'!$AA49)*1000","v":13.840264570134103},{"$f":"('2010'!L49/'2010 Rate'!$AA49)*1000","v":13.74940944166495},{"$f":"('2010'!M49/'2010 Rate'!$AA49)*1000","v":1.372518140740651},{"$f":"('2010'!N49/'2010 Rate'!$AA49)*1000","v":12.845703763825121},{"$f":"('2010'!O49/'2010 Rate'!$AA49)*1000","v":11.473185623084472},{"$f":"('2010'!P49/'2010 Rate'!$AA49)*1000","v":9.5652279252322856},{"$f":"('2010'!Q49/'2010 Rate'!$AA49)*1000","v":16.232782953155095},{"$f":"('2010'!R49/'2010 Rate'!$AA49)*1000","v":6.6675550279228091},null,null,{"$f":"('2010'!U49/'2010 Rate'!$AA49)*1000","v":2.3791929641788512},null,null,null,null,"Lothian",{"$f":"'Population estimates'!H49","v":825490}]
[47,"Orkney",null,{"$f":"('2010'!D50/'2010 Rate'!$AA50)*1000","v":7.6814326107445812},{"$f":"('2010'!E50/'2010 Rate'!$AA50)*1000","v":1.7436380772855797},{"$f":"('2010'!F50/'2010 Rate'!$AA50)*1000","v":4.6182846371347788},{"$f":"('2010'!G50/'2010 Rate'!$AA50)*1000","v":1.3195098963242224},{"$f":"('2010'!H50/'2010 Rate'!$AA50)*1000","v":37.935909519321392},{"$f":"('2010'!I50/'2010 Rate'!$AA50)*1000","v":30.254476908576812},{"$f":"('2010'!J50/'2010 Rate'!$AA50)*1000","v":0.70688030160226201},{"$f":"('2010'!K50/'2010 Rate'!$AA50)*1000","v":20.263901979264844},{"$f":"('2010'!L50/'2010 Rate'!$AA50)*1000","v":19.557021677662583},{"$f":"('2010'!M50/'2010 Rate'!$AA50)*1000","v":6.833176248821867},{"$f":"('2010'!N50/'2010 Rate'!$AA50)*1000","v":14.70311027332705},{"$f":"('2010'!O50/'2010 Rate'!$AA50)*1000","v":7.8699340245051843},{"$f":"('2010'!P50/'2010 Rate'!$AA50)*1000","v":0.14137606032045241},{"$f":"('2010'!Q50/'2010 Rate'!$AA50)*1000","v":2.9688972667295004},{"$f":"('2010'!R50/'2010 Rate'!$AA50)*1000","v":2.827521206409048},null,null,{"$f":"('2010'!U50/'2010 Rate'!$AA50)*1000","v":0.65975494816211122},null,null,null,null,"Orkney",{"$f":"'Population estimates'!H50","v":21220}]
[48,"Shetland",null,{"$f":"('2010'!D51/'2010 Rate'!$AA51)*1000","v":6.7215958369470945},{"$f":"('2010'!E51/'2010 Rate'!$AA51)*1000","v":1.9947961838681698},{"$f":"('2010'!F51/'2010 Rate'!$AA51)*1000","v":4.9436253252385081},{"$f":"('2010'!G51/'2010 Rate'!$AA51)*1000","v":-0.21682567215958368},{"$f":"('2010'!H51/'2010 Rate'!$AA51)*1000","v":32.870771899392885},{"$f":"('2010'!I51/'2010 Rate'!$AA51)*1000","v":26.149176062445793},{"$f":"('2010'!J51/'2010 Rate'!$AA51)*1000","v":-1.6912402428447528},{"$f":"('2010'!K51/'2010 Rate'!$AA51)*1000","v":13.009540329575021},{"$f":"('2010'!L51/'2010 Rate'!$AA51)*1000","v":14.700780572419776},{"$f":"('2010'!M51/'2010 Rate'!$AA51)*1000","v":7.3720728534258457},{"$f":"('2010'!N51/'2010 Rate'!$AA51)*1000","v":15.43798785776236},{"$f":"('2010'!O51/'2010 Rate'!$AA51)*1000","v":8.0659150043365138},{"$f":"('2010'!P51/'2010 Rate'!$AA51)*1000","v":1.0407632263660018},{"$f":"('2010'!Q51/'2010 Rate'!$AA51)*1000","v":4.4232437120555081},{"$f":"('2010'!R51/'2010 Rate'!$AA51)*1000","v":3.3824804856895057},null,null,{"$f":"('2010'!U51/'2010 Rate'!$AA51)*1000","v":0.99739809193408491},null,null,null,null,"Shetland",{"$f":"'Population estimates'!H51","v":23060}]
[49,"Tayside",null,{"$f":"('2010'!D52/'2010 Rate'!$AA52)*1000","v":7.8461236120664237},{"$f":"('2010'!E52/'2010 Rate'!$AA52)*1000","v":1.154564213422423},{"$f":"('2010'!F52/'2010 Rate'!$AA52)*1000","v":6.5539943008745212},{"$f":"('2010'!G52/'2010 Rate'!$AA52)*1000","v":0.1375650977694802},{"$f":"('2010'!H52/'2010 Rate'!$AA52)*1000","v":36.34666404637909},{"$f":"('2010'!I52/'2010 Rate'!$AA52)*1000","v":28.500540434312668},{"$f":"('2010'!J52/'2010 Rate'!$AA52)*1000","v":0.72712980249582393},{"$f":"('2010'!K52/'2010 Rate'!$AA52)*1000","v":15.935442664832465},{"$f":"('2010'!L52/'2010 Rate'!$AA52)*1000","v":15.208312862336641},{"$f":"('2010'!M52/'2010 Rate'!$AA52)*1000","v":0.63378205758081951},{"$f":"('2010'!N52/'2010 Rate'!$AA52)*1000","v":8.4234057187776372},{"$f":"('2010'!O52/'2010 Rate'!$AA52)*1000","v":7.789623661196817},{"$f":"('2010'!P52/'2010 Rate'!$AA52)*1000","v":6.4852117519897803},{"$f":"('2010'!Q52/'2010 Rate'!$AA52)*1000","v":11.987815662768989},{"$f":"('2010'!R52/'2010 Rate'!$AA52)*1000","v":5.5026039107792082},null,null,{"$f":"('2010'!U52/'2010 Rate'!$AA52)*1000","v":1.4616291638007273},null,null,null,null,"Tayside",{"$f":"'Population estimates'!H52","v":407080}]
[50,"Western Isles",null,{"$f":"('2010'!D53/'2010 Rate'!$AA53)*1000","v":6.1231884057971016},{"$f":"('2010'!E53/'2010 Rate'!$AA53)*1000","v":1.6304347826086956},{"$f":"('2010'!F53/'2010 Rate'!$AA53)*1000","v":3.1159420289855073},{"$f":"('2010'!G53/'2010 Rate'!$AA53)*1000","v":1.3768115942028987},{"$f":"('2010'!H53/'2010 Rate'!$AA53)*1000","v":35.289855072463766},{"$f":"('2010'!I53/'2010 Rate'!$AA53)*1000","v":29.166666666666668},{"$f":"('2010'!J53/'2010 Rate'!$AA53)*1000","v":0.97826086956521752},{"$f":"('2010'!K53/'2010 Rate'!$AA53)*1000","v":21.775362318840578},{"$f":"('2010'!L53/'2010 Rate'!$AA53)*1000","v":20.797101449275363},{"$f":"('2010'!M53/'2010 Rate'!$AA53)*1000","v":5.3260869565217392},{"$f":"('2010'!N53/'2010 Rate'!$AA53)*1000","v":11.014492753623189},{"$f":"('2010'!O53/'2010 Rate'!$AA53)*1000","v":5.6884057971014492},{"$f":"('2010'!P53/'2010 Rate'!$AA53)*1000","v":-0.18115942028985507},{"$f":"('2010'!Q53/'2010 Rate'!$AA53)*1000","v":2.5},{"$f":"('2010'!R53/'2010 Rate'!$AA53)*1000","v":2.6811594202898554},null,null,{"$f":"('2010'!U53/'2010 Rate'!$AA53)*1000","v":0.36231884057971014},null,null,null,null,"Western Isles",{"$f":"'Population estimates'!H53","v":27600}]

{"sheet":"2011","index":49,"n_rows":53,"n_cols":25,"rows_kept":53,"cut":false,"hidden":true,"merged":[]}
[null,2011]
[null,null,"Not specified ",{"$f":"'Comparing Indicators'!$U8","v":"Total net migration"},{"$f":"'Comparing Indicators'!$U9","v":"Total net migration for ages 0-15"},{"$f":"'Comparing Indicators'!$U10","v":"Total net migration for ages 16-64"},{"$f":"'Comparing Indicators'!$U11","v":"Total net migration for people aged 65+"},{"$f":"'Comparing Indicators'!$U12","v":"Total in-migration"},{"$f":"'Comparing Indicators'!$U13","v":"Total out-migration"},{"$f":"'Comparing Indicators'!$U14","v":"Within Scotland net migration"},{"$f":"'Comparing Indicators'!$U15","v":"Within Scotland in-migration"},{"$f":"'Comparing Indicators'!$U16","v":"Within Scotland out-migration"},{"$f":"'Comparing Indicators'!$U17","v":"Rest of UK net migration"},{"$f":"'Comparing Indicators'!$U18","v":"Rest of UK in-migration"},{"$f":"'Comparing Indicators'!$U19","v":"Rest of UK out-migration"},{"$f":"'Comparing Indicators'!$U20","v":"Overseas net migration"},{"$f":"'Comparing Indicators'!$U21","v":"Overseas in-migration"},{"$f":"'Comparing Indicators'!$U22","v":"Overseas out-migration"},{"$f":"'Comparing Indicators'!$U23","v":"Worker Registration Scheme"},{"$f":"'Comparing Indicators'!$U24","v":"NINo Allocation"},{"$f":"'Comparing Indicators'!$U25","v":"Births to non-UK mothers"},{"$f":"'Comparing Indicators'!$U26","v":"Pupils from a minority ethnic group"},{"$f":"'Comparing Indicators'!$U27","v":"Pupils with English as an additional language"},{"$f":"'Comparing Indicators'!$U28","v":"Estimate of resident population born outside the UK"},"NHS registrations from overseas"]
[1,"Not specified"]
[2,"SCOTLAND",null,{"$f":"'Total net migration'!I4","v":30209},{"$f":"'Total net migration 0-15'!I4","v":3490},{"$f":"'Total net migration 16-64'!I4","v":26224},{"$f":"'Total net migration 65+'!I4","v":495},{"$f":"'Total in-migration'!I4","v":87886},{"$f":"'Total out-migration'!I4","v":57677},null,null,null,{"$f":"'Rest of UK net migration'!I4","v":2909},{"$f":"'Rest of UK in-migration'!I4","v":43686},{"$f":"'Rest of UK out-migration'!I4","v":40777},{"$f":"'Overseas net migration'!I4","v":27300},{"$f":"'Overseas in-migration'!I4","v":44200},{"$f":"'Overseas out-migration'!I4","v":16900},null,{"$f":"NINo!I5","v":39500},{"$f":"'Non-UK Births'!I5","v":8343},{"$f":"'Pupils ethnic group'!J5","v":35142},{"$f":"'Pupils with English as an add.'!G4","v":24555},{"$f":"'Pop born outside UK'!I5","v":340000},{"$f":"'NHS Overseas'!$I$5","v":51325}]
[3,"Aberdeen City",null,{"$f":"'Total net migration'!I5","v":3078},{"$f":"'Total net migration 0-15'!I5","v":307},{"$f":"'Total net migration 16-64'!I5","v":2859},{"$f":"'Total net migration 65+'!I5","v":-88},{"$f":"'Total in-migration'!I5","v":13582},{"$f":"'Total out-migration'!I5","v":10504},{"$f":"'Within Scotland net migration'!I5","v":-1055},{"$f":"'Within Scotland in-migration'!I5","v":5957},{"$f":"'Within Scotland out-migration'!I5","v":7012},{"$f":"'Rest of UK net migration'!I5","v":3},{"$f":"'Rest of UK in-migration'!I5","v":2341},{"$f":"'Rest of UK out-migration'!I5","v":2338},{"$f":"'Overseas net migration'!I5","v":4130},{"$f":"'Overseas in-migration'!I5","v":5284},{"$f":"'Overseas out-migration'!I5","v":1154},null,{"$f":"NINo!I6","v":4600},{"$f":"'Non-UK Births'!I6","v":838},{"$f":"'Pupils ethnic group'!J6","v":2034},{"$f":"'Pupils with English as an add.'!G5","v":1833},{"$f":"'Pop born outside UK'!I6","v":32000}]
[4,"Aberdeenshire",null,{"$f":"'Total net migration'!I6","v":1384},{"$f":"'Total net migration 0-15'!I6","v":453},{"$f":"'Total net migration 16-64'!I6","v":975},{"$f":"'Total net migration 65+'!I6","v":-44},{"$f":"'Total in-migration'!I6","v":8836},{"$f":"'Total out-migration'!I6","v":7452},{"$f":"'Within Scotland net migration'!I6","v":793},{"$f":"'Within Scotland in-migration'!I6","v":5789},{"$f":"'Within Scotland out-migration'!I6","v":4996},{"$f":"'Rest of UK net migration'!I6","v":-132},{"$f":"'Rest of UK in-migration'!I6","v":1609},{"$f":"'Rest of UK out-migration'!I6","v":1741},{"$f":"'Overseas net migration'!I6","v":723},{"$f":"'Overseas in-migration'!I6","v":1438},{"$f":"'Overseas out-migration'!I6","v":715},null,{"$f":"NINo!I7","v":1500},{"$f":"'Non-UK Births'!I7","v":379},{"$f":"'Pupils ethnic group'!J7","v":711},{"$f":"'Pupils with English as an add.'!G6","v":925},{"$f":"'Pop born outside UK'!I7","v":16000}]
[5,"Angus",null,{"$f":"'Total net migration'!I7","v":115},{"$f":"'Total net migration 0-15'!I7","v":93},{"$f":"'Total net migration 16-64'!I7","v":-35},{"$f":"'Total net migration 65+'!I7","v":57},{"$f":"'Total in-migration'!I7","v":3604},{"$f":"'Total out-migration'!I7","v":3489},{"$f":"'Within Scotland net migration'!I7","v":-34},{"$f":"'Within Scotland in-migration'!I7","v":2567},{"$f":"'Within Scotland out-migration'!I7","v":2601},{"$f":"'Rest of UK net migration'!I7","v":-86},{"$f":"'Rest of UK in-migration'!I7","v":524},{"$f":"'Rest of UK out-migration'!I7","v":610},{"$f":"'Overseas net migration'!I7","v":235},{"$f":"'Overseas in-migration'!I7","v":513},{"$f":"'Overseas out-migration'!I7","v":278},null,{"$f":"NINo!I8","v":1140},{"$f":"'Non-UK Births'!I8","v":134},{"$f":"'Pupils ethnic group'!J8","v":366},{"$f":"'Pupils with English as an add.'!G7","v":299},{"$f":"'Pop born outside UK'!I8","v":"*"}]
[6,"Argyll & Bute",null,{"$f":"'Total net migration'!I8","v":304},{"$f":"'Total net migration 0-15'!I8","v":135},{"$f":"'Total net migration 16-64'!I8","v":181},{"$f":"'Total net migration 65+'!I8","v":-12},{"$f":"'Total in-migration'!I8","v":3735},{"$f":"'Total out-migration'!I8","v":3431},{"$f":"'Within Scotland net migration'!I8","v":-121},{"$f":"'Within Scotland in-migration'!I8","v":2046},{"$f":"'Within Scotland out-migration'!I8","v":2167},{"$f":"'Rest of UK net migration'!I8","v":370},{"$f":"'Rest of UK in-migration'!I8","v":1329},{"$f":"'Rest of UK out-migration'!I8","v":959},{"$f":"'Overseas net migration'!I8","v":55},{"$f":"'Overseas in-migration'!I8","v":360},{"$f":"'Overseas out-migration'!I8","v":305},null,{"$f":"NINo!I9","v":360},{"$f":"'Non-UK Births'!I9","v":79},{"$f":"'Pupils ethnic group'!J9","v":214},{"$f":"'Pupils with English as an add.'!G8","v":124},{"$f":"'Pop born outside UK'!I9","v":4000}]
[7,"Clackmannanshire",null,{"$f":"'Total net migration'!I9","v":-8},{"$f":"'Total net migration 0-15'!I9","v":1},{"$f":"'Total net migration 16-64'!I9","v":-18},{"$f":"'Total net migration 65+'!I9","v":9},{"$f":"'Total in-migration'!I9","v":1525},{"$f":"'Total out-migration'!I9","v":1533},{"$f":"'Within Scotland net migration'!I9","v":-7},{"$f":"'Within Scotland in-migration'!I9","v":1129},{"$f":"'Within Scotland out-migration'!I9","v":1136},{"$f":"'Rest of UK net migration'!I9","v":-7},{"$f":"'Rest of UK in-migration'!I9","v":292},{"$f":"'Rest of UK out-migration'!I9","v":299},{"$f":"'Overseas net migration'!I9","v":6},{"$f":"'Overseas in-migration'!I9","v":104},{"$f":"'Overseas out-migration'!I9","v":98},null,{"$f":"NINo!I10","v":90},{"$f":"'Non-UK Births'!I10","v":43},{"$f":"'Pupils ethnic group'!J10","v":186},{"$f":"'Pupils with English as an add.'!G9","v":115},{"$f":"'Pop born outside UK'!I10","v":"*"}]
[8,"Dumfries & Galloway",null,{"$f":"'Total net migration'!I10","v":377},{"$f":"'Total net migration 0-15'!I10","v":113},{"$f":"'Total net migration 16-64'!I10","v":230},{"$f":"'Total net migration 65+'!I10","v":34},{"$f":"'Total in-migration'!I10","v":4002},{"$f":"'Total out-migration'!I10","v":3625},{"$f":"'Within Scotland net migration'!I10","v":-87},{"$f":"'Within Scotland in-migration'!I10","v":1652},{"$f":"'Within Scotland out-migration'!I10","v":1739},{"$f":"'Rest of UK net migration'!I10","v":449},{"$f":"'Rest of UK in-migration'!I10","v":1992},{"$f":"'Rest of UK out-migration'!I10","v":1543},{"$f":"'Overseas net migration'!I10","v":15},{"$f":"'Overseas in-migration'!I10","v":358},{"$f":"'Overseas out-migration'!I10","v":343},null,{"$f":"NINo!I11","v":310},{"$f":"'Non-UK Births'!I11","v":96},{"$f":"'Pupils ethnic group'!J11","v":411},{"$f":"'Pupils with English as an add.'!G10","v":260},{"$f":"'Pop born outside UK'!I11","v":"*"}]
[9,"Dundee City",null,{"$f":"'Total net migration'!I11","v":1427},{"$f":"'Total net migration 0-15'!I11","v":-91},{"$f":"'Total net migration 16-64'!I11","v":1603},{"$f":"'Total net migration 65+'!I11","v":-85},{"$f":"'Total in-migration'!I11","v":7389},{"$f":"'Total out-migration'!I11","v":5962},{"$f":"'Within Scotland net migration'!I11","v":-9},{"$f":"'Within Scotland in-migration'!I11","v":3770},{"$f":"'Within Scotland out-migration'!I11","v":3779},{"$f":"'Rest of UK net migration'!I11","v":-140},{"$f":"'Rest of UK in-migration'!I11","v":1369},{"$f":"'Rest of UK out-migration'!I11","v":1509},{"$f":"'Overseas net migration'!I11","v":1576},{"$f":"'Overseas in-migration'!I11","v":2250},{"$f":"'Overseas out-migration'!I11","v":674},null,{"$f":"NINo!I12","v":1490},{"$f":"'Non-UK Births'!I12","v":318},{"$f":"'Pupils ethnic group'!J12","v":1287},{"$f":"'Pupils with English as an add.'!G11","v":870},{"$f":"'Pop born outside UK'!I12","v":13000}]
[10,"East Ayrshire",null,{"$f":"'Total net migration'!I12","v":30},{"$f":"'Total net migration 0-15'!I12","v":25},{"$f":"'Total net migration 16-64'!I12","v":15},{"$f":"'Total net migration 65+'!I12","v":-10},{"$f":"'Total in-migration'!I12","v":3108},{"$f":"'Total out-migration'!I12","v":3078},{"$f":"'Within Scotland net migration'!I12","v":13},{"$f":"'Within Scotland in-migration'!I12","v":2301},{"$f":"'Within Scotland out-migration'!I12","v":2288},{"$f":"'Rest of UK net migration'!I12","v":83},{"$f":"'Rest of UK in-migration'!I12","v":691},{"$f":"'Rest of UK out-migration'!I12","v":608},{"$f":"'Overseas net migration'!I12","v":-66},{"$f":"'Overseas in-migration'!I12","v":116},{"$f":"'Overseas out-migration'!I12","v":182},null,{"$f":"NINo!I13","v":100},{"$f":"'Non-UK Births'!I13","v":76},{"$f":"'Pupils ethnic group'!J13","v":289},{"$f":"'Pupils with English as an add.'!G12","v":99},{"$f":"'Pop born outside UK'!I13","v":"*"}]
[11,"East Dunbartonshire",null,{"$f":"'Total net migration'!I13","v":-105},{"$f":"'Total net migration 0-15'!I13","v":234},{"$f":"'Total net migration 16-64'!I13","v":-312},{"$f":"'Total net migration 65+'!I13","v":-27},{"$f":"'Total in-migration'!I13","v":3053},{"$f":"'Total out-migration'!I13","v":3158},{"$f":"'Within Scotland net migration'!I13","v":22},{"$f":"'Within Scotland in-migration'!I13","v":2459},{"$f":"'Within Scotland out-migration'!I13","v":2437},{"$f":"'Rest of UK net migration'!I13","v":-54},{"$f":"'Rest of UK in-migration'!I13","v":434},{"$f":"'Rest of UK out-migration'!I13","v":488},{"$f":"'Overseas net migration'!I13","v":-73},{"$f":"'Overseas in-migration'!I13","v":160},{"$f":"'Overseas out-migration'!I13","v":233},null,{"$f":"NINo!I14","v":130},{"$f":"'Non-UK Births'!I14","v":77},{"$f":"'Pupils ethnic group'!J14","v":1033},{"$f":"'Pupils with English as an add.'!G13","v":306},{"$f":"'Pop born outside UK'!I14","v":"*"}]
[12,"East Lothian",null,{"$f":"'Total net migration'!I14","v":445},{"$f":"'Total net migration 0-15'!I14","v":191},{"$f":"'Total net migration 16-64'!I14","v":199},{"$f":"'Total net migration 65+'!I14","v":55},{"$f":"'Total in-migration'!I14","v":3653},{"$f":"'Total out-migration'!I14","v":3208},{"$f":"'Within Scotland net migration'!I14","v":211},{"$f":"'Within Scotland in-migration'!I14","v":2531},{"$f":"'Within Scotland out-migration'!I14","v":2320},{"$f":"'Rest of UK net migration'!I14","v":68},{"$f":"'Rest of UK in-migration'!I14","v":694},{"$f":"'Rest of UK out-migration'!I14","v":626},{"$f":"'Overseas net migration'!I14","v":166},{"$f":"'Overseas in-migration'!I14","v":428},{"$f":"'Overseas out-migration'!I14","v":262},null,{"$f":"NINo!I15","v":310},{"$f":"'Non-UK Births'!I15","v":131},{"$f":"'Pupils ethnic group'!J15","v":293},{"$f":"'Pupils with English as an add.'!G14","v":159},{"$f":"'Pop born outside UK'!I15","v":6000}]
[13,"East Renfrewshire",null,{"$f":"'Total net migration'!I15","v":270},{"$f":"'Total net migration 0-15'!I15","v":418},{"$f":"'Total net migration 16-64'!I15","v":-117},{"$f":"'Total net migration 65+'!I15","v":-31},{"$f":"'Total in-migration'!I15","v":3136},{"$f":"'Total out-migration'!I15","v":2866},{"$f":"'Within Scotland net migration'!I15","v":275},{"$f":"'Within Scotland in-migration'!I15","v":2575},{"$f":"'Within Scotland out-migration'!I15","v":2300},{"$f":"'Rest of UK net migration'!I15","v":22},{"$f":"'Rest of UK in-migration'!I15","v":427},{"$f":"'Rest of UK out-migration'!I15","v":405},{"$f":"'Overseas net migration'!I15","v":-27},{"$f":"'Overseas in-migration'!I15","v":134},{"$f":"'Overseas out-migration'!I15","v":161},null,{"$f":"NINo!I16","v":100},{"$f":"'Non-UK Births'!I16","v":76},{"$f":"'Pupils ethnic group'!J16","v":2154},{"$f":"'Pupils with English as an add.'!G15","v":805},{"$f":"'Pop born outside UK'!I16","v":"*"}]
[14,"Edinburgh, City of",null,{"$f":"'Total net migration'!I16","v":8044},{"$f":"'Total net migration 0-15'!I16","v":239},{"$f":"'Total net migration 16-64'!I16","v":7825},{"$f":"'Total net migration 65+'!I16","v":-20},{"$f":"'Total in-migration'!I16","v":29900},{"$f":"'Total out-migration'!I16","v":21856},{"$f":"'Within Scotland net migration'!I16","v":-394},{"$f":"'Within Scotland in-migration'!I16","v":10814},{"$f":"'Within Scotland out-migration'!I16","v":11208},{"$f":"'Rest of UK net migration'!I16","v":361},{"$f":"'Rest of UK in-migration'!I16","v":7867},{"$f":"'Rest of UK out-migration'!I16","v":7506},{"$f":"'Overseas net migration'!I16","v":8077},{"$f":"'Overseas in-migration'!I16","v":11219},{"$f":"'Overseas out-migration'!I16","v":3142},null,{"$f":"NINo!I17","v":10590},{"$f":"'Non-UK Births'!I17","v":1529},{"$f":"'Pupils ethnic group'!J17","v":5246},{"$f":"'Pupils with English as an add.'!G16","v":3588},{"$f":"'Pop born outside UK'!I17","v":70000}]
[15,"Eilean Siar",null,{"$f":"'Total net migration'!I17","v":23},{"$f":"'Total net migration 0-15'!I17","v":9},{"$f":"'Total net migration 16-64'!I17","v":12},{"$f":"'Total net migration 65+'!I17","v":2},{"$f":"'Total in-migration'!I17","v":908},{"$f":"'Total out-migration'!I17","v":885},{"$f":"'Within Scotland net migration'!I17","v":-33},{"$f":"'Within Scotland in-migration'!I17","v":576},{"$f":"'Within Scotland out-migration'!I17","v":609},{"$f":"'Rest of UK net migration'!I17","v":53},{"$f":"'Rest of UK in-migration'!I17","v":272},{"$f":"'Rest of UK out-migration'!I17","v":219},{"$f":"'Overseas net migration'!I17","v":3},{"$f":"'Overseas in-migration'!I17","v":60},{"$f":"'Overseas out-migration'!I17","v":57},null,{"$f":"NINo!I18","v":40},{"$f":"'Non-UK Births'!I18","v":13},{"$f":"'Pupils ethnic group'!J18","v":48},{"$f":"'Pupils with English as an add.'!G17","v":25},{"$f":"'Pop born outside UK'!I18","v":"*"}]
[16,"Falkirk",null,{"$f":"'Total net migration'!I18","v":1021},{"$f":"'Total net migration 0-15'!I18","v":92},{"$f":"'Total net migration 16-64'!I18","v":889},{"$f":"'Total net migration 65+'!I18","v":40},{"$f":"'Total in-migration'!I18","v":4198},{"$f":"'Total out-migration'!I18","v":3177},{"$f":"'Within Scotland net migration'!I18","v":609},{"$f":"'Within Scotland in-migration'!I18","v":2988},{"$f":"'Within Scotland out-migration'!I18","v":2379},{"$f":"'Rest of UK net migration'!I18","v":134},{"$f":"'Rest of UK in-migration'!I18","v":708},{"$f":"'Rest of UK out-migration'!I18","v":574},{"$f":"'Overseas net migration'!I18","v":278},{"$f":"'Overseas in-migration'!I18","v":502},{"$f":"'Overseas out-migration'!I18","v":224},null,{"$f":"NINo!I19","v":330},{"$f":"'Non-UK Births'!I19","v":144},{"$f":"'Pupils ethnic group'!J19","v":627},{"$f":"'Pupils with English as an add.'!G18","v":461},{"$f":"'Pop born outside UK'!I19","v":6000}]
[17,"Fife",null,{"$f":"'Total net migration'!I19","v":2076},{"$f":"'Total net migration 0-15'!I19","v":330},{"$f":"'Total net migration 16-64'!I19","v":1618},{"$f":"'Total net migration 65+'!I19","v":128},{"$f":"'Total in-migration'!I19","v":11174},{"$f":"'Total out-migration'!I19","v":9098},{"$f":"'Within Scotland net migration'!I19","v":449},{"$f":"'Within Scotland in-migration'!I19","v":5852},{"$f":"'Within Scotland out-migration'!I19","v":5403},{"$f":"'Rest of UK net migration'!I19","v":327},{"$f":"'Rest of UK in-migration'!I19","v":3024},{"$f":"'Rest of UK out-migration'!I19","v":2697},{"$f":"'Overseas net migration'!I19","v":1300},{"$f":"'Overseas in-migration'!I19","v":2298},{"$f":"'Overseas out-migration'!I19","v":998},null,{"$f":"NINo!I20","v":1900},{"$f":"'Non-UK Births'!I20","v":424},{"$f":"'Pupils ethnic group'!J20","v":1292},{"$f":"'Pupils with English as an add.'!G19","v":611},{"$f":"'Pop born outside UK'!I20","v":16000}]
[18,"Glasgow City",null,{"$f":"'Total net migration'!I20","v":5370},{"$f":"'Total net migration 0-15'!I20","v":-488},{"$f":"'Total net migration 16-64'!I20","v":6127},{"$f":"'Total net migration 65+'!I20","v":-269},{"$f":"'Total in-migration'!I20","v":29318},{"$f":"'Total out-migration'!I20","v":23948},{"$f":"'Within Scotland net migration'!I20","v":-1231},{"$f":"'Within Scotland in-migration'!I20","v":13663},{"$f":"'Within Scotland out-migration'!I20","v":14894},{"$f":"'Rest of UK net migration'!I20","v":-459},{"$f":"'Rest of UK in-migration'!I20","v":5399},{"$f":"'Rest of UK out-migration'!I20","v":5858},{"$f":"'Overseas net migration'!I20","v":7060},{"$f":"'Overseas in-migration'!I20","v":10256},{"$f":"'Overseas out-migration'!I20","v":3196},null,{"$f":"NINo!I21","v":7650},{"$f":"'Non-UK Births'!I21","v":1881},{"$f":"'Pupils ethnic group'!J21","v":10580},{"$f":"'Pupils with English as an add.'!G20","v":9275},{"$f":"'Pop born outside UK'!I21","v":65000}]
[19,"Highland",null,{"$f":"'Total net migration'!I21","v":898},{"$f":"'Total net migration 0-15'!I21","v":170},{"$f":"'Total net migration 16-64'!I21","v":667},{"$f":"'Total net migration 65+'!I21","v":61},{"$f":"'Total in-migration'!I21","v":7509},{"$f":"'Total out-migration'!I21","v":6611},{"$f":"'Within Scotland net migration'!I21","v":-169},{"$f":"'Within Scotland in-migration'!I21","v":3965},{"$f":"'Within Scotland out-migration'!I21","v":4134},{"$f":"'Rest of UK net migration'!I21","v":643},{"$f":"'Rest of UK in-migration'!I21","v":2521},{"$f":"'Rest of UK out-migration'!I21","v":1878},{"$f":"'Overseas net migration'!I21","v":424},{"$f":"'Overseas in-migration'!I21","v":1023},{"$f":"'Overseas out-migration'!I21","v":599},null,{"$f":"NINo!I22","v":1280},{"$f":"'Non-UK Births'!I22","v":269},{"$f":"'Pupils ethnic group'!J22","v":648},{"$f":"'Pupils with English as an add.'!G21","v":646},{"$f":"'Pop born outside UK'!I22","v":10000}]
[20,"Inverclyde",null,{"$f":"'Total net migration'!I22","v":-289},{"$f":"'Total net migration 0-15'!I22","v":-34},{"$f":"'Total net migration 16-64'!I22","v":-265},{"$f":"'Total net migration 65+'!I22","v":10},{"$f":"'Total in-migration'!I22","v":1258},{"$f":"'Total out-migration'!I22","v":1547},{"$f":"'Within Scotland net migration'!I22","v":-246},{"$f":"'Within Scotland in-migration'!I22","v":869},{"$f":"'Within Scotland out-migration'!I22","v":1115},{"$f":"'Rest of UK net migration'!I22","v":-18},{"$f":"'Rest of UK in-migration'!I22","v":290},{"$f":"'Rest of UK out-migration'!I22","v":308},{"$f":"'Overseas net migration'!I22","v":-25},{"$f":"'Overseas in-migration'!I22","v":99},{"$f":"'Overseas out-migration'!I22","v":124},null,{"$f":"NINo!I23","v":130},{"$f":"'Non-UK Births'!I23","v":34},{"$f":"'Pupils ethnic group'!J23","v":175},{"$f":"'Pupils with English as an add.'!G22","v":35},{"$f":"'Pop born outside UK'!I23","v":"*"}]
[21,"Midlothian",null,{"$f":"'Total net migration'!I23","v":522},{"$f":"'Total net migration 0-15'!I23","v":174},{"$f":"'Total net migration 16-64'!I23","v":302},{"$f":"'Total net migration 65+'!I23","v":46},{"$f":"'Total in-migration'!I23","v":2720},{"$f":"'Total out-migration'!I23","v":2198},{"$f":"'Within Scotland net migration'!I23","v":375},{"$f":"'Within Scotland in-migration'!I23","v":2157},{"$f":"'Within Scotland out-migration'!I23","v":1782},{"$f":"'Rest of UK net migration'!I23","v":74},{"$f":"'Rest of UK in-migration'!I23","v":384},{"$f":"'Rest of UK out-migration'!I23","v":310},{"$f":"'Overseas net migration'!I23","v":73},{"$f":"'Overseas in-migration'!I23","v":179},{"$f":"'Overseas out-migration'!I23","v":106},null,{"$f":"NINo!I24","v":170},{"$f":"'Non-UK Births'!I24","v":82},{"$f":"'Pupils ethnic group'!J24","v":307},{"$f":"'Pupils with English as an add.'!G23","v":128},{"$f":"'Pop born outside UK'!I24","v":"*"}]
[22,"Moray",null,{"$f":"'Total net migration'!I24","v":-162},{"$f":"'Total net migration 0-15'!I24","v":-76},{"$f":"'Total net migration 16-64'!I24","v":-114},{"$f":"'Total net migration 65+'!I24","v":28},{"$f":"'Total in-migration'!I24","v":3040},{"$f":"'Total out-migration'!I24","v":3202},{"$f":"'Within Scotland net migration'!I24","v":64},{"$f":"'Within Scotland in-migration'!I24","v":1711},{"$f":"'Within Scotland out-migration'!I24","v":1647},{"$f":"'Rest of UK net migration'!I24","v":-131},{"$f":"'Rest of UK in-migration'!I24","v":922},{"$f":"'Rest of UK out-migration'!I24","v":1053},{"$f":"'Overseas net migration'!I24","v":-95},{"$f":"'Overseas in-migration'!I24","v":407},{"$f":"'Overseas out-migration'!I24","v":502},null,{"$f":"NINo!I25","v":200},{"$f":"'Non-UK Births'!I25","v":107},{"$f":"'Pupils ethnic group'!J25","v":232},{"$f":"'Pupils with English as an add.'!G24","v":252},{"$f":"'Pop born outside UK'!I25","v":5000}]
[23,"North Ayrshire",null,{"$f":"'Total net migration'!I25","v":136},{"$f":"'Total net migration 0-15'!I25","v":64},{"$f":"'Total net migration 16-64'!I25","v":11},{"$f":"'Total net migration 65+'!I25","v":61},{"$f":"'Total in-migration'!I25","v":3528},{"$f":"'Total out-migration'!I25","v":3392},{"$f":"'Within Scotland net migration'!I25","v":22},{"$f":"'Within Scotland in-migration'!I25","v":2461},{"$f":"'Within Scotland out-migration'!I25","v":2439},{"$f":"'Rest of UK net migration'!I25","v":82},{"$f":"'Rest of UK in-migration'!I25","v":845},{"$f":"'Rest of UK out-migration'!I25","v":763},{"$f":"'Overseas net migration'!I25","v":32},{"$f":"'Overseas in-migration'!I25","v":222},{"$f":"'Overseas out-migration'!I25","v":190},null,{"$f":"NINo!I26","v":170},{"$f":"'Non-UK Births'!I26","v":52},{"$f":"'Pupils ethnic group'!J26","v":279},{"$f":"'Pupils with English as an add.'!G25","v":93},{"$f":"'Pop born outside UK'!I26","v":"*"}]
[24,"North Lanarkshire",null,{"$f":"'Total net migration'!I26","v":-58},{"$f":"'Total net migration 0-15'!I26","v":39},{"$f":"'Total net migration 16-64'!I26","v":-81},{"$f":"'Total net migration 65+'!I26","v":-16},{"$f":"'Total in-migration'!I26","v":6540},{"$f":"'Total out-migration'!I26","v":6598},{"$f":"'Within Scotland net migration'!I26","v":-202},{"$f":"'Within Scotland in-migration'!I26","v":4741},{"$f":"'Within Scotland out-migration'!I26","v":4943},{"$f":"'Rest of UK net migration'!I26","v":28},{"$f":"'Rest of UK in-migration'!I26","v":1166},{"$f":"'Rest of UK out-migration'!I26","v":1138},{"$f":"'Overseas net migration'!I26","v":116},{"$f":"'Overseas in-migration'!I26","v":633},{"$f":"'Overseas out-migration'!I26","v":517},null,{"$f":"NINo!I27","v":690},{"$f":"'Non-UK Births'!I27","v":284},{"$f":"'Pupils ethnic group'!J27","v":1574},{"$f":"'Pupils with English as an add.'!G26","v":892},{"$f":"'Pop born outside UK'!I27","v":"*"}]
[25,"Orkney Islands",null,{"$f":"'Total net migration'!I27","v":99},{"$f":"'Total net migration 0-15'!I27","v":5},{"$f":"'Total net migration 16-64'!I27","v":85},{"$f":"'Total net migration 65+'!I27","v":9},{"$f":"'Total in-migration'!I27","v":666},{"$f":"'Total out-migration'!I27","v":567},{"$f":"'Within Scotland net migration'!I27","v":8},{"$f":"'Within Scotland in-migration'!I27","v":345},{"$f":"'Within Scotland out-migration'!I27","v":337},{"$f":"'Rest of UK net migration'!I27","v":68},{"$f":"'Rest of UK in-migration'!I27","v":255},{"$f":"'Rest of UK out-migration'!I27","v":187},{"$f":"'Overseas net migration'!I27","v":23},{"$f":"'Overseas in-migration'!I27","v":66},{"$f":"'Overseas out-migration'!I27","v":43},null,{"$f":"NINo!I28","v":50},{"$f":"'Non-UK Births'!I28","v":8},{"$f":"'Pupils ethnic group'!J28","v":39},{"$f":"'Pupils with English as an add.'!G27","v":5},{"$f":"'Pop born outside UK'!I28","v":"*"}]
[26,"Perth & Kinross",null,{"$f":"'Total net migration'!I28","v":1826},{"$f":"'Total net migration 0-15'!I28","v":390},{"$f":"'Total net migration 16-64'!I28","v":1255},{"$f":"'Total net migration 65+'!I28","v":181},{"$f":"'Total in-migration'!I28","v":6459},{"$f":"'Total out-migration'!I28","v":4633},{"$f":"'Within Scotland net migration'!I28","v":342},{"$f":"'Within Scotland in-migration'!I28","v":3448},{"$f":"'Within Scotland out-migration'!I28","v":3106},{"$f":"'Rest of UK net migration'!I28","v":367},{"$f":"'Rest of UK in-migration'!I28","v":1383},{"$f":"'Rest of UK out-migration'!I28","v":1016},{"$f":"'Overseas net migration'!I28","v":1117},{"$f":"'Overseas in-migration'!I28","v":1628},{"$f":"'Overseas out-migration'!I28","v":511},null,{"$f":"NINo!I29","v":2810},{"$f":"'Non-UK Births'!I29","v":204},{"$f":"'Pupils ethnic group'!J29","v":487},{"$f":"'Pupils with English as an add.'!G28","v":450},{"$f":"'Pop born outside UK'!I29","v":8000}]
[27,"Renfrewshire",null,{"$f":"'Total net migration'!I29","v":589},{"$f":"'Total net migration 0-15'!I29","v":108},{"$f":"'Total net migration 16-64'!I29","v":408},{"$f":"'Total net migration 65+'!I29","v":73},{"$f":"'Total in-migration'!I29","v":4781},{"$f":"'Total out-migration'!I29","v":4192},{"$f":"'Within Scotland net migration'!I29","v":173},{"$f":"'Within Scotland in-migration'!I29","v":3331},{"$f":"'Within Scotland out-migration'!I29","v":3158},{"$f":"'Rest of UK net migration'!I29","v":-40},{"$f":"'Rest of UK in-migration'!I29","v":721},{"$f":"'Rest of UK out-migration'!I29","v":761},{"$f":"'Overseas net migration'!I29","v":456},{"$f":"'Overseas in-migration'!I29","v":729},{"$f":"'Overseas out-migration'!I29","v":273},null,{"$f":"NINo!I30","v":520},{"$f":"'Non-UK Births'!I30","v":176},{"$f":"'Pupils ethnic group'!J30","v":787},{"$f":"'Pupils with English as an add.'!G29","v":319},{"$f":"'Pop born outside UK'!I30","v":11000}]
[28,"Scottish Borders",null,{"$f":"'Total net migration'!I30","v":488},{"$f":"'Total net migration 0-15'!I30","v":141},{"$f":"'Total net migration 16-64'!I30","v":370},{"$f":"'Total net migration 65+'!I30","v":-23},{"$f":"'Total in-migration'!I30","v":4091},{"$f":"'Total out-migration'!I30","v":3603},{"$f":"'Within Scotland net migration'!I30","v":134},{"$f":"'Within Scotland in-migration'!I30","v":2207},{"$f":"'Within Scotland out-migration'!I30","v":2073},{"$f":"'Rest of UK net migration'!I30","v":288},{"$f":"'Rest of UK in-migration'!I30","v":1511},{"$f":"'Rest of UK out-migration'!I30","v":1223},{"$f":"'Overseas net migration'!I30","v":66},{"$f":"'Overseas in-migration'!I30","v":373},{"$f":"'Overseas out-migration'!I30","v":307},null,{"$f":"NINo!I31","v":390},{"$f":"'Non-UK Births'!I31","v":115},{"$f":"'Pupils ethnic group'!J31","v":332},{"$f":"'Pupils with English as an add.'!G30","v":322},{"$f":"'Pop born outside UK'!I31","v":5000}]
[29,"Shetland Islands",null,{"$f":"'Total net migration'!I31","v":59},{"$f":"'Total net migration 0-15'!I31","v":-15},{"$f":"'Total net migration 16-64'!I31","v":64},{"$f":"'Total net migration 65+'!I31","v":10},{"$f":"'Total in-migration'!I31","v":708},{"$f":"'Total out-migration'!I31","v":649},{"$f":"'Within Scotland net migration'!I31","v":10},{"$f":"'Within Scotland in-migration'!I31","v":382},{"$f":"'Within Scotland out-migration'!I31","v":372},{"$f":"'Rest of UK net migration'!I31","v":14},{"$f":"'Rest of UK in-migration'!I31","v":225},{"$f":"'Rest of UK out-migration'!I31","v":211},{"$f":"'Overseas net migration'!I31","v":35},{"$f":"'Overseas in-migration'!I31","v":101},{"$f":"'Overseas out-migration'!I31","v":66},null,{"$f":"NINo!I32","v":100},{"$f":"'Non-UK Births'!I32","v":30},{"$f":"'Pupils ethnic group'!J32","v":84},{"$f":"'Pupils with English as an add.'!G31","v":42},{"$f":"'Pop born outside UK'!I32","v":"*"}]
[30,"South Ayrshire",null,{"$f":"'Total net migration'!I32","v":596},{"$f":"'Total net migration 0-15'!I32","v":159},{"$f":"'Total net migration 16-64'!I32","v":324},{"$f":"'Total net migration 65+'!I32","v":113},{"$f":"'Total in-migration'!I32","v":3481},{"$f":"'Total out-migration'!I32","v":2885},{"$f":"'Within Scotland net migration'!I32","v":226},{"$f":"'Within Scotland in-migration'!I32","v":2307},{"$f":"'Within Scotland out-migration'!I32","v":2081},{"$f":"'Rest of UK net migration'!I32","v":290},{"$f":"'Rest of UK in-migration'!I32","v":868},{"$f":"'Rest of UK out-migration'!I32","v":578},{"$f":"'Overseas net migration'!I32","v":80},{"$f":"'Overseas in-migration'!I32","v":306},{"$f":"'Overseas out-migration'!I32","v":226},null,{"$f":"NINo!I33","v":310},{"$f":"'Non-UK Births'!I33","v":61},{"$f":"'Pupils ethnic group'!J33","v":284},{"$f":"'Pupils with English as an add.'!G32","v":158},{"$f":"'Pop born outside UK'!I33","v":"*"}]
[31,"South Lanarkshire",null,{"$f":"'Total net migration'!I33","v":587},{"$f":"'Total net migration 0-15'!I33","v":91},{"$f":"'Total net migration 16-64'!I33","v":335},{"$f":"'Total net migration 65+'!I33","v":161},{"$f":"'Total in-migration'!I33","v":7623},{"$f":"'Total out-migration'!I33","v":7036},{"$f":"'Within Scotland net migration'!I33","v":482},{"$f":"'Within Scotland in-migration'!I33","v":5667},{"$f":"'Within Scotland out-migration'!I33","v":5185},{"$f":"'Rest of UK net migration'!I33","v":106},{"$f":"'Rest of UK in-migration'!I33","v":1396},{"$f":"'Rest of UK out-migration'!I33","v":1290},{"$f":"'Overseas net migration'!I33","v":-1},{"$f":"'Overseas in-migration'!I33","v":560},{"$f":"'Overseas out-migration'!I33","v":561},null,{"$f":"NINo!I34","v":470},{"$f":"'Non-UK Births'!I34","v":245},{"$f":"'Pupils ethnic group'!J34","v":1396},{"$f":"'Pupils with English as an add.'!G33","v":461},{"$f":"'Pop born outside UK'!I34","v":"*"}]
[32,"Stirling",null,{"$f":"'Total net migration'!I34","v":1021},{"$f":"'Total net migration 0-15'!I34","v":220},{"$f":"'Total net migration 16-64'!I34","v":817},{"$f":"'Total net migration 65+'!I34","v":-16},{"$f":"'Total in-migration'!I34","v":5161},{"$f":"'Total out-migration'!I34","v":4140},{"$f":"'Within Scotland net migration'!I34","v":-110},{"$f":"'Within Scotland in-migration'!I34","v":2838},{"$f":"'Within Scotland out-migration'!I34","v":2948},{"$f":"'Rest of UK net migration'!I34","v":146},{"$f":"'Rest of UK in-migration'!I34","v":960},{"$f":"'Rest of UK out-migration'!I34","v":814},{"$f":"'Overseas net migration'!I34","v":985},{"$f":"'Overseas in-migration'!I34","v":1363},{"$f":"'Overseas out-migration'!I34","v":378},null,{"$f":"NINo!I35","v":600},{"$f":"'Non-UK Births'!I35","v":100},{"$f":"'Pupils ethnic group'!J35","v":488},{"$f":"'Pupils with English as an add.'!G34","v":184},{"$f":"'Pop born outside UK'!I35","v":7000}]
[33,"West Dunbartonshire",null,{"$f":"'Total net migration'!I35","v":-173},{"$f":"'Total net migration 0-15'!I35","v":-63},{"$f":"'Total net migration 16-64'!I35","v":-123},{"$f":"'Total net migration 65+'!I35","v":13},{"$f":"'Total in-migration'!I35","v":2085},{"$f":"'Total out-migration'!I35","v":2258},{"$f":"'Within Scotland net migration'!I35","v":-191},{"$f":"'Within Scotland in-migration'!I35","v":1531},{"$f":"'Within Scotland out-migration'!I35","v":1722},{"$f":"'Rest of UK net migration'!I35","v":7},{"$f":"'Rest of UK in-migration'!I35","v":394},{"$f":"'Rest of UK out-migration'!I35","v":387},{"$f":"'Overseas net migration'!I35","v":11},{"$f":"'Overseas in-migration'!I35","v":160},{"$f":"'Overseas out-migration'!I35","v":149},null,{"$f":"NINo!I36","v":130},{"$f":"'Non-UK Births'!I36","v":60},{"$f":"'Pupils ethnic group'!J36","v":272},{"$f":"'Pupils with English as an add.'!G35","v":132},{"$f":"'Pop born outside UK'!I36","v":"*"}]
[34,"West Lothian",null,{"$f":"'Total net migration'!I36","v":219},{"$f":"'Total net migration 0-15'!I36","v":56},{"$f":"'Total net migration 16-64'!I36","v":118},{"$f":"'Total net migration 65+'!I36","v":45},{"$f":"'Total in-migration'!I36","v":4817},{"$f":"'Total out-migration'!I36","v":4598},{"$f":"'Within Scotland net migration'!I36","v":-319},{"$f":"'Within Scotland in-migration'!I36","v":3073},{"$f":"'Within Scotland out-migration'!I36","v":3392},{"$f":"'Rest of UK net migration'!I36","v":-7},{"$f":"'Rest of UK in-migration'!I36","v":873},{"$f":"'Rest of UK out-migration'!I36","v":880},{"$f":"'Overseas net migration'!I36","v":545},{"$f":"'Overseas in-migration'!I36","v":871},{"$f":"'Overseas out-migration'!I36","v":326},null,{"$f":"NINo!I37","v":880},{"$f":"'Non-UK Births'!I37","v":278},{"$f":"'Pupils ethnic group'!J37","v":984},{"$f":"'Pupils with English as an add.'!G36","v":630},{"$f":"'Pop born outside UK'!I37","v":11000}]
[]
[35,"Not specified"]
[36,"SCOTLAND",null,{"$f":"'Total net migration'!I39","v":30209},{"$f":"'Total net migration 0-15'!I4","v":3490},{"$f":"'Total net migration 16-64'!I39","v":26224},{"$f":"'Total net migration 65+'!I39","v":495},{"$f":"'Total in-migration'!I39","v":87886},{"$f":"'Total out-migration'!I39","v":57677},null,null,null,{"$f":"'Rest of UK net migration'!I39","v":2909},{"$f":"'Rest of UK in-migration'!I39","v":43686},{"$f":"'Rest of UK out-migration'!I39","v":40777},{"$f":"'Overseas net migration'!I39","v":27300},{"$f":"'Overseas in-migration'!I39","v":44200},{"$f":"'Overseas out-migration'!I39","v":16900},null,null,{"$f":"'Non-UK Births'!I40","v":8343},null,null,null,{"$f":"'NHS Overseas'!$I$5","v":51325}]
[37,"Ayrshire & Arran",null,{"$f":"'Total net migration'!I40","v":762},{"$f":"'Total net migration 0-15'!I40","v":248},{"$f":"'Total net migration 16-64'!I40","v":350},{"$f":"'Total net migration 65+'!I40","v":164},{"$f":"'Total in-migration'!I40","v":7761},{"$f":"'Total out-migration'!I40","v":6999},{"$f":"'Within Scotland net migration'!I40","v":261},{"$f":"'Within Scotland in-migration'!I40","v":4713},{"$f":"'Within Scotland out-migration'!I40","v":4452},{"$f":"'Rest of UK net migration'!I40","v":455},{"$f":"'Rest of UK in-migration'!I40","v":2404},{"$f":"'Rest of UK out-migration'!I40","v":1949},{"$f":"'Overseas net migration'!I40","v":46},{"$f":"'Overseas in-migration'!I40","v":644},{"$f":"'Overseas out-migration'!I40","v":598},null,null,{"$f":"'Non-UK Births'!I41","v":189}]
[38,"Borders",null,{"$f":"'Total net migration'!I41","v":488},{"$f":"'Total net migration 0-15'!I41","v":141},{"$f":"'Total net migration 16-64'!I41","v":370},{"$f":"'Total net migration 65+'!I41","v":-23},{"$f":"'Total in-migration'!I41","v":4091},{"$f":"'Total out-migration'!I41","v":3603},{"$f":"'Within Scotland net migration'!I41","v":134},{"$f":"'Within Scotland in-migration'!I41","v":2207},{"$f":"'Within Scotland out-migration'!I41","v":2073},{"$f":"'Rest of UK net migration'!I41","v":288},{"$f":"'Rest of UK in-migration'!I41","v":1511},{"$f":"'Rest of UK out-migration'!I41","v":1223},{"$f":"'Overseas net migration'!I41","v":66},{"$f":"'Overseas in-migration'!I41","v":373},{"$f":"'Overseas out-migration'!I41","v":307},null,null,{"$f":"'Non-UK Births'!I42","v":115}]
[39,"Dumfries & Galloway",null,{"$f":"'Total net migration'!I42","v":377},{"$f":"'Total net migration 0-15'!I42","v":113},{"$f":"'Total net migration 16-64'!I42","v":230},{"$f":"'Total net migration 65+'!I42","v":34},{"$f":"'Total in-migration'!I42","v":4002},{"$f":"'Total out-migration'!I42","v":3625},{"$f":"'Within Scotland net migration'!I42","v":-87},{"$f":"'Within Scotland in-migration'!I42","v":1652},{"$f":"'Within Scotland out-migration'!I42","v":1739},{"$f":"'Rest of UK net migration'!I42","v":449},{"$f":"'Rest of UK in-migration'!I42","v":1992},{"$f":"'Rest of UK out-migration'!I42","v":1543},{"$f":"'Overseas net migration'!I42","v":15},{"$f":"'Overseas in-migration'!I42","v":358},{"$f":"'Overseas out-migration'!I42","v":343},null,null,{"$f":"'Non-UK Births'!I43","v":96}]
[40,"Fife",null,{"$f":"'Total net migration'!I43","v":2071},{"$f":"'Total net migration 0-15'!I43","v":330},{"$f":"'Total net migration 16-64'!I43","v":1614},{"$f":"'Total net migration 65+'!I43","v":127},{"$f":"'Total in-migration'!I43","v":11172},{"$f":"'Total out-migration'!I43","v":9101},{"$f":"'Within Scotland net migration'!I43","v":444},{"$f":"'Within Scotland in-migration'!I43","v":5850},{"$f":"'Within Scotland out-migration'!I43","v":5406},{"$f":"'Rest of UK net migration'!I43","v":327},{"$f":"'Rest of UK in-migration'!I43","v":3024},{"$f":"'Rest of UK out-migration'!I43","v":2697},{"$f":"'Overseas net migration'!I43","v":1300},{"$f":"'Overseas in-migration'!I43","v":2298},{"$f":"'Overseas out-migration'!I43","v":998},null,null,{"$f":"'Non-UK Births'!I44","v":424}]
[41,"Forth Valley",null,{"$f":"'Total net migration'!I44","v":2034},{"$f":"'Total net migration 0-15'!I44","v":313},{"$f":"'Total net migration 16-64'!I44","v":1688},{"$f":"'Total net migration 65+'!I44","v":33},{"$f":"'Total in-migration'!I44","v":9434},{"$f":"'Total out-migration'!I44","v":7400},{"$f":"'Within Scotland net migration'!I44","v":492},{"$f":"'Within Scotland in-migration'!I44","v":5505},{"$f":"'Within Scotland out-migration'!I44","v":5013},{"$f":"'Rest of UK net migration'!I44","v":273},{"$f":"'Rest of UK in-migration'!I44","v":1960},{"$f":"'Rest of UK out-migration'!I44","v":1687},{"$f":"'Overseas net migration'!I44","v":1269},{"$f":"'Overseas in-migration'!I44","v":1969},{"$f":"'Overseas out-migration'!I44","v":700},null,null,{"$f":"'Non-UK Births'!I45","v":287}]
[42,"Grampian",null,{"$f":"'Total net migration'!I45","v":4300},{"$f":"'Total net migration 0-15'!I45","v":684},{"$f":"'Total net migration 16-64'!I45","v":3720},{"$f":"'Total net migration 65+'!I45","v":-104},{"$f":"'Total in-migration'!I45","v":18794},{"$f":"'Total out-migration'!I45","v":14494},{"$f":"'Within Scotland net migration'!I45","v":-198},{"$f":"'Within Scotland in-migration'!I45","v":6793},{"$f":"'Within Scotland out-migration'!I45","v":6991},{"$f":"'Rest of UK net migration'!I45","v":-260},{"$f":"'Rest of UK in-migration'!I45","v":4872},{"$f":"'Rest of UK out-migration'!I45","v":5132},{"$f":"'Overseas net migration'!I45","v":4758},{"$f":"'Overseas in-migration'!I45","v":7129},{"$f":"'Overseas out-migration'!I45","v":2371},null,null,{"$f":"'Non-UK Births'!I46","v":1324}]
[43,"Greater Glasgow & Clyde",null,{"$f":"'Total net migration'!I46","v":5775},{"$f":"'Total net migration 0-15'!I46","v":186},{"$f":"'Total net migration 16-64'!I46","v":5781},{"$f":"'Total net migration 65+'!I46","v":-192},{"$f":"'Total in-migration'!I46","v":37787},{"$f":"'Total out-migration'!I46","v":32012},{"$f":"'Within Scotland net migration'!I46","v":-1052},{"$f":"'Within Scotland in-migration'!I46","v":18152},{"$f":"'Within Scotland out-migration'!I46","v":19204},{"$f":"'Rest of UK net migration'!I46","v":-556},{"$f":"'Rest of UK in-migration'!I46","v":7967},{"$f":"'Rest of UK out-migration'!I46","v":8523},{"$f":"'Overseas net migration'!I46","v":7383},{"$f":"'Overseas in-migration'!I46","v":11668},{"$f":"'Overseas out-migration'!I46","v":4285},null,null,{"$f":"'Non-UK Births'!I47","v":2384}]
[44,"Highland",null,{"$f":"'Total net migration'!I47","v":1202},{"$f":"'Total net migration 0-15'!I47","v":305},{"$f":"'Total net migration 16-64'!I47","v":848},{"$f":"'Total net migration 65+'!I47","v":49},{"$f":"'Total in-migration'!I47","v":10945},{"$f":"'Total out-migration'!I47","v":9743},{"$f":"'Within Scotland net migration'!I47","v":-290},{"$f":"'Within Scotland in-migration'!I47","v":5712},{"$f":"'Within Scotland out-migration'!I47","v":6002},{"$f":"'Rest of UK net migration'!I47","v":1013},{"$f":"'Rest of UK in-migration'!I47","v":3850},{"$f":"'Rest of UK out-migration'!I47","v":2837},{"$f":"'Overseas net migration'!I47","v":479},{"$f":"'Overseas in-migration'!I47","v":1383},{"$f":"'Overseas out-migration'!I47","v":904},null,null,{"$f":"'Non-UK Births'!I48","v":348}]
[45,"Lanarkshire",null,{"$f":"'Total net migration'!I48","v":416},{"$f":"'Total net migration 0-15'!I48","v":119},{"$f":"'Total net migration 16-64'!I48","v":191},{"$f":"'Total net migration 65+'!I48","v":106},{"$f":"'Total in-migration'!I48","v":10448},{"$f":"'Total out-migration'!I48","v":10032},{"$f":"'Within Scotland net migration'!I48","v":134},{"$f":"'Within Scotland in-migration'!I48","v":7125},{"$f":"'Within Scotland out-migration'!I48","v":6991},{"$f":"'Rest of UK net migration'!I48","v":148},{"$f":"'Rest of UK in-migration'!I48","v":2260},{"$f":"'Rest of UK out-migration'!I48","v":2112},{"$f":"'Overseas net migration'!I48","v":134},{"$f":"'Overseas in-migration'!I48","v":1063},{"$f":"'Overseas out-migration'!I48","v":929},null,null,{"$f":"'Non-UK Births'!I49","v":450}]
[46,"Lothian",null,{"$f":"'Total net migration'!I49","v":9230},{"$f":"'Total net migration 0-15'!I49","v":660},{"$f":"'Total net migration 16-64'!I49","v":8444},{"$f":"'Total net migration 65+'!I49","v":126},{"$f":"'Total in-migration'!I49","v":33811},{"$f":"'Total out-migration'!I49","v":24581},{"$f":"'Within Scotland net migration'!I49","v":-127},{"$f":"'Within Scotland in-migration'!I49","v":11296},{"$f":"'Within Scotland out-migration'!I49","v":11423},{"$f":"'Rest of UK net migration'!I49","v":496},{"$f":"'Rest of UK in-migration'!I49","v":9818},{"$f":"'Rest of UK out-migration'!I49","v":9322},{"$f":"'Overseas net migration'!I49","v":8861},{"$f":"'Overseas in-migration'!I49","v":12697},{"$f":"'Overseas out-migration'!I49","v":3836},null,null,{"$f":"'Non-UK Births'!I50","v":2019}]
[47,"Orkney",null,{"$f":"'Total net migration'!I50","v":99},{"$f":"'Total net migration 0-15'!I50","v":5},{"$f":"'Total net migration 16-64'!I50","v":85},{"$f":"'Total net migration 65+'!I50","v":9},{"$f":"'Total in-migration'!I50","v":666},{"$f":"'Total out-migration'!I50","v":567},{"$f":"'Within Scotland net migration'!I50","v":8},{"$f":"'Within Scotland in-migration'!I50","v":345},{"$f":"'Within Scotland out-migration'!I50","v":337},{"$f":"'Rest of UK net migration'!I50","v":68},{"$f":"'Rest of UK in-migration'!I50","v":255},{"$f":"'Rest of UK out-migration'!I50","v":187},{"$f":"'Overseas net migration'!I50","v":23},{"$f":"'Overseas in-migration'!I50","v":66},{"$f":"'Overseas out-migration'!I50","v":43},null,null,{"$f":"'Non-UK Births'!I51","v":8}]
[48,"Shetland",null,{"$f":"'Total net migration'!I51","v":59},{"$f":"'Total net migration 0-15'!I51","v":-15},{"$f":"'Total net migration 16-64'!I51","v":64},{"$f":"'Total net migration 65+'!I51","v":10},{"$f":"'Total in-migration'!I51","v":708},{"$f":"'Total out-migration'!I51","v":649},{"$f":"'Within Scotland net migration'!I51","v":10},{"$f":"'Within Scotland in-migration'!I51","v":382},{"$f":"'Within Scotland out-migration'!I51","v":372},{"$f":"'Rest of UK net migration'!I51","v":14},{"$f":"'Rest of UK in-migration'!I51","v":225},{"$f":"'Rest of UK out-migration'!I51","v":211},{"$f":"'Overseas net migration'!I51","v":35},{"$f":"'Overseas in-migration'!I51","v":101},{"$f":"'Overseas out-migration'!I51","v":66},null,null,{"$f":"'Non-UK Births'!I52","v":30}]
[49,"Tayside",null,{"$f":"'Total net migration'!I52","v":3373},{"$f":"'Total net migration 0-15'!I52","v":392},{"$f":"'Total net migration 16-64'!I52","v":2827},{"$f":"'Total net migration 65+'!I52","v":154},{"$f":"'Total in-migration'!I52","v":14387},{"$f":"'Total out-migration'!I52","v":11014},{"$f":"'Within Scotland net migration'!I52","v":304},{"$f":"'Within Scotland in-migration'!I52","v":6720},{"$f":"'Within Scotland out-migration'!I52","v":6416},{"$f":"'Rest of UK net migration'!I52","v":141},{"$f":"'Rest of UK in-migration'!I52","v":3276},{"$f":"'Rest of UK out-migration'!I52","v":3135},{"$f":"'Overseas net migration'!I52","v":2928},{"$f":"'Overseas in-migration'!I52","v":4391},{"$f":"'Overseas out-migration'!I52","v":1463},null,null,{"$f":"'Non-UK Births'!I53","v":656}]
[50,"Western Isles",null,{"$f":"'Total net migration'!I53","v":23},{"$f":"'Total net migration 0-15'!I53","v":9},{"$f":"'Total net migration 16-64'!I53","v":12},{"$f":"'Total net migration 65+'!I53","v":2},{"$f":"'Total in-migration'!I53","v":908},{"$f":"'Total out-migration'!I53","v":885},{"$f":"'Within Scotland net migration'!I53","v":-33},{"$f":"'Within Scotland in-migration'!I53","v":576},{"$f":"'Within Scotland out-migration'!I53","v":609},{"$f":"'Rest of UK net migration'!I53","v":53},{"$f":"'Rest of UK in-migration'!I53","v":272},{"$f":"'Rest of UK out-migration'!I53","v":219},{"$f":"'Overseas net migration'!I53","v":3},{"$f":"'Overseas in-migration'!I53","v":60},{"$f":"'Overseas out-migration'!I53","v":57},null,null,{"$f":"'Non-UK Births'!I54","v":13}]

{"sheet":"2011 Rate","index":50,"n_rows":53,"n_cols":27,"rows_kept":53,"cut":false,"hidden":true,"merged":[]}
[null,2011,"RATE"]
[null,null,"Not specified ",{"$f":"'Comparing Indicators'!$U8","v":"Total net migration"},{"$f":"'Comparing Indicators'!$U9","v":"Total net migration for ages 0-15"},{"$f":"'Comparing Indicators'!$U10","v":"Total net migration for ages 16-64"},{"$f":"'Comparing Indicators'!$U11","v":"Total net migration for people aged 65+"},{"$f":"'Comparing Indicators'!$U12","v":"Total in-migration"},{"$f":"'Comparing Indicators'!$U13","v":"Total out-migration"},{"$f":"'Comparing Indicators'!$U14","v":"Within Scotland net migration"},{"$f":"'Comparing Indicators'!$U15","v":"Within Scotland in-migration"},{"$f":"'Comparing Indicators'!$U16","v":"Within Scotland out-migration"},{"$f":"'Comparing Indicators'!$U17","v":"Rest of UK net migration"},{"$f":"'Comparing Indicators'!$U18","v":"Rest of UK in-migration"},{"$f":"'Comparing Indicators'!$U19","v":"Rest of UK out-migration"},{"$f":"'Comparing Indicators'!$U20","v":"Overseas net migration"},{"$f":"'Comparing Indicators'!$U21","v":"Overseas in-migration"},{"$f":"'Comparing Indicators'!$U22","v":"Overseas out-migration"},{"$f":"'Comparing Indicators'!$U23","v":"Worker Registration Scheme"},{"$f":"'Comparing Indicators'!$U24","v":"NINo Allocation"},{"$f":"'Comparing Indicators'!$U25","v":"Births to non-UK mothers"},{"$f":"'Comparing Indicators'!$U26","v":"Pupils from a minority ethnic group"},{"$f":"'Comparing Indicators'!$U27","v":"Pupils with English as an additional language"},{"$f":"'Comparing Indicators'!$U28","v":"Estimate of resident population born outside the UK"},"NHS registrations from overseas",null,"Mid-year population estimate"]
[1,"Not specified"]
[2,"SCOTLAND",null,{"$f":"('2011'!D4/'2011 Rate'!$AA4)*1000","v":5.6999188663937055},{"$f":"('2011'!E4/'2011 Rate'!$AA4)*1000","v":0.65850299062246453},{"$f":"('2011'!F4/'2011 Rate'!$AA4)*1000","v":4.9480178871299456},{"$f":"('2011'!G4/'2011 Rate'!$AA4)*1000","v":9.3397988641295115E-2},{"$f":"('2011'!H4/'2011 Rate'!$AA4)*1000","v":16.582577029755278},{"$f":"('2011'!I4/'2011 Rate'!$AA4)*1000","v":10.882658163361572},null,null,null,{"$f":"('2011'!M4/'2011 Rate'!$AA4)*1000","v":0.54887828072227784},{"$f":"('2011'!N4/'2011 Rate'!$AA4)*1000","v":8.2427970339062995},{"$f":"('2011'!O4/'2011 Rate'!$AA4)*1000","v":7.6939187531840219},{"$f":"('2011'!P4/'2011 Rate'!$AA4)*1000","v":5.1510405856714279},{"$f":"('2011'!Q4/'2011 Rate'!$AA4)*1000","v":8.3397799958489784},{"$f":"('2011'!R4/'2011 Rate'!$AA4)*1000","v":3.1887394101775506},null,{"$f":"('2011'!T4/'2011 Rate'!$AA4)*1000","v":7.4529708107700143},{"$f":"('2011'!U4/'2011 Rate'!$AA4)*1000","v":1.5741806449178286},{"$f":"('2011'!V4/'2011 Rate'!$AA4)*1000","v":6.6306911451159456},{"$f":"('2011'!W4/'2011 Rate'!$AA4)*1000","v":4.6331062850242457},{"$f":"IF('2011'!X4=\"*\",\"\",('2011'!X4/'2011 Rate'!$AA4)*1000)","v":64.152153814222913},{"$f":"('2011'!Y4/'2011 Rate'!$AA4)*1000","v":9.6841449838676201},"Scotland",{"$f":"'Population estimates'!I4","v":5299900}]
[3,"Aberdeen City",null,{"$f":"('2011'!D5/'2011 Rate'!$AA5)*1000","v":13.836195271059966},{"$f":"('2011'!E5/'2011 Rate'!$AA5)*1000","v":1.380023374988762},{"$f":"('2011'!F5/'2011 Rate'!$AA5)*1000","v":12.851748628967005},{"$f":"('2011'!G5/'2011 Rate'!$AA5)*1000","v":-0.39557673289580148},{"$f":"('2011'!H5/'2011 Rate'!$AA5)*1000","v":61.053672570349732},{"$f":"('2011'!I5/'2011 Rate'!$AA5)*1000","v":47.217477299289762},{"$f":"('2011'!J5/'2011 Rate'!$AA5)*1000","v":-4.7424256046030751},{"$f":"('2011'!K5/'2011 Rate'!$AA5)*1000","v":26.777847702957835},{"$f":"('2011'!L5/'2011 Rate'!$AA5)*1000","v":31.52027330756091},{"$f":"('2011'!M5/'2011 Rate'!$AA5)*1000","v":1.3485570439629597E-2},{"$f":"('2011'!N5/'2011 Rate'!$AA5)*1000","v":10.523240133057628},{"$f":"('2011'!O5/'2011 Rate'!$AA5)*1000","v":10.509754562617999},{"$f":"('2011'!P5/'2011 Rate'!$AA5)*1000","v":18.565135305223414},{"$f":"('2011'!Q5/'2011 Rate'!$AA5)*1000","v":23.752584734334263},{"$f":"('2011'!R5/'2011 Rate'!$AA5)*1000","v":5.1874494291108508},null,{"$f":"('2011'!T5/'2011 Rate'!$AA5)*1000","v":20.677874674098714},{"$f":"('2011'!U5/'2011 Rate'!$AA5)*1000","v":3.7669693428032005},{"$f":"('2011'!V5/'2011 Rate'!$AA5)*1000","v":9.1432167580688652},{"$f":"('2011'!W5/'2011 Rate'!$AA5)*1000","v":8.2396835386136829},{"$f":"IF('2011'!X5=\"*\",\"\",('2011'!X5/'2011 Rate'!$AA5)*1000)","v":143.84608468938237},null,"Aberdeen City",{"$f":"'Population estimates'!I5","v":222460}]
[4,"Aberdeenshire",null,{"$f":"('2011'!D6/'2011 Rate'!$AA6)*1000","v":5.4563374728957221},{"$f":"('2011'!E6/'2011 Rate'!$AA6)*1000","v":1.7859254878769959},{"$f":"('2011'!F6/'2011 Rate'!$AA6)*1000","v":3.8438793613246598},{"$f":"('2011'!G6/'2011 Rate'!$AA6)*1000","v":-0.17346737630593337},{"$f":"('2011'!H6/'2011 Rate'!$AA6)*1000","v":34.835403114527892},{"$f":"('2011'!I6/'2011 Rate'!$AA6)*1000","v":29.37906564163217},{"$f":"('2011'!J6/'2011 Rate'!$AA6)*1000","v":3.1263552138773902},{"$f":"('2011'!K6/'2011 Rate'!$AA6)*1000","v":22.822787305342004},{"$f":"('2011'!L6/'2011 Rate'!$AA6)*1000","v":19.696432091464619},{"$f":"('2011'!M6/'2011 Rate'!$AA6)*1000","v":-0.52040212891780013},{"$f":"('2011'!N6/'2011 Rate'!$AA6)*1000","v":6.343386556278336},{"$f":"('2011'!O6/'2011 Rate'!$AA6)*1000","v":6.8637886851961367},{"$f":"('2011'!P6/'2011 Rate'!$AA6)*1000","v":2.8503843879361326},{"$f":"('2011'!Q6/'2011 Rate'!$AA6)*1000","v":5.6692292529075496},{"$f":"('2011'!R6/'2011 Rate'!$AA6)*1000","v":2.8188448649714175},null,{"$f":"('2011'!T6/'2011 Rate'!$AA6)*1000","v":5.9136605558840927},{"$f":"('2011'!U6/'2011 Rate'!$AA6)*1000","v":1.4941849004533807},{"$f":"('2011'!V6/'2011 Rate'!$AA6)*1000","v":2.8030751034890597},{"$f":"('2011'!W6/'2011 Rate'!$AA6)*1000","v":3.6467573427951905},{"$f":"IF('2011'!X6=\"*\",\"\",('2011'!X6/'2011 Rate'!$AA6)*1000)","v":63.079045929430308},null,"Aberdeenshire",{"$f":"'Population estimates'!I6","v":253650}]
[5,"Angus",null,{"$f":"('2011'!D7/'2011 Rate'!$AA7)*1000","v":0.98967297762478479},{"$f":"('2011'!E7/'2011 Rate'!$AA7)*1000","v":0.80034423407917388},{"$f":"('2011'!F7/'2011 Rate'!$AA7)*1000","v":-0.30120481927710846},{"$f":"('2011'!G7/'2011 Rate'!$AA7)*1000","v":0.49053356282271943},{"$f":"('2011'!H7/'2011 Rate'!$AA7)*1000","v":31.015490533562822},{"$f":"('2011'!I7/'2011 Rate'!$AA7)*1000","v":30.025817555938037},{"$f":"('2011'!J7/'2011 Rate'!$AA7)*1000","v":-0.29259896729776247},{"$f":"('2011'!K7/'2011 Rate'!$AA7)*1000","v":22.091222030981065},{"$f":"('2011'!L7/'2011 Rate'!$AA7)*1000","v":22.383820998278829},{"$f":"('2011'!M7/'2011 Rate'!$AA7)*1000","v":-0.74010327022375211},{"$f":"('2011'!N7/'2011 Rate'!$AA7)*1000","v":4.5094664371772808},{"$f":"('2011'!O7/'2011 Rate'!$AA7)*1000","v":5.249569707401033},{"$f":"('2011'!P7/'2011 Rate'!$AA7)*1000","v":2.0223752151462997},{"$f":"('2011'!Q7/'2011 Rate'!$AA7)*1000","v":4.4148020654044746},{"$f":"('2011'!R7/'2011 Rate'!$AA7)*1000","v":2.3924268502581754},null,{"$f":"('2011'!T7/'2011 Rate'!$AA7)*1000","v":9.8106712564543894},{"$f":"('2011'!U7/'2011 Rate'!$AA7)*1000","v":1.153184165232358},{"$f":"('2011'!V7/'2011 Rate'!$AA7)*1000","v":3.1497418244406199},{"$f":"('2011'!W7/'2011 Rate'!$AA7)*1000","v":2.5731497418244409},{"$f":"IF('2011'!X7=\"*\",\"\",('2011'!X7/'2011 Rate'!$AA7)*1000)","v":""},null,"Angus",{"$f":"'Population estimates'!I7","v":116200}]
[6,"Argyll & Bute",null,{"$f":"('2011'!D8/'2011 Rate'!$AA8)*1000","v":3.4184189812211851},{"$f":"('2011'!E8/'2011 Rate'!$AA8)*1000","v":1.5180479028449343},{"$f":"('2011'!F8/'2011 Rate'!$AA8)*1000","v":2.0353086697402452},{"$f":"('2011'!G8/'2011 Rate'!$AA8)*1000","v":-0.13493759136399416},{"$f":"('2011'!H8/'2011 Rate'!$AA8)*1000","v":41.999325312043183},{"$f":"('2011'!I8/'2011 Rate'!$AA8)*1000","v":38.580906330821996},{"$f":"('2011'!J8/'2011 Rate'!$AA8)*1000","v":-1.3606207129202743},{"$f":"('2011'!K8/'2011 Rate'!$AA8)*1000","v":23.006859327561003},{"$f":"('2011'!L8/'2011 Rate'!$AA8)*1000","v":24.367480040481279},{"$f":"('2011'!M8/'2011 Rate'!$AA8)*1000","v":4.160575733723153},{"$f":"('2011'!N8/'2011 Rate'!$AA8)*1000","v":14.944338243562353},{"$f":"('2011'!O8/'2011 Rate'!$AA8)*1000","v":10.7837625098392},{"$f":"('2011'!P8/'2011 Rate'!$AA8)*1000","v":0.61846396041830654},{"$f":"('2011'!Q8/'2011 Rate'!$AA8)*1000","v":4.0481277409198251},{"$f":"('2011'!R8/'2011 Rate'!$AA8)*1000","v":3.4296637805015178},null,{"$f":"('2011'!T8/'2011 Rate'!$AA8)*1000","v":4.0481277409198251},{"$f":"('2011'!U8/'2011 Rate'!$AA8)*1000","v":0.88833914314629492},{"$f":"('2011'!V8/'2011 Rate'!$AA8)*1000","v":2.4063870459912291},{"$f":"('2011'!W8/'2011 Rate'!$AA8)*1000","v":1.3943551107612728},{"$f":"IF('2011'!X8=\"*\",\"\",('2011'!X8/'2011 Rate'!$AA8)*1000)","v":44.979197121331381},null,"Argyll & Bute",{"$f":"'Population estimates'!I8","v":88930}]
[7,"Clackmannanshire",null,{"$f":"('2011'!D9/'2011 Rate'!$AA9)*1000","v":-0.1553398058252427},{"$f":"('2011'!E9/'2011 Rate'!$AA9)*1000","v":1.9417475728155338E-2},{"$f":"('2011'!F9/'2011 Rate'!$AA9)*1000","v":-0.34951456310679607},{"$f":"('2011'!G9/'2011 Rate'!$AA9)*1000","v":0.17475728155339804},{"$f":"('2011'!H9/'2011 Rate'!$AA9)*1000","v":29.611650485436893},{"$f":"('2011'!I9/'2011 Rate'!$AA9)*1000","v":29.766990291262136},{"$f":"('2011'!J9/'2011 Rate'!$AA9)*1000","v":-0.13592233009708737},{"$f":"('2011'!K9/'2011 Rate'!$AA9)*1000","v":21.922330097087379},{"$f":"('2011'!L9/'2011 Rate'!$AA9)*1000","v":22.058252427184467},{"$f":"('2011'!M9/'2011 Rate'!$AA9)*1000","v":-0.13592233009708737},{"$f":"('2011'!N9/'2011 Rate'!$AA9)*1000","v":5.6699029126213585},{"$f":"('2011'!O9/'2011 Rate'!$AA9)*1000","v":5.8058252427184467},{"$f":"('2011'!P9/'2011 Rate'!$AA9)*1000","v":0.11650485436893204},{"$f":"('2011'!Q9/'2011 Rate'!$AA9)*1000","v":2.0194174757281553},{"$f":"('2011'!R9/'2011 Rate'!$AA9)*1000","v":1.9029126213592233},null,{"$f":"('2011'!T9/'2011 Rate'!$AA9)*1000","v":1.7475728155339807},{"$f":"('2011'!U9/'2011 Rate'!$AA9)*1000","v":0.83495145631067957},{"$f":"('2011'!V9/'2011 Rate'!$AA9)*1000","v":3.6116504854368929},{"$f":"('2011'!W9/'2011 Rate'!$AA9)*1000","v":2.233009708737864},{"$f":"IF('2011'!X9=\"*\",\"\",('2011'!X9/'2011 Rate'!$AA9)*1000)","v":""},null,"Clackmannanshire",{"$f":"'Population estimates'!I9","v":51500}]
[8,"Dumfries & Galloway",null,{"$f":"('2011'!D10/'2011 Rate'!$AA10)*1000","v":2.4899280100389674},{"$f":"('2011'!E10/'2011 Rate'!$AA10)*1000","v":0.74631794465358958},{"$f":"('2011'!F10/'2011 Rate'!$AA10)*1000","v":1.5190542236312001},{"$f":"('2011'!G10/'2011 Rate'!$AA10)*1000","v":0.22455584175417742},{"$f":"('2011'!H10/'2011 Rate'!$AA10)*1000","v":26.431543491182882},{"$f":"('2011'!I10/'2011 Rate'!$AA10)*1000","v":23.941615481143913},{"$f":"('2011'!J10/'2011 Rate'!$AA10)*1000","v":-0.57459877154745387},{"$f":"('2011'!K10/'2011 Rate'!$AA10)*1000","v":10.910772075820621},{"$f":"('2011'!L10/'2011 Rate'!$AA10)*1000","v":11.485370847368074},{"$f":"('2011'!M10/'2011 Rate'!$AA10)*1000","v":2.9654580278713425},{"$f":"('2011'!N10/'2011 Rate'!$AA10)*1000","v":13.156330493362393},{"$f":"('2011'!O10/'2011 Rate'!$AA10)*1000","v":10.190872465491051},{"$f":"('2011'!P10/'2011 Rate'!$AA10)*1000","v":9.9068753715078256E-2},{"$f":"('2011'!Q10/'2011 Rate'!$AA10)*1000","v":2.3644409219998677},{"$f":"('2011'!R10/'2011 Rate'!$AA10)*1000","v":2.2653721682847898},null,{"$f":"('2011'!T10/'2011 Rate'!$AA10)*1000","v":2.0474209101116174},{"$f":"('2011'!U10/'2011 Rate'!$AA10)*1000","v":0.63404002377650093},{"$f":"('2011'!V10/'2011 Rate'!$AA10)*1000","v":2.7144838517931444},{"$f":"('2011'!W10/'2011 Rate'!$AA10)*1000","v":1.7171917310613565},{"$f":"IF('2011'!X10=\"*\",\"\",('2011'!X10/'2011 Rate'!$AA10)*1000)","v":""},null,"Dumfries & Galloway",{"$f":"'Population estimates'!I10","v":151410}]
[9,"Dundee City",null,{"$f":"('2011'!D11/'2011 Rate'!$AA11)*1000","v":9.6942934782608692},{"$f":"('2011'!E11/'2011 Rate'!$AA11)*1000","v":-0.61820652173913049},{"$f":"('2011'!F11/'2011 Rate'!$AA11)*1000","v":10.889945652173914},{"$f":"('2011'!G11/'2011 Rate'!$AA11)*1000","v":-0.57744565217391308},{"$f":"('2011'!H11/'2011 Rate'!$AA11)*1000","v":50.197010869565219},{"$f":"('2011'!I11/'2011 Rate'!$AA11)*1000","v":40.502717391304351},{"$f":"('2011'!J11/'2011 Rate'!$AA11)*1000","v":-6.1141304347826095E-2},{"$f":"('2011'!K11/'2011 Rate'!$AA11)*1000","v":25.611413043478262},{"$f":"('2011'!L11/'2011 Rate'!$AA11)*1000","v":25.672554347826086},{"$f":"('2011'!M11/'2011 Rate'!$AA11)*1000","v":-0.95108695652173914},{"$f":"('2011'!N11/'2011 Rate'!$AA11)*1000","v":9.3002717391304337},{"$f":"('2011'!O11/'2011 Rate'!$AA11)*1000","v":10.251358695652174},{"$f":"('2011'!P11/'2011 Rate'!$AA11)*1000","v":10.706521739130434},{"$f":"('2011'!Q11/'2011 Rate'!$AA11)*1000","v":15.285326086956522},{"$f":"('2011'!R11/'2011 Rate'!$AA11)*1000","v":4.5788043478260869},null,{"$f":"('2011'!T11/'2011 Rate'!$AA11)*1000","v":10.122282608695652},{"$f":"('2011'!U11/'2011 Rate'!$AA11)*1000","v":2.1603260869565215},{"$f":"('2011'!V11/'2011 Rate'!$AA11)*1000","v":8.7432065217391308},{"$f":"('2011'!W11/'2011 Rate'!$AA11)*1000","v":5.9103260869565215},{"$f":"IF('2011'!X11=\"*\",\"\",('2011'!X11/'2011 Rate'!$AA11)*1000)","v":88.315217391304358},null,"Dundee City",{"$f":"'Population estimates'!I11","v":147200}]
[10,"East Ayrshire",null,{"$f":"('2011'!D12/'2011 Rate'!$AA12)*1000","v":0.2445187056809846},{"$f":"('2011'!E12/'2011 Rate'!$AA12)*1000","v":0.20376558806748715},{"$f":"('2011'!F12/'2011 Rate'!$AA12)*1000","v":0.1222593528404923},{"$f":"('2011'!G12/'2011 Rate'!$AA12)*1000","v":-8.1506235226994864E-2},{"$f":"('2011'!H12/'2011 Rate'!$AA12)*1000","v":25.332137908550003},{"$f":"('2011'!I12/'2011 Rate'!$AA12)*1000","v":25.087619202869018},{"$f":"('2011'!J12/'2011 Rate'!$AA12)*1000","v":0.10595810579509332},{"$f":"('2011'!K12/'2011 Rate'!$AA12)*1000","v":18.754584725731519},{"$f":"('2011'!L12/'2011 Rate'!$AA12)*1000","v":18.648626619936426},{"$f":"('2011'!M12/'2011 Rate'!$AA12)*1000","v":0.67650175238405741},{"$f":"('2011'!N12/'2011 Rate'!$AA12)*1000","v":5.6320808541853449},{"$f":"('2011'!O12/'2011 Rate'!$AA12)*1000","v":4.9555791018012876},{"$f":"('2011'!P12/'2011 Rate'!$AA12)*1000","v":-0.5379411524981661},{"$f":"('2011'!Q12/'2011 Rate'!$AA12)*1000","v":0.94547232863314035},{"$f":"('2011'!R12/'2011 Rate'!$AA12)*1000","v":1.4834134811313064},null,{"$f":"('2011'!T12/'2011 Rate'!$AA12)*1000","v":0.81506235226994861},{"$f":"('2011'!U12/'2011 Rate'!$AA12)*1000","v":0.61944738772516095},{"$f":"('2011'!V12/'2011 Rate'!$AA12)*1000","v":2.3555301980601513},{"$f":"('2011'!W12/'2011 Rate'!$AA12)*1000","v":0.80691172874724915},{"$f":"IF('2011'!X12=\"*\",\"\",('2011'!X12/'2011 Rate'!$AA12)*1000)","v":""},null,"East Ayrshire",{"$f":"'Population estimates'!I12","v":122690}]
[11,"East Dunbartonshire",null,{"$f":"('2011'!D13/'2011 Rate'!$AA13)*1000","v":-1},{"$f":"('2011'!E13/'2011 Rate'!$AA13)*1000","v":2.2285714285714286},{"$f":"('2011'!F13/'2011 Rate'!$AA13)*1000","v":-2.9714285714285715},{"$f":"('2011'!G13/'2011 Rate'!$AA13)*1000","v":-0.25714285714285717},{"$f":"('2011'!H13/'2011 Rate'!$AA13)*1000","v":29.076190476190476},{"$f":"('2011'!I13/'2011 Rate'!$AA13)*1000","v":30.076190476190476},{"$f":"('2011'!J13/'2011 Rate'!$AA13)*1000","v":0.2095238095238095},{"$f":"('2011'!K13/'2011 Rate'!$AA13)*1000","v":23.419047619047621},{"$f":"('2011'!L13/'2011 Rate'!$AA13)*1000","v":23.209523809523809},{"$f":"('2011'!M13/'2011 Rate'!$AA13)*1000","v":-0.51428571428571435},{"$f":"('2011'!N13/'2011 Rate'!$AA13)*1000","v":4.1333333333333337},{"$f":"('2011'!O13/'2011 Rate'!$AA13)*1000","v":4.647619047619048},{"$f":"('2011'!P13/'2011 Rate'!$AA13)*1000","v":-0.69523809523809521},{"$f":"('2011'!Q13/'2011 Rate'!$AA13)*1000","v":1.5238095238095239},{"$f":"('2011'!R13/'2011 Rate'!$AA13)*1000","v":2.2190476190476192},null,{"$f":"('2011'!T13/'2011 Rate'!$AA13)*1000","v":1.2380952380952379},{"$f":"('2011'!U13/'2011 Rate'!$AA13)*1000","v":0.73333333333333339},{"$f":"('2011'!V13/'2011 Rate'!$AA13)*1000","v":9.8380952380952387},{"$f":"('2011'!W13/'2011 Rate'!$AA13)*1000","v":2.9142857142857141},{"$f":"IF('2011'!X13=\"*\",\"\",('2011'!X13/'2011 Rate'!$AA13)*1000)","v":""},null,"East Dunbartonshire",{"$f":"'Population estimates'!I13","v":105000}]
[12,"East Lothian",null,{"$f":"('2011'!D14/'2011 Rate'!$AA14)*1000","v":4.4535628502802238},{"$f":"('2011'!E14/'2011 Rate'!$AA14)*1000","v":1.9115292233787031},{"$f":"('2011'!F14/'2011 Rate'!$AA14)*1000","v":1.9915932746196958},{"$f":"('2011'!G14/'2011 Rate'!$AA14)*1000","v":0.55044035228182553},{"$f":"('2011'!H14/'2011 Rate'!$AA14)*1000","v":36.559247397918334},{"$f":"('2011'!I14/'2011 Rate'!$AA14)*1000","v":32.105684547638113},{"$f":"('2011'!J14/'2011 Rate'!$AA14)*1000","v":2.1116893514811848},{"$f":"('2011'!K14/'2011 Rate'!$AA14)*1000","v":25.330264211369094},{"$f":"('2011'!L14/'2011 Rate'!$AA14)*1000","v":23.218574859887909},{"$f":"('2011'!M14/'2011 Rate'!$AA14)*1000","v":0.68054443554843869},{"$f":"('2011'!N14/'2011 Rate'!$AA14)*1000","v":6.9455564451561251},{"$f":"('2011'!O14/'2011 Rate'!$AA14)*1000","v":6.2650120096076867},{"$f":"('2011'!P14/'2011 Rate'!$AA14)*1000","v":1.6613290632506006},{"$f":"('2011'!Q14/'2011 Rate'!$AA14)*1000","v":4.2834267413931144},{"$f":"('2011'!R14/'2011 Rate'!$AA14)*1000","v":2.6220976781425138},null,{"$f":"('2011'!T14/'2011 Rate'!$AA14)*1000","v":3.1024819855884709},{"$f":"('2011'!U14/'2011 Rate'!$AA14)*1000","v":1.3110488390712569},{"$f":"('2011'!V14/'2011 Rate'!$AA14)*1000","v":2.932345876701361},{"$f":"('2011'!W14/'2011 Rate'!$AA14)*1000","v":1.5912730184147319},{"$f":"IF('2011'!X14=\"*\",\"\",('2011'!X14/'2011 Rate'!$AA14)*1000)","v":60.048038430744597},null,"East Lothian",{"$f":"'Population estimates'!I14","v":99920}]
[13,"East Renfrewshire",null,{"$f":"('2011'!D15/'2011 Rate'!$AA15)*1000","v":2.9732408325074329},{"$f":"('2011'!E15/'2011 Rate'!$AA15)*1000","v":4.6030172888448408},{"$f":"('2011'!F15/'2011 Rate'!$AA15)*1000","v":-1.2884043607532212},{"$f":"('2011'!G15/'2011 Rate'!$AA15)*1000","v":-0.3413720955841868},{"$f":"('2011'!H15/'2011 Rate'!$AA15)*1000","v":34.533641669419673},{"$f":"('2011'!I15/'2011 Rate'!$AA15)*1000","v":31.560400836912237},{"$f":"('2011'!J15/'2011 Rate'!$AA15)*1000","v":3.0283008479242377},{"$f":"('2011'!K15/'2011 Rate'!$AA15)*1000","v":28.355907939654223},{"$f":"('2011'!L15/'2011 Rate'!$AA15)*1000","v":25.327607091729988},{"$f":"('2011'!M15/'2011 Rate'!$AA15)*1000","v":0.242264067833939},{"$f":"('2011'!N15/'2011 Rate'!$AA15)*1000","v":4.7021253165950885},{"$f":"('2011'!O15/'2011 Rate'!$AA15)*1000","v":4.4598612487611495},{"$f":"('2011'!P15/'2011 Rate'!$AA15)*1000","v":-0.29732408325074333},{"$f":"('2011'!Q15/'2011 Rate'!$AA15)*1000","v":1.4756084131703557},{"$f":"('2011'!R15/'2011 Rate'!$AA15)*1000","v":1.7729324964210988},null,{"$f":"('2011'!T15/'2011 Rate'!$AA15)*1000","v":1.1012003083360864},{"$f":"('2011'!U15/'2011 Rate'!$AA15)*1000","v":0.83691223433542561},{"$f":"('2011'!V15/'2011 Rate'!$AA15)*1000","v":23.719854641559301},{"$f":"('2011'!W15/'2011 Rate'!$AA15)*1000","v":8.8646624821054942},{"$f":"IF('2011'!X15=\"*\",\"\",('2011'!X15/'2011 Rate'!$AA15)*1000)","v":""},null,"East Renfrewshire",{"$f":"'Population estimates'!I15","v":90810}]
[14,"Edinburgh, City of",null,{"$f":"('2011'!D16/'2011 Rate'!$AA16)*1000","v":16.83056450600494},{"$f":"('2011'!E16/'2011 Rate'!$AA16)*1000","v":0.50006276938527849},{"$f":"('2011'!F16/'2011 Rate'!$AA16)*1000","v":16.372347993471983},{"$f":"('2011'!G16/'2011 Rate'!$AA16)*1000","v":-4.1846256852324556E-2},{"$f":"('2011'!H16/'2011 Rate'!$AA16)*1000","v":62.560153994225224},{"$f":"('2011'!I16/'2011 Rate'!$AA16)*1000","v":45.729589488220277},{"$f":"('2011'!J16/'2011 Rate'!$AA16)*1000","v":-0.82437125999079386},{"$f":"('2011'!K16/'2011 Rate'!$AA16)*1000","v":22.62627108005189},{"$f":"('2011'!L16/'2011 Rate'!$AA16)*1000","v":23.450642340042684},{"$f":"('2011'!M16/'2011 Rate'!$AA16)*1000","v":0.75532493618445828},{"$f":"('2011'!N16/'2011 Rate'!$AA16)*1000","v":16.460225132861865},{"$f":"('2011'!O16/'2011 Rate'!$AA16)*1000","v":15.704900196677407},{"$f":"('2011'!P16/'2011 Rate'!$AA16)*1000","v":16.899610829811273},{"$f":"('2011'!Q16/'2011 Rate'!$AA16)*1000","v":23.473657781311463},{"$f":"('2011'!R16/'2011 Rate'!$AA16)*1000","v":6.5740469515001889},null,{"$f":"('2011'!T16/'2011 Rate'!$AA16)*1000","v":22.157593003305855},{"$f":"('2011'!U16/'2011 Rate'!$AA16)*1000","v":3.1991463363602128},{"$f":"('2011'!V16/'2011 Rate'!$AA16)*1000","v":10.976273172364731},{"$f":"('2011'!W16/'2011 Rate'!$AA16)*1000","v":7.507218479307026},{"$f":"IF('2011'!X16=\"*\",\"\",('2011'!X16/'2011 Rate'!$AA16)*1000)","v":146.46189898313597},null,"Edinburgh, City of",{"$f":"'Population estimates'!I16","v":477940}]
[15,"Eilean Siar",null,{"$f":"('2011'!D17/'2011 Rate'!$AA17)*1000","v":0.83062477428674608},{"$f":"('2011'!E17/'2011 Rate'!$AA17)*1000","v":0.32502708559046589},{"$f":"('2011'!F17/'2011 Rate'!$AA17)*1000","v":0.4333694474539545},{"$f":"('2011'!G17/'2011 Rate'!$AA17)*1000","v":7.2228241242325741E-2},{"$f":"('2011'!H17/'2011 Rate'!$AA17)*1000","v":32.791621524015895},{"$f":"('2011'!I17/'2011 Rate'!$AA17)*1000","v":31.960996749729144},{"$f":"('2011'!J17/'2011 Rate'!$AA17)*1000","v":-1.1917659804983747},{"$f":"('2011'!K17/'2011 Rate'!$AA17)*1000","v":20.801733477789817},{"$f":"('2011'!L17/'2011 Rate'!$AA17)*1000","v":21.993499458288191},{"$f":"('2011'!M17/'2011 Rate'!$AA17)*1000","v":1.9140483929216323},{"$f":"('2011'!N17/'2011 Rate'!$AA17)*1000","v":9.8230408089563017},{"$f":"('2011'!O17/'2011 Rate'!$AA17)*1000","v":7.9089924160346703},{"$f":"('2011'!P17/'2011 Rate'!$AA17)*1000","v":0.10834236186348863},{"$f":"('2011'!Q17/'2011 Rate'!$AA17)*1000","v":2.1668472372697725},{"$f":"('2011'!R17/'2011 Rate'!$AA17)*1000","v":2.058504875406284},null,{"$f":"('2011'!T17/'2011 Rate'!$AA17)*1000","v":1.444564824846515},{"$f":"('2011'!U17/'2011 Rate'!$AA17)*1000","v":0.46948356807511737},{"$f":"('2011'!V17/'2011 Rate'!$AA17)*1000","v":1.733477789815818},{"$f":"('2011'!W17/'2011 Rate'!$AA17)*1000","v":0.90285301552907182},{"$f":"IF('2011'!X17=\"*\",\"\",('2011'!X17/'2011 Rate'!$AA17)*1000)","v":""},null,"Eilean Siar",{"$f":"'Population estimates'!I17","v":27690}]
[16,"Falkirk",null,{"$f":"('2011'!D18/'2011 Rate'!$AA18)*1000","v":6.5343999999999998},{"$f":"('2011'!E18/'2011 Rate'!$AA18)*1000","v":0.58879999999999999},{"$f":"('2011'!F18/'2011 Rate'!$AA18)*1000","v":5.6896000000000004},{"$f":"('2011'!G18/'2011 Rate'!$AA18)*1000","v":0.25600000000000001},{"$f":"('2011'!H18/'2011 Rate'!$AA18)*1000","v":26.8672},{"$f":"('2011'!I18/'2011 Rate'!$AA18)*1000","v":20.332800000000002},{"$f":"('2011'!J18/'2011 Rate'!$AA18)*1000","v":3.8976000000000002},{"$f":"('2011'!K18/'2011 Rate'!$AA18)*1000","v":19.123200000000001},{"$f":"('2011'!L18/'2011 Rate'!$AA18)*1000","v":15.2256},{"$f":"('2011'!M18/'2011 Rate'!$AA18)*1000","v":0.85760000000000003},{"$f":"('2011'!N18/'2011 Rate'!$AA18)*1000","v":4.5312000000000001},{"$f":"('2011'!O18/'2011 Rate'!$AA18)*1000","v":3.6736},{"$f":"('2011'!P18/'2011 Rate'!$AA18)*1000","v":1.7792000000000001},{"$f":"('2011'!Q18/'2011 Rate'!$AA18)*1000","v":3.2128000000000001},{"$f":"('2011'!R18/'2011 Rate'!$AA18)*1000","v":1.4336},null,{"$f":"('2011'!T18/'2011 Rate'!$AA18)*1000","v":2.1120000000000001},{"$f":"('2011'!U18/'2011 Rate'!$AA18)*1000","v":0.92159999999999997},{"$f":"('2011'!V18/'2011 Rate'!$AA18)*1000","v":4.0128000000000004},{"$f":"('2011'!W18/'2011 Rate'!$AA18)*1000","v":2.9504000000000001},{"$f":"IF('2011'!X18=\"*\",\"\",('2011'!X18/'2011 Rate'!$AA18)*1000)","v":38.4},null,"Falkirk",{"$f":"'Population estimates'!I18","v":156250}]
[17,"Fife",null,{"$f":"('2011'!D19/'2011 Rate'!$AA19)*1000","v":5.6830002737476049},{"$f":"('2011'!E19/'2011 Rate'!$AA19)*1000","v":0.90336709553791406},{"$f":"('2011'!F19/'2011 Rate'!$AA19)*1000","v":4.4292362441828637},{"$f":"('2011'!G19/'2011 Rate'!$AA19)*1000","v":0.35039693402682731},{"$f":"('2011'!H19/'2011 Rate'!$AA19)*1000","v":30.588557350123185},{"$f":"('2011'!I19/'2011 Rate'!$AA19)*1000","v":24.90555707637558},{"$f":"('2011'!J19/'2011 Rate'!$AA19)*1000","v":1.22912674514098},{"$f":"('2011'!K19/'2011 Rate'!$AA19)*1000","v":16.01970982753901},{"$f":"('2011'!L19/'2011 Rate'!$AA19)*1000","v":14.79058308239803},{"$f":"('2011'!M19/'2011 Rate'!$AA19)*1000","v":0.89515466739666028},{"$f":"('2011'!N19/'2011 Rate'!$AA19)*1000","v":8.2781275663837945},{"$f":"('2011'!O19/'2011 Rate'!$AA19)*1000","v":7.3829728989871333},{"$f":"('2011'!P19/'2011 Rate'!$AA19)*1000","v":3.5587188612099641},{"$f":"('2011'!Q19/'2011 Rate'!$AA19)*1000","v":6.290719956200383},{"$f":"('2011'!R19/'2011 Rate'!$AA19)*1000","v":2.7320010949904185},null,{"$f":"('2011'!T19/'2011 Rate'!$AA19)*1000","v":5.201204489460717},{"$f":"('2011'!U19/'2011 Rate'!$AA19)*1000","v":1.1606898439638653},{"$f":"('2011'!V19/'2011 Rate'!$AA19)*1000","v":3.5368190528332879},{"$f":"('2011'!W19/'2011 Rate'!$AA19)*1000","v":1.6725978647686834},{"$f":"IF('2011'!X19=\"*\",\"\",('2011'!X19/'2011 Rate'!$AA19)*1000)","v":43.799616753353405},null,"Fife",{"$f":"'Population estimates'!I19","v":365300}]
[18,"Glasgow City",null,{"$f":"('2011'!D20/'2011 Rate'!$AA20)*1000","v":9.0547330792837162},{"$f":"('2011'!E20/'2011 Rate'!$AA20)*1000","v":-0.8228509762924493},{"$f":"('2011'!F20/'2011 Rate'!$AA20)*1000","v":10.331163794557042},{"$f":"('2011'!G20/'2011 Rate'!$AA20)*1000","v":-0.45357973898087883},{"$f":"('2011'!H20/'2011 Rate'!$AA20)*1000","v":49.435133038815636},{"$f":"('2011'!I20/'2011 Rate'!$AA20)*1000","v":40.380399959531914},{"$f":"('2011'!J20/'2011 Rate'!$AA20)*1000","v":-2.0756753110983714},{"$f":"('2011'!K20/'2011 Rate'!$AA20)*1000","v":23.038141166155196},{"$f":"('2011'!L20/'2011 Rate'!$AA20)*1000","v":25.113816477253568},{"$f":"('2011'!M20/'2011 Rate'!$AA20)*1000","v":-0.77395204532425044},{"$f":"('2011'!N20/'2011 Rate'!$AA20)*1000","v":9.1036320102519142},{"$f":"('2011'!O20/'2011 Rate'!$AA20)*1000","v":9.8775840555761629},{"$f":"('2011'!P20/'2011 Rate'!$AA20)*1000","v":11.904360435706337},{"$f":"('2011'!Q20/'2011 Rate'!$AA20)*1000","v":17.293359862408526},{"$f":"('2011'!R20/'2011 Rate'!$AA20)*1000","v":5.3889994267021883},null,{"$f":"('2011'!T20/'2011 Rate'!$AA20)*1000","v":12.899200755404175},{"$f":"('2011'!U20/'2011 Rate'!$AA20)*1000","v":3.1716858327993793},{"$f":"('2011'!V20/'2011 Rate'!$AA20)*1000","v":17.839678953225643},{"$f":"('2011'!W20/'2011 Rate'!$AA20)*1000","v":15.639227059656696},{"$f":"IF('2011'!X20=\"*\",\"\",('2011'!X20/'2011 Rate'!$AA20)*1000)","v":109.60105217010083},null,"Glasgow City",{"$f":"'Population estimates'!I20","v":593060}]
[19,"Highland",null,{"$f":"('2011'!D21/'2011 Rate'!$AA21)*1000","v":3.8585485326343831},{"$f":"('2011'!E21/'2011 Rate'!$AA21)*1000","v":0.73046018991964934},{"$f":"('2011'!F21/'2011 Rate'!$AA21)*1000","v":2.8659820392729771},{"$f":"('2011'!G21/'2011 Rate'!$AA21)*1000","v":0.26210630344175656},{"$f":"('2011'!H21/'2011 Rate'!$AA21)*1000","v":32.264856271215571},{"$f":"('2011'!I21/'2011 Rate'!$AA21)*1000","v":28.406307738581187},{"$f":"('2011'!J21/'2011 Rate'!$AA21)*1000","v":-0.72616336527306324},{"$f":"('2011'!K21/'2011 Rate'!$AA21)*1000","v":17.036909723714174},{"$f":"('2011'!L21/'2011 Rate'!$AA21)*1000","v":17.763073088987237},{"$f":"('2011'!M21/'2011 Rate'!$AA21)*1000","v":2.7628582477549091},{"$f":"('2011'!N21/'2011 Rate'!$AA21)*1000","v":10.832294934043741},{"$f":"('2011'!O21/'2011 Rate'!$AA21)*1000","v":8.0694366862888316},{"$f":"('2011'!P21/'2011 Rate'!$AA21)*1000","v":1.8218536501525373},{"$f":"('2011'!Q21/'2011 Rate'!$AA21)*1000","v":4.3956516134576553},{"$f":"('2011'!R21/'2011 Rate'!$AA21)*1000","v":2.5737979633051178},null,{"$f":"('2011'!T21/'2011 Rate'!$AA21)*1000","v":5.4999355476303018},{"$f":"('2011'!U21/'2011 Rate'!$AA21)*1000","v":1.1558458299316805},{"$f":"('2011'!V21/'2011 Rate'!$AA21)*1000","v":2.7843423709878397},{"$f":"('2011'!W21/'2011 Rate'!$AA21)*1000","v":2.7757487216946677},{"$f":"IF('2011'!X21=\"*\",\"\",('2011'!X21/'2011 Rate'!$AA21)*1000)","v":42.968246465861725},null,"Highland",{"$f":"'Population estimates'!I21","v":232730}]
[20,"Inverclyde",null,{"$f":"('2011'!D22/'2011 Rate'!$AA22)*1000","v":-3.558236887466141},{"$f":"('2011'!E22/'2011 Rate'!$AA22)*1000","v":-0.4186161044077813},{"$f":"('2011'!F22/'2011 Rate'!$AA22)*1000","v":-3.2627431667077071},{"$f":"('2011'!G22/'2011 Rate'!$AA22)*1000","v":0.12312238364934745},{"$f":"('2011'!H22/'2011 Rate'!$AA22)*1000","v":15.48879586308791},{"$f":"('2011'!I22/'2011 Rate'!$AA22)*1000","v":19.047032750554052},{"$f":"('2011'!J22/'2011 Rate'!$AA22)*1000","v":-3.028810637773947},{"$f":"('2011'!K22/'2011 Rate'!$AA22)*1000","v":10.699335139128292},{"$f":"('2011'!L22/'2011 Rate'!$AA22)*1000","v":13.728145776902242},{"$f":"('2011'!M22/'2011 Rate'!$AA22)*1000","v":-0.2216202905688254},{"$f":"('2011'!N22/'2011 Rate'!$AA22)*1000","v":3.570549125831076},{"$f":"('2011'!O22/'2011 Rate'!$AA22)*1000","v":3.7921694163999011},{"$f":"('2011'!P22/'2011 Rate'!$AA22)*1000","v":-0.30780595912336867},{"$f":"('2011'!Q22/'2011 Rate'!$AA22)*1000","v":1.2189115981285399},{"$f":"('2011'!R22/'2011 Rate'!$AA22)*1000","v":1.5267175572519083},null,{"$f":"('2011'!T22/'2011 Rate'!$AA22)*1000","v":1.6005909874415167},{"$f":"('2011'!U22/'2011 Rate'!$AA22)*1000","v":0.4186161044077813},{"$f":"('2011'!V22/'2011 Rate'!$AA22)*1000","v":2.1546417138635805},{"$f":"('2011'!W22/'2011 Rate'!$AA22)*1000","v":0.43092834277271608},{"$f":"IF('2011'!X22=\"*\",\"\",('2011'!X22/'2011 Rate'!$AA22)*1000)","v":""},null,"Inverclyde",{"$f":"'Population estimates'!I22","v":81220}]
[21,"Midlothian",null,{"$f":"('2011'!D23/'2011 Rate'!$AA23)*1000","v":6.2552426602756137},{"$f":"('2011'!E23/'2011 Rate'!$AA23)*1000","v":2.0850808867585382},{"$f":"('2011'!F23/'2011 Rate'!$AA23)*1000","v":3.6189334931096462},{"$f":"('2011'!G23/'2011 Rate'!$AA23)*1000","v":0.55122828040742955},{"$f":"('2011'!H23/'2011 Rate'!$AA23)*1000","v":32.594367884961052},{"$f":"('2011'!I23/'2011 Rate'!$AA23)*1000","v":26.339125224685443},{"$f":"('2011'!J23/'2011 Rate'!$AA23)*1000","v":4.4937088076692628},{"$f":"('2011'!K23/'2011 Rate'!$AA23)*1000","v":25.847813061713602},{"$f":"('2011'!L23/'2011 Rate'!$AA23)*1000","v":21.354104254044337},{"$f":"('2011'!M23/'2011 Rate'!$AA23)*1000","v":0.88675853804673455},{"$f":"('2011'!N23/'2011 Rate'!$AA23)*1000","v":4.6015578190533253},{"$f":"('2011'!O23/'2011 Rate'!$AA23)*1000","v":3.7147992810065906},{"$f":"('2011'!P23/'2011 Rate'!$AA23)*1000","v":0.87477531455961655},{"$f":"('2011'!Q23/'2011 Rate'!$AA23)*1000","v":2.1449970041941282},{"$f":"('2011'!R23/'2011 Rate'!$AA23)*1000","v":1.2702216896345115},null,{"$f":"('2011'!T23/'2011 Rate'!$AA23)*1000","v":2.0371479928100658},{"$f":"('2011'!U23/'2011 Rate'!$AA23)*1000","v":0.98262432594367877},{"$f":"('2011'!V23/'2011 Rate'!$AA23)*1000","v":3.6788496105452371},{"$f":"('2011'!W23/'2011 Rate'!$AA23)*1000","v":1.5338526063511084},{"$f":"IF('2011'!X23=\"*\",\"\",('2011'!X23/'2011 Rate'!$AA23)*1000)","v":""},null,"Midlothian",{"$f":"'Population estimates'!I23","v":83450}]
[22,"Moray",null,{"$f":"('2011'!D24/'2011 Rate'!$AA24)*1000","v":-1.7331764202417888},{"$f":"('2011'!E24/'2011 Rate'!$AA24)*1000","v":-0.81309511073071572},{"$f":"('2011'!F24/'2011 Rate'!$AA24)*1000","v":-1.2196426660960737},{"$f":"('2011'!G24/'2011 Rate'!$AA24)*1000","v":0.29956135658500049},{"$f":"('2011'!H24/'2011 Rate'!$AA24)*1000","v":32.523804429228626},{"$f":"('2011'!I24/'2011 Rate'!$AA24)*1000","v":34.256980849470416},{"$f":"('2011'!J24/'2011 Rate'!$AA24)*1000","v":0.68471167219428697},{"$f":"('2011'!K24/'2011 Rate'!$AA24)*1000","v":18.30533861131914},{"$f":"('2011'!L24/'2011 Rate'!$AA24)*1000","v":17.620626939124854},{"$f":"('2011'!M24/'2011 Rate'!$AA24)*1000","v":-1.4015192040226812},{"$f":"('2011'!N24/'2011 Rate'!$AA24)*1000","v":9.8641275275489466},{"$f":"('2011'!O24/'2011 Rate'!$AA24)*1000","v":11.265646731571627},{"$f":"('2011'!P24/'2011 Rate'!$AA24)*1000","v":-1.0163688884133946},{"$f":"('2011'!Q24/'2011 Rate'!$AA24)*1000","v":4.3543382903605439},{"$f":"('2011'!R24/'2011 Rate'!$AA24)*1000","v":5.3707071787739382},null,{"$f":"('2011'!T24/'2011 Rate'!$AA24)*1000","v":2.1397239756071467},{"$f":"('2011'!U24/'2011 Rate'!$AA24)*1000","v":1.1447523269498234},{"$f":"('2011'!V24/'2011 Rate'!$AA24)*1000","v":2.4820798117042902},{"$f":"('2011'!W24/'2011 Rate'!$AA24)*1000","v":2.6960522092650048},{"$f":"IF('2011'!X24=\"*\",\"\",('2011'!X24/'2011 Rate'!$AA24)*1000)","v":53.493099390178671},null,"Moray",{"$f":"'Population estimates'!I24","v":93470}]
[23,"North Ayrshire",null,{"$f":"('2011'!D25/'2011 Rate'!$AA25)*1000","v":0.9848649431530162},{"$f":"('2011'!E25/'2011 Rate'!$AA25)*1000","v":0.46346585560141934},{"$f":"('2011'!F25/'2011 Rate'!$AA25)*1000","v":7.9658193931493954E-2},{"$f":"('2011'!G25/'2011 Rate'!$AA25)*1000","v":0.44174089362010283},{"$f":"('2011'!H25/'2011 Rate'!$AA25)*1000","v":25.54855529002824},{"$f":"('2011'!I25/'2011 Rate'!$AA25)*1000","v":24.563690346875227},{"$f":"('2011'!J25/'2011 Rate'!$AA25)*1000","v":0.15931638786298791},{"$f":"('2011'!K25/'2011 Rate'!$AA25)*1000","v":17.821710478673328},{"$f":"('2011'!L25/'2011 Rate'!$AA25)*1000","v":17.662394090810341},{"$f":"('2011'!M25/'2011 Rate'!$AA25)*1000","v":0.5938156274893186},{"$f":"('2011'!N25/'2011 Rate'!$AA25)*1000","v":6.11919762473749},{"$f":"('2011'!O25/'2011 Rate'!$AA25)*1000","v":5.5253819972481715},{"$f":"('2011'!P25/'2011 Rate'!$AA25)*1000","v":0.23173292780070967},{"$f":"('2011'!Q25/'2011 Rate'!$AA25)*1000","v":1.6076471866174233},{"$f":"('2011'!R25/'2011 Rate'!$AA25)*1000","v":1.3759142588167137},null,{"$f":"('2011'!T25/'2011 Rate'!$AA25)*1000","v":1.2310811789412701},{"$f":"('2011'!U25/'2011 Rate'!$AA25)*1000","v":0.37656600767615322},{"$f":"('2011'!V25/'2011 Rate'!$AA25)*1000","v":2.0204214642624376},{"$f":"('2011'!W25/'2011 Rate'!$AA25)*1000","v":0.67347382142081247},{"$f":"IF('2011'!X25=\"*\",\"\",('2011'!X25/'2011 Rate'!$AA25)*1000)","v":""},null,"North Ayrshire",{"$f":"'Population estimates'!I25","v":138090}]
[24,"North Lanarkshire",null,{"$f":"('2011'!D26/'2011 Rate'!$AA26)*1000","v":-0.17173990287812391},{"$f":"('2011'!E26/'2011 Rate'!$AA26)*1000","v":0.11548027952149709},{"$f":"('2011'!F26/'2011 Rate'!$AA26)*1000","v":-0.23984365746772474},{"$f":"('2011'!G26/'2011 Rate'!$AA26)*1000","v":-4.7376524931896244E-2},{"$f":"('2011'!H26/'2011 Rate'!$AA26)*1000","v":19.36515456591259},{"$f":"('2011'!I26/'2011 Rate'!$AA26)*1000","v":19.536894468790713},{"$f":"('2011'!J26/'2011 Rate'!$AA26)*1000","v":-0.59812862726519},{"$f":"('2011'!K26/'2011 Rate'!$AA26)*1000","v":14.038256543882506},{"$f":"('2011'!L26/'2011 Rate'!$AA26)*1000","v":14.636385171147698},{"$f":"('2011'!M26/'2011 Rate'!$AA26)*1000","v":8.2908918630818423E-2},{"$f":"('2011'!N26/'2011 Rate'!$AA26)*1000","v":3.4525642544119388},{"$f":"('2011'!O26/'2011 Rate'!$AA26)*1000","v":3.3696553357811205},{"$f":"('2011'!P26/'2011 Rate'!$AA26)*1000","v":0.34347980575624781},{"$f":"('2011'!Q26/'2011 Rate'!$AA26)*1000","v":1.8743337676181453},{"$f":"('2011'!R26/'2011 Rate'!$AA26)*1000","v":1.5308539618618975},null,{"$f":"('2011'!T26/'2011 Rate'!$AA26)*1000","v":2.0431126376880258},{"$f":"('2011'!U26/'2011 Rate'!$AA26)*1000","v":0.84093331754115841},{"$f":"('2011'!V26/'2011 Rate'!$AA26)*1000","v":4.6606656401752931},{"$f":"('2011'!W26/'2011 Rate'!$AA26)*1000","v":2.6412412649532153},{"$f":"IF('2011'!X26=\"*\",\"\",('2011'!X26/'2011 Rate'!$AA26)*1000)","v":""},null,"North Lanarkshire",{"$f":"'Population estimates'!I26","v":337720}]
[25,"Orkney Islands",null,{"$f":"('2011'!D27/'2011 Rate'!$AA27)*1000","v":4.6218487394957988},{"$f":"('2011'!E27/'2011 Rate'!$AA27)*1000","v":0.23342670401493931},{"$f":"('2011'!F27/'2011 Rate'!$AA27)*1000","v":3.9682539682539679},{"$f":"('2011'!G27/'2011 Rate'!$AA27)*1000","v":0.42016806722689076},{"$f":"('2011'!H27/'2011 Rate'!$AA27)*1000","v":31.092436974789916},{"$f":"('2011'!I27/'2011 Rate'!$AA27)*1000","v":26.470588235294116},{"$f":"('2011'!J27/'2011 Rate'!$AA27)*1000","v":0.37348272642390284},{"$f":"('2011'!K27/'2011 Rate'!$AA27)*1000","v":16.106442577030812},{"$f":"('2011'!L27/'2011 Rate'!$AA27)*1000","v":15.732959850606909},{"$f":"('2011'!M27/'2011 Rate'!$AA27)*1000","v":3.1746031746031744},{"$f":"('2011'!N27/'2011 Rate'!$AA27)*1000","v":11.904761904761903},{"$f":"('2011'!O27/'2011 Rate'!$AA27)*1000","v":8.7301587301587311},{"$f":"('2011'!P27/'2011 Rate'!$AA27)*1000","v":1.073762838468721},{"$f":"('2011'!Q27/'2011 Rate'!$AA27)*1000","v":3.0812324929971986},{"$f":"('2011'!R27/'2011 Rate'!$AA27)*1000","v":2.007469654528478},null,{"$f":"('2011'!T27/'2011 Rate'!$AA27)*1000","v":2.3342670401493932},{"$f":"('2011'!U27/'2011 Rate'!$AA27)*1000","v":0.37348272642390284},{"$f":"('2011'!V27/'2011 Rate'!$AA27)*1000","v":1.8207282913165266},{"$f":"('2011'!W27/'2011 Rate'!$AA27)*1000","v":0.23342670401493931},{"$f":"IF('2011'!X27=\"*\",\"\",('2011'!X27/'2011 Rate'!$AA27)*1000)","v":""},null,"Orkney Islands",{"$f":"'Population estimates'!I27","v":21420}]
[26,"Perth & Kinross",null,{"$f":"('2011'!D28/'2011 Rate'!$AA28)*1000","v":12.434456928838951},{"$f":"('2011'!E28/'2011 Rate'!$AA28)*1000","v":2.6557711950970377},{"$f":"('2011'!F28/'2011 Rate'!$AA28)*1000","v":8.5461355124276466},{"$f":"('2011'!G28/'2011 Rate'!$AA28)*1000","v":1.2325502213142663},{"$f":"('2011'!H28/'2011 Rate'!$AA28)*1000","v":43.983656792645554},{"$f":"('2011'!I28/'2011 Rate'!$AA28)*1000","v":31.549199863806603},{"$f":"('2011'!J28/'2011 Rate'!$AA28)*1000","v":2.3289070480081717},{"$f":"('2011'!K28/'2011 Rate'!$AA28)*1000","v":23.479741232550221},{"$f":"('2011'!L28/'2011 Rate'!$AA28)*1000","v":21.150834184542049},{"$f":"('2011'!M28/'2011 Rate'!$AA28)*1000","v":2.499148791283623},{"$f":"('2011'!N28/'2011 Rate'!$AA28)*1000","v":9.4177732379979577},{"$f":"('2011'!O28/'2011 Rate'!$AA28)*1000","v":6.9186244467143352},{"$f":"('2011'!P28/'2011 Rate'!$AA28)*1000","v":7.6064010895471563},{"$f":"('2011'!Q28/'2011 Rate'!$AA28)*1000","v":11.086142322097379},{"$f":"('2011'!R28/'2011 Rate'!$AA28)*1000","v":3.4797412325502215},null,{"$f":"('2011'!T28/'2011 Rate'!$AA28)*1000","v":19.135171944160707},{"$f":"('2011'!U28/'2011 Rate'!$AA28)*1000","v":1.3891726251276812},{"$f":"('2011'!V28/'2011 Rate'!$AA28)*1000","v":3.316309159005788},{"$f":"('2011'!W28/'2011 Rate'!$AA28)*1000","v":3.0643513789581203},{"$f":"IF('2011'!X28=\"*\",\"\",('2011'!X28/'2011 Rate'!$AA28)*1000)","v":54.477357848144365},null,"Perth & Kinross",{"$f":"'Population estimates'!I28","v":146850}]
[27,"Renfrewshire",null,{"$f":"('2011'!D29/'2011 Rate'!$AA29)*1000","v":3.371493989696623},{"$f":"('2011'!E29/'2011 Rate'!$AA29)*1000","v":0.618202633085289},{"$f":"('2011'!F29/'2011 Rate'!$AA29)*1000","v":2.3354321694333144},{"$f":"('2011'!G29/'2011 Rate'!$AA29)*1000","v":0.41785918717801945},{"$f":"('2011'!H29/'2011 Rate'!$AA29)*1000","v":27.366914710933028},{"$f":"('2011'!I29/'2011 Rate'!$AA29)*1000","v":23.995420721236403},{"$f":"('2011'!J29/'2011 Rate'!$AA29)*1000","v":0.9902690326273611},{"$f":"('2011'!K29/'2011 Rate'!$AA29)*1000","v":19.066971951917573},{"$f":"('2011'!L29/'2011 Rate'!$AA29)*1000","v":18.076702919290213},{"$f":"('2011'!M29/'2011 Rate'!$AA29)*1000","v":-0.2289639381797367},{"$f":"('2011'!N29/'2011 Rate'!$AA29)*1000","v":4.1270749856897533},{"$f":"('2011'!O29/'2011 Rate'!$AA29)*1000","v":4.356038923869491},{"$f":"('2011'!P29/'2011 Rate'!$AA29)*1000","v":2.6101888952489984},{"$f":"('2011'!Q29/'2011 Rate'!$AA29)*1000","v":4.1728677733257014},{"$f":"('2011'!R29/'2011 Rate'!$AA29)*1000","v":1.5626788780767029},null,{"$f":"('2011'!T29/'2011 Rate'!$AA29)*1000","v":2.9765311963365768},{"$f":"('2011'!U29/'2011 Rate'!$AA29)*1000","v":1.0074413279908414},{"$f":"('2011'!V29/'2011 Rate'!$AA29)*1000","v":4.5048654836863191},{"$f":"('2011'!W29/'2011 Rate'!$AA29)*1000","v":1.8259874069834001},{"$f":"IF('2011'!X29=\"*\",\"\",('2011'!X29/'2011 Rate'!$AA29)*1000)","v":62.965082999427587},null,"Renfrewshire",{"$f":"'Population estimates'!I29","v":174700}]
[28,"Scottish Borders",null,{"$f":"('2011'!D30/'2011 Rate'!$AA30)*1000","v":4.2852125043905867},{"$f":"('2011'!E30/'2011 Rate'!$AA30)*1000","v":1.2381454162276082},{"$f":"('2011'!F30/'2011 Rate'!$AA30)*1000","v":3.249034070951879},{"$f":"('2011'!G30/'2011 Rate'!$AA30)*1000","v":-0.2019669827889006},{"$f":"('2011'!H30/'2011 Rate'!$AA30)*1000","v":35.923779416930103},{"$f":"('2011'!I30/'2011 Rate'!$AA30)*1000","v":31.638566912539517},{"$f":"('2011'!J30/'2011 Rate'!$AA30)*1000","v":1.1766772040744642},{"$f":"('2011'!K30/'2011 Rate'!$AA30)*1000","v":19.380049174569724},{"$f":"('2011'!L30/'2011 Rate'!$AA30)*1000","v":18.203371970495258},{"$f":"('2011'!M30/'2011 Rate'!$AA30)*1000","v":2.5289778714436246},{"$f":"('2011'!N30/'2011 Rate'!$AA30)*1000","v":13.268352651914295},{"$f":"('2011'!O30/'2011 Rate'!$AA30)*1000","v":10.739374780470671},{"$f":"('2011'!P30/'2011 Rate'!$AA30)*1000","v":0.57955742887249739},{"$f":"('2011'!Q30/'2011 Rate'!$AA30)*1000","v":3.2753775904460833},{"$f":"('2011'!R30/'2011 Rate'!$AA30)*1000","v":2.6958201615735864},null,{"$f":"('2011'!T30/'2011 Rate'!$AA30)*1000","v":3.4246575342465753},{"$f":"('2011'!U30/'2011 Rate'!$AA30)*1000","v":1.0098349139445031},{"$f":"('2011'!V30/'2011 Rate'!$AA30)*1000","v":2.9153494906919564},{"$f":"('2011'!W30/'2011 Rate'!$AA30)*1000","v":2.827537759044608},{"$f":"IF('2011'!X30=\"*\",\"\",('2011'!X30/'2011 Rate'!$AA30)*1000)","v":43.905865823674041},null,"Scottish Borders",{"$f":"'Population estimates'!I30","v":113880}]
[29,"Shetland Islands",null,{"$f":"('2011'!D31/'2011 Rate'!$AA31)*1000","v":2.5387263339070567},{"$f":"('2011'!E31/'2011 Rate'!$AA31)*1000","v":-0.64543889845094671},{"$f":"('2011'!F31/'2011 Rate'!$AA31)*1000","v":2.753872633390706},{"$f":"('2011'!G31/'2011 Rate'!$AA31)*1000","v":0.43029259896729777},{"$f":"('2011'!H31/'2011 Rate'!$AA31)*1000","v":30.464716006884682},{"$f":"('2011'!I31/'2011 Rate'!$AA31)*1000","v":27.925989672977622},{"$f":"('2011'!J31/'2011 Rate'!$AA31)*1000","v":0.43029259896729777},{"$f":"('2011'!K31/'2011 Rate'!$AA31)*1000","v":16.437177280550774},{"$f":"('2011'!L31/'2011 Rate'!$AA31)*1000","v":16.006884681583475},{"$f":"('2011'!M31/'2011 Rate'!$AA31)*1000","v":0.60240963855421692},{"$f":"('2011'!N31/'2011 Rate'!$AA31)*1000","v":9.6815834767641995},{"$f":"('2011'!O31/'2011 Rate'!$AA31)*1000","v":9.079173838209984},{"$f":"('2011'!P31/'2011 Rate'!$AA31)*1000","v":1.5060240963855422},{"$f":"('2011'!Q31/'2011 Rate'!$AA31)*1000","v":4.3459552495697071},{"$f":"('2011'!R31/'2011 Rate'!$AA31)*1000","v":2.8399311531841653},null,{"$f":"('2011'!T31/'2011 Rate'!$AA31)*1000","v":4.3029259896729775},{"$f":"('2011'!U31/'2011 Rate'!$AA31)*1000","v":1.2908777969018934},{"$f":"('2011'!V31/'2011 Rate'!$AA31)*1000","v":3.6144578313253013},{"$f":"('2011'!W31/'2011 Rate'!$AA31)*1000","v":1.8072289156626506},{"$f":"IF('2011'!X31=\"*\",\"\",('2011'!X31/'2011 Rate'!$AA31)*1000)","v":""},null,"Shetland Islands",{"$f":"'Population estimates'!I31","v":23240}]
[30,"South Ayrshire",null,{"$f":"('2011'!D32/'2011 Rate'!$AA32)*1000","v":5.2752699592848291},{"$f":"('2011'!E32/'2011 Rate'!$AA32)*1000","v":1.4073287307488049},{"$f":"('2011'!F32/'2011 Rate'!$AA32)*1000","v":2.867764206054169},{"$f":"('2011'!G32/'2011 Rate'!$AA32)*1000","v":1.0001770224818551},{"$f":"('2011'!H32/'2011 Rate'!$AA32)*1000","v":30.810762966896796},{"$f":"('2011'!I32/'2011 Rate'!$AA32)*1000","v":25.535493007611965},{"$f":"('2011'!J32/'2011 Rate'!$AA32)*1000","v":2.0003540449637103},{"$f":"('2011'!K32/'2011 Rate'!$AA32)*1000","v":20.419543281996813},{"$f":"('2011'!L32/'2011 Rate'!$AA32)*1000","v":18.419189237033105},{"$f":"('2011'!M32/'2011 Rate'!$AA32)*1000","v":2.5668259869003363},{"$f":"('2011'!N32/'2011 Rate'!$AA32)*1000","v":7.6827757125154896},{"$f":"('2011'!O32/'2011 Rate'!$AA32)*1000","v":5.1159497256151525},{"$f":"('2011'!P32/'2011 Rate'!$AA32)*1000","v":0.70808992742078236},{"$f":"('2011'!Q32/'2011 Rate'!$AA32)*1000","v":2.7084439723844929},{"$f":"('2011'!R32/'2011 Rate'!$AA32)*1000","v":2.0003540449637103},null,{"$f":"('2011'!T32/'2011 Rate'!$AA32)*1000","v":2.743848468755532},{"$f":"('2011'!U32/'2011 Rate'!$AA32)*1000","v":0.53991856965834661},{"$f":"('2011'!V32/'2011 Rate'!$AA32)*1000","v":2.5137192423437775},{"$f":"('2011'!W32/'2011 Rate'!$AA32)*1000","v":1.3984776066560451},{"$f":"IF('2011'!X32=\"*\",\"\",('2011'!X32/'2011 Rate'!$AA32)*1000)","v":""},null,"South Ayrshire",{"$f":"'Population estimates'!I32","v":112980}]
[31,"South Lanarkshire",null,{"$f":"('2011'!D33/'2011 Rate'!$AA33)*1000","v":1.870022300095572},{"$f":"('2011'!E33/'2011 Rate'!$AA33)*1000","v":0.28990124243389614},{"$f":"('2011'!F33/'2011 Rate'!$AA33)*1000","v":1.0672188595093979},{"$f":"('2011'!G33/'2011 Rate'!$AA33)*1000","v":0.51290219815227778},{"$f":"('2011'!H33/'2011 Rate'!$AA33)*1000","v":24.284804077731764},{"$f":"('2011'!I33/'2011 Rate'!$AA33)*1000","v":22.41478177763619},{"$f":"('2011'!J33/'2011 Rate'!$AA33)*1000","v":1.5355208665179993},{"$f":"('2011'!K33/'2011 Rate'!$AA33)*1000","v":18.05352022937241},{"$f":"('2011'!L33/'2011 Rate'!$AA33)*1000","v":16.517999362854411},{"$f":"('2011'!M33/'2011 Rate'!$AA33)*1000","v":0.33768716151640649},{"$f":"('2011'!N33/'2011 Rate'!$AA33)*1000","v":4.4472762026122972},{"$f":"('2011'!O33/'2011 Rate'!$AA33)*1000","v":4.10958904109589},{"$f":"('2011'!P33/'2011 Rate'!$AA33)*1000","v":-3.1857279388340237E-3},{"$f":"('2011'!Q33/'2011 Rate'!$AA33)*1000","v":1.7840076457470533},{"$f":"('2011'!R33/'2011 Rate'!$AA33)*1000","v":1.7871933736858872},null,{"$f":"('2011'!T33/'2011 Rate'!$AA33)*1000","v":1.4972921312519911},{"$f":"('2011'!U33/'2011 Rate'!$AA33)*1000","v":0.78050334501433583},{"$f":"('2011'!V33/'2011 Rate'!$AA33)*1000","v":4.4472762026122972},{"$f":"('2011'!W33/'2011 Rate'!$AA33)*1000","v":1.4686205798024847},{"$f":"IF('2011'!X33=\"*\",\"\",('2011'!X33/'2011 Rate'!$AA33)*1000)","v":""},null,"South Lanarkshire",{"$f":"'Population estimates'!I33","v":313900}]
[32,"Stirling",null,{"$f":"('2011'!D34/'2011 Rate'!$AA34)*1000","v":11.303000110705192},{"$f":"('2011'!E34/'2011 Rate'!$AA34)*1000","v":2.4355142256171813},{"$f":"('2011'!F34/'2011 Rate'!$AA34)*1000","v":9.0446141924056231},{"$f":"('2011'!G34/'2011 Rate'!$AA34)*1000","v":-0.1771283073176132},{"$f":"('2011'!H34/'2011 Rate'!$AA34)*1000","v":57.134949629137608},{"$f":"('2011'!I34/'2011 Rate'!$AA34)*1000","v":45.83194951843241},{"$f":"('2011'!J34/'2011 Rate'!$AA34)*1000","v":-1.2177571128085907},{"$f":"('2011'!K34/'2011 Rate'!$AA34)*1000","v":31.41813351046164},{"$f":"('2011'!L34/'2011 Rate'!$AA34)*1000","v":32.635890623270235},{"$f":"('2011'!M34/'2011 Rate'!$AA34)*1000","v":1.6162958042732205},{"$f":"('2011'!N34/'2011 Rate'!$AA34)*1000","v":10.627698439056791},{"$f":"('2011'!O34/'2011 Rate'!$AA34)*1000","v":9.0114026347835718},{"$f":"('2011'!P34/'2011 Rate'!$AA34)*1000","v":10.904461419240564},{"$f":"('2011'!Q34/'2011 Rate'!$AA34)*1000","v":15.089117679619175},{"$f":"('2011'!R34/'2011 Rate'!$AA34)*1000","v":4.1846562603786124},null,{"$f":"('2011'!T34/'2011 Rate'!$AA34)*1000","v":6.6423115244104949},{"$f":"('2011'!U34/'2011 Rate'!$AA34)*1000","v":1.1070519207350826},{"$f":"('2011'!V34/'2011 Rate'!$AA34)*1000","v":5.4024133731872022},{"$f":"('2011'!W34/'2011 Rate'!$AA34)*1000","v":2.0369755341525519},{"$f":"IF('2011'!X34=\"*\",\"\",('2011'!X34/'2011 Rate'!$AA34)*1000)","v":77.493634451455762},null,"Stirling",{"$f":"'Population estimates'!I34","v":90330}]
[33,"West Dunbartonshire",null,{"$f":"('2011'!D35/'2011 Rate'!$AA35)*1000","v":-1.9092815362542765},{"$f":"('2011'!E35/'2011 Rate'!$AA35)*1000","v":-0.69528749586138394},{"$f":"('2011'!F35/'2011 Rate'!$AA35)*1000","v":-1.3574660633484161},{"$f":"('2011'!G35/'2011 Rate'!$AA35)*1000","v":0.14347202295552366},{"$f":"('2011'!H35/'2011 Rate'!$AA35)*1000","v":23.010705220174376},{"$f":"('2011'!I35/'2011 Rate'!$AA35)*1000","v":24.919986756428649},{"$f":"('2011'!J35/'2011 Rate'!$AA35)*1000","v":-2.1079351065003862},{"$f":"('2011'!K35/'2011 Rate'!$AA35)*1000","v":16.896589780377443},{"$f":"('2011'!L35/'2011 Rate'!$AA35)*1000","v":19.004524886877828},{"$f":"('2011'!M35/'2011 Rate'!$AA35)*1000","v":7.7254166206820449E-2},{"$f":"('2011'!N35/'2011 Rate'!$AA35)*1000","v":4.3483059264981785},{"$f":"('2011'!O35/'2011 Rate'!$AA35)*1000","v":4.2710517602913578},{"$f":"('2011'!P35/'2011 Rate'!$AA35)*1000","v":0.12139940403928925},{"$f":"('2011'!Q35/'2011 Rate'!$AA35)*1000","v":1.7658095132987528},{"$f":"('2011'!R35/'2011 Rate'!$AA35)*1000","v":1.6444101092594636},null,{"$f":"('2011'!T35/'2011 Rate'!$AA35)*1000","v":1.4347202295552368},{"$f":"('2011'!U35/'2011 Rate'!$AA35)*1000","v":0.6621785674870323},{"$f":"('2011'!V35/'2011 Rate'!$AA35)*1000","v":3.0018761726078798},{"$f":"('2011'!W35/'2011 Rate'!$AA35)*1000","v":1.4567928484714712},{"$f":"IF('2011'!X35=\"*\",\"\",('2011'!X35/'2011 Rate'!$AA35)*1000)","v":""},null,"West Dunbartonshire",{"$f":"'Population estimates'!I35","v":90610}]
[34,"West Lothian",null,{"$f":"('2011'!D36/'2011 Rate'!$AA36)*1000","v":1.249286936679977},{"$f":"('2011'!E36/'2011 Rate'!$AA36)*1000","v":0.31945236737022248},{"$f":"('2011'!F36/'2011 Rate'!$AA36)*1000","v":0.67313177410154024},{"$f":"('2011'!G36/'2011 Rate'!$AA36)*1000","v":0.25670279520821448},{"$f":"('2011'!H36/'2011 Rate'!$AA36)*1000","v":27.478608100399317},{"$f":"('2011'!I36/'2011 Rate'!$AA36)*1000","v":26.229321163719337},{"$f":"('2011'!J36/'2011 Rate'!$AA36)*1000","v":-1.8197375926982315},{"$f":"('2011'!K36/'2011 Rate'!$AA36)*1000","v":17.529948659440958},{"$f":"('2011'!L36/'2011 Rate'!$AA36)*1000","v":19.34968625213919},{"$f":"('2011'!M36/'2011 Rate'!$AA36)*1000","v":-3.993154592127781E-2},{"$f":"('2011'!N36/'2011 Rate'!$AA36)*1000","v":4.9800342270393605},{"$f":"('2011'!O36/'2011 Rate'!$AA36)*1000","v":5.0199657729606386},{"$f":"('2011'!P36/'2011 Rate'!$AA36)*1000","v":3.1089560752994867},{"$f":"('2011'!Q36/'2011 Rate'!$AA36)*1000","v":4.9686252139189966},{"$f":"('2011'!R36/'2011 Rate'!$AA36)*1000","v":1.8596691386195092},null,{"$f":"('2011'!T36/'2011 Rate'!$AA36)*1000","v":5.0199657729606386},{"$f":"('2011'!U36/'2011 Rate'!$AA36)*1000","v":1.5858528237307472},{"$f":"('2011'!V36/'2011 Rate'!$AA36)*1000","v":5.6132344552196232},{"$f":"('2011'!W36/'2011 Rate'!$AA36)*1000","v":3.593839132915003},{"$f":"IF('2011'!X36=\"*\",\"\",('2011'!X36/'2011 Rate'!$AA36)*1000)","v":62.749572162007979},null,"West Lothian",{"$f":"'Population estimates'!I36","v":175300}]
[]
[35,"Not specified"]
[36,"SCOTLAND",null,{"$f":"('2011'!D39/'2011 Rate'!$AA39)*1000","v":5.6999188663937055},{"$f":"('2011'!E39/'2011 Rate'!$AA39)*1000","v":0.65850299062246453},{"$f":"('2011'!F39/'2011 Rate'!$AA39)*1000","v":4.9480178871299456},{"$f":"('2011'!G39/'2011 Rate'!$AA39)*1000","v":9.3397988641295115E-2},{"$f":"('2011'!H39/'2011 Rate'!$AA39)*1000","v":16.582577029755278},{"$f":"('2011'!I39/'2011 Rate'!$AA39)*1000","v":10.882658163361572},null,null,null,{"$f":"('2011'!M39/'2011 Rate'!$AA39)*1000","v":0.54887828072227784},{"$f":"('2011'!N39/'2011 Rate'!$AA39)*1000","v":8.2427970339062995},{"$f":"('2011'!O39/'2011 Rate'!$AA39)*1000","v":7.6939187531840219},{"$f":"('2011'!P39/'2011 Rate'!$AA39)*1000","v":5.1510405856714279},{"$f":"('2011'!Q39/'2011 Rate'!$AA39)*1000","v":8.3397799958489784},{"$f":"('2011'!R39/'2011 Rate'!$AA39)*1000","v":3.1887394101775506},null,null,{"$f":"('2011'!U39/'2011 Rate'!$AA39)*1000","v":1.5741806449178286},null,null,null,{"$f":"('2011'!Y39/'2011 Rate'!$AA39)*1000","v":9.6841449838676201},"SCOTLAND",{"$f":"'Population estimates'!I39","v":5299900}]
[37,"Ayrshire & Arran",null,{"$f":"('2011'!D40/'2011 Rate'!$AA40)*1000","v":2.0387523477758336},{"$f":"('2011'!E40/'2011 Rate'!$AA40)*1000","v":0.66353094783255484},{"$f":"('2011'!F40/'2011 Rate'!$AA40)*1000","v":0.93643480540884749},{"$f":"('2011'!G40/'2011 Rate'!$AA40)*1000","v":0.43878659453443136},{"$f":"('2011'!H40/'2011 Rate'!$AA40)*1000","v":20.764772927937329},{"$f":"('2011'!I40/'2011 Rate'!$AA40)*1000","v":18.726020580161496},{"$f":"('2011'!J40/'2011 Rate'!$AA40)*1000","v":0.69831281203345474},{"$f":"('2011'!K40/'2011 Rate'!$AA40)*1000","v":12.609763536833993},{"$f":"('2011'!L40/'2011 Rate'!$AA40)*1000","v":11.91145072480054},{"$f":"('2011'!M40/'2011 Rate'!$AA40)*1000","v":1.2173652470315015},{"$f":"('2011'!N40/'2011 Rate'!$AA40)*1000","v":6.4319693491510552},{"$f":"('2011'!O40/'2011 Rate'!$AA40)*1000","v":5.2146041021195533},{"$f":"('2011'!P40/'2011 Rate'!$AA40)*1000","v":0.1230742887108771},{"$f":"('2011'!Q40/'2011 Rate'!$AA40)*1000","v":1.7230400419522793},{"$f":"('2011'!R40/'2011 Rate'!$AA40)*1000","v":1.5999657532414022},null,null,{"$f":"('2011'!U40/'2011 Rate'!$AA40)*1000","v":0.5056747949207776},null,null,null,null,"Ayrshire & Arran",{"$f":"'Population estimates'!I40","v":373758}]
[38,"Borders",null,{"$f":"('2011'!D41/'2011 Rate'!$AA41)*1000","v":4.2852125043905867},{"$f":"('2011'!E41/'2011 Rate'!$AA41)*1000","v":1.2381454162276082},{"$f":"('2011'!F41/'2011 Rate'!$AA41)*1000","v":3.249034070951879},{"$f":"('2011'!G41/'2011 Rate'!$AA41)*1000","v":-0.2019669827889006},{"$f":"('2011'!H41/'2011 Rate'!$AA41)*1000","v":35.923779416930103},{"$f":"('2011'!I41/'2011 Rate'!$AA41)*1000","v":31.638566912539517},{"$f":"('2011'!J41/'2011 Rate'!$AA41)*1000","v":1.1766772040744642},{"$f":"('2011'!K41/'2011 Rate'!$AA41)*1000","v":19.380049174569724},{"$f":"('2011'!L41/'2011 Rate'!$AA41)*1000","v":18.203371970495258},{"$f":"('2011'!M41/'2011 Rate'!$AA41)*1000","v":2.5289778714436246},{"$f":"('2011'!N41/'2011 Rate'!$AA41)*1000","v":13.268352651914295},{"$f":"('2011'!O41/'2011 Rate'!$AA41)*1000","v":10.739374780470671},{"$f":"('2011'!P41/'2011 Rate'!$AA41)*1000","v":0.57955742887249739},{"$f":"('2011'!Q41/'2011 Rate'!$AA41)*1000","v":3.2753775904460833},{"$f":"('2011'!R41/'2011 Rate'!$AA41)*1000","v":2.6958201615735864},null,null,{"$f":"('2011'!U41/'2011 Rate'!$AA41)*1000","v":1.0098349139445031},null,null,null,null,"Borders",{"$f":"'Population estimates'!I41","v":113880}]
[39,"Dumfries & Galloway",null,{"$f":"('2011'!D42/'2011 Rate'!$AA42)*1000","v":2.4899280100389674},{"$f":"('2011'!E42/'2011 Rate'!$AA42)*1000","v":0.74631794465358958},{"$f":"('2011'!F42/'2011 Rate'!$AA42)*1000","v":1.5190542236312001},{"$f":"('2011'!G42/'2011 Rate'!$AA42)*1000","v":0.22455584175417742},{"$f":"('2011'!H42/'2011 Rate'!$AA42)*1000","v":26.431543491182882},{"$f":"('2011'!I42/'2011 Rate'!$AA42)*1000","v":23.941615481143913},{"$f":"('2011'!J42/'2011 Rate'!$AA42)*1000","v":-0.57459877154745387},{"$f":"('2011'!K42/'2011 Rate'!$AA42)*1000","v":10.910772075820621},{"$f":"('2011'!L42/'2011 Rate'!$AA42)*1000","v":11.485370847368074},{"$f":"('2011'!M42/'2011 Rate'!$AA42)*1000","v":2.9654580278713425},{"$f":"('2011'!N42/'2011 Rate'!$AA42)*1000","v":13.156330493362393},{"$f":"('2011'!O42/'2011 Rate'!$AA42)*1000","v":10.190872465491051},{"$f":"('2011'!P42/'2011 Rate'!$AA42)*1000","v":9.9068753715078256E-2},{"$f":"('2011'!Q42/'2011 Rate'!$AA42)*1000","v":2.3644409219998677},{"$f":"('2011'!R42/'2011 Rate'!$AA42)*1000","v":2.2653721682847898},null,null,{"$f":"('2011'!U42/'2011 Rate'!$AA42)*1000","v":0.63404002377650093},null,null,null,null,"Dumfries & Galloway",{"$f":"'Population estimates'!I42","v":151410}]
[40,"Fife",null,{"$f":"('2011'!D43/'2011 Rate'!$AA43)*1000","v":5.6693284131629156},{"$f":"('2011'!E43/'2011 Rate'!$AA43)*1000","v":0.90336956849046945},{"$f":"('2011'!F43/'2011 Rate'!$AA43)*1000","v":4.4182984349806596},{"$f":"('2011'!G43/'2011 Rate'!$AA43)*1000","v":0.34766040969178674},{"$f":"('2011'!H43/'2011 Rate'!$AA43)*1000","v":30.583166118713709},{"$f":"('2011'!I43/'2011 Rate'!$AA43)*1000","v":24.913837705550797},{"$f":"('2011'!J43/'2011 Rate'!$AA43)*1000","v":1.2154426921508135},{"$f":"('2011'!K43/'2011 Rate'!$AA43)*1000","v":16.014278714149231},{"$f":"('2011'!L43/'2011 Rate'!$AA43)*1000","v":14.798836021998419},{"$f":"('2011'!M43/'2011 Rate'!$AA43)*1000","v":0.89515711786782881},{"$f":"('2011'!N43/'2011 Rate'!$AA43)*1000","v":8.2781502276217562},{"$f":"('2011'!O43/'2011 Rate'!$AA43)*1000","v":7.3829931097539276},{"$f":"('2011'!P43/'2011 Rate'!$AA43)*1000","v":3.5587286031442735},{"$f":"('2011'!Q43/'2011 Rate'!$AA43)*1000","v":6.2907371769427236},{"$f":"('2011'!R43/'2011 Rate'!$AA43)*1000","v":2.7320085737984501},null,null,{"$f":"('2011'!U43/'2011 Rate'!$AA43)*1000","v":1.1606930213332092},null,null,null,null,"Fife",{"$f":"'Population estimates'!I43","v":365299}]
[41,"Forth Valley",null,{"$f":"('2011'!D44/'2011 Rate'!$AA44)*1000","v":6.8238088528352021},{"$f":"('2011'!E44/'2011 Rate'!$AA44)*1000","v":1.050074813636882},{"$f":"('2011'!F44/'2011 Rate'!$AA44)*1000","v":5.6630232760992243},{"$f":"('2011'!G44/'2011 Rate'!$AA44)*1000","v":0.11071076309909621},{"$f":"('2011'!H44/'2011 Rate'!$AA44)*1000","v":31.649858759905261},{"$f":"('2011'!I44/'2011 Rate'!$AA44)*1000","v":24.826049907070058},{"$f":"('2011'!J44/'2011 Rate'!$AA44)*1000","v":1.6505968316592523},{"$f":"('2011'!K44/'2011 Rate'!$AA44)*1000","v":18.468568207894684},{"$f":"('2011'!L44/'2011 Rate'!$AA44)*1000","v":16.817971376235434},{"$f":"('2011'!M44/'2011 Rate'!$AA44)*1000","v":0.91587994927434124},{"$f":"('2011'!N44/'2011 Rate'!$AA44)*1000","v":6.5755483537645016},{"$f":"('2011'!O44/'2011 Rate'!$AA44)*1000","v":5.6596684044901595},{"$f":"('2011'!P44/'2011 Rate'!$AA44)*1000","v":4.257332071901609},{"$f":"('2011'!Q44/'2011 Rate'!$AA44)*1000","v":6.6057421982460731},{"$f":"('2011'!R44/'2011 Rate'!$AA44)*1000","v":2.348410126344465},null,null,{"$f":"('2011'!U44/'2011 Rate'!$AA44)*1000","v":0.96284815180123051},null,null,null,null,"Forth Valley",{"$f":"'Population estimates'!I44","v":298074}]
[42,"Grampian",null,{"$f":"('2011'!D45/'2011 Rate'!$AA45)*1000","v":7.5494223814038417},{"$f":"('2011'!E45/'2011 Rate'!$AA45)*1000","v":1.2008848625302855},{"$f":"('2011'!F45/'2011 Rate'!$AA45)*1000","v":6.5311281997261137},{"$f":"('2011'!G45/'2011 Rate'!$AA45)*1000","v":-0.18259068085255803},{"$f":"('2011'!H45/'2011 Rate'!$AA45)*1000","v":32.996242845605529},{"$f":"('2011'!I45/'2011 Rate'!$AA45)*1000","v":25.446820464201693},{"$f":"('2011'!J45/'2011 Rate'!$AA45)*1000","v":-0.34762456546929316},{"$f":"('2011'!K45/'2011 Rate'!$AA45)*1000","v":11.926331682994487},{"$f":"('2011'!L45/'2011 Rate'!$AA45)*1000","v":12.273956248463779},{"$f":"('2011'!M45/'2011 Rate'!$AA45)*1000","v":-0.45647670213139507},{"$f":"('2011'!N45/'2011 Rate'!$AA45)*1000","v":8.5536711260929117},{"$f":"('2011'!O45/'2011 Rate'!$AA45)*1000","v":9.0101478282243068},{"$f":"('2011'!P45/'2011 Rate'!$AA45)*1000","v":8.3535236490045293},{"$f":"('2011'!Q45/'2011 Rate'!$AA45)*1000","v":12.516240036518136},{"$f":"('2011'!R45/'2011 Rate'!$AA45)*1000","v":4.1627163875136066},null,null,{"$f":"('2011'!U45/'2011 Rate'!$AA45)*1000","v":2.3245198216229506},null,null,null,null,"Grampian",{"$f":"'Population estimates'!I45","v":569580}]
[43,"Greater Glasgow & Clyde",null,{"$f":"('2011'!D46/'2011 Rate'!$AA46)*1000","v":4.7547026273128239},{"$f":"('2011'!E46/'2011 Rate'!$AA46)*1000","v":0.15313847423033508},{"$f":"('2011'!F46/'2011 Rate'!$AA46)*1000","v":4.7596425780944474},{"$f":"('2011'!G46/'2011 Rate'!$AA46)*1000","v":-0.15807842501195879},{"$f":"('2011'!H46/'2011 Rate'!$AA46)*1000","v":31.110986697535871},{"$f":"('2011'!I46/'2011 Rate'!$AA46)*1000","v":26.356284070223047},{"$f":"('2011'!J46/'2011 Rate'!$AA46)*1000","v":-0.86613803704469094},{"$f":"('2011'!K46/'2011 Rate'!$AA46)*1000","v":14.944997764672271},{"$f":"('2011'!L46/'2011 Rate'!$AA46)*1000","v":15.811135801716961},{"$f":"('2011'!M46/'2011 Rate'!$AA46)*1000","v":-0.45776877243046399},{"$f":"('2011'!N46/'2011 Rate'!$AA46)*1000","v":6.5594313128660193},{"$f":"('2011'!O46/'2011 Rate'!$AA46)*1000","v":7.0172000852964835},{"$f":"('2011'!P46/'2011 Rate'!$AA46)*1000","v":6.0786094367879775},{"$f":"('2011'!Q46/'2011 Rate'!$AA46)*1000","v":9.6065576199975791},{"$f":"('2011'!R46/'2011 Rate'!$AA46)*1000","v":3.5279481832096016},null,null,{"$f":"('2011'!U46/'2011 Rate'!$AA46)*1000","v":1.9628071105651552},null,null,null,null,"Greater Glasgow",{"$f":"'Population estimates'!I46","v":1214587}]
[44,"Highland",null,{"$f":"('2011'!D47/'2011 Rate'!$AA47)*1000","v":3.7368650127463781},{"$f":"('2011'!E47/'2011 Rate'!$AA47)*1000","v":0.94820618043897287},{"$f":"('2011'!F47/'2011 Rate'!$AA47)*1000","v":2.6363240688926197},{"$f":"('2011'!G47/'2011 Rate'!$AA47)*1000","v":0.1523347634147858},{"$f":"('2011'!H47/'2011 Rate'!$AA47)*1000","v":34.026611950506748},{"$f":"('2011'!I47/'2011 Rate'!$AA47)*1000","v":30.28974693776037},{"$f":"('2011'!J47/'2011 Rate'!$AA47)*1000","v":-0.90157308959771187},{"$f":"('2011'!K47/'2011 Rate'!$AA47)*1000","v":17.757880992352174},{"$f":"('2011'!L47/'2011 Rate'!$AA47)*1000","v":18.659454081949882},{"$f":"('2011'!M47/'2011 Rate'!$AA47)*1000","v":3.1492880681464901},{"$f":"('2011'!N47/'2011 Rate'!$AA47)*1000","v":11.969159982590313},{"$f":"('2011'!O47/'2011 Rate'!$AA47)*1000","v":8.8198719144438229},{"$f":"('2011'!P47/'2011 Rate'!$AA47)*1000","v":1.4891500341975998},{"$f":"('2011'!Q47/'2011 Rate'!$AA47)*1000","v":4.2995709755642606},{"$f":"('2011'!R47/'2011 Rate'!$AA47)*1000","v":2.8104209413666603},null,null,{"$f":"('2011'!U47/'2011 Rate'!$AA47)*1000","v":1.0818877075172544},null,null,null,null,"Highland",{"$f":"'Population estimates'!I47","v":321660}]
[45,"Lanarkshire",null,{"$f":"('2011'!D48/'2011 Rate'!$AA48)*1000","v":0.7267149862256066},{"$f":"('2011'!E48/'2011 Rate'!$AA48)*1000","v":0.20788241192511342},{"$f":"('2011'!F48/'2011 Rate'!$AA48)*1000","v":0.33366000569492993},{"$f":"('2011'!G48/'2011 Rate'!$AA48)*1000","v":0.18517256860556322},{"$f":"('2011'!H48/'2011 Rate'!$AA48)*1000","v":18.251726384820042},{"$f":"('2011'!I48/'2011 Rate'!$AA48)*1000","v":17.525011398594437},{"$f":"('2011'!J48/'2011 Rate'!$AA48)*1000","v":0.23408607729382519},{"$f":"('2011'!K48/'2011 Rate'!$AA48)*1000","v":12.446741050138094},{"$f":"('2011'!L48/'2011 Rate'!$AA48)*1000","v":12.212654972844268},{"$f":"('2011'!M48/'2011 Rate'!$AA48)*1000","v":0.25854283163795622},{"$f":"('2011'!N48/'2011 Rate'!$AA48)*1000","v":3.948018915552574},{"$f":"('2011'!O48/'2011 Rate'!$AA48)*1000","v":3.6894760839146179},{"$f":"('2011'!P48/'2011 Rate'!$AA48)*1000","v":0.23408607729382519},{"$f":"('2011'!Q48/'2011 Rate'!$AA48)*1000","v":1.8569664191293744},{"$f":"('2011'!R48/'2011 Rate'!$AA48)*1000","v":1.6228803418355493},null,null,{"$f":"('2011'!U48/'2011 Rate'!$AA48)*1000","v":0.78610996106135322},null,null,null,null,"Lanarkshire",{"$f":"'Population estimates'!I48","v":572439}]
[46,"Lothian",null,{"$f":"('2011'!D49/'2011 Rate'!$AA49)*1000","v":11.032646113831088},{"$f":"('2011'!E49/'2011 Rate'!$AA49)*1000","v":0.78889993880048959},{"$f":"('2011'!F49/'2011 Rate'!$AA49)*1000","v":10.093138004895961},{"$f":"('2011'!G49/'2011 Rate'!$AA49)*1000","v":0.15060817013463892},{"$f":"('2011'!H49/'2011 Rate'!$AA49)*1000","v":40.414387622399026},{"$f":"('2011'!I49/'2011 Rate'!$AA49)*1000","v":29.381741508567931},{"$f":"('2011'!J49/'2011 Rate'!$AA49)*1000","v":-0.15180347307221542},{"$f":"('2011'!K49/'2011 Rate'!$AA49)*1000","v":13.502141982864138},{"$f":"('2011'!L49/'2011 Rate'!$AA49)*1000","v":13.653945455936352},{"$f":"('2011'!M49/'2011 Rate'!$AA49)*1000","v":0.59287025703794372},{"$f":"('2011'!N49/'2011 Rate'!$AA49)*1000","v":11.735484241126072},{"$f":"('2011'!O49/'2011 Rate'!$AA49)*1000","v":11.142613984088127},{"$f":"('2011'!P49/'2011 Rate'!$AA49)*1000","v":10.591579329865361},{"$f":"('2011'!Q49/'2011 Rate'!$AA49)*1000","v":15.176761398408813},{"$f":"('2011'!R49/'2011 Rate'!$AA49)*1000","v":4.5851820685434515},null,null,{"$f":"('2011'!U49/'2011 Rate'!$AA49)*1000","v":2.4133166309669525},null,null,null,null,"Lothian",{"$f":"'Population estimates'!I49","v":836608}]
[47,"Orkney",null,{"$f":"('2011'!D50/'2011 Rate'!$AA50)*1000","v":4.6218487394957988},{"$f":"('2011'!E50/'2011 Rate'!$AA50)*1000","v":0.23342670401493931},{"$f":"('2011'!F50/'2011 Rate'!$AA50)*1000","v":3.9682539682539679},{"$f":"('2011'!G50/'2011 Rate'!$AA50)*1000","v":0.42016806722689076},{"$f":"('2011'!H50/'2011 Rate'!$AA50)*1000","v":31.092436974789916},{"$f":"('2011'!I50/'2011 Rate'!$AA50)*1000","v":26.470588235294116},{"$f":"('2011'!J50/'2011 Rate'!$AA50)*1000","v":0.37348272642390284},{"$f":"('2011'!K50/'2011 Rate'!$AA50)*1000","v":16.106442577030812},{"$f":"('2011'!L50/'2011 Rate'!$AA50)*1000","v":15.732959850606909},{"$f":"('2011'!M50/'2011 Rate'!$AA50)*1000","v":3.1746031746031744},{"$f":"('2011'!N50/'2011 Rate'!$AA50)*1000","v":11.904761904761903},{"$f":"('2011'!O50/'2011 Rate'!$AA50)*1000","v":8.7301587301587311},{"$f":"('2011'!P50/'2011 Rate'!$AA50)*1000","v":1.073762838468721},{"$f":"('2011'!Q50/'2011 Rate'!$AA50)*1000","v":3.0812324929971986},{"$f":"('2011'!R50/'2011 Rate'!$AA50)*1000","v":2.007469654528478},null,null,{"$f":"('2011'!U50/'2011 Rate'!$AA50)*1000","v":0.37348272642390284},null,null,null,null,"Orkney",{"$f":"'Population estimates'!I50","v":21420}]
[48,"Shetland",null,{"$f":"('2011'!D51/'2011 Rate'!$AA51)*1000","v":2.5387263339070567},{"$f":"('2011'!E51/'2011 Rate'!$AA51)*1000","v":-0.64543889845094671},{"$f":"('2011'!F51/'2011 Rate'!$AA51)*1000","v":2.753872633390706},{"$f":"('2011'!G51/'2011 Rate'!$AA51)*1000","v":0.43029259896729777},{"$f":"('2011'!H51/'2011 Rate'!$AA51)*1000","v":30.464716006884682},{"$f":"('2011'!I51/'2011 Rate'!$AA51)*1000","v":27.925989672977622},{"$f":"('2011'!J51/'2011 Rate'!$AA51)*1000","v":0.43029259896729777},{"$f":"('2011'!K51/'2011 Rate'!$AA51)*1000","v":16.437177280550774},{"$f":"('2011'!L51/'2011 Rate'!$AA51)*1000","v":16.006884681583475},{"$f":"('2011'!M51/'2011 Rate'!$AA51)*1000","v":0.60240963855421692},{"$f":"('2011'!N51/'2011 Rate'!$AA51)*1000","v":9.6815834767641995},{"$f":"('2011'!O51/'2011 Rate'!$AA51)*1000","v":9.079173838209984},{"$f":"('2011'!P51/'2011 Rate'!$AA51)*1000","v":1.5060240963855422},{"$f":"('2011'!Q51/'2011 Rate'!$AA51)*1000","v":4.3459552495697071},{"$f":"('2011'!R51/'2011 Rate'!$AA51)*1000","v":2.8399311531841653},null,null,{"$f":"('2011'!U51/'2011 Rate'!$AA51)*1000","v":1.2908777969018934},null,null,null,null,"Shetland",{"$f":"'Population estimates'!I51","v":23240}]
[49,"Tayside",null,{"$f":"('2011'!D52/'2011 Rate'!$AA52)*1000","v":8.221715762147932},{"$f":"('2011'!E52/'2011 Rate'!$AA52)*1000","v":0.95550328454254063},{"$f":"('2011'!F52/'2011 Rate'!$AA52)*1000","v":6.890836187249394},{"$f":"('2011'!G52/'2011 Rate'!$AA52)*1000","v":0.37537629035599812},{"$f":"('2011'!H52/'2011 Rate'!$AA52)*1000","v":35.068433047738601},{"$f":"('2011'!I52/'2011 Rate'!$AA52)*1000","v":26.846717285590668},{"$f":"('2011'!J52/'2011 Rate'!$AA52)*1000","v":0.74100254719625602},{"$f":"('2011'!K52/'2011 Rate'!$AA52)*1000","v":16.380056306443556},{"$f":"('2011'!L52/'2011 Rate'!$AA52)*1000","v":15.639053759247297},{"$f":"('2011'!M52/'2011 Rate'!$AA52)*1000","v":0.34368868142984244},{"$f":"('2011'!N52/'2011 Rate'!$AA52)*1000","v":7.9852774493912317},{"$f":"('2011'!O52/'2011 Rate'!$AA52)*1000","v":7.6415887679613901},{"$f":"('2011'!P52/'2011 Rate'!$AA52)*1000","v":7.1370245335218341},{"$f":"('2011'!Q52/'2011 Rate'!$AA52)*1000","v":10.703099291903817},{"$f":"('2011'!R52/'2011 Rate'!$AA52)*1000","v":3.5660747583819821},null,null,{"$f":"('2011'!U52/'2011 Rate'!$AA52)*1000","v":1.5990054965813945},null,null,null,null,"Tayside",{"$f":"'Population estimates'!I52","v":410255}]
[50,"Western Isles",null,{"$f":"('2011'!D53/'2011 Rate'!$AA53)*1000","v":0.83062477428674608},{"$f":"('2011'!E53/'2011 Rate'!$AA53)*1000","v":0.32502708559046589},{"$f":"('2011'!F53/'2011 Rate'!$AA53)*1000","v":0.4333694474539545},{"$f":"('2011'!G53/'2011 Rate'!$AA53)*1000","v":7.2228241242325741E-2},{"$f":"('2011'!H53/'2011 Rate'!$AA53)*1000","v":32.791621524015895},{"$f":"('2011'!I53/'2011 Rate'!$AA53)*1000","v":31.960996749729144},{"$f":"('2011'!J53/'2011 Rate'!$AA53)*1000","v":-1.1917659804983747},{"$f":"('2011'!K53/'2011 Rate'!$AA53)*1000","v":20.801733477789817},{"$f":"('2011'!L53/'2011 Rate'!$AA53)*1000","v":21.993499458288191},{"$f":"('2011'!M53/'2011 Rate'!$AA53)*1000","v":1.9140483929216323},{"$f":"('2011'!N53/'2011 Rate'!$AA53)*1000","v":9.8230408089563017},{"$f":"('2011'!O53/'2011 Rate'!$AA53)*1000","v":7.9089924160346703},{"$f":"('2011'!P53/'2011 Rate'!$AA53)*1000","v":0.10834236186348863},{"$f":"('2011'!Q53/'2011 Rate'!$AA53)*1000","v":2.1668472372697725},{"$f":"('2011'!R53/'2011 Rate'!$AA53)*1000","v":2.058504875406284},null,null,{"$f":"('2011'!U53/'2011 Rate'!$AA53)*1000","v":0.46948356807511737},null,null,null,null,"Western Isles",{"$f":"'Population estimates'!I53","v":27690}]

{"sheet":"2012","index":51,"n_rows":53,"n_cols":25,"rows_kept":53,"cut":false,"hidden":true,"merged":[]}
[null,2012]
[null,null,"Not specified ",{"$f":"'Comparing Indicators'!$U8","v":"Total net migration"},{"$f":"'Comparing Indicators'!$U9","v":"Total net migration for ages 0-15"},{"$f":"'Comparing Indicators'!$U10","v":"Total net migration for ages 16-64"},{"$f":"'Comparing Indicators'!$U11","v":"Total net migration for people aged 65+"},{"$f":"'Comparing Indicators'!$U12","v":"Total in-migration"},{"$f":"'Comparing Indicators'!$U13","v":"Total out-migration"},{"$f":"'Comparing Indicators'!$U14","v":"Within Scotland net migration"},{"$f":"'Comparing Indicators'!$U15","v":"Within Scotland in-migration"},{"$f":"'Comparing Indicators'!$U16","v":"Within Scotland out-migration"},{"$f":"'Comparing Indicators'!$U17","v":"Rest of UK net migration"},{"$f":"'Comparing Indicators'!$U18","v":"Rest of UK in-migration"},{"$f":"'Comparing Indicators'!$U19","v":"Rest of UK out-migration"},{"$f":"'Comparing Indicators'!$U20","v":"Overseas net migration"},{"$f":"'Comparing Indicators'!$U21","v":"Overseas in-migration"},{"$f":"'Comparing Indicators'!$U22","v":"Overseas out-migration"},{"$f":"'Comparing Indicators'!$U23","v":"Worker Registration Scheme"},{"$f":"'Comparing Indicators'!$U24","v":"NINo Allocation"},{"$f":"'Comparing Indicators'!$U25","v":"Births to non-UK mothers"},{"$f":"'Comparing Indicators'!$U26","v":"Pupils from a minority ethnic group"},{"$f":"'Comparing Indicators'!$U27","v":"Pupils with English as an additional language"},{"$f":"'Comparing Indicators'!$U28","v":"Estimate of resident population born outside the UK"},"NHS registrations from overseas"]
[1,"Not specified"]
[2,"SCOTLAND",null,{"$f":"'Total net migration'!J4","v":12738},{"$f":"'Total net migration 0-15'!J4","v":1637},{"$f":"'Total net migration 16-64'!J4","v":11462},{"$f":"'Total net migration 65+'!J4","v":-361},{"$f":"'Total in-migration'!J4","v":81016},{"$f":"'Total out-migration'!J4","v":68278},null,null,null,{"$f":"'Rest of UK net migration'!J4","v":3038},{"$f":"'Rest of UK in-migration'!J4","v":45116},{"$f":"'Rest of UK out-migration'!J4","v":42078},{"$f":"'Overseas net migration'!J4","v":9700},{"$f":"'Overseas in-migration'!J4","v":35900},{"$f":"'Overseas out-migration'!J4","v":26200},null,{"$f":"NINo!J5","v":34850},{"$f":"'Non-UK Births'!J5","v":8439},{"$f":"'Pupils ethnic group'!K5","v":36811},{"$f":"'Pupils with English as an add.'!H4","v":26131},{"$f":"'Pop born outside UK'!J5","v":375000},{"$f":"'NHS Overseas'!$J$5","v":49672}]
[3,"Aberdeen City",null,{"$f":"'Total net migration'!J5","v":1847},{"$f":"'Total net migration 0-15'!J5","v":40},{"$f":"'Total net migration 16-64'!J5","v":1987},{"$f":"'Total net migration 65+'!J5","v":-180},{"$f":"'Total in-migration'!J5","v":13652},{"$f":"'Total out-migration'!J5","v":11805},{"$f":"'Within Scotland net migration'!J5","v":-356},{"$f":"'Within Scotland in-migration'!J5","v":6712},{"$f":"'Within Scotland out-migration'!J5","v":7068},{"$f":"'Rest of UK net migration'!J5","v":101},{"$f":"'Rest of UK in-migration'!J5","v":2526},{"$f":"'Rest of UK out-migration'!J5","v":2425},{"$f":"'Overseas net migration'!J5","v":2102},{"$f":"'Overseas in-migration'!J5","v":4414},{"$f":"'Overseas out-migration'!J5","v":2312},null,{"$f":"NINo!J6","v":4110},{"$f":"'Non-UK Births'!J6","v":911},{"$f":"'Pupils ethnic group'!K6","v":2233},{"$f":"'Pupils with English as an add.'!H5","v":1602},{"$f":"'Pop born outside UK'!J6","v":33000}]
[4,"Aberdeenshire",null,{"$f":"'Total net migration'!J6","v":1386},{"$f":"'Total net migration 0-15'!J6","v":557},{"$f":"'Total net migration 16-64'!J6","v":924},{"$f":"'Total net migration 65+'!J6","v":-95},{"$f":"'Total in-migration'!J6","v":9062},{"$f":"'Total out-migration'!J6","v":7676},{"$f":"'Within Scotland net migration'!J6","v":1075},{"$f":"'Within Scotland in-migration'!J6","v":6195},{"$f":"'Within Scotland out-migration'!J6","v":5120},{"$f":"'Rest of UK net migration'!J6","v":102},{"$f":"'Rest of UK in-migration'!J6","v":1805},{"$f":"'Rest of UK out-migration'!J6","v":1703},{"$f":"'Overseas net migration'!J6","v":209},{"$f":"'Overseas in-migration'!J6","v":1062},{"$f":"'Overseas out-migration'!J6","v":853},null,{"$f":"NINo!J7","v":1290},{"$f":"'Non-UK Births'!J7","v":383},{"$f":"'Pupils ethnic group'!K7","v":749},{"$f":"'Pupils with English as an add.'!H6","v":1054},{"$f":"'Pop born outside UK'!J7","v":14000}]
[5,"Angus",null,{"$f":"'Total net migration'!J7","v":258},{"$f":"'Total net migration 0-15'!J7","v":33},{"$f":"'Total net migration 16-64'!J7","v":137},{"$f":"'Total net migration 65+'!J7","v":88},{"$f":"'Total in-migration'!J7","v":3930},{"$f":"'Total out-migration'!J7","v":3672},{"$f":"'Within Scotland net migration'!J7","v":198},{"$f":"'Within Scotland in-migration'!J7","v":2813},{"$f":"'Within Scotland out-migration'!J7","v":2615},{"$f":"'Rest of UK net migration'!J7","v":49},{"$f":"'Rest of UK in-migration'!J7","v":748},{"$f":"'Rest of UK out-migration'!J7","v":699},{"$f":"'Overseas net migration'!J7","v":11},{"$f":"'Overseas in-migration'!J7","v":369},{"$f":"'Overseas out-migration'!J7","v":358},null,{"$f":"NINo!J8","v":1090},{"$f":"'Non-UK Births'!J8","v":134},{"$f":"'Pupils ethnic group'!K8","v":306},{"$f":"'Pupils with English as an add.'!H7","v":348},{"$f":"'Pop born outside UK'!J8","v":"*"}]
[6,"Argyll & Bute",null,{"$f":"'Total net migration'!J8","v":-233},{"$f":"'Total net migration 0-15'!J8","v":-37},{"$f":"'Total net migration 16-64'!J8","v":-128},{"$f":"'Total net migration 65+'!J8","v":-68},{"$f":"'Total in-migration'!J8","v":3821},{"$f":"'Total out-migration'!J8","v":4054},{"$f":"'Within Scotland net migration'!J8","v":-333},{"$f":"'Within Scotland in-migration'!J8","v":2208},{"$f":"'Within Scotland out-migration'!J8","v":2541},{"$f":"'Rest of UK net migration'!J8","v":271},{"$f":"'Rest of UK in-migration'!J8","v":1309},{"$f":"'Rest of UK out-migration'!J8","v":1038},{"$f":"'Overseas net migration'!J8","v":-171},{"$f":"'Overseas in-migration'!J8","v":304},{"$f":"'Overseas out-migration'!J8","v":475},null,{"$f":"NINo!J9","v":340},{"$f":"'Non-UK Births'!J9","v":78},{"$f":"'Pupils ethnic group'!K9","v":208},{"$f":"'Pupils with English as an add.'!H8","v":135},{"$f":"'Pop born outside UK'!J9","v":4000}]
[7,"Clackmannanshire",null,{"$f":"'Total net migration'!J9","v":-256},{"$f":"'Total net migration 0-15'!J9","v":-102},{"$f":"'Total net migration 16-64'!J9","v":-198},{"$f":"'Total net migration 65+'!J9","v":44},{"$f":"'Total in-migration'!J9","v":1482},{"$f":"'Total out-migration'!J9","v":1738},{"$f":"'Within Scotland net migration'!J9","v":-248},{"$f":"'Within Scotland in-migration'!J9","v":1030},{"$f":"'Within Scotland out-migration'!J9","v":1278},{"$f":"'Rest of UK net migration'!J9","v":41},{"$f":"'Rest of UK in-migration'!J9","v":336},{"$f":"'Rest of UK out-migration'!J9","v":295},{"$f":"'Overseas net migration'!J9","v":-49},{"$f":"'Overseas in-migration'!J9","v":116},{"$f":"'Overseas out-migration'!J9","v":165},null,{"$f":"NINo!J10","v":100},{"$f":"'Non-UK Births'!J10","v":50},{"$f":"'Pupils ethnic group'!K10","v":201},{"$f":"'Pupils with English as an add.'!H9","v":120},{"$f":"'Pop born outside UK'!J10","v":"*"}]
[8,"Dumfries & Galloway",null,{"$f":"'Total net migration'!J10","v":-128},{"$f":"'Total net migration 0-15'!J10","v":-17},{"$f":"'Total net migration 16-64'!J10","v":-75},{"$f":"'Total net migration 65+'!J10","v":-36},{"$f":"'Total in-migration'!J10","v":3835},{"$f":"'Total out-migration'!J10","v":3963},{"$f":"'Within Scotland net migration'!J10","v":-170},{"$f":"'Within Scotland in-migration'!J10","v":1719},{"$f":"'Within Scotland out-migration'!J10","v":1889},{"$f":"'Rest of UK net migration'!J10","v":322},{"$f":"'Rest of UK in-migration'!J10","v":1872},{"$f":"'Rest of UK out-migration'!J10","v":1550},{"$f":"'Overseas net migration'!J10","v":-280},{"$f":"'Overseas in-migration'!J10","v":244},{"$f":"'Overseas out-migration'!J10","v":524},null,{"$f":"NINo!J11","v":250},{"$f":"'Non-UK Births'!J11","v":90},{"$f":"'Pupils ethnic group'!K11","v":409},{"$f":"'Pupils with English as an add.'!H10","v":298},{"$f":"'Pop born outside UK'!J11","v":"*"}]
[9,"Dundee City",null,{"$f":"'Total net migration'!J11","v":492},{"$f":"'Total net migration 0-15'!J11","v":-131},{"$f":"'Total net migration 16-64'!J11","v":730},{"$f":"'Total net migration 65+'!J11","v":-107},{"$f":"'Total in-migration'!J11","v":6953},{"$f":"'Total out-migration'!J11","v":6461},{"$f":"'Within Scotland net migration'!J11","v":-128},{"$f":"'Within Scotland in-migration'!J11","v":3898},{"$f":"'Within Scotland out-migration'!J11","v":4026},{"$f":"'Rest of UK net migration'!J11","v":55},{"$f":"'Rest of UK in-migration'!J11","v":1472},{"$f":"'Rest of UK out-migration'!J11","v":1417},{"$f":"'Overseas net migration'!J11","v":565},{"$f":"'Overseas in-migration'!J11","v":1583},{"$f":"'Overseas out-migration'!J11","v":1018},null,{"$f":"NINo!J12","v":1090},{"$f":"'Non-UK Births'!J12","v":265},{"$f":"'Pupils ethnic group'!K12","v":1351},{"$f":"'Pupils with English as an add.'!H11","v":928},{"$f":"'Pop born outside UK'!J12","v":14000}]
[10,"East Ayrshire",null,{"$f":"'Total net migration'!J12","v":-76},{"$f":"'Total net migration 0-15'!J12","v":33},{"$f":"'Total net migration 16-64'!J12","v":-93},{"$f":"'Total net migration 65+'!J12","v":-16},{"$f":"'Total in-migration'!J12","v":3079},{"$f":"'Total out-migration'!J12","v":3155},{"$f":"'Within Scotland net migration'!J12","v":-67},{"$f":"'Within Scotland in-migration'!J12","v":2266},{"$f":"'Within Scotland out-migration'!J12","v":2333},{"$f":"'Rest of UK net migration'!J12","v":124},{"$f":"'Rest of UK in-migration'!J12","v":700},{"$f":"'Rest of UK out-migration'!J12","v":576},{"$f":"'Overseas net migration'!J12","v":-133},{"$f":"'Overseas in-migration'!J12","v":113},{"$f":"'Overseas out-migration'!J12","v":246},null,{"$f":"NINo!J13","v":100},{"$f":"'Non-UK Births'!J13","v":52},{"$f":"'Pupils ethnic group'!K13","v":303},{"$f":"'Pupils with English as an add.'!H12","v":121},{"$f":"'Pop born outside UK'!J13","v":"*"}]
[11,"East Dunbartonshire",null,{"$f":"'Total net migration'!J13","v":260},{"$f":"'Total net migration 0-15'!J13","v":407},{"$f":"'Total net migration 16-64'!J13","v":-157},{"$f":"'Total net migration 65+'!J13","v":10},{"$f":"'Total in-migration'!J13","v":3432},{"$f":"'Total out-migration'!J13","v":3172},{"$f":"'Within Scotland net migration'!J13","v":370},{"$f":"'Within Scotland in-migration'!J13","v":2859},{"$f":"'Within Scotland out-migration'!J13","v":2489},{"$f":"'Rest of UK net migration'!J13","v":-19},{"$f":"'Rest of UK in-migration'!J13","v":462},{"$f":"'Rest of UK out-migration'!J13","v":481},{"$f":"'Overseas net migration'!J13","v":-91},{"$f":"'Overseas in-migration'!J13","v":111},{"$f":"'Overseas out-migration'!J13","v":202},null,{"$f":"NINo!J14","v":90},{"$f":"'Non-UK Births'!J14","v":79},{"$f":"'Pupils ethnic group'!K14","v":1075},{"$f":"'Pupils with English as an add.'!H13","v":385},{"$f":"'Pop born outside UK'!J14","v":5000}]
[12,"East Lothian",null,{"$f":"'Total net migration'!J14","v":787},{"$f":"'Total net migration 0-15'!J14","v":213},{"$f":"'Total net migration 16-64'!J14","v":511},{"$f":"'Total net migration 65+'!J14","v":63},{"$f":"'Total in-migration'!J14","v":4019},{"$f":"'Total out-migration'!J14","v":3232},{"$f":"'Within Scotland net migration'!J14","v":474},{"$f":"'Within Scotland in-migration'!J14","v":2746},{"$f":"'Within Scotland out-migration'!J14","v":2272},{"$f":"'Rest of UK net migration'!J14","v":197},{"$f":"'Rest of UK in-migration'!J14","v":866},{"$f":"'Rest of UK out-migration'!J14","v":669},{"$f":"'Overseas net migration'!J14","v":116},{"$f":"'Overseas in-migration'!J14","v":407},{"$f":"'Overseas out-migration'!J14","v":291},null,{"$f":"NINo!J15","v":280},{"$f":"'Non-UK Births'!J15","v":134},{"$f":"'Pupils ethnic group'!K15","v":331},{"$f":"'Pupils with English as an add.'!H14","v":184},{"$f":"'Pop born outside UK'!J15","v":5000}]
[13,"East Renfrewshire",null,{"$f":"'Total net migration'!J15","v":189},{"$f":"'Total net migration 0-15'!J15","v":315},{"$f":"'Total net migration 16-64'!J15","v":-100},{"$f":"'Total net migration 65+'!J15","v":-26},{"$f":"'Total in-migration'!J15","v":3292},{"$f":"'Total out-migration'!J15","v":3103},{"$f":"'Within Scotland net migration'!J15","v":468},{"$f":"'Within Scotland in-migration'!J15","v":2827},{"$f":"'Within Scotland out-migration'!J15","v":2359},{"$f":"'Rest of UK net migration'!J15","v":-121},{"$f":"'Rest of UK in-migration'!J15","v":389},{"$f":"'Rest of UK out-migration'!J15","v":510},{"$f":"'Overseas net migration'!J15","v":-158},{"$f":"'Overseas in-migration'!J15","v":76},{"$f":"'Overseas out-migration'!J15","v":234},null,{"$f":"NINo!J16","v":80},{"$f":"'Non-UK Births'!J16","v":81},{"$f":"'Pupils ethnic group'!K16","v":2277},{"$f":"'Pupils with English as an add.'!H15","v":868},{"$f":"'Pop born outside UK'!J16","v":"*"}]
[14,"Edinburgh, City of",null,{"$f":"'Total net migration'!J16","v":3966},{"$f":"'Total net migration 0-15'!J16","v":-63},{"$f":"'Total net migration 16-64'!J16","v":4018},{"$f":"'Total net migration 65+'!J16","v":11},{"$f":"'Total in-migration'!J16","v":28837},{"$f":"'Total out-migration'!J16","v":24871},{"$f":"'Within Scotland net migration'!J16","v":-251},{"$f":"'Within Scotland in-migration'!J16","v":11513},{"$f":"'Within Scotland out-migration'!J16","v":11764},{"$f":"'Rest of UK net migration'!J16","v":159},{"$f":"'Rest of UK in-migration'!J16","v":8018},{"$f":"'Rest of UK out-migration'!J16","v":7859},{"$f":"'Overseas net migration'!J16","v":4058},{"$f":"'Overseas in-migration'!J16","v":9306},{"$f":"'Overseas out-migration'!J16","v":5248},null,{"$f":"NINo!J17","v":9710},{"$f":"'Non-UK Births'!J17","v":1652},{"$f":"'Pupils ethnic group'!K17","v":5642},{"$f":"'Pupils with English as an add.'!H16","v":3951},{"$f":"'Pop born outside UK'!J17","v":73000}]
[15,"Eilean Siar",null,{"$f":"'Total net migration'!J17","v":13},{"$f":"'Total net migration 0-15'!J17","v":26},{"$f":"'Total net migration 16-64'!J17","v":-26},{"$f":"'Total net migration 65+'!J17","v":13},{"$f":"'Total in-migration'!J17","v":866},{"$f":"'Total out-migration'!J17","v":853},{"$f":"'Within Scotland net migration'!J17","v":-30},{"$f":"'Within Scotland in-migration'!J17","v":553},{"$f":"'Within Scotland out-migration'!J17","v":583},{"$f":"'Rest of UK net migration'!J17","v":80},{"$f":"'Rest of UK in-migration'!J17","v":269},{"$f":"'Rest of UK out-migration'!J17","v":189},{"$f":"'Overseas net migration'!J17","v":-37},{"$f":"'Overseas in-migration'!J17","v":44},{"$f":"'Overseas out-migration'!J17","v":81},null,{"$f":"NINo!J18","v":50},{"$f":"'Non-UK Births'!J18","v":13},{"$f":"'Pupils ethnic group'!K18","v":59},{"$f":"'Pupils with English as an add.'!H17","v":39},{"$f":"'Pop born outside UK'!J18","v":"*"}]
[16,"Falkirk",null,{"$f":"'Total net migration'!J18","v":356},{"$f":"'Total net migration 0-15'!J18","v":-31},{"$f":"'Total net migration 16-64'!J18","v":346},{"$f":"'Total net migration 65+'!J18","v":41},{"$f":"'Total in-migration'!J18","v":3842},{"$f":"'Total out-migration'!J18","v":3486},{"$f":"'Within Scotland net migration'!J18","v":365},{"$f":"'Within Scotland in-migration'!J18","v":2855},{"$f":"'Within Scotland out-migration'!J18","v":2490},{"$f":"'Rest of UK net migration'!J18","v":20},{"$f":"'Rest of UK in-migration'!J18","v":675},{"$f":"'Rest of UK out-migration'!J18","v":655},{"$f":"'Overseas net migration'!J18","v":-29},{"$f":"'Overseas in-migration'!J18","v":312},{"$f":"'Overseas out-migration'!J18","v":341},null,{"$f":"NINo!J19","v":380},{"$f":"'Non-UK Births'!J19","v":160},{"$f":"'Pupils ethnic group'!K19","v":641},{"$f":"'Pupils with English as an add.'!H18","v":477},{"$f":"'Pop born outside UK'!J19","v":7000}]
[17,"Fife",null,{"$f":"'Total net migration'!J19","v":623},{"$f":"'Total net migration 0-15'!J19","v":62},{"$f":"'Total net migration 16-64'!J19","v":474},{"$f":"'Total net migration 65+'!J19","v":87},{"$f":"'Total in-migration'!J19","v":10741},{"$f":"'Total out-migration'!J19","v":10118},{"$f":"'Within Scotland net migration'!J19","v":198},{"$f":"'Within Scotland in-migration'!J19","v":5926},{"$f":"'Within Scotland out-migration'!J19","v":5728},{"$f":"'Rest of UK net migration'!J19","v":66},{"$f":"'Rest of UK in-migration'!J19","v":2853},{"$f":"'Rest of UK out-migration'!J19","v":2787},{"$f":"'Overseas net migration'!J19","v":359},{"$f":"'Overseas in-migration'!J19","v":1962},{"$f":"'Overseas out-migration'!J19","v":1603},null,{"$f":"NINo!J20","v":1890},{"$f":"'Non-UK Births'!J20","v":402},{"$f":"'Pupils ethnic group'!K20","v":1365},{"$f":"'Pupils with English as an add.'!H19","v":802},{"$f":"'Pop born outside UK'!J20","v":20000}]
[18,"Glasgow City",null,{"$f":"'Total net migration'!J20","v":1146},{"$f":"'Total net migration 0-15'!J20","v":-1069},{"$f":"'Total net migration 16-64'!J20","v":2536},{"$f":"'Total net migration 65+'!J20","v":-321},{"$f":"'Total in-migration'!J20","v":28362},{"$f":"'Total out-migration'!J20","v":27216},{"$f":"'Within Scotland net migration'!J20","v":-2103},{"$f":"'Within Scotland in-migration'!J20","v":14155},{"$f":"'Within Scotland out-migration'!J20","v":16258},{"$f":"'Rest of UK net migration'!J20","v":-291},{"$f":"'Rest of UK in-migration'!J20","v":5657},{"$f":"'Rest of UK out-migration'!J20","v":5948},{"$f":"'Overseas net migration'!J20","v":3540},{"$f":"'Overseas in-migration'!J20","v":8550},{"$f":"'Overseas out-migration'!J20","v":5010},null,{"$f":"NINo!J21","v":6600},{"$f":"'Non-UK Births'!J21","v":1873},{"$f":"'Pupils ethnic group'!K21","v":11073},{"$f":"'Pupils with English as an add.'!H20","v":9702},{"$f":"'Pop born outside UK'!J21","v":86000}]
[19,"Highland",null,{"$f":"'Total net migration'!J21","v":118},{"$f":"'Total net migration 0-15'!J21","v":-28},{"$f":"'Total net migration 16-64'!J21","v":187},{"$f":"'Total net migration 65+'!J21","v":-41},{"$f":"'Total in-migration'!J21","v":7151},{"$f":"'Total out-migration'!J21","v":7033},{"$f":"'Within Scotland net migration'!J21","v":-87},{"$f":"'Within Scotland in-migration'!J21","v":3993},{"$f":"'Within Scotland out-migration'!J21","v":4080},{"$f":"'Rest of UK net migration'!J21","v":380},{"$f":"'Rest of UK in-migration'!J21","v":2397},{"$f":"'Rest of UK out-migration'!J21","v":2017},{"$f":"'Overseas net migration'!J21","v":-175},{"$f":"'Overseas in-migration'!J21","v":761},{"$f":"'Overseas out-migration'!J21","v":936},null,{"$f":"NINo!J22","v":1200},{"$f":"'Non-UK Births'!J22","v":327},{"$f":"'Pupils ethnic group'!K22","v":658},{"$f":"'Pupils with English as an add.'!H21","v":632},{"$f":"'Pop born outside UK'!J22","v":11000}]
[20,"Inverclyde",null,{"$f":"'Total net migration'!J22","v":-305},{"$f":"'Total net migration 0-15'!J22","v":-24},{"$f":"'Total net migration 16-64'!J22","v":-305},{"$f":"'Total net migration 65+'!J22","v":24},{"$f":"'Total in-migration'!J22","v":1325},{"$f":"'Total out-migration'!J22","v":1630},{"$f":"'Within Scotland net migration'!J22","v":-196},{"$f":"'Within Scotland in-migration'!J22","v":890},{"$f":"'Within Scotland out-migration'!J22","v":1086},{"$f":"'Rest of UK net migration'!J22","v":-10},{"$f":"'Rest of UK in-migration'!J22","v":358},{"$f":"'Rest of UK out-migration'!J22","v":368},{"$f":"'Overseas net migration'!J22","v":-99},{"$f":"'Overseas in-migration'!J22","v":77},{"$f":"'Overseas out-migration'!J22","v":176},null,{"$f":"NINo!J23","v":100},{"$f":"'Non-UK Births'!J23","v":27},{"$f":"'Pupils ethnic group'!K23","v":176},{"$f":"'Pupils with English as an add.'!H22","v":53},{"$f":"'Pop born outside UK'!J23","v":"*"}]
[21,"Midlothian",null,{"$f":"'Total net migration'!J23","v":559},{"$f":"'Total net migration 0-15'!J23","v":192},{"$f":"'Total net migration 16-64'!J23","v":343},{"$f":"'Total net migration 65+'!J23","v":24},{"$f":"'Total in-migration'!J23","v":2852},{"$f":"'Total out-migration'!J23","v":2293},{"$f":"'Within Scotland net migration'!J23","v":509},{"$f":"'Within Scotland in-migration'!J23","v":2278},{"$f":"'Within Scotland out-migration'!J23","v":1769},{"$f":"'Rest of UK net migration'!J23","v":26},{"$f":"'Rest of UK in-migration'!J23","v":400},{"$f":"'Rest of UK out-migration'!J23","v":374},{"$f":"'Overseas net migration'!J23","v":24},{"$f":"'Overseas in-migration'!J23","v":174},{"$f":"'Overseas out-migration'!J23","v":150},null,{"$f":"NINo!J24","v":150},{"$f":"'Non-UK Births'!J24","v":100},{"$f":"'Pupils ethnic group'!K24","v":333},{"$f":"'Pupils with English as an add.'!H23","v":184},{"$f":"'Pop born outside UK'!J24","v":"*"}]
[22,"Moray",null,{"$f":"'Total net migration'!J24","v":327},{"$f":"'Total net migration 0-15'!J24","v":180},{"$f":"'Total net migration 16-64'!J24","v":103},{"$f":"'Total net migration 65+'!J24","v":44},{"$f":"'Total in-migration'!J24","v":3412},{"$f":"'Total out-migration'!J24","v":3085},{"$f":"'Within Scotland net migration'!J24","v":-116},{"$f":"'Within Scotland in-migration'!J24","v":1627},{"$f":"'Within Scotland out-migration'!J24","v":1743},{"$f":"'Rest of UK net migration'!J24","v":542},{"$f":"'Rest of UK in-migration'!J24","v":1470},{"$f":"'Rest of UK out-migration'!J24","v":928},{"$f":"'Overseas net migration'!J24","v":-99},{"$f":"'Overseas in-migration'!J24","v":315},{"$f":"'Overseas out-migration'!J24","v":414},null,{"$f":"NINo!J25","v":220},{"$f":"'Non-UK Births'!J25","v":78},{"$f":"'Pupils ethnic group'!K25","v":251},{"$f":"'Pupils with English as an add.'!H24","v":266},{"$f":"'Pop born outside UK'!J25","v":5000}]
[23,"North Ayrshire",null,{"$f":"'Total net migration'!J25","v":-401},{"$f":"'Total net migration 0-15'!J25","v":63},{"$f":"'Total net migration 16-64'!J25","v":-476},{"$f":"'Total net migration 65+'!J25","v":12},{"$f":"'Total in-migration'!J25","v":3497},{"$f":"'Total out-migration'!J25","v":3898},{"$f":"'Within Scotland net migration'!J25","v":-184},{"$f":"'Within Scotland in-migration'!J25","v":2566},{"$f":"'Within Scotland out-migration'!J25","v":2750},{"$f":"'Rest of UK net migration'!J25","v":10},{"$f":"'Rest of UK in-migration'!J25","v":782},{"$f":"'Rest of UK out-migration'!J25","v":772},{"$f":"'Overseas net migration'!J25","v":-227},{"$f":"'Overseas in-migration'!J25","v":149},{"$f":"'Overseas out-migration'!J25","v":376},null,{"$f":"NINo!J26","v":110},{"$f":"'Non-UK Births'!J26","v":64},{"$f":"'Pupils ethnic group'!K26","v":279},{"$f":"'Pupils with English as an add.'!H25","v":101},{"$f":"'Pop born outside UK'!J26","v":"*"}]
[24,"North Lanarkshire",null,{"$f":"'Total net migration'!J26","v":-271},{"$f":"'Total net migration 0-15'!J26","v":79},{"$f":"'Total net migration 16-64'!J26","v":-279},{"$f":"'Total net migration 65+'!J26","v":-71},{"$f":"'Total in-migration'!J26","v":6706},{"$f":"'Total out-migration'!J26","v":6977},{"$f":"'Within Scotland net migration'!J26","v":-106},{"$f":"'Within Scotland in-migration'!J26","v":5024},{"$f":"'Within Scotland out-migration'!J26","v":5130},{"$f":"'Rest of UK net migration'!J26","v":39},{"$f":"'Rest of UK in-migration'!J26","v":1154},{"$f":"'Rest of UK out-migration'!J26","v":1115},{"$f":"'Overseas net migration'!J26","v":-204},{"$f":"'Overseas in-migration'!J26","v":528},{"$f":"'Overseas out-migration'!J26","v":732},null,{"$f":"NINo!J27","v":560},{"$f":"'Non-UK Births'!J27","v":240},{"$f":"'Pupils ethnic group'!K27","v":1622},{"$f":"'Pupils with English as an add.'!H26","v":896},{"$f":"'Pop born outside UK'!J27","v":"*"}]
[25,"Orkney Islands",null,{"$f":"'Total net migration'!J27","v":106},{"$f":"'Total net migration 0-15'!J27","v":40},{"$f":"'Total net migration 16-64'!J27","v":70},{"$f":"'Total net migration 65+'!J27","v":-4},{"$f":"'Total in-migration'!J27","v":735},{"$f":"'Total out-migration'!J27","v":629},{"$f":"'Within Scotland net migration'!J27","v":44},{"$f":"'Within Scotland in-migration'!J27","v":414},{"$f":"'Within Scotland out-migration'!J27","v":370},{"$f":"'Rest of UK net migration'!J27","v":95},{"$f":"'Rest of UK in-migration'!J27","v":283},{"$f":"'Rest of UK out-migration'!J27","v":188},{"$f":"'Overseas net migration'!J27","v":-33},{"$f":"'Overseas in-migration'!J27","v":38},{"$f":"'Overseas out-migration'!J27","v":71},null,{"$f":"NINo!J28","v":40},{"$f":"'Non-UK Births'!J28","v":11},{"$f":"'Pupils ethnic group'!K28","v":39},{"$f":"'Pupils with English as an add.'!H27","v":16},{"$f":"'Pop born outside UK'!J28","v":"*"}]
[26,"Perth & Kinross",null,{"$f":"'Total net migration'!J28","v":980},{"$f":"'Total net migration 0-15'!J28","v":306},{"$f":"'Total net migration 16-64'!J28","v":644},{"$f":"'Total net migration 65+'!J28","v":30},{"$f":"'Total in-migration'!J28","v":6392},{"$f":"'Total out-migration'!J28","v":5412},{"$f":"'Within Scotland net migration'!J28","v":309},{"$f":"'Within Scotland in-migration'!J28","v":3683},{"$f":"'Within Scotland out-migration'!J28","v":3374},{"$f":"'Rest of UK net migration'!J28","v":219},{"$f":"'Rest of UK in-migration'!J28","v":1325},{"$f":"'Rest of UK out-migration'!J28","v":1106},{"$f":"'Overseas net migration'!J28","v":452},{"$f":"'Overseas in-migration'!J28","v":1384},{"$f":"'Overseas out-migration'!J28","v":932},null,{"$f":"NINo!J29","v":2160},{"$f":"'Non-UK Births'!J29","v":201},{"$f":"'Pupils ethnic group'!K29","v":523},{"$f":"'Pupils with English as an add.'!H28","v":519},{"$f":"'Pop born outside UK'!J29","v":10000}]
[27,"Renfrewshire",null,{"$f":"'Total net migration'!J29","v":-395},{"$f":"'Total net migration 0-15'!J29","v":-66},{"$f":"'Total net migration 16-64'!J29","v":-323},{"$f":"'Total net migration 65+'!J29","v":-6},{"$f":"'Total in-migration'!J29","v":4343},{"$f":"'Total out-migration'!J29","v":4738},{"$f":"'Within Scotland net migration'!J29","v":-269},{"$f":"'Within Scotland in-migration'!J29","v":3219},{"$f":"'Within Scotland out-migration'!J29","v":3488},{"$f":"'Rest of UK net migration'!J29","v":-42},{"$f":"'Rest of UK in-migration'!J29","v":696},{"$f":"'Rest of UK out-migration'!J29","v":738},{"$f":"'Overseas net migration'!J29","v":-84},{"$f":"'Overseas in-migration'!J29","v":428},{"$f":"'Overseas out-migration'!J29","v":512},null,{"$f":"NINo!J30","v":450},{"$f":"'Non-UK Births'!J30","v":183},{"$f":"'Pupils ethnic group'!K30","v":837},{"$f":"'Pupils with English as an add.'!H29","v":323},{"$f":"'Pop born outside UK'!J30","v":9000}]
[28,"Scottish Borders",null,{"$f":"'Total net migration'!J30","v":45},{"$f":"'Total net migration 0-15'!J30","v":58},{"$f":"'Total net migration 16-64'!J30","v":13},{"$f":"'Total net migration 65+'!J30","v":-26},{"$f":"'Total in-migration'!J30","v":3992},{"$f":"'Total out-migration'!J30","v":3947},{"$f":"'Within Scotland net migration'!J30","v":-79},{"$f":"'Within Scotland in-migration'!J30","v":2109},{"$f":"'Within Scotland out-migration'!J30","v":2188},{"$f":"'Rest of UK net migration'!J30","v":190},{"$f":"'Rest of UK in-migration'!J30","v":1500},{"$f":"'Rest of UK out-migration'!J30","v":1310},{"$f":"'Overseas net migration'!J30","v":-66},{"$f":"'Overseas in-migration'!J30","v":383},{"$f":"'Overseas out-migration'!J30","v":449},null,{"$f":"NINo!J31","v":330},{"$f":"'Non-UK Births'!J31","v":135},{"$f":"'Pupils ethnic group'!K31","v":321},{"$f":"'Pupils with English as an add.'!H30","v":347},{"$f":"'Pop born outside UK'!J31","v":5000}]
[29,"Shetland Islands",null,{"$f":"'Total net migration'!J31","v":-68},{"$f":"'Total net migration 0-15'!J31","v":-27},{"$f":"'Total net migration 16-64'!J31","v":-59},{"$f":"'Total net migration 65+'!J31","v":18},{"$f":"'Total in-migration'!J31","v":666},{"$f":"'Total out-migration'!J31","v":734},{"$f":"'Within Scotland net migration'!J31","v":-104},{"$f":"'Within Scotland in-migration'!J31","v":321},{"$f":"'Within Scotland out-migration'!J31","v":425},{"$f":"'Rest of UK net migration'!J31","v":34},{"$f":"'Rest of UK in-migration'!J31","v":254},{"$f":"'Rest of UK out-migration'!J31","v":220},{"$f":"'Overseas net migration'!J31","v":2},{"$f":"'Overseas in-migration'!J31","v":91},{"$f":"'Overseas out-migration'!J31","v":89},null,{"$f":"NINo!J32","v":100},{"$f":"'Non-UK Births'!J32","v":21},{"$f":"'Pupils ethnic group'!K32","v":88},{"$f":"'Pupils with English as an add.'!H31","v":33},{"$f":"'Pop born outside UK'!J32","v":"*"}]
[30,"South Ayrshire",null,{"$f":"'Total net migration'!J32","v":357},{"$f":"'Total net migration 0-15'!J32","v":104},{"$f":"'Total net migration 16-64'!J32","v":155},{"$f":"'Total net migration 65+'!J32","v":98},{"$f":"'Total in-migration'!J32","v":3595},{"$f":"'Total out-migration'!J32","v":3238},{"$f":"'Within Scotland net migration'!J32","v":297},{"$f":"'Within Scotland in-migration'!J32","v":2515},{"$f":"'Within Scotland out-migration'!J32","v":2218},{"$f":"'Rest of UK net migration'!J32","v":160},{"$f":"'Rest of UK in-migration'!J32","v":839},{"$f":"'Rest of UK out-migration'!J32","v":679},{"$f":"'Overseas net migration'!J32","v":-100},{"$f":"'Overseas in-migration'!J32","v":241},{"$f":"'Overseas out-migration'!J32","v":341},null,{"$f":"NINo!J33","v":200},{"$f":"'Non-UK Births'!J33","v":67},{"$f":"'Pupils ethnic group'!K33","v":294},{"$f":"'Pupils with English as an add.'!H32","v":149},{"$f":"'Pop born outside UK'!J33","v":"*"}]
[31,"South Lanarkshire",null,{"$f":"'Total net migration'!J33","v":408},{"$f":"'Total net migration 0-15'!J33","v":250},{"$f":"'Total net migration 16-64'!J33","v":49},{"$f":"'Total net migration 65+'!J33","v":109},{"$f":"'Total in-migration'!J33","v":8171},{"$f":"'Total out-migration'!J33","v":7763},{"$f":"'Within Scotland net migration'!J33","v":661},{"$f":"'Within Scotland in-migration'!J33","v":6301},{"$f":"'Within Scotland out-migration'!J33","v":5640},{"$f":"'Rest of UK net migration'!J33","v":68},{"$f":"'Rest of UK in-migration'!J33","v":1421},{"$f":"'Rest of UK out-migration'!J33","v":1353},{"$f":"'Overseas net migration'!J33","v":-321},{"$f":"'Overseas in-migration'!J33","v":449},{"$f":"'Overseas out-migration'!J33","v":770},null,{"$f":"NINo!J34","v":370},{"$f":"'Non-UK Births'!J34","v":197},{"$f":"'Pupils ethnic group'!K34","v":1449},{"$f":"'Pupils with English as an add.'!H33","v":510},{"$f":"'Pop born outside UK'!J34","v":"*"}]
[32,"Stirling",null,{"$f":"'Total net migration'!J34","v":774},{"$f":"'Total net migration 0-15'!J34","v":276},{"$f":"'Total net migration 16-64'!J34","v":530},{"$f":"'Total net migration 65+'!J34","v":-32},{"$f":"'Total in-migration'!J34","v":5208},{"$f":"'Total out-migration'!J34","v":4434},{"$f":"'Within Scotland net migration'!J34","v":212},{"$f":"'Within Scotland in-migration'!J34","v":3151},{"$f":"'Within Scotland out-migration'!J34","v":2939},{"$f":"'Rest of UK net migration'!J34","v":147},{"$f":"'Rest of UK in-migration'!J34","v":1003},{"$f":"'Rest of UK out-migration'!J34","v":856},{"$f":"'Overseas net migration'!J34","v":415},{"$f":"'Overseas in-migration'!J34","v":1054},{"$f":"'Overseas out-migration'!J34","v":639},null,{"$f":"NINo!J35","v":490},{"$f":"'Non-UK Births'!J35","v":80},{"$f":"'Pupils ethnic group'!K35","v":423},{"$f":"'Pupils with English as an add.'!H34","v":209},{"$f":"'Pop born outside UK'!J35","v":7000}]
[33,"West Dunbartonshire",null,{"$f":"'Total net migration'!J35","v":-280},{"$f":"'Total net migration 0-15'!J35","v":-39},{"$f":"'Total net migration 16-64'!J35","v":-164},{"$f":"'Total net migration 65+'!J35","v":-77},{"$f":"'Total in-migration'!J35","v":2143},{"$f":"'Total out-migration'!J35","v":2423},{"$f":"'Within Scotland net migration'!J35","v":-252},{"$f":"'Within Scotland in-migration'!J35","v":1654},{"$f":"'Within Scotland out-migration'!J35","v":1906},{"$f":"'Rest of UK net migration'!J35","v":30},{"$f":"'Rest of UK in-migration'!J35","v":377},{"$f":"'Rest of UK out-migration'!J35","v":347},{"$f":"'Overseas net migration'!J35","v":-58},{"$f":"'Overseas in-migration'!J35","v":112},{"$f":"'Overseas out-migration'!J35","v":170},null,{"$f":"NINo!J36","v":100},{"$f":"'Non-UK Births'!J36","v":44},{"$f":"'Pupils ethnic group'!K36","v":292},{"$f":"'Pupils with English as an add.'!H35","v":155},{"$f":"'Pop born outside UK'!J36","v":"*"}]
[34,"West Lothian",null,{"$f":"'Total net migration'!J36","v":154},{"$f":"'Total net migration 0-15'!J36","v":37},{"$f":"'Total net migration 16-64'!J36","v":88},{"$f":"'Total net migration 65+'!J36","v":29},{"$f":"'Total in-migration'!J36","v":4906},{"$f":"'Total out-migration'!J36","v":4752},{"$f":"'Within Scotland net migration'!J36","v":-101},{"$f":"'Within Scotland in-migration'!J36","v":3263},{"$f":"'Within Scotland out-migration'!J36","v":3364},{"$f":"'Rest of UK net migration'!J36","v":-6},{"$f":"'Rest of UK in-migration'!J36","v":900},{"$f":"'Rest of UK out-migration'!J36","v":906},{"$f":"'Overseas net migration'!J36","v":261},{"$f":"'Overseas in-migration'!J36","v":743},{"$f":"'Overseas out-migration'!J36","v":482},null,{"$f":"NINo!J37","v":830},{"$f":"'Non-UK Births'!J37","v":307},{"$f":"'Pupils ethnic group'!K37","v":1003},{"$f":"'Pupils with English as an add.'!H36","v":710},{"$f":"'Pop born outside UK'!J37","v":11000}]
[]
[35,"Not specified"]
[36,"SCOTLAND",null,{"$f":"'Total net migration'!J39","v":12738},{"$f":"'Total net migration 0-15'!J4","v":1637},{"$f":"'Total net migration 16-64'!J39","v":11462},{"$f":"'Total net migration 65+'!J39","v":-361},{"$f":"'Total in-migration'!J39","v":81016},{"$f":"'Total out-migration'!J39","v":68278},null,null,null,{"$f":"'Rest of UK net migration'!J39","v":3038},{"$f":"'Rest of UK in-migration'!J39","v":45116},{"$f":"'Rest of UK out-migration'!J39","v":42078},{"$f":"'Overseas net migration'!J39","v":9700},{"$f":"'Overseas in-migration'!J39","v":35900},{"$f":"'Overseas out-migration'!J39","v":26200},null,null,{"$f":"'Non-UK Births'!J40","v":8439},null,null,null,{"$f":"'NHS Overseas'!$J$5","v":49672}]
[37,"Ayrshire & Arran",null,{"$f":"'Total net migration'!J40","v":-120},{"$f":"'Total net migration 0-15'!J40","v":200},{"$f":"'Total net migration 16-64'!J40","v":-414},{"$f":"'Total net migration 65+'!J40","v":94},{"$f":"'Total in-migration'!J40","v":7686},{"$f":"'Total out-migration'!J40","v":7806},{"$f":"'Within Scotland net migration'!J40","v":46},{"$f":"'Within Scotland in-migration'!J40","v":4862},{"$f":"'Within Scotland out-migration'!J40","v":4816},{"$f":"'Rest of UK net migration'!J40","v":294},{"$f":"'Rest of UK in-migration'!J40","v":2321},{"$f":"'Rest of UK out-migration'!J40","v":2027},{"$f":"'Overseas net migration'!J40","v":-460},{"$f":"'Overseas in-migration'!J40","v":503},{"$f":"'Overseas out-migration'!J40","v":963},null,null,{"$f":"'Non-UK Births'!J41","v":183}]
[38,"Borders",null,{"$f":"'Total net migration'!J41","v":45},{"$f":"'Total net migration 0-15'!J41","v":58},{"$f":"'Total net migration 16-64'!J41","v":13},{"$f":"'Total net migration 65+'!J41","v":-26},{"$f":"'Total in-migration'!J41","v":3992},{"$f":"'Total out-migration'!J41","v":3947},{"$f":"'Within Scotland net migration'!J41","v":-79},{"$f":"'Within Scotland in-migration'!J41","v":2109},{"$f":"'Within Scotland out-migration'!J41","v":2188},{"$f":"'Rest of UK net migration'!J41","v":190},{"$f":"'Rest of UK in-migration'!J41","v":1500},{"$f":"'Rest of UK out-migration'!J41","v":1310},{"$f":"'Overseas net migration'!J41","v":-66},{"$f":"'Overseas in-migration'!J41","v":383},{"$f":"'Overseas out-migration'!J41","v":449},null,null,{"$f":"'Non-UK Births'!J42","v":135}]
[39,"Dumfries & Galloway",null,{"$f":"'Total net migration'!J42","v":-128},{"$f":"'Total net migration 0-15'!J42","v":-17},{"$f":"'Total net migration 16-64'!J42","v":-75},{"$f":"'Total net migration 65+'!J42","v":-36},{"$f":"'Total in-migration'!J42","v":3835},{"$f":"'Total out-migration'!J42","v":3963},{"$f":"'Within Scotland net migration'!J42","v":-170},{"$f":"'Within Scotland in-migration'!J42","v":1719},{"$f":"'Within Scotland out-migration'!J42","v":1889},{"$f":"'Rest of UK net migration'!J42","v":322},{"$f":"'Rest of UK in-migration'!J42","v":1872},{"$f":"'Rest of UK out-migration'!J42","v":1550},{"$f":"'Overseas net migration'!J42","v":-280},{"$f":"'Overseas in-migration'!J42","v":244},{"$f":"'Overseas out-migration'!J42","v":524},null,null,{"$f":"'Non-UK Births'!J43","v":90}]
[40,"Fife",null,{"$f":"'Total net migration'!J43","v":623},{"$f":"'Total net migration 0-15'!J43","v":62},{"$f":"'Total net migration 16-64'!J43","v":474},{"$f":"'Total net migration 65+'!J43","v":87},{"$f":"'Total in-migration'!J43","v":10741},{"$f":"'Total out-migration'!J43","v":10118},{"$f":"'Within Scotland net migration'!J43","v":198},{"$f":"'Within Scotland in-migration'!J43","v":5926},{"$f":"'Within Scotland out-migration'!J43","v":5728},{"$f":"'Rest of UK net migration'!J43","v":66},{"$f":"'Rest of UK in-migration'!J43","v":2853},{"$f":"'Rest of UK out-migration'!J43","v":2787},{"$f":"'Overseas net migration'!J43","v":359},{"$f":"'Overseas in-migration'!J43","v":1962},{"$f":"'Overseas out-migration'!J43","v":1603},null,null,{"$f":"'Non-UK Births'!J44","v":402}]
[41,"Forth Valley",null,{"$f":"'Total net migration'!J44","v":874},{"$f":"'Total net migration 0-15'!J44","v":143},{"$f":"'Total net migration 16-64'!J44","v":678},{"$f":"'Total net migration 65+'!J44","v":53},{"$f":"'Total in-migration'!J44","v":9110},{"$f":"'Total out-migration'!J44","v":8236},{"$f":"'Within Scotland net migration'!J44","v":329},{"$f":"'Within Scotland in-migration'!J44","v":5614},{"$f":"'Within Scotland out-migration'!J44","v":5285},{"$f":"'Rest of UK net migration'!J44","v":208},{"$f":"'Rest of UK in-migration'!J44","v":2014},{"$f":"'Rest of UK out-migration'!J44","v":1806},{"$f":"'Overseas net migration'!J44","v":337},{"$f":"'Overseas in-migration'!J44","v":1482},{"$f":"'Overseas out-migration'!J44","v":1145},null,null,{"$f":"'Non-UK Births'!J45","v":290}]
[42,"Grampian",null,{"$f":"'Total net migration'!J45","v":3560},{"$f":"'Total net migration 0-15'!J45","v":777},{"$f":"'Total net migration 16-64'!J45","v":3014},{"$f":"'Total net migration 65+'!J45","v":-231},{"$f":"'Total in-migration'!J45","v":19260},{"$f":"'Total out-migration'!J45","v":15700},{"$f":"'Within Scotland net migration'!J45","v":603},{"$f":"'Within Scotland in-migration'!J45","v":7668},{"$f":"'Within Scotland out-migration'!J45","v":7065},{"$f":"'Rest of UK net migration'!J45","v":745},{"$f":"'Rest of UK in-migration'!J45","v":5801},{"$f":"'Rest of UK out-migration'!J45","v":5056},{"$f":"'Overseas net migration'!J45","v":2212},{"$f":"'Overseas in-migration'!J45","v":5791},{"$f":"'Overseas out-migration'!J45","v":3579},null,null,{"$f":"'Non-UK Births'!J46","v":1372}]
[43,"Greater Glasgow & Clyde",null,{"$f":"'Total net migration'!J46","v":615},{"$f":"'Total net migration 0-15'!J46","v":-476},{"$f":"'Total net migration 16-64'!J46","v":1487},{"$f":"'Total net migration 65+'!J46","v":-396},{"$f":"'Total in-migration'!J46","v":32117},{"$f":"'Total out-migration'!J46","v":31502},{"$f":"'Within Scotland net migration'!J46","v":-1982},{"$f":"'Within Scotland in-migration'!J46","v":14824},{"$f":"'Within Scotland out-migration'!J46","v":16806},{"$f":"'Rest of UK net migration'!J46","v":-453},{"$f":"'Rest of UK in-migration'!J46","v":7939},{"$f":"'Rest of UK out-migration'!J46","v":8392},{"$f":"'Overseas net migration'!J46","v":3050},{"$f":"'Overseas in-migration'!J46","v":9354},{"$f":"'Overseas out-migration'!J46","v":6304},null,null,{"$f":"'Non-UK Births'!J47","v":2287}]
[44,"Highland",null,{"$f":"'Total net migration'!J47","v":-115},{"$f":"'Total net migration 0-15'!J47","v":-65},{"$f":"'Total net migration 16-64'!J47","v":59},{"$f":"'Total net migration 65+'!J47","v":-109},{"$f":"'Total in-migration'!J47","v":10646},{"$f":"'Total out-migration'!J47","v":10761},{"$f":"'Within Scotland net migration'!J47","v":-420},{"$f":"'Within Scotland in-migration'!J47","v":5875},{"$f":"'Within Scotland out-migration'!J47","v":6295},{"$f":"'Rest of UK net migration'!J47","v":651},{"$f":"'Rest of UK in-migration'!J47","v":3706},{"$f":"'Rest of UK out-migration'!J47","v":3055},{"$f":"'Overseas net migration'!J47","v":-346},{"$f":"'Overseas in-migration'!J47","v":1065},{"$f":"'Overseas out-migration'!J47","v":1411},null,null,{"$f":"'Non-UK Births'!J48","v":405}]
[45,"Lanarkshire",null,{"$f":"'Total net migration'!J48","v":137},{"$f":"'Total net migration 0-15'!J48","v":329},{"$f":"'Total net migration 16-64'!J48","v":-230},{"$f":"'Total net migration 65+'!J48","v":38},{"$f":"'Total in-migration'!J48","v":12718},{"$f":"'Total out-migration'!J48","v":12581},{"$f":"'Within Scotland net migration'!J48","v":555},{"$f":"'Within Scotland in-migration'!J48","v":9166},{"$f":"'Within Scotland out-migration'!J48","v":8611},{"$f":"'Rest of UK net migration'!J48","v":107},{"$f":"'Rest of UK in-migration'!J48","v":2575},{"$f":"'Rest of UK out-migration'!J48","v":2468},{"$f":"'Overseas net migration'!J48","v":-525},{"$f":"'Overseas in-migration'!J48","v":977},{"$f":"'Overseas out-migration'!J48","v":1502},null,null,{"$f":"'Non-UK Births'!J49","v":437}]
[46,"Lothian",null,{"$f":"'Total net migration'!J49","v":5466},{"$f":"'Total net migration 0-15'!J49","v":379},{"$f":"'Total net migration 16-64'!J49","v":4960},{"$f":"'Total net migration 65+'!J49","v":127},{"$f":"'Total in-migration'!J49","v":33359},{"$f":"'Total out-migration'!J49","v":27893},{"$f":"'Within Scotland net migration'!J49","v":631},{"$f":"'Within Scotland in-migration'!J49","v":12545},{"$f":"'Within Scotland out-migration'!J49","v":11914},{"$f":"'Rest of UK net migration'!J49","v":376},{"$f":"'Rest of UK in-migration'!J49","v":10184},{"$f":"'Rest of UK out-migration'!J49","v":9808},{"$f":"'Overseas net migration'!J49","v":4459},{"$f":"'Overseas in-migration'!J49","v":10630},{"$f":"'Overseas out-migration'!J49","v":6171},null,null,{"$f":"'Non-UK Births'!J50","v":2193}]
[47,"Orkney",null,{"$f":"'Total net migration'!J50","v":106},{"$f":"'Total net migration 0-15'!J50","v":40},{"$f":"'Total net migration 16-64'!J50","v":70},{"$f":"'Total net migration 65+'!J50","v":-4},{"$f":"'Total in-migration'!J50","v":735},{"$f":"'Total out-migration'!J50","v":629},{"$f":"'Within Scotland net migration'!J50","v":44},{"$f":"'Within Scotland in-migration'!J50","v":414},{"$f":"'Within Scotland out-migration'!J50","v":370},{"$f":"'Rest of UK net migration'!J50","v":95},{"$f":"'Rest of UK in-migration'!J50","v":283},{"$f":"'Rest of UK out-migration'!J50","v":188},{"$f":"'Overseas net migration'!J50","v":-33},{"$f":"'Overseas in-migration'!J50","v":38},{"$f":"'Overseas out-migration'!J50","v":71},null,null,{"$f":"'Non-UK Births'!J51","v":11}]
[48,"Shetland",null,{"$f":"'Total net migration'!J51","v":-68},{"$f":"'Total net migration 0-15'!J51","v":-27},{"$f":"'Total net migration 16-64'!J51","v":-59},{"$f":"'Total net migration 65+'!J51","v":18},{"$f":"'Total in-migration'!J51","v":666},{"$f":"'Total out-migration'!J51","v":734},{"$f":"'Within Scotland net migration'!J51","v":-104},{"$f":"'Within Scotland in-migration'!J51","v":321},{"$f":"'Within Scotland out-migration'!J51","v":425},{"$f":"'Rest of UK net migration'!J51","v":34},{"$f":"'Rest of UK in-migration'!J51","v":254},{"$f":"'Rest of UK out-migration'!J51","v":220},{"$f":"'Overseas net migration'!J51","v":2},{"$f":"'Overseas in-migration'!J51","v":91},{"$f":"'Overseas out-migration'!J51","v":89},null,null,{"$f":"'Non-UK Births'!J52","v":21}]
[49,"Tayside",null,{"$f":"'Total net migration'!J52","v":1730},{"$f":"'Total net migration 0-15'!J52","v":208},{"$f":"'Total net migration 16-64'!J52","v":1511},{"$f":"'Total net migration 65+'!J52","v":11},{"$f":"'Total in-migration'!J52","v":14011},{"$f":"'Total out-migration'!J52","v":12281},{"$f":"'Within Scotland net migration'!J52","v":379},{"$f":"'Within Scotland in-migration'!J52","v":7130},{"$f":"'Within Scotland out-migration'!J52","v":6751},{"$f":"'Rest of UK net migration'!J52","v":323},{"$f":"'Rest of UK in-migration'!J52","v":3545},{"$f":"'Rest of UK out-migration'!J52","v":3222},{"$f":"'Overseas net migration'!J52","v":1028},{"$f":"'Overseas in-migration'!J52","v":3336},{"$f":"'Overseas out-migration'!J52","v":2308},null,null,{"$f":"'Non-UK Births'!J53","v":600}]
[50,"Western Isles",null,{"$f":"'Total net migration'!J53","v":13},{"$f":"'Total net migration 0-15'!J53","v":26},{"$f":"'Total net migration 16-64'!J53","v":-26},{"$f":"'Total net migration 65+'!J53","v":13},{"$f":"'Total in-migration'!J53","v":866},{"$f":"'Total out-migration'!J53","v":853},{"$f":"'Within Scotland net migration'!J53","v":-30},{"$f":"'Within Scotland in-migration'!J53","v":553},{"$f":"'Within Scotland out-migration'!J53","v":583},{"$f":"'Rest of UK net migration'!J53","v":80},{"$f":"'Rest of UK in-migration'!J53","v":269},{"$f":"'Rest of UK out-migration'!J53","v":189},{"$f":"'Overseas net migration'!J53","v":-37},{"$f":"'Overseas in-migration'!J53","v":44},{"$f":"'Overseas out-migration'!J53","v":81},null,null,{"$f":"'Non-UK Births'!J54","v":13}]

{"sheet":"2012 Rate","index":52,"n_rows":53,"n_cols":27,"rows_kept":53,"cut":false,"hidden":true,"merged":[]}
[null,2012,"RATE"]
[null,null,"Not specified ",{"$f":"'Comparing Indicators'!$U8","v":"Total net migration"},{"$f":"'Comparing Indicators'!$U9","v":"Total net migration for ages 0-15"},{"$f":"'Comparing Indicators'!$U10","v":"Total net migration for ages 16-64"},{"$f":"'Comparing Indicators'!$U11","v":"Total net migration for people aged 65+"},{"$f":"'Comparing Indicators'!$U12","v":"Total in-migration"},{"$f":"'Comparing Indicators'!$U13","v":"Total out-migration"},{"$f":"'Comparing Indicators'!$U14","v":"Within Scotland net migration"},{"$f":"'Comparing Indicators'!$U15","v":"Within Scotland in-migration"},{"$f":"'Comparing Indicators'!$U16","v":"Within Scotland out-migration"},{"$f":"'Comparing Indicators'!$U17","v":"Rest of UK net migration"},{"$f":"'Comparing Indicators'!$U18","v":"Rest of UK in-migration"},{"$f":"'Comparing Indicators'!$U19","v":"Rest of UK out-migration"},{"$f":"'Comparing Indicators'!$U20","v":"Overseas net migration"},{"$f":"'Comparing Indicators'!$U21","v":"Overseas in-migration"},{"$f":"'Comparing Indicators'!$U22","v":"Overseas out-migration"},{"$f":"'Comparing Indicators'!$U23","v":"Worker Registration Scheme"},{"$f":"'Comparing Indicators'!$U24","v":"NINo Allocation"},{"$f":"'Comparing Indicators'!$U25","v":"Births to non-UK mothers"},{"$f":"'Comparing Indicators'!$U26","v":"Pupils from a minority ethnic group"},{"$f":"'Comparing Indicators'!$U27","v":"Pupils with English as an additional language"},{"$f":"'Comparing Indicators'!$U28","v":"Estimate of resident population born outside the UK"},"NHS registrations from overseas",null,"Mid-year population estimate"]
[1,"Not specified"]
[2,"SCOTLAND",null,{"$f":"('2012'!D4/'2012 Rate'!$AA4)*1000","v":2.3972448057813911},{"$f":"('2012'!E4/'2012 Rate'!$AA4)*1000","v":0.30807738632941883},{"$f":"('2012'!F4/'2012 Rate'!$AA4)*1000","v":2.157106293285155},{"$f":"('2012'!G4/'2012 Rate'!$AA4)*1000","v":-6.793887383318277E-2},{"$f":"('2012'!H4/'2012 Rate'!$AA4)*1000","v":15.246913580246915},{"$f":"('2012'!I4/'2012 Rate'!$AA4)*1000","v":12.849668774465522},null,null,null,{"$f":"('2012'!M4/'2012 Rate'!$AA4)*1000","v":0.57174043962661847},{"$f":"('2012'!N4/'2012 Rate'!$AA4)*1000","v":8.4906654622101776},{"$f":"('2012'!O4/'2012 Rate'!$AA4)*1000","v":7.9189250225835588},{"$f":"('2012'!P4/'2012 Rate'!$AA4)*1000","v":1.8255043661547727},{"$f":"('2012'!Q4/'2012 Rate'!$AA4)*1000","v":6.7562481180367362},{"$f":"('2012'!R4/'2012 Rate'!$AA4)*1000","v":4.9307437518819635},null,{"$f":"('2012'!T4/'2012 Rate'!$AA4)*1000","v":6.5586419753086416},{"$f":"('2012'!U4/'2012 Rate'!$AA4)*1000","v":1.5881887985546523},{"$f":"('2012'!V4/'2012 Rate'!$AA4)*1000","v":6.9276949713941587},{"$f":"('2012'!W4/'2012 Rate'!$AA4)*1000","v":4.9177582053598314},{"$f":"IF('2012'!X4=\"*\",\"\",('2012'!X4/'2012 Rate'!$AA4)*1000)","v":70.573622402890692},{"$f":"('2012'!Y4/'2012 Rate'!$AA4)*1000","v":9.3480879253236981},"Scotland",{"$f":"'Population estimates'!J4","v":5313600}]
[3,"Aberdeen City",null,{"$f":"('2012'!D5/'2012 Rate'!$AA5)*1000","v":8.2121737583922467},{"$f":"('2012'!E5/'2012 Rate'!$AA5)*1000","v":0.17784891734471567},{"$f":"('2012'!F5/'2012 Rate'!$AA5)*1000","v":8.8346449690987505},{"$f":"('2012'!G5/'2012 Rate'!$AA5)*1000","v":-0.80032012805122055},{"$f":"('2012'!H5/'2012 Rate'!$AA5)*1000","v":60.699835489751457},{"$f":"('2012'!I5/'2012 Rate'!$AA5)*1000","v":52.487661731359211},{"$f":"('2012'!J5/'2012 Rate'!$AA5)*1000","v":-1.5828553643679695},{"$f":"('2012'!K5/'2012 Rate'!$AA5)*1000","v":29.843048330443288},{"$f":"('2012'!L5/'2012 Rate'!$AA5)*1000","v":31.425903694811254},{"$f":"('2012'!M5/'2012 Rate'!$AA5)*1000","v":0.44906851629540706},{"$f":"('2012'!N5/'2012 Rate'!$AA5)*1000","v":11.231159130318796},{"$f":"('2012'!O5/'2012 Rate'!$AA5)*1000","v":10.782090614023387},{"$f":"('2012'!P5/'2012 Rate'!$AA5)*1000","v":9.3459606064648071},{"$f":"('2012'!Q5/'2012 Rate'!$AA5)*1000","v":19.625628028989372},{"$f":"('2012'!R5/'2012 Rate'!$AA5)*1000","v":10.279667422524565},null,{"$f":"('2012'!T5/'2012 Rate'!$AA5)*1000","v":18.273976257169533},{"$f":"('2012'!U5/'2012 Rate'!$AA5)*1000","v":4.0505090925258989},{"$f":"('2012'!V5/'2012 Rate'!$AA5)*1000","v":9.9284158107687528},{"$f":"('2012'!W5/'2012 Rate'!$AA5)*1000","v":7.1228491396558624},{"$f":"IF('2012'!X5=\"*\",\"\",('2012'!X5/'2012 Rate'!$AA5)*1000)","v":146.72535680939041},null,"Aberdeen City",{"$f":"'Population estimates'!J5","v":224910}]
[4,"Aberdeenshire",null,{"$f":"('2012'!D6/'2012 Rate'!$AA6)*1000","v":5.4233839411488489},{"$f":"('2012'!E6/'2012 Rate'!$AA6)*1000","v":2.1795273125684766},{"$f":"('2012'!F6/'2012 Rate'!$AA6)*1000","v":3.6155892940992329},{"$f":"('2012'!G6/'2012 Rate'!$AA6)*1000","v":-0.37173266551886058},{"$f":"('2012'!H6/'2012 Rate'!$AA6)*1000","v":35.459383315072785},{"$f":"('2012'!I6/'2012 Rate'!$AA6)*1000","v":30.035999373923932},{"$f":"('2012'!J6/'2012 Rate'!$AA6)*1000","v":4.2064485835028957},{"$f":"('2012'!K6/'2012 Rate'!$AA6)*1000","v":24.240882767256224},{"$f":"('2012'!L6/'2012 Rate'!$AA6)*1000","v":20.034434183753326},{"$f":"('2012'!M6/'2012 Rate'!$AA6)*1000","v":0.3991234935044608},{"$f":"('2012'!N6/'2012 Rate'!$AA6)*1000","v":7.0629206448583499},{"$f":"('2012'!O6/'2012 Rate'!$AA6)*1000","v":6.6637971513538892},{"$f":"('2012'!P6/'2012 Rate'!$AA6)*1000","v":0.81781186414149321},{"$f":"('2012'!Q6/'2012 Rate'!$AA6)*1000","v":4.1555799029582099},{"$f":"('2012'!R6/'2012 Rate'!$AA6)*1000","v":3.3377680388167166},null,{"$f":"('2012'!T6/'2012 Rate'!$AA6)*1000","v":5.0477383002034744},{"$f":"('2012'!U6/'2012 Rate'!$AA6)*1000","v":1.4986695883549852},{"$f":"('2012'!V6/'2012 Rate'!$AA6)*1000","v":2.9308185944592267},{"$f":"('2012'!W6/'2012 Rate'!$AA6)*1000","v":4.124276099546095},{"$f":"IF('2012'!X6=\"*\",\"\",('2012'!X6/'2012 Rate'!$AA6)*1000)","v":54.7816559712005},null,"Aberdeenshire",{"$f":"'Population estimates'!J6","v":255560}]
[5,"Angus",null,{"$f":"('2012'!D7/'2012 Rate'!$AA7)*1000","v":2.219927723283428},{"$f":"('2012'!E7/'2012 Rate'!$AA7)*1000","v":0.2839442436757873},{"$f":"('2012'!F7/'2012 Rate'!$AA7)*1000","v":1.1787988298055412},{"$f":"('2012'!G7/'2012 Rate'!$AA7)*1000","v":0.75718464980209943},{"$f":"('2012'!H7/'2012 Rate'!$AA7)*1000","v":33.815178110480126},{"$f":"('2012'!I7/'2012 Rate'!$AA7)*1000","v":31.595250387196696},{"$f":"('2012'!J7/'2012 Rate'!$AA7)*1000","v":1.7036654620547238},{"$f":"('2012'!K7/'2012 Rate'!$AA7)*1000","v":24.204095680605747},{"$f":"('2012'!L7/'2012 Rate'!$AA7)*1000","v":22.500430218551024},{"$f":"('2012'!M7/'2012 Rate'!$AA7)*1000","v":0.42161418000344175},{"$f":"('2012'!N7/'2012 Rate'!$AA7)*1000","v":6.4360695233178458},{"$f":"('2012'!O7/'2012 Rate'!$AA7)*1000","v":6.0144553433144043},{"$f":"('2012'!P7/'2012 Rate'!$AA7)*1000","v":9.4648081225262429E-2},{"$f":"('2012'!Q7/'2012 Rate'!$AA7)*1000","v":3.1750129065565309},{"$f":"('2012'!R7/'2012 Rate'!$AA7)*1000","v":3.0803648253312681},null,{"$f":"('2012'!T7/'2012 Rate'!$AA7)*1000","v":9.3787644123214591},{"$f":"('2012'!U7/'2012 Rate'!$AA7)*1000","v":1.152985716744106},{"$f":"('2012'!V7/'2012 Rate'!$AA7)*1000","v":2.632937532266391},{"$f":"('2012'!W7/'2012 Rate'!$AA7)*1000","v":2.9943211151264841},{"$f":"IF('2012'!X7=\"*\",\"\",('2012'!X7/'2012 Rate'!$AA7)*1000)","v":""},null,"Angus",{"$f":"'Population estimates'!J7","v":116220}]
[6,"Argyll & Bute",null,{"$f":"('2012'!D8/'2012 Rate'!$AA8)*1000","v":-2.6809342998504198},{"$f":"('2012'!E8/'2012 Rate'!$AA8)*1000","v":-0.42572776435392934},{"$f":"('2012'!F8/'2012 Rate'!$AA8)*1000","v":-1.4727879415487286},{"$f":"('2012'!G8/'2012 Rate'!$AA8)*1000","v":-0.78241859394776203},{"$f":"('2012'!H8/'2012 Rate'!$AA8)*1000","v":43.965021286388222},{"$f":"('2012'!I8/'2012 Rate'!$AA8)*1000","v":46.645955586238635},{"$f":"('2012'!J8/'2012 Rate'!$AA8)*1000","v":-3.8315498791853644},{"$f":"('2012'!K8/'2012 Rate'!$AA8)*1000","v":25.405591991715568},{"$f":"('2012'!L8/'2012 Rate'!$AA8)*1000","v":29.237141870900931},{"$f":"('2012'!M8/'2012 Rate'!$AA8)*1000","v":3.1181682199976986},{"$f":"('2012'!N8/'2012 Rate'!$AA8)*1000","v":15.06155793349442},{"$f":"('2012'!O8/'2012 Rate'!$AA8)*1000","v":11.943389713496721},{"$f":"('2012'!P8/'2012 Rate'!$AA8)*1000","v":-1.9675526406627546},{"$f":"('2012'!Q8/'2012 Rate'!$AA8)*1000","v":3.4978713611782304},{"$f":"('2012'!R8/'2012 Rate'!$AA8)*1000","v":5.4654240018409848},null,{"$f":"('2012'!T8/'2012 Rate'!$AA8)*1000","v":3.91209296973881},{"$f":"('2012'!U8/'2012 Rate'!$AA8)*1000","v":0.89748015188125652},{"$f":"('2012'!V8/'2012 Rate'!$AA8)*1000","v":2.393280405016684},{"$f":"('2012'!W8/'2012 Rate'!$AA8)*1000","v":1.5533310321021747},{"$f":"IF('2012'!X8=\"*\",\"\",('2012'!X8/'2012 Rate'!$AA8)*1000)","v":46.024623173397771},null,"Argyll & Bute",{"$f":"'Population estimates'!J8","v":86910}]
[7,"Clackmannanshire",null,{"$f":"('2012'!D9/'2012 Rate'!$AA9)*1000","v":-4.9921996879875197},{"$f":"('2012'!E9/'2012 Rate'!$AA9)*1000","v":-1.9890795631825275},{"$f":"('2012'!F9/'2012 Rate'!$AA9)*1000","v":-3.8611544461778471},{"$f":"('2012'!G9/'2012 Rate'!$AA9)*1000","v":0.85803432137285485},{"$f":"('2012'!H9/'2012 Rate'!$AA9)*1000","v":28.900156006240252},{"$f":"('2012'!I9/'2012 Rate'!$AA9)*1000","v":33.892355694227774},{"$f":"('2012'!J9/'2012 Rate'!$AA9)*1000","v":-4.8361934477379096},{"$f":"('2012'!K9/'2012 Rate'!$AA9)*1000","v":20.085803432137286},{"$f":"('2012'!L9/'2012 Rate'!$AA9)*1000","v":24.921996879875195},{"$f":"('2012'!M9/'2012 Rate'!$AA9)*1000","v":0.79953198127925118},{"$f":"('2012'!N9/'2012 Rate'!$AA9)*1000","v":6.5522620904836195},{"$f":"('2012'!O9/'2012 Rate'!$AA9)*1000","v":5.7527301092043679},{"$f":"('2012'!P9/'2012 Rate'!$AA9)*1000","v":-0.95553822152886114},{"$f":"('2012'!Q9/'2012 Rate'!$AA9)*1000","v":2.2620904836193447},{"$f":"('2012'!R9/'2012 Rate'!$AA9)*1000","v":3.217628705148206},null,{"$f":"('2012'!T9/'2012 Rate'!$AA9)*1000","v":1.9500780031201248},{"$f":"('2012'!U9/'2012 Rate'!$AA9)*1000","v":0.9750390015600624},{"$f":"('2012'!V9/'2012 Rate'!$AA9)*1000","v":3.9196567862714513},{"$f":"('2012'!W9/'2012 Rate'!$AA9)*1000","v":2.3400936037441498},{"$f":"IF('2012'!X9=\"*\",\"\",('2012'!X9/'2012 Rate'!$AA9)*1000)","v":""},null,"Clackmannanshire",{"$f":"'Population estimates'!J9","v":51280}]
[8,"Dumfries & Galloway",null,{"$f":"('2012'!D10/'2012 Rate'!$AA10)*1000","v":-0.84858127817555029},{"$f":"('2012'!E10/'2012 Rate'!$AA10)*1000","v":-0.11270220100769027},{"$f":"('2012'!F10/'2012 Rate'!$AA10)*1000","v":-0.49721559268098647},{"$f":"('2012'!G10/'2012 Rate'!$AA10)*1000","v":-0.23866348448687352},{"$f":"('2012'!H10/'2012 Rate'!$AA10)*1000","v":25.424290639087776},{"$f":"('2012'!I10/'2012 Rate'!$AA10)*1000","v":26.272871917263323},{"$f":"('2012'!J10/'2012 Rate'!$AA10)*1000","v":-1.1270220100769028},{"$f":"('2012'!K10/'2012 Rate'!$AA10)*1000","v":11.39618138424821},{"$f":"('2012'!L10/'2012 Rate'!$AA10)*1000","v":12.523203394325112},{"$f":"('2012'!M10/'2012 Rate'!$AA10)*1000","v":2.1347122779103689},{"$f":"('2012'!N10/'2012 Rate'!$AA10)*1000","v":12.410501193317423},{"$f":"('2012'!O10/'2012 Rate'!$AA10)*1000","v":10.275788915407054},{"$f":"('2012'!P10/'2012 Rate'!$AA10)*1000","v":-1.8562715460090162},{"$f":"('2012'!Q10/'2012 Rate'!$AA10)*1000","v":1.6176080615221426},{"$f":"('2012'!R10/'2012 Rate'!$AA10)*1000","v":3.4738796075311589},null,{"$f":"('2012'!T10/'2012 Rate'!$AA10)*1000","v":1.6573853089366217},{"$f":"('2012'!U10/'2012 Rate'!$AA10)*1000","v":0.59665871121718383},{"$f":"('2012'!V10/'2012 Rate'!$AA10)*1000","v":2.7114823654203128},{"$f":"('2012'!W10/'2012 Rate'!$AA10)*1000","v":1.975603288252453},{"$f":"IF('2012'!X10=\"*\",\"\",('2012'!X10/'2012 Rate'!$AA10)*1000)","v":""},null,"Dumfries & Galloway",{"$f":"'Population estimates'!J10","v":150840}]
[9,"Dundee City",null,{"$f":"('2012'!D11/'2012 Rate'!$AA11)*1000","v":3.3292732440113681},{"$f":"('2012'!E11/'2012 Rate'!$AA11)*1000","v":-0.88645283529570984},{"$f":"('2012'!F11/'2012 Rate'!$AA11)*1000","v":4.939775341724185},{"$f":"('2012'!G11/'2012 Rate'!$AA11)*1000","v":-0.72404926241710654},{"$f":"('2012'!H11/'2012 Rate'!$AA11)*1000","v":47.049668426038707},{"$f":"('2012'!I11/'2012 Rate'!$AA11)*1000","v":43.720395182027339},{"$f":"('2012'!J11/'2012 Rate'!$AA11)*1000","v":-0.8661523886858844},{"$f":"('2012'!K11/'2012 Rate'!$AA11)*1000","v":26.377046961699826},{"$f":"('2012'!L11/'2012 Rate'!$AA11)*1000","v":27.243199350385709},{"$f":"('2012'!M11/'2012 Rate'!$AA11)*1000","v":0.37217485451346599},{"$f":"('2012'!N11/'2012 Rate'!$AA11)*1000","v":9.9607524698876695},{"$f":"('2012'!O11/'2012 Rate'!$AA11)*1000","v":9.5885776153742057},{"$f":"('2012'!P11/'2012 Rate'!$AA11)*1000","v":3.8232507781837866},{"$f":"('2012'!Q11/'2012 Rate'!$AA11)*1000","v":10.711868994451212},{"$f":"('2012'!R11/'2012 Rate'!$AA11)*1000","v":6.8886182162674245},null,{"$f":"('2012'!T11/'2012 Rate'!$AA11)*1000","v":7.3758289349032351},{"$f":"('2012'!U11/'2012 Rate'!$AA11)*1000","v":1.793206117201245},{"$f":"('2012'!V11/'2012 Rate'!$AA11)*1000","v":9.1419677899580467},{"$f":"('2012'!W11/'2012 Rate'!$AA11)*1000","v":6.279604817972662},{"$f":"IF('2012'!X11=\"*\",\"\",('2012'!X11/'2012 Rate'!$AA11)*1000)","v":94.735417512518609},null,"Dundee City",{"$f":"'Population estimates'!J11","v":147780}]
[10,"East Ayrshire",null,{"$f":"('2012'!D12/'2012 Rate'!$AA12)*1000","v":-0.61924549824818709},{"$f":"('2012'!E12/'2012 Rate'!$AA12)*1000","v":0.26888291371302858},{"$f":"('2012'!F12/'2012 Rate'!$AA12)*1000","v":-0.75776093864580785},{"$f":"('2012'!G12/'2012 Rate'!$AA12)*1000","v":-0.13036747331540779},{"$f":"('2012'!H12/'2012 Rate'!$AA12)*1000","v":25.087590646133787},{"$f":"('2012'!I12/'2012 Rate'!$AA12)*1000","v":25.706836144381974},{"$f":"('2012'!J12/'2012 Rate'!$AA12)*1000","v":-0.54591379450827027},{"$f":"('2012'!K12/'2012 Rate'!$AA12)*1000","v":18.463293408294629},{"$f":"('2012'!L12/'2012 Rate'!$AA12)*1000","v":19.009207202802898},{"$f":"('2012'!M12/'2012 Rate'!$AA12)*1000","v":1.0103479181944104},{"$f":"('2012'!N12/'2012 Rate'!$AA12)*1000","v":5.7035769575490916},{"$f":"('2012'!O12/'2012 Rate'!$AA12)*1000","v":4.6932290393546809},{"$f":"('2012'!P12/'2012 Rate'!$AA12)*1000","v":-1.0836796219343274},{"$f":"('2012'!Q12/'2012 Rate'!$AA12)*1000","v":0.92072028029006758},{"$f":"('2012'!R12/'2012 Rate'!$AA12)*1000","v":2.004399902224395},null,{"$f":"('2012'!T12/'2012 Rate'!$AA12)*1000","v":0.81479670822129879},{"$f":"('2012'!U12/'2012 Rate'!$AA12)*1000","v":0.42369428827507538},{"$f":"('2012'!V12/'2012 Rate'!$AA12)*1000","v":2.4688340259105357},{"$f":"('2012'!W12/'2012 Rate'!$AA12)*1000","v":0.98590401694777141},{"$f":"IF('2012'!X12=\"*\",\"\",('2012'!X12/'2012 Rate'!$AA12)*1000)","v":""},null,"East Ayrshire",{"$f":"'Population estimates'!J12","v":122730}]
[11,"East Dunbartonshire",null,{"$f":"('2012'!D13/'2012 Rate'!$AA13)*1000","v":2.4556101246694371},{"$f":"('2012'!E13/'2012 Rate'!$AA13)*1000","v":3.8439743105402342},{"$f":"('2012'!F13/'2012 Rate'!$AA13)*1000","v":-1.4828107291273138},{"$f":"('2012'!G13/'2012 Rate'!$AA13)*1000","v":9.4446543256516802E-2},{"$f":"('2012'!H13/'2012 Rate'!$AA13)*1000","v":32.414053645636571},{"$f":"('2012'!I13/'2012 Rate'!$AA13)*1000","v":29.958443520967133},{"$f":"('2012'!J13/'2012 Rate'!$AA13)*1000","v":3.494522100491122},{"$f":"('2012'!K13/'2012 Rate'!$AA13)*1000","v":27.002266717038154},{"$f":"('2012'!L13/'2012 Rate'!$AA13)*1000","v":23.507744616547033},{"$f":"('2012'!M13/'2012 Rate'!$AA13)*1000","v":-0.17944843218738193},{"$f":"('2012'!N13/'2012 Rate'!$AA13)*1000","v":4.3634302984510773},{"$f":"('2012'!O13/'2012 Rate'!$AA13)*1000","v":4.542878730638459},{"$f":"('2012'!P13/'2012 Rate'!$AA13)*1000","v":-0.859463543634303},{"$f":"('2012'!Q13/'2012 Rate'!$AA13)*1000","v":1.0483566301473366},{"$f":"('2012'!R13/'2012 Rate'!$AA13)*1000","v":1.9078201737816396},null,{"$f":"('2012'!T13/'2012 Rate'!$AA13)*1000","v":0.85001888930865122},{"$f":"('2012'!U13/'2012 Rate'!$AA13)*1000","v":0.74612769172648286},{"$f":"('2012'!V13/'2012 Rate'!$AA13)*1000","v":10.153003400075557},{"$f":"('2012'!W13/'2012 Rate'!$AA13)*1000","v":3.636191915375897},{"$f":"IF('2012'!X13=\"*\",\"\",('2012'!X13/'2012 Rate'!$AA13)*1000)","v":47.223271628258409},null,"East Dunbartonshire",{"$f":"'Population estimates'!J13","v":105880}]
[12,"East Lothian",null,{"$f":"('2012'!D14/'2012 Rate'!$AA14)*1000","v":7.8028951021217523},{"$f":"('2012'!E14/'2012 Rate'!$AA14)*1000","v":2.1118381915526476},{"$f":"('2012'!F14/'2012 Rate'!$AA14)*1000","v":5.0664287130676184},{"$f":"('2012'!G14/'2012 Rate'!$AA14)*1000","v":0.62462819750148713},{"$f":"('2012'!H14/'2012 Rate'!$AA14)*1000","v":39.847313107277408},{"$f":"('2012'!I14/'2012 Rate'!$AA14)*1000","v":32.044418005155656},{"$f":"('2012'!J14/'2012 Rate'!$AA14)*1000","v":4.699583581201666},{"$f":"('2012'!K14/'2012 Rate'!$AA14)*1000","v":27.225857624429903},{"$f":"('2012'!L14/'2012 Rate'!$AA14)*1000","v":22.526274043228234},{"$f":"('2012'!M14/'2012 Rate'!$AA14)*1000","v":1.9532024588538566},{"$f":"('2012'!N14/'2012 Rate'!$AA14)*1000","v":8.5861590323220298},{"$f":"('2012'!O14/'2012 Rate'!$AA14)*1000","v":6.6329565734681735},{"$f":"('2012'!P14/'2012 Rate'!$AA14)*1000","v":1.1501090620662304},{"$f":"('2012'!Q14/'2012 Rate'!$AA14)*1000","v":4.0352964505254807},{"$f":"('2012'!R14/'2012 Rate'!$AA14)*1000","v":2.8851873884592503},null,{"$f":"('2012'!T14/'2012 Rate'!$AA14)*1000","v":2.776125322228832},{"$f":"('2012'!U14/'2012 Rate'!$AA14)*1000","v":1.3285742613523694},{"$f":"('2012'!V14/'2012 Rate'!$AA14)*1000","v":3.2817767202062265},{"$f":"('2012'!W14/'2012 Rate'!$AA14)*1000","v":1.8243109260360897},{"$f":"IF('2012'!X14=\"*\",\"\",('2012'!X14/'2012 Rate'!$AA14)*1000)","v":49.573666468372004},null,"East Lothian",{"$f":"'Population estimates'!J14","v":100860}]
[13,"East Renfrewshire",null,{"$f":"('2012'!D15/'2012 Rate'!$AA15)*1000","v":2.0760105448154658},{"$f":"('2012'!E15/'2012 Rate'!$AA15)*1000","v":3.4600175746924431},{"$f":"('2012'!F15/'2012 Rate'!$AA15)*1000","v":-1.0984182776801408},{"$f":"('2012'!G15/'2012 Rate'!$AA15)*1000","v":-0.28558875219683655},{"$f":"('2012'!H15/'2012 Rate'!$AA15)*1000","v":36.159929701230226},{"$f":"('2012'!I15/'2012 Rate'!$AA15)*1000","v":34.083919156414758},{"$f":"('2012'!J15/'2012 Rate'!$AA15)*1000","v":5.1405975395430579},{"$f":"('2012'!K15/'2012 Rate'!$AA15)*1000","v":31.052284710017574},{"$f":"('2012'!L15/'2012 Rate'!$AA15)*1000","v":25.911687170474515},{"$f":"('2012'!M15/'2012 Rate'!$AA15)*1000","v":-1.3290861159929701},{"$f":"('2012'!N15/'2012 Rate'!$AA15)*1000","v":4.2728471001757464},{"$f":"('2012'!O15/'2012 Rate'!$AA15)*1000","v":5.6019332161687174},{"$f":"('2012'!P15/'2012 Rate'!$AA15)*1000","v":-1.7355008787346222},{"$f":"('2012'!Q15/'2012 Rate'!$AA15)*1000","v":0.83479789103690683},{"$f":"('2012'!R15/'2012 Rate'!$AA15)*1000","v":2.5702987697715289},null,{"$f":"('2012'!T15/'2012 Rate'!$AA15)*1000","v":0.87873462214411246},{"$f":"('2012'!U15/'2012 Rate'!$AA15)*1000","v":0.88971880492091382},{"$f":"('2012'!V15/'2012 Rate'!$AA15)*1000","v":25.010984182776802},{"$f":"('2012'!W15/'2012 Rate'!$AA15)*1000","v":9.5342706502636201},{"$f":"IF('2012'!X15=\"*\",\"\",('2012'!X15/'2012 Rate'!$AA15)*1000)","v":""},null,"East Renfrewshire",{"$f":"'Population estimates'!J15","v":91040}]
[14,"Edinburgh, City of",null,{"$f":"('2012'!D16/'2012 Rate'!$AA16)*1000","v":8.217475084433211},{"$f":"('2012'!E16/'2012 Rate'!$AA16)*1000","v":-0.13053477819447612},{"$f":"('2012'!F16/'2012 Rate'!$AA16)*1000","v":8.3252180759588086},{"$f":"('2012'!G16/'2012 Rate'!$AA16)*1000","v":2.2791786668876778E-2},{"$f":"('2012'!H16/'2012 Rate'!$AA16)*1000","v":59.749704742763605},{"$f":"('2012'!I16/'2012 Rate'!$AA16)*1000","v":51.532229658330394},{"$f":"('2012'!J16/'2012 Rate'!$AA16)*1000","v":-0.52006713217164291},{"$f":"('2012'!K16/'2012 Rate'!$AA16)*1000","v":23.854712719888941},{"$f":"('2012'!L16/'2012 Rate'!$AA16)*1000","v":24.374779852060584},{"$f":"('2012'!M16/'2012 Rate'!$AA16)*1000","v":0.32944491639558254},{"$f":"('2012'!N16/'2012 Rate'!$AA16)*1000","v":16.61314050100491},{"$f":"('2012'!O16/'2012 Rate'!$AA16)*1000","v":16.283695584609326},{"$f":"('2012'!P16/'2012 Rate'!$AA16)*1000","v":8.4080973002092705},{"$f":"('2012'!Q16/'2012 Rate'!$AA16)*1000","v":19.281851521869754},{"$f":"('2012'!R16/'2012 Rate'!$AA16)*1000","v":10.873754221660484},null,{"$f":"('2012'!T16/'2012 Rate'!$AA16)*1000","v":20.118931686799414},{"$f":"('2012'!U16/'2012 Rate'!$AA16)*1000","v":3.42291196154404},{"$f":"('2012'!V16/'2012 Rate'!$AA16)*1000","v":11.690114580527526},{"$f":"('2012'!W16/'2012 Rate'!$AA16)*1000","v":8.186395375339286},{"$f":"IF('2012'!X16=\"*\",\"\",('2012'!X16/'2012 Rate'!$AA16)*1000)","v":151.25458425709135},null,"Edinburgh, City of",{"$f":"'Population estimates'!J16","v":482630}]
[15,"Eilean Siar",null,{"$f":"('2012'!D17/'2012 Rate'!$AA17)*1000","v":0.47169811320754718},{"$f":"('2012'!E17/'2012 Rate'!$AA17)*1000","v":0.94339622641509435},{"$f":"('2012'!F17/'2012 Rate'!$AA17)*1000","v":-0.94339622641509435},{"$f":"('2012'!G17/'2012 Rate'!$AA17)*1000","v":0.47169811320754718},{"$f":"('2012'!H17/'2012 Rate'!$AA17)*1000","v":31.422351233671986},{"$f":"('2012'!I17/'2012 Rate'!$AA17)*1000","v":30.950653120464441},{"$f":"('2012'!J17/'2012 Rate'!$AA17)*1000","v":-1.0885341074020318},{"$f":"('2012'!K17/'2012 Rate'!$AA17)*1000","v":20.06531204644412},{"$f":"('2012'!L17/'2012 Rate'!$AA17)*1000","v":21.153846153846153},{"$f":"('2012'!M17/'2012 Rate'!$AA17)*1000","v":2.9027576197387517},{"$f":"('2012'!N17/'2012 Rate'!$AA17)*1000","v":9.7605224963715518},{"$f":"('2012'!O17/'2012 Rate'!$AA17)*1000","v":6.8577648766328005},{"$f":"('2012'!P17/'2012 Rate'!$AA17)*1000","v":-1.3425253991291726},{"$f":"('2012'!Q17/'2012 Rate'!$AA17)*1000","v":1.5965166908563135},{"$f":"('2012'!R17/'2012 Rate'!$AA17)*1000","v":2.9390420899854863},null,{"$f":"('2012'!T17/'2012 Rate'!$AA17)*1000","v":1.8142235123367199},{"$f":"('2012'!U17/'2012 Rate'!$AA17)*1000","v":0.47169811320754718},{"$f":"('2012'!V17/'2012 Rate'!$AA17)*1000","v":2.1407837445573294},{"$f":"('2012'!W17/'2012 Rate'!$AA17)*1000","v":1.4150943396226414},{"$f":"IF('2012'!X17=\"*\",\"\",('2012'!X17/'2012 Rate'!$AA17)*1000)","v":""},null,"Eilean Siar",{"$f":"'Population estimates'!J17","v":27560}]
[16,"Falkirk",null,{"$f":"('2012'!D18/'2012 Rate'!$AA18)*1000","v":2.2704081632653059},{"$f":"('2012'!E18/'2012 Rate'!$AA18)*1000","v":-0.19770408163265307},{"$f":"('2012'!F18/'2012 Rate'!$AA18)*1000","v":2.2066326530612246},{"$f":"('2012'!G18/'2012 Rate'!$AA18)*1000","v":0.26147959183673469},{"$f":"('2012'!H18/'2012 Rate'!$AA18)*1000","v":24.502551020408163},{"$f":"('2012'!I18/'2012 Rate'!$AA18)*1000","v":22.232142857142858},{"$f":"('2012'!J18/'2012 Rate'!$AA18)*1000","v":2.3278061224489797},{"$f":"('2012'!K18/'2012 Rate'!$AA18)*1000","v":18.207908163265305},{"$f":"('2012'!L18/'2012 Rate'!$AA18)*1000","v":15.880102040816325},{"$f":"('2012'!M18/'2012 Rate'!$AA18)*1000","v":0.12755102040816327},{"$f":"('2012'!N18/'2012 Rate'!$AA18)*1000","v":4.3048469387755102},{"$f":"('2012'!O18/'2012 Rate'!$AA18)*1000","v":4.1772959183673466},{"$f":"('2012'!P18/'2012 Rate'!$AA18)*1000","v":-0.18494897959183673},{"$f":"('2012'!Q18/'2012 Rate'!$AA18)*1000","v":1.989795918367347},{"$f":"('2012'!R18/'2012 Rate'!$AA18)*1000","v":2.1747448979591839},null,{"$f":"('2012'!T18/'2012 Rate'!$AA18)*1000","v":2.4234693877551021},{"$f":"('2012'!U18/'2012 Rate'!$AA18)*1000","v":1.0204081632653061},{"$f":"('2012'!V18/'2012 Rate'!$AA18)*1000","v":4.0880102040816322},{"$f":"('2012'!W18/'2012 Rate'!$AA18)*1000","v":3.0420918367346941},{"$f":"IF('2012'!X18=\"*\",\"\",('2012'!X18/'2012 Rate'!$AA18)*1000)","v":44.642857142857146},null,"Falkirk",{"$f":"'Population estimates'!J18","v":156800}]
[17,"Fife",null,{"$f":"('2012'!D19/'2012 Rate'!$AA19)*1000","v":1.7012096884301358},{"$f":"('2012'!E19/'2012 Rate'!$AA19)*1000","v":0.1693017667458562},{"$f":"('2012'!F19/'2012 Rate'!$AA19)*1000","v":1.2943393135086425},{"$f":"('2012'!G19/'2012 Rate'!$AA19)*1000","v":0.23756860817563694},{"$f":"('2012'!H19/'2012 Rate'!$AA19)*1000","v":29.330165751890991},{"$f":"('2012'!I19/'2012 Rate'!$AA19)*1000","v":27.628956063460855},{"$f":"('2012'!J19/'2012 Rate'!$AA19)*1000","v":0.54067338412386334},{"$f":"('2012'!K19/'2012 Rate'!$AA19)*1000","v":16.181972092515224},{"$f":"('2012'!L19/'2012 Rate'!$AA19)*1000","v":15.641298708391361},{"$f":"('2012'!M19/'2012 Rate'!$AA19)*1000","v":0.18022446137462111},{"$f":"('2012'!N19/'2012 Rate'!$AA19)*1000","v":7.7906119439665762},{"$f":"('2012'!O19/'2012 Rate'!$AA19)*1000","v":7.610387482591956},{"$f":"('2012'!P19/'2012 Rate'!$AA19)*1000","v":0.9803118429316513},{"$f":"('2012'!Q19/'2012 Rate'!$AA19)*1000","v":5.3575817154091911},{"$f":"('2012'!R19/'2012 Rate'!$AA19)*1000","v":4.3772698724775401},null,{"$f":"('2012'!T19/'2012 Rate'!$AA19)*1000","v":5.1609732120914229},{"$f":"('2012'!U19/'2012 Rate'!$AA19)*1000","v":1.097730810190874},{"$f":"('2012'!V19/'2012 Rate'!$AA19)*1000","v":3.727369542066028},{"$f":"('2012'!W19/'2012 Rate'!$AA19)*1000","v":2.1900002730673656},{"$f":"IF('2012'!X19=\"*\",\"\",('2012'!X19/'2012 Rate'!$AA19)*1000)","v":54.613473143824578},null,"Fife",{"$f":"'Population estimates'!J19","v":366210}]
[18,"Glasgow City",null,{"$f":"('2012'!D20/'2012 Rate'!$AA20)*1000","v":1.9258238526559899},{"$f":"('2012'!E20/'2012 Rate'!$AA20)*1000","v":-1.796427311072647},{"$f":"('2012'!F20/'2012 Rate'!$AA20)*1000","v":4.2616834994202364},{"$f":"('2012'!G20/'2012 Rate'!$AA20)*1000","v":-0.53943233569159921},{"$f":"('2012'!H20/'2012 Rate'!$AA20)*1000","v":47.661619641386729},{"$f":"('2012'!I20/'2012 Rate'!$AA20)*1000","v":45.735795788730734},{"$f":"('2012'!J20/'2012 Rate'!$AA20)*1000","v":-3.5340380123346833},{"$f":"('2012'!K20/'2012 Rate'!$AA20)*1000","v":23.78711748197691},{"$f":"('2012'!L20/'2012 Rate'!$AA20)*1000","v":27.321155494311594},{"$f":"('2012'!M20/'2012 Rate'!$AA20)*1000","v":-0.48901809871107599},{"$f":"('2012'!N20/'2012 Rate'!$AA20)*1000","v":9.5064446199606785},{"$f":"('2012'!O20/'2012 Rate'!$AA20)*1000","v":9.9954627186717531},{"$f":"('2012'!P20/'2012 Rate'!$AA20)*1000","v":5.9488799637017493},{"$f":"('2012'!Q20/'2012 Rate'!$AA20)*1000","v":14.36805753944914},{"$f":"('2012'!R20/'2012 Rate'!$AA20)*1000","v":8.4191775757473906},null,{"$f":"('2012'!T20/'2012 Rate'!$AA20)*1000","v":11.091132135715126},{"$f":"('2012'!U20/'2012 Rate'!$AA20)*1000","v":3.1475288621506712},{"$f":"('2012'!V20/'2012 Rate'!$AA20)*1000","v":18.607894869511149},{"$f":"('2012'!W20/'2012 Rate'!$AA20)*1000","v":16.303964239501237},{"$f":"IF('2012'!X20=\"*\",\"\",('2012'!X20/'2012 Rate'!$AA20)*1000)","v":144.52081267750015},null,"Glasgow City",{"$f":"'Population estimates'!J20","v":595070}]
[19,"Highland",null,{"$f":"('2012'!D21/'2012 Rate'!$AA21)*1000","v":0.50667697196101158},{"$f":"('2012'!E21/'2012 Rate'!$AA21)*1000","v":-0.12022843402464684},{"$f":"('2012'!F21/'2012 Rate'!$AA21)*1000","v":0.80295418437889132},{"$f":"('2012'!G21/'2012 Rate'!$AA21)*1000","v":-0.17604877839323285},{"$f":"('2012'!H21/'2012 Rate'!$AA21)*1000","v":30.705483275366053},{"$f":"('2012'!I21/'2012 Rate'!$AA21)*1000","v":30.198806303405043},{"$f":"('2012'!J21/'2012 Rate'!$AA21)*1000","v":-0.37356692000515268},{"$f":"('2012'!K21/'2012 Rate'!$AA21)*1000","v":17.145433466443386},{"$f":"('2012'!L21/'2012 Rate'!$AA21)*1000","v":17.519000386448536},{"$f":"('2012'!M21/'2012 Rate'!$AA21)*1000","v":1.6316716046202069},{"$f":"('2012'!N21/'2012 Rate'!$AA21)*1000","v":10.292412727038515},{"$f":"('2012'!O21/'2012 Rate'!$AA21)*1000","v":8.66074112241831},{"$f":"('2012'!P21/'2012 Rate'!$AA21)*1000","v":-0.75142771265404273},{"$f":"('2012'!Q21/'2012 Rate'!$AA21)*1000","v":3.2676370818841511},{"$f":"('2012'!R21/'2012 Rate'!$AA21)*1000","v":4.0190647945381937},null,{"$f":"('2012'!T21/'2012 Rate'!$AA21)*1000","v":5.1526471724848637},{"$f":"('2012'!U21/'2012 Rate'!$AA21)*1000","v":1.4040963545021254},{"$f":"('2012'!V21/'2012 Rate'!$AA21)*1000","v":2.8253681995792004},{"$f":"('2012'!W21/'2012 Rate'!$AA21)*1000","v":2.7137275108420282},{"$f":"IF('2012'!X21=\"*\",\"\",('2012'!X21/'2012 Rate'!$AA21)*1000)","v":47.232599081111253},null,"Highland",{"$f":"'Population estimates'!J21","v":232890}]
[20,"Inverclyde",null,{"$f":"('2012'!D22/'2012 Rate'!$AA22)*1000","v":-3.7798983765026644},{"$f":"('2012'!E22/'2012 Rate'!$AA22)*1000","v":-0.29743462634775064},{"$f":"('2012'!F22/'2012 Rate'!$AA22)*1000","v":-3.7798983765026644},{"$f":"('2012'!G22/'2012 Rate'!$AA22)*1000","v":0.29743462634775064},{"$f":"('2012'!H22/'2012 Rate'!$AA22)*1000","v":16.420869996282068},{"$f":"('2012'!I22/'2012 Rate'!$AA22)*1000","v":20.200768372784729},{"$f":"('2012'!J22/'2012 Rate'!$AA22)*1000","v":-2.4290494485066301},{"$f":"('2012'!K22/'2012 Rate'!$AA22)*1000","v":11.029867393729086},{"$f":"('2012'!L22/'2012 Rate'!$AA22)*1000","v":13.458916842235716},{"$f":"('2012'!M22/'2012 Rate'!$AA22)*1000","v":-0.12393109431156277},{"$f":"('2012'!N22/'2012 Rate'!$AA22)*1000","v":4.4367331763539468},{"$f":"('2012'!O22/'2012 Rate'!$AA22)*1000","v":4.5606642706655096},{"$f":"('2012'!P22/'2012 Rate'!$AA22)*1000","v":-1.2269178336844715},{"$f":"('2012'!Q22/'2012 Rate'!$AA22)*1000","v":0.95426942619903332},{"$f":"('2012'!R22/'2012 Rate'!$AA22)*1000","v":2.1811872598835045},null,{"$f":"('2012'!T22/'2012 Rate'!$AA22)*1000","v":1.2393109431156277},{"$f":"('2012'!U22/'2012 Rate'!$AA22)*1000","v":0.33461395464121946},{"$f":"('2012'!V22/'2012 Rate'!$AA22)*1000","v":2.1811872598835045},{"$f":"('2012'!W22/'2012 Rate'!$AA22)*1000","v":0.65683479985128268},{"$f":"IF('2012'!X22=\"*\",\"\",('2012'!X22/'2012 Rate'!$AA22)*1000)","v":""},null,"Inverclyde",{"$f":"'Population estimates'!J22","v":80690}]
[21,"Midlothian",null,{"$f":"('2012'!D23/'2012 Rate'!$AA23)*1000","v":6.6358024691358031},{"$f":"('2012'!E23/'2012 Rate'!$AA23)*1000","v":2.2792022792022792},{"$f":"('2012'!F23/'2012 Rate'!$AA23)*1000","v":4.0716999050332383},{"$f":"('2012'!G23/'2012 Rate'!$AA23)*1000","v":0.28490028490028491},{"$f":"('2012'!H23/'2012 Rate'!$AA23)*1000","v":33.855650522317191},{"$f":"('2012'!I23/'2012 Rate'!$AA23)*1000","v":27.219848053181387},{"$f":"('2012'!J23/'2012 Rate'!$AA23)*1000","v":6.0422602089268755},{"$f":"('2012'!K23/'2012 Rate'!$AA23)*1000","v":27.04178537511871},{"$f":"('2012'!L23/'2012 Rate'!$AA23)*1000","v":20.999525166191834},{"$f":"('2012'!M23/'2012 Rate'!$AA23)*1000","v":0.30864197530864196},{"$f":"('2012'!N23/'2012 Rate'!$AA23)*1000","v":4.7483380816714149},{"$f":"('2012'!O23/'2012 Rate'!$AA23)*1000","v":4.4396961063627725},{"$f":"('2012'!P23/'2012 Rate'!$AA23)*1000","v":0.28490028490028491},{"$f":"('2012'!Q23/'2012 Rate'!$AA23)*1000","v":2.0655270655270659},{"$f":"('2012'!R23/'2012 Rate'!$AA23)*1000","v":1.7806267806267806},null,{"$f":"('2012'!T23/'2012 Rate'!$AA23)*1000","v":1.7806267806267806},{"$f":"('2012'!U23/'2012 Rate'!$AA23)*1000","v":1.1870845204178537},{"$f":"('2012'!V23/'2012 Rate'!$AA23)*1000","v":3.9529914529914527},{"$f":"('2012'!W23/'2012 Rate'!$AA23)*1000","v":2.1842355175688506},{"$f":"IF('2012'!X23=\"*\",\"\",('2012'!X23/'2012 Rate'!$AA23)*1000)","v":""},null,"Midlothian",{"$f":"'Population estimates'!J23","v":84240}]
[22,"Moray",null,{"$f":"('2012'!D24/'2012 Rate'!$AA24)*1000","v":3.5187775745184546},{"$f":"('2012'!E24/'2012 Rate'!$AA24)*1000","v":1.936941784138599},{"$f":"('2012'!F24/'2012 Rate'!$AA24)*1000","v":1.108361132034865},{"$f":"('2012'!G24/'2012 Rate'!$AA24)*1000","v":0.47347465834499086},{"$f":"('2012'!H24/'2012 Rate'!$AA24)*1000","v":36.715807597116111},{"$f":"('2012'!I24/'2012 Rate'!$AA24)*1000","v":33.197030022597659},{"$f":"('2012'!J24/'2012 Rate'!$AA24)*1000","v":-1.2482513720004305},{"$f":"('2012'!K24/'2012 Rate'!$AA24)*1000","v":17.507801571075003},{"$f":"('2012'!L24/'2012 Rate'!$AA24)*1000","v":18.756052943075431},{"$f":"('2012'!M24/'2012 Rate'!$AA24)*1000","v":5.8323469277951148},{"$f":"('2012'!N24/'2012 Rate'!$AA24)*1000","v":15.818357903798558},{"$f":"('2012'!O24/'2012 Rate'!$AA24)*1000","v":9.9860109760034437},{"$f":"('2012'!P24/'2012 Rate'!$AA24)*1000","v":-1.0653179812762295},{"$f":"('2012'!Q24/'2012 Rate'!$AA24)*1000","v":3.3896481222425479},{"$f":"('2012'!R24/'2012 Rate'!$AA24)*1000","v":4.4549661035187773},null,{"$f":"('2012'!T24/'2012 Rate'!$AA24)*1000","v":2.3673732917249546},{"$f":"('2012'!U24/'2012 Rate'!$AA24)*1000","v":0.83934143979339282},{"$f":"('2012'!V24/'2012 Rate'!$AA24)*1000","v":2.7009577101043796},{"$f":"('2012'!W24/'2012 Rate'!$AA24)*1000","v":2.8623695254492625},{"$f":"IF('2012'!X24=\"*\",\"\",('2012'!X24/'2012 Rate'!$AA24)*1000)","v":53.803938448294417},null,"Moray",{"$f":"'Population estimates'!J24","v":92930}]
[23,"North Ayrshire",null,{"$f":"('2012'!D25/'2012 Rate'!$AA25)*1000","v":-2.9148796976084901},{"$f":"('2012'!E25/'2012 Rate'!$AA25)*1000","v":0.45794868067165806},{"$f":"('2012'!F25/'2012 Rate'!$AA25)*1000","v":-3.4600566984080832},{"$f":"('2012'!G25/'2012 Rate'!$AA25)*1000","v":8.7228320127934869E-2},{"$f":"('2012'!H25/'2012 Rate'!$AA25)*1000","v":25.419786290615686},{"$f":"('2012'!I25/'2012 Rate'!$AA25)*1000","v":28.334665988224177},{"$f":"('2012'!J25/'2012 Rate'!$AA25)*1000","v":-1.3375009086283347},{"$f":"('2012'!K25/'2012 Rate'!$AA25)*1000","v":18.652322454023405},{"$f":"('2012'!L25/'2012 Rate'!$AA25)*1000","v":19.989823362651741},{"$f":"('2012'!M25/'2012 Rate'!$AA25)*1000","v":7.2690266773279055E-2},{"$f":"('2012'!N25/'2012 Rate'!$AA25)*1000","v":5.6843788616704218},{"$f":"('2012'!O25/'2012 Rate'!$AA25)*1000","v":5.6116885948971431},{"$f":"('2012'!P25/'2012 Rate'!$AA25)*1000","v":-1.6500690557534345},{"$f":"('2012'!Q25/'2012 Rate'!$AA25)*1000","v":1.0830849749218578},{"$f":"('2012'!R25/'2012 Rate'!$AA25)*1000","v":2.7331540306752924},null,{"$f":"('2012'!T25/'2012 Rate'!$AA25)*1000","v":0.79959293450606961},{"$f":"('2012'!U25/'2012 Rate'!$AA25)*1000","v":0.46521770734898593},{"$f":"('2012'!V25/'2012 Rate'!$AA25)*1000","v":2.0280584429744857},{"$f":"('2012'!W25/'2012 Rate'!$AA25)*1000","v":0.73417169441011854},{"$f":"IF('2012'!X25=\"*\",\"\",('2012'!X25/'2012 Rate'!$AA25)*1000)","v":""},null,"North Ayrshire",{"$f":"'Population estimates'!J25","v":137570}]
[24,"North Lanarkshire",null,{"$f":"('2012'!D26/'2012 Rate'!$AA26)*1000","v":-0.80203616561602897},{"$f":"('2012'!E26/'2012 Rate'!$AA26)*1000","v":0.23380390067773538},{"$f":"('2012'!F26/'2012 Rate'!$AA26)*1000","v":-0.8257125099884578},{"$f":"('2012'!G26/'2012 Rate'!$AA26)*1000","v":-0.21012755630530647},{"$f":"('2012'!H26/'2012 Rate'!$AA26)*1000","v":19.846695670188524},{"$f":"('2012'!I26/'2012 Rate'!$AA26)*1000","v":20.648731835804551},{"$f":"('2012'!J26/'2012 Rate'!$AA26)*1000","v":-0.31371156293468289},{"$f":"('2012'!K26/'2012 Rate'!$AA26)*1000","v":14.868744265885347},{"$f":"('2012'!L26/'2012 Rate'!$AA26)*1000","v":15.18245582882003},{"$f":"('2012'!M26/'2012 Rate'!$AA26)*1000","v":0.11542217881559087},{"$f":"('2012'!N26/'2012 Rate'!$AA26)*1000","v":3.4153126757228685},{"$f":"('2012'!O26/'2012 Rate'!$AA26)*1000","v":3.2998904969072775},{"$f":"('2012'!P26/'2012 Rate'!$AA26)*1000","v":-0.60374678149693684},{"$f":"('2012'!Q26/'2012 Rate'!$AA26)*1000","v":1.5626387285803074},{"$f":"('2012'!R26/'2012 Rate'!$AA26)*1000","v":2.166385510077244},null,{"$f":"('2012'!T26/'2012 Rate'!$AA26)*1000","v":1.6573441060700229},{"$f":"('2012'!U26/'2012 Rate'!$AA26)*1000","v":0.71029033117286688},{"$f":"('2012'!V26/'2012 Rate'!$AA26)*1000","v":4.800378821509959},{"$f":"('2012'!W26/'2012 Rate'!$AA26)*1000","v":2.651750569712036},{"$f":"IF('2012'!X26=\"*\",\"\",('2012'!X26/'2012 Rate'!$AA26)*1000)","v":""},null,"North Lanarkshire",{"$f":"'Population estimates'!J26","v":337890}]
[25,"Orkney Islands",null,{"$f":"('2012'!D27/'2012 Rate'!$AA27)*1000","v":4.9233627496516483},{"$f":"('2012'!E27/'2012 Rate'!$AA27)*1000","v":1.8578727357176035},{"$f":"('2012'!F27/'2012 Rate'!$AA27)*1000","v":3.2512772875058058},{"$f":"('2012'!G27/'2012 Rate'!$AA27)*1000","v":-0.18578727357176034},{"$f":"('2012'!H27/'2012 Rate'!$AA27)*1000","v":34.138411518810962},{"$f":"('2012'!I27/'2012 Rate'!$AA27)*1000","v":29.215048769159313},{"$f":"('2012'!J27/'2012 Rate'!$AA27)*1000","v":2.0436600092893635},{"$f":"('2012'!K27/'2012 Rate'!$AA27)*1000","v":19.228982814677195},{"$f":"('2012'!L27/'2012 Rate'!$AA27)*1000","v":17.185322805387834},{"$f":"('2012'!M27/'2012 Rate'!$AA27)*1000","v":4.412447747329308},{"$f":"('2012'!N27/'2012 Rate'!$AA27)*1000","v":13.144449605202043},{"$f":"('2012'!O27/'2012 Rate'!$AA27)*1000","v":8.7320018578727367},{"$f":"('2012'!P27/'2012 Rate'!$AA27)*1000","v":-1.5327450069670228},{"$f":"('2012'!Q27/'2012 Rate'!$AA27)*1000","v":1.7649790989317231},{"$f":"('2012'!R27/'2012 Rate'!$AA27)*1000","v":3.2977241058987459},null,{"$f":"('2012'!T27/'2012 Rate'!$AA27)*1000","v":1.8578727357176035},{"$f":"('2012'!U27/'2012 Rate'!$AA27)*1000","v":0.51091500232234088},{"$f":"('2012'!V27/'2012 Rate'!$AA27)*1000","v":1.8114259173246632},{"$f":"('2012'!W27/'2012 Rate'!$AA27)*1000","v":0.74314909428704135},{"$f":"IF('2012'!X27=\"*\",\"\",('2012'!X27/'2012 Rate'!$AA27)*1000)","v":""},null,"Orkney Islands",{"$f":"'Population estimates'!J27","v":21530}]
[26,"Perth & Kinross",null,{"$f":"('2012'!D28/'2012 Rate'!$AA28)*1000","v":6.6332746717205904},{"$f":"('2012'!E28/'2012 Rate'!$AA28)*1000","v":2.0712061730066331},{"$f":"('2012'!F28/'2012 Rate'!$AA28)*1000","v":4.3590090699878168},{"$f":"('2012'!G28/'2012 Rate'!$AA28)*1000","v":0.2030594287261405},{"$f":"('2012'!H28/'2012 Rate'!$AA28)*1000","v":43.26519561391634},{"$f":"('2012'!I28/'2012 Rate'!$AA28)*1000","v":36.631920942195748},{"$f":"('2012'!J28/'2012 Rate'!$AA28)*1000","v":2.0915121158792473},{"$f":"('2012'!K28/'2012 Rate'!$AA28)*1000","v":24.928929199945852},{"$f":"('2012'!L28/'2012 Rate'!$AA28)*1000","v":22.837417084066605},{"$f":"('2012'!M28/'2012 Rate'!$AA28)*1000","v":1.4823338297008257},{"$f":"('2012'!N28/'2012 Rate'!$AA28)*1000","v":8.9684581020712066},{"$f":"('2012'!O28/'2012 Rate'!$AA28)*1000","v":7.4861242723703798},{"$f":"('2012'!P28/'2012 Rate'!$AA28)*1000","v":3.0594287261405171},{"$f":"('2012'!Q28/'2012 Rate'!$AA28)*1000","v":9.3678083118992816},{"$f":"('2012'!R28/'2012 Rate'!$AA28)*1000","v":6.3083795857587655},null,{"$f":"('2012'!T28/'2012 Rate'!$AA28)*1000","v":14.620278868282117},{"$f":"('2012'!U28/'2012 Rate'!$AA28)*1000","v":1.3604981724651415},{"$f":"('2012'!V28/'2012 Rate'!$AA28)*1000","v":3.5400027074590499},{"$f":"('2012'!W28/'2012 Rate'!$AA28)*1000","v":3.5129281169622311},{"$f":"IF('2012'!X28=\"*\",\"\",('2012'!X28/'2012 Rate'!$AA28)*1000)","v":67.686476242046837},null,"Perth & Kinross",{"$f":"'Population estimates'!J28","v":147740}]
[27,"Renfrewshire",null,{"$f":"('2012'!D29/'2012 Rate'!$AA29)*1000","v":-2.2662076878944348},{"$f":"('2012'!E29/'2012 Rate'!$AA29)*1000","v":-0.37865748709122204},{"$f":"('2012'!F29/'2012 Rate'!$AA29)*1000","v":-1.853126792885829},{"$f":"('2012'!G29/'2012 Rate'!$AA29)*1000","v":-3.4423407917383825E-2},{"$f":"('2012'!H29/'2012 Rate'!$AA29)*1000","v":24.916810097532991},{"$f":"('2012'!I29/'2012 Rate'!$AA29)*1000","v":27.183017785427424},{"$f":"('2012'!J29/'2012 Rate'!$AA29)*1000","v":-1.5433161216293747},{"$f":"('2012'!K29/'2012 Rate'!$AA29)*1000","v":18.468158347676422},{"$f":"('2012'!L29/'2012 Rate'!$AA29)*1000","v":20.011474469305792},{"$f":"('2012'!M29/'2012 Rate'!$AA29)*1000","v":-0.24096385542168675},{"$f":"('2012'!N29/'2012 Rate'!$AA29)*1000","v":3.9931153184165233},{"$f":"('2012'!O29/'2012 Rate'!$AA29)*1000","v":4.23407917383821},{"$f":"('2012'!P29/'2012 Rate'!$AA29)*1000","v":-0.48192771084337349},{"$f":"('2012'!Q29/'2012 Rate'!$AA29)*1000","v":2.4555364314400459},{"$f":"('2012'!R29/'2012 Rate'!$AA29)*1000","v":2.9374641422834191},null,{"$f":"('2012'!T29/'2012 Rate'!$AA29)*1000","v":2.5817555938037868},{"$f":"('2012'!U29/'2012 Rate'!$AA29)*1000","v":1.0499139414802066},{"$f":"('2012'!V29/'2012 Rate'!$AA29)*1000","v":4.8020654044750435},{"$f":"('2012'!W29/'2012 Rate'!$AA29)*1000","v":1.853126792885829},{"$f":"IF('2012'!X29=\"*\",\"\",('2012'!X29/'2012 Rate'!$AA29)*1000)","v":51.635111876075733},null,"Renfrewshire",{"$f":"'Population estimates'!J29","v":174300}]
[28,"Scottish Borders",null,{"$f":"('2012'!D30/'2012 Rate'!$AA30)*1000","v":0.39570875835385155},{"$f":"('2012'!E30/'2012 Rate'!$AA30)*1000","v":0.51002462187829756},{"$f":"('2012'!F30/'2012 Rate'!$AA30)*1000","v":0.114315863524446},{"$f":"('2012'!G30/'2012 Rate'!$AA30)*1000","v":-0.22863172704889201},{"$f":"('2012'!H30/'2012 Rate'!$AA30)*1000","v":35.103763629968341},{"$f":"('2012'!I30/'2012 Rate'!$AA30)*1000","v":34.708054871614493},{"$f":"('2012'!J30/'2012 Rate'!$AA30)*1000","v":-0.69468870911009495},{"$f":"('2012'!K30/'2012 Rate'!$AA30)*1000","v":18.545550474850511},{"$f":"('2012'!L30/'2012 Rate'!$AA30)*1000","v":19.240239183960608},{"$f":"('2012'!M30/'2012 Rate'!$AA30)*1000","v":1.6707703130495957},{"$f":"('2012'!N30/'2012 Rate'!$AA30)*1000","v":13.190291945128385},{"$f":"('2012'!O30/'2012 Rate'!$AA30)*1000","v":11.51952163207879},{"$f":"('2012'!P30/'2012 Rate'!$AA30)*1000","v":-0.58037284558564894},{"$f":"('2012'!Q30/'2012 Rate'!$AA30)*1000","v":3.3679212099894476},{"$f":"('2012'!R30/'2012 Rate'!$AA30)*1000","v":3.9482940555750963},null,{"$f":"('2012'!T30/'2012 Rate'!$AA30)*1000","v":2.9018642279282449},{"$f":"('2012'!U30/'2012 Rate'!$AA30)*1000","v":1.1871262750615545},{"$f":"('2012'!V30/'2012 Rate'!$AA30)*1000","v":2.8227224762574745},{"$f":"('2012'!W30/'2012 Rate'!$AA30)*1000","v":3.0513542033063668},{"$f":"IF('2012'!X30=\"*\",\"\",('2012'!X30/'2012 Rate'!$AA30)*1000)","v":43.967639817094614},null,"Scottish Borders",{"$f":"'Population estimates'!J30","v":113720}]
[29,"Shetland Islands",null,{"$f":"('2012'!D31/'2012 Rate'!$AA31)*1000","v":-2.9297716501507973},{"$f":"('2012'!E31/'2012 Rate'!$AA31)*1000","v":-1.1632916846186989},{"$f":"('2012'!F31/'2012 Rate'!$AA31)*1000","v":-2.5420077552778975},{"$f":"('2012'!G31/'2012 Rate'!$AA31)*1000","v":0.77552778974579928},{"$f":"('2012'!H31/'2012 Rate'!$AA31)*1000","v":28.69452822059457},{"$f":"('2012'!I31/'2012 Rate'!$AA31)*1000","v":31.624299870745368},{"$f":"('2012'!J31/'2012 Rate'!$AA31)*1000","v":-4.4808272296423954},{"$f":"('2012'!K31/'2012 Rate'!$AA31)*1000","v":13.830245583800085},{"$f":"('2012'!L31/'2012 Rate'!$AA31)*1000","v":18.311072813442482},{"$f":"('2012'!M31/'2012 Rate'!$AA31)*1000","v":1.4648858250753987},{"$f":"('2012'!N31/'2012 Rate'!$AA31)*1000","v":10.94355881085739},{"$f":"('2012'!O31/'2012 Rate'!$AA31)*1000","v":9.4786729857819907},{"$f":"('2012'!P31/'2012 Rate'!$AA31)*1000","v":8.6169754416199909E-2},{"$f":"('2012'!Q31/'2012 Rate'!$AA31)*1000","v":3.9207238259370958},{"$f":"('2012'!R31/'2012 Rate'!$AA31)*1000","v":3.8345540715208961},null,{"$f":"('2012'!T31/'2012 Rate'!$AA31)*1000","v":4.3084877208099952},{"$f":"('2012'!U31/'2012 Rate'!$AA31)*1000","v":0.90478242137009912},{"$f":"('2012'!V31/'2012 Rate'!$AA31)*1000","v":3.7914691943127963},{"$f":"('2012'!W31/'2012 Rate'!$AA31)*1000","v":1.4218009478672986},{"$f":"IF('2012'!X31=\"*\",\"\",('2012'!X31/'2012 Rate'!$AA31)*1000)","v":""},null,"Shetland Islands",{"$f":"'Population estimates'!J31","v":23210}]
[30,"South Ayrshire",null,{"$f":"('2012'!D32/'2012 Rate'!$AA32)*1000","v":3.1615302869287993},{"$f":"('2012'!E32/'2012 Rate'!$AA32)*1000","v":0.92100602196245129},{"$f":"('2012'!F32/'2012 Rate'!$AA32)*1000","v":1.3726532058094225},{"$f":"('2012'!G32/'2012 Rate'!$AA32)*1000","v":0.8678710591569252},{"$f":"('2012'!H32/'2012 Rate'!$AA32)*1000","v":31.83669854764435},{"$f":"('2012'!I32/'2012 Rate'!$AA32)*1000","v":28.675168260715552},{"$f":"('2012'!J32/'2012 Rate'!$AA32)*1000","v":2.630180658873539},{"$f":"('2012'!K32/'2012 Rate'!$AA32)*1000","v":22.272405242649661},{"$f":"('2012'!L32/'2012 Rate'!$AA32)*1000","v":19.642224583776123},{"$f":"('2012'!M32/'2012 Rate'!$AA32)*1000","v":1.4169323414806942},{"$f":"('2012'!N32/'2012 Rate'!$AA32)*1000","v":7.4300389656393904},{"$f":"('2012'!O32/'2012 Rate'!$AA32)*1000","v":6.0131066241586968},{"$f":"('2012'!P32/'2012 Rate'!$AA32)*1000","v":-0.88558271342543393},{"$f":"('2012'!Q32/'2012 Rate'!$AA32)*1000","v":2.1342543393552962},{"$f":"('2012'!R32/'2012 Rate'!$AA32)*1000","v":3.0198370527807299},null,{"$f":"('2012'!T32/'2012 Rate'!$AA32)*1000","v":1.7711654268508679},{"$f":"('2012'!U32/'2012 Rate'!$AA32)*1000","v":0.59334041799504078},{"$f":"('2012'!V32/'2012 Rate'!$AA32)*1000","v":2.6036131774707756},{"$f":"('2012'!W32/'2012 Rate'!$AA32)*1000","v":1.3195182430038965},{"$f":"IF('2012'!X32=\"*\",\"\",('2012'!X32/'2012 Rate'!$AA32)*1000)","v":""},null,"South Ayrshire",{"$f":"'Population estimates'!J32","v":112920}]
[31,"South Lanarkshire",null,{"$f":"('2012'!D33/'2012 Rate'!$AA33)*1000","v":1.2979989183342346},{"$f":"('2012'!E33/'2012 Rate'!$AA33)*1000","v":0.79534247446950657},{"$f":"('2012'!F33/'2012 Rate'!$AA33)*1000","v":0.15588712499602328},{"$f":"('2012'!G33/'2012 Rate'!$AA33)*1000","v":0.34676931886870482},{"$f":"('2012'!H33/'2012 Rate'!$AA33)*1000","v":25.994973435561352},{"$f":"('2012'!I33/'2012 Rate'!$AA33)*1000","v":24.696974517227119},{"$f":"('2012'!J33/'2012 Rate'!$AA33)*1000","v":2.1028855024973754},{"$f":"('2012'!K33/'2012 Rate'!$AA33)*1000","v":20.045811726529443},{"$f":"('2012'!L33/'2012 Rate'!$AA33)*1000","v":17.942926224032067},{"$f":"('2012'!M33/'2012 Rate'!$AA33)*1000","v":0.21633315305570577},{"$f":"('2012'!N33/'2012 Rate'!$AA33)*1000","v":4.5207266248846754},{"$f":"('2012'!O33/'2012 Rate'!$AA33)*1000","v":4.3043934718289689},{"$f":"('2012'!P33/'2012 Rate'!$AA33)*1000","v":-1.0212197372188463},{"$f":"('2012'!Q33/'2012 Rate'!$AA33)*1000","v":1.4284350841472337},{"$f":"('2012'!R33/'2012 Rate'!$AA33)*1000","v":2.4496548213660803},null,{"$f":"('2012'!T33/'2012 Rate'!$AA33)*1000","v":1.1771068622148697},{"$f":"('2012'!U33/'2012 Rate'!$AA33)*1000","v":0.62672986988197121},{"$f":"('2012'!V33/'2012 Rate'!$AA33)*1000","v":4.6098049820252598},{"$f":"('2012'!W33/'2012 Rate'!$AA33)*1000","v":1.6224986479177934},{"$f":"IF('2012'!X33=\"*\",\"\",('2012'!X33/'2012 Rate'!$AA33)*1000)","v":""},null,"South Lanarkshire",{"$f":"'Population estimates'!J33","v":314330}]
[32,"Stirling",null,{"$f":"('2012'!D34/'2012 Rate'!$AA34)*1000","v":8.5045599384682991},{"$f":"('2012'!E34/'2012 Rate'!$AA34)*1000","v":3.0326337765080762},{"$f":"('2012'!F34/'2012 Rate'!$AA34)*1000","v":5.8235358751785515},{"$f":"('2012'!G34/'2012 Rate'!$AA34)*1000","v":-0.35160971321832768},{"$f":"('2012'!H34/'2012 Rate'!$AA34)*1000","v":57.224480826282829},{"$f":"('2012'!I34/'2012 Rate'!$AA34)*1000","v":48.719920887814524},{"$f":"('2012'!J34/'2012 Rate'!$AA34)*1000","v":2.3294143500714206},{"$f":"('2012'!K34/'2012 Rate'!$AA34)*1000","v":34.622568948467197},{"$f":"('2012'!L34/'2012 Rate'!$AA34)*1000","v":32.29315459839578},{"$f":"('2012'!M34/'2012 Rate'!$AA34)*1000","v":1.6152071200966927},{"$f":"('2012'!N34/'2012 Rate'!$AA34)*1000","v":11.020766948686957},{"$f":"('2012'!O34/'2012 Rate'!$AA34)*1000","v":9.4055598285902651},{"$f":"('2012'!P34/'2012 Rate'!$AA34)*1000","v":4.5599384683001869},{"$f":"('2012'!Q34/'2012 Rate'!$AA34)*1000","v":11.581144929128667},{"$f":"('2012'!R34/'2012 Rate'!$AA34)*1000","v":7.0212064608284805},null,{"$f":"('2012'!T34/'2012 Rate'!$AA34)*1000","v":5.384023733655642},{"$f":"('2012'!U34/'2012 Rate'!$AA34)*1000","v":0.87902428304581914},{"$f":"('2012'!V34/'2012 Rate'!$AA34)*1000","v":4.6478408966047686},{"$f":"('2012'!W34/'2012 Rate'!$AA34)*1000","v":2.2964509394572024},{"$f":"IF('2012'!X34=\"*\",\"\",('2012'!X34/'2012 Rate'!$AA34)*1000)","v":76.914624766509178},null,"Stirling",{"$f":"'Population estimates'!J34","v":91010}]
[33,"West Dunbartonshire",null,{"$f":"('2012'!D35/'2012 Rate'!$AA35)*1000","v":-3.0994022581359308},{"$f":"('2012'!E35/'2012 Rate'!$AA35)*1000","v":-0.43170245738321894},{"$f":"('2012'!F35/'2012 Rate'!$AA35)*1000","v":-1.815364179765331},{"$f":"('2012'!G35/'2012 Rate'!$AA35)*1000","v":-0.85233562098738103},{"$f":"('2012'!H35/'2012 Rate'!$AA35)*1000","v":23.721496568518926},{"$f":"('2012'!I35/'2012 Rate'!$AA35)*1000","v":26.820898826654858},{"$f":"('2012'!J35/'2012 Rate'!$AA35)*1000","v":-2.789462032322338},{"$f":"('2012'!K35/'2012 Rate'!$AA35)*1000","v":18.308611910560106},{"$f":"('2012'!L35/'2012 Rate'!$AA35)*1000","v":21.098073942882444},{"$f":"('2012'!M35/'2012 Rate'!$AA35)*1000","v":0.33207881337170686},{"$f":"('2012'!N35/'2012 Rate'!$AA35)*1000","v":4.1731237547044495},{"$f":"('2012'!O35/'2012 Rate'!$AA35)*1000","v":3.841044941332743},{"$f":"('2012'!P35/'2012 Rate'!$AA35)*1000","v":-0.6420190391852999},{"$f":"('2012'!Q35/'2012 Rate'!$AA35)*1000","v":1.2397609032543724},{"$f":"('2012'!R35/'2012 Rate'!$AA35)*1000","v":1.8817799424396724},null,{"$f":"('2012'!T35/'2012 Rate'!$AA35)*1000","v":1.1069293779056897},{"$f":"('2012'!U35/'2012 Rate'!$AA35)*1000","v":0.48704892627850338},{"$f":"('2012'!V35/'2012 Rate'!$AA35)*1000","v":3.2322337834846135},{"$f":"('2012'!W35/'2012 Rate'!$AA35)*1000","v":1.7157405357538189},{"$f":"IF('2012'!X35=\"*\",\"\",('2012'!X35/'2012 Rate'!$AA35)*1000)","v":""},null,"West Dunbartonshire",{"$f":"'Population estimates'!J35","v":90340}]
[34,"West Lothian",null,{"$f":"('2012'!D36/'2012 Rate'!$AA36)*1000","v":0.87495028691551613},{"$f":"('2012'!E36/'2012 Rate'!$AA36)*1000","v":0.21021532867450712},{"$f":"('2012'!F36/'2012 Rate'!$AA36)*1000","v":0.49997159252315204},{"$f":"('2012'!G36/'2012 Rate'!$AA36)*1000","v":0.16476336571785694},{"$f":"('2012'!H36/'2012 Rate'!$AA36)*1000","v":27.873416283165728},{"$f":"('2012'!I36/'2012 Rate'!$AA36)*1000","v":26.998465996250214},{"$f":"('2012'!J36/'2012 Rate'!$AA36)*1000","v":-0.57383103232770871},{"$f":"('2012'!K36/'2012 Rate'!$AA36)*1000","v":18.538719390943697},{"$f":"('2012'!L36/'2012 Rate'!$AA36)*1000","v":19.112550423271408},{"$f":"('2012'!M36/'2012 Rate'!$AA36)*1000","v":-3.4088972217487641E-2},{"$f":"('2012'!N36/'2012 Rate'!$AA36)*1000","v":5.1133458326231471},{"$f":"('2012'!O36/'2012 Rate'!$AA36)*1000","v":5.1474348048406346},{"$f":"('2012'!P36/'2012 Rate'!$AA36)*1000","v":1.4828702914607124},{"$f":"('2012'!Q36/'2012 Rate'!$AA36)*1000","v":4.2213510595988861},{"$f":"('2012'!R36/'2012 Rate'!$AA36)*1000","v":2.738480768138174},null,{"$f":"('2012'!T36/'2012 Rate'!$AA36)*1000","v":4.715641156752457},{"$f":"('2012'!U36/'2012 Rate'!$AA36)*1000","v":1.7442190784614511},{"$f":"('2012'!V36/'2012 Rate'!$AA36)*1000","v":5.6985398556900178},{"$f":"('2012'!W36/'2012 Rate'!$AA36)*1000","v":4.0338617124027039},{"$f":"IF('2012'!X36=\"*\",\"\",('2012'!X36/'2012 Rate'!$AA36)*1000)","v":62.49644906539401},null,"West Lothian",{"$f":"'Population estimates'!J36","v":176010}]
[]
[35,"Not specified"]
[36,"SCOTLAND",null,{"$f":"('2012'!D39/'2012 Rate'!$AA39)*1000","v":2.3972448057813911},{"$f":"('2012'!E39/'2012 Rate'!$AA39)*1000","v":0.30807738632941883},{"$f":"('2012'!F39/'2012 Rate'!$AA39)*1000","v":2.157106293285155},{"$f":"('2012'!G39/'2012 Rate'!$AA39)*1000","v":-6.793887383318277E-2},{"$f":"('2012'!H39/'2012 Rate'!$AA39)*1000","v":15.246913580246915},{"$f":"('2012'!I39/'2012 Rate'!$AA39)*1000","v":12.849668774465522},null,null,null,{"$f":"('2012'!M39/'2012 Rate'!$AA39)*1000","v":0.57174043962661847},{"$f":"('2012'!N39/'2012 Rate'!$AA39)*1000","v":8.4906654622101776},{"$f":"('2012'!O39/'2012 Rate'!$AA39)*1000","v":7.9189250225835588},{"$f":"('2012'!P39/'2012 Rate'!$AA39)*1000","v":1.8255043661547727},{"$f":"('2012'!Q39/'2012 Rate'!$AA39)*1000","v":6.7562481180367362},{"$f":"('2012'!R39/'2012 Rate'!$AA39)*1000","v":4.9307437518819635},null,null,{"$f":"('2012'!U39/'2012 Rate'!$AA39)*1000","v":1.5881887985546523},null,null,null,{"$f":"('2012'!Y39/'2012 Rate'!$AA39)*1000","v":9.3480879253236981},"SCOTLAND",{"$f":"'Population estimates'!J39","v":5313600}]
[37,"Ayrshire & Arran",null,{"$f":"('2012'!D40/'2012 Rate'!$AA40)*1000","v":-0.32152617758962543},{"$f":"('2012'!E40/'2012 Rate'!$AA40)*1000","v":0.53587696264937568},{"$f":"('2012'!F40/'2012 Rate'!$AA40)*1000","v":-1.1092653126842076},{"$f":"('2012'!G40/'2012 Rate'!$AA40)*1000","v":0.25186217244520659},{"$f":"('2012'!H40/'2012 Rate'!$AA40)*1000","v":20.593751674615511},{"$f":"('2012'!I40/'2012 Rate'!$AA40)*1000","v":20.915277852205133},{"$f":"('2012'!J40/'2012 Rate'!$AA40)*1000","v":0.1232517014093564},{"$f":"('2012'!K40/'2012 Rate'!$AA40)*1000","v":13.027168962006323},{"$f":"('2012'!L40/'2012 Rate'!$AA40)*1000","v":12.903917260596966},{"$f":"('2012'!M40/'2012 Rate'!$AA40)*1000","v":0.78773913509458227},{"$f":"('2012'!N40/'2012 Rate'!$AA40)*1000","v":6.2188521515460051},{"$f":"('2012'!O40/'2012 Rate'!$AA40)*1000","v":5.4311130164514232},{"$f":"('2012'!P40/'2012 Rate'!$AA40)*1000","v":-1.232517014093564},{"$f":"('2012'!Q40/'2012 Rate'!$AA40)*1000","v":1.34773056106318},{"$f":"('2012'!R40/'2012 Rate'!$AA40)*1000","v":2.5802475751567444},null,null,{"$f":"('2012'!U40/'2012 Rate'!$AA40)*1000","v":0.49032742082417879},null,null,null,null,"Ayrshire & Arran",{"$f":"'Population estimates'!J40","v":373220}]
[38,"Borders",null,{"$f":"('2012'!D41/'2012 Rate'!$AA41)*1000","v":0.39570875835385155},{"$f":"('2012'!E41/'2012 Rate'!$AA41)*1000","v":0.51002462187829756},{"$f":"('2012'!F41/'2012 Rate'!$AA41)*1000","v":0.114315863524446},{"$f":"('2012'!G41/'2012 Rate'!$AA41)*1000","v":-0.22863172704889201},{"$f":"('2012'!H41/'2012 Rate'!$AA41)*1000","v":35.103763629968341},{"$f":"('2012'!I41/'2012 Rate'!$AA41)*1000","v":34.708054871614493},{"$f":"('2012'!J41/'2012 Rate'!$AA41)*1000","v":-0.69468870911009495},{"$f":"('2012'!K41/'2012 Rate'!$AA41)*1000","v":18.545550474850511},{"$f":"('2012'!L41/'2012 Rate'!$AA41)*1000","v":19.240239183960608},{"$f":"('2012'!M41/'2012 Rate'!$AA41)*1000","v":1.6707703130495957},{"$f":"('2012'!N41/'2012 Rate'!$AA41)*1000","v":13.190291945128385},{"$f":"('2012'!O41/'2012 Rate'!$AA41)*1000","v":11.51952163207879},{"$f":"('2012'!P41/'2012 Rate'!$AA41)*1000","v":-0.58037284558564894},{"$f":"('2012'!Q41/'2012 Rate'!$AA41)*1000","v":3.3679212099894476},{"$f":"('2012'!R41/'2012 Rate'!$AA41)*1000","v":3.9482940555750963},null,null,{"$f":"('2012'!U41/'2012 Rate'!$AA41)*1000","v":1.1871262750615545},null,null,null,null,"Borders",{"$f":"'Population estimates'!J41","v":113720}]
[39,"Dumfries & Galloway",null,{"$f":"('2012'!D42/'2012 Rate'!$AA42)*1000","v":-0.84858127817555029},{"$f":"('2012'!E42/'2012 Rate'!$AA42)*1000","v":-0.11270220100769027},{"$f":"('2012'!F42/'2012 Rate'!$AA42)*1000","v":-0.49721559268098647},{"$f":"('2012'!G42/'2012 Rate'!$AA42)*1000","v":-0.23866348448687352},{"$f":"('2012'!H42/'2012 Rate'!$AA42)*1000","v":25.424290639087776},{"$f":"('2012'!I42/'2012 Rate'!$AA42)*1000","v":26.272871917263323},{"$f":"('2012'!J42/'2012 Rate'!$AA42)*1000","v":-1.1270220100769028},{"$f":"('2012'!K42/'2012 Rate'!$AA42)*1000","v":11.39618138424821},{"$f":"('2012'!L42/'2012 Rate'!$AA42)*1000","v":12.523203394325112},{"$f":"('2012'!M42/'2012 Rate'!$AA42)*1000","v":2.1347122779103689},{"$f":"('2012'!N42/'2012 Rate'!$AA42)*1000","v":12.410501193317423},{"$f":"('2012'!O42/'2012 Rate'!$AA42)*1000","v":10.275788915407054},{"$f":"('2012'!P42/'2012 Rate'!$AA42)*1000","v":-1.8562715460090162},{"$f":"('2012'!Q42/'2012 Rate'!$AA42)*1000","v":1.6176080615221426},{"$f":"('2012'!R42/'2012 Rate'!$AA42)*1000","v":3.4738796075311589},null,null,{"$f":"('2012'!U42/'2012 Rate'!$AA42)*1000","v":0.59665871121718383},null,null,null,null,"Dumfries & Galloway",{"$f":"'Population estimates'!J42","v":150840}]
[40,"Fife",null,{"$f":"('2012'!D43/'2012 Rate'!$AA43)*1000","v":1.7012096884301358},{"$f":"('2012'!E43/'2012 Rate'!$AA43)*1000","v":0.1693017667458562},{"$f":"('2012'!F43/'2012 Rate'!$AA43)*1000","v":1.2943393135086425},{"$f":"('2012'!G43/'2012 Rate'!$AA43)*1000","v":0.23756860817563694},{"$f":"('2012'!H43/'2012 Rate'!$AA43)*1000","v":29.330165751890991},{"$f":"('2012'!I43/'2012 Rate'!$AA43)*1000","v":27.628956063460855},{"$f":"('2012'!J43/'2012 Rate'!$AA43)*1000","v":0.54067338412386334},{"$f":"('2012'!K43/'2012 Rate'!$AA43)*1000","v":16.181972092515224},{"$f":"('2012'!L43/'2012 Rate'!$AA43)*1000","v":15.641298708391361},{"$f":"('2012'!M43/'2012 Rate'!$AA43)*1000","v":0.18022446137462111},{"$f":"('2012'!N43/'2012 Rate'!$AA43)*1000","v":7.7906119439665762},{"$f":"('2012'!O43/'2012 Rate'!$AA43)*1000","v":7.610387482591956},{"$f":"('2012'!P43/'2012 Rate'!$AA43)*1000","v":0.9803118429316513},{"$f":"('2012'!Q43/'2012 Rate'!$AA43)*1000","v":5.3575817154091911},{"$f":"('2012'!R43/'2012 Rate'!$AA43)*1000","v":4.3772698724775401},null,null,{"$f":"('2012'!U43/'2012 Rate'!$AA43)*1000","v":1.097730810190874},null,null,null,null,"Fife",{"$f":"'Population estimates'!J43","v":366210}]
[41,"Forth Valley",null,{"$f":"('2012'!D44/'2012 Rate'!$AA44)*1000","v":2.922197331906784},{"$f":"('2012'!E44/'2012 Rate'!$AA44)*1000","v":0.47811695476278043},{"$f":"('2012'!F44/'2012 Rate'!$AA44)*1000","v":2.2668761911130431},{"$f":"('2012'!G44/'2012 Rate'!$AA44)*1000","v":0.17720418603096058},{"$f":"('2012'!H44/'2012 Rate'!$AA44)*1000","v":30.459059146076431},{"$f":"('2012'!I44/'2012 Rate'!$AA44)*1000","v":27.536861814169647},{"$f":"('2012'!J44/'2012 Rate'!$AA44)*1000","v":1.1000033434752081},{"$f":"('2012'!K44/'2012 Rate'!$AA44)*1000","v":18.770269818449297},{"$f":"('2012'!L44/'2012 Rate'!$AA44)*1000","v":17.670266474974088},{"$f":"('2012'!M44/'2012 Rate'!$AA44)*1000","v":0.695442843291317},{"$f":"('2012'!N44/'2012 Rate'!$AA44)*1000","v":6.7337590691765019},{"$f":"('2012'!O44/'2012 Rate'!$AA44)*1000","v":6.0383162258851852},{"$f":"('2012'!P44/'2012 Rate'!$AA44)*1000","v":1.1267511451402588},{"$f":"('2012'!Q44/'2012 Rate'!$AA44)*1000","v":4.9550302584506332},{"$f":"('2012'!R44/'2012 Rate'!$AA44)*1000","v":3.8282791133103751},null,null,{"$f":"('2012'!U44/'2012 Rate'!$AA44)*1000","v":0.96960781035808619},null,null,null,null,"Forth Valley",{"$f":"'Population estimates'!J44","v":299090}]
[42,"Grampian",null,{"$f":"('2012'!D45/'2012 Rate'!$AA45)*1000","v":6.2085803976281833},{"$f":"('2012'!E45/'2012 Rate'!$AA45)*1000","v":1.3550749912800837},{"$f":"('2012'!F45/'2012 Rate'!$AA45)*1000","v":5.2563655388908268},{"$f":"('2012'!G45/'2012 Rate'!$AA45)*1000","v":-0.40286013254272762},{"$f":"('2012'!H45/'2012 Rate'!$AA45)*1000","v":33.589117544471577},{"$f":"('2012'!I45/'2012 Rate'!$AA45)*1000","v":27.380537146843391},{"$f":"('2012'!J45/'2012 Rate'!$AA45)*1000","v":1.0516219044297175},{"$f":"('2012'!K45/'2012 Rate'!$AA45)*1000","v":13.372863620509243},{"$f":"('2012'!L45/'2012 Rate'!$AA45)*1000","v":12.321241716079525},{"$f":"('2012'!M45/'2012 Rate'!$AA45)*1000","v":1.2992675270317404},{"$f":"('2012'!N45/'2012 Rate'!$AA45)*1000","v":10.116846878269969},{"$f":"('2012'!O45/'2012 Rate'!$AA45)*1000","v":8.8175793512382281},{"$f":"('2012'!P45/'2012 Rate'!$AA45)*1000","v":3.8576909661667247},{"$f":"('2012'!Q45/'2012 Rate'!$AA45)*1000","v":10.099407045692361},{"$f":"('2012'!R45/'2012 Rate'!$AA45)*1000","v":6.2417160795256361},null,null,{"$f":"('2012'!U45/'2012 Rate'!$AA45)*1000","v":2.3927450296477151},null,null,null,null,"Grampian",{"$f":"'Population estimates'!J45","v":573400}]
[43,"Greater Glasgow & Clyde",null,{"$f":"('2012'!D46/'2012 Rate'!$AA46)*1000","v":0.54074490908451445},{"$f":"('2012'!E46/'2012 Rate'!$AA46)*1000","v":-0.41852776703126648},{"$f":"('2012'!F46/'2012 Rate'!$AA46)*1000","v":1.3074596419653219},{"$f":"('2012'!G46/'2012 Rate'!$AA46)*1000","v":-0.34818696584954101},{"$f":"('2012'!H46/'2012 Rate'!$AA46)*1000","v":28.23919389441846},{"$f":"('2012'!I46/'2012 Rate'!$AA46)*1000","v":27.698448985333943},{"$f":"('2012'!J46/'2012 Rate'!$AA46)*1000","v":-1.7426933492772483},{"$f":"('2012'!K46/'2012 Rate'!$AA46)*1000","v":13.034150458973729},{"$f":"('2012'!L46/'2012 Rate'!$AA46)*1000","v":14.776843808250977},{"$f":"('2012'!M46/'2012 Rate'!$AA46)*1000","v":-0.39830478669152042},{"$f":"('2012'!N46/'2012 Rate'!$AA46)*1000","v":6.9804452572714801},{"$f":"('2012'!O46/'2012 Rate'!$AA46)*1000","v":7.3787500439630005},{"$f":"('2012'!P46/'2012 Rate'!$AA46)*1000","v":2.6817430450532829},{"$f":"('2012'!Q46/'2012 Rate'!$AA46)*1000","v":8.2245981781732507},{"$f":"('2012'!R46/'2012 Rate'!$AA46)*1000","v":5.5428551331199669},null,null,{"$f":"('2012'!U46/'2012 Rate'!$AA46)*1000","v":2.0108676537825767},null,null,null,null,"Greater Glasgow & Clyde",{"$f":"'Population estimates'!J46","v":1137320}]
[44,"Highland",null,{"$f":"('2012'!D47/'2012 Rate'!$AA47)*1000","v":-0.35959974984365228},{"$f":"('2012'!E47/'2012 Rate'!$AA47)*1000","v":-0.2032520325203252},{"$f":"('2012'!F47/'2012 Rate'!$AA47)*1000","v":0.18449030644152595},{"$f":"('2012'!G47/'2012 Rate'!$AA47)*1000","v":-0.34083802376485306},{"$f":"('2012'!H47/'2012 Rate'!$AA47)*1000","v":33.289555972482802},{"$f":"('2012'!I47/'2012 Rate'!$AA47)*1000","v":33.649155722326455},{"$f":"('2012'!J47/'2012 Rate'!$AA47)*1000","v":-1.3133208255159474},{"$f":"('2012'!K47/'2012 Rate'!$AA47)*1000","v":18.370856785490929},{"$f":"('2012'!L47/'2012 Rate'!$AA47)*1000","v":19.684177611006877},{"$f":"('2012'!M47/'2012 Rate'!$AA47)*1000","v":2.0356472795497185},{"$f":"('2012'!N47/'2012 Rate'!$AA47)*1000","v":11.588492808005004},{"$f":"('2012'!O47/'2012 Rate'!$AA47)*1000","v":9.5528455284552845},{"$f":"('2012'!P47/'2012 Rate'!$AA47)*1000","v":-1.0819262038774233},{"$f":"('2012'!Q47/'2012 Rate'!$AA47)*1000","v":3.3302063789868668},{"$f":"('2012'!R47/'2012 Rate'!$AA47)*1000","v":4.4121325828642899},null,null,{"$f":"('2012'!U47/'2012 Rate'!$AA47)*1000","v":1.2664165103189495},null,null,null,null,"Highland",{"$f":"'Population estimates'!J47","v":319800}]
[45,"Lanarkshire",null,{"$f":"('2012'!D48/'2012 Rate'!$AA48)*1000","v":0.21005182300450767},{"$f":"('2012'!E48/'2012 Rate'!$AA48)*1000","v":0.50443102020790531},{"$f":"('2012'!F48/'2012 Rate'!$AA48)*1000","v":-0.35264174664990344},{"$f":"('2012'!G48/'2012 Rate'!$AA48)*1000","v":5.8262549446505781E-2},{"$f":"('2012'!H48/'2012 Rate'!$AA48)*1000","v":19.499555364754226},{"$f":"('2012'!I48/'2012 Rate'!$AA48)*1000","v":19.289503541749717},{"$f":"('2012'!J48/'2012 Rate'!$AA48)*1000","v":0.85093986691607126},{"$f":"('2012'!K48/'2012 Rate'!$AA48)*1000","v":14.053540216491369},{"$f":"('2012'!L48/'2012 Rate'!$AA48)*1000","v":13.202600349575295},{"$f":"('2012'!M48/'2012 Rate'!$AA48)*1000","v":0.1640550734414768},{"$f":"('2012'!N48/'2012 Rate'!$AA48)*1000","v":3.9480543374934838},{"$f":"('2012'!O48/'2012 Rate'!$AA48)*1000","v":3.783999264052007},{"$f":"('2012'!P48/'2012 Rate'!$AA48)*1000","v":-0.80494311735304036},{"$f":"('2012'!Q48/'2012 Rate'!$AA48)*1000","v":1.4979608107693723},{"$f":"('2012'!R48/'2012 Rate'!$AA48)*1000","v":2.3029039281224124},null,null,{"$f":"('2012'!U48/'2012 Rate'!$AA48)*1000","v":0.67001931863481645},null,null,null,null,"Lanarkshire",{"$f":"'Population estimates'!J48","v":652220}]
[46,"Lothian",null,{"$f":"('2012'!D49/'2012 Rate'!$AA49)*1000","v":6.4782990020622471},{"$f":"('2012'!E49/'2012 Rate'!$AA49)*1000","v":0.4491905089245502},{"$f":"('2012'!F49/'2012 Rate'!$AA49)*1000","v":5.8785881906748525},{"$f":"('2012'!G49/'2012 Rate'!$AA49)*1000","v":0.15052030246284401},{"$f":"('2012'!H49/'2012 Rate'!$AA49)*1000","v":39.537061179984349},{"$f":"('2012'!I49/'2012 Rate'!$AA49)*1000","v":33.058762177922105},{"$f":"('2012'!J49/'2012 Rate'!$AA49)*1000","v":0.74786071538625642},{"$f":"('2012'!K49/'2012 Rate'!$AA49)*1000","v":14.868324365325812},{"$f":"('2012'!L49/'2012 Rate'!$AA49)*1000","v":14.120463649939555},{"$f":"('2012'!M49/'2012 Rate'!$AA49)*1000","v":0.44563491122857757},{"$f":"('2012'!N49/'2012 Rate'!$AA49)*1000","v":12.070068978595302},{"$f":"('2012'!O49/'2012 Rate'!$AA49)*1000","v":11.624434067366725},{"$f":"('2012'!P49/'2012 Rate'!$AA49)*1000","v":5.2848033754474129},{"$f":"('2012'!Q49/'2012 Rate'!$AA49)*1000","v":12.598667836063242},{"$f":"('2012'!R49/'2012 Rate'!$AA49)*1000","v":7.3138644606158287},null,null,{"$f":"('2012'!U49/'2012 Rate'!$AA49)*1000","v":2.5991419157560385},null,null,null,null,"Lothian",{"$f":"'Population estimates'!J49","v":843740}]
[47,"Orkney",null,{"$f":"('2012'!D50/'2012 Rate'!$AA50)*1000","v":4.9233627496516483},{"$f":"('2012'!E50/'2012 Rate'!$AA50)*1000","v":1.8578727357176035},{"$f":"('2012'!F50/'2012 Rate'!$AA50)*1000","v":3.2512772875058058},{"$f":"('2012'!G50/'2012 Rate'!$AA50)*1000","v":-0.18578727357176034},{"$f":"('2012'!H50/'2012 Rate'!$AA50)*1000","v":34.138411518810962},{"$f":"('2012'!I50/'2012 Rate'!$AA50)*1000","v":29.215048769159313},{"$f":"('2012'!J50/'2012 Rate'!$AA50)*1000","v":2.0436600092893635},{"$f":"('2012'!K50/'2012 Rate'!$AA50)*1000","v":19.228982814677195},{"$f":"('2012'!L50/'2012 Rate'!$AA50)*1000","v":17.185322805387834},{"$f":"('2012'!M50/'2012 Rate'!$AA50)*1000","v":4.412447747329308},{"$f":"('2012'!N50/'2012 Rate'!$AA50)*1000","v":13.144449605202043},{"$f":"('2012'!O50/'2012 Rate'!$AA50)*1000","v":8.7320018578727367},{"$f":"('2012'!P50/'2012 Rate'!$AA50)*1000","v":-1.5327450069670228},{"$f":"('2012'!Q50/'2012 Rate'!$AA50)*1000","v":1.7649790989317231},{"$f":"('2012'!R50/'2012 Rate'!$AA50)*1000","v":3.2977241058987459},null,null,{"$f":"('2012'!U50/'2012 Rate'!$AA50)*1000","v":0.51091500232234088},null,null,null,null,"Orkney",{"$f":"'Population estimates'!J50","v":21530}]
[48,"Shetland",null,{"$f":"('2012'!D51/'2012 Rate'!$AA51)*1000","v":-2.9297716501507973},{"$f":"('2012'!E51/'2012 Rate'!$AA51)*1000","v":-1.1632916846186989},{"$f":"('2012'!F51/'2012 Rate'!$AA51)*1000","v":-2.5420077552778975},{"$f":"('2012'!G51/'2012 Rate'!$AA51)*1000","v":0.77552778974579928},{"$f":"('2012'!H51/'2012 Rate'!$AA51)*1000","v":28.69452822059457},{"$f":"('2012'!I51/'2012 Rate'!$AA51)*1000","v":31.624299870745368},{"$f":"('2012'!J51/'2012 Rate'!$AA51)*1000","v":-4.4808272296423954},{"$f":"('2012'!K51/'2012 Rate'!$AA51)*1000","v":13.830245583800085},{"$f":"('2012'!L51/'2012 Rate'!$AA51)*1000","v":18.311072813442482},{"$f":"('2012'!M51/'2012 Rate'!$AA51)*1000","v":1.4648858250753987},{"$f":"('2012'!N51/'2012 Rate'!$AA51)*1000","v":10.94355881085739},{"$f":"('2012'!O51/'2012 Rate'!$AA51)*1000","v":9.4786729857819907},{"$f":"('2012'!P51/'2012 Rate'!$AA51)*1000","v":8.6169754416199909E-2},{"$f":"('2012'!Q51/'2012 Rate'!$AA51)*1000","v":3.9207238259370958},{"$f":"('2012'!R51/'2012 Rate'!$AA51)*1000","v":3.8345540715208961},null,null,{"$f":"('2012'!U51/'2012 Rate'!$AA51)*1000","v":0.90478242137009912},null,null,null,null,"Shetland",{"$f":"'Population estimates'!J51","v":23210}]
[49,"Tayside",null,{"$f":"('2012'!D52/'2012 Rate'!$AA52)*1000","v":4.2016806722689077},{"$f":"('2012'!E52/'2012 Rate'!$AA52)*1000","v":0.50517316753290908},{"$f":"('2012'!F52/'2012 Rate'!$AA52)*1000","v":3.6697916160683928},{"$f":"('2012'!G52/'2012 Rate'!$AA52)*1000","v":2.6715888667605773E-2},{"$f":"('2012'!H52/'2012 Rate'!$AA52)*1000","v":34.028756011074947},{"$f":"('2012'!I52/'2012 Rate'!$AA52)*1000","v":29.827075338806043},{"$f":"('2012'!J52/'2012 Rate'!$AA52)*1000","v":0.92048380045659883},{"$f":"('2012'!K52/'2012 Rate'!$AA52)*1000","v":17.316753290911741},{"$f":"('2012'!L52/'2012 Rate'!$AA52)*1000","v":16.396269490455143},{"$f":"('2012'!M52/'2012 Rate'!$AA52)*1000","v":0.78447563996696945},{"$f":"('2012'!N52/'2012 Rate'!$AA52)*1000","v":8.6098023024238604},{"$f":"('2012'!O52/'2012 Rate'!$AA52)*1000","v":7.8253266624568898},{"$f":"('2012'!P52/'2012 Rate'!$AA52)*1000","v":2.4967212318453393},{"$f":"('2012'!Q52/'2012 Rate'!$AA52)*1000","v":8.1022004177393505},{"$f":"('2012'!R52/'2012 Rate'!$AA52)*1000","v":5.6054791858940112},null,null,{"$f":"('2012'!U52/'2012 Rate'!$AA52)*1000","v":1.4572302909603148},null,null,null,null,"Tayside",{"$f":"'Population estimates'!J52","v":411740}]
[50,"Western Isles",null,{"$f":"('2012'!D53/'2012 Rate'!$AA53)*1000","v":0.47169811320754718},{"$f":"('2012'!E53/'2012 Rate'!$AA53)*1000","v":0.94339622641509435},{"$f":"('2012'!F53/'2012 Rate'!$AA53)*1000","v":-0.94339622641509435},{"$f":"('2012'!G53/'2012 Rate'!$AA53)*1000","v":0.47169811320754718},{"$f":"('2012'!H53/'2012 Rate'!$AA53)*1000","v":31.422351233671986},{"$f":"('2012'!I53/'2012 Rate'!$AA53)*1000","v":30.950653120464441},{"$f":"('2012'!J53/'2012 Rate'!$AA53)*1000","v":-1.0885341074020318},{"$f":"('2012'!K53/'2012 Rate'!$AA53)*1000","v":20.06531204644412},{"$f":"('2012'!L53/'2012 Rate'!$AA53)*1000","v":21.153846153846153},{"$f":"('2012'!M53/'2012 Rate'!$AA53)*1000","v":2.9027576197387517},{"$f":"('2012'!N53/'2012 Rate'!$AA53)*1000","v":9.7605224963715518},{"$f":"('2012'!O53/'2012 Rate'!$AA53)*1000","v":6.8577648766328005},{"$f":"('2012'!P53/'2012 Rate'!$AA53)*1000","v":-1.3425253991291726},{"$f":"('2012'!Q53/'2012 Rate'!$AA53)*1000","v":1.5965166908563135},{"$f":"('2012'!R53/'2012 Rate'!$AA53)*1000","v":2.9390420899854863},null,null,{"$f":"('2012'!U53/'2012 Rate'!$AA53)*1000","v":0.47169811320754718},null,null,null,null,"Western Isles",{"$f":"'Population estimates'!J53","v":27560}]

{"sheet":"2013","index":53,"n_rows":53,"n_cols":25,"rows_kept":53,"cut":false,"hidden":true,"merged":[]}
[null,2013]
[null,null,"Not specified ",{"$f":"'Comparing Indicators'!$U8","v":"Total net migration"},{"$f":"'Comparing Indicators'!$U9","v":"Total net migration for ages 0-15"},{"$f":"'Comparing Indicators'!$U10","v":"Total net migration for ages 16-64"},{"$f":"'Comparing Indicators'!$U11","v":"Total net migration for people aged 65+"},{"$f":"'Comparing Indicators'!$U12","v":"Total in-migration"},{"$f":"'Comparing Indicators'!$U13","v":"Total out-migration"},{"$f":"'Comparing Indicators'!$U14","v":"Within Scotland net migration"},{"$f":"'Comparing Indicators'!$U15","v":"Within Scotland in-migration"},{"$f":"'Comparing Indicators'!$U16","v":"Within Scotland out-migration"},{"$f":"'Comparing Indicators'!$U17","v":"Rest of UK net migration"},{"$f":"'Comparing Indicators'!$U18","v":"Rest of UK in-migration"},{"$f":"'Comparing Indicators'!$U19","v":"Rest of UK out-migration"},{"$f":"'Comparing Indicators'!$U20","v":"Overseas net migration"},{"$f":"'Comparing Indicators'!$U21","v":"Overseas in-migration"},{"$f":"'Comparing Indicators'!$U22","v":"Overseas out-migration"},{"$f":"'Comparing Indicators'!$U23","v":"Worker Registration Scheme"},{"$f":"'Comparing Indicators'!$U24","v":"NINo Allocation"},{"$f":"'Comparing Indicators'!$U25","v":"Births to non-UK mothers"},{"$f":"'Comparing Indicators'!$U26","v":"Pupils from a minority ethnic group"},{"$f":"'Comparing Indicators'!$U27","v":"Pupils with English as an additional language"},{"$f":"'Comparing Indicators'!$U28","v":"Estimate of resident population born outside the UK"},"NHS registrations from overseas"]
[1,"Not specified"]
[2,"SCOTLAND",null,{"$f":"'Total net migration'!K4","v":9962},{"$f":"'Total net migration 0-15'!K4","v":1877},{"$f":"'Total net migration 16-64'!K4","v":8267},{"$f":"'Total net migration 65+'!K4","v":-182},{"$f":"'Total in-migration'!K4","v":75885},{"$f":"'Total out-migration'!K4","v":65923},null,null,null,{"$f":"'Rest of UK net migration'!K4","v":7862},{"$f":"'Rest of UK in-migration'!K4","v":47685},{"$f":"'Rest of UK out-migration'!K4","v":39823},{"$f":"'Overseas net migration'!K4","v":2100},{"$f":"'Overseas in-migration'!K4","v":28200},{"$f":"'Overseas out-migration'!K4","v":26100},null,{"$f":"NINo!K5","v":39470},{"$f":"'Non-UK Births'!K5","v":8634},{"$f":"'Pupils ethnic group'!L5","v":39073},{"$f":"'Pupils with English as an add.'!I4","v":29532},{"$f":"'Pop born outside UK'!K5","v":353000},{"$f":"'NHS Overseas'!K5","v":51807}]
[3,"Aberdeen City",null,{"$f":"'Total net migration'!K5","v":1664},{"$f":"'Total net migration 0-15'!K5","v":-296},{"$f":"'Total net migration 16-64'!K5","v":2079},{"$f":"'Total net migration 65+'!K5","v":-119},{"$f":"'Total in-migration'!K5","v":14041},{"$f":"'Total out-migration'!K5","v":12377},{"$f":"'Within Scotland net migration'!K5","v":-195},{"$f":"'Within Scotland in-migration'!K5","v":7418},{"$f":"'Within Scotland out-migration'!K5","v":7613},{"$f":"'Rest of UK net migration'!K5","v":557},{"$f":"'Rest of UK in-migration'!K5","v":2987},{"$f":"'Rest of UK out-migration'!K5","v":2430},{"$f":"'Overseas net migration'!K5","v":1302},{"$f":"'Overseas in-migration'!K5","v":3636},{"$f":"'Overseas out-migration'!K5","v":2334},null,{"$f":"NINo!K6","v":4930},{"$f":"'Non-UK Births'!K6","v":940},{"$f":"'Pupils ethnic group'!L6","v":2412},{"$f":"'Pupils with English as an add.'!I5","v":2132},{"$f":"'Pop born outside UK'!K6","v":40000}]
[4,"Aberdeenshire",null,{"$f":"'Total net migration'!K6","v":1664},{"$f":"'Total net migration 0-15'!K6","v":745},{"$f":"'Total net migration 16-64'!K6","v":1039},{"$f":"'Total net migration 65+'!K6","v":-120},{"$f":"'Total in-migration'!K6","v":9553},{"$f":"'Total out-migration'!K6","v":7889},{"$f":"'Within Scotland net migration'!K6","v":1183},{"$f":"'Within Scotland in-migration'!K6","v":6667},{"$f":"'Within Scotland out-migration'!K6","v":5484},{"$f":"'Rest of UK net migration'!K6","v":365},{"$f":"'Rest of UK in-migration'!K6","v":1908},{"$f":"'Rest of UK out-migration'!K6","v":1543},{"$f":"'Overseas net migration'!K6","v":116},{"$f":"'Overseas in-migration'!K6","v":978},{"$f":"'Overseas out-migration'!K6","v":862},null,{"$f":"NINo!K7","v":1610},{"$f":"'Non-UK Births'!K7","v":364},{"$f":"'Pupils ethnic group'!L7","v":811},{"$f":"'Pupils with English as an add.'!I6","v":1216},{"$f":"'Pop born outside UK'!K7","v":10000}]
[5,"Angus",null,{"$f":"'Total net migration'!K7","v":113},{"$f":"'Total net migration 0-15'!K7","v":67},{"$f":"'Total net migration 16-64'!K7","v":-36},{"$f":"'Total net migration 65+'!K7","v":82},{"$f":"'Total in-migration'!K7","v":3945},{"$f":"'Total out-migration'!K7","v":3832},{"$f":"'Within Scotland net migration'!K7","v":162},{"$f":"'Within Scotland in-migration'!K7","v":2931},{"$f":"'Within Scotland out-migration'!K7","v":2769},{"$f":"'Rest of UK net migration'!K7","v":38},{"$f":"'Rest of UK in-migration'!K7","v":735},{"$f":"'Rest of UK out-migration'!K7","v":697},{"$f":"'Overseas net migration'!K7","v":-87},{"$f":"'Overseas in-migration'!K7","v":279},{"$f":"'Overseas out-migration'!K7","v":366},null,{"$f":"NINo!K8","v":1240},{"$f":"'Non-UK Births'!K8","v":133},{"$f":"'Pupils ethnic group'!L8","v":322},{"$f":"'Pupils with English as an add.'!I7","v":379},{"$f":"'Pop born outside UK'!K8","v":5000}]
[6,"Argyll & Bute",null,{"$f":"'Total net migration'!K8","v":-23},{"$f":"'Total net migration 0-15'!K8","v":99},{"$f":"'Total net migration 16-64'!K8","v":-76},{"$f":"'Total net migration 65+'!K8","v":-46},{"$f":"'Total in-migration'!K8","v":3931},{"$f":"'Total out-migration'!K8","v":3954},{"$f":"'Within Scotland net migration'!K8","v":-196},{"$f":"'Within Scotland in-migration'!K8","v":2313},{"$f":"'Within Scotland out-migration'!K8","v":2509},{"$f":"'Rest of UK net migration'!K8","v":384},{"$f":"'Rest of UK in-migration'!K8","v":1383},{"$f":"'Rest of UK out-migration'!K8","v":999},{"$f":"'Overseas net migration'!K8","v":-211},{"$f":"'Overseas in-migration'!K8","v":235},{"$f":"'Overseas out-migration'!K8","v":446},null,{"$f":"NINo!K9","v":460},{"$f":"'Non-UK Births'!K9","v":70},{"$f":"'Pupils ethnic group'!L9","v":219},{"$f":"'Pupils with English as an add.'!I8","v":145},{"$f":"'Pop born outside UK'!K9","v":4000}]
[7,"Clackmannanshire",null,{"$f":"'Total net migration'!K9","v":-59},{"$f":"'Total net migration 0-15'!K9","v":45},{"$f":"'Total net migration 16-64'!K9","v":-119},{"$f":"'Total net migration 65+'!K9","v":15},{"$f":"'Total in-migration'!K9","v":1602},{"$f":"'Total out-migration'!K9","v":1661},{"$f":"'Within Scotland net migration'!K9","v":-85},{"$f":"'Within Scotland in-migration'!K9","v":1182},{"$f":"'Within Scotland out-migration'!K9","v":1267},{"$f":"'Rest of UK net migration'!K9","v":60},{"$f":"'Rest of UK in-migration'!K9","v":346},{"$f":"'Rest of UK out-migration'!K9","v":286},{"$f":"'Overseas net migration'!K9","v":-34},{"$f":"'Overseas in-migration'!K9","v":74},{"$f":"'Overseas out-migration'!K9","v":108},null,{"$f":"NINo!K10","v":140},{"$f":"'Non-UK Births'!K10","v":42},{"$f":"'Pupils ethnic group'!L10","v":200},{"$f":"'Pupils with English as an add.'!I9","v":139},{"$f":"'Pop born outside UK'!K10","v":2000}]
[8,"Dumfries & Galloway",null,{"$f":"'Total net migration'!K10","v":-6},{"$f":"'Total net migration 0-15'!K10","v":9},{"$f":"'Total net migration 16-64'!K10","v":19},{"$f":"'Total net migration 65+'!K10","v":-34},{"$f":"'Total in-migration'!K10","v":3981},{"$f":"'Total out-migration'!K10","v":3987},{"$f":"'Within Scotland net migration'!K10","v":-194},{"$f":"'Within Scotland in-migration'!K10","v":1734},{"$f":"'Within Scotland out-migration'!K10","v":1928},{"$f":"'Rest of UK net migration'!K10","v":523},{"$f":"'Rest of UK in-migration'!K10","v":2047},{"$f":"'Rest of UK out-migration'!K10","v":1524},{"$f":"'Overseas net migration'!K10","v":-335},{"$f":"'Overseas in-migration'!K10","v":200},{"$f":"'Overseas out-migration'!K10","v":535},null,{"$f":"NINo!K11","v":280},{"$f":"'Non-UK Births'!K11","v":98},{"$f":"'Pupils ethnic group'!L11","v":399},{"$f":"'Pupils with English as an add.'!I10","v":298},{"$f":"'Pop born outside UK'!K11","v":4000}]
[9,"Dundee City",null,{"$f":"'Total net migration'!K11","v":309},{"$f":"'Total net migration 0-15'!K11","v":-37},{"$f":"'Total net migration 16-64'!K11","v":395},{"$f":"'Total net migration 65+'!K11","v":-49},{"$f":"'Total in-migration'!K11","v":7071},{"$f":"'Total out-migration'!K11","v":6762},{"$f":"'Within Scotland net migration'!K11","v":-249},{"$f":"'Within Scotland in-migration'!K11","v":4170},{"$f":"'Within Scotland out-migration'!K11","v":4419},{"$f":"'Rest of UK net migration'!K11","v":238},{"$f":"'Rest of UK in-migration'!K11","v":1527},{"$f":"'Rest of UK out-migration'!K11","v":1289},{"$f":"'Overseas net migration'!K11","v":320},{"$f":"'Overseas in-migration'!K11","v":1374},{"$f":"'Overseas out-migration'!K11","v":1054},null,{"$f":"NINo!K12","v":1300},{"$f":"'Non-UK Births'!K12","v":238},{"$f":"'Pupils ethnic group'!L12","v":1440},{"$f":"'Pupils with English as an add.'!I11","v":959},{"$f":"'Pop born outside UK'!K12","v":15000}]
[10,"East Ayrshire",null,{"$f":"'Total net migration'!K12","v":-120},{"$f":"'Total net migration 0-15'!K12","v":-4},{"$f":"'Total net migration 16-64'!K12","v":-132},{"$f":"'Total net migration 65+'!K12","v":16},{"$f":"'Total in-migration'!K12","v":3108},{"$f":"'Total out-migration'!K12","v":3228},{"$f":"'Within Scotland net migration'!K12","v":-37},{"$f":"'Within Scotland in-migration'!K12","v":2366},{"$f":"'Within Scotland out-migration'!K12","v":2403},{"$f":"'Rest of UK net migration'!K12","v":78},{"$f":"'Rest of UK in-migration'!K12","v":664},{"$f":"'Rest of UK out-migration'!K12","v":586},{"$f":"'Overseas net migration'!K12","v":-161},{"$f":"'Overseas in-migration'!K12","v":78},{"$f":"'Overseas out-migration'!K12","v":239},null,{"$f":"NINo!K13","v":80},{"$f":"'Non-UK Births'!K13","v":45},{"$f":"'Pupils ethnic group'!L13","v":332},{"$f":"'Pupils with English as an add.'!I12","v":126},{"$f":"'Pop born outside UK'!K13","v":2000}]
[11,"East Dunbartonshire",null,{"$f":"'Total net migration'!K13","v":92},{"$f":"'Total net migration 0-15'!K13","v":251},{"$f":"'Total net migration 16-64'!K13","v":-177},{"$f":"'Total net migration 65+'!K13","v":18},{"$f":"'Total in-migration'!K13","v":3512},{"$f":"'Total out-migration'!K13","v":3420},{"$f":"'Within Scotland net migration'!K13","v":287},{"$f":"'Within Scotland in-migration'!K13","v":2984},{"$f":"'Within Scotland out-migration'!K13","v":2697},{"$f":"'Rest of UK net migration'!K13","v":-73},{"$f":"'Rest of UK in-migration'!K13","v":451},{"$f":"'Rest of UK out-migration'!K13","v":524},{"$f":"'Overseas net migration'!K13","v":-122},{"$f":"'Overseas in-migration'!K13","v":77},{"$f":"'Overseas out-migration'!K13","v":199},null,{"$f":"NINo!K14","v":90},{"$f":"'Non-UK Births'!K14","v":73},{"$f":"'Pupils ethnic group'!L14","v":1148},{"$f":"'Pupils with English as an add.'!I13","v":377},{"$f":"'Pop born outside UK'!K14","v":5000}]
[12,"East Lothian",null,{"$f":"'Total net migration'!K14","v":521},{"$f":"'Total net migration 0-15'!K14","v":154},{"$f":"'Total net migration 16-64'!K14","v":313},{"$f":"'Total net migration 65+'!K14","v":54},{"$f":"'Total in-migration'!K14","v":3775},{"$f":"'Total out-migration'!K14","v":3254},{"$f":"'Within Scotland net migration'!K14","v":496},{"$f":"'Within Scotland in-migration'!K14","v":2820},{"$f":"'Within Scotland out-migration'!K14","v":2324},{"$f":"'Rest of UK net migration'!K14","v":77},{"$f":"'Rest of UK in-migration'!K14","v":703},{"$f":"'Rest of UK out-migration'!K14","v":626},{"$f":"'Overseas net migration'!K14","v":-52},{"$f":"'Overseas in-migration'!K14","v":252},{"$f":"'Overseas out-migration'!K14","v":304},null,{"$f":"NINo!K15","v":370},{"$f":"'Non-UK Births'!K15","v":115},{"$f":"'Pupils ethnic group'!L15","v":330},{"$f":"'Pupils with English as an add.'!I14","v":221},{"$f":"'Pop born outside UK'!K15","v":6000}]
[13,"East Renfrewshire",null,{"$f":"'Total net migration'!K15","v":539},{"$f":"'Total net migration 0-15'!K15","v":584},{"$f":"'Total net migration 16-64'!K15","v":-24},{"$f":"'Total net migration 65+'!K15","v":-21},{"$f":"'Total in-migration'!K15","v":3665},{"$f":"'Total out-migration'!K15","v":3126},{"$f":"'Within Scotland net migration'!K15","v":698},{"$f":"'Within Scotland in-migration'!K15","v":3156},{"$f":"'Within Scotland out-migration'!K15","v":2458},{"$f":"'Rest of UK net migration'!K15","v":-51},{"$f":"'Rest of UK in-migration'!K15","v":421},{"$f":"'Rest of UK out-migration'!K15","v":472},{"$f":"'Overseas net migration'!K15","v":-108},{"$f":"'Overseas in-migration'!K15","v":88},{"$f":"'Overseas out-migration'!K15","v":196},null,{"$f":"NINo!K16","v":100},{"$f":"'Non-UK Births'!K16","v":87},{"$f":"'Pupils ethnic group'!L16","v":2407},{"$f":"'Pupils with English as an add.'!I15","v":818},{"$f":"'Pop born outside UK'!K16","v":3000}]
[14,"Edinburgh, City of",null,{"$f":"'Total net migration'!K16","v":2998},{"$f":"'Total net migration 0-15'!K16","v":-151},{"$f":"'Total net migration 16-64'!K16","v":3149},{"$f":"'Total net migration 65+'!K16","v":0},{"$f":"'Total in-migration'!K16","v":27834},{"$f":"'Total out-migration'!K16","v":24836},{"$f":"'Within Scotland net migration'!K16","v":-614},{"$f":"'Within Scotland in-migration'!K16","v":11500},{"$f":"'Within Scotland out-migration'!K16","v":12114},{"$f":"'Rest of UK net migration'!K16","v":1659},{"$f":"'Rest of UK in-migration'!K16","v":9083},{"$f":"'Rest of UK out-migration'!K16","v":7424},{"$f":"'Overseas net migration'!K16","v":1953},{"$f":"'Overseas in-migration'!K16","v":7251},{"$f":"'Overseas out-migration'!K16","v":5298},null,{"$f":"NINo!K17","v":11360},{"$f":"'Non-UK Births'!K17","v":1700},{"$f":"'Pupils ethnic group'!L17","v":6082},{"$f":"'Pupils with English as an add.'!I16","v":4861},{"$f":"'Pop born outside UK'!K17","v":70000}]
[15,"Eilean Siar",null,{"$f":"'Total net migration'!K17","v":-19},{"$f":"'Total net migration 0-15'!K17","v":-11},{"$f":"'Total net migration 16-64'!K17","v":-20},{"$f":"'Total net migration 65+'!K17","v":12},{"$f":"'Total in-migration'!K17","v":861},{"$f":"'Total out-migration'!K17","v":880},{"$f":"'Within Scotland net migration'!K17","v":-73},{"$f":"'Within Scotland in-migration'!K17","v":499},{"$f":"'Within Scotland out-migration'!K17","v":572},{"$f":"'Rest of UK net migration'!K17","v":113},{"$f":"'Rest of UK in-migration'!K17","v":334},{"$f":"'Rest of UK out-migration'!K17","v":221},{"$f":"'Overseas net migration'!K17","v":-59},{"$f":"'Overseas in-migration'!K17","v":28},{"$f":"'Overseas out-migration'!K17","v":87},null,{"$f":"NINo!K18","v":30},{"$f":"'Non-UK Births'!K18","v":21},{"$f":"'Pupils ethnic group'!L18","v":57},{"$f":"'Pupils with English as an add.'!I17","v":47},{"$f":"'Pop born outside UK'!K18","v":1000}]
[16,"Falkirk",null,{"$f":"'Total net migration'!K18","v":375},{"$f":"'Total net migration 0-15'!K18","v":70},{"$f":"'Total net migration 16-64'!K18","v":226},{"$f":"'Total net migration 65+'!K18","v":79},{"$f":"'Total in-migration'!K18","v":4076},{"$f":"'Total out-migration'!K18","v":3701},{"$f":"'Within Scotland net migration'!K18","v":396},{"$f":"'Within Scotland in-migration'!K18","v":3170},{"$f":"'Within Scotland out-migration'!K18","v":2774},{"$f":"'Rest of UK net migration'!K18","v":107},{"$f":"'Rest of UK in-migration'!K18","v":671},{"$f":"'Rest of UK out-migration'!K18","v":564},{"$f":"'Overseas net migration'!K18","v":-128},{"$f":"'Overseas in-migration'!K18","v":235},{"$f":"'Overseas out-migration'!K18","v":363},null,{"$f":"NINo!K19","v":380},{"$f":"'Non-UK Births'!K19","v":149},{"$f":"'Pupils ethnic group'!L19","v":678},{"$f":"'Pupils with English as an add.'!I18","v":497},{"$f":"'Pop born outside UK'!K19","v":7000}]
[17,"Fife",null,{"$f":"'Total net migration'!K19","v":304},{"$f":"'Total net migration 0-15'!K19","v":169},{"$f":"'Total net migration 16-64'!K19","v":121},{"$f":"'Total net migration 65+'!K19","v":14},{"$f":"'Total in-migration'!K19","v":10459},{"$f":"'Total out-migration'!K19","v":10155},{"$f":"'Within Scotland net migration'!K19","v":-120},{"$f":"'Within Scotland in-migration'!K19","v":5733},{"$f":"'Within Scotland out-migration'!K19","v":5853},{"$f":"'Rest of UK net migration'!K19","v":478},{"$f":"'Rest of UK in-migration'!K19","v":3216},{"$f":"'Rest of UK out-migration'!K19","v":2738},{"$f":"'Overseas net migration'!K19","v":-54},{"$f":"'Overseas in-migration'!K19","v":1510},{"$f":"'Overseas out-migration'!K19","v":1564},null,{"$f":"NINo!K20","v":1970},{"$f":"'Non-UK Births'!K20","v":407},{"$f":"'Pupils ethnic group'!L20","v":1477},{"$f":"'Pupils with English as an add.'!I19","v":903},{"$f":"'Pop born outside UK'!K20","v":20000}]
[18,"Glasgow City",null,{"$f":"'Total net migration'!K20","v":439},{"$f":"'Total net migration 0-15'!K20","v":-923},{"$f":"'Total net migration 16-64'!K20","v":1679},{"$f":"'Total net migration 65+'!K20","v":-317},{"$f":"'Total in-migration'!K20","v":28008},{"$f":"'Total out-migration'!K20","v":27569},{"$f":"'Within Scotland net migration'!K20","v":-1801},{"$f":"'Within Scotland in-migration'!K20","v":14999},{"$f":"'Within Scotland out-migration'!K20","v":16800},{"$f":"'Rest of UK net migration'!K20","v":175},{"$f":"'Rest of UK in-migration'!K20","v":5921},{"$f":"'Rest of UK out-migration'!K20","v":5746},{"$f":"'Overseas net migration'!K20","v":2065},{"$f":"'Overseas in-migration'!K20","v":7088},{"$f":"'Overseas out-migration'!K20","v":5023},null,{"$f":"NINo!K21","v":6820},{"$f":"'Non-UK Births'!K21","v":1986},{"$f":"'Pupils ethnic group'!L21","v":11772},{"$f":"'Pupils with English as an add.'!I20","v":10445},{"$f":"'Pop born outside UK'!K21","v":68000}]
[19,"Highland",null,{"$f":"'Total net migration'!K21","v":93},{"$f":"'Total net migration 0-15'!K21","v":166},{"$f":"'Total net migration 16-64'!K21","v":-30},{"$f":"'Total net migration 65+'!K21","v":-43},{"$f":"'Total in-migration'!K21","v":7078},{"$f":"'Total out-migration'!K21","v":6985},{"$f":"'Within Scotland net migration'!K21","v":-428},{"$f":"'Within Scotland in-migration'!K21","v":3974},{"$f":"'Within Scotland out-migration'!K21","v":4402},{"$f":"'Rest of UK net migration'!K21","v":764},{"$f":"'Rest of UK in-migration'!K21","v":2485},{"$f":"'Rest of UK out-migration'!K21","v":1721},{"$f":"'Overseas net migration'!K21","v":-243},{"$f":"'Overseas in-migration'!K21","v":619},{"$f":"'Overseas out-migration'!K21","v":862},null,{"$f":"NINo!K22","v":1290},{"$f":"'Non-UK Births'!K22","v":316},{"$f":"'Pupils ethnic group'!L22","v":714},{"$f":"'Pupils with English as an add.'!I21","v":867},{"$f":"'Pop born outside UK'!K22","v":11000}]
[20,"Inverclyde",null,{"$f":"'Total net migration'!K22","v":-160},{"$f":"'Total net migration 0-15'!K22","v":36},{"$f":"'Total net migration 16-64'!K22","v":-195},{"$f":"'Total net migration 65+'!K22","v":-1},{"$f":"'Total in-migration'!K22","v":1403},{"$f":"'Total out-migration'!K22","v":1563},{"$f":"'Within Scotland net migration'!K22","v":-153},{"$f":"'Within Scotland in-migration'!K22","v":983},{"$f":"'Within Scotland out-migration'!K22","v":1136},{"$f":"'Rest of UK net migration'!K22","v":50},{"$f":"'Rest of UK in-migration'!K22","v":349},{"$f":"'Rest of UK out-migration'!K22","v":299},{"$f":"'Overseas net migration'!K22","v":-57},{"$f":"'Overseas in-migration'!K22","v":71},{"$f":"'Overseas out-migration'!K22","v":128},null,{"$f":"NINo!K23","v":80},{"$f":"'Non-UK Births'!K23","v":33},{"$f":"'Pupils ethnic group'!L23","v":184},{"$f":"'Pupils with English as an add.'!I22","v":53},{"$f":"'Pop born outside UK'!K23","v":2000}]
[21,"Midlothian",null,{"$f":"'Total net migration'!K23","v":576},{"$f":"'Total net migration 0-15'!K23","v":147},{"$f":"'Total net migration 16-64'!K23","v":443},{"$f":"'Total net migration 65+'!K23","v":-14},{"$f":"'Total in-migration'!K23","v":2988},{"$f":"'Total out-migration'!K23","v":2412},{"$f":"'Within Scotland net migration'!K23","v":565},{"$f":"'Within Scotland in-migration'!K23","v":2461},{"$f":"'Within Scotland out-migration'!K23","v":1896},{"$f":"'Rest of UK net migration'!K23","v":56},{"$f":"'Rest of UK in-migration'!K23","v":439},{"$f":"'Rest of UK out-migration'!K23","v":383},{"$f":"'Overseas net migration'!K23","v":-45},{"$f":"'Overseas in-migration'!K23","v":88},{"$f":"'Overseas out-migration'!K23","v":133},null,{"$f":"NINo!K24","v":180},{"$f":"'Non-UK Births'!K24","v":85},{"$f":"'Pupils ethnic group'!L24","v":373},{"$f":"'Pupils with English as an add.'!I23","v":230},{"$f":"'Pop born outside UK'!K24","v":3000}]
[22,"Moray",null,{"$f":"'Total net migration'!K24","v":596},{"$f":"'Total net migration 0-15'!K24","v":163},{"$f":"'Total net migration 16-64'!K24","v":402},{"$f":"'Total net migration 65+'!K24","v":31},{"$f":"'Total in-migration'!K24","v":3528},{"$f":"'Total out-migration'!K24","v":2932},{"$f":"'Within Scotland net migration'!K24","v":127},{"$f":"'Within Scotland in-migration'!K24","v":1820},{"$f":"'Within Scotland out-migration'!K24","v":1693},{"$f":"'Rest of UK net migration'!K24","v":615},{"$f":"'Rest of UK in-migration'!K24","v":1481},{"$f":"'Rest of UK out-migration'!K24","v":866},{"$f":"'Overseas net migration'!K24","v":-146},{"$f":"'Overseas in-migration'!K24","v":227},{"$f":"'Overseas out-migration'!K24","v":373},null,{"$f":"NINo!K25","v":320},{"$f":"'Non-UK Births'!K25","v":112},{"$f":"'Pupils ethnic group'!L25","v":268},{"$f":"'Pupils with English as an add.'!I24","v":304},{"$f":"'Pop born outside UK'!K25","v":4000}]
[23,"North Ayrshire",null,{"$f":"'Total net migration'!K25","v":-308},{"$f":"'Total net migration 0-15'!K25","v":-13},{"$f":"'Total net migration 16-64'!K25","v":-333},{"$f":"'Total net migration 65+'!K25","v":38},{"$f":"'Total in-migration'!K25","v":3495},{"$f":"'Total out-migration'!K25","v":3803},{"$f":"'Within Scotland net migration'!K25","v":-197},{"$f":"'Within Scotland in-migration'!K25","v":2573},{"$f":"'Within Scotland out-migration'!K25","v":2770},{"$f":"'Rest of UK net migration'!K25","v":127},{"$f":"'Rest of UK in-migration'!K25","v":812},{"$f":"'Rest of UK out-migration'!K25","v":685},{"$f":"'Overseas net migration'!K25","v":-238},{"$f":"'Overseas in-migration'!K25","v":110},{"$f":"'Overseas out-migration'!K25","v":348},null,{"$f":"NINo!K26","v":130},{"$f":"'Non-UK Births'!K26","v":61},{"$f":"'Pupils ethnic group'!L26","v":296},{"$f":"'Pupils with English as an add.'!I25","v":108},{"$f":"'Pop born outside UK'!K26","v":4000}]
[24,"North Lanarkshire",null,{"$f":"'Total net migration'!K26","v":-385},{"$f":"'Total net migration 0-15'!K26","v":109},{"$f":"'Total net migration 16-64'!K26","v":-407},{"$f":"'Total net migration 65+'!K26","v":-87},{"$f":"'Total in-migration'!K26","v":6642},{"$f":"'Total out-migration'!K26","v":7027},{"$f":"'Within Scotland net migration'!K26","v":-182},{"$f":"'Within Scotland in-migration'!K26","v":5112},{"$f":"'Within Scotland out-migration'!K26","v":5294},{"$f":"'Rest of UK net migration'!K26","v":139},{"$f":"'Rest of UK in-migration'!K26","v":1120},{"$f":"'Rest of UK out-migration'!K26","v":981},{"$f":"'Overseas net migration'!K26","v":-342},{"$f":"'Overseas in-migration'!K26","v":410},{"$f":"'Overseas out-migration'!K26","v":752},null,{"$f":"NINo!K27","v":590},{"$f":"'Non-UK Births'!K27","v":265},{"$f":"'Pupils ethnic group'!L27","v":1697},{"$f":"'Pupils with English as an add.'!I26","v":1000},{"$f":"'Pop born outside UK'!K27","v":7000}]
[25,"Orkney Islands",null,{"$f":"'Total net migration'!K27","v":80},{"$f":"'Total net migration 0-15'!K27","v":35},{"$f":"'Total net migration 16-64'!K27","v":39},{"$f":"'Total net migration 65+'!K27","v":6},{"$f":"'Total in-migration'!K27","v":761},{"$f":"'Total out-migration'!K27","v":681},{"$f":"'Within Scotland net migration'!K27","v":20},{"$f":"'Within Scotland in-migration'!K27","v":429},{"$f":"'Within Scotland out-migration'!K27","v":409},{"$f":"'Rest of UK net migration'!K27","v":88},{"$f":"'Rest of UK in-migration'!K27","v":283},{"$f":"'Rest of UK out-migration'!K27","v":195},{"$f":"'Overseas net migration'!K27","v":-28},{"$f":"'Overseas in-migration'!K27","v":49},{"$f":"'Overseas out-migration'!K27","v":77},null,{"$f":"NINo!K28","v":70},{"$f":"'Non-UK Births'!K28","v":7},{"$f":"'Pupils ethnic group'!L28","v":38},{"$f":"'Pupils with English as an add.'!I27","v":15},{"$f":"'Pop born outside UK'!K28","v":"0~"}]
[26,"Perth & Kinross",null,{"$f":"'Total net migration'!K28","v":377},{"$f":"'Total net migration 0-15'!K28","v":244},{"$f":"'Total net migration 16-64'!K28","v":81},{"$f":"'Total net migration 65+'!K28","v":52},{"$f":"'Total in-migration'!K28","v":5977},{"$f":"'Total out-migration'!K28","v":5600},{"$f":"'Within Scotland net migration'!K28","v":179},{"$f":"'Within Scotland in-migration'!K28","v":3904},{"$f":"'Within Scotland out-migration'!K28","v":3725},{"$f":"'Rest of UK net migration'!K28","v":208},{"$f":"'Rest of UK in-migration'!K28","v":1232},{"$f":"'Rest of UK out-migration'!K28","v":1024},{"$f":"'Overseas net migration'!K28","v":-10},{"$f":"'Overseas in-migration'!K28","v":841},{"$f":"'Overseas out-migration'!K28","v":851},null,{"$f":"NINo!K29","v":2350},{"$f":"'Non-UK Births'!K29","v":211},{"$f":"'Pupils ethnic group'!L29","v":542},{"$f":"'Pupils with English as an add.'!I28","v":578},{"$f":"'Pop born outside UK'!K29","v":11000}]
[27,"Renfrewshire",null,{"$f":"'Total net migration'!K29","v":-343},{"$f":"'Total net migration 0-15'!K29","v":-25},{"$f":"'Total net migration 16-64'!K29","v":-321},{"$f":"'Total net migration 65+'!K29","v":3},{"$f":"'Total in-migration'!K29","v":4407},{"$f":"'Total out-migration'!K29","v":4750},{"$f":"'Within Scotland net migration'!K29","v":-143},{"$f":"'Within Scotland in-migration'!K29","v":3331},{"$f":"'Within Scotland out-migration'!K29","v":3474},{"$f":"'Rest of UK net migration'!K29","v":6},{"$f":"'Rest of UK in-migration'!K29","v":745},{"$f":"'Rest of UK out-migration'!K29","v":739},{"$f":"'Overseas net migration'!K29","v":-206},{"$f":"'Overseas in-migration'!K29","v":331},{"$f":"'Overseas out-migration'!K29","v":537},null,{"$f":"NINo!K30","v":510},{"$f":"'Non-UK Births'!K30","v":176},{"$f":"'Pupils ethnic group'!L30","v":850},{"$f":"'Pupils with English as an add.'!I29","v":416},{"$f":"'Pop born outside UK'!K30","v":9000}]
[28,"Scottish Borders",null,{"$f":"'Total net migration'!K30","v":308},{"$f":"'Total net migration 0-15'!K30","v":101},{"$f":"'Total net migration 16-64'!K30","v":175},{"$f":"'Total net migration 65+'!K30","v":32},{"$f":"'Total in-migration'!K30","v":3973},{"$f":"'Total out-migration'!K30","v":3665},{"$f":"'Within Scotland net migration'!K30","v":-8},{"$f":"'Within Scotland in-migration'!K30","v":2151},{"$f":"'Within Scotland out-migration'!K30","v":2159},{"$f":"'Rest of UK net migration'!K30","v":489},{"$f":"'Rest of UK in-migration'!K30","v":1572},{"$f":"'Rest of UK out-migration'!K30","v":1083},{"$f":"'Overseas net migration'!K30","v":-173},{"$f":"'Overseas in-migration'!K30","v":250},{"$f":"'Overseas out-migration'!K30","v":423},null,{"$f":"NINo!K31","v":340},{"$f":"'Non-UK Births'!K31","v":130},{"$f":"'Pupils ethnic group'!L31","v":305},{"$f":"'Pupils with English as an add.'!I30","v":357},{"$f":"'Pop born outside UK'!K31","v":6000}]
[29,"Shetland Islands",null,{"$f":"'Total net migration'!K31","v":-89},{"$f":"'Total net migration 0-15'!K31","v":-43},{"$f":"'Total net migration 16-64'!K31","v":-23},{"$f":"'Total net migration 65+'!K31","v":-23},{"$f":"'Total in-migration'!K31","v":647},{"$f":"'Total out-migration'!K31","v":736},{"$f":"'Within Scotland net migration'!K31","v":-85},{"$f":"'Within Scotland in-migration'!K31","v":351},{"$f":"'Within Scotland out-migration'!K31","v":436},{"$f":"'Rest of UK net migration'!K31","v":28},{"$f":"'Rest of UK in-migration'!K31","v":236},{"$f":"'Rest of UK out-migration'!K31","v":208},{"$f":"'Overseas net migration'!K31","v":-32},{"$f":"'Overseas in-migration'!K31","v":60},{"$f":"'Overseas out-migration'!K31","v":92},null,{"$f":"NINo!K32","v":190},{"$f":"'Non-UK Births'!K32","v":22},{"$f":"'Pupils ethnic group'!L32","v":84},{"$f":"'Pupils with English as an add.'!I31","v":29},{"$f":"'Pop born outside UK'!K32","v":1000}]
[30,"South Ayrshire",null,{"$f":"'Total net migration'!K32","v":405},{"$f":"'Total net migration 0-15'!K32","v":128},{"$f":"'Total net migration 16-64'!K32","v":148},{"$f":"'Total net migration 65+'!K32","v":129},{"$f":"'Total in-migration'!K32","v":3726},{"$f":"'Total out-migration'!K32","v":3321},{"$f":"'Within Scotland net migration'!K32","v":333},{"$f":"'Within Scotland in-migration'!K32","v":2681},{"$f":"'Within Scotland out-migration'!K32","v":2348},{"$f":"'Rest of UK net migration'!K32","v":265},{"$f":"'Rest of UK in-migration'!K32","v":878},{"$f":"'Rest of UK out-migration'!K32","v":613},{"$f":"'Overseas net migration'!K32","v":-193},{"$f":"'Overseas in-migration'!K32","v":167},{"$f":"'Overseas out-migration'!K32","v":360},null,{"$f":"NINo!K33","v":220},{"$f":"'Non-UK Births'!K33","v":58},{"$f":"'Pupils ethnic group'!L33","v":295},{"$f":"'Pupils with English as an add.'!I32","v":148},{"$f":"'Pop born outside UK'!K33","v":3000}]
[31,"South Lanarkshire",null,{"$f":"'Total net migration'!K33","v":579},{"$f":"'Total net migration 0-15'!K33","v":97},{"$f":"'Total net migration 16-64'!K33","v":304},{"$f":"'Total net migration 65+'!K33","v":178},{"$f":"'Total in-migration'!K33","v":8207},{"$f":"'Total out-migration'!K33","v":7628},{"$f":"'Within Scotland net migration'!K33","v":948},{"$f":"'Within Scotland in-migration'!K33","v":6550},{"$f":"'Within Scotland out-migration'!K33","v":5602},{"$f":"'Rest of UK net migration'!K33","v":55},{"$f":"'Rest of UK in-migration'!K33","v":1349},{"$f":"'Rest of UK out-migration'!K33","v":1294},{"$f":"'Overseas net migration'!K33","v":-424},{"$f":"'Overseas in-migration'!K33","v":308},{"$f":"'Overseas out-migration'!K33","v":732},null,{"$f":"NINo!K34","v":500},{"$f":"'Non-UK Births'!K34","v":227},{"$f":"'Pupils ethnic group'!L34","v":1524},{"$f":"'Pupils with English as an add.'!I33","v":581},{"$f":"'Pop born outside UK'!K34","v":10000}]
[32,"Stirling",null,{"$f":"'Total net migration'!K34","v":253},{"$f":"'Total net migration 0-15'!K34","v":116},{"$f":"'Total net migration 16-64'!K34","v":226},{"$f":"'Total net migration 65+'!K34","v":-89},{"$f":"'Total in-migration'!K34","v":5033},{"$f":"'Total out-migration'!K34","v":4780},{"$f":"'Within Scotland net migration'!K34","v":107},{"$f":"'Within Scotland in-migration'!K34","v":3336},{"$f":"'Within Scotland out-migration'!K34","v":3229},{"$f":"'Rest of UK net migration'!K34","v":199},{"$f":"'Rest of UK in-migration'!K34","v":1012},{"$f":"'Rest of UK out-migration'!K34","v":813},{"$f":"'Overseas net migration'!K34","v":-53},{"$f":"'Overseas in-migration'!K34","v":685},{"$f":"'Overseas out-migration'!K34","v":738},null,{"$f":"NINo!K35","v":590},{"$f":"'Non-UK Births'!K35","v":84},{"$f":"'Pupils ethnic group'!L35","v":451},{"$f":"'Pupils with English as an add.'!I34","v":244},{"$f":"'Pop born outside UK'!K35","v":6000}]
[33,"West Dunbartonshire",null,{"$f":"'Total net migration'!K35","v":-424},{"$f":"'Total net migration 0-15'!K35","v":-118},{"$f":"'Total net migration 16-64'!K35","v":-257},{"$f":"'Total net migration 65+'!K35","v":-49},{"$f":"'Total in-migration'!K35","v":2170},{"$f":"'Total out-migration'!K35","v":2594},{"$f":"'Within Scotland net migration'!K35","v":-370},{"$f":"'Within Scotland in-migration'!K35","v":1653},{"$f":"'Within Scotland out-migration'!K35","v":2023},{"$f":"'Rest of UK net migration'!K35","v":43},{"$f":"'Rest of UK in-migration'!K35","v":416},{"$f":"'Rest of UK out-migration'!K35","v":373},{"$f":"'Overseas net migration'!K35","v":-97},{"$f":"'Overseas in-migration'!K35","v":101},{"$f":"'Overseas out-migration'!K35","v":198},null,{"$f":"NINo!K36","v":140},{"$f":"'Non-UK Births'!K36","v":68},{"$f":"'Pupils ethnic group'!L36","v":290},{"$f":"'Pupils with English as an add.'!I35","v":169},{"$f":"'Pop born outside UK'!K36","v":3000}]
[34,"West Lothian",null,{"$f":"'Total net migration'!K36","v":-387},{"$f":"'Total net migration 0-15'!K36","v":-37},{"$f":"'Total net migration 16-64'!K36","v":-421},{"$f":"'Total net migration 65+'!K36","v":71},{"$f":"'Total in-migration'!K36","v":4587},{"$f":"'Total out-migration'!K36","v":4974},{"$f":"'Within Scotland net migration'!K36","v":-371},{"$f":"'Within Scotland in-migration'!K36","v":3208},{"$f":"'Within Scotland out-migration'!K36","v":3579},{"$f":"'Rest of UK net migration'!K36","v":2},{"$f":"'Rest of UK in-migration'!K36","v":879},{"$f":"'Rest of UK out-migration'!K36","v":877},{"$f":"'Overseas net migration'!K36","v":-18},{"$f":"'Overseas in-migration'!K36","v":500},{"$f":"'Overseas out-migration'!K36","v":518},null,{"$f":"NINo!K37","v":810},{"$f":"'Non-UK Births'!K37","v":311},{"$f":"'Pupils ethnic group'!L37","v":1076},{"$f":"'Pupils with English as an add.'!I36","v":851},{"$f":"'Pop born outside UK'!K37","v":11000}]
[]
[35,"Not specified"]
[36,"SCOTLAND",null,{"$f":"'Total net migration'!K39","v":9962},{"$f":"'Total net migration 0-15'!K4","v":1877},{"$f":"'Total net migration 16-64'!K39","v":8267},{"$f":"'Total net migration 65+'!K39","v":-182},{"$f":"'Total in-migration'!K39","v":75885},{"$f":"'Total out-migration'!K39","v":65923},null,null,null,{"$f":"'Rest of UK net migration'!K39","v":7862},{"$f":"'Rest of UK in-migration'!K39","v":47685},{"$f":"'Rest of UK out-migration'!K39","v":39823},{"$f":"'Overseas net migration'!K39","v":2100},{"$f":"'Overseas in-migration'!K39","v":28200},{"$f":"'Overseas out-migration'!K39","v":26100},null,null,{"$f":"'Non-UK Births'!K40","v":8634},null,null,null,{"$f":"'NHS Overseas'!K5","v":51807}]
[37,"Ayrshire & Arran",null,{"$f":"'Total net migration'!K40","v":-23},{"$f":"'Total net migration 0-15'!K40","v":111},{"$f":"'Total net migration 16-64'!K40","v":-317},{"$f":"'Total net migration 65+'!K40","v":183},{"$f":"'Total in-migration'!K40","v":7816},{"$f":"'Total out-migration'!K40","v":7839},{"$f":"'Within Scotland net migration'!K40","v":99},{"$f":"'Within Scotland in-migration'!K40","v":5107},{"$f":"'Within Scotland out-migration'!K40","v":5008},{"$f":"'Rest of UK net migration'!K40","v":470},{"$f":"'Rest of UK in-migration'!K40","v":2354},{"$f":"'Rest of UK out-migration'!K40","v":1884},{"$f":"'Overseas net migration'!K40","v":-592},{"$f":"'Overseas in-migration'!K40","v":355},{"$f":"'Overseas out-migration'!K40","v":947},null,null,{"$f":"'Non-UK Births'!K41","v":164}]
[38,"Borders",null,{"$f":"'Total net migration'!K41","v":308},{"$f":"'Total net migration 0-15'!K41","v":101},{"$f":"'Total net migration 16-64'!K41","v":175},{"$f":"'Total net migration 65+'!K41","v":32},{"$f":"'Total in-migration'!K41","v":3973},{"$f":"'Total out-migration'!K41","v":3665},{"$f":"'Within Scotland net migration'!K41","v":-8},{"$f":"'Within Scotland in-migration'!K41","v":2151},{"$f":"'Within Scotland out-migration'!K41","v":2159},{"$f":"'Rest of UK net migration'!K41","v":489},{"$f":"'Rest of UK in-migration'!K41","v":1572},{"$f":"'Rest of UK out-migration'!K41","v":1083},{"$f":"'Overseas net migration'!K41","v":-173},{"$f":"'Overseas in-migration'!K41","v":250},{"$f":"'Overseas out-migration'!K41","v":423},null,null,{"$f":"'Non-UK Births'!K42","v":130}]
[39,"Dumfries & Galloway",null,{"$f":"'Total net migration'!K42","v":-6},{"$f":"'Total net migration 0-15'!K42","v":9},{"$f":"'Total net migration 16-64'!K42","v":19},{"$f":"'Total net migration 65+'!K42","v":-34},{"$f":"'Total in-migration'!K42","v":3981},{"$f":"'Total out-migration'!K42","v":3987},{"$f":"'Within Scotland net migration'!K42","v":-194},{"$f":"'Within Scotland in-migration'!K42","v":1734},{"$f":"'Within Scotland out-migration'!K42","v":1928},{"$f":"'Rest of UK net migration'!K42","v":523},{"$f":"'Rest of UK in-migration'!K42","v":2047},{"$f":"'Rest of UK out-migration'!K42","v":1524},{"$f":"'Overseas net migration'!K42","v":-335},{"$f":"'Overseas in-migration'!K42","v":200},{"$f":"'Overseas out-migration'!K42","v":535},null,null,{"$f":"'Non-UK Births'!K43","v":98}]
[40,"Fife",null,{"$f":"'Total net migration'!K43","v":304},{"$f":"'Total net migration 0-15'!K43","v":169},{"$f":"'Total net migration 16-64'!K43","v":121},{"$f":"'Total net migration 65+'!K43","v":14},{"$f":"'Total in-migration'!K43","v":10459},{"$f":"'Total out-migration'!K43","v":10155},{"$f":"'Within Scotland net migration'!K43","v":-120},{"$f":"'Within Scotland in-migration'!K43","v":5733},{"$f":"'Within Scotland out-migration'!K43","v":5853},{"$f":"'Rest of UK net migration'!K43","v":478},{"$f":"'Rest of UK in-migration'!K43","v":3216},{"$f":"'Rest of UK out-migration'!K43","v":2738},{"$f":"'Overseas net migration'!K43","v":-54},{"$f":"'Overseas in-migration'!K43","v":1510},{"$f":"'Overseas out-migration'!K43","v":1564},null,null,{"$f":"'Non-UK Births'!K44","v":407}]
[41,"Forth Valley",null,{"$f":"'Total net migration'!K44","v":569},{"$f":"'Total net migration 0-15'!K44","v":231},{"$f":"'Total net migration 16-64'!K44","v":333},{"$f":"'Total net migration 65+'!K44","v":5},{"$f":"'Total in-migration'!K44","v":9188},{"$f":"'Total out-migration'!K44","v":8619},{"$f":"'Within Scotland net migration'!K44","v":418},{"$f":"'Within Scotland in-migration'!K44","v":6165},{"$f":"'Within Scotland out-migration'!K44","v":5747},{"$f":"'Rest of UK net migration'!K44","v":366},{"$f":"'Rest of UK in-migration'!K44","v":2029},{"$f":"'Rest of UK out-migration'!K44","v":1663},{"$f":"'Overseas net migration'!K44","v":-215},{"$f":"'Overseas in-migration'!K44","v":994},{"$f":"'Overseas out-migration'!K44","v":1209},null,null,{"$f":"'Non-UK Births'!K45","v":275}]
[42,"Grampian",null,{"$f":"'Total net migration'!K45","v":3924},{"$f":"'Total net migration 0-15'!K45","v":612},{"$f":"'Total net migration 16-64'!K45","v":3520},{"$f":"'Total net migration 65+'!K45","v":-208},{"$f":"'Total in-migration'!K45","v":19500},{"$f":"'Total out-migration'!K45","v":15576},{"$f":"'Within Scotland net migration'!K45","v":1115},{"$f":"'Within Scotland in-migration'!K45","v":8283},{"$f":"'Within Scotland out-migration'!K45","v":7168},{"$f":"'Rest of UK net migration'!K45","v":1537},{"$f":"'Rest of UK in-migration'!K45","v":6376},{"$f":"'Rest of UK out-migration'!K45","v":4839},{"$f":"'Overseas net migration'!K45","v":1272},{"$f":"'Overseas in-migration'!K45","v":4841},{"$f":"'Overseas out-migration'!K45","v":3569},null,null,{"$f":"'Non-UK Births'!K46","v":1416}]
[43,"Greater Glasgow & Clyde",null,{"$f":"'Total net migration'!K46","v":143},{"$f":"'Total net migration 0-15'!K46","v":-195},{"$f":"'Total net migration 16-64'!K46","v":705},{"$f":"'Total net migration 65+'!K46","v":-367},{"$f":"'Total in-migration'!K46","v":31621},{"$f":"'Total out-migration'!K46","v":31478},{"$f":"'Within Scotland net migration'!K46","v":-1482},{"$f":"'Within Scotland in-migration'!K46","v":15562},{"$f":"'Within Scotland out-migration'!K46","v":17044},{"$f":"'Rest of UK net migration'!K46","v":150},{"$f":"'Rest of UK in-migration'!K46","v":8303},{"$f":"'Rest of UK out-migration'!K46","v":8153},{"$f":"'Overseas net migration'!K46","v":1475},{"$f":"'Overseas in-migration'!K46","v":7756},{"$f":"'Overseas out-migration'!K46","v":6281},null,null,{"$f":"'Non-UK Births'!K47","v":2423}]
[44,"Highland",null,{"$f":"'Total net migration'!K47","v":70},{"$f":"'Total net migration 0-15'!K47","v":265},{"$f":"'Total net migration 16-64'!K47","v":-106},{"$f":"'Total net migration 65+'!K47","v":-89},{"$f":"'Total in-migration'!K47","v":10658},{"$f":"'Total out-migration'!K47","v":10588},{"$f":"'Within Scotland net migration'!K47","v":-624},{"$f":"'Within Scotland in-migration'!K47","v":5936},{"$f":"'Within Scotland out-migration'!K47","v":6560},{"$f":"'Rest of UK net migration'!K47","v":1148},{"$f":"'Rest of UK in-migration'!K47","v":3868},{"$f":"'Rest of UK out-migration'!K47","v":2720},{"$f":"'Overseas net migration'!K47","v":-454},{"$f":"'Overseas in-migration'!K47","v":854},{"$f":"'Overseas out-migration'!K47","v":1308},null,null,{"$f":"'Non-UK Births'!K48","v":386}]
[45,"Lanarkshire",null,{"$f":"'Total net migration'!K48","v":194},{"$f":"'Total net migration 0-15'!K48","v":206},{"$f":"'Total net migration 16-64'!K48","v":-103},{"$f":"'Total net migration 65+'!K48","v":91},{"$f":"'Total in-migration'!K48","v":12520},{"$f":"'Total out-migration'!K48","v":12326},{"$f":"'Within Scotland net migration'!K48","v":766},{"$f":"'Within Scotland in-migration'!K48","v":9333},{"$f":"'Within Scotland out-migration'!K48","v":8567},{"$f":"'Rest of UK net migration'!K48","v":194},{"$f":"'Rest of UK in-migration'!K48","v":2469},{"$f":"'Rest of UK out-migration'!K48","v":2275},{"$f":"'Overseas net migration'!K48","v":-766},{"$f":"'Overseas in-migration'!K48","v":718},{"$f":"'Overseas out-migration'!K48","v":1484},null,null,{"$f":"'Non-UK Births'!K49","v":492}]
[46,"Lothian",null,{"$f":"'Total net migration'!K49","v":3708},{"$f":"'Total net migration 0-15'!K49","v":113},{"$f":"'Total net migration 16-64'!K49","v":3484},{"$f":"'Total net migration 65+'!K49","v":111},{"$f":"'Total in-migration'!K49","v":31516},{"$f":"'Total out-migration'!K49","v":27808},{"$f":"'Within Scotland net migration'!K49","v":76},{"$f":"'Within Scotland in-migration'!K49","v":12321},{"$f":"'Within Scotland out-migration'!K49","v":12245},{"$f":"'Rest of UK net migration'!K49","v":1794},{"$f":"'Rest of UK in-migration'!K49","v":11104},{"$f":"'Rest of UK out-migration'!K49","v":9310},{"$f":"'Overseas net migration'!K49","v":1838},{"$f":"'Overseas in-migration'!K49","v":8091},{"$f":"'Overseas out-migration'!K49","v":6253},null,null,{"$f":"'Non-UK Births'!K50","v":2211}]
[47,"Orkney",null,{"$f":"'Total net migration'!K50","v":80},{"$f":"'Total net migration 0-15'!K50","v":35},{"$f":"'Total net migration 16-64'!K50","v":39},{"$f":"'Total net migration 65+'!K50","v":6},{"$f":"'Total in-migration'!K50","v":761},{"$f":"'Total out-migration'!K50","v":681},{"$f":"'Within Scotland net migration'!K50","v":20},{"$f":"'Within Scotland in-migration'!K50","v":429},{"$f":"'Within Scotland out-migration'!K50","v":409},{"$f":"'Rest of UK net migration'!K50","v":88},{"$f":"'Rest of UK in-migration'!K50","v":283},{"$f":"'Rest of UK out-migration'!K50","v":195},{"$f":"'Overseas net migration'!K50","v":-28},{"$f":"'Overseas in-migration'!K50","v":49},{"$f":"'Overseas out-migration'!K50","v":77},null,null,{"$f":"'Non-UK Births'!K51","v":7}]
[48,"Shetland",null,{"$f":"'Total net migration'!K51","v":-89},{"$f":"'Total net migration 0-15'!K51","v":-43},{"$f":"'Total net migration 16-64'!K51","v":-23},{"$f":"'Total net migration 65+'!K51","v":-23},{"$f":"'Total in-migration'!K51","v":647},{"$f":"'Total out-migration'!K51","v":736},{"$f":"'Within Scotland net migration'!K51","v":-85},{"$f":"'Within Scotland in-migration'!K51","v":351},{"$f":"'Within Scotland out-migration'!K51","v":436},{"$f":"'Rest of UK net migration'!K51","v":28},{"$f":"'Rest of UK in-migration'!K51","v":236},{"$f":"'Rest of UK out-migration'!K51","v":208},{"$f":"'Overseas net migration'!K51","v":-32},{"$f":"'Overseas in-migration'!K51","v":60},{"$f":"'Overseas out-migration'!K51","v":92},null,null,{"$f":"'Non-UK Births'!K52","v":22}]
[49,"Tayside",null,{"$f":"'Total net migration'!K52","v":799},{"$f":"'Total net migration 0-15'!K52","v":274},{"$f":"'Total net migration 16-64'!K52","v":440},{"$f":"'Total net migration 65+'!K52","v":85},{"$f":"'Total in-migration'!K52","v":13469},{"$f":"'Total out-migration'!K52","v":12670},{"$f":"'Within Scotland net migration'!K52","v":92},{"$f":"'Within Scotland in-migration'!K52","v":7481},{"$f":"'Within Scotland out-migration'!K52","v":7389},{"$f":"'Rest of UK net migration'!K52","v":484},{"$f":"'Rest of UK in-migration'!K52","v":3494},{"$f":"'Rest of UK out-migration'!K52","v":3010},{"$f":"'Overseas net migration'!K52","v":223},{"$f":"'Overseas in-migration'!K52","v":2494},{"$f":"'Overseas out-migration'!K52","v":2271},null,null,{"$f":"'Non-UK Births'!K53","v":582}]
[50,"Western Isles",null,{"$f":"'Total net migration'!K53","v":-19},{"$f":"'Total net migration 0-15'!K53","v":-11},{"$f":"'Total net migration 16-64'!K53","v":-20},{"$f":"'Total net migration 65+'!K53","v":12},{"$f":"'Total in-migration'!K53","v":861},{"$f":"'Total out-migration'!K53","v":880},{"$f":"'Within Scotland net migration'!K53","v":-73},{"$f":"'Within Scotland in-migration'!K53","v":499},{"$f":"'Within Scotland out-migration'!K53","v":572},{"$f":"'Rest of UK net migration'!K53","v":113},{"$f":"'Rest of UK in-migration'!K53","v":334},{"$f":"'Rest of UK out-migration'!K53","v":221},{"$f":"'Overseas net migration'!K53","v":-59},{"$f":"'Overseas in-migration'!K53","v":28},{"$f":"'Overseas out-migration'!K53","v":87},null,null,{"$f":"'Non-UK Births'!K54","v":21}]

{"sheet":"2013 Rate","index":54,"n_rows":53,"n_cols":27,"rows_kept":53,"cut":false,"hidden":true,"merged":[]}
[null,2013,"RATE"]
[null,null,"Not specified ",{"$f":"'Comparing Indicators'!$U8","v":"Total net migration"},{"$f":"'Comparing Indicators'!$U9","v":"Total net migration for ages 0-15"},{"$f":"'Comparing Indicators'!$U10","v":"Total net migration for ages 16-64"},{"$f":"'Comparing Indicators'!$U11","v":"Total net migration for people aged 65+"},{"$f":"'Comparing Indicators'!$U12","v":"Total in-migration"},{"$f":"'Comparing Indicators'!$U13","v":"Total out-migration"},{"$f":"'Comparing Indicators'!$U14","v":"Within Scotland net migration"},{"$f":"'Comparing Indicators'!$U15","v":"Within Scotland in-migration"},{"$f":"'Comparing Indicators'!$U16","v":"Within Scotland out-migration"},{"$f":"'Comparing Indicators'!$U17","v":"Rest of UK net migration"},{"$f":"'Comparing Indicators'!$U18","v":"Rest of UK in-migration"},{"$f":"'Comparing Indicators'!$U19","v":"Rest of UK out-migration"},{"$f":"'Comparing Indicators'!$U20","v":"Overseas net migration"},{"$f":"'Comparing Indicators'!$U21","v":"Overseas in-migration"},{"$f":"'Comparing Indicators'!$U22","v":"Overseas out-migration"},{"$f":"'Comparing Indicators'!$U23","v":"Worker Registration Scheme"},{"$f":"'Comparing Indicators'!$U24","v":"NINo Allocation"},{"$f":"'Comparing Indicators'!$U25","v":"Births to non-UK mothers"},{"$f":"'Comparing Indicators'!$U26","v":"Pupils from a minority ethnic group"},{"$f":"'Comparing Indicators'!$U27","v":"Pupils with English as an additional language"},{"$f":"'Comparing Indicators'!$U28","v":"Estimate of resident population born outside the UK"},"NHS registrations from overseas",null,"Mid-year population estimate"]
[1,"Not specified"]
[2,"SCOTLAND",null,{"$f":"('2013'!D4/'2013 Rate'!$AA4)*1000","v":1.8698500290932296},{"$f":"('2013'!E4/'2013 Rate'!$AA4)*1000","v":0.35230962704356478},{"$f":"('2013'!F4/'2013 Rate'!$AA4)*1000","v":1.5517014846932071},{"$f":"('2013'!G4/'2013 Rate'!$AA4)*1000","v":-3.4161082643542243E-2},{"$f":"('2013'!H4/'2013 Rate'!$AA4)*1000","v":14.243482178050566},{"$f":"('2013'!I4/'2013 Rate'!$AA4)*1000","v":12.373632148957336},null,null,null,{"$f":"('2013'!M4/'2013 Rate'!$AA4)*1000","v":1.4756836908985116},{"$f":"('2013'!N4/'2013 Rate'!$AA4)*1000","v":8.9503913508643507},{"$f":"('2013'!O4/'2013 Rate'!$AA4)*1000","v":7.4747076599658389},{"$f":"('2013'!P4/'2013 Rate'!$AA4)*1000","v":0.39416633819471814},{"$f":"('2013'!Q4/'2013 Rate'!$AA4)*1000","v":5.2930908271862158},{"$f":"('2013'!R4/'2013 Rate'!$AA4)*1000","v":4.8989244889914971},null,{"$f":"('2013'!T4/'2013 Rate'!$AA4)*1000","v":7.4084501754978689},{"$f":"('2013'!U4/'2013 Rate'!$AA4)*1000","v":1.6205867447491413},{"$f":"('2013'!V4/'2013 Rate'!$AA4)*1000","v":7.3339339677534401},{"$f":"('2013'!W4/'2013 Rate'!$AA4)*1000","v":5.5431049045554364},{"$f":"('2013'!X4/'2013 Rate'!$AA4)*1000","v":66.257484467969292},{"$f":"('2013'!Y4/'2013 Rate'!$AA4)*1000","v":9.7240835632636973},"Scotland",{"$f":"'Population estimates'!K4","v":5327700}]
[3,"Aberdeen City",null,{"$f":"('2013'!D5/'2013 Rate'!$AA5)*1000","v":7.328136697934557},{"$f":"('2013'!E5/'2013 Rate'!$AA5)*1000","v":-1.3035627779979744},{"$f":"('2013'!F5/'2013 Rate'!$AA5)*1000","v":9.1557669441141503},{"$f":"('2013'!G5/'2013 Rate'!$AA5)*1000","v":-0.52406746818161798},{"$f":"('2013'!H5/'2013 Rate'!$AA5)*1000","v":61.835557317126877},{"$f":"('2013'!I5/'2013 Rate'!$AA5)*1000","v":54.507420619192317},{"$f":"('2013'!J5/'2013 Rate'!$AA5)*1000","v":-0.85876601928920593},{"$f":"('2013'!K5/'2013 Rate'!$AA5)*1000","v":32.6683401594222},{"$f":"('2013'!L5/'2013 Rate'!$AA5)*1000","v":33.527106178711406},{"$f":"('2013'!M5/'2013 Rate'!$AA5)*1000","v":2.4529880653542957},{"$f":"('2013'!N5/'2013 Rate'!$AA5)*1000","v":13.154533844189016},{"$f":"('2013'!O5/'2013 Rate'!$AA5)*1000","v":10.701545778834721},{"$f":"('2013'!P5/'2013 Rate'!$AA5)*1000","v":5.7339146518694681},{"$f":"('2013'!Q5/'2013 Rate'!$AA5)*1000","v":16.012683313515659},{"$f":"('2013'!R5/'2013 Rate'!$AA5)*1000","v":10.278768661646188},null,{"$f":"('2013'!T5/'2013 Rate'!$AA5)*1000","v":21.711366538952745},{"$f":"('2013'!U5/'2013 Rate'!$AA5)*1000","v":4.1396926058043775},{"$f":"('2013'!V5/'2013 Rate'!$AA5)*1000","v":10.622275069361871},{"$f":"('2013'!W5/'2013 Rate'!$AA5)*1000","v":9.389175144228652},{"$f":"('2013'!X5/'2013 Rate'!$AA5)*1000","v":176.15713216188843},null,"Aberdeen City",{"$f":"'Population estimates'!K5","v":227070}]
[4,"Aberdeenshire",null,{"$f":"('2013'!D6/'2013 Rate'!$AA6)*1000","v":6.4553671878030805},{"$f":"('2013'!E6/'2013 Rate'!$AA6)*1000","v":2.8901734104046239},{"$f":"('2013'!F6/'2013 Rate'!$AA6)*1000","v":4.0307250649804089},{"$f":"('2013'!G6/'2013 Rate'!$AA6)*1000","v":-0.46553128758195295},{"$f":"('2013'!H6/'2013 Rate'!$AA6)*1000","v":37.060169918919968},{"$f":"('2013'!I6/'2013 Rate'!$AA6)*1000","v":30.604802731116887},{"$f":"('2013'!J6/'2013 Rate'!$AA6)*1000","v":4.5893626100787523},{"$f":"('2013'!K6/'2013 Rate'!$AA6)*1000","v":25.864142452573997},{"$f":"('2013'!L6/'2013 Rate'!$AA6)*1000","v":21.274779842495249},{"$f":"('2013'!M6/'2013 Rate'!$AA6)*1000","v":1.4159909997284401},{"$f":"('2013'!N6/'2013 Rate'!$AA6)*1000","v":7.4019474725530516},{"$f":"('2013'!O6/'2013 Rate'!$AA6)*1000","v":5.9859564728246104},{"$f":"('2013'!P6/'2013 Rate'!$AA6)*1000","v":0.45001357799588776},{"$f":"('2013'!Q6/'2013 Rate'!$AA6)*1000","v":3.7940799937929159},{"$f":"('2013'!R6/'2013 Rate'!$AA6)*1000","v":3.3440664157970286},null,{"$f":"('2013'!T6/'2013 Rate'!$AA6)*1000","v":6.2458781083912012},{"$f":"('2013'!U6/'2013 Rate'!$AA6)*1000","v":1.4121115723319237},{"$f":"('2013'!V6/'2013 Rate'!$AA6)*1000","v":3.1462156185746983},{"$f":"('2013'!W6/'2013 Rate'!$AA6)*1000","v":4.7173837141637893},{"$f":"('2013'!X6/'2013 Rate'!$AA6)*1000","v":38.794273965162738},null,"Aberdeenshire",{"$f":"'Population estimates'!K6","v":257770}]
[5,"Angus",null,{"$f":"('2013'!D7/'2013 Rate'!$AA7)*1000","v":0.97170865938601769},{"$f":"('2013'!E7/'2013 Rate'!$AA7)*1000","v":0.57614584229082466},{"$f":"('2013'!F7/'2013 Rate'!$AA7)*1000","v":-0.30957090033536849},{"$f":"('2013'!G7/'2013 Rate'!$AA7)*1000","v":0.70513371743056152},{"$f":"('2013'!H7/'2013 Rate'!$AA7)*1000","v":33.923811161750798},{"$f":"('2013'!I7/'2013 Rate'!$AA7)*1000","v":32.952102502364781},{"$f":"('2013'!J7/'2013 Rate'!$AA7)*1000","v":1.3930690515091582},{"$f":"('2013'!K7/'2013 Rate'!$AA7)*1000","v":25.204230802304586},{"$f":"('2013'!L7/'2013 Rate'!$AA7)*1000","v":23.811161750795428},{"$f":"('2013'!M7/'2013 Rate'!$AA7)*1000","v":0.32676928368733338},{"$f":"('2013'!N7/'2013 Rate'!$AA7)*1000","v":6.3204058818471056},{"$f":"('2013'!O7/'2013 Rate'!$AA7)*1000","v":5.9936365981597728},{"$f":"('2013'!P7/'2013 Rate'!$AA7)*1000","v":-0.74812967581047385},{"$f":"('2013'!Q7/'2013 Rate'!$AA7)*1000","v":2.3991744775991055},{"$f":"('2013'!R7/'2013 Rate'!$AA7)*1000","v":3.1473041534095794},null,{"$f":"('2013'!T7/'2013 Rate'!$AA7)*1000","v":10.662997678218249},{"$f":"('2013'!U7/'2013 Rate'!$AA7)*1000","v":1.1436924929056669},{"$f":"('2013'!V7/'2013 Rate'!$AA7)*1000","v":2.7689397196663514},{"$f":"('2013'!W7/'2013 Rate'!$AA7)*1000","v":3.2590936451973516},{"$f":"('2013'!X7/'2013 Rate'!$AA7)*1000","v":42.995958379912288},null,"Angus",{"$f":"'Population estimates'!K7","v":116290}]
[6,"Argyll & Bute",null,{"$f":"('2013'!D8/'2013 Rate'!$AA8)*1000","v":-0.26121521862578079},{"$f":"('2013'!E8/'2013 Rate'!$AA8)*1000","v":1.1243611584327087},{"$f":"('2013'!F8/'2013 Rate'!$AA8)*1000","v":-0.86314593980692789},{"$f":"('2013'!G8/'2013 Rate'!$AA8)*1000","v":-0.52243043725156157},{"$f":"('2013'!H8/'2013 Rate'!$AA8)*1000","v":44.645088018171492},{"$f":"('2013'!I8/'2013 Rate'!$AA8)*1000","v":44.906303236797271},{"$f":"('2013'!J8/'2013 Rate'!$AA8)*1000","v":-2.2260079500283929},{"$f":"('2013'!K8/'2013 Rate'!$AA8)*1000","v":26.269165247018741},{"$f":"('2013'!L8/'2013 Rate'!$AA8)*1000","v":28.49517319704713},{"$f":"('2013'!M8/'2013 Rate'!$AA8)*1000","v":4.3611584327086881},{"$f":"('2013'!N8/'2013 Rate'!$AA8)*1000","v":15.706984667802386},{"$f":"('2013'!O8/'2013 Rate'!$AA8)*1000","v":11.345826235093696},{"$f":"('2013'!P8/'2013 Rate'!$AA8)*1000","v":-2.3963657013060762},{"$f":"('2013'!Q8/'2013 Rate'!$AA8)*1000","v":2.668938103350369},{"$f":"('2013'!R8/'2013 Rate'!$AA8)*1000","v":5.0653038046564447},null,{"$f":"('2013'!T8/'2013 Rate'!$AA8)*1000","v":5.2243043725156166},{"$f":"('2013'!U8/'2013 Rate'!$AA8)*1000","v":0.79500283929585469},{"$f":"('2013'!V8/'2013 Rate'!$AA8)*1000","v":2.4872231686541739},{"$f":"('2013'!W8/'2013 Rate'!$AA8)*1000","v":1.6467915956842702},{"$f":"('2013'!X8/'2013 Rate'!$AA8)*1000","v":45.428733674048836},null,"Argyll & Bute",{"$f":"'Population estimates'!K8","v":88050}]
[7,"Clackmannanshire",null,{"$f":"('2013'!D9/'2013 Rate'!$AA9)*1000","v":-1.1505460218408736},{"$f":"('2013'!E9/'2013 Rate'!$AA9)*1000","v":0.87753510140405622},{"$f":"('2013'!F9/'2013 Rate'!$AA9)*1000","v":-2.3205928237129485},{"$f":"('2013'!G9/'2013 Rate'!$AA9)*1000","v":0.29251170046801872},{"$f":"('2013'!H9/'2013 Rate'!$AA9)*1000","v":31.240249609984399},{"$f":"('2013'!I9/'2013 Rate'!$AA9)*1000","v":32.39079563182527},{"$f":"('2013'!J9/'2013 Rate'!$AA9)*1000","v":-1.6575663026521061},{"$f":"('2013'!K9/'2013 Rate'!$AA9)*1000","v":23.049921996879874},{"$f":"('2013'!L9/'2013 Rate'!$AA9)*1000","v":24.707488299531981},{"$f":"('2013'!M9/'2013 Rate'!$AA9)*1000","v":1.1700468018720749},{"$f":"('2013'!N9/'2013 Rate'!$AA9)*1000","v":6.7472698907956321},{"$f":"('2013'!O9/'2013 Rate'!$AA9)*1000","v":5.5772230889235566},{"$f":"('2013'!P9/'2013 Rate'!$AA9)*1000","v":-0.66302652106084237},{"$f":"('2013'!Q9/'2013 Rate'!$AA9)*1000","v":1.4430577223088923},{"$f":"('2013'!R9/'2013 Rate'!$AA9)*1000","v":2.1060842433697347},null,{"$f":"('2013'!T9/'2013 Rate'!$AA9)*1000","v":2.7301092043681749},{"$f":"('2013'!U9/'2013 Rate'!$AA9)*1000","v":0.81903276131045244},{"$f":"('2013'!V9/'2013 Rate'!$AA9)*1000","v":3.9001560062402496},{"$f":"('2013'!W9/'2013 Rate'!$AA9)*1000","v":2.7106084243369732},{"$f":"('2013'!X9/'2013 Rate'!$AA9)*1000","v":39.001560062402497},null,"Clackmannanshire",{"$f":"'Population estimates'!K9","v":51280}]
[8,"Dumfries & Galloway",null,{"$f":"('2013'!D10/'2013 Rate'!$AA10)*1000","v":-3.9925472451424006E-2},{"$f":"('2013'!E10/'2013 Rate'!$AA10)*1000","v":5.9888208677136019E-2},{"$f":"('2013'!F10/'2013 Rate'!$AA10)*1000","v":0.1264306627628427},{"$f":"('2013'!G10/'2013 Rate'!$AA10)*1000","v":-0.22624434389140272},{"$f":"('2013'!H10/'2013 Rate'!$AA10)*1000","v":26.490550971519827},{"$f":"('2013'!I10/'2013 Rate'!$AA10)*1000","v":26.530476443971253},{"$f":"('2013'!J10/'2013 Rate'!$AA10)*1000","v":-1.2909236092627094},{"$f":"('2013'!K10/'2013 Rate'!$AA10)*1000","v":11.538461538461538},{"$f":"('2013'!L10/'2013 Rate'!$AA10)*1000","v":12.829385147724249},{"$f":"('2013'!M10/'2013 Rate'!$AA10)*1000","v":3.4801703486824596},{"$f":"('2013'!N10/'2013 Rate'!$AA10)*1000","v":13.621240351344158},{"$f":"('2013'!O10/'2013 Rate'!$AA10)*1000","v":10.141070002661698},{"$f":"('2013'!P10/'2013 Rate'!$AA10)*1000","v":-2.2291722118711741},{"$f":"('2013'!Q10/'2013 Rate'!$AA10)*1000","v":1.3308490817141336},{"$f":"('2013'!R10/'2013 Rate'!$AA10)*1000","v":3.5600212935853075},null,{"$f":"('2013'!T10/'2013 Rate'!$AA10)*1000","v":1.8631887143997872},{"$f":"('2013'!U10/'2013 Rate'!$AA10)*1000","v":0.65211605003992545},{"$f":"('2013'!V10/'2013 Rate'!$AA10)*1000","v":2.6550439180196963},{"$f":"('2013'!W10/'2013 Rate'!$AA10)*1000","v":1.9829651317540593},{"$f":"('2013'!X10/'2013 Rate'!$AA10)*1000","v":26.616981634282673},null,"Dumfries & Galloway",{"$f":"'Population estimates'!K10","v":150280}]
[9,"Dundee City",null,{"$f":"('2013'!D11/'2013 Rate'!$AA11)*1000","v":2.0864280891289666},{"$f":"('2013'!E11/'2013 Rate'!$AA11)*1000","v":-0.24983119513841998},{"$f":"('2013'!F11/'2013 Rate'!$AA11)*1000","v":2.6671168129642133},{"$f":"('2013'!G11/'2013 Rate'!$AA11)*1000","v":-0.3308575286968265},{"$f":"('2013'!H11/'2013 Rate'!$AA11)*1000","v":47.744767049291013},{"$f":"('2013'!I11/'2013 Rate'!$AA11)*1000","v":45.658338960162055},{"$f":"('2013'!J11/'2013 Rate'!$AA11)*1000","v":-1.6812964213369344},{"$f":"('2013'!K11/'2013 Rate'!$AA11)*1000","v":28.156650911546254},{"$f":"('2013'!L11/'2013 Rate'!$AA11)*1000","v":29.837947332883186},{"$f":"('2013'!M11/'2013 Rate'!$AA11)*1000","v":1.6070222822417286},{"$f":"('2013'!N11/'2013 Rate'!$AA11)*1000","v":10.310600945307225},{"$f":"('2013'!O11/'2013 Rate'!$AA11)*1000","v":8.7035786630654961},{"$f":"('2013'!P11/'2013 Rate'!$AA11)*1000","v":2.1607022282241726},{"$f":"('2013'!Q11/'2013 Rate'!$AA11)*1000","v":9.2775151924375425},{"$f":"('2013'!R11/'2013 Rate'!$AA11)*1000","v":7.1168129642133691},null,{"$f":"('2013'!T11/'2013 Rate'!$AA11)*1000","v":8.7778528021607016},{"$f":"('2013'!U11/'2013 Rate'!$AA11)*1000","v":1.6070222822417286},{"$f":"('2013'!V11/'2013 Rate'!$AA11)*1000","v":9.7231600270087792},{"$f":"('2013'!W11/'2013 Rate'!$AA11)*1000","v":6.4753544902093187},{"$f":"('2013'!X11/'2013 Rate'!$AA11)*1000","v":101.28291694800811},null,"Dundee City",{"$f":"'Population estimates'!K11","v":148100}]
[10,"East Ayrshire",null,{"$f":"('2013'!D12/'2013 Rate'!$AA12)*1000","v":-0.98015192354814995},{"$f":"('2013'!E12/'2013 Rate'!$AA12)*1000","v":-3.2671730784938333E-2},{"$f":"('2013'!F12/'2013 Rate'!$AA12)*1000","v":-1.0781671159029651},{"$f":"('2013'!G12/'2013 Rate'!$AA12)*1000","v":0.13068692313975333},{"$f":"('2013'!H12/'2013 Rate'!$AA12)*1000","v":25.385934819897084},{"$f":"('2013'!I12/'2013 Rate'!$AA12)*1000","v":26.366086743445234},{"$f":"('2013'!J12/'2013 Rate'!$AA12)*1000","v":-0.30221350976067957},{"$f":"('2013'!K12/'2013 Rate'!$AA12)*1000","v":19.325328759291025},{"$f":"('2013'!L12/'2013 Rate'!$AA12)*1000","v":19.627542269051702},{"$f":"('2013'!M12/'2013 Rate'!$AA12)*1000","v":0.63709875030629748},{"$f":"('2013'!N12/'2013 Rate'!$AA12)*1000","v":5.4235073102997635},{"$f":"('2013'!O12/'2013 Rate'!$AA12)*1000","v":4.7864085599934656},{"$f":"('2013'!P12/'2013 Rate'!$AA12)*1000","v":-1.3150371640937679},{"$f":"('2013'!Q12/'2013 Rate'!$AA12)*1000","v":0.63709875030629748},{"$f":"('2013'!R12/'2013 Rate'!$AA12)*1000","v":1.9521359144000652},null,{"$f":"('2013'!T12/'2013 Rate'!$AA12)*1000","v":0.6534346156987666},{"$f":"('2013'!U12/'2013 Rate'!$AA12)*1000","v":0.36755697133055626},{"$f":"('2013'!V12/'2013 Rate'!$AA12)*1000","v":2.7117536551498818},{"$f":"('2013'!W12/'2013 Rate'!$AA12)*1000","v":1.0291595197255574},{"$f":"('2013'!X12/'2013 Rate'!$AA12)*1000","v":16.335865392469167},null,"East Ayrshire",{"$f":"'Population estimates'!K12","v":122430}]
[11,"East Dunbartonshire",null,{"$f":"('2013'!D13/'2013 Rate'!$AA13)*1000","v":0.86923658352229771},{"$f":"('2013'!E13/'2013 Rate'!$AA13)*1000","v":2.371504157218443},{"$f":"('2013'!F13/'2013 Rate'!$AA13)*1000","v":-1.6723356009070294},{"$f":"('2013'!G13/'2013 Rate'!$AA13)*1000","v":0.17006802721088435},{"$f":"('2013'!H13/'2013 Rate'!$AA13)*1000","v":33.182161753590321},{"$f":"('2013'!I13/'2013 Rate'!$AA13)*1000","v":32.312925170068027},{"$f":"('2013'!J13/'2013 Rate'!$AA13)*1000","v":2.7116402116402116},{"$f":"('2013'!K13/'2013 Rate'!$AA13)*1000","v":28.193499622071052},{"$f":"('2013'!L13/'2013 Rate'!$AA13)*1000","v":25.481859410430836},{"$f":"('2013'!M13/'2013 Rate'!$AA13)*1000","v":-0.68972033257747545},{"$f":"('2013'!N13/'2013 Rate'!$AA13)*1000","v":4.2611489040060473},{"$f":"('2013'!O13/'2013 Rate'!$AA13)*1000","v":4.9508692365835216},{"$f":"('2013'!P13/'2013 Rate'!$AA13)*1000","v":-1.1526832955404382},{"$f":"('2013'!Q13/'2013 Rate'!$AA13)*1000","v":0.72751322751322745},{"$f":"('2013'!R13/'2013 Rate'!$AA13)*1000","v":1.8801965230536659},null,{"$f":"('2013'!T13/'2013 Rate'!$AA13)*1000","v":0.85034013605442171},{"$f":"('2013'!U13/'2013 Rate'!$AA13)*1000","v":0.68972033257747545},{"$f":"('2013'!V13/'2013 Rate'!$AA13)*1000","v":10.846560846560847},{"$f":"('2013'!W13/'2013 Rate'!$AA13)*1000","v":3.5619803476946332},{"$f":"('2013'!X13/'2013 Rate'!$AA13)*1000","v":47.241118669690103},null,"East Dunbartonshire",{"$f":"'Population estimates'!K13","v":105840}]
[12,"East Lothian",null,{"$f":"('2013'!D14/'2013 Rate'!$AA14)*1000","v":5.1385738238485059},{"$f":"('2013'!E14/'2013 Rate'!$AA14)*1000","v":1.518887464246967},{"$f":"('2013'!F14/'2013 Rate'!$AA14)*1000","v":3.0870894565539011},{"$f":"('2013'!G14/'2013 Rate'!$AA14)*1000","v":0.53259690304763785},{"$f":"('2013'!H14/'2013 Rate'!$AA14)*1000","v":37.232468685274682},{"$f":"('2013'!I14/'2013 Rate'!$AA14)*1000","v":32.093894861426179},{"$f":"('2013'!J14/'2013 Rate'!$AA14)*1000","v":4.8920011835486736},{"$f":"('2013'!K14/'2013 Rate'!$AA14)*1000","v":27.813393825821088},{"$f":"('2013'!L14/'2013 Rate'!$AA14)*1000","v":22.921392642272416},{"$f":"('2013'!M14/'2013 Rate'!$AA14)*1000","v":0.75944373212348348},{"$f":"('2013'!N14/'2013 Rate'!$AA14)*1000","v":6.933622645231285},{"$f":"('2013'!O14/'2013 Rate'!$AA14)*1000","v":6.1741789131078022},{"$f":"('2013'!P14/'2013 Rate'!$AA14)*1000","v":-0.5128710918236512},{"$f":"('2013'!Q14/'2013 Rate'!$AA14)*1000","v":2.4854522142223101},{"$f":"('2013'!R14/'2013 Rate'!$AA14)*1000","v":2.9983233060459611},null,{"$f":"('2013'!T14/'2013 Rate'!$AA14)*1000","v":3.6492750764375188},{"$f":"('2013'!U14/'2013 Rate'!$AA14)*1000","v":1.1342341453792286},{"$f":"('2013'!V14/'2013 Rate'!$AA14)*1000","v":3.2547588519577868},{"$f":"('2013'!W14/'2013 Rate'!$AA14)*1000","v":2.1797021402505177},{"$f":"('2013'!X14/'2013 Rate'!$AA14)*1000","v":59.177433671959761},null,"East Lothian",{"$f":"'Population estimates'!K14","v":101390}]
[13,"East Renfrewshire",null,{"$f":"('2013'!D15/'2013 Rate'!$AA15)*1000","v":5.8887796350923196},{"$f":"('2013'!E15/'2013 Rate'!$AA15)*1000","v":6.3804217196547581},{"$f":"('2013'!F15/'2013 Rate'!$AA15)*1000","v":-0.26220911176663386},{"$f":"('2013'!G15/'2013 Rate'!$AA15)*1000","v":-0.22943297279580466},{"$f":"('2013'!H15/'2013 Rate'!$AA15)*1000","v":40.041516442696384},{"$f":"('2013'!I15/'2013 Rate'!$AA15)*1000","v":34.152736807604064},{"$f":"('2013'!J15/'2013 Rate'!$AA15)*1000","v":7.6259150005462688},{"$f":"('2013'!K15/'2013 Rate'!$AA15)*1000","v":34.480498197312357},{"$f":"('2013'!L15/'2013 Rate'!$AA15)*1000","v":26.854583196766086},{"$f":"('2013'!M15/'2013 Rate'!$AA15)*1000","v":-0.55719436250409704},{"$f":"('2013'!N15/'2013 Rate'!$AA15)*1000","v":4.5995848355730367},{"$f":"('2013'!O15/'2013 Rate'!$AA15)*1000","v":5.1567791980771327},{"$f":"('2013'!P15/'2013 Rate'!$AA15)*1000","v":-1.1799410029498525},{"$f":"('2013'!Q15/'2013 Rate'!$AA15)*1000","v":0.9614334098109909},{"$f":"('2013'!R15/'2013 Rate'!$AA15)*1000","v":2.1413744127608436},null,{"$f":"('2013'!T15/'2013 Rate'!$AA15)*1000","v":1.0925379656943079},{"$f":"('2013'!U15/'2013 Rate'!$AA15)*1000","v":0.95050803015404783},{"$f":"('2013'!V15/'2013 Rate'!$AA15)*1000","v":26.297388834261991},{"$f":"('2013'!W15/'2013 Rate'!$AA15)*1000","v":8.9369605593794379},{"$f":"('2013'!X15/'2013 Rate'!$AA15)*1000","v":32.776138970829237},null,"East Renfrewshire",{"$f":"'Population estimates'!K15","v":91530}]
[14,"Edinburgh, City of",null,{"$f":"('2013'!D16/'2013 Rate'!$AA16)*1000","v":6.1502482254954245},{"$f":"('2013'!E16/'2013 Rate'!$AA16)*1000","v":-0.30976900668772822},{"$f":"('2013'!F16/'2013 Rate'!$AA16)*1000","v":6.4600172321831533},{"$f":"('2013'!G16/'2013 Rate'!$AA16)*1000","v":0},{"$f":"('2013'!H16/'2013 Rate'!$AA16)*1000","v":57.100069749312759},{"$f":"('2013'!I16/'2013 Rate'!$AA16)*1000","v":50.949821523817334},{"$f":"('2013'!J16/'2013 Rate'!$AA16)*1000","v":-1.259590530505067},{"$f":"('2013'!K16/'2013 Rate'!$AA16)*1000","v":23.591679317277315},{"$f":"('2013'!L16/'2013 Rate'!$AA16)*1000","v":24.85126984778238},{"$f":"('2013'!M16/'2013 Rate'!$AA16)*1000","v":3.4033561728141799},{"$f":"('2013'!N16/'2013 Rate'!$AA16)*1000","v":18.63332375989825},{"$f":"('2013'!O16/'2013 Rate'!$AA16)*1000","v":15.229967587084067},{"$f":"('2013'!P16/'2013 Rate'!$AA16)*1000","v":4.0064825831863127},{"$f":"('2013'!Q16/'2013 Rate'!$AA16)*1000","v":14.875066672137201},{"$f":"('2013'!R16/'2013 Rate'!$AA16)*1000","v":10.86858408895089},null,{"$f":"('2013'!T16/'2013 Rate'!$AA16)*1000","v":23.304476264719156},{"$f":"('2013'!U16/'2013 Rate'!$AA16)*1000","v":3.4874656382062117},{"$f":"('2013'!V16/'2013 Rate'!$AA16)*1000","v":12.476921183276577},{"$f":"('2013'!W16/'2013 Rate'!$AA16)*1000","v":9.9721002748943501},{"$f":"('2013'!X16/'2013 Rate'!$AA16)*1000","v":143.60152627907931},null,"Edinburgh, City of",{"$f":"'Population estimates'!K16","v":487460}]
[15,"Eilean Siar",null,{"$f":"('2013'!D17/'2013 Rate'!$AA17)*1000","v":-0.6934306569343065},{"$f":"('2013'!E17/'2013 Rate'!$AA17)*1000","v":-0.40145985401459849},{"$f":"('2013'!F17/'2013 Rate'!$AA17)*1000","v":-0.72992700729927007},{"$f":"('2013'!G17/'2013 Rate'!$AA17)*1000","v":0.43795620437956201},{"$f":"('2013'!H17/'2013 Rate'!$AA17)*1000","v":31.423357664233578},{"$f":"('2013'!I17/'2013 Rate'!$AA17)*1000","v":32.116788321167881},{"$f":"('2013'!J17/'2013 Rate'!$AA17)*1000","v":-2.6642335766423355},{"$f":"('2013'!K17/'2013 Rate'!$AA17)*1000","v":18.211678832116789},{"$f":"('2013'!L17/'2013 Rate'!$AA17)*1000","v":20.875912408759124},{"$f":"('2013'!M17/'2013 Rate'!$AA17)*1000","v":4.1240875912408761},{"$f":"('2013'!N17/'2013 Rate'!$AA17)*1000","v":12.18978102189781},{"$f":"('2013'!O17/'2013 Rate'!$AA17)*1000","v":8.0656934306569337},{"$f":"('2013'!P17/'2013 Rate'!$AA17)*1000","v":-2.1532846715328469},{"$f":"('2013'!Q17/'2013 Rate'!$AA17)*1000","v":1.0218978102189782},{"$f":"('2013'!R17/'2013 Rate'!$AA17)*1000","v":3.175182481751825},null,{"$f":"('2013'!T17/'2013 Rate'!$AA17)*1000","v":1.0948905109489051},{"$f":"('2013'!U17/'2013 Rate'!$AA17)*1000","v":0.76642335766423353},{"$f":"('2013'!V17/'2013 Rate'!$AA17)*1000","v":2.0802919708029197},{"$f":"('2013'!W17/'2013 Rate'!$AA17)*1000","v":1.7153284671532847},{"$f":"('2013'!X17/'2013 Rate'!$AA17)*1000","v":36.496350364963497},null,"Eilean Siar",{"$f":"'Population estimates'!K17","v":27400}]
[16,"Falkirk",null,{"$f":"('2013'!D18/'2013 Rate'!$AA18)*1000","v":2.3861033341817257},{"$f":"('2013'!E18/'2013 Rate'!$AA18)*1000","v":0.44540595571392211},{"$f":"('2013'!F18/'2013 Rate'!$AA18)*1000","v":1.4380249427335199},{"$f":"('2013'!G18/'2013 Rate'!$AA18)*1000","v":0.50267243573428355},{"$f":"('2013'!H18/'2013 Rate'!$AA18)*1000","v":25.935352506999237},{"$f":"('2013'!I18/'2013 Rate'!$AA18)*1000","v":23.549249172817511},{"$f":"('2013'!J18/'2013 Rate'!$AA18)*1000","v":2.5197251208959024},{"$f":"('2013'!K18/'2013 Rate'!$AA18)*1000","v":20.170526851616188},{"$f":"('2013'!L18/'2013 Rate'!$AA18)*1000","v":17.650801730720282},{"$f":"('2013'!M18/'2013 Rate'!$AA18)*1000","v":0.68083481801985235},{"$f":"('2013'!N18/'2013 Rate'!$AA18)*1000","v":4.2695342326291676},{"$f":"('2013'!O18/'2013 Rate'!$AA18)*1000","v":3.5886994146093154},{"$f":"('2013'!P18/'2013 Rate'!$AA18)*1000","v":-0.81445660473402903},{"$f":"('2013'!Q18/'2013 Rate'!$AA18)*1000","v":1.4952914227538814},{"$f":"('2013'!R18/'2013 Rate'!$AA18)*1000","v":2.3097480274879105},null,{"$f":"('2013'!T18/'2013 Rate'!$AA18)*1000","v":2.4179180453041487},{"$f":"('2013'!U18/'2013 Rate'!$AA18)*1000","v":0.9480783914482056},{"$f":"('2013'!V18/'2013 Rate'!$AA18)*1000","v":4.3140748282005594},{"$f":"('2013'!W18/'2013 Rate'!$AA18)*1000","v":3.1623822855688468},{"$f":"('2013'!X18/'2013 Rate'!$AA18)*1000","v":44.540595571392217},null,"Falkirk",{"$f":"'Population estimates'!K18","v":157160}]
[17,"Fife",null,{"$f":"('2013'!D19/'2013 Rate'!$AA19)*1000","v":0.8285636413191606},{"$f":"('2013'!E19/'2013 Rate'!$AA19)*1000","v":0.46061597165440171},{"$f":"('2013'!F19/'2013 Rate'!$AA19)*1000","v":0.32979013355137637},{"$f":"('2013'!G19/'2013 Rate'!$AA19)*1000","v":3.8157536113382393E-2},{"$f":"('2013'!H19/'2013 Rate'!$AA19)*1000","v":28.506405014990463},{"$f":"('2013'!I19/'2013 Rate'!$AA19)*1000","v":27.677841373671299},{"$f":"('2013'!J19/'2013 Rate'!$AA19)*1000","v":-0.32706459525756337},{"$f":"('2013'!K19/'2013 Rate'!$AA19)*1000","v":15.625511038430091},{"$f":"('2013'!L19/'2013 Rate'!$AA19)*1000","v":15.952575633687655},{"$f":"('2013'!M19/'2013 Rate'!$AA19)*1000","v":1.3028073044426274},{"$f":"('2013'!N19/'2013 Rate'!$AA19)*1000","v":8.7653311529026983},{"$f":"('2013'!O19/'2013 Rate'!$AA19)*1000","v":7.4625238484600711},{"$f":"('2013'!P19/'2013 Rate'!$AA19)*1000","v":-0.14717906786590351},{"$f":"('2013'!Q19/'2013 Rate'!$AA19)*1000","v":4.1155628236576725},{"$f":"('2013'!R19/'2013 Rate'!$AA19)*1000","v":4.262741891523576},null,{"$f":"('2013'!T19/'2013 Rate'!$AA19)*1000","v":5.3693104388116657},{"$f":"('2013'!U19/'2013 Rate'!$AA19)*1000","v":1.1092940855819025},{"$f":"('2013'!V19/'2013 Rate'!$AA19)*1000","v":4.0256200599618426},{"$f":"('2013'!W19/'2013 Rate'!$AA19)*1000","v":2.4611610793131646},{"$f":"('2013'!X19/'2013 Rate'!$AA19)*1000","v":54.510765876260557},null,"Fife",{"$f":"'Population estimates'!K19","v":366900}]
[18,"Glasgow City",null,{"$f":"('2013'!D20/'2013 Rate'!$AA20)*1000","v":0.73593509018976733},{"$f":"('2013'!E20/'2013 Rate'!$AA20)*1000","v":-1.5473077180983035},{"$f":"('2013'!F20/'2013 Rate'!$AA20)*1000","v":2.8146583517736206},{"$f":"('2013'!G20/'2013 Rate'!$AA20)*1000","v":-0.53141554348554954},{"$f":"('2013'!H20/'2013 Rate'!$AA20)*1000","v":46.952323476161737},{"$f":"('2013'!I20/'2013 Rate'!$AA20)*1000","v":46.216388385971975},{"$f":"('2013'!J20/'2013 Rate'!$AA20)*1000","v":-3.0191778984778384},{"$f":"('2013'!K20/'2013 Rate'!$AA20)*1000","v":25.144169516529203},{"$f":"('2013'!L20/'2013 Rate'!$AA20)*1000","v":28.163347415007042},{"$f":"('2013'!M20/'2013 Rate'!$AA20)*1000","v":0.29336820223965665},{"$f":"('2013'!N20/'2013 Rate'!$AA20)*1000","v":9.9259035740628985},{"$f":"('2013'!O20/'2013 Rate'!$AA20)*1000","v":9.6325353718232414},{"$f":"('2013'!P20/'2013 Rate'!$AA20)*1000","v":3.4617447864279489},{"$f":"('2013'!Q20/'2013 Rate'!$AA20)*1000","v":11.882250385569638},{"$f":"('2013'!R20/'2013 Rate'!$AA20)*1000","v":8.4205055991416877},null,{"$f":"('2013'!T20/'2013 Rate'!$AA20)*1000","v":11.432977938711192},{"$f":"('2013'!U20/'2013 Rate'!$AA20)*1000","v":3.3293099979883327},{"$f":"('2013'!V20/'2013 Rate'!$AA20)*1000","v":19.734459867229933},{"$f":"('2013'!W20/'2013 Rate'!$AA20)*1000","v":17.509890699389793},{"$f":"('2013'!X20/'2013 Rate'!$AA20)*1000","v":113.99450144169516},null,"Glasgow City",{"$f":"'Population estimates'!K20","v":596520}]
[19,"Highland",null,{"$f":"('2013'!D21/'2013 Rate'!$AA21)*1000","v":0.39926158073240886},{"$f":"('2013'!E21/'2013 Rate'!$AA21)*1000","v":0.71266045593096639},{"$f":"('2013'!F21/'2013 Rate'!$AA21)*1000","v":-0.12879405830077706},{"$f":"('2013'!G21/'2013 Rate'!$AA21)*1000","v":-0.18460481689778047},{"$f":"('2013'!H21/'2013 Rate'!$AA21)*1000","v":30.386811488430002},{"$f":"('2013'!I21/'2013 Rate'!$AA21)*1000","v":29.987549907697591},{"$f":"('2013'!J21/'2013 Rate'!$AA21)*1000","v":-1.8374618984244193},{"$f":"('2013'!K21/'2013 Rate'!$AA21)*1000","v":17.060919589576265},{"$f":"('2013'!L21/'2013 Rate'!$AA21)*1000","v":18.898381488000688},{"$f":"('2013'!M21/'2013 Rate'!$AA21)*1000","v":3.2799553513931223},{"$f":"('2013'!N21/'2013 Rate'!$AA21)*1000","v":10.668441162581033},{"$f":"('2013'!O21/'2013 Rate'!$AA21)*1000","v":7.3884858111879108},{"$f":"('2013'!P21/'2013 Rate'!$AA21)*1000","v":-1.0432318722362941},{"$f":"('2013'!Q21/'2013 Rate'!$AA21)*1000","v":2.6574507362727},{"$f":"('2013'!R21/'2013 Rate'!$AA21)*1000","v":3.7006826085089939},null,{"$f":"('2013'!T21/'2013 Rate'!$AA21)*1000","v":5.5381445069334134},{"$f":"('2013'!U21/'2013 Rate'!$AA21)*1000","v":1.3566307474348516},{"$f":"('2013'!V21/'2013 Rate'!$AA21)*1000","v":3.0652985875584937},{"$f":"('2013'!W21/'2013 Rate'!$AA21)*1000","v":3.722148284892457},{"$f":"('2013'!X21/'2013 Rate'!$AA21)*1000","v":47.224488043618258},null,"Highland",{"$f":"'Population estimates'!K21","v":232930}]
[20,"Inverclyde",null,{"$f":"('2013'!D22/'2013 Rate'!$AA22)*1000","v":-1.9915359721184964},{"$f":"('2013'!E22/'2013 Rate'!$AA22)*1000","v":0.44809559372666169},{"$f":"('2013'!F22/'2013 Rate'!$AA22)*1000","v":-2.4271844660194173},{"$f":"('2013'!G22/'2013 Rate'!$AA22)*1000","v":-1.2447099825740602E-2},{"$f":"('2013'!H22/'2013 Rate'!$AA22)*1000","v":17.463281055514067},{"$f":"('2013'!I22/'2013 Rate'!$AA22)*1000","v":19.454817027632561},{"$f":"('2013'!J22/'2013 Rate'!$AA22)*1000","v":-1.9044062733383122},{"$f":"('2013'!K22/'2013 Rate'!$AA22)*1000","v":12.235499128703012},{"$f":"('2013'!L22/'2013 Rate'!$AA22)*1000","v":14.139905402041325},{"$f":"('2013'!M22/'2013 Rate'!$AA22)*1000","v":0.62235499128703009},{"$f":"('2013'!N22/'2013 Rate'!$AA22)*1000","v":4.3440378391834704},{"$f":"('2013'!O22/'2013 Rate'!$AA22)*1000","v":3.7216828478964401},{"$f":"('2013'!P22/'2013 Rate'!$AA22)*1000","v":-0.70948469006721437},{"$f":"('2013'!Q22/'2013 Rate'!$AA22)*1000","v":0.88374408762758283},{"$f":"('2013'!R22/'2013 Rate'!$AA22)*1000","v":1.5932287776947971},null,{"$f":"('2013'!T22/'2013 Rate'!$AA22)*1000","v":0.99576798605924821},{"$f":"('2013'!U22/'2013 Rate'!$AA22)*1000","v":0.41075429424943988},{"$f":"('2013'!V22/'2013 Rate'!$AA22)*1000","v":2.2902663679362707},{"$f":"('2013'!W22/'2013 Rate'!$AA22)*1000","v":0.65969629076425196},{"$f":"('2013'!X22/'2013 Rate'!$AA22)*1000","v":24.894199651481205},null,"Inverclyde",{"$f":"'Population estimates'!K22","v":80340}]
[21,"Midlothian",null,{"$f":"('2013'!D23/'2013 Rate'!$AA23)*1000","v":6.7996694605123364},{"$f":"('2013'!E23/'2013 Rate'!$AA23)*1000","v":1.7353323102349192},{"$f":"('2013'!F23/'2013 Rate'!$AA23)*1000","v":5.2296068941093141},{"$f":"('2013'!G23/'2013 Rate'!$AA23)*1000","v":-0.16526974383189708},{"$f":"('2013'!H23/'2013 Rate'!$AA23)*1000","v":35.273285326407745},{"$f":"('2013'!I23/'2013 Rate'!$AA23)*1000","v":28.473615865895407},{"$f":"('2013'!J23/'2013 Rate'!$AA23)*1000","v":6.6698146617872736},{"$f":"('2013'!K23/'2013 Rate'!$AA23)*1000","v":29.052059969307045},{"$f":"('2013'!L23/'2013 Rate'!$AA23)*1000","v":22.382245307519771},{"$f":"('2013'!M23/'2013 Rate'!$AA23)*1000","v":0.6610789753275883},{"$f":"('2013'!N23/'2013 Rate'!$AA23)*1000","v":5.182386967300201},{"$f":"('2013'!O23/'2013 Rate'!$AA23)*1000","v":4.5213079919726118},{"$f":"('2013'!P23/'2013 Rate'!$AA23)*1000","v":-0.5312241766025263},{"$f":"('2013'!Q23/'2013 Rate'!$AA23)*1000","v":1.0388383898004958},{"$f":"('2013'!R23/'2013 Rate'!$AA23)*1000","v":1.5700625664030221},null,{"$f":"('2013'!T23/'2013 Rate'!$AA23)*1000","v":2.1248967064101052},{"$f":"('2013'!U23/'2013 Rate'!$AA23)*1000","v":1.0034234446936607},{"$f":"('2013'!V23/'2013 Rate'!$AA23)*1000","v":4.403258174949829},{"$f":"('2013'!W23/'2013 Rate'!$AA23)*1000","v":2.7151457915240229},{"$f":"('2013'!X23/'2013 Rate'!$AA23)*1000","v":35.414945106835084},null,"Midlothian",{"$f":"'Population estimates'!K23","v":84710}]
[22,"Moray",null,{"$f":"('2013'!D24/'2013 Rate'!$AA24)*1000","v":6.3162356930902925},{"$f":"('2013'!E24/'2013 Rate'!$AA24)*1000","v":1.7274268757948283},{"$f":"('2013'!F24/'2013 Rate'!$AA24)*1000","v":4.2602797795676128},{"$f":"('2013'!G24/'2013 Rate'!$AA24)*1000","v":0.3285290377278508},{"$f":"('2013'!H24/'2013 Rate'!$AA24)*1000","v":37.388724035608305},{"$f":"('2013'!I24/'2013 Rate'!$AA24)*1000","v":31.072488342518017},{"$f":"('2013'!J24/'2013 Rate'!$AA24)*1000","v":1.3459092835947435},{"$f":"('2013'!K24/'2013 Rate'!$AA24)*1000","v":19.287833827893174},{"$f":"('2013'!L24/'2013 Rate'!$AA24)*1000","v":17.941924544298431},{"$f":"('2013'!M24/'2013 Rate'!$AA24)*1000","v":6.5175922000847821},{"$f":"('2013'!N24/'2013 Rate'!$AA24)*1000","v":15.695209834675708},{"$f":"('2013'!O24/'2013 Rate'!$AA24)*1000","v":9.1776176345909288},{"$f":"('2013'!P24/'2013 Rate'!$AA24)*1000","v":-1.5472657905892326},{"$f":"('2013'!Q24/'2013 Rate'!$AA24)*1000","v":2.4056803730394236},{"$f":"('2013'!R24/'2013 Rate'!$AA24)*1000","v":3.9529461636286563},null,{"$f":"('2013'!T24/'2013 Rate'!$AA24)*1000","v":3.3912674862229757},{"$f":"('2013'!U24/'2013 Rate'!$AA24)*1000","v":1.1869436201780414},{"$f":"('2013'!V24/'2013 Rate'!$AA24)*1000","v":2.8401865197117422},{"$f":"('2013'!W24/'2013 Rate'!$AA24)*1000","v":3.2217041119118273},{"$f":"('2013'!X24/'2013 Rate'!$AA24)*1000","v":42.390843577787194},null,"Moray",{"$f":"'Population estimates'!K24","v":94360}]
[23,"North Ayrshire",null,{"$f":"('2013'!D25/'2013 Rate'!$AA25)*1000","v":-2.2491602161530597},{"$f":"('2013'!E25/'2013 Rate'!$AA25)*1000","v":-9.4932087045421359E-2},{"$f":"('2013'!F25/'2013 Rate'!$AA25)*1000","v":-2.4317219220096393},{"$f":"('2013'!G25/'2013 Rate'!$AA25)*1000","v":0.27749379290200088},{"$f":"('2013'!H25/'2013 Rate'!$AA25)*1000","v":25.522126478749815},{"$f":"('2013'!I25/'2013 Rate'!$AA25)*1000","v":27.771286694902876},{"$f":"('2013'!J25/'2013 Rate'!$AA25)*1000","v":-1.4385862421498465},{"$f":"('2013'!K25/'2013 Rate'!$AA25)*1000","v":18.789250766759164},{"$f":"('2013'!L25/'2013 Rate'!$AA25)*1000","v":20.22783700890901},{"$f":"('2013'!M25/'2013 Rate'!$AA25)*1000","v":0.92741346575142392},{"$f":"('2013'!N25/'2013 Rate'!$AA25)*1000","v":5.9296042062217023},{"$f":"('2013'!O25/'2013 Rate'!$AA25)*1000","v":5.0021907404702786},{"$f":"('2013'!P25/'2013 Rate'!$AA25)*1000","v":-1.7379874397546371},{"$f":"('2013'!Q25/'2013 Rate'!$AA25)*1000","v":0.8032715057689499},{"$f":"('2013'!R25/'2013 Rate'!$AA25)*1000","v":2.541258945523587},null,{"$f":"('2013'!T25/'2013 Rate'!$AA25)*1000","v":0.94932087045421354},{"$f":"('2013'!U25/'2013 Rate'!$AA25)*1000","v":0.44545056229005403},{"$f":"('2013'!V25/'2013 Rate'!$AA25)*1000","v":2.1615305973419017},{"$f":"('2013'!W25/'2013 Rate'!$AA25)*1000","v":0.78866656930042356},{"$f":"('2013'!X25/'2013 Rate'!$AA25)*1000","v":29.209872937052726},null,"North Ayrshire",{"$f":"'Population estimates'!K25","v":136940}]
[24,"North Lanarkshire",null,{"$f":"('2013'!D26/'2013 Rate'!$AA26)*1000","v":-1.139795132926757},{"$f":"('2013'!E26/'2013 Rate'!$AA26)*1000","v":0.32269524542601691},{"$f":"('2013'!F26/'2013 Rate'!$AA26)*1000","v":-1.2049262833797147},{"$f":"('2013'!G26/'2013 Rate'!$AA26)*1000","v":-0.25756409497305938},{"$f":"('2013'!H26/'2013 Rate'!$AA26)*1000","v":19.663686423115635},{"$f":"('2013'!I26/'2013 Rate'!$AA26)*1000","v":20.803481556042396},{"$f":"('2013'!J26/'2013 Rate'!$AA26)*1000","v":-0.53881224465628519},{"$f":"('2013'!K26/'2013 Rate'!$AA26)*1000","v":15.134110959796317},{"$f":"('2013'!L26/'2013 Rate'!$AA26)*1000","v":15.672923204452603},{"$f":"('2013'!M26/'2013 Rate'!$AA26)*1000","v":0.41151045058914082},{"$f":"('2013'!N26/'2013 Rate'!$AA26)*1000","v":3.315767659423293},{"$f":"('2013'!O26/'2013 Rate'!$AA26)*1000","v":2.9042572088341525},{"$f":"('2013'!P26/'2013 Rate'!$AA26)*1000","v":-1.0124933388596129},{"$f":"('2013'!Q26/'2013 Rate'!$AA26)*1000","v":1.2138078038960269},{"$f":"('2013'!R26/'2013 Rate'!$AA26)*1000","v":2.2263011427556396},null,{"$f":"('2013'!T26/'2013 Rate'!$AA26)*1000","v":1.7466990348747706},{"$f":"('2013'!U26/'2013 Rate'!$AA26)*1000","v":0.7845343122742614},{"$f":"('2013'!V26/'2013 Rate'!$AA26)*1000","v":5.0239801053940436},{"$f":"('2013'!W26/'2013 Rate'!$AA26)*1000","v":2.9605068387707973},{"$f":"('2013'!X26/'2013 Rate'!$AA26)*1000","v":20.723547871395581},null,"North Lanarkshire",{"$f":"'Population estimates'!K26","v":337780}]
[25,"Orkney Islands",null,{"$f":"('2013'!D27/'2013 Rate'!$AA27)*1000","v":3.7105751391465676},{"$f":"('2013'!E27/'2013 Rate'!$AA27)*1000","v":1.6233766233766236},{"$f":"('2013'!F27/'2013 Rate'!$AA27)*1000","v":1.8089053803339519},{"$f":"('2013'!G27/'2013 Rate'!$AA27)*1000","v":0.2782931354359926},{"$f":"('2013'!H27/'2013 Rate'!$AA27)*1000","v":35.296846011131727},{"$f":"('2013'!I27/'2013 Rate'!$AA27)*1000","v":31.586270871985157},{"$f":"('2013'!J27/'2013 Rate'!$AA27)*1000","v":0.92764378478664189},{"$f":"('2013'!K27/'2013 Rate'!$AA27)*1000","v":19.897959183673468},{"$f":"('2013'!L27/'2013 Rate'!$AA27)*1000","v":18.970315398886829},{"$f":"('2013'!M27/'2013 Rate'!$AA27)*1000","v":4.0816326530612246},{"$f":"('2013'!N27/'2013 Rate'!$AA27)*1000","v":13.126159554730984},{"$f":"('2013'!O27/'2013 Rate'!$AA27)*1000","v":9.0445269016697587},{"$f":"('2013'!P27/'2013 Rate'!$AA27)*1000","v":-1.2987012987012987},{"$f":"('2013'!Q27/'2013 Rate'!$AA27)*1000","v":2.2727272727272725},{"$f":"('2013'!R27/'2013 Rate'!$AA27)*1000","v":3.5714285714285712},null,{"$f":"('2013'!T27/'2013 Rate'!$AA27)*1000","v":3.2467532467532472},{"$f":"('2013'!U27/'2013 Rate'!$AA27)*1000","v":0.32467532467532467},{"$f":"('2013'!V27/'2013 Rate'!$AA27)*1000","v":1.7625231910946197},{"$f":"('2013'!W27/'2013 Rate'!$AA27)*1000","v":0.69573283858998147},0,null,"Orkney Islands",{"$f":"'Population estimates'!K27","v":21560}]
[26,"Perth & Kinross",null,{"$f":"('2013'!D28/'2013 Rate'!$AA28)*1000","v":2.5512620965013193},{"$f":"('2013'!E28/'2013 Rate'!$AA28)*1000","v":1.6512147255870608},{"$f":"('2013'!F28/'2013 Rate'!$AA28)*1000","v":0.54814915070718007},{"$f":"('2013'!G28/'2013 Rate'!$AA28)*1000","v":0.35189822020707856},{"$f":"('2013'!H28/'2013 Rate'!$AA28)*1000","v":40.447993503417479},{"$f":"('2013'!I28/'2013 Rate'!$AA28)*1000","v":37.896731406916153},{"$f":"('2013'!J28/'2013 Rate'!$AA28)*1000","v":1.2113419503282128},{"$f":"('2013'!K28/'2013 Rate'!$AA28)*1000","v":26.419435609392973},{"$f":"('2013'!L28/'2013 Rate'!$AA28)*1000","v":25.208093659064762},{"$f":"('2013'!M28/'2013 Rate'!$AA28)*1000","v":1.4075928808283142},{"$f":"('2013'!N28/'2013 Rate'!$AA28)*1000","v":8.3372809095215548},{"$f":"('2013'!O28/'2013 Rate'!$AA28)*1000","v":6.9296880286932394},{"$f":"('2013'!P28/'2013 Rate'!$AA28)*1000","v":-6.7672734655207428E-2},{"$f":"('2013'!Q28/'2013 Rate'!$AA28)*1000","v":5.6912769845029443},{"$f":"('2013'!R28/'2013 Rate'!$AA28)*1000","v":5.7589497191581511},null,{"$f":"('2013'!T28/'2013 Rate'!$AA28)*1000","v":15.903092643973743},{"$f":"('2013'!U28/'2013 Rate'!$AA28)*1000","v":1.4278947012248764},{"$f":"('2013'!V28/'2013 Rate'!$AA28)*1000","v":3.667862218312242},{"$f":"('2013'!W28/'2013 Rate'!$AA28)*1000","v":3.9114840630709882},{"$f":"('2013'!X28/'2013 Rate'!$AA28)*1000","v":74.440008120728166},null,"Perth & Kinross",{"$f":"'Population estimates'!K28","v":147770}]
[27,"Renfrewshire",null,{"$f":"('2013'!D29/'2013 Rate'!$AA29)*1000","v":-1.9725113577549027},{"$f":"('2013'!E29/'2013 Rate'!$AA29)*1000","v":-0.14376904939904536},{"$f":"('2013'!F29/'2013 Rate'!$AA29)*1000","v":-1.8459945942837426},{"$f":"('2013'!G29/'2013 Rate'!$AA29)*1000","v":1.7252285927885445E-2},{"$f":"('2013'!H29/'2013 Rate'!$AA29)*1000","v":25.343608028063716},{"$f":"('2013'!I29/'2013 Rate'!$AA29)*1000","v":27.31611938581862},{"$f":"('2013'!J29/'2013 Rate'!$AA29)*1000","v":-0.8223589625625396},{"$f":"('2013'!K29/'2013 Rate'!$AA29)*1000","v":19.155788141928806},{"$f":"('2013'!L29/'2013 Rate'!$AA29)*1000","v":19.978147104491345},{"$f":"('2013'!M29/'2013 Rate'!$AA29)*1000","v":3.4504571855770889E-2},{"$f":"('2013'!N29/'2013 Rate'!$AA29)*1000","v":4.2843176720915519},{"$f":"('2013'!O29/'2013 Rate'!$AA29)*1000","v":4.2498131002357811},{"$f":"('2013'!P29/'2013 Rate'!$AA29)*1000","v":-1.1846569670481339},{"$f":"('2013'!Q29/'2013 Rate'!$AA29)*1000","v":1.9035022140433608},{"$f":"('2013'!R29/'2013 Rate'!$AA29)*1000","v":3.0881591810914948},null,{"$f":"('2013'!T29/'2013 Rate'!$AA29)*1000","v":2.9328886077405256},{"$f":"('2013'!U29/'2013 Rate'!$AA29)*1000","v":1.0121341077692794},{"$f":"('2013'!V29/'2013 Rate'!$AA29)*1000","v":4.8881476795675427},{"$f":"('2013'!W29/'2013 Rate'!$AA29)*1000","v":2.3923169820001151},{"$f":"('2013'!X29/'2013 Rate'!$AA29)*1000","v":51.756857783656336},null,"Renfrewshire",{"$f":"'Population estimates'!K29","v":173890}]
[28,"Scottish Borders",null,{"$f":"('2013'!D30/'2013 Rate'!$AA30)*1000","v":2.7046013347383209},{"$f":"('2013'!E30/'2013 Rate'!$AA30)*1000","v":0.88689848963821571},{"$f":"('2013'!F30/'2013 Rate'!$AA30)*1000","v":1.5367053038285916},{"$f":"('2013'!G30/'2013 Rate'!$AA30)*1000","v":0.28099754127151388},{"$f":"('2013'!H30/'2013 Rate'!$AA30)*1000","v":34.887600983491396},{"$f":"('2013'!I30/'2013 Rate'!$AA30)*1000","v":32.182999648753075},{"$f":"('2013'!J30/'2013 Rate'!$AA30)*1000","v":-7.0249385317878471E-2},{"$f":"('2013'!K30/'2013 Rate'!$AA30)*1000","v":18.888303477344571},{"$f":"('2013'!L30/'2013 Rate'!$AA30)*1000","v":18.958552862662451},{"$f":"('2013'!M30/'2013 Rate'!$AA30)*1000","v":4.2939936775553216},{"$f":"('2013'!N30/'2013 Rate'!$AA30)*1000","v":13.804004214963118},{"$f":"('2013'!O30/'2013 Rate'!$AA30)*1000","v":9.5100105374077977},{"$f":"('2013'!P30/'2013 Rate'!$AA30)*1000","v":-1.519142957499122},{"$f":"('2013'!Q30/'2013 Rate'!$AA30)*1000","v":2.1952932911837024},{"$f":"('2013'!R30/'2013 Rate'!$AA30)*1000","v":3.7144362486828242},null,{"$f":"('2013'!T30/'2013 Rate'!$AA30)*1000","v":2.9855988760098349},{"$f":"('2013'!U30/'2013 Rate'!$AA30)*1000","v":1.1415525114155249},{"$f":"('2013'!V30/'2013 Rate'!$AA30)*1000","v":2.6782578152441165},{"$f":"('2013'!W30/'2013 Rate'!$AA30)*1000","v":3.1348788198103268},{"$f":"('2013'!X30/'2013 Rate'!$AA30)*1000","v":52.687038988408851},null,"Scottish Borders",{"$f":"'Population estimates'!K30","v":113880}]
[29,"Shetland Islands",null,{"$f":"('2013'!D31/'2013 Rate'!$AA31)*1000","v":-3.8362068965517242},{"$f":"('2013'!E31/'2013 Rate'!$AA31)*1000","v":-1.853448275862069},{"$f":"('2013'!F31/'2013 Rate'!$AA31)*1000","v":-0.99137931034482762},{"$f":"('2013'!G31/'2013 Rate'!$AA31)*1000","v":-0.99137931034482762},{"$f":"('2013'!H31/'2013 Rate'!$AA31)*1000","v":27.887931034482758},{"$f":"('2013'!I31/'2013 Rate'!$AA31)*1000","v":31.724137931034484},{"$f":"('2013'!J31/'2013 Rate'!$AA31)*1000","v":-3.6637931034482758},{"$f":"('2013'!K31/'2013 Rate'!$AA31)*1000","v":15.129310344827587},{"$f":"('2013'!L31/'2013 Rate'!$AA31)*1000","v":18.793103448275861},{"$f":"('2013'!M31/'2013 Rate'!$AA31)*1000","v":1.2068965517241379},{"$f":"('2013'!N31/'2013 Rate'!$AA31)*1000","v":10.172413793103447},{"$f":"('2013'!O31/'2013 Rate'!$AA31)*1000","v":8.9655172413793096},{"$f":"('2013'!P31/'2013 Rate'!$AA31)*1000","v":-1.3793103448275861},{"$f":"('2013'!Q31/'2013 Rate'!$AA31)*1000","v":2.5862068965517242},{"$f":"('2013'!R31/'2013 Rate'!$AA31)*1000","v":3.9655172413793105},null,{"$f":"('2013'!T31/'2013 Rate'!$AA31)*1000","v":8.1896551724137936},{"$f":"('2013'!U31/'2013 Rate'!$AA31)*1000","v":0.94827586206896552},{"$f":"('2013'!V31/'2013 Rate'!$AA31)*1000","v":3.6206896551724141},{"$f":"('2013'!W31/'2013 Rate'!$AA31)*1000","v":1.25},{"$f":"('2013'!X31/'2013 Rate'!$AA31)*1000","v":43.103448275862071},null,"Shetland Islands",{"$f":"'Population estimates'!K31","v":23200}]
[30,"South Ayrshire",null,{"$f":"('2013'!D32/'2013 Rate'!$AA32)*1000","v":3.588198812793479},{"$f":"('2013'!E32/'2013 Rate'!$AA32)*1000","v":1.1340480198458405},{"$f":"('2013'!F32/'2013 Rate'!$AA32)*1000","v":1.3112430229467529},{"$f":"('2013'!G32/'2013 Rate'!$AA32)*1000","v":1.1429077700008861},{"$f":"('2013'!H32/'2013 Rate'!$AA32)*1000","v":33.011429077700008},{"$f":"('2013'!I32/'2013 Rate'!$AA32)*1000","v":29.423230264906529},{"$f":"('2013'!J32/'2013 Rate'!$AA32)*1000","v":2.950296801630194},{"$f":"('2013'!K32/'2013 Rate'!$AA32)*1000","v":23.752990165677328},{"$f":"('2013'!L32/'2013 Rate'!$AA32)*1000","v":20.802693364047133},{"$f":"('2013'!M32/'2013 Rate'!$AA32)*1000","v":2.3478337910870914},{"$f":"('2013'!N32/'2013 Rate'!$AA32)*1000","v":7.7788606361300614},{"$f":"('2013'!O32/'2013 Rate'!$AA32)*1000","v":5.43102684504297},{"$f":"('2013'!P32/'2013 Rate'!$AA32)*1000","v":-1.7099317799238061},{"$f":"('2013'!Q32/'2013 Rate'!$AA32)*1000","v":1.4795782758926197},{"$f":"('2013'!R32/'2013 Rate'!$AA32)*1000","v":3.189510055816426},null,{"$f":"('2013'!T32/'2013 Rate'!$AA32)*1000","v":1.9491450341100383},{"$f":"('2013'!U32/'2013 Rate'!$AA32)*1000","v":0.51386550899264638},{"$f":"('2013'!V32/'2013 Rate'!$AA32)*1000","v":2.6136262957384599},{"$f":"('2013'!W32/'2013 Rate'!$AA32)*1000","v":1.3112430229467529},{"$f":"('2013'!X32/'2013 Rate'!$AA32)*1000","v":26.579250465136884},null,"South Ayrshire",{"$f":"'Population estimates'!K32","v":112870}]
[31,"South Lanarkshire",null,{"$f":"('2013'!D33/'2013 Rate'!$AA33)*1000","v":1.8392045995997586},{"$f":"('2013'!E33/'2013 Rate'!$AA33)*1000","v":0.30812235951843969},{"$f":"('2013'!F33/'2013 Rate'!$AA33)*1000","v":0.96566182776913068},{"$f":"('2013'!G33/'2013 Rate'!$AA33)*1000","v":0.56542041231218831},{"$f":"('2013'!H33/'2013 Rate'!$AA33)*1000","v":26.069692830596232},{"$f":"('2013'!I33/'2013 Rate'!$AA33)*1000","v":24.230488230996475},{"$f":"('2013'!J33/'2013 Rate'!$AA33)*1000","v":3.0113401734379468},{"$f":"('2013'!K33/'2013 Rate'!$AA33)*1000","v":20.806200565420411},{"$f":"('2013'!L33/'2013 Rate'!$AA33)*1000","v":17.794860391982468},{"$f":"('2013'!M33/'2013 Rate'!$AA33)*1000","v":0.17470855436612562},{"$f":"('2013'!N33/'2013 Rate'!$AA33)*1000","v":4.2851243607255167},{"$f":"('2013'!O33/'2013 Rate'!$AA33)*1000","v":4.1104158063593914},{"$f":"('2013'!P33/'2013 Rate'!$AA33)*1000","v":-1.3468441282043138},{"$f":"('2013'!Q33/'2013 Rate'!$AA33)*1000","v":0.97836790445030342},{"$f":"('2013'!R33/'2013 Rate'!$AA33)*1000","v":2.3252120326546168},null,{"$f":"('2013'!T33/'2013 Rate'!$AA33)*1000","v":1.5882595851465964},{"$f":"('2013'!U33/'2013 Rate'!$AA33)*1000","v":0.72106985165655468},{"$f":"('2013'!V33/'2013 Rate'!$AA33)*1000","v":4.8410152155268253},{"$f":"('2013'!W33/'2013 Rate'!$AA33)*1000","v":1.8455576379403449},{"$f":"('2013'!X33/'2013 Rate'!$AA33)*1000","v":31.765191702931926},null,"South Lanarkshire",{"$f":"'Population estimates'!K33","v":314810}]
[32,"Stirling",null,{"$f":"('2013'!D34/'2013 Rate'!$AA34)*1000","v":2.7732105666995506},{"$f":"('2013'!E34/'2013 Rate'!$AA34)*1000","v":1.2715115641784502},{"$f":"('2013'!F34/'2013 Rate'!$AA34)*1000","v":2.4772552888304284},{"$f":"('2013'!G34/'2013 Rate'!$AA34)*1000","v":-0.97555628630932811},{"$f":"('2013'!H34/'2013 Rate'!$AA34)*1000","v":55.168256056121891},{"$f":"('2013'!I34/'2013 Rate'!$AA34)*1000","v":52.395045489422337},{"$f":"('2013'!J34/'2013 Rate'!$AA34)*1000","v":1.1728598048887426},{"$f":"('2013'!K34/'2013 Rate'!$AA34)*1000","v":36.56691877671819},{"$f":"('2013'!L34/'2013 Rate'!$AA34)*1000","v":35.394058971829445},{"$f":"('2013'!M34/'2013 Rate'!$AA34)*1000","v":2.1813000109613068},{"$f":"('2013'!N34/'2013 Rate'!$AA34)*1000","v":11.092842266798202},{"$f":"('2013'!O34/'2013 Rate'!$AA34)*1000","v":8.9115422558368973},{"$f":"('2013'!P34/'2013 Rate'!$AA34)*1000","v":-0.58094924915049873},{"$f":"('2013'!Q34/'2013 Rate'!$AA34)*1000","v":7.5084950126055023},{"$f":"('2013'!R34/'2013 Rate'!$AA34)*1000","v":8.0894442617560021},null,{"$f":"('2013'!T34/'2013 Rate'!$AA34)*1000","v":6.4671708867697033},{"$f":"('2013'!U34/'2013 Rate'!$AA34)*1000","v":0.92074975337060183},{"$f":"('2013'!V34/'2013 Rate'!$AA34)*1000","v":4.9435492710731124},{"$f":"('2013'!W34/'2013 Rate'!$AA34)*1000","v":2.6745588074098436},{"$f":"('2013'!X34/'2013 Rate'!$AA34)*1000","v":65.767839526471562},null,"Stirling",{"$f":"'Population estimates'!K34","v":91230}]
[33,"West Dunbartonshire",null,{"$f":"('2013'!D35/'2013 Rate'!$AA35)*1000","v":-4.7216035634743871},{"$f":"('2013'!E35/'2013 Rate'!$AA35)*1000","v":-1.3140311804008908},{"$f":"('2013'!F35/'2013 Rate'!$AA35)*1000","v":-2.8619153674832964},{"$f":"('2013'!G35/'2013 Rate'!$AA35)*1000","v":-0.54565701559020041},{"$f":"('2013'!H35/'2013 Rate'!$AA35)*1000","v":24.164810690423163},{"$f":"('2013'!I35/'2013 Rate'!$AA35)*1000","v":28.886414253897552},{"$f":"('2013'!J35/'2013 Rate'!$AA35)*1000","v":-4.1202672605790651},{"$f":"('2013'!K35/'2013 Rate'!$AA35)*1000","v":18.407572383073497},{"$f":"('2013'!L35/'2013 Rate'!$AA35)*1000","v":22.527839643652563},{"$f":"('2013'!M35/'2013 Rate'!$AA35)*1000","v":0.47884187082405349},{"$f":"('2013'!N35/'2013 Rate'!$AA35)*1000","v":4.632516703786191},{"$f":"('2013'!O35/'2013 Rate'!$AA35)*1000","v":4.153674832962138},{"$f":"('2013'!P35/'2013 Rate'!$AA35)*1000","v":-1.0801781737193763},{"$f":"('2013'!Q35/'2013 Rate'!$AA35)*1000","v":1.1247216035634744},{"$f":"('2013'!R35/'2013 Rate'!$AA35)*1000","v":2.2048997772828507},null,{"$f":"('2013'!T35/'2013 Rate'!$AA35)*1000","v":1.5590200445434299},{"$f":"('2013'!U35/'2013 Rate'!$AA35)*1000","v":0.75723830734966591},{"$f":"('2013'!V35/'2013 Rate'!$AA35)*1000","v":3.2293986636971046},{"$f":"('2013'!W35/'2013 Rate'!$AA35)*1000","v":1.8819599109131404},{"$f":"('2013'!X35/'2013 Rate'!$AA35)*1000","v":33.4075723830735},null,"West Dunbartonshire",{"$f":"'Population estimates'!K35","v":89800}]
[34,"West Lothian",null,{"$f":"('2013'!D36/'2013 Rate'!$AA36)*1000","v":-2.1968664850136239},{"$f":"('2013'!E36/'2013 Rate'!$AA36)*1000","v":-0.21003633060853771},{"$f":"('2013'!F36/'2013 Rate'!$AA36)*1000","v":-2.3898728428701181},{"$f":"('2013'!G36/'2013 Rate'!$AA36)*1000","v":0.40304268846503177},{"$f":"('2013'!H36/'2013 Rate'!$AA36)*1000","v":26.038828337874659},{"$f":"('2013'!I36/'2013 Rate'!$AA36)*1000","v":28.235694822888284},{"$f":"('2013'!J36/'2013 Rate'!$AA36)*1000","v":-2.1060399636693914},{"$f":"('2013'!K36/'2013 Rate'!$AA36)*1000","v":18.210717529518618},{"$f":"('2013'!L36/'2013 Rate'!$AA36)*1000","v":20.316757493188014},{"$f":"('2013'!M36/'2013 Rate'!$AA36)*1000","v":1.1353315168029064E-2},{"$f":"('2013'!N36/'2013 Rate'!$AA36)*1000","v":4.9897820163487738},{"$f":"('2013'!O36/'2013 Rate'!$AA36)*1000","v":4.9784287011807447},{"$f":"('2013'!P36/'2013 Rate'!$AA36)*1000","v":-0.10217983651226159},{"$f":"('2013'!Q36/'2013 Rate'!$AA36)*1000","v":2.8383287920072662},{"$f":"('2013'!R36/'2013 Rate'!$AA36)*1000","v":2.9405086285195279},null,{"$f":"('2013'!T36/'2013 Rate'!$AA36)*1000","v":4.5980926430517712},{"$f":"('2013'!U36/'2013 Rate'!$AA36)*1000","v":1.7654405086285196},{"$f":"('2013'!V36/'2013 Rate'!$AA36)*1000","v":6.1080835603996366},{"$f":"('2013'!W36/'2013 Rate'!$AA36)*1000","v":4.8308356039963671},{"$f":"('2013'!X36/'2013 Rate'!$AA36)*1000","v":62.443233424159857},null,"West Lothian",{"$f":"'Population estimates'!K36","v":176160}]
[]
[35,"Not specified"]
[36,"SCOTLAND",null,{"$f":"('2013'!D39/'2013 Rate'!$AA39)*1000","v":1.8698500290932296},{"$f":"('2013'!E39/'2013 Rate'!$AA39)*1000","v":0.35230962704356478},{"$f":"('2013'!F39/'2013 Rate'!$AA39)*1000","v":1.5517014846932071},{"$f":"('2013'!G39/'2013 Rate'!$AA39)*1000","v":-3.4161082643542243E-2},{"$f":"('2013'!H39/'2013 Rate'!$AA39)*1000","v":14.243482178050566},{"$f":"('2013'!I39/'2013 Rate'!$AA39)*1000","v":12.373632148957336},null,null,null,{"$f":"('2013'!M39/'2013 Rate'!$AA39)*1000","v":1.4756836908985116},{"$f":"('2013'!N39/'2013 Rate'!$AA39)*1000","v":8.9503913508643507},{"$f":"('2013'!O39/'2013 Rate'!$AA39)*1000","v":7.4747076599658389},{"$f":"('2013'!P39/'2013 Rate'!$AA39)*1000","v":0.39416633819471814},{"$f":"('2013'!Q39/'2013 Rate'!$AA39)*1000","v":5.2930908271862158},{"$f":"('2013'!R39/'2013 Rate'!$AA39)*1000","v":4.8989244889914971},null,null,{"$f":"('2013'!U39/'2013 Rate'!$AA39)*1000","v":1.6205867447491413},null,null,null,{"$f":"('2013'!Y39/'2013 Rate'!$AA39)*1000","v":9.7240835632636973},"SCOTLAND",{"$f":"'Population estimates'!K39","v":5327700}]
[37,"Ayrshire & Arran",null,{"$f":"('2013'!D40/'2013 Rate'!$AA40)*1000","v":-6.1788093702987316E-2},{"$f":"('2013'!E40/'2013 Rate'!$AA40)*1000","v":0.29819471308833012},{"$f":"('2013'!F40/'2013 Rate'!$AA40)*1000","v":-0.85160111755856438},{"$f":"('2013'!G40/'2013 Rate'!$AA40)*1000","v":0.49161831076724699},{"$f":"('2013'!H40/'2013 Rate'!$AA40)*1000","v":20.997206103589082},{"$f":"('2013'!I40/'2013 Rate'!$AA40)*1000","v":21.058994197292069},{"$f":"('2013'!J40/'2013 Rate'!$AA40)*1000","v":0.26595744680851063},{"$f":"('2013'!K40/'2013 Rate'!$AA40)*1000","v":13.719643240919837},{"$f":"('2013'!L40/'2013 Rate'!$AA40)*1000","v":13.453685794111326},{"$f":"('2013'!M40/'2013 Rate'!$AA40)*1000","v":1.2626262626262628},{"$f":"('2013'!N40/'2013 Rate'!$AA40)*1000","v":6.3238770685579189},{"$f":"('2013'!O40/'2013 Rate'!$AA40)*1000","v":5.0612508059316568},{"$f":"('2013'!P40/'2013 Rate'!$AA40)*1000","v":-1.5903718031377607},{"$f":"('2013'!Q40/'2013 Rate'!$AA40)*1000","v":0.95368579411132592},{"$f":"('2013'!R40/'2013 Rate'!$AA40)*1000","v":2.5440575972490866},null,null,{"$f":"('2013'!U40/'2013 Rate'!$AA40)*1000","v":0.44057597249086611},null,null,null,null,"Ayrshire & Arran",{"$f":"'Population estimates'!K40","v":372240}]
[38,"Borders",null,{"$f":"('2013'!D41/'2013 Rate'!$AA41)*1000","v":2.7046013347383209},{"$f":"('2013'!E41/'2013 Rate'!$AA41)*1000","v":0.88689848963821571},{"$f":"('2013'!F41/'2013 Rate'!$AA41)*1000","v":1.5367053038285916},{"$f":"('2013'!G41/'2013 Rate'!$AA41)*1000","v":0.28099754127151388},{"$f":"('2013'!H41/'2013 Rate'!$AA41)*1000","v":34.887600983491396},{"$f":"('2013'!I41/'2013 Rate'!$AA41)*1000","v":32.182999648753075},{"$f":"('2013'!J41/'2013 Rate'!$AA41)*1000","v":-7.0249385317878471E-2},{"$f":"('2013'!K41/'2013 Rate'!$AA41)*1000","v":18.888303477344571},{"$f":"('2013'!L41/'2013 Rate'!$AA41)*1000","v":18.958552862662451},{"$f":"('2013'!M41/'2013 Rate'!$AA41)*1000","v":4.2939936775553216},{"$f":"('2013'!N41/'2013 Rate'!$AA41)*1000","v":13.804004214963118},{"$f":"('2013'!O41/'2013 Rate'!$AA41)*1000","v":9.5100105374077977},{"$f":"('2013'!P41/'2013 Rate'!$AA41)*1000","v":-1.519142957499122},{"$f":"('2013'!Q41/'2013 Rate'!$AA41)*1000","v":2.1952932911837024},{"$f":"('2013'!R41/'2013 Rate'!$AA41)*1000","v":3.7144362486828242},null,null,{"$f":"('2013'!U41/'2013 Rate'!$AA41)*1000","v":1.1415525114155249},null,null,null,null,"Borders",{"$f":"'Population estimates'!K41","v":113880}]
[39,"Dumfries & Galloway",null,{"$f":"('2013'!D42/'2013 Rate'!$AA42)*1000","v":-3.9925472451424006E-2},{"$f":"('2013'!E42/'2013 Rate'!$AA42)*1000","v":5.9888208677136019E-2},{"$f":"('2013'!F42/'2013 Rate'!$AA42)*1000","v":0.1264306627628427},{"$f":"('2013'!G42/'2013 Rate'!$AA42)*1000","v":-0.22624434389140272},{"$f":"('2013'!H42/'2013 Rate'!$AA42)*1000","v":26.490550971519827},{"$f":"('2013'!I42/'2013 Rate'!$AA42)*1000","v":26.530476443971253},{"$f":"('2013'!J42/'2013 Rate'!$AA42)*1000","v":-1.2909236092627094},{"$f":"('2013'!K42/'2013 Rate'!$AA42)*1000","v":11.538461538461538},{"$f":"('2013'!L42/'2013 Rate'!$AA42)*1000","v":12.829385147724249},{"$f":"('2013'!M42/'2013 Rate'!$AA42)*1000","v":3.4801703486824596},{"$f":"('2013'!N42/'2013 Rate'!$AA42)*1000","v":13.621240351344158},{"$f":"('2013'!O42/'2013 Rate'!$AA42)*1000","v":10.141070002661698},{"$f":"('2013'!P42/'2013 Rate'!$AA42)*1000","v":-2.2291722118711741},{"$f":"('2013'!Q42/'2013 Rate'!$AA42)*1000","v":1.3308490817141336},{"$f":"('2013'!R42/'2013 Rate'!$AA42)*1000","v":3.5600212935853075},null,null,{"$f":"('2013'!U42/'2013 Rate'!$AA42)*1000","v":0.65211605003992545},null,null,null,null,"Dumfries & Galloway",{"$f":"'Population estimates'!K42","v":150280}]
[40,"Fife",null,{"$f":"('2013'!D43/'2013 Rate'!$AA43)*1000","v":0.8285636413191606},{"$f":"('2013'!E43/'2013 Rate'!$AA43)*1000","v":0.46061597165440171},{"$f":"('2013'!F43/'2013 Rate'!$AA43)*1000","v":0.32979013355137637},{"$f":"('2013'!G43/'2013 Rate'!$AA43)*1000","v":3.8157536113382393E-2},{"$f":"('2013'!H43/'2013 Rate'!$AA43)*1000","v":28.506405014990463},{"$f":"('2013'!I43/'2013 Rate'!$AA43)*1000","v":27.677841373671299},{"$f":"('2013'!J43/'2013 Rate'!$AA43)*1000","v":-0.32706459525756337},{"$f":"('2013'!K43/'2013 Rate'!$AA43)*1000","v":15.625511038430091},{"$f":"('2013'!L43/'2013 Rate'!$AA43)*1000","v":15.952575633687655},{"$f":"('2013'!M43/'2013 Rate'!$AA43)*1000","v":1.3028073044426274},{"$f":"('2013'!N43/'2013 Rate'!$AA43)*1000","v":8.7653311529026983},{"$f":"('2013'!O43/'2013 Rate'!$AA43)*1000","v":7.4625238484600711},{"$f":"('2013'!P43/'2013 Rate'!$AA43)*1000","v":-0.14717906786590351},{"$f":"('2013'!Q43/'2013 Rate'!$AA43)*1000","v":4.1155628236576725},{"$f":"('2013'!R43/'2013 Rate'!$AA43)*1000","v":4.262741891523576},null,null,{"$f":"('2013'!U43/'2013 Rate'!$AA43)*1000","v":1.1092940855819025},null,null,null,null,"Fife",{"$f":"'Population estimates'!K43","v":366900}]
[41,"Forth Valley",null,{"$f":"('2013'!D44/'2013 Rate'!$AA44)*1000","v":1.8987552974939099},{"$f":"('2013'!E44/'2013 Rate'!$AA44)*1000","v":0.77084793272599861},{"$f":"('2013'!F44/'2013 Rate'!$AA44)*1000","v":1.111222344579037},{"$f":"('2013'!G44/'2013 Rate'!$AA44)*1000","v":1.6685020188874428E-2},{"$f":"('2013'!H44/'2013 Rate'!$AA44)*1000","v":30.660393099075652},{"$f":"('2013'!I44/'2013 Rate'!$AA44)*1000","v":28.761637801581742},{"$f":"('2013'!J44/'2013 Rate'!$AA44)*1000","v":1.3948676877899022},{"$f":"('2013'!K44/'2013 Rate'!$AA44)*1000","v":20.572629892882169},{"$f":"('2013'!L44/'2013 Rate'!$AA44)*1000","v":19.177762205092268},{"$f":"('2013'!M44/'2013 Rate'!$AA44)*1000","v":1.2213434778256083},{"$f":"('2013'!N44/'2013 Rate'!$AA44)*1000","v":6.7707811926452433},{"$f":"('2013'!O44/'2013 Rate'!$AA44)*1000","v":5.5494377148196348},{"$f":"('2013'!P44/'2013 Rate'!$AA44)*1000","v":-0.71745586812160045},{"$f":"('2013'!Q44/'2013 Rate'!$AA44)*1000","v":3.3169820135482362},{"$f":"('2013'!R44/'2013 Rate'!$AA44)*1000","v":4.0344378816698372},null,null,{"$f":"('2013'!U44/'2013 Rate'!$AA44)*1000","v":0.9176761103880936},null,null,null,null,"Forth Valley",{"$f":"'Population estimates'!K44","v":299670}]
[42,"Grampian",null,{"$f":"('2013'!D45/'2013 Rate'!$AA45)*1000","v":6.7748618784530388},{"$f":"('2013'!E45/'2013 Rate'!$AA45)*1000","v":1.0566298342541438},{"$f":"('2013'!F45/'2013 Rate'!$AA45)*1000","v":6.0773480662983426},{"$f":"('2013'!G45/'2013 Rate'!$AA45)*1000","v":-0.35911602209944754},{"$f":"('2013'!H45/'2013 Rate'!$AA45)*1000","v":33.667127071823202},{"$f":"('2013'!I45/'2013 Rate'!$AA45)*1000","v":26.892265193370164},{"$f":"('2013'!J45/'2013 Rate'!$AA45)*1000","v":1.9250690607734806},{"$f":"('2013'!K45/'2013 Rate'!$AA45)*1000","v":14.300759668508286},{"$f":"('2013'!L45/'2013 Rate'!$AA45)*1000","v":12.375690607734807},{"$f":"('2013'!M45/'2013 Rate'!$AA45)*1000","v":2.6536602209944751},{"$f":"('2013'!N45/'2013 Rate'!$AA45)*1000","v":11.00828729281768},{"$f":"('2013'!O45/'2013 Rate'!$AA45)*1000","v":8.3546270718232059},{"$f":"('2013'!P45/'2013 Rate'!$AA45)*1000","v":2.1961325966850826},{"$f":"('2013'!Q45/'2013 Rate'!$AA45)*1000","v":8.3580801104972373},{"$f":"('2013'!R45/'2013 Rate'!$AA45)*1000","v":6.1619475138121542},null,null,{"$f":"('2013'!U45/'2013 Rate'!$AA45)*1000","v":2.4447513812154695},null,null,null,null,"Grampian",{"$f":"'Population estimates'!K45","v":579200}]
[43,"Greater Glasgow & Clyde",null,{"$f":"('2013'!D46/'2013 Rate'!$AA46)*1000","v":0.12566788526434197},{"$f":"('2013'!E46/'2013 Rate'!$AA46)*1000","v":-0.17136529808773904},{"$f":"('2013'!F46/'2013 Rate'!$AA46)*1000","v":0.61955146231721037},{"$f":"('2013'!G46/'2013 Rate'!$AA46)*1000","v":-0.32251827896512936},{"$f":"('2013'!H46/'2013 Rate'!$AA46)*1000","v":27.788420978627673},{"$f":"('2013'!I46/'2013 Rate'!$AA46)*1000","v":27.662753093363328},{"$f":"('2013'!J46/'2013 Rate'!$AA46)*1000","v":-1.3023762654668165},{"$f":"('2013'!K46/'2013 Rate'!$AA46)*1000","v":13.675829583802024},{"$f":"('2013'!L46/'2013 Rate'!$AA46)*1000","v":14.978205849268841},{"$f":"('2013'!M46/'2013 Rate'!$AA46)*1000","v":0.13181946006749157},{"$f":"('2013'!N46/'2013 Rate'!$AA46)*1000","v":7.2966465129358831},{"$f":"('2013'!O46/'2013 Rate'!$AA46)*1000","v":7.1648270528683913},{"$f":"('2013'!P46/'2013 Rate'!$AA46)*1000","v":1.296224690663667},{"$f":"('2013'!Q46/'2013 Rate'!$AA46)*1000","v":6.8159448818897639},{"$f":"('2013'!R46/'2013 Rate'!$AA46)*1000","v":5.5197201912260967},null,null,{"$f":"('2013'!U46/'2013 Rate'!$AA46)*1000","v":2.1293236782902136},null,null,null,null,"Greater Glasgow & Clyde",{"$f":"'Population estimates'!K46","v":1137920}]
[44,"Highland",null,{"$f":"('2013'!D47/'2013 Rate'!$AA47)*1000","v":0.2180821234967911},{"$f":"('2013'!E47/'2013 Rate'!$AA47)*1000","v":0.82559661038070908},{"$f":"('2013'!F47/'2013 Rate'!$AA47)*1000","v":-0.33023864415228366},{"$f":"('2013'!G47/'2013 Rate'!$AA47)*1000","v":-0.27727584273163436},{"$f":"('2013'!H47/'2013 Rate'!$AA47)*1000","v":33.204561031839987},{"$f":"('2013'!I47/'2013 Rate'!$AA47)*1000","v":32.986478908343202},{"$f":"('2013'!J47/'2013 Rate'!$AA47)*1000","v":-1.9440463580285376},{"$f":"('2013'!K47/'2013 Rate'!$AA47)*1000","v":18.493364072527886},{"$f":"('2013'!L47/'2013 Rate'!$AA47)*1000","v":20.437410430556419},{"$f":"('2013'!M47/'2013 Rate'!$AA47)*1000","v":3.5765468253473736},{"$f":"('2013'!N47/'2013 Rate'!$AA47)*1000","v":12.050595052651255},{"$f":"('2013'!O47/'2013 Rate'!$AA47)*1000","v":8.4740482273038822},{"$f":"('2013'!P47/'2013 Rate'!$AA47)*1000","v":-1.414418343822045},{"$f":"('2013'!Q47/'2013 Rate'!$AA47)*1000","v":2.6606019066608515},{"$f":"('2013'!R47/'2013 Rate'!$AA47)*1000","v":4.0750202504828961},null,null,{"$f":"('2013'!U47/'2013 Rate'!$AA47)*1000","v":1.2025671381394478},null,null,null,null,"Highland",{"$f":"'Population estimates'!K47","v":320980}]
[45,"Lanarkshire",null,{"$f":"('2013'!D48/'2013 Rate'!$AA48)*1000","v":0.29727700393815415},{"$f":"('2013'!E48/'2013 Rate'!$AA48)*1000","v":0.3156652722229884},{"$f":"('2013'!F48/'2013 Rate'!$AA48)*1000","v":-0.1578326361114942},{"$f":"('2013'!G48/'2013 Rate'!$AA48)*1000","v":0.13944436782665992},{"$f":"('2013'!H48/'2013 Rate'!$AA48)*1000","v":19.185093243843763},{"$f":"('2013'!I48/'2013 Rate'!$AA48)*1000","v":18.887816239905607},{"$f":"('2013'!J48/'2013 Rate'!$AA48)*1000","v":1.173784458848588},{"$f":"('2013'!K48/'2013 Rate'!$AA48)*1000","v":14.301475658529858},{"$f":"('2013'!L48/'2013 Rate'!$AA48)*1000","v":13.127691199681269},{"$f":"('2013'!M48/'2013 Rate'!$AA48)*1000","v":0.29727700393815415},{"$f":"('2013'!N48/'2013 Rate'!$AA48)*1000","v":3.7833861996046525},{"$f":"('2013'!O48/'2013 Rate'!$AA48)*1000","v":3.486109195666498},{"$f":"('2013'!P48/'2013 Rate'!$AA48)*1000","v":-1.173784458848588},{"$f":"('2013'!Q48/'2013 Rate'!$AA48)*1000","v":1.1002313857092509},{"$f":"('2013'!R48/'2013 Rate'!$AA48)*1000","v":2.2740158445578391},null,null,{"$f":"('2013'!U48/'2013 Rate'!$AA48)*1000","v":0.7539189996782053},null,null,null,null,"Lanarkshire",{"$f":"'Population estimates'!K48","v":652590}]
[46,"Lothian",null,{"$f":"('2013'!D49/'2013 Rate'!$AA49)*1000","v":4.363790425081203},{"$f":"('2013'!E49/'2013 Rate'!$AA49)*1000","v":0.13298498328861272},{"$f":"('2013'!F49/'2013 Rate'!$AA49)*1000","v":4.1001741750223601},{"$f":"('2013'!G49/'2013 Rate'!$AA49)*1000","v":0.13063126677023021},{"$f":"('2013'!H49/'2013 Rate'!$AA49)*1000","v":37.089864896671848},{"$f":"('2013'!I49/'2013 Rate'!$AA49)*1000","v":32.726074471590643},{"$f":"('2013'!J49/'2013 Rate'!$AA49)*1000","v":8.9441227698535977E-2},{"$f":"('2013'!K49/'2013 Rate'!$AA49)*1000","v":14.50007061149555},{"$f":"('2013'!L49/'2013 Rate'!$AA49)*1000","v":14.410629383797016},{"$f":"('2013'!M49/'2013 Rate'!$AA49)*1000","v":2.1112837169891261},{"$f":"('2013'!N49/'2013 Rate'!$AA49)*1000","v":13.067834110059785},{"$f":"('2013'!O49/'2013 Rate'!$AA49)*1000","v":10.956550393070659},{"$f":"('2013'!P49/'2013 Rate'!$AA49)*1000","v":2.1630654803935414},{"$f":"('2013'!Q49/'2013 Rate'!$AA49)*1000","v":9.5219601751165097},{"$f":"('2013'!R49/'2013 Rate'!$AA49)*1000","v":7.3588946947229683},null,null,{"$f":"('2013'!U49/'2013 Rate'!$AA49)*1000","v":2.6020336110718825},null,null,null,null,"Lothian",{"$f":"'Population estimates'!K49","v":849720}]
[47,"Orkney",null,{"$f":"('2013'!D50/'2013 Rate'!$AA50)*1000","v":3.7105751391465676},{"$f":"('2013'!E50/'2013 Rate'!$AA50)*1000","v":1.6233766233766236},{"$f":"('2013'!F50/'2013 Rate'!$AA50)*1000","v":1.8089053803339519},{"$f":"('2013'!G50/'2013 Rate'!$AA50)*1000","v":0.2782931354359926},{"$f":"('2013'!H50/'2013 Rate'!$AA50)*1000","v":35.296846011131727},{"$f":"('2013'!I50/'2013 Rate'!$AA50)*1000","v":31.586270871985157},{"$f":"('2013'!J50/'2013 Rate'!$AA50)*1000","v":0.92764378478664189},{"$f":"('2013'!K50/'2013 Rate'!$AA50)*1000","v":19.897959183673468},{"$f":"('2013'!L50/'2013 Rate'!$AA50)*1000","v":18.970315398886829},{"$f":"('2013'!M50/'2013 Rate'!$AA50)*1000","v":4.0816326530612246},{"$f":"('2013'!N50/'2013 Rate'!$AA50)*1000","v":13.126159554730984},{"$f":"('2013'!O50/'2013 Rate'!$AA50)*1000","v":9.0445269016697587},{"$f":"('2013'!P50/'2013 Rate'!$AA50)*1000","v":-1.2987012987012987},{"$f":"('2013'!Q50/'2013 Rate'!$AA50)*1000","v":2.2727272727272725},{"$f":"('2013'!R50/'2013 Rate'!$AA50)*1000","v":3.5714285714285712},null,null,{"$f":"('2013'!U50/'2013 Rate'!$AA50)*1000","v":0.32467532467532467},null,null,null,null,"Orkney",{"$f":"'Population estimates'!K50","v":21560}]
[48,"Shetland",null,{"$f":"('2013'!D51/'2013 Rate'!$AA51)*1000","v":-3.8362068965517242},{"$f":"('2013'!E51/'2013 Rate'!$AA51)*1000","v":-1.853448275862069},{"$f":"('2013'!F51/'2013 Rate'!$AA51)*1000","v":-0.99137931034482762},{"$f":"('2013'!G51/'2013 Rate'!$AA51)*1000","v":-0.99137931034482762},{"$f":"('2013'!H51/'2013 Rate'!$AA51)*1000","v":27.887931034482758},{"$f":"('2013'!I51/'2013 Rate'!$AA51)*1000","v":31.724137931034484},{"$f":"('2013'!J51/'2013 Rate'!$AA51)*1000","v":-3.6637931034482758},{"$f":"('2013'!K51/'2013 Rate'!$AA51)*1000","v":15.129310344827587},{"$f":"('2013'!L51/'2013 Rate'!$AA51)*1000","v":18.793103448275861},{"$f":"('2013'!M51/'2013 Rate'!$AA51)*1000","v":1.2068965517241379},{"$f":"('2013'!N51/'2013 Rate'!$AA51)*1000","v":10.172413793103447},{"$f":"('2013'!O51/'2013 Rate'!$AA51)*1000","v":8.9655172413793096},{"$f":"('2013'!P51/'2013 Rate'!$AA51)*1000","v":-1.3793103448275861},{"$f":"('2013'!Q51/'2013 Rate'!$AA51)*1000","v":2.5862068965517242},{"$f":"('2013'!R51/'2013 Rate'!$AA51)*1000","v":3.9655172413793105},null,null,{"$f":"('2013'!U51/'2013 Rate'!$AA51)*1000","v":0.94827586206896552},null,null,null,null,"Shetland",{"$f":"'Population estimates'!K51","v":23200}]
[49,"Tayside",null,{"$f":"('2013'!D52/'2013 Rate'!$AA52)*1000","v":1.9385675465838508},{"$f":"('2013'!E52/'2013 Rate'!$AA52)*1000","v":0.66479037267080743},{"$f":"('2013'!F52/'2013 Rate'!$AA52)*1000","v":1.0675465838509317},{"$f":"('2013'!G52/'2013 Rate'!$AA52)*1000","v":0.20623059006211181},{"$f":"('2013'!H52/'2013 Rate'!$AA52)*1000","v":32.679056677018636},{"$f":"('2013'!I52/'2013 Rate'!$AA52)*1000","v":30.740489130434785},{"$f":"('2013'!J52/'2013 Rate'!$AA52)*1000","v":0.2232142857142857},{"$f":"('2013'!K52/'2013 Rate'!$AA52)*1000","v":18.150718167701861},{"$f":"('2013'!L52/'2013 Rate'!$AA52)*1000","v":17.927503881987576},{"$f":"('2013'!M52/'2013 Rate'!$AA52)*1000","v":1.1743012422360248},{"$f":"('2013'!N52/'2013 Rate'!$AA52)*1000","v":8.477290372670808},{"$f":"('2013'!O52/'2013 Rate'!$AA52)*1000","v":7.3029891304347831},{"$f":"('2013'!P52/'2013 Rate'!$AA52)*1000","v":0.54105201863354035},{"$f":"('2013'!Q52/'2013 Rate'!$AA52)*1000","v":6.0510481366459627},{"$f":"('2013'!R52/'2013 Rate'!$AA52)*1000","v":5.5099961180124222},null,null,{"$f":"('2013'!U52/'2013 Rate'!$AA52)*1000","v":1.4120729813664596},null,null,null,null,"Tayside",{"$f":"'Population estimates'!K52","v":412160}]
[50,"Western Isles",null,{"$f":"('2013'!D53/'2013 Rate'!$AA53)*1000","v":-0.6934306569343065},{"$f":"('2013'!E53/'2013 Rate'!$AA53)*1000","v":-0.40145985401459849},{"$f":"('2013'!F53/'2013 Rate'!$AA53)*1000","v":-0.72992700729927007},{"$f":"('2013'!G53/'2013 Rate'!$AA53)*1000","v":0.43795620437956201},{"$f":"('2013'!H53/'2013 Rate'!$AA53)*1000","v":31.423357664233578},{"$f":"('2013'!I53/'2013 Rate'!$AA53)*1000","v":32.116788321167881},{"$f":"('2013'!J53/'2013 Rate'!$AA53)*1000","v":-2.6642335766423355},{"$f":"('2013'!K53/'2013 Rate'!$AA53)*1000","v":18.211678832116789},{"$f":"('2013'!L53/'2013 Rate'!$AA53)*1000","v":20.875912408759124},{"$f":"('2013'!M53/'2013 Rate'!$AA53)*1000","v":4.1240875912408761},{"$f":"('2013'!N53/'2013 Rate'!$AA53)*1000","v":12.18978102189781},{"$f":"('2013'!O53/'2013 Rate'!$AA53)*1000","v":8.0656934306569337},{"$f":"('2013'!P53/'2013 Rate'!$AA53)*1000","v":-2.1532846715328469},{"$f":"('2013'!Q53/'2013 Rate'!$AA53)*1000","v":1.0218978102189782},{"$f":"('2013'!R53/'2013 Rate'!$AA53)*1000","v":3.175182481751825},null,null,{"$f":"('2013'!U53/'2013 Rate'!$AA53)*1000","v":0.76642335766423353},null,null,null,null,"Western Isles",{"$f":"'Population estimates'!K53","v":27400}]

{"sheet":"2014","index":55,"n_rows":53,"n_cols":25,"rows_kept":53,"cut":false,"hidden":true,"merged":[]}
[null,2014]
[null,null,"Not specified ",{"$f":"'Comparing Indicators'!$U8","v":"Total net migration"},{"$f":"'Comparing Indicators'!$U9","v":"Total net migration for ages 0-15"},{"$f":"'Comparing Indicators'!$U10","v":"Total net migration for ages 16-64"},{"$f":"'Comparing Indicators'!$U11","v":"Total net migration for people aged 65+"},{"$f":"'Comparing Indicators'!$U12","v":"Total in-migration"},{"$f":"'Comparing Indicators'!$U13","v":"Total out-migration"},{"$f":"'Comparing Indicators'!$U14","v":"Within Scotland net migration"},{"$f":"'Comparing Indicators'!$U15","v":"Within Scotland in-migration"},{"$f":"'Comparing Indicators'!$U16","v":"Within Scotland out-migration"},{"$f":"'Comparing Indicators'!$U17","v":"Rest of UK net migration"},{"$f":"'Comparing Indicators'!$U18","v":"Rest of UK in-migration"},{"$f":"'Comparing Indicators'!$U19","v":"Rest of UK out-migration"},{"$f":"'Comparing Indicators'!$U20","v":"Overseas net migration"},{"$f":"'Comparing Indicators'!$U21","v":"Overseas in-migration"},{"$f":"'Comparing Indicators'!$U22","v":"Overseas out-migration"},{"$f":"'Comparing Indicators'!$U23","v":"Worker Registration Scheme"},{"$f":"'Comparing Indicators'!$U24","v":"NINo Allocation"},{"$f":"'Comparing Indicators'!$U25","v":"Births to non-UK mothers"},{"$f":"'Comparing Indicators'!$U26","v":"Pupils from a minority ethnic group"},{"$f":"'Comparing Indicators'!$U27","v":"Pupils with English as an additional language"},{"$f":"'Comparing Indicators'!$U28","v":"Estimate of resident population born outside the UK"},"NHS registrations from overseas"]
[1,"Not specified"]
[2,"SCOTLAND",null,{"$f":"'Total net migration'!L4","v":17585},{"$f":"'Total net migration 0-15'!L4","v":3092},{"$f":"'Total net migration 16-64'!L4","v":14470},{"$f":"'Total net migration 65+'!L4","v":23},{"$f":"'Total in-migration'!L4","v":82442},{"$f":"'Total out-migration'!L4","v":64857},null,null,null,{"$f":"'Rest of UK net migration'!L4","v":9585},{"$f":"'Rest of UK in-migration'!L4","v":49242},{"$f":"'Rest of UK out-migration'!L4","v":39657},{"$f":"'Overseas net migration'!L4","v":8000},{"$f":"'Overseas in-migration'!L4","v":33200},{"$f":"'Overseas out-migration'!L4","v":25200},null,{"$f":"NINo!L5","v":43600},{"$f":"'Non-UK Births'!L5","v":9178},{"$f":"'Pupils ethnic group'!M5","v":41849},{"$f":"'Pupils with English as an add.'!J4","v":32509},{"$f":"'Pop born outside UK'!L5","v":381000},{"$f":"'NHS Overseas'!L5","v":55364}]
[3,"Aberdeen City",null,{"$f":"'Total net migration'!L5","v":1412},{"$f":"'Total net migration 0-15'!L5","v":-303},{"$f":"'Total net migration 16-64'!L5","v":1928},{"$f":"'Total net migration 65+'!L5","v":-213},{"$f":"'Total in-migration'!L5","v":14206},{"$f":"'Total out-migration'!L5","v":12794},{"$f":"'Within Scotland net migration'!L5","v":-1140},{"$f":"'Within Scotland in-migration'!L5","v":7043},{"$f":"'Within Scotland out-migration'!L5","v":8183},{"$f":"'Rest of UK net migration'!L5","v":587},{"$f":"'Rest of UK in-migration'!L5","v":2961},{"$f":"'Rest of UK out-migration'!L5","v":2374},{"$f":"'Overseas net migration'!L5","v":1965},{"$f":"'Overseas in-migration'!L5","v":4202},{"$f":"'Overseas out-migration'!L5","v":2237},null,{"$f":"NINo!L6","v":5460},{"$f":"'Non-UK Births'!L6","v":986},{"$f":"'Pupils ethnic group'!M6","v":2655},{"$f":"'Pupils with English as an add.'!J5","v":2444},{"$f":"'Pop born outside UK'!L6","v":42000}]
[4,"Aberdeenshire",null,{"$f":"'Total net migration'!L6","v":2041},{"$f":"'Total net migration 0-15'!L6","v":835},{"$f":"'Total net migration 16-64'!L6","v":1374},{"$f":"'Total net migration 65+'!L6","v":-168},{"$f":"'Total in-migration'!L6","v":10342},{"$f":"'Total out-migration'!L6","v":8301},{"$f":"'Within Scotland net migration'!L6","v":1642},{"$f":"'Within Scotland in-migration'!L6","v":7233},{"$f":"'Within Scotland out-migration'!L6","v":5591},{"$f":"'Rest of UK net migration'!L6","v":275},{"$f":"'Rest of UK in-migration'!L6","v":2047},{"$f":"'Rest of UK out-migration'!L6","v":1772},{"$f":"'Overseas net migration'!L6","v":124},{"$f":"'Overseas in-migration'!L6","v":1062},{"$f":"'Overseas out-migration'!L6","v":938},null,{"$f":"NINo!L7","v":1680},{"$f":"'Non-UK Births'!L7","v":450},{"$f":"'Pupils ethnic group'!M7","v":946},{"$f":"'Pupils with English as an add.'!J6","v":1356},{"$f":"'Pop born outside UK'!L7","v":13000}]
[5,"Angus",null,{"$f":"'Total net migration'!L7","v":645},{"$f":"'Total net migration 0-15'!L7","v":181},{"$f":"'Total net migration 16-64'!L7","v":394},{"$f":"'Total net migration 65+'!L7","v":70},{"$f":"'Total in-migration'!L7","v":4230},{"$f":"'Total out-migration'!L7","v":3585},{"$f":"'Within Scotland net migration'!L7","v":426},{"$f":"'Within Scotland in-migration'!L7","v":3133},{"$f":"'Within Scotland out-migration'!L7","v":2707},{"$f":"'Rest of UK net migration'!L7","v":192},{"$f":"'Rest of UK in-migration'!L7","v":757},{"$f":"'Rest of UK out-migration'!L7","v":565},{"$f":"'Overseas net migration'!L7","v":27},{"$f":"'Overseas in-migration'!L7","v":340},{"$f":"'Overseas out-migration'!L7","v":313},null,{"$f":"NINo!L8","v":1220},{"$f":"'Non-UK Births'!L8","v":135},{"$f":"'Pupils ethnic group'!M8","v":359},{"$f":"'Pupils with English as an add.'!J7","v":431},{"$f":"'Pop born outside UK'!L8","v":5000}]
[6,"Argyll & Bute",null,{"$f":"'Total net migration'!L8","v":-275},{"$f":"'Total net migration 0-15'!L8","v":55},{"$f":"'Total net migration 16-64'!L8","v":-269},{"$f":"'Total net migration 65+'!L8","v":-61},{"$f":"'Total in-migration'!L8","v":3785},{"$f":"'Total out-migration'!L8","v":4060},{"$f":"'Within Scotland net migration'!L8","v":-444},{"$f":"'Within Scotland in-migration'!L8","v":2165},{"$f":"'Within Scotland out-migration'!L8","v":2609},{"$f":"'Rest of UK net migration'!L8","v":403},{"$f":"'Rest of UK in-migration'!L8","v":1381},{"$f":"'Rest of UK out-migration'!L8","v":978},{"$f":"'Overseas net migration'!L8","v":-234},{"$f":"'Overseas in-migration'!L8","v":239},{"$f":"'Overseas out-migration'!L8","v":473},null,{"$f":"NINo!L9","v":460},{"$f":"'Non-UK Births'!L9","v":81},{"$f":"'Pupils ethnic group'!M9","v":233},{"$f":"'Pupils with English as an add.'!J8","v":164},{"$f":"'Pop born outside UK'!L9","v":4000}]
[7,"Clackmannanshire",null,{"$f":"'Total net migration'!L9","v":-82},{"$f":"'Total net migration 0-15'!L9","v":-24},{"$f":"'Total net migration 16-64'!L9","v":-73},{"$f":"'Total net migration 65+'!L9","v":15},{"$f":"'Total in-migration'!L9","v":1733},{"$f":"'Total out-migration'!L9","v":1815},{"$f":"'Within Scotland net migration'!L9","v":-57},{"$f":"'Within Scotland in-migration'!L9","v":1278},{"$f":"'Within Scotland out-migration'!L9","v":1335},{"$f":"'Rest of UK net migration'!L9","v":1},{"$f":"'Rest of UK in-migration'!L9","v":327},{"$f":"'Rest of UK out-migration'!L9","v":326},{"$f":"'Overseas net migration'!L9","v":-26},{"$f":"'Overseas in-migration'!L9","v":128},{"$f":"'Overseas out-migration'!L9","v":154},null,{"$f":"NINo!L10","v":90},{"$f":"'Non-UK Births'!L10","v":49},{"$f":"'Pupils ethnic group'!M10","v":212},{"$f":"'Pupils with English as an add.'!J9","v":156},{"$f":"'Pop born outside UK'!L10","v":3000}]
[8,"Dumfries & Galloway",null,{"$f":"'Total net migration'!L10","v":334},{"$f":"'Total net migration 0-15'!L10","v":169},{"$f":"'Total net migration 16-64'!L10","v":105},{"$f":"'Total net migration 65+'!L10","v":60},{"$f":"'Total in-migration'!L10","v":4047},{"$f":"'Total out-migration'!L10","v":3713},{"$f":"'Within Scotland net migration'!L10","v":-110},{"$f":"'Within Scotland in-migration'!L10","v":1725},{"$f":"'Within Scotland out-migration'!L10","v":1835},{"$f":"'Rest of UK net migration'!L10","v":711},{"$f":"'Rest of UK in-migration'!L10","v":2110},{"$f":"'Rest of UK out-migration'!L10","v":1399},{"$f":"'Overseas net migration'!L10","v":-267},{"$f":"'Overseas in-migration'!L10","v":212},{"$f":"'Overseas out-migration'!L10","v":479},null,{"$f":"NINo!L11","v":310},{"$f":"'Non-UK Births'!L11","v":91},{"$f":"'Pupils ethnic group'!M11","v":408},{"$f":"'Pupils with English as an add.'!J10","v":331},{"$f":"'Pop born outside UK'!L11","v":5000}]
[9,"Dundee City",null,{"$f":"'Total net migration'!L11","v":-12},{"$f":"'Total net migration 0-15'!L11","v":-79},{"$f":"'Total net migration 16-64'!L11","v":154},{"$f":"'Total net migration 65+'!L11","v":-87},{"$f":"'Total in-migration'!L11","v":6857},{"$f":"'Total out-migration'!L11","v":6869},{"$f":"'Within Scotland net migration'!L11","v":-308},{"$f":"'Within Scotland in-migration'!L11","v":4199},{"$f":"'Within Scotland out-migration'!L11","v":4507},{"$f":"'Rest of UK net migration'!L11","v":41},{"$f":"'Rest of UK in-migration'!L11","v":1382},{"$f":"'Rest of UK out-migration'!L11","v":1341},{"$f":"'Overseas net migration'!L11","v":255},{"$f":"'Overseas in-migration'!L11","v":1276},{"$f":"'Overseas out-migration'!L11","v":1021},null,{"$f":"NINo!L12","v":1240},{"$f":"'Non-UK Births'!L12","v":310},{"$f":"'Pupils ethnic group'!M12","v":1532},{"$f":"'Pupils with English as an add.'!J11","v":1096},{"$f":"'Pop born outside UK'!L12","v":18000}]
[10,"East Ayrshire",null,{"$f":"'Total net migration'!L12","v":-90},{"$f":"'Total net migration 0-15'!L12","v":16},{"$f":"'Total net migration 16-64'!L12","v":-76},{"$f":"'Total net migration 65+'!L12","v":-30},{"$f":"'Total in-migration'!L12","v":3249},{"$f":"'Total out-migration'!L12","v":3339},{"$f":"'Within Scotland net migration'!L12","v":43},{"$f":"'Within Scotland in-migration'!L12","v":2486},{"$f":"'Within Scotland out-migration'!L12","v":2443},{"$f":"'Rest of UK net migration'!L12","v":41},{"$f":"'Rest of UK in-migration'!L12","v":669},{"$f":"'Rest of UK out-migration'!L12","v":628},{"$f":"'Overseas net migration'!L12","v":-174},{"$f":"'Overseas in-migration'!L12","v":94},{"$f":"'Overseas out-migration'!L12","v":268},null,{"$f":"NINo!L13","v":90},{"$f":"'Non-UK Births'!L13","v":44},{"$f":"'Pupils ethnic group'!M13","v":362},{"$f":"'Pupils with English as an add.'!J12","v":158},{"$f":"'Pop born outside UK'!L13","v":3000}]
[11,"East Dunbartonshire",null,{"$f":"'Total net migration'!L13","v":909},{"$f":"'Total net migration 0-15'!L13","v":496},{"$f":"'Total net migration 16-64'!L13","v":339},{"$f":"'Total net migration 65+'!L13","v":74},{"$f":"'Total in-migration'!L13","v":4047},{"$f":"'Total out-migration'!L13","v":3138},{"$f":"'Within Scotland net migration'!L13","v":1063},{"$f":"'Within Scotland in-migration'!L13","v":3490},{"$f":"'Within Scotland out-migration'!L13","v":2427},{"$f":"'Rest of UK net migration'!L13","v":-46},{"$f":"'Rest of UK in-migration'!L13","v":455},{"$f":"'Rest of UK out-migration'!L13","v":501},{"$f":"'Overseas net migration'!L13","v":-108},{"$f":"'Overseas in-migration'!L13","v":102},{"$f":"'Overseas out-migration'!L13","v":210},null,{"$f":"NINo!L14","v":110},{"$f":"'Non-UK Births'!L14","v":87},{"$f":"'Pupils ethnic group'!M14","v":1241},{"$f":"'Pupils with English as an add.'!J13","v":400},{"$f":"'Pop born outside UK'!L14","v":6000}]
[12,"East Lothian",null,{"$f":"'Total net migration'!L14","v":712},{"$f":"'Total net migration 0-15'!L14","v":249},{"$f":"'Total net migration 16-64'!L14","v":374},{"$f":"'Total net migration 65+'!L14","v":89},{"$f":"'Total in-migration'!L14","v":4135},{"$f":"'Total out-migration'!L14","v":3423},{"$f":"'Within Scotland net migration'!L14","v":559},{"$f":"'Within Scotland in-migration'!L14","v":3057},{"$f":"'Within Scotland out-migration'!L14","v":2498},{"$f":"'Rest of UK net migration'!L14","v":122},{"$f":"'Rest of UK in-migration'!L14","v":737},{"$f":"'Rest of UK out-migration'!L14","v":615},{"$f":"'Overseas net migration'!L14","v":31},{"$f":"'Overseas in-migration'!L14","v":341},{"$f":"'Overseas out-migration'!L14","v":310},null,{"$f":"NINo!L15","v":450},{"$f":"'Non-UK Births'!L15","v":126},{"$f":"'Pupils ethnic group'!M15","v":375},{"$f":"'Pupils with English as an add.'!J14","v":263},{"$f":"'Pop born outside UK'!L15","v":5000}]
[13,"East Renfrewshire",null,{"$f":"'Total net migration'!L15","v":890},{"$f":"'Total net migration 0-15'!L15","v":635},{"$f":"'Total net migration 16-64'!L15","v":230},{"$f":"'Total net migration 65+'!L15","v":25},{"$f":"'Total in-migration'!L15","v":3823},{"$f":"'Total out-migration'!L15","v":2933},{"$f":"'Within Scotland net migration'!L15","v":938},{"$f":"'Within Scotland in-migration'!L15","v":3291},{"$f":"'Within Scotland out-migration'!L15","v":2353},{"$f":"'Rest of UK net migration'!L15","v":5},{"$f":"'Rest of UK in-migration'!L15","v":407},{"$f":"'Rest of UK out-migration'!L15","v":402},{"$f":"'Overseas net migration'!L15","v":-53},{"$f":"'Overseas in-migration'!L15","v":125},{"$f":"'Overseas out-migration'!L15","v":178},null,{"$f":"NINo!L16","v":120},{"$f":"'Non-UK Births'!L16","v":78},{"$f":"'Pupils ethnic group'!M16","v":2621},{"$f":"'Pupils with English as an add.'!J15","v":831},{"$f":"'Pop born outside UK'!L16","v":4000}]
[14,"Edinburgh, City of",null,{"$f":"'Total net migration'!L16","v":3296},{"$f":"'Total net migration 0-15'!L16","v":-364},{"$f":"'Total net migration 16-64'!L16","v":3621},{"$f":"'Total net migration 65+'!L16","v":39},{"$f":"'Total in-migration'!L16","v":29439},{"$f":"'Total out-migration'!L16","v":26143},{"$f":"'Within Scotland net migration'!L16","v":-1711},{"$f":"'Within Scotland in-migration'!L16","v":11533},{"$f":"'Within Scotland out-migration'!L16","v":13244},{"$f":"'Rest of UK net migration'!L16","v":1733},{"$f":"'Rest of UK in-migration'!L16","v":9444},{"$f":"'Rest of UK out-migration'!L16","v":7711},{"$f":"'Overseas net migration'!L16","v":3274},{"$f":"'Overseas in-migration'!L16","v":8462},{"$f":"'Overseas out-migration'!L16","v":5188},null,{"$f":"NINo!L17","v":11340},{"$f":"'Non-UK Births'!L17","v":1880},{"$f":"'Pupils ethnic group'!M17","v":6538},{"$f":"'Pupils with English as an add.'!J16","v":5227},{"$f":"'Pop born outside UK'!L17","v":65000}]
[15,"Eilean Siar",null,{"$f":"'Total net migration'!L17","v":-88},{"$f":"'Total net migration 0-15'!L17","v":0},{"$f":"'Total net migration 16-64'!L17","v":-90},{"$f":"'Total net migration 65+'!L17","v":2},{"$f":"'Total in-migration'!L17","v":818},{"$f":"'Total out-migration'!L17","v":906},{"$f":"'Within Scotland net migration'!L17","v":-60},{"$f":"'Within Scotland in-migration'!L17","v":557},{"$f":"'Within Scotland out-migration'!L17","v":617},{"$f":"'Rest of UK net migration'!L17","v":20},{"$f":"'Rest of UK in-migration'!L17","v":229},{"$f":"'Rest of UK out-migration'!L17","v":209},{"$f":"'Overseas net migration'!L17","v":-48},{"$f":"'Overseas in-migration'!L17","v":32},{"$f":"'Overseas out-migration'!L17","v":80},null,{"$f":"NINo!L18","v":60},{"$f":"'Non-UK Births'!L18","v":17},{"$f":"'Pupils ethnic group'!M18","v":62},{"$f":"'Pupils with English as an add.'!J17","v":54},{"$f":"'Pop born outside UK'!L18","v":1000}]
[16,"Falkirk",null,{"$f":"'Total net migration'!L18","v":415},{"$f":"'Total net migration 0-15'!L18","v":82},{"$f":"'Total net migration 16-64'!L18","v":318},{"$f":"'Total net migration 65+'!L18","v":15},{"$f":"'Total in-migration'!L18","v":4173},{"$f":"'Total out-migration'!L18","v":3758},{"$f":"'Within Scotland net migration'!L18","v":172},{"$f":"'Within Scotland in-migration'!L18","v":3055},{"$f":"'Within Scotland out-migration'!L18","v":2883},{"$f":"'Rest of UK net migration'!L18","v":228},{"$f":"'Rest of UK in-migration'!L18","v":791},{"$f":"'Rest of UK out-migration'!L18","v":563},{"$f":"'Overseas net migration'!L18","v":15},{"$f":"'Overseas in-migration'!L18","v":327},{"$f":"'Overseas out-migration'!L18","v":312},null,{"$f":"NINo!L19","v":410},{"$f":"'Non-UK Births'!L19","v":164},{"$f":"'Pupils ethnic group'!M19","v":724},{"$f":"'Pupils with English as an add.'!J18","v":581},{"$f":"'Pop born outside UK'!L19","v":7000}]
[17,"Fife",null,{"$f":"'Total net migration'!L19","v":650},{"$f":"'Total net migration 0-15'!L19","v":101},{"$f":"'Total net migration 16-64'!L19","v":363},{"$f":"'Total net migration 65+'!L19","v":186},{"$f":"'Total in-migration'!L19","v":10894},{"$f":"'Total out-migration'!L19","v":10244},{"$f":"'Within Scotland net migration'!L19","v":-88},{"$f":"'Within Scotland in-migration'!L19","v":6036},{"$f":"'Within Scotland out-migration'!L19","v":6124},{"$f":"'Rest of UK net migration'!L19","v":629},{"$f":"'Rest of UK in-migration'!L19","v":3229},{"$f":"'Rest of UK out-migration'!L19","v":2600},{"$f":"'Overseas net migration'!L19","v":109},{"$f":"'Overseas in-migration'!L19","v":1629},{"$f":"'Overseas out-migration'!L19","v":1520},null,{"$f":"NINo!L20","v":2450},{"$f":"'Non-UK Births'!L20","v":408},{"$f":"'Pupils ethnic group'!M20","v":1568},{"$f":"'Pupils with English as an add.'!J19","v":1004},{"$f":"'Pop born outside UK'!L20","v":18000}]
[18,"Glasgow City",null,{"$f":"'Total net migration'!L20","v":2047},{"$f":"'Total net migration 0-15'!L20","v":-1001},{"$f":"'Total net migration 16-64'!L20","v":3303},{"$f":"'Total net migration 65+'!L20","v":-255},{"$f":"'Total in-migration'!L20","v":30312},{"$f":"'Total out-migration'!L20","v":28265},{"$f":"'Within Scotland net migration'!L20","v":-2681},{"$f":"'Within Scotland in-migration'!L20","v":14980},{"$f":"'Within Scotland out-migration'!L20","v":17661},{"$f":"'Rest of UK net migration'!L20","v":732},{"$f":"'Rest of UK in-migration'!L20","v":6435},{"$f":"'Rest of UK out-migration'!L20","v":5703},{"$f":"'Overseas net migration'!L20","v":3996},{"$f":"'Overseas in-migration'!L20","v":8897},{"$f":"'Overseas out-migration'!L20","v":4901},null,{"$f":"NINo!L21","v":8400},{"$f":"'Non-UK Births'!L21","v":2037},{"$f":"'Pupils ethnic group'!M21","v":12552},{"$f":"'Pupils with English as an add.'!J20","v":11190},{"$f":"'Pop born outside UK'!L21","v":80000}]
[19,"Highland",null,{"$f":"'Total net migration'!L21","v":239},{"$f":"'Total net migration 0-15'!L21","v":111},{"$f":"'Total net migration 16-64'!L21","v":172},{"$f":"'Total net migration 65+'!L21","v":-44},{"$f":"'Total in-migration'!L21","v":7243},{"$f":"'Total out-migration'!L21","v":7004},{"$f":"'Within Scotland net migration'!L21","v":-410},{"$f":"'Within Scotland in-migration'!L21","v":4058},{"$f":"'Within Scotland out-migration'!L21","v":4468},{"$f":"'Rest of UK net migration'!L21","v":737},{"$f":"'Rest of UK in-migration'!L21","v":2466},{"$f":"'Rest of UK out-migration'!L21","v":1729},{"$f":"'Overseas net migration'!L21","v":-88},{"$f":"'Overseas in-migration'!L21","v":719},{"$f":"'Overseas out-migration'!L21","v":807},null,{"$f":"NINo!L22","v":1600},{"$f":"'Non-UK Births'!L22","v":337},{"$f":"'Pupils ethnic group'!M22","v":738},{"$f":"'Pupils with English as an add.'!J21","v":976},{"$f":"'Pop born outside UK'!L22","v":15000}]
[20,"Inverclyde",null,{"$f":"'Total net migration'!L22","v":-270},{"$f":"'Total net migration 0-15'!L22","v":-3},{"$f":"'Total net migration 16-64'!L22","v":-236},{"$f":"'Total net migration 65+'!L22","v":-31},{"$f":"'Total in-migration'!L22","v":1376},{"$f":"'Total out-migration'!L22","v":1646},{"$f":"'Within Scotland net migration'!L22","v":-287},{"$f":"'Within Scotland in-migration'!L22","v":939},{"$f":"'Within Scotland out-migration'!L22","v":1226},{"$f":"'Rest of UK net migration'!L22","v":80},{"$f":"'Rest of UK in-migration'!L22","v":367},{"$f":"'Rest of UK out-migration'!L22","v":287},{"$f":"'Overseas net migration'!L22","v":-63},{"$f":"'Overseas in-migration'!L22","v":70},{"$f":"'Overseas out-migration'!L22","v":133},null,{"$f":"NINo!L23","v":90},{"$f":"'Non-UK Births'!L23","v":28},{"$f":"'Pupils ethnic group'!M23","v":189},{"$f":"'Pupils with English as an add.'!J22","v":44},{"$f":"'Pop born outside UK'!L23","v":2000}]
[21,"Midlothian",null,{"$f":"'Total net migration'!L23","v":1020},{"$f":"'Total net migration 0-15'!L23","v":275},{"$f":"'Total net migration 16-64'!L23","v":753},{"$f":"'Total net migration 65+'!L23","v":-8},{"$f":"'Total in-migration'!L23","v":3527},{"$f":"'Total out-migration'!L23","v":2507},{"$f":"'Within Scotland net migration'!L23","v":947},{"$f":"'Within Scotland in-migration'!L23","v":2866},{"$f":"'Within Scotland out-migration'!L23","v":1919},{"$f":"'Rest of UK net migration'!L23","v":113},{"$f":"'Rest of UK in-migration'!L23","v":512},{"$f":"'Rest of UK out-migration'!L23","v":399},{"$f":"'Overseas net migration'!L23","v":-40},{"$f":"'Overseas in-migration'!L23","v":149},{"$f":"'Overseas out-migration'!L23","v":189},null,{"$f":"NINo!L24","v":260},{"$f":"'Non-UK Births'!L24","v":99},{"$f":"'Pupils ethnic group'!M24","v":406},{"$f":"'Pupils with English as an add.'!J23","v":266},{"$f":"'Pop born outside UK'!L24","v":4000}]
[22,"Moray",null,{"$f":"'Total net migration'!L24","v":467},{"$f":"'Total net migration 0-15'!L24","v":162},{"$f":"'Total net migration 16-64'!L24","v":198},{"$f":"'Total net migration 65+'!L24","v":107},{"$f":"'Total in-migration'!L24","v":3479},{"$f":"'Total out-migration'!L24","v":3012},{"$f":"'Within Scotland net migration'!L24","v":184},{"$f":"'Within Scotland in-migration'!L24","v":1901},{"$f":"'Within Scotland out-migration'!L24","v":1717},{"$f":"'Rest of UK net migration'!L24","v":325},{"$f":"'Rest of UK in-migration'!L24","v":1296},{"$f":"'Rest of UK out-migration'!L24","v":971},{"$f":"'Overseas net migration'!L24","v":-42},{"$f":"'Overseas in-migration'!L24","v":282},{"$f":"'Overseas out-migration'!L24","v":324},null,{"$f":"NINo!L25","v":310},{"$f":"'Non-UK Births'!L25","v":107},{"$f":"'Pupils ethnic group'!M25","v":291},{"$f":"'Pupils with English as an add.'!J24","v":381},{"$f":"'Pop born outside UK'!L25","v":4000}]
[23,"North Ayrshire",null,{"$f":"'Total net migration'!L25","v":-137},{"$f":"'Total net migration 0-15'!L25","v":91},{"$f":"'Total net migration 16-64'!L25","v":-271},{"$f":"'Total net migration 65+'!L25","v":43},{"$f":"'Total in-migration'!L25","v":3550},{"$f":"'Total out-migration'!L25","v":3687},{"$f":"'Within Scotland net migration'!L25","v":-210},{"$f":"'Within Scotland in-migration'!L25","v":2537},{"$f":"'Within Scotland out-migration'!L25","v":2747},{"$f":"'Rest of UK net migration'!L25","v":241},{"$f":"'Rest of UK in-migration'!L25","v":877},{"$f":"'Rest of UK out-migration'!L25","v":636},{"$f":"'Overseas net migration'!L25","v":-168},{"$f":"'Overseas in-migration'!L25","v":136},{"$f":"'Overseas out-migration'!L25","v":304},null,{"$f":"NINo!L26","v":130},{"$f":"'Non-UK Births'!L26","v":56},{"$f":"'Pupils ethnic group'!M26","v":327},{"$f":"'Pupils with English as an add.'!J25","v":117},{"$f":"'Pop born outside UK'!L26","v":3000}]
[24,"North Lanarkshire",null,{"$f":"'Total net migration'!L26","v":-86},{"$f":"'Total net migration 0-15'!L26","v":81},{"$f":"'Total net migration 16-64'!L26","v":-138},{"$f":"'Total net migration 65+'!L26","v":-29},{"$f":"'Total in-migration'!L26","v":6920},{"$f":"'Total out-migration'!L26","v":7006},{"$f":"'Within Scotland net migration'!L26","v":-181},{"$f":"'Within Scotland in-migration'!L26","v":5184},{"$f":"'Within Scotland out-migration'!L26","v":5365},{"$f":"'Rest of UK net migration'!L26","v":260},{"$f":"'Rest of UK in-migration'!L26","v":1246},{"$f":"'Rest of UK out-migration'!L26","v":986},{"$f":"'Overseas net migration'!L26","v":-165},{"$f":"'Overseas in-migration'!L26","v":490},{"$f":"'Overseas out-migration'!L26","v":655},null,{"$f":"NINo!L27","v":790},{"$f":"'Non-UK Births'!L27","v":273},{"$f":"'Pupils ethnic group'!M27","v":1795},{"$f":"'Pupils with English as an add.'!J26","v":1121},{"$f":"'Pop born outside UK'!L27","v":11000}]
[25,"Orkney Islands",null,{"$f":"'Total net migration'!L27","v":67},{"$f":"'Total net migration 0-15'!L27","v":44},{"$f":"'Total net migration 16-64'!L27","v":14},{"$f":"'Total net migration 65+'!L27","v":9},{"$f":"'Total in-migration'!L27","v":747},{"$f":"'Total out-migration'!L27","v":680},{"$f":"'Within Scotland net migration'!L27","v":-41},{"$f":"'Within Scotland in-migration'!L27","v":378},{"$f":"'Within Scotland out-migration'!L27","v":419},{"$f":"'Rest of UK net migration'!L27","v":124},{"$f":"'Rest of UK in-migration'!L27","v":317},{"$f":"'Rest of UK out-migration'!L27","v":193},{"$f":"'Overseas net migration'!L27","v":-16},{"$f":"'Overseas in-migration'!L27","v":52},{"$f":"'Overseas out-migration'!L27","v":68},null,{"$f":"NINo!L28","v":50},{"$f":"'Non-UK Births'!L28","v":11},{"$f":"'Pupils ethnic group'!M28","v":42},{"$f":"'Pupils with English as an add.'!J27","v":14},{"$f":"'Pop born outside UK'!L28","v":"0~"}]
[26,"Perth & Kinross",null,{"$f":"'Total net migration'!L28","v":1407},{"$f":"'Total net migration 0-15'!L28","v":424},{"$f":"'Total net migration 16-64'!L28","v":945},{"$f":"'Total net migration 65+'!L28","v":38},{"$f":"'Total in-migration'!L28","v":6759},{"$f":"'Total out-migration'!L28","v":5352},{"$f":"'Within Scotland net migration'!L28","v":613},{"$f":"'Within Scotland in-migration'!L28","v":4138},{"$f":"'Within Scotland out-migration'!L28","v":3525},{"$f":"'Rest of UK net migration'!L28","v":327},{"$f":"'Rest of UK in-migration'!L28","v":1380},{"$f":"'Rest of UK out-migration'!L28","v":1053},{"$f":"'Overseas net migration'!L28","v":467},{"$f":"'Overseas in-migration'!L28","v":1241},{"$f":"'Overseas out-migration'!L28","v":774},null,{"$f":"NINo!L29","v":2460},{"$f":"'Non-UK Births'!L29","v":233},{"$f":"'Pupils ethnic group'!M29","v":572},{"$f":"'Pupils with English as an add.'!J28","v":630},{"$f":"'Pop born outside UK'!L29","v":11000}]
[27,"Renfrewshire",null,{"$f":"'Total net migration'!L29","v":372},{"$f":"'Total net migration 0-15'!L29","v":52},{"$f":"'Total net migration 16-64'!L29","v":254},{"$f":"'Total net migration 65+'!L29","v":66},{"$f":"'Total in-migration'!L29","v":5028},{"$f":"'Total out-migration'!L29","v":4656},{"$f":"'Within Scotland net migration'!L29","v":381},{"$f":"'Within Scotland in-migration'!L29","v":3895},{"$f":"'Within Scotland out-migration'!L29","v":3514},{"$f":"'Rest of UK net migration'!L29","v":-1},{"$f":"'Rest of UK in-migration'!L29","v":702},{"$f":"'Rest of UK out-migration'!L29","v":703},{"$f":"'Overseas net migration'!L29","v":-8},{"$f":"'Overseas in-migration'!L29","v":431},{"$f":"'Overseas out-migration'!L29","v":439},null,{"$f":"NINo!L30","v":670},{"$f":"'Non-UK Births'!L30","v":186},{"$f":"'Pupils ethnic group'!M30","v":891},{"$f":"'Pupils with English as an add.'!J29","v":480},{"$f":"'Pop born outside UK'!L30","v":11000}]
[28,"Scottish Borders",null,{"$f":"'Total net migration'!L30","v":280},{"$f":"'Total net migration 0-15'!L30","v":172},{"$f":"'Total net migration 16-64'!L30","v":173},{"$f":"'Total net migration 65+'!L30","v":-65},{"$f":"'Total in-migration'!L30","v":4196},{"$f":"'Total out-migration'!L30","v":3916},{"$f":"'Within Scotland net migration'!L30","v":67},{"$f":"'Within Scotland in-migration'!L30","v":2315},{"$f":"'Within Scotland out-migration'!L30","v":2248},{"$f":"'Rest of UK net migration'!L30","v":386},{"$f":"'Rest of UK in-migration'!L30","v":1598},{"$f":"'Rest of UK out-migration'!L30","v":1212},{"$f":"'Overseas net migration'!L30","v":-173},{"$f":"'Overseas in-migration'!L30","v":283},{"$f":"'Overseas out-migration'!L30","v":456},null,{"$f":"NINo!L31","v":360},{"$f":"'Non-UK Births'!L31","v":121},{"$f":"'Pupils ethnic group'!M31","v":322},{"$f":"'Pupils with English as an add.'!J30","v":394},{"$f":"'Pop born outside UK'!L31","v":6000}]
[29,"Shetland Islands",null,{"$f":"'Total net migration'!L31","v":-5},{"$f":"'Total net migration 0-15'!L31","v":4},{"$f":"'Total net migration 16-64'!L31","v":-1},{"$f":"'Total net migration 65+'!L31","v":-8},{"$f":"'Total in-migration'!L31","v":674},{"$f":"'Total out-migration'!L31","v":679},{"$f":"'Within Scotland net migration'!L31","v":-30},{"$f":"'Within Scotland in-migration'!L31","v":357},{"$f":"'Within Scotland out-migration'!L31","v":387},{"$f":"'Rest of UK net migration'!L31","v":64},{"$f":"'Rest of UK in-migration'!L31","v":266},{"$f":"'Rest of UK out-migration'!L31","v":202},{"$f":"'Overseas net migration'!L31","v":-39},{"$f":"'Overseas in-migration'!L31","v":51},{"$f":"'Overseas out-migration'!L31","v":90},null,{"$f":"NINo!L32","v":540},{"$f":"'Non-UK Births'!L32","v":28},{"$f":"'Pupils ethnic group'!M32","v":88},{"$f":"'Pupils with English as an add.'!J31","v":49},{"$f":"'Pop born outside UK'!L32","v":1000}]
[30,"South Ayrshire",null,{"$f":"'Total net migration'!L32","v":103},{"$f":"'Total net migration 0-15'!L32","v":86},{"$f":"'Total net migration 16-64'!L32","v":-86},{"$f":"'Total net migration 65+'!L32","v":103},{"$f":"'Total in-migration'!L32","v":3431},{"$f":"'Total out-migration'!L32","v":3328},{"$f":"'Within Scotland net migration'!L32","v":100},{"$f":"'Within Scotland in-migration'!L32","v":2477},{"$f":"'Within Scotland out-migration'!L32","v":2377},{"$f":"'Rest of UK net migration'!L32","v":169},{"$f":"'Rest of UK in-migration'!L32","v":788},{"$f":"'Rest of UK out-migration'!L32","v":619},{"$f":"'Overseas net migration'!L32","v":-166},{"$f":"'Overseas in-migration'!L32","v":166},{"$f":"'Overseas out-migration'!L32","v":332},null,{"$f":"NINo!L33","v":240},{"$f":"'Non-UK Births'!L33","v":59},{"$f":"'Pupils ethnic group'!M33","v":287},{"$f":"'Pupils with English as an add.'!J32","v":174},{"$f":"'Pop born outside UK'!L33","v":4000}]
[31,"South Lanarkshire",null,{"$f":"'Total net migration'!L33","v":511},{"$f":"'Total net migration 0-15'!L33","v":146},{"$f":"'Total net migration 16-64'!L33","v":318},{"$f":"'Total net migration 65+'!L33","v":47},{"$f":"'Total in-migration'!L33","v":8294},{"$f":"'Total out-migration'!L33","v":7783},{"$f":"'Within Scotland net migration'!L33","v":536},{"$f":"'Within Scotland in-migration'!L33","v":6411},{"$f":"'Within Scotland out-migration'!L33","v":5875},{"$f":"'Rest of UK net migration'!L33","v":348},{"$f":"'Rest of UK in-migration'!L33","v":1512},{"$f":"'Rest of UK out-migration'!L33","v":1164},{"$f":"'Overseas net migration'!L33","v":-373},{"$f":"'Overseas in-migration'!L33","v":371},{"$f":"'Overseas out-migration'!L33","v":744},null,{"$f":"NINo!L34","v":640},{"$f":"'Non-UK Births'!L34","v":239},{"$f":"'Pupils ethnic group'!M34","v":1595},{"$f":"'Pupils with English as an add.'!J33","v":660},{"$f":"'Pop born outside UK'!L34","v":9000}]
[32,"Stirling",null,{"$f":"'Total net migration'!L34","v":467},{"$f":"'Total net migration 0-15'!L34","v":230},{"$f":"'Total net migration 16-64'!L34","v":235},{"$f":"'Total net migration 65+'!L34","v":2},{"$f":"'Total in-migration'!L34","v":5133},{"$f":"'Total out-migration'!L34","v":4666},{"$f":"'Within Scotland net migration'!L34","v":61},{"$f":"'Within Scotland in-migration'!L34","v":3315},{"$f":"'Within Scotland out-migration'!L34","v":3254},{"$f":"'Rest of UK net migration'!L34","v":450},{"$f":"'Rest of UK in-migration'!L34","v":1204},{"$f":"'Rest of UK out-migration'!L34","v":754},{"$f":"'Overseas net migration'!L34","v":-44},{"$f":"'Overseas in-migration'!L34","v":614},{"$f":"'Overseas out-migration'!L34","v":658},null,{"$f":"NINo!L35","v":580},{"$f":"'Non-UK Births'!L35","v":109},{"$f":"'Pupils ethnic group'!M35","v":443},{"$f":"'Pupils with English as an add.'!J34","v":264},{"$f":"'Pop born outside UK'!L35","v":7000}]
[33,"West Dunbartonshire",null,{"$f":"'Total net migration'!L35","v":-98},{"$f":"'Total net migration 0-15'!L35","v":-27},{"$f":"'Total net migration 16-64'!L35","v":-51},{"$f":"'Total net migration 65+'!L35","v":-20},{"$f":"'Total in-migration'!L35","v":2256},{"$f":"'Total out-migration'!L35","v":2354},{"$f":"'Within Scotland net migration'!L35","v":-133},{"$f":"'Within Scotland in-migration'!L35","v":1759},{"$f":"'Within Scotland out-migration'!L35","v":1892},{"$f":"'Rest of UK net migration'!L35","v":66},{"$f":"'Rest of UK in-migration'!L35","v":381},{"$f":"'Rest of UK out-migration'!L35","v":315},{"$f":"'Overseas net migration'!L35","v":-31},{"$f":"'Overseas in-migration'!L35","v":116},{"$f":"'Overseas out-migration'!L35","v":147},null,{"$f":"NINo!L36","v":170},{"$f":"'Non-UK Births'!L36","v":51},{"$f":"'Pupils ethnic group'!M36","v":309},{"$f":"'Pupils with English as an add.'!J35","v":201},{"$f":"'Pop born outside UK'!L36","v":3000}]
[34,"West Lothian",null,{"$f":"'Total net migration'!L36","v":444},{"$f":"'Total net migration 0-15'!L36","v":196},{"$f":"'Total net migration 16-64'!L36","v":196},{"$f":"'Total net migration 65+'!L36","v":52},{"$f":"'Total in-migration'!L36","v":5233},{"$f":"'Total out-migration'!L36","v":4789},{"$f":"'Within Scotland net migration'!L36","v":159},{"$f":"'Within Scotland in-migration'!L36","v":3703},{"$f":"'Within Scotland out-migration'!L36","v":3544},{"$f":"'Rest of UK net migration'!L36","v":222},{"$f":"'Rest of UK in-migration'!L36","v":969},{"$f":"'Rest of UK out-migration'!L36","v":747},{"$f":"'Overseas net migration'!L36","v":63},{"$f":"'Overseas in-migration'!L36","v":561},{"$f":"'Overseas out-migration'!L36","v":498},null,{"$f":"NINo!L37","v":850},{"$f":"'Non-UK Births'!L37","v":298},{"$f":"'Pupils ethnic group'!M37","v":1166},{"$f":"'Pupils with English as an add.'!J36","v":1033},{"$f":"'Pop born outside UK'!L37","v":10000}]
[]
[35,"Not specified"]
[36,"SCOTLAND",null,{"$f":"'Total net migration'!L4","v":17585},{"$f":"'Total net migration 0-15'!L4","v":3092},{"$f":"'Total net migration 16-64'!L4","v":14470},{"$f":"'Total net migration 65+'!L4","v":23},{"$f":"'Total in-migration'!L4","v":82442},{"$f":"'Total out-migration'!L4","v":64857},null,null,null,{"$f":"'Rest of UK net migration'!L39","v":9585},{"$f":"'Rest of UK in-migration'!L39","v":49242},{"$f":"'Rest of UK out-migration'!L39","v":39657},{"$f":"'Overseas net migration'!L39","v":8000},{"$f":"'Overseas in-migration'!L39","v":33200},{"$f":"'Overseas out-migration'!L39","v":25200},null,null,{"$f":"'Non-UK Births'!L40","v":9178},null,null,null,{"$f":"'NHS Overseas'!L5","v":55364}]
[37,"Ayrshire & Arran",null,{"$f":"'Total net migration'!L40","v":-124},{"$f":"'Total net migration 0-15'!L40","v":193},{"$f":"'Total net migration 16-64'!L40","v":-433},{"$f":"'Total net migration 65+'!L40","v":116},{"$f":"'Total in-migration'!L40","v":7778},{"$f":"'Total out-migration'!L40","v":7902},{"$f":"'Within Scotland net migration'!L40","v":-67},{"$f":"'Within Scotland in-migration'!L40","v":5048},{"$f":"'Within Scotland out-migration'!L40","v":5115},{"$f":"'Rest of UK net migration'!L40","v":451},{"$f":"'Rest of UK in-migration'!L40","v":2334},{"$f":"'Rest of UK out-migration'!L40","v":1883},{"$f":"'Overseas net migration'!L40","v":-508},{"$f":"'Overseas in-migration'!L40","v":396},{"$f":"'Overseas out-migration'!L40","v":904},null,null,{"$f":"'Non-UK Births'!L41","v":159}]
[38,"Borders",null,{"$f":"'Total net migration'!L41","v":280},{"$f":"'Total net migration 0-15'!L41","v":172},{"$f":"'Total net migration 16-64'!L41","v":173},{"$f":"'Total net migration 65+'!L41","v":-65},{"$f":"'Total in-migration'!L41","v":4196},{"$f":"'Total out-migration'!L41","v":3916},{"$f":"'Within Scotland net migration'!L41","v":67},{"$f":"'Within Scotland in-migration'!L41","v":2315},{"$f":"'Within Scotland out-migration'!L41","v":2248},{"$f":"'Rest of UK net migration'!L41","v":386},{"$f":"'Rest of UK in-migration'!L41","v":1598},{"$f":"'Rest of UK out-migration'!L41","v":1212},{"$f":"'Overseas net migration'!L41","v":-173},{"$f":"'Overseas in-migration'!L41","v":283},{"$f":"'Overseas out-migration'!L41","v":456},null,null,{"$f":"'Non-UK Births'!L42","v":121}]
[39,"Dumfries & Galloway",null,{"$f":"'Total net migration'!L42","v":334},{"$f":"'Total net migration 0-15'!L42","v":169},{"$f":"'Total net migration 16-64'!L42","v":105},{"$f":"'Total net migration 65+'!L42","v":60},{"$f":"'Total in-migration'!L42","v":4047},{"$f":"'Total out-migration'!L42","v":3713},{"$f":"'Within Scotland net migration'!L42","v":-110},{"$f":"'Within Scotland in-migration'!L42","v":1725},{"$f":"'Within Scotland out-migration'!L42","v":1835},{"$f":"'Rest of UK net migration'!L42","v":711},{"$f":"'Rest of UK in-migration'!L42","v":2110},{"$f":"'Rest of UK out-migration'!L42","v":1399},{"$f":"'Overseas net migration'!L42","v":-267},{"$f":"'Overseas in-migration'!L42","v":212},{"$f":"'Overseas out-migration'!L42","v":479},null,null,{"$f":"'Non-UK Births'!L43","v":91}]
[40,"Fife",null,{"$f":"'Total net migration'!L43","v":650},{"$f":"'Total net migration 0-15'!L43","v":101},{"$f":"'Total net migration 16-64'!L43","v":363},{"$f":"'Total net migration 65+'!L43","v":186},{"$f":"'Total in-migration'!L43","v":10894},{"$f":"'Total out-migration'!L43","v":10244},{"$f":"'Within Scotland net migration'!L43","v":-88},{"$f":"'Within Scotland in-migration'!L43","v":6036},{"$f":"'Within Scotland out-migration'!L43","v":6124},{"$f":"'Rest of UK net migration'!L43","v":629},{"$f":"'Rest of UK in-migration'!L43","v":3229},{"$f":"'Rest of UK out-migration'!L43","v":2600},{"$f":"'Overseas net migration'!L43","v":109},{"$f":"'Overseas in-migration'!L43","v":1629},{"$f":"'Overseas out-migration'!L43","v":1520},null,null,{"$f":"'Non-UK Births'!L44","v":408}]
[41,"Forth Valley",null,{"$f":"'Total net migration'!L44","v":800},{"$f":"'Total net migration 0-15'!L44","v":288},{"$f":"'Total net migration 16-64'!L44","v":480},{"$f":"'Total net migration 65+'!L44","v":32},{"$f":"'Total in-migration'!L44","v":9446},{"$f":"'Total out-migration'!L44","v":8646},{"$f":"'Within Scotland net migration'!L44","v":176},{"$f":"'Within Scotland in-migration'!L44","v":6055},{"$f":"'Within Scotland out-migration'!L44","v":5879},{"$f":"'Rest of UK net migration'!L44","v":679},{"$f":"'Rest of UK in-migration'!L44","v":2322},{"$f":"'Rest of UK out-migration'!L44","v":1643},{"$f":"'Overseas net migration'!L44","v":-55},{"$f":"'Overseas in-migration'!L44","v":1069},{"$f":"'Overseas out-migration'!L44","v":1124},null,null,{"$f":"'Non-UK Births'!L45","v":322}]
[42,"Grampian",null,{"$f":"'Total net migration'!L45","v":3920},{"$f":"'Total net migration 0-15'!L45","v":694},{"$f":"'Total net migration 16-64'!L45","v":3500},{"$f":"'Total net migration 65+'!L45","v":-274},{"$f":"'Total in-migration'!L45","v":20218},{"$f":"'Total out-migration'!L45","v":16298},{"$f":"'Within Scotland net migration'!L45","v":686},{"$f":"'Within Scotland in-migration'!L45","v":8368},{"$f":"'Within Scotland out-migration'!L45","v":7682},{"$f":"'Rest of UK net migration'!L45","v":1187},{"$f":"'Rest of UK in-migration'!L45","v":6304},{"$f":"'Rest of UK out-migration'!L45","v":5117},{"$f":"'Overseas net migration'!L45","v":2047},{"$f":"'Overseas in-migration'!L45","v":5546},{"$f":"'Overseas out-migration'!L45","v":3499},null,null,{"$f":"'Non-UK Births'!L46","v":1543}]
[43,"Greater Glasgow & Clyde",null,{"$f":"'Total net migration'!L46","v":3850},{"$f":"'Total net migration 0-15'!L46","v":152},{"$f":"'Total net migration 16-64'!L46","v":3839},{"$f":"'Total net migration 65+'!L46","v":-141},{"$f":"'Total in-migration'!L46","v":34840},{"$f":"'Total out-migration'!L46","v":30990},{"$f":"'Within Scotland net migration'!L46","v":-719},{"$f":"'Within Scotland in-migration'!L46","v":16352},{"$f":"'Within Scotland out-migration'!L46","v":17071},{"$f":"'Rest of UK net migration'!L46","v":836},{"$f":"'Rest of UK in-migration'!L46","v":8747},{"$f":"'Rest of UK out-migration'!L46","v":7911},{"$f":"'Overseas net migration'!L46","v":3733},{"$f":"'Overseas in-migration'!L46","v":9741},{"$f":"'Overseas out-migration'!L46","v":6008},null,null,{"$f":"'Non-UK Births'!L47","v":2467}]
[44,"Highland",null,{"$f":"'Total net migration'!L47","v":-36},{"$f":"'Total net migration 0-15'!L47","v":166},{"$f":"'Total net migration 16-64'!L47","v":-97},{"$f":"'Total net migration 65+'!L47","v":-105},{"$f":"'Total in-migration'!L47","v":10686},{"$f":"'Total out-migration'!L47","v":10722},{"$f":"'Within Scotland net migration'!L47","v":-854},{"$f":"'Within Scotland in-migration'!L47","v":5881},{"$f":"'Within Scotland out-migration'!L47","v":6735},{"$f":"'Rest of UK net migration'!L47","v":1140},{"$f":"'Rest of UK in-migration'!L47","v":3847},{"$f":"'Rest of UK out-migration'!L47","v":2707},{"$f":"'Overseas net migration'!L47","v":-322},{"$f":"'Overseas in-migration'!L47","v":958},{"$f":"'Overseas out-migration'!L47","v":1280},null,null,{"$f":"'Non-UK Births'!L48","v":418}]
[45,"Lanarkshire",null,{"$f":"'Total net migration'!L48","v":425},{"$f":"'Total net migration 0-15'!L48","v":227},{"$f":"'Total net migration 16-64'!L48","v":180},{"$f":"'Total net migration 65+'!L48","v":18},{"$f":"'Total in-migration'!L48","v":12932},{"$f":"'Total out-migration'!L48","v":12507},{"$f":"'Within Scotland net migration'!L48","v":355},{"$f":"'Within Scotland in-migration'!L48","v":9313},{"$f":"'Within Scotland out-migration'!L48","v":8958},{"$f":"'Rest of UK net migration'!L48","v":608},{"$f":"'Rest of UK in-migration'!L48","v":2758},{"$f":"'Rest of UK out-migration'!L48","v":2150},{"$f":"'Overseas net migration'!L48","v":-538},{"$f":"'Overseas in-migration'!L48","v":861},{"$f":"'Overseas out-migration'!L48","v":1399},null,null,{"$f":"'Non-UK Births'!L49","v":512}]
[46,"Lothian",null,{"$f":"'Total net migration'!L49","v":5472},{"$f":"'Total net migration 0-15'!L49","v":356},{"$f":"'Total net migration 16-64'!L49","v":4944},{"$f":"'Total net migration 65+'!L49","v":172},{"$f":"'Total in-migration'!L49","v":33965},{"$f":"'Total out-migration'!L49","v":28493},{"$f":"'Within Scotland net migration'!L49","v":-46},{"$f":"'Within Scotland in-migration'!L49","v":12790},{"$f":"'Within Scotland out-migration'!L49","v":12836},{"$f":"'Rest of UK net migration'!L49","v":2190},{"$f":"'Rest of UK in-migration'!L49","v":11662},{"$f":"'Rest of UK out-migration'!L49","v":9472},{"$f":"'Overseas net migration'!L49","v":3328},{"$f":"'Overseas in-migration'!L49","v":9513},{"$f":"'Overseas out-migration'!L49","v":6185},null,null,{"$f":"'Non-UK Births'!L50","v":2403}]
[47,"Orkney",null,{"$f":"'Total net migration'!L50","v":67},{"$f":"'Total net migration 0-15'!L50","v":44},{"$f":"'Total net migration 16-64'!L50","v":14},{"$f":"'Total net migration 65+'!L50","v":9},{"$f":"'Total in-migration'!L50","v":747},{"$f":"'Total out-migration'!L50","v":680},{"$f":"'Within Scotland net migration'!L50","v":-41},{"$f":"'Within Scotland in-migration'!L50","v":378},{"$f":"'Within Scotland out-migration'!L50","v":419},{"$f":"'Rest of UK net migration'!L50","v":124},{"$f":"'Rest of UK in-migration'!L50","v":317},{"$f":"'Rest of UK out-migration'!L50","v":193},{"$f":"'Overseas net migration'!L50","v":-16},{"$f":"'Overseas in-migration'!L50","v":52},{"$f":"'Overseas out-migration'!L50","v":68},null,null,{"$f":"'Non-UK Births'!L51","v":11}]
[48,"Shetland",null,{"$f":"'Total net migration'!L51","v":-5},{"$f":"'Total net migration 0-15'!L51","v":4},{"$f":"'Total net migration 16-64'!L51","v":-1},{"$f":"'Total net migration 65+'!L51","v":-8},{"$f":"'Total in-migration'!L51","v":674},{"$f":"'Total out-migration'!L51","v":679},{"$f":"'Within Scotland net migration'!L51","v":-30},{"$f":"'Within Scotland in-migration'!L51","v":357},{"$f":"'Within Scotland out-migration'!L51","v":387},{"$f":"'Rest of UK net migration'!L51","v":64},{"$f":"'Rest of UK in-migration'!L51","v":266},{"$f":"'Rest of UK out-migration'!L51","v":202},{"$f":"'Overseas net migration'!L51","v":-39},{"$f":"'Overseas in-migration'!L51","v":51},{"$f":"'Overseas out-migration'!L51","v":90},null,null,{"$f":"'Non-UK Births'!L52","v":28}]
[49,"Tayside",null,{"$f":"'Total net migration'!L52","v":2040},{"$f":"'Total net migration 0-15'!L52","v":526},{"$f":"'Total net migration 16-64'!L52","v":1493},{"$f":"'Total net migration 65+'!L52","v":21},{"$f":"'Total in-migration'!L52","v":14433},{"$f":"'Total out-migration'!L52","v":12393},{"$f":"'Within Scotland net migration'!L52","v":731},{"$f":"'Within Scotland in-migration'!L52","v":8057},{"$f":"'Within Scotland out-migration'!L52","v":7326},{"$f":"'Rest of UK net migration'!L52","v":560},{"$f":"'Rest of UK in-migration'!L52","v":3519},{"$f":"'Rest of UK out-migration'!L52","v":2959},{"$f":"'Overseas net migration'!L52","v":749},{"$f":"'Overseas in-migration'!L52","v":2857},{"$f":"'Overseas out-migration'!L52","v":2108},null,null,{"$f":"'Non-UK Births'!L53","v":678}]
[50,"Western Isles",null,{"$f":"'Total net migration'!L53","v":-88},{"$f":"'Total net migration 0-15'!L53","v":0},{"$f":"'Total net migration 16-64'!L53","v":-90},{"$f":"'Total net migration 65+'!L53","v":2},{"$f":"'Total in-migration'!L53","v":818},{"$f":"'Total out-migration'!L53","v":906},{"$f":"'Within Scotland net migration'!L53","v":-60},{"$f":"'Within Scotland in-migration'!L53","v":557},{"$f":"'Within Scotland out-migration'!L53","v":617},{"$f":"'Rest of UK net migration'!L53","v":20},{"$f":"'Rest of UK in-migration'!L53","v":229},{"$f":"'Rest of UK out-migration'!L53","v":209},{"$f":"'Overseas net migration'!L53","v":-48},{"$f":"'Overseas in-migration'!L53","v":32},{"$f":"'Overseas out-migration'!L53","v":80},null,null,{"$f":"'Non-UK Births'!L54","v":17}]

{"sheet":"2014 Rate","index":56,"n_rows":53,"n_cols":27,"rows_kept":53,"cut":false,"hidden":true,"merged":[]}
[null,2014,"RATE"]
[null,null,"Not specified ",{"$f":"'Comparing Indicators'!$U8","v":"Total net migration"},{"$f":"'Comparing Indicators'!$U9","v":"Total net migration for ages 0-15"},{"$f":"'Comparing Indicators'!$U10","v":"Total net migration for ages 16-64"},{"$f":"'Comparing Indicators'!$U11","v":"Total net migration for people aged 65+"},{"$f":"'Comparing Indicators'!$U12","v":"Total in-migration"},{"$f":"'Comparing Indicators'!$U13","v":"Total out-migration"},{"$f":"'Comparing Indicators'!$U14","v":"Within Scotland net migration"},{"$f":"'Comparing Indicators'!$U15","v":"Within Scotland in-migration"},{"$f":"'Comparing Indicators'!$U16","v":"Within Scotland out-migration"},{"$f":"'Comparing Indicators'!$U17","v":"Rest of UK net migration"},{"$f":"'Comparing Indicators'!$U18","v":"Rest of UK in-migration"},{"$f":"'Comparing Indicators'!$U19","v":"Rest of UK out-migration"},{"$f":"'Comparing Indicators'!$U20","v":"Overseas net migration"},{"$f":"'Comparing Indicators'!$U21","v":"Overseas in-migration"},{"$f":"'Comparing Indicators'!$U22","v":"Overseas out-migration"},{"$f":"'Comparing Indicators'!$U23","v":"Worker Registration Scheme"},{"$f":"'Comparing Indicators'!$U24","v":"NINo Allocation"},{"$f":"'Comparing Indicators'!$U25","v":"Births to non-UK mothers"},{"$f":"'Comparing Indicators'!$U26","v":"Pupils from a minority ethnic group"},{"$f":"'Comparing Indicators'!$U27","v":"Pupils with English as an additional language"},{"$f":"'Comparing Indicators'!$U28","v":"Estimate of resident population born outside the UK"},"NHS registrations from overseas",null,"Mid-year population estimate"]
[1,"Not specified"]
[2,"SCOTLAND",null,{"$f":"('2014'!D4/'2014 Rate'!$AA4)*1000","v":3.2883910539307353},{"$f":"('2014'!E4/'2014 Rate'!$AA4)*1000","v":0.57820330615603266},{"$f":"('2014'!F4/'2014 Rate'!$AA4)*1000","v":2.7058867529358968},{"$f":"('2014'!G4/'2014 Rate'!$AA4)*1000","v":4.3009948388061936E-3},{"$f":"('2014'!H4/'2014 Rate'!$AA4)*1000","v":15.416635500037399},{"$f":"('2014'!I4/'2014 Rate'!$AA4)*1000","v":12.128244446106665},null,null,null,{"$f":"('2014'!M4/'2014 Rate'!$AA4)*1000","v":1.7923928491285812},{"$f":"('2014'!N4/'2014 Rate'!$AA4)*1000","v":9.2082429501084597},{"$f":"('2014'!O4/'2014 Rate'!$AA4)*1000","v":7.4158501009798785},{"$f":"('2014'!P4/'2014 Rate'!$AA4)*1000","v":1.4959982048021543},{"$f":"('2014'!Q4/'2014 Rate'!$AA4)*1000","v":6.2083925499289405},{"$f":"('2014'!R4/'2014 Rate'!$AA4)*1000","v":4.7123943451267856},null,{"$f":"('2014'!T4/'2014 Rate'!$AA4)*1000","v":8.1531902161717422},{"$f":"('2014'!U4/'2014 Rate'!$AA4)*1000","v":1.7162839404592716},{"$f":"('2014'!V4/'2014 Rate'!$AA4)*1000","v":7.8257536090956696},{"$f":"('2014'!W4/'2014 Rate'!$AA4)*1000","v":6.0791757049891535},{"$f":"('2014'!X4/'2014 Rate'!$AA4)*1000","v":71.246914503702598},{"$f":"('2014'!Y4/'2014 Rate'!$AA4)*1000","v":10.353055576333309},"Scotland",{"$f":"'Population estimates'!L4","v":5347600}]
[3,"Aberdeen City",null,{"$f":"('2014'!D5/'2014 Rate'!$AA5)*1000","v":6.1680936571728111},{"$f":"('2014'!E5/'2014 Rate'!$AA5)*1000","v":-1.3236065000873667},{"$f":"('2014'!F5/'2014 Rate'!$AA5)*1000","v":8.4221562117770397},{"$f":"('2014'!G5/'2014 Rate'!$AA5)*1000","v":-0.93045605451686175},{"$f":"('2014'!H5/'2014 Rate'!$AA5)*1000","v":62.05661366416215},{"$f":"('2014'!I5/'2014 Rate'!$AA5)*1000","v":55.888520006989346},{"$f":"('2014'!J5/'2014 Rate'!$AA5)*1000","v":-4.9799056438930629},{"$f":"('2014'!K5/'2014 Rate'!$AA5)*1000","v":30.766206535034073},{"$f":"('2014'!L5/'2014 Rate'!$AA5)*1000","v":35.746112178927135},{"$f":"('2014'!M5/'2014 Rate'!$AA5)*1000","v":2.5642145727765158},{"$f":"('2014'!N5/'2014 Rate'!$AA5)*1000","v":12.934649659269613},{"$f":"('2014'!O5/'2014 Rate'!$AA5)*1000","v":10.370435086493098},{"$f":"('2014'!P5/'2014 Rate'!$AA5)*1000","v":8.5837847282893573},{"$f":"('2014'!Q5/'2014 Rate'!$AA5)*1000","v":18.355757469858464},{"$f":"('2014'!R5/'2014 Rate'!$AA5)*1000","v":9.7719727415691064},null,{"$f":"('2014'!T5/'2014 Rate'!$AA5)*1000","v":23.851127031277304},{"$f":"('2014'!U5/'2014 Rate'!$AA5)*1000","v":4.3071815481390878},{"$f":"('2014'!V5/'2014 Rate'!$AA5)*1000","v":11.597938144329897},{"$f":"('2014'!W5/'2014 Rate'!$AA5)*1000","v":10.676218766381268},{"$f":"('2014'!X5/'2014 Rate'!$AA5)*1000","v":183.47020793290233},null,"Aberdeen City",{"$f":"'Population estimates'!L5","v":228920}]
[4,"Aberdeenshire",null,{"$f":"('2014'!D6/'2014 Rate'!$AA6)*1000","v":7.834030629869881},{"$f":"('2014'!E6/'2014 Rate'!$AA6)*1000","v":3.2050051817449048},{"$f":"('2014'!F6/'2014 Rate'!$AA6)*1000","v":5.2738648140329323},{"$f":"('2014'!G6/'2014 Rate'!$AA6)*1000","v":-0.64483936590795687},{"$f":"('2014'!H6/'2014 Rate'!$AA6)*1000","v":39.696004298929104},{"$f":"('2014'!I6/'2014 Rate'!$AA6)*1000","v":31.861973669059225},{"$f":"('2014'!J6/'2014 Rate'!$AA6)*1000","v":6.3025371358384836},{"$f":"('2014'!K6/'2014 Rate'!$AA6)*1000","v":27.762637700072929},{"$f":"('2014'!L6/'2014 Rate'!$AA6)*1000","v":21.460100564234448},{"$f":"('2014'!M6/'2014 Rate'!$AA6)*1000","v":1.0555406287183817},{"$f":"('2014'!N6/'2014 Rate'!$AA6)*1000","v":7.8570606072237359},{"$f":"('2014'!O6/'2014 Rate'!$AA6)*1000","v":6.8015199785053548},{"$f":"('2014'!P6/'2014 Rate'!$AA6)*1000","v":0.47595286531301578},{"$f":"('2014'!Q6/'2014 Rate'!$AA6)*1000","v":4.0763059916324416},{"$f":"('2014'!R6/'2014 Rate'!$AA6)*1000","v":3.6003531263194262},null,{"$f":"('2014'!T6/'2014 Rate'!$AA6)*1000","v":6.448393659079569},{"$f":"('2014'!U6/'2014 Rate'!$AA6)*1000","v":1.7272483015391702},{"$f":"('2014'!V6/'2014 Rate'!$AA6)*1000","v":3.6310597627912333},{"$f":"('2014'!W6/'2014 Rate'!$AA6)*1000","v":5.2047748819713666},{"$f":"('2014'!X6/'2014 Rate'!$AA6)*1000","v":49.898284266687142},null,"Aberdeenshire",{"$f":"'Population estimates'!L6","v":260530}]
[5,"Angus",null,{"$f":"('2014'!D7/'2014 Rate'!$AA7)*1000","v":5.5250985095083092},{"$f":"('2014'!E7/'2014 Rate'!$AA7)*1000","v":1.5504540003426419},{"$f":"('2014'!F7/'2014 Rate'!$AA7)*1000","v":3.3750214151105022},{"$f":"('2014'!G7/'2014 Rate'!$AA7)*1000","v":0.59962309405516534},{"$f":"('2014'!H7/'2014 Rate'!$AA7)*1000","v":36.234366969333564},{"$f":"('2014'!I7/'2014 Rate'!$AA7)*1000","v":30.709268459825253},{"$f":"('2014'!J7/'2014 Rate'!$AA7)*1000","v":3.6491348295357207},{"$f":"('2014'!K7/'2014 Rate'!$AA7)*1000","v":26.837416481069042},{"$f":"('2014'!L7/'2014 Rate'!$AA7)*1000","v":23.188281651533323},{"$f":"('2014'!M7/'2014 Rate'!$AA7)*1000","v":1.6446804865513107},{"$f":"('2014'!N7/'2014 Rate'!$AA7)*1000","v":6.4844954599965741},{"$f":"('2014'!O7/'2014 Rate'!$AA7)*1000","v":4.8398149734452636},{"$f":"('2014'!P7/'2014 Rate'!$AA7)*1000","v":0.23128319342127807},{"$f":"('2014'!Q7/'2014 Rate'!$AA7)*1000","v":2.9124550282679458},{"$f":"('2014'!R7/'2014 Rate'!$AA7)*1000","v":2.6811718348466678},null,{"$f":"('2014'!T7/'2014 Rate'!$AA7)*1000","v":10.450573924961452},{"$f":"('2014'!U7/'2014 Rate'!$AA7)*1000","v":1.1564159671063903},{"$f":"('2014'!V7/'2014 Rate'!$AA7)*1000","v":3.075209868082919},{"$f":"('2014'!W7/'2014 Rate'!$AA7)*1000","v":3.6919650505396606},{"$f":"('2014'!X7/'2014 Rate'!$AA7)*1000","v":42.83022100394038},null,"Angus",{"$f":"'Population estimates'!L7","v":116740}]
[6,"Argyll & Bute",null,{"$f":"('2014'!D8/'2014 Rate'!$AA8)*1000","v":-3.1374786081003996},{"$f":"('2014'!E8/'2014 Rate'!$AA8)*1000","v":0.62749572162007983},{"$f":"('2014'!F8/'2014 Rate'!$AA8)*1000","v":-3.069024529378209},{"$f":"('2014'!G8/'2014 Rate'!$AA8)*1000","v":-0.69594980034227039},{"$f":"('2014'!H8/'2014 Rate'!$AA8)*1000","v":43.183114660581865},{"$f":"('2014'!I8/'2014 Rate'!$AA8)*1000","v":46.320593268682259},{"$f":"('2014'!J8/'2014 Rate'!$AA8)*1000","v":-5.0656018254420996},{"$f":"('2014'!K8/'2014 Rate'!$AA8)*1000","v":24.700513405590417},{"$f":"('2014'!L8/'2014 Rate'!$AA8)*1000","v":29.766115231032515},{"$f":"('2014'!M8/'2014 Rate'!$AA8)*1000","v":4.5978322875071305},{"$f":"('2014'!N8/'2014 Rate'!$AA8)*1000","v":15.755847119224185},{"$f":"('2014'!O8/'2014 Rate'!$AA8)*1000","v":11.158014831717058},{"$f":"('2014'!P8/'2014 Rate'!$AA8)*1000","v":-2.6697090701654309},{"$f":"('2014'!Q8/'2014 Rate'!$AA8)*1000","v":2.7267541357672562},{"$f":"('2014'!R8/'2014 Rate'!$AA8)*1000","v":5.3964632059326867},null,{"$f":"('2014'!T8/'2014 Rate'!$AA8)*1000","v":5.2481460353679408},{"$f":"('2014'!U8/'2014 Rate'!$AA8)*1000","v":0.9241300627495721},{"$f":"('2014'!V8/'2014 Rate'!$AA8)*1000","v":2.6583000570450652},{"$f":"('2014'!W8/'2014 Rate'!$AA8)*1000","v":1.8710781517398745},{"$f":"('2014'!X8/'2014 Rate'!$AA8)*1000","v":45.636052481460354},null,"Argyll & Bute",{"$f":"'Population estimates'!L8","v":87650}]
[7,"Clackmannanshire",null,{"$f":"('2014'!D9/'2014 Rate'!$AA9)*1000","v":-1.601875366282477},{"$f":"('2014'!E9/'2014 Rate'!$AA9)*1000","v":-0.46884157061926157},{"$f":"('2014'!F9/'2014 Rate'!$AA9)*1000","v":-1.4260597773002541},{"$f":"('2014'!G9/'2014 Rate'!$AA9)*1000","v":0.29302598163703852},{"$f":"('2014'!H9/'2014 Rate'!$AA9)*1000","v":33.854268411799175},{"$f":"('2014'!I9/'2014 Rate'!$AA9)*1000","v":35.45614377808166},{"$f":"('2014'!J9/'2014 Rate'!$AA9)*1000","v":-1.1134987302207462},{"$f":"('2014'!K9/'2014 Rate'!$AA9)*1000","v":24.96581363547568},{"$f":"('2014'!L9/'2014 Rate'!$AA9)*1000","v":26.079312365696424},{"$f":"('2014'!M9/'2014 Rate'!$AA9)*1000","v":1.9535065442469232E-2},{"$f":"('2014'!N9/'2014 Rate'!$AA9)*1000","v":6.3879663996874383},{"$f":"('2014'!O9/'2014 Rate'!$AA9)*1000","v":6.3684313342449697},{"$f":"('2014'!P9/'2014 Rate'!$AA9)*1000","v":-0.50791170150419995},{"$f":"('2014'!Q9/'2014 Rate'!$AA9)*1000","v":2.5004883766360617},{"$f":"('2014'!R9/'2014 Rate'!$AA9)*1000","v":3.0084000781402618},null,{"$f":"('2014'!T9/'2014 Rate'!$AA9)*1000","v":1.7581558898222309},{"$f":"('2014'!U9/'2014 Rate'!$AA9)*1000","v":0.95721820668099233},{"$f":"('2014'!V9/'2014 Rate'!$AA9)*1000","v":4.1414338738034777},{"$f":"('2014'!W9/'2014 Rate'!$AA9)*1000","v":3.0474702090252004},{"$f":"('2014'!X9/'2014 Rate'!$AA9)*1000","v":58.605196327407697},null,"Clackmannanshire",{"$f":"'Population estimates'!L9","v":51190}]
[8,"Dumfries & Galloway",null,{"$f":"('2014'!D10/'2014 Rate'!$AA10)*1000","v":2.2272606028274207},{"$f":"('2014'!E10/'2014 Rate'!$AA10)*1000","v":1.1269671912510002},{"$f":"('2014'!F10/'2014 Rate'!$AA10)*1000","v":0.70018671645772201},{"$f":"('2014'!G10/'2014 Rate'!$AA10)*1000","v":0.40010669511869834},{"$f":"('2014'!H10/'2014 Rate'!$AA10)*1000","v":26.987196585756202},{"$f":"('2014'!I10/'2014 Rate'!$AA10)*1000","v":24.759935982928781},{"$f":"('2014'!J10/'2014 Rate'!$AA10)*1000","v":-0.7335289410509469},{"$f":"('2014'!K10/'2014 Rate'!$AA10)*1000","v":11.503067484662576},{"$f":"('2014'!L10/'2014 Rate'!$AA10)*1000","v":12.236596425713524},{"$f":"('2014'!M10/'2014 Rate'!$AA10)*1000","v":4.7412643371565757},{"$f":"('2014'!N10/'2014 Rate'!$AA10)*1000","v":14.07041877834089},{"$f":"('2014'!O10/'2014 Rate'!$AA10)*1000","v":9.3291544411843166},{"$f":"('2014'!P10/'2014 Rate'!$AA10)*1000","v":-1.7804747932782075},{"$f":"('2014'!Q10/'2014 Rate'!$AA10)*1000","v":1.4137103227527341},{"$f":"('2014'!R10/'2014 Rate'!$AA10)*1000","v":3.1941851160309418},null,{"$f":"('2014'!T10/'2014 Rate'!$AA10)*1000","v":2.0672179247799414},{"$f":"('2014'!U10/'2014 Rate'!$AA10)*1000","v":0.60682848759669239},{"$f":"('2014'!V10/'2014 Rate'!$AA10)*1000","v":2.7207255268071484},{"$f":"('2014'!W10/'2014 Rate'!$AA10)*1000","v":2.2072552680714854},{"$f":"('2014'!X10/'2014 Rate'!$AA10)*1000","v":33.342224593224863},null,"Dumfries & Galloway",{"$f":"'Population estimates'!L10","v":149960}]
[9,"Dundee City",null,{"$f":"('2014'!D11/'2014 Rate'!$AA11)*1000","v":-8.1009923715655158E-2},{"$f":"('2014'!E11/'2014 Rate'!$AA11)*1000","v":-0.53331533112806317},{"$f":"('2014'!F11/'2014 Rate'!$AA11)*1000","v":1.039627354350908},{"$f":"('2014'!G11/'2014 Rate'!$AA11)*1000","v":-0.58732194693849993},{"$f":"('2014'!H11/'2014 Rate'!$AA11)*1000","v":46.290420576520624},{"$f":"('2014'!I11/'2014 Rate'!$AA11)*1000","v":46.371430500236279},{"$f":"('2014'!J11/'2014 Rate'!$AA11)*1000","v":-2.0792547087018161},{"$f":"('2014'!K11/'2014 Rate'!$AA11)*1000","v":28.346722473503007},{"$f":"('2014'!L11/'2014 Rate'!$AA11)*1000","v":30.425977182204822},{"$f":"('2014'!M11/'2014 Rate'!$AA11)*1000","v":0.27678390602848846},{"$f":"('2014'!N11/'2014 Rate'!$AA11)*1000","v":9.329642881252953},{"$f":"('2014'!O11/'2014 Rate'!$AA11)*1000","v":9.0528589752244653},{"$f":"('2014'!P11/'2014 Rate'!$AA11)*1000","v":1.7214608789576722},{"$f":"('2014'!Q11/'2014 Rate'!$AA11)*1000","v":8.6140552217646658},{"$f":"('2014'!R11/'2014 Rate'!$AA11)*1000","v":6.8925943428069942},null,{"$f":"('2014'!T11/'2014 Rate'!$AA11)*1000","v":8.3710254506177009},{"$f":"('2014'!U11/'2014 Rate'!$AA11)*1000","v":2.0927563626544252},{"$f":"('2014'!V11/'2014 Rate'!$AA11)*1000","v":10.342266927698644},{"$f":"('2014'!W11/'2014 Rate'!$AA11)*1000","v":7.3989063660298386},{"$f":"('2014'!X11/'2014 Rate'!$AA11)*1000","v":121.51488557348274},null,"Dundee City",{"$f":"'Population estimates'!L11","v":148130}]
[10,"East Ayrshire",null,{"$f":"('2014'!D12/'2014 Rate'!$AA12)*1000","v":-0.73691967575534267},{"$f":"('2014'!E12/'2014 Rate'!$AA12)*1000","v":0.13100794235650537},{"$f":"('2014'!F12/'2014 Rate'!$AA12)*1000","v":-0.62228772619340045},{"$f":"('2014'!G12/'2014 Rate'!$AA12)*1000","v":-0.24563989191844754},{"$f":"('2014'!H12/'2014 Rate'!$AA12)*1000","v":26.602800294767871},{"$f":"('2014'!I12/'2014 Rate'!$AA12)*1000","v":27.339719970523213},{"$f":"('2014'!J12/'2014 Rate'!$AA12)*1000","v":0.35208384508310814},{"$f":"('2014'!K12/'2014 Rate'!$AA12)*1000","v":20.355359043642022},{"$f":"('2014'!L12/'2014 Rate'!$AA12)*1000","v":20.003275198558914},{"$f":"('2014'!M12/'2014 Rate'!$AA12)*1000","v":0.33570785228854499},{"$f":"('2014'!N12/'2014 Rate'!$AA12)*1000","v":5.4777695897813805},{"$f":"('2014'!O12/'2014 Rate'!$AA12)*1000","v":5.1420617374928357},{"$f":"('2014'!P12/'2014 Rate'!$AA12)*1000","v":-1.4247113731269958},{"$f":"('2014'!Q12/'2014 Rate'!$AA12)*1000","v":0.76967166134446896},{"$f":"('2014'!R12/'2014 Rate'!$AA12)*1000","v":2.194383034471465},null,{"$f":"('2014'!T12/'2014 Rate'!$AA12)*1000","v":0.73691967575534267},{"$f":"('2014'!U12/'2014 Rate'!$AA12)*1000","v":0.36027184148038977},{"$f":"('2014'!V12/'2014 Rate'!$AA12)*1000","v":2.9640546958159337},{"$f":"('2014'!W12/'2014 Rate'!$AA12)*1000","v":1.2937034307704904},{"$f":"('2014'!X12/'2014 Rate'!$AA12)*1000","v":24.563989191844758},null,"East Ayrshire",{"$f":"'Population estimates'!L12","v":122130}]
[11,"East Dunbartonshire",null,{"$f":"('2014'!D13/'2014 Rate'!$AA13)*1000","v":8.5184143941523764},{"$f":"('2014'!E13/'2014 Rate'!$AA13)*1000","v":4.6481117046199989},{"$f":"('2014'!F13/'2014 Rate'!$AA13)*1000","v":3.1768344110205229},{"$f":"('2014'!G13/'2014 Rate'!$AA13)*1000","v":0.69346827851185455},{"$f":"('2014'!H13/'2014 Rate'!$AA13)*1000","v":37.925217880236154},{"$f":"('2014'!I13/'2014 Rate'!$AA13)*1000","v":29.406803486083781},{"$f":"('2014'!J13/'2014 Rate'!$AA13)*1000","v":9.9615781088932636},{"$f":"('2014'!K13/'2014 Rate'!$AA13)*1000","v":32.705463405491521},{"$f":"('2014'!L13/'2014 Rate'!$AA13)*1000","v":22.743885296598258},{"$f":"('2014'!M13/'2014 Rate'!$AA13)*1000","v":-0.4310748758316934},{"$f":"('2014'!N13/'2014 Rate'!$AA13)*1000","v":4.2638927935526194},{"$f":"('2014'!O13/'2014 Rate'!$AA13)*1000","v":4.6949676693843125},{"$f":"('2014'!P13/'2014 Rate'!$AA13)*1000","v":-1.0120888389091931},{"$f":"('2014'!Q13/'2014 Rate'!$AA13)*1000","v":0.95586168119201576},{"$f":"('2014'!R13/'2014 Rate'!$AA13)*1000","v":1.9679505201012091},null,{"$f":"('2014'!T13/'2014 Rate'!$AA13)*1000","v":1.030831224814919},{"$f":"('2014'!U13/'2014 Rate'!$AA13)*1000","v":0.81529378689907228},{"$f":"('2014'!V13/'2014 Rate'!$AA13)*1000","v":11.629650454502858},{"$f":"('2014'!W13/'2014 Rate'!$AA13)*1000","v":3.7484771811451596},{"$f":"('2014'!X13/'2014 Rate'!$AA13)*1000","v":56.227157717177391},null,"East Dunbartonshire",{"$f":"'Population estimates'!L13","v":106710}]
[12,"East Lothian",null,{"$f":"('2014'!D14/'2014 Rate'!$AA14)*1000","v":6.9742384170829661},{"$f":"('2014'!E14/'2014 Rate'!$AA14)*1000","v":2.4390243902439024},{"$f":"('2014'!F14/'2014 Rate'!$AA14)*1000","v":3.6634342247036931},{"$f":"('2014'!G14/'2014 Rate'!$AA14)*1000","v":0.87177980213537076},{"$f":"('2014'!H14/'2014 Rate'!$AA14)*1000","v":40.503477323929864},{"$f":"('2014'!I14/'2014 Rate'!$AA14)*1000","v":33.529238906846899},{"$f":"('2014'!J14/'2014 Rate'!$AA14)*1000","v":5.4755607797041819},{"$f":"('2014'!K14/'2014 Rate'!$AA14)*1000","v":29.944166911548631},{"$f":"('2014'!L14/'2014 Rate'!$AA14)*1000","v":24.468606131844453},{"$f":"('2014'!M14/'2014 Rate'!$AA14)*1000","v":1.1950239984327555},{"$f":"('2014'!N14/'2014 Rate'!$AA14)*1000","v":7.2191203839749241},{"$f":"('2014'!O14/'2014 Rate'!$AA14)*1000","v":6.024096385542169},{"$f":"('2014'!P14/'2014 Rate'!$AA14)*1000","v":0.30365363894602798},{"$f":"('2014'!Q14/'2014 Rate'!$AA14)*1000","v":3.3401900284063077},{"$f":"('2014'!R14/'2014 Rate'!$AA14)*1000","v":3.0365363894602804},null,{"$f":"('2014'!T14/'2014 Rate'!$AA14)*1000","v":4.407875404055245},{"$f":"('2014'!U14/'2014 Rate'!$AA14)*1000","v":1.2342051131354685},{"$f":"('2014'!V14/'2014 Rate'!$AA14)*1000","v":3.6732295033793712},{"$f":"('2014'!W14/'2014 Rate'!$AA14)*1000","v":2.5761582917033992},{"$f":"('2014'!X14/'2014 Rate'!$AA14)*1000","v":48.97639337839162},null,"East Lothian",{"$f":"'Population estimates'!L14","v":102090}]
[13,"East Renfrewshire",null,{"$f":"('2014'!D15/'2014 Rate'!$AA15)*1000","v":9.6309923168488272},{"$f":"('2014'!E15/'2014 Rate'!$AA15)*1000","v":6.87155069797641},{"$f":"('2014'!F15/'2014 Rate'!$AA15)*1000","v":2.4889081268261011},{"$f":"('2014'!G15/'2014 Rate'!$AA15)*1000","v":0.27053349204631538},{"$f":"('2014'!H15/'2014 Rate'!$AA15)*1000","v":41.369981603722543},{"$f":"('2014'!I15/'2014 Rate'!$AA15)*1000","v":31.738989286873714},{"$f":"('2014'!J15/'2014 Rate'!$AA15)*1000","v":10.150416621577751},{"$f":"('2014'!K15/'2014 Rate'!$AA15)*1000","v":35.613028892976949},{"$f":"('2014'!L15/'2014 Rate'!$AA15)*1000","v":25.462612271399202},{"$f":"('2014'!M15/'2014 Rate'!$AA15)*1000","v":5.410669840926307E-2},{"$f":"('2014'!N15/'2014 Rate'!$AA15)*1000","v":4.4042852505140138},{"$f":"('2014'!O15/'2014 Rate'!$AA15)*1000","v":4.3501785521047509},{"$f":"('2014'!P15/'2014 Rate'!$AA15)*1000","v":-0.57353100313818861},{"$f":"('2014'!Q15/'2014 Rate'!$AA15)*1000","v":1.3526674602315767},{"$f":"('2014'!R15/'2014 Rate'!$AA15)*1000","v":1.9261984633697651},null,{"$f":"('2014'!T15/'2014 Rate'!$AA15)*1000","v":1.2985607618223136},{"$f":"('2014'!U15/'2014 Rate'!$AA15)*1000","v":0.84406449518450377},{"$f":"('2014'!V15/'2014 Rate'!$AA15)*1000","v":28.3627313061357},{"$f":"('2014'!W15/'2014 Rate'!$AA15)*1000","v":8.9925332756195218},{"$f":"('2014'!X15/'2014 Rate'!$AA15)*1000","v":43.285358727410454},null,"East Renfrewshire",{"$f":"'Population estimates'!L15","v":92410}]
[14,"Edinburgh, City of",null,{"$f":"('2014'!D16/'2014 Rate'!$AA16)*1000","v":6.6908913745153367},{"$f":"('2014'!E16/'2014 Rate'!$AA16)*1000","v":-0.73892125616613558},{"$f":"('2014'!F16/'2014 Rate'!$AA16)*1000","v":7.3506424960922434},{"$f":"('2014'!G16/'2014 Rate'!$AA16)*1000","v":7.9170134589228808E-2},{"$f":"('2014'!H16/'2014 Rate'!$AA16)*1000","v":59.761271594161713},{"$f":"('2014'!I16/'2014 Rate'!$AA16)*1000","v":53.070380219646374},{"$f":"('2014'!J16/'2014 Rate'!$AA16)*1000","v":-3.4733359046710377},{"$f":"('2014'!K16/'2014 Rate'!$AA16)*1000","v":23.412029800450661},{"$f":"('2014'!L16/'2014 Rate'!$AA16)*1000","v":26.8853657051217},{"$f":"('2014'!M16/'2014 Rate'!$AA16)*1000","v":3.5179959805931671},{"$f":"('2014'!N16/'2014 Rate'!$AA16)*1000","v":19.171352591299403},{"$f":"('2014'!O16/'2014 Rate'!$AA16)*1000","v":15.65335661070624},{"$f":"('2014'!P16/'2014 Rate'!$AA16)*1000","v":6.6462312985932073},{"$f":"('2014'!Q16/'2014 Rate'!$AA16)*1000","v":17.177889202411645},{"$f":"('2014'!R16/'2014 Rate'!$AA16)*1000","v":10.531657903818436},null,{"$f":"('2014'!T16/'2014 Rate'!$AA16)*1000","v":23.02023913440653},{"$f":"('2014'!U16/'2014 Rate'!$AA16)*1000","v":3.8164064878910291},{"$f":"('2014'!V16/'2014 Rate'!$AA16)*1000","v":13.272162562676355},{"$f":"('2014'!W16/'2014 Rate'!$AA16)*1000","v":10.610828038407664},{"$f":"('2014'!X16/'2014 Rate'!$AA16)*1000","v":131.95022431538135},null,"Edinburgh, City of",{"$f":"'Population estimates'!L16","v":492610}]
[15,"Eilean Siar",null,{"$f":"('2014'!D17/'2014 Rate'!$AA17)*1000","v":-3.2293577981651378},{"$f":"('2014'!E17/'2014 Rate'!$AA17)*1000","v":0},{"$f":"('2014'!F17/'2014 Rate'!$AA17)*1000","v":-3.3027522935779818},{"$f":"('2014'!G17/'2014 Rate'!$AA17)*1000","v":7.3394495412844027E-2},{"$f":"('2014'!H17/'2014 Rate'!$AA17)*1000","v":30.018348623853214},{"$f":"('2014'!I17/'2014 Rate'!$AA17)*1000","v":33.247706422018346},{"$f":"('2014'!J17/'2014 Rate'!$AA17)*1000","v":-2.2018348623853212},{"$f":"('2014'!K17/'2014 Rate'!$AA17)*1000","v":20.440366972477065},{"$f":"('2014'!L17/'2014 Rate'!$AA17)*1000","v":22.642201834862384},{"$f":"('2014'!M17/'2014 Rate'!$AA17)*1000","v":0.73394495412844041},{"$f":"('2014'!N17/'2014 Rate'!$AA17)*1000","v":8.4036697247706424},{"$f":"('2014'!O17/'2014 Rate'!$AA17)*1000","v":7.669724770642202},{"$f":"('2014'!P17/'2014 Rate'!$AA17)*1000","v":-1.761467889908257},{"$f":"('2014'!Q17/'2014 Rate'!$AA17)*1000","v":1.1743119266055044},{"$f":"('2014'!R17/'2014 Rate'!$AA17)*1000","v":2.9357798165137616},null,{"$f":"('2014'!T17/'2014 Rate'!$AA17)*1000","v":2.2018348623853212},{"$f":"('2014'!U17/'2014 Rate'!$AA17)*1000","v":0.62385321100917424},{"$f":"('2014'!V17/'2014 Rate'!$AA17)*1000","v":2.2752293577981648},{"$f":"('2014'!W17/'2014 Rate'!$AA17)*1000","v":1.9816513761467891},{"$f":"('2014'!X17/'2014 Rate'!$AA17)*1000","v":36.697247706422019},null,"Eilean Siar",{"$f":"'Population estimates'!L17","v":27250}]
[16,"Falkirk",null,{"$f":"('2014'!D18/'2014 Rate'!$AA18)*1000","v":2.6317458304267869},{"$f":"('2014'!E18/'2014 Rate'!$AA18)*1000","v":0.52000760986746153},{"$f":"('2014'!F18/'2014 Rate'!$AA18)*1000","v":2.0166148772908872},{"$f":"('2014'!G18/'2014 Rate'!$AA18)*1000","v":9.5123343268438076E-2},{"$f":"('2014'!H18/'2014 Rate'!$AA18)*1000","v":26.463314097279472},{"$f":"('2014'!I18/'2014 Rate'!$AA18)*1000","v":23.831568266852688},{"$f":"('2014'!J18/'2014 Rate'!$AA18)*1000","v":1.09074766947809},{"$f":"('2014'!K18/'2014 Rate'!$AA18)*1000","v":19.373454245671887},{"$f":"('2014'!L18/'2014 Rate'!$AA18)*1000","v":18.282706576193796},{"$f":"('2014'!M18/'2014 Rate'!$AA18)*1000","v":1.4458748176802587},{"$f":"('2014'!N18/'2014 Rate'!$AA18)*1000","v":5.0161709683556346},{"$f":"('2014'!O18/'2014 Rate'!$AA18)*1000","v":3.5702961506753756},{"$f":"('2014'!P18/'2014 Rate'!$AA18)*1000","v":9.5123343268438076E-2},{"$f":"('2014'!Q18/'2014 Rate'!$AA18)*1000","v":2.07368888325195},{"$f":"('2014'!R18/'2014 Rate'!$AA18)*1000","v":1.9785655399835123},null,{"$f":"('2014'!T18/'2014 Rate'!$AA18)*1000","v":2.6000380493373076},{"$f":"('2014'!U18/'2014 Rate'!$AA18)*1000","v":1.0400152197349231},{"$f":"('2014'!V18/'2014 Rate'!$AA18)*1000","v":4.5912867017566112},{"$f":"('2014'!W18/'2014 Rate'!$AA18)*1000","v":3.6844441625975013},{"$f":"('2014'!X18/'2014 Rate'!$AA18)*1000","v":44.390893525271096},null,"Falkirk",{"$f":"'Population estimates'!L18","v":157690}]
[17,"Fife",null,{"$f":"('2014'!D19/'2014 Rate'!$AA19)*1000","v":1.7699115044247788},{"$f":"('2014'!E19/'2014 Rate'!$AA19)*1000","v":0.27501701837985021},{"$f":"('2014'!F19/'2014 Rate'!$AA19)*1000","v":0.98842750170183791},{"$f":"('2014'!G19/'2014 Rate'!$AA19)*1000","v":0.50646698434309056},{"$f":"('2014'!H19/'2014 Rate'!$AA19)*1000","v":29.66371681415929},{"$f":"('2014'!I19/'2014 Rate'!$AA19)*1000","v":27.893805309734514},{"$f":"('2014'!J19/'2014 Rate'!$AA19)*1000","v":-0.23961878829135466},{"$f":"('2014'!K19/'2014 Rate'!$AA19)*1000","v":16.435670524166099},{"$f":"('2014'!L19/'2014 Rate'!$AA19)*1000","v":16.675289312457455},{"$f":"('2014'!M19/'2014 Rate'!$AA19)*1000","v":1.7127297481279782},{"$f":"('2014'!N19/'2014 Rate'!$AA19)*1000","v":8.7923757658270922},{"$f":"('2014'!O19/'2014 Rate'!$AA19)*1000","v":7.0796460176991154},{"$f":"('2014'!P19/'2014 Rate'!$AA19)*1000","v":0.29680054458815525},{"$f":"('2014'!Q19/'2014 Rate'!$AA19)*1000","v":4.4356705241660999},{"$f":"('2014'!R19/'2014 Rate'!$AA19)*1000","v":4.1388699795779438},null,{"$f":"('2014'!T19/'2014 Rate'!$AA19)*1000","v":6.6712049012933967},{"$f":"('2014'!U19/'2014 Rate'!$AA19)*1000","v":1.1109598366235536},{"$f":"('2014'!V19/'2014 Rate'!$AA19)*1000","v":4.269571136827774},{"$f":"('2014'!W19/'2014 Rate'!$AA19)*1000","v":2.7338325391422735},{"$f":"('2014'!X19/'2014 Rate'!$AA19)*1000","v":49.012933968686184},null,"Fife",{"$f":"'Population estimates'!L19","v":367250}]
[18,"Glasgow City",null,{"$f":"('2014'!D20/'2014 Rate'!$AA20)*1000","v":3.4137148956040293},{"$f":"('2014'!E20/'2014 Rate'!$AA20)*1000","v":-1.6693349342939099},{"$f":"('2014'!F20/'2014 Rate'!$AA20)*1000","v":5.5083049829897943},{"$f":"('2014'!G20/'2014 Rate'!$AA20)*1000","v":-0.42525515309185508},{"$f":"('2014'!H20/'2014 Rate'!$AA20)*1000","v":50.550330198118871},{"$f":"('2014'!I20/'2014 Rate'!$AA20)*1000","v":47.136615302514841},{"$f":"('2014'!J20/'2014 Rate'!$AA20)*1000","v":-4.471015942899073},{"$f":"('2014'!K20/'2014 Rate'!$AA20)*1000","v":24.981655660062703},{"$f":"('2014'!L20/'2014 Rate'!$AA20)*1000","v":29.452671602961779},{"$f":"('2014'!M20/'2014 Rate'!$AA20)*1000","v":1.220732439463678},{"$f":"('2014'!N20/'2014 Rate'!$AA20)*1000","v":10.731438863317992},{"$f":"('2014'!O20/'2014 Rate'!$AA20)*1000","v":9.5107064238543124},{"$f":"('2014'!P20/'2014 Rate'!$AA20)*1000","v":6.663998399039424},{"$f":"('2014'!Q20/'2014 Rate'!$AA20)*1000","v":14.837235674738176},{"$f":"('2014'!R20/'2014 Rate'!$AA20)*1000","v":8.1732372756987512},null,{"$f":"('2014'!T20/'2014 Rate'!$AA20)*1000","v":14.008405043025816},{"$f":"('2014'!U20/'2014 Rate'!$AA20)*1000","v":3.3970382229337601},{"$f":"('2014'!V20/'2014 Rate'!$AA20)*1000","v":20.932559535721431},{"$f":"('2014'!W20/'2014 Rate'!$AA20)*1000","v":18.661196718030816},{"$f":"('2014'!X20/'2014 Rate'!$AA20)*1000","v":133.4133813621506},null,"Glasgow City",{"$f":"'Population estimates'!L20","v":599640}]
[19,"Highland",null,{"$f":"('2014'!D21/'2014 Rate'!$AA21)*1000","v":1.0253990046336023},{"$f":"('2014'!E21/'2014 Rate'!$AA21)*1000","v":0.47623133688004121},{"$f":"('2014'!F21/'2014 Rate'!$AA21)*1000","v":0.73794405354384751},{"$f":"('2014'!G21/'2014 Rate'!$AA21)*1000","v":-0.1887763857902866},{"$f":"('2014'!H21/'2014 Rate'!$AA21)*1000","v":31.075167324523768},{"$f":"('2014'!I21/'2014 Rate'!$AA21)*1000","v":30.049768319890166},{"$f":"('2014'!J21/'2014 Rate'!$AA21)*1000","v":-1.759052685773125},{"$f":"('2014'!K21/'2014 Rate'!$AA21)*1000","v":17.410331216749611},{"$f":"('2014'!L21/'2014 Rate'!$AA21)*1000","v":19.169383902522739},{"$f":"('2014'!M21/'2014 Rate'!$AA21)*1000","v":3.1620044619873005},{"$f":"('2014'!N21/'2014 Rate'!$AA21)*1000","v":10.580058349064698},{"$f":"('2014'!O21/'2014 Rate'!$AA21)*1000","v":7.4180538870773987},{"$f":"('2014'!P21/'2014 Rate'!$AA21)*1000","v":-0.37755277158057321},{"$f":"('2014'!Q21/'2014 Rate'!$AA21)*1000","v":3.084777758709456},{"$f":"('2014'!R21/'2014 Rate'!$AA21)*1000","v":3.4623305302900294},null,{"$f":"('2014'!T21/'2014 Rate'!$AA21)*1000","v":6.8645958469195119},{"$f":"('2014'!U21/'2014 Rate'!$AA21)*1000","v":1.4458555002574223},{"$f":"('2014'!V21/'2014 Rate'!$AA21)*1000","v":3.1662948343916253},{"$f":"('2014'!W21/'2014 Rate'!$AA21)*1000","v":4.1874034666209026},{"$f":"('2014'!X21/'2014 Rate'!$AA21)*1000","v":64.355586064870437},null,"Highland",{"$f":"'Population estimates'!L21","v":233080}]
[20,"Inverclyde",null,{"$f":"('2014'!D22/'2014 Rate'!$AA22)*1000","v":-3.3796470146451369},{"$f":"('2014'!E22/'2014 Rate'!$AA22)*1000","v":-3.7551633496057078E-2},{"$f":"('2014'!F22/'2014 Rate'!$AA22)*1000","v":-2.9540618350231571},{"$f":"('2014'!G22/'2014 Rate'!$AA22)*1000","v":-0.38803354612592317},{"$f":"('2014'!H22/'2014 Rate'!$AA22)*1000","v":17.223682563524847},{"$f":"('2014'!I22/'2014 Rate'!$AA22)*1000","v":20.603329578169983},{"$f":"('2014'!J22/'2014 Rate'!$AA22)*1000","v":-3.5924396044561271},{"$f":"('2014'!K22/'2014 Rate'!$AA22)*1000","v":11.753661284265867},{"$f":"('2014'!L22/'2014 Rate'!$AA22)*1000","v":15.346100888721994},{"$f":"('2014'!M22/'2014 Rate'!$AA22)*1000","v":1.0013768932281888},{"$f":"('2014'!N22/'2014 Rate'!$AA22)*1000","v":4.5938164976843163},{"$f":"('2014'!O22/'2014 Rate'!$AA22)*1000","v":3.5924396044561271},{"$f":"('2014'!P22/'2014 Rate'!$AA22)*1000","v":-0.78858430341719865},{"$f":"('2014'!Q22/'2014 Rate'!$AA22)*1000","v":0.87620478157466508},{"$f":"('2014'!R22/'2014 Rate'!$AA22)*1000","v":1.6647890849918638},null,{"$f":"('2014'!T22/'2014 Rate'!$AA22)*1000","v":1.1265490048817124},{"$f":"('2014'!U22/'2014 Rate'!$AA22)*1000","v":0.35048191262986605},{"$f":"('2014'!V22/'2014 Rate'!$AA22)*1000","v":2.365752910251596},{"$f":"('2014'!W22/'2014 Rate'!$AA22)*1000","v":0.55075729127550388},{"$f":"('2014'!X22/'2014 Rate'!$AA22)*1000","v":25.034422330704718},null,"Inverclyde",{"$f":"'Population estimates'!L22","v":79890}]
[21,"Midlothian",null,{"$f":"('2014'!D23/'2014 Rate'!$AA23)*1000","v":11.830201809324983},{"$f":"('2014'!E23/'2014 Rate'!$AA23)*1000","v":3.1895151936905592},{"$f":"('2014'!F23/'2014 Rate'!$AA23)*1000","v":8.7334725121781496},{"$f":"('2014'!G23/'2014 Rate'!$AA23)*1000","v":-9.2785896543725349E-2},{"$f":"('2014'!H23/'2014 Rate'!$AA23)*1000","v":40.906982138714916},{"$f":"('2014'!I23/'2014 Rate'!$AA23)*1000","v":29.076780329389933},{"$f":"('2014'!J23/'2014 Rate'!$AA23)*1000","v":10.983530503363488},{"$f":"('2014'!K23/'2014 Rate'!$AA23)*1000","v":33.240547436789605},{"$f":"('2014'!L23/'2014 Rate'!$AA23)*1000","v":22.257016933426119},{"$f":"('2014'!M23/'2014 Rate'!$AA23)*1000","v":1.3106007886801208},{"$f":"('2014'!N23/'2014 Rate'!$AA23)*1000","v":5.9382973787984223},{"$f":"('2014'!O23/'2014 Rate'!$AA23)*1000","v":4.627696590118302},{"$f":"('2014'!P23/'2014 Rate'!$AA23)*1000","v":-0.46392948271862677},{"$f":"('2014'!Q23/'2014 Rate'!$AA23)*1000","v":1.7281373231268846},{"$f":"('2014'!R23/'2014 Rate'!$AA23)*1000","v":2.1920668058455113},null,{"$f":"('2014'!T23/'2014 Rate'!$AA23)*1000","v":3.015541637671074},{"$f":"('2014'!U23/'2014 Rate'!$AA23)*1000","v":1.1482254697286012},{"$f":"('2014'!V23/'2014 Rate'!$AA23)*1000","v":4.7088842495940613},{"$f":"('2014'!W23/'2014 Rate'!$AA23)*1000","v":3.0851310600788682},{"$f":"('2014'!X23/'2014 Rate'!$AA23)*1000","v":46.392948271862672},null,"Midlothian",{"$f":"'Population estimates'!L23","v":86220}]
[22,"Moray",null,{"$f":"('2014'!D24/'2014 Rate'!$AA24)*1000","v":4.9277197425345571},{"$f":"('2014'!E24/'2014 Rate'!$AA24)*1000","v":1.7094017094017093},{"$f":"('2014'!F24/'2014 Rate'!$AA24)*1000","v":2.0892687559354228},{"$f":"('2014'!G24/'2014 Rate'!$AA24)*1000","v":1.1290492771974254},{"$f":"('2014'!H24/'2014 Rate'!$AA24)*1000","v":36.709929302521893},{"$f":"('2014'!I24/'2014 Rate'!$AA24)*1000","v":31.78220955998734},{"$f":"('2014'!J24/'2014 Rate'!$AA24)*1000","v":1.941542682283423},{"$f":"('2014'!K24/'2014 Rate'!$AA24)*1000","v":20.059090429460799},{"$f":"('2014'!L24/'2014 Rate'!$AA24)*1000","v":18.117547747177376},{"$f":"('2014'!M24/'2014 Rate'!$AA24)*1000","v":3.4293552812071328},{"$f":"('2014'!N24/'2014 Rate'!$AA24)*1000","v":13.675213675213675},{"$f":"('2014'!O24/'2014 Rate'!$AA24)*1000","v":10.245858394006543},{"$f":"('2014'!P24/'2014 Rate'!$AA24)*1000","v":-0.44317822095599874},{"$f":"('2014'!Q24/'2014 Rate'!$AA24)*1000","v":2.9756251978474202},{"$f":"('2014'!R24/'2014 Rate'!$AA24)*1000","v":3.4188034188034186},null,{"$f":"('2014'!T24/'2014 Rate'!$AA24)*1000","v":3.2710773451514195},{"$f":"('2014'!U24/'2014 Rate'!$AA24)*1000","v":1.1290492771974254},{"$f":"('2014'!V24/'2014 Rate'!$AA24)*1000","v":3.0705919594808484},{"$f":"('2014'!W24/'2014 Rate'!$AA24)*1000","v":4.0202595758151318},{"$f":"('2014'!X24/'2014 Rate'!$AA24)*1000","v":42.207449614857019},null,"Moray",{"$f":"'Population estimates'!L24","v":94770}]
[23,"North Ayrshire",null,{"$f":"('2014'!D25/'2014 Rate'!$AA25)*1000","v":-1.003810082063306},{"$f":"('2014'!E25/'2014 Rate'!$AA25)*1000","v":0.66676436107854631},{"$f":"('2014'!F25/'2014 Rate'!$AA25)*1000","v":-1.9856389214536929},{"$f":"('2014'!G25/'2014 Rate'!$AA25)*1000","v":0.31506447831184053},{"$f":"('2014'!H25/'2014 Rate'!$AA25)*1000","v":26.011137162954277},{"$f":"('2014'!I25/'2014 Rate'!$AA25)*1000","v":27.014947245017584},{"$f":"('2014'!J25/'2014 Rate'!$AA25)*1000","v":-1.5386869871043376},{"$f":"('2014'!K25/'2014 Rate'!$AA25)*1000","v":18.588804220398593},{"$f":"('2014'!L25/'2014 Rate'!$AA25)*1000","v":20.127491207502931},{"$f":"('2014'!M25/'2014 Rate'!$AA25)*1000","v":1.7658264947245017},{"$f":"('2014'!N25/'2014 Rate'!$AA25)*1000","v":6.425849941383353},{"$f":"('2014'!O25/'2014 Rate'!$AA25)*1000","v":4.6600234466588519},{"$f":"('2014'!P25/'2014 Rate'!$AA25)*1000","v":-1.2309495896834701},{"$f":"('2014'!Q25/'2014 Rate'!$AA25)*1000","v":0.99648300117233291},{"$f":"('2014'!R25/'2014 Rate'!$AA25)*1000","v":2.2274325908558033},null,{"$f":"('2014'!T25/'2014 Rate'!$AA25)*1000","v":0.95252051582649466},{"$f":"('2014'!U25/'2014 Rate'!$AA25)*1000","v":0.41031652989449002},{"$f":"('2014'!V25/'2014 Rate'!$AA25)*1000","v":2.3959554513481827},{"$f":"('2014'!W25/'2014 Rate'!$AA25)*1000","v":0.85726846424384529},{"$f":"('2014'!X25/'2014 Rate'!$AA25)*1000","v":21.981242672919109},null,"North Ayrshire",{"$f":"'Population estimates'!L25","v":136480}]
[24,"North Lanarkshire",null,{"$f":"('2014'!D26/'2014 Rate'!$AA26)*1000","v":-0.25443786982248517},{"$f":"('2014'!E26/'2014 Rate'!$AA26)*1000","v":0.23964497041420119},{"$f":"('2014'!F26/'2014 Rate'!$AA26)*1000","v":-0.40828402366863908},{"$f":"('2014'!G26/'2014 Rate'!$AA26)*1000","v":-8.5798816568047331E-2},{"$f":"('2014'!H26/'2014 Rate'!$AA26)*1000","v":20.473372781065088},{"$f":"('2014'!I26/'2014 Rate'!$AA26)*1000","v":20.727810650887573},{"$f":"('2014'!J26/'2014 Rate'!$AA26)*1000","v":-0.53550295857988173},{"$f":"('2014'!K26/'2014 Rate'!$AA26)*1000","v":15.337278106508876},{"$f":"('2014'!L26/'2014 Rate'!$AA26)*1000","v":15.872781065088756},{"$f":"('2014'!M26/'2014 Rate'!$AA26)*1000","v":0.76923076923076927},{"$f":"('2014'!N26/'2014 Rate'!$AA26)*1000","v":3.6863905325443787},{"$f":"('2014'!O26/'2014 Rate'!$AA26)*1000","v":2.9171597633136095},{"$f":"('2014'!P26/'2014 Rate'!$AA26)*1000","v":-0.48816568047337278},{"$f":"('2014'!Q26/'2014 Rate'!$AA26)*1000","v":1.4497041420118344},{"$f":"('2014'!R26/'2014 Rate'!$AA26)*1000","v":1.9378698224852071},null,{"$f":"('2014'!T26/'2014 Rate'!$AA26)*1000","v":2.3372781065088759},{"$f":"('2014'!U26/'2014 Rate'!$AA26)*1000","v":0.80769230769230771},{"$f":"('2014'!V26/'2014 Rate'!$AA26)*1000","v":5.3106508875739644},{"$f":"('2014'!W26/'2014 Rate'!$AA26)*1000","v":3.3165680473372778},{"$f":"('2014'!X26/'2014 Rate'!$AA26)*1000","v":32.544378698224854},null,"North Lanarkshire",{"$f":"'Population estimates'!L26","v":338000}]
[25,"Orkney Islands",null,{"$f":"('2014'!D27/'2014 Rate'!$AA27)*1000","v":3.1047265987025026},{"$f":"('2014'!E27/'2014 Rate'!$AA27)*1000","v":2.0389249304911954},{"$f":"('2014'!F27/'2014 Rate'!$AA27)*1000","v":0.64874884151992585},{"$f":"('2014'!G27/'2014 Rate'!$AA27)*1000","v":0.41705282669138088},{"$f":"('2014'!H27/'2014 Rate'!$AA27)*1000","v":34.61538461538462},{"$f":"('2014'!I27/'2014 Rate'!$AA27)*1000","v":31.510658016682111},{"$f":"('2014'!J27/'2014 Rate'!$AA27)*1000","v":-1.8999073215940685},{"$f":"('2014'!K27/'2014 Rate'!$AA27)*1000","v":17.516218721037998},{"$f":"('2014'!L27/'2014 Rate'!$AA27)*1000","v":19.416126042632065},{"$f":"('2014'!M27/'2014 Rate'!$AA27)*1000","v":5.7460611677479143},{"$f":"('2014'!N27/'2014 Rate'!$AA27)*1000","v":14.68952734012975},{"$f":"('2014'!O27/'2014 Rate'!$AA27)*1000","v":8.9434661723818358},{"$f":"('2014'!P27/'2014 Rate'!$AA27)*1000","v":-0.74142724745134381},{"$f":"('2014'!Q27/'2014 Rate'!$AA27)*1000","v":2.4096385542168677},{"$f":"('2014'!R27/'2014 Rate'!$AA27)*1000","v":3.1510658016682114},null,{"$f":"('2014'!T27/'2014 Rate'!$AA27)*1000","v":2.3169601482854492},{"$f":"('2014'!U27/'2014 Rate'!$AA27)*1000","v":0.50973123262279885},{"$f":"('2014'!V27/'2014 Rate'!$AA27)*1000","v":1.9462465245597775},{"$f":"('2014'!W27/'2014 Rate'!$AA27)*1000","v":0.64874884151992585},0,null,"Orkney Islands",{"$f":"'Population estimates'!L27","v":21580}]
[26,"Perth & Kinross",null,{"$f":"('2014'!D28/'2014 Rate'!$AA28)*1000","v":9.4473913919290951},{"$f":"('2014'!E28/'2014 Rate'!$AA28)*1000","v":2.8469750889679717},{"$f":"('2014'!F28/'2014 Rate'!$AA28)*1000","v":6.3452628751762568},{"$f":"('2014'!G28/'2014 Rate'!$AA28)*1000","v":0.25515342778486533},{"$f":"('2014'!H28/'2014 Rate'!$AA28)*1000","v":45.383737326260658},{"$f":"('2014'!I28/'2014 Rate'!$AA28)*1000","v":35.936345934331563},{"$f":"('2014'!J28/'2014 Rate'!$AA28)*1000","v":4.116027664003223},{"$f":"('2014'!K28/'2014 Rate'!$AA28)*1000","v":27.784865372994023},{"$f":"('2014'!L28/'2014 Rate'!$AA28)*1000","v":23.6688377089908},{"$f":"('2014'!M28/'2014 Rate'!$AA28)*1000","v":2.1956623917276574},{"$f":"('2014'!N28/'2014 Rate'!$AA28)*1000","v":9.2660981669240581},{"$f":"('2014'!O28/'2014 Rate'!$AA28)*1000","v":7.0704357751964011},{"$f":"('2014'!P28/'2014 Rate'!$AA28)*1000","v":3.1357013361982142},{"$f":"('2014'!Q28/'2014 Rate'!$AA28)*1000","v":8.3327737863425781},{"$f":"('2014'!R28/'2014 Rate'!$AA28)*1000","v":5.197072450144363},null,{"$f":"('2014'!T28/'2014 Rate'!$AA28)*1000","v":16.517827167125496},{"$f":"('2014'!U28/'2014 Rate'!$AA28)*1000","v":1.5644933861545691},{"$f":"('2014'!V28/'2014 Rate'!$AA28)*1000","v":3.8407305445511315},{"$f":"('2014'!W28/'2014 Rate'!$AA28)*1000","v":4.2301752501175045},{"$f":"('2014'!X28/'2014 Rate'!$AA28)*1000","v":73.86020277982945},null,"Perth & Kinross",{"$f":"'Population estimates'!L28","v":148930}]
[27,"Renfrewshire",null,{"$f":"('2014'!D29/'2014 Rate'!$AA29)*1000","v":2.1351087642771049},{"$f":"('2014'!E29/'2014 Rate'!$AA29)*1000","v":0.29845606382368134},{"$f":"('2014'!F29/'2014 Rate'!$AA29)*1000","v":1.457843080984905},{"$f":"('2014'!G29/'2014 Rate'!$AA29)*1000","v":0.3788096194685186},{"$f":"('2014'!H29/'2014 Rate'!$AA29)*1000","v":28.85840555587442},{"$f":"('2014'!I29/'2014 Rate'!$AA29)*1000","v":26.723296791597313},{"$f":"('2014'!J29/'2014 Rate'!$AA29)*1000","v":2.1867646214773573},{"$f":"('2014'!K29/'2014 Rate'!$AA29)*1000","v":22.355507088331517},{"$f":"('2014'!L29/'2014 Rate'!$AA29)*1000","v":20.168742466854159},{"$f":"('2014'!M29/'2014 Rate'!$AA29)*1000","v":-5.7395396889169488E-3},{"$f":"('2014'!N29/'2014 Rate'!$AA29)*1000","v":4.0291568616196987},{"$f":"('2014'!O29/'2014 Rate'!$AA29)*1000","v":4.0348964013086155},{"$f":"('2014'!P29/'2014 Rate'!$AA29)*1000","v":-4.591631751133559E-2},{"$f":"('2014'!Q29/'2014 Rate'!$AA29)*1000","v":2.4737416059232049},{"$f":"('2014'!R29/'2014 Rate'!$AA29)*1000","v":2.5196579234345404},null,{"$f":"('2014'!T29/'2014 Rate'!$AA29)*1000","v":3.8454915915743557},{"$f":"('2014'!U29/'2014 Rate'!$AA29)*1000","v":1.0675543821385525},{"$f":"('2014'!V29/'2014 Rate'!$AA29)*1000","v":5.1139298628250014},{"$f":"('2014'!W29/'2014 Rate'!$AA29)*1000","v":2.7549790506801353},{"$f":"('2014'!X29/'2014 Rate'!$AA29)*1000","v":63.134936578086439},null,"Renfrewshire",{"$f":"'Population estimates'!L29","v":174230}]
[28,"Scottish Borders",null,{"$f":"('2014'!D30/'2014 Rate'!$AA30)*1000","v":2.4552788495264819},{"$f":"('2014'!E30/'2014 Rate'!$AA30)*1000","v":1.5082427218519818},{"$f":"('2014'!F30/'2014 Rate'!$AA30)*1000","v":1.5170115748860049},{"$f":"('2014'!G30/'2014 Rate'!$AA30)*1000","v":-0.56997544721150473},{"$f":"('2014'!H30/'2014 Rate'!$AA30)*1000","v":36.794107330761136},{"$f":"('2014'!I30/'2014 Rate'!$AA30)*1000","v":34.33882848123465},{"$f":"('2014'!J30/'2014 Rate'!$AA30)*1000","v":0.58751315327955111},{"$f":"('2014'!K30/'2014 Rate'!$AA30)*1000","v":20.29989477376359},{"$f":"('2014'!L30/'2014 Rate'!$AA30)*1000","v":19.712381620484042},{"$f":"('2014'!M30/'2014 Rate'!$AA30)*1000","v":3.3847772711329358},{"$f":"('2014'!N30/'2014 Rate'!$AA30)*1000","v":14.012627148368994},{"$f":"('2014'!O30/'2014 Rate'!$AA30)*1000","v":10.627849877236057},{"$f":"('2014'!P30/'2014 Rate'!$AA30)*1000","v":-1.5170115748860049},{"$f":"('2014'!Q30/'2014 Rate'!$AA30)*1000","v":2.4815854086285514},{"$f":"('2014'!R30/'2014 Rate'!$AA30)*1000","v":3.9985969835145565},null,{"$f":"('2014'!T30/'2014 Rate'!$AA30)*1000","v":3.1567870922483339},{"$f":"('2014'!U30/'2014 Rate'!$AA30)*1000","v":1.061031217116801},{"$f":"('2014'!V30/'2014 Rate'!$AA30)*1000","v":2.8235706769554545},{"$f":"('2014'!W30/'2014 Rate'!$AA30)*1000","v":3.4549280954051214},{"$f":"('2014'!X30/'2014 Rate'!$AA30)*1000","v":52.6131182041389},null,"Scottish Borders",{"$f":"'Population estimates'!L30","v":114040}]
[29,"Shetland Islands",null,{"$f":"('2014'!D31/'2014 Rate'!$AA31)*1000","v":-0.2153316106804479},{"$f":"('2014'!E31/'2014 Rate'!$AA31)*1000","v":0.1722652885443583},{"$f":"('2014'!F31/'2014 Rate'!$AA31)*1000","v":-4.3066322136089574E-2},{"$f":"('2014'!G31/'2014 Rate'!$AA31)*1000","v":-0.34453057708871659},{"$f":"('2014'!H31/'2014 Rate'!$AA31)*1000","v":29.026701119724375},{"$f":"('2014'!I31/'2014 Rate'!$AA31)*1000","v":29.242032730404823},{"$f":"('2014'!J31/'2014 Rate'!$AA31)*1000","v":-1.2919896640826873},{"$f":"('2014'!K31/'2014 Rate'!$AA31)*1000","v":15.374677002583979},{"$f":"('2014'!L31/'2014 Rate'!$AA31)*1000","v":16.666666666666668},{"$f":"('2014'!M31/'2014 Rate'!$AA31)*1000","v":2.7562446167097328},{"$f":"('2014'!N31/'2014 Rate'!$AA31)*1000","v":11.455641688199828},{"$f":"('2014'!O31/'2014 Rate'!$AA31)*1000","v":8.699397071490095},{"$f":"('2014'!P31/'2014 Rate'!$AA31)*1000","v":-1.6795865633074936},{"$f":"('2014'!Q31/'2014 Rate'!$AA31)*1000","v":2.1963824289405687},{"$f":"('2014'!R31/'2014 Rate'!$AA31)*1000","v":3.8759689922480618},null,{"$f":"('2014'!T31/'2014 Rate'!$AA31)*1000","v":23.255813953488371},{"$f":"('2014'!U31/'2014 Rate'!$AA31)*1000","v":1.2058570198105081},{"$f":"('2014'!V31/'2014 Rate'!$AA31)*1000","v":3.789836347975883},{"$f":"('2014'!W31/'2014 Rate'!$AA31)*1000","v":2.1102497846683894},{"$f":"('2014'!X31/'2014 Rate'!$AA31)*1000","v":43.066322136089582},null,"Shetland Islands",{"$f":"'Population estimates'!L31","v":23220}]
[30,"South Ayrshire",null,{"$f":"('2014'!D32/'2014 Rate'!$AA32)*1000","v":0.91531147249622324},{"$f":"('2014'!E32/'2014 Rate'!$AA32)*1000","v":0.76424064693859417},{"$f":"('2014'!F32/'2014 Rate'!$AA32)*1000","v":-0.76424064693859417},{"$f":"('2014'!G32/'2014 Rate'!$AA32)*1000","v":0.91531147249622324},{"$f":"('2014'!H32/'2014 Rate'!$AA32)*1000","v":30.489647205189726},{"$f":"('2014'!I32/'2014 Rate'!$AA32)*1000","v":29.574335732693502},{"$f":"('2014'!J32/'2014 Rate'!$AA32)*1000","v":0.88865191504487695},{"$f":"('2014'!K32/'2014 Rate'!$AA32)*1000","v":22.011907935661601},{"$f":"('2014'!L32/'2014 Rate'!$AA32)*1000","v":21.123256020616722},{"$f":"('2014'!M32/'2014 Rate'!$AA32)*1000","v":1.5018217364258419},{"$f":"('2014'!N32/'2014 Rate'!$AA32)*1000","v":7.00257709055363},{"$f":"('2014'!O32/'2014 Rate'!$AA32)*1000","v":5.5007553541277883},{"$f":"('2014'!P32/'2014 Rate'!$AA32)*1000","v":-1.4751621789744958},{"$f":"('2014'!Q32/'2014 Rate'!$AA32)*1000","v":1.4751621789744958},{"$f":"('2014'!R32/'2014 Rate'!$AA32)*1000","v":2.9503243579489915},null,{"$f":"('2014'!T32/'2014 Rate'!$AA32)*1000","v":2.1327645961077044},{"$f":"('2014'!U32/'2014 Rate'!$AA32)*1000","v":0.52430462987647741},{"$f":"('2014'!V32/'2014 Rate'!$AA32)*1000","v":2.5504309961787968},{"$f":"('2014'!W32/'2014 Rate'!$AA32)*1000","v":1.5462543321780857},{"$f":"('2014'!X32/'2014 Rate'!$AA32)*1000","v":35.546076601795072},null,"South Ayrshire",{"$f":"'Population estimates'!L32","v":112530}]
[31,"South Lanarkshire",null,{"$f":"('2014'!D33/'2014 Rate'!$AA33)*1000","v":1.6206787186806217},{"$f":"('2014'!E33/'2014 Rate'!$AA33)*1000","v":0.46305106248017763},{"$f":"('2014'!F33/'2014 Rate'!$AA33)*1000","v":1.0085632730732634},{"$f":"('2014'!G33/'2014 Rate'!$AA33)*1000","v":0.14906438312718048},{"$f":"('2014'!H33/'2014 Rate'!$AA33)*1000","v":26.305106248017761},{"$f":"('2014'!I33/'2014 Rate'!$AA33)*1000","v":24.684427529337139},{"$f":"('2014'!J33/'2014 Rate'!$AA33)*1000","v":1.6999682841738029},{"$f":"('2014'!K33/'2014 Rate'!$AA33)*1000","v":20.333016175071361},{"$f":"('2014'!L33/'2014 Rate'!$AA33)*1000","v":18.633047890897558},{"$f":"('2014'!M33/'2014 Rate'!$AA33)*1000","v":1.1037107516650808},{"$f":"('2014'!N33/'2014 Rate'!$AA33)*1000","v":4.7954329210275928},{"$f":"('2014'!O33/'2014 Rate'!$AA33)*1000","v":3.691722169362512},{"$f":"('2014'!P33/'2014 Rate'!$AA33)*1000","v":-1.1830003171582619},{"$f":"('2014'!Q33/'2014 Rate'!$AA33)*1000","v":1.1766571519188074},{"$f":"('2014'!R33/'2014 Rate'!$AA33)*1000","v":2.3596574690770695},null,{"$f":"('2014'!T33/'2014 Rate'!$AA33)*1000","v":2.029812876625436},{"$f":"('2014'!U33/'2014 Rate'!$AA33)*1000","v":0.75800824611481121},{"$f":"('2014'!V33/'2014 Rate'!$AA33)*1000","v":5.0586742784649541},{"$f":"('2014'!W33/'2014 Rate'!$AA33)*1000","v":2.0932445290199806},{"$f":"('2014'!X33/'2014 Rate'!$AA33)*1000","v":28.544243577545195},null,"South Lanarkshire",{"$f":"'Population estimates'!L33","v":315300}]
[32,"Stirling",null,{"$f":"('2014'!D34/'2014 Rate'!$AA34)*1000","v":5.10270979020979},{"$f":"('2014'!E34/'2014 Rate'!$AA34)*1000","v":2.5131118881118879},{"$f":"('2014'!F34/'2014 Rate'!$AA34)*1000","v":2.567744755244755},{"$f":"('2014'!G34/'2014 Rate'!$AA34)*1000","v":2.1853146853146852E-2},{"$f":"('2014'!H34/'2014 Rate'!$AA34)*1000","v":56.0861013986014},{"$f":"('2014'!I34/'2014 Rate'!$AA34)*1000","v":50.983391608391614},{"$f":"('2014'!J34/'2014 Rate'!$AA34)*1000","v":0.66652097902097907},{"$f":"('2014'!K34/'2014 Rate'!$AA34)*1000","v":36.221590909090914},{"$f":"('2014'!L34/'2014 Rate'!$AA34)*1000","v":35.555069930069934},{"$f":"('2014'!M34/'2014 Rate'!$AA34)*1000","v":4.9169580419580416},{"$f":"('2014'!N34/'2014 Rate'!$AA34)*1000","v":13.155594405594405},{"$f":"('2014'!O34/'2014 Rate'!$AA34)*1000","v":8.2386363636363633},{"$f":"('2014'!P34/'2014 Rate'!$AA34)*1000","v":-0.48076923076923078},{"$f":"('2014'!Q34/'2014 Rate'!$AA34)*1000","v":6.7089160839160842},{"$f":"('2014'!R34/'2014 Rate'!$AA34)*1000","v":7.189685314685315},null,{"$f":"('2014'!T34/'2014 Rate'!$AA34)*1000","v":6.3374125874125866},{"$f":"('2014'!U34/'2014 Rate'!$AA34)*1000","v":1.1909965034965035},{"$f":"('2014'!V34/'2014 Rate'!$AA34)*1000","v":4.8404720279720275},{"$f":"('2014'!W34/'2014 Rate'!$AA34)*1000","v":2.8846153846153846},{"$f":"('2014'!X34/'2014 Rate'!$AA34)*1000","v":76.486013986013987},null,"Stirling",{"$f":"'Population estimates'!L34","v":91520}]
[33,"West Dunbartonshire",null,{"$f":"('2014'!D35/'2014 Rate'!$AA35)*1000","v":-1.0924088730353361},{"$f":"('2014'!E35/'2014 Rate'!$AA35)*1000","v":-0.30096979155055176},{"$f":"('2014'!F35/'2014 Rate'!$AA35)*1000","v":-0.56849849515104223},{"$f":"('2014'!G35/'2014 Rate'!$AA35)*1000","v":-0.22294058633374206},{"$f":"('2014'!H35/'2014 Rate'!$AA35)*1000","v":25.147698138446106},{"$f":"('2014'!I35/'2014 Rate'!$AA35)*1000","v":26.240107011481438},{"$f":"('2014'!J35/'2014 Rate'!$AA35)*1000","v":-1.4825548991193847},{"$f":"('2014'!K35/'2014 Rate'!$AA35)*1000","v":19.607624568052614},{"$f":"('2014'!L35/'2014 Rate'!$AA35)*1000","v":21.090179467172},{"$f":"('2014'!M35/'2014 Rate'!$AA35)*1000","v":0.73570393490134878},{"$f":"('2014'!N35/'2014 Rate'!$AA35)*1000","v":4.2470181696577862},{"$f":"('2014'!O35/'2014 Rate'!$AA35)*1000","v":3.5113142347564374},{"$f":"('2014'!P35/'2014 Rate'!$AA35)*1000","v":-0.3455579088173002},{"$f":"('2014'!Q35/'2014 Rate'!$AA35)*1000","v":1.293055400735704},{"$f":"('2014'!R35/'2014 Rate'!$AA35)*1000","v":1.638613309553004},null,{"$f":"('2014'!T35/'2014 Rate'!$AA35)*1000","v":1.8949949838368074},{"$f":"('2014'!U35/'2014 Rate'!$AA35)*1000","v":0.56849849515104223},{"$f":"('2014'!V35/'2014 Rate'!$AA35)*1000","v":3.4444320588563149},{"$f":"('2014'!W35/'2014 Rate'!$AA35)*1000","v":2.2405528926541076},{"$f":"('2014'!X35/'2014 Rate'!$AA35)*1000","v":33.441087950061309},null,"West Dunbartonshire",{"$f":"'Population estimates'!L35","v":89710}]
[34,"West Lothian",null,{"$f":"('2014'!D36/'2014 Rate'!$AA36)*1000","v":2.5056433408577878},{"$f":"('2014'!E36/'2014 Rate'!$AA36)*1000","v":1.1060948081264108},{"$f":"('2014'!F36/'2014 Rate'!$AA36)*1000","v":1.1060948081264108},{"$f":"('2014'!G36/'2014 Rate'!$AA36)*1000","v":0.29345372460496616},{"$f":"('2014'!H36/'2014 Rate'!$AA36)*1000","v":29.531602708803611},{"$f":"('2014'!I36/'2014 Rate'!$AA36)*1000","v":27.025959367945827},{"$f":"('2014'!J36/'2014 Rate'!$AA36)*1000","v":0.89729119638826182},{"$f":"('2014'!K36/'2014 Rate'!$AA36)*1000","v":20.897291196388263},{"$f":"('2014'!L36/'2014 Rate'!$AA36)*1000","v":20},{"$f":"('2014'!M36/'2014 Rate'!$AA36)*1000","v":1.2528216704288939},{"$f":"('2014'!N36/'2014 Rate'!$AA36)*1000","v":5.4683972911963883},{"$f":"('2014'!O36/'2014 Rate'!$AA36)*1000","v":4.2155756207674946},{"$f":"('2014'!P36/'2014 Rate'!$AA36)*1000","v":0.35553047404063204},{"$f":"('2014'!Q36/'2014 Rate'!$AA36)*1000","v":3.1659142212189617},{"$f":"('2014'!R36/'2014 Rate'!$AA36)*1000","v":2.8103837471783297},null,{"$f":"('2014'!T36/'2014 Rate'!$AA36)*1000","v":4.7968397291196387},{"$f":"('2014'!U36/'2014 Rate'!$AA36)*1000","v":1.6817155756207676},{"$f":"('2014'!V36/'2014 Rate'!$AA36)*1000","v":6.5801354401805874},{"$f":"('2014'!W36/'2014 Rate'!$AA36)*1000","v":5.8295711060948081},{"$f":"('2014'!X36/'2014 Rate'!$AA36)*1000","v":56.433408577878104},null,"West Lothian",{"$f":"'Population estimates'!L36","v":177200}]
[]
[35,"Not specified"]
[36,"SCOTLAND",null,{"$f":"('2014'!D39/'2014 Rate'!$AA39)*1000","v":3.2883910539307353},{"$f":"('2014'!E39/'2014 Rate'!$AA39)*1000","v":0.57820330615603266},{"$f":"('2014'!F39/'2014 Rate'!$AA39)*1000","v":2.7058867529358968},{"$f":"('2014'!G39/'2014 Rate'!$AA39)*1000","v":4.3009948388061936E-3},{"$f":"('2014'!H39/'2014 Rate'!$AA39)*1000","v":15.416635500037399},{"$f":"('2014'!I39/'2014 Rate'!$AA39)*1000","v":12.128244446106665},null,null,null,{"$f":"('2014'!M39/'2014 Rate'!$AA39)*1000","v":1.7923928491285812},{"$f":"('2014'!N39/'2014 Rate'!$AA39)*1000","v":9.2082429501084597},{"$f":"('2014'!O39/'2014 Rate'!$AA39)*1000","v":7.4158501009798785},{"$f":"('2014'!P39/'2014 Rate'!$AA39)*1000","v":1.4959982048021543},{"$f":"('2014'!Q39/'2014 Rate'!$AA39)*1000","v":6.2083925499289405},{"$f":"('2014'!R39/'2014 Rate'!$AA39)*1000","v":4.7123943451267856},null,null,{"$f":"('2014'!U39/'2014 Rate'!$AA39)*1000","v":1.7162839404592716},null,null,null,{"$f":"('2014'!Y39/'2014 Rate'!$AA39)*1000","v":10.353055576333309},"SCOTLAND",{"$f":"'Population estimates'!L39","v":5347600}]
[37,"Ayrshire & Arran",null,{"$f":"('2014'!D40/'2014 Rate'!$AA40)*1000","v":-0.33410572829659968},{"$f":"('2014'!E40/'2014 Rate'!$AA40)*1000","v":0.52001939968744948},{"$f":"('2014'!F40/'2014 Rate'!$AA40)*1000","v":-1.1666756480034488},{"$f":"('2014'!G40/'2014 Rate'!$AA40)*1000","v":0.3125505200193997},{"$f":"('2014'!H40/'2014 Rate'!$AA40)*1000","v":20.957051247507678},{"$f":"('2014'!I40/'2014 Rate'!$AA40)*1000","v":21.291156975804281},{"$f":"('2014'!J40/'2014 Rate'!$AA40)*1000","v":-0.18052486932154982},{"$f":"('2014'!K40/'2014 Rate'!$AA40)*1000","v":13.601336422913185},{"$f":"('2014'!L40/'2014 Rate'!$AA40)*1000","v":13.781861292234735},{"$f":"('2014'!M40/'2014 Rate'!$AA40)*1000","v":1.2151748666271489},{"$f":"('2014'!N40/'2014 Rate'!$AA40)*1000","v":6.2887320148730943},{"$f":"('2014'!O40/'2014 Rate'!$AA40)*1000","v":5.0735571482459454},{"$f":"('2014'!P40/'2014 Rate'!$AA40)*1000","v":-1.3687557256021987},{"$f":"('2014'!Q40/'2014 Rate'!$AA40)*1000","v":1.0669828097213989},{"$f":"('2014'!R40/'2014 Rate'!$AA40)*1000","v":2.4357385353235976},null,null,{"$f":"('2014'!U40/'2014 Rate'!$AA40)*1000","v":0.42840976450934959},null,null,null,null,"Ayrshire & Arran",{"$f":"'Population estimates'!L40","v":371140}]
[38,"Borders",null,{"$f":"('2014'!D41/'2014 Rate'!$AA41)*1000","v":2.4552788495264819},{"$f":"('2014'!E41/'2014 Rate'!$AA41)*1000","v":1.5082427218519818},{"$f":"('2014'!F41/'2014 Rate'!$AA41)*1000","v":1.5170115748860049},{"$f":"('2014'!G41/'2014 Rate'!$AA41)*1000","v":-0.56997544721150473},{"$f":"('2014'!H41/'2014 Rate'!$AA41)*1000","v":36.794107330761136},{"$f":"('2014'!I41/'2014 Rate'!$AA41)*1000","v":34.33882848123465},{"$f":"('2014'!J41/'2014 Rate'!$AA41)*1000","v":0.58751315327955111},{"$f":"('2014'!K41/'2014 Rate'!$AA41)*1000","v":20.29989477376359},{"$f":"('2014'!L41/'2014 Rate'!$AA41)*1000","v":19.712381620484042},{"$f":"('2014'!M41/'2014 Rate'!$AA41)*1000","v":3.3847772711329358},{"$f":"('2014'!N41/'2014 Rate'!$AA41)*1000","v":14.012627148368994},{"$f":"('2014'!O41/'2014 Rate'!$AA41)*1000","v":10.627849877236057},{"$f":"('2014'!P41/'2014 Rate'!$AA41)*1000","v":-1.5170115748860049},{"$f":"('2014'!Q41/'2014 Rate'!$AA41)*1000","v":2.4815854086285514},{"$f":"('2014'!R41/'2014 Rate'!$AA41)*1000","v":3.9985969835145565},null,null,{"$f":"('2014'!U41/'2014 Rate'!$AA41)*1000","v":1.061031217116801},null,null,null,null,"Borders",{"$f":"'Population estimates'!L41","v":114040}]
[39,"Dumfries & Galloway",null,{"$f":"('2014'!D42/'2014 Rate'!$AA42)*1000","v":2.2272606028274207},{"$f":"('2014'!E42/'2014 Rate'!$AA42)*1000","v":1.1269671912510002},{"$f":"('2014'!F42/'2014 Rate'!$AA42)*1000","v":0.70018671645772201},{"$f":"('2014'!G42/'2014 Rate'!$AA42)*1000","v":0.40010669511869834},{"$f":"('2014'!H42/'2014 Rate'!$AA42)*1000","v":26.987196585756202},{"$f":"('2014'!I42/'2014 Rate'!$AA42)*1000","v":24.759935982928781},{"$f":"('2014'!J42/'2014 Rate'!$AA42)*1000","v":-0.7335289410509469},{"$f":"('2014'!K42/'2014 Rate'!$AA42)*1000","v":11.503067484662576},{"$f":"('2014'!L42/'2014 Rate'!$AA42)*1000","v":12.236596425713524},{"$f":"('2014'!M42/'2014 Rate'!$AA42)*1000","v":4.7412643371565757},{"$f":"('2014'!N42/'2014 Rate'!$AA42)*1000","v":14.07041877834089},{"$f":"('2014'!O42/'2014 Rate'!$AA42)*1000","v":9.3291544411843166},{"$f":"('2014'!P42/'2014 Rate'!$AA42)*1000","v":-1.7804747932782075},{"$f":"('2014'!Q42/'2014 Rate'!$AA42)*1000","v":1.4137103227527341},{"$f":"('2014'!R42/'2014 Rate'!$AA42)*1000","v":3.1941851160309418},null,null,{"$f":"('2014'!U42/'2014 Rate'!$AA42)*1000","v":0.60682848759669239},null,null,null,null,"Dumfries & Galloway",{"$f":"'Population estimates'!L42","v":149960}]
[40,"Fife",null,{"$f":"('2014'!D43/'2014 Rate'!$AA43)*1000","v":1.7699115044247788},{"$f":"('2014'!E43/'2014 Rate'!$AA43)*1000","v":0.27501701837985021},{"$f":"('2014'!F43/'2014 Rate'!$AA43)*1000","v":0.98842750170183791},{"$f":"('2014'!G43/'2014 Rate'!$AA43)*1000","v":0.50646698434309056},{"$f":"('2014'!H43/'2014 Rate'!$AA43)*1000","v":29.66371681415929},{"$f":"('2014'!I43/'2014 Rate'!$AA43)*1000","v":27.893805309734514},{"$f":"('2014'!J43/'2014 Rate'!$AA43)*1000","v":-0.23961878829135466},{"$f":"('2014'!K43/'2014 Rate'!$AA43)*1000","v":16.435670524166099},{"$f":"('2014'!L43/'2014 Rate'!$AA43)*1000","v":16.675289312457455},{"$f":"('2014'!M43/'2014 Rate'!$AA43)*1000","v":1.7127297481279782},{"$f":"('2014'!N43/'2014 Rate'!$AA43)*1000","v":8.7923757658270922},{"$f":"('2014'!O43/'2014 Rate'!$AA43)*1000","v":7.0796460176991154},{"$f":"('2014'!P43/'2014 Rate'!$AA43)*1000","v":0.29680054458815525},{"$f":"('2014'!Q43/'2014 Rate'!$AA43)*1000","v":4.4356705241660999},{"$f":"('2014'!R43/'2014 Rate'!$AA43)*1000","v":4.1388699795779438},null,null,{"$f":"('2014'!U43/'2014 Rate'!$AA43)*1000","v":1.1109598366235536},null,null,null,null,"Fife",{"$f":"'Population estimates'!L43","v":367250}]
[41,"Forth Valley",null,{"$f":"('2014'!D44/'2014 Rate'!$AA44)*1000","v":2.6631158455392812},{"$f":"('2014'!E44/'2014 Rate'!$AA44)*1000","v":0.95872170439414117},{"$f":"('2014'!F44/'2014 Rate'!$AA44)*1000","v":1.5978695073235687},{"$f":"('2014'!G44/'2014 Rate'!$AA44)*1000","v":0.10652463382157124},{"$f":"('2014'!H44/'2014 Rate'!$AA44)*1000","v":31.444740346205055},{"$f":"('2014'!I44/'2014 Rate'!$AA44)*1000","v":28.781624500665778},{"$f":"('2014'!J44/'2014 Rate'!$AA44)*1000","v":0.58588548601864188},{"$f":"('2014'!K44/'2014 Rate'!$AA44)*1000","v":20.156458055925434},{"$f":"('2014'!L44/'2014 Rate'!$AA44)*1000","v":19.570572569906791},{"$f":"('2014'!M44/'2014 Rate'!$AA44)*1000","v":2.260319573901465},{"$f":"('2014'!N44/'2014 Rate'!$AA44)*1000","v":7.7296937416777629},{"$f":"('2014'!O44/'2014 Rate'!$AA44)*1000","v":5.4693741677762979},{"$f":"('2014'!P44/'2014 Rate'!$AA44)*1000","v":-0.18308921438082557},{"$f":"('2014'!Q44/'2014 Rate'!$AA44)*1000","v":3.5585885486018642},{"$f":"('2014'!R44/'2014 Rate'!$AA44)*1000","v":3.7416777629826896},null,null,{"$f":"('2014'!U44/'2014 Rate'!$AA44)*1000","v":1.0719041278295605},null,null,null,null,"Forth Valley",{"$f":"'Population estimates'!L44","v":300400}]
[42,"Grampian",null,{"$f":"('2014'!D45/'2014 Rate'!$AA45)*1000","v":6.7098011023244668},{"$f":"('2014'!E45/'2014 Rate'!$AA45)*1000","v":1.1879086645441785},{"$f":"('2014'!F45/'2014 Rate'!$AA45)*1000","v":5.9908938413611308},{"$f":"('2014'!G45/'2014 Rate'!$AA45)*1000","v":-0.4690014035808428},{"$f":"('2014'!H45/'2014 Rate'!$AA45)*1000","v":34.606826195611241},{"$f":"('2014'!I45/'2014 Rate'!$AA45)*1000","v":27.897025093286775},{"$f":"('2014'!J45/'2014 Rate'!$AA45)*1000","v":1.1742151929067817},{"$f":"('2014'!K45/'2014 Rate'!$AA45)*1000","v":14.323371332717128},{"$f":"('2014'!L45/'2014 Rate'!$AA45)*1000","v":13.149156139810346},{"$f":"('2014'!M45/'2014 Rate'!$AA45)*1000","v":2.0317688541987606},{"$f":"('2014'!N45/'2014 Rate'!$AA45)*1000","v":10.790455650268735},{"$f":"('2014'!O45/'2014 Rate'!$AA45)*1000","v":8.7586867960699735},{"$f":"('2014'!P45/'2014 Rate'!$AA45)*1000","v":3.5038170552189243},{"$f":"('2014'!Q45/'2014 Rate'!$AA45)*1000","v":9.4929992126253815},{"$f":"('2014'!R45/'2014 Rate'!$AA45)*1000","v":5.9891821574064572},null,null,{"$f":"('2014'!U45/'2014 Rate'!$AA45)*1000","v":2.6411283420629212},null,null,null,null,"Grampian",{"$f":"'Population estimates'!L45","v":584220}]
[43,"Greater Glasgow & Clyde",null,{"$f":"('2014'!D46/'2014 Rate'!$AA46)*1000","v":3.369537629420877},{"$f":"('2014'!E46/'2014 Rate'!$AA46)*1000","v":0.13303109601869437},{"$f":"('2014'!F46/'2014 Rate'!$AA46)*1000","v":3.3599103790511031},{"$f":"('2014'!G46/'2014 Rate'!$AA46)*1000","v":-0.12340384564892044},{"$f":"('2014'!H46/'2014 Rate'!$AA46)*1000","v":30.492127534811264},{"$f":"('2014'!I46/'2014 Rate'!$AA46)*1000","v":27.122589905390388},{"$f":"('2014'!J46/'2014 Rate'!$AA46)*1000","v":-0.62927209235158721},{"$f":"('2014'!K46/'2014 Rate'!$AA46)*1000","v":14.311345276958489},{"$f":"('2014'!L46/'2014 Rate'!$AA46)*1000","v":14.940617369310075},{"$f":"('2014'!M46/'2014 Rate'!$AA46)*1000","v":0.73167102810281903},{"$f":"('2014'!N46/'2014 Rate'!$AA46)*1000","v":7.6554144531284187},{"$f":"('2014'!O46/'2014 Rate'!$AA46)*1000","v":6.9237434250255996},{"$f":"('2014'!P46/'2014 Rate'!$AA46)*1000","v":3.2671386936696454},{"$f":"('2014'!Q46/'2014 Rate'!$AA46)*1000","v":8.525367804724354},{"$f":"('2014'!R46/'2014 Rate'!$AA46)*1000","v":5.2582291110547095},null,null,{"$f":"('2014'!U46/'2014 Rate'!$AA46)*1000","v":2.1591296965665725},null,null,null,null,"Greater Glasgow & Clyde",{"$f":"'Population estimates'!L46","v":1142590}]
[44,"Highland",null,{"$f":"('2014'!D47/'2014 Rate'!$AA47)*1000","v":-0.11224394350388177},{"$f":"('2014'!E47/'2014 Rate'!$AA47)*1000","v":0.51756929504567706},{"$f":"('2014'!F47/'2014 Rate'!$AA47)*1000","v":-0.30243506999657033},{"$f":"('2014'!G47/'2014 Rate'!$AA47)*1000","v":-0.32737816855298846},{"$f":"('2014'!H47/'2014 Rate'!$AA47)*1000","v":33.317743896735571},{"$f":"('2014'!I47/'2014 Rate'!$AA47)*1000","v":33.429987840239455},{"$f":"('2014'!J47/'2014 Rate'!$AA47)*1000","v":-2.6626757708976396},{"$f":"('2014'!K47/'2014 Rate'!$AA47)*1000","v":18.336295326286908},{"$f":"('2014'!L47/'2014 Rate'!$AA47)*1000","v":20.998971097184548},{"$f":"('2014'!M47/'2014 Rate'!$AA47)*1000","v":3.5543915442895897},{"$f":"('2014'!N47/'2014 Rate'!$AA47)*1000","v":11.994512518317586},{"$f":"('2014'!O47/'2014 Rate'!$AA47)*1000","v":8.4401209740279999},{"$f":"('2014'!P47/'2014 Rate'!$AA47)*1000","v":-1.0039597168958314},{"$f":"('2014'!Q47/'2014 Rate'!$AA47)*1000","v":2.9869360521310759},{"$f":"('2014'!R47/'2014 Rate'!$AA47)*1000","v":3.9908957690269076},null,null,{"$f":"('2014'!U47/'2014 Rate'!$AA47)*1000","v":1.3032768995728494},null,null,null,null,"Highland",{"$f":"'Population estimates'!L47","v":320730}]
[45,"Lanarkshire",null,{"$f":"('2014'!D48/'2014 Rate'!$AA48)*1000","v":0.65054339507117709},{"$f":"('2014'!E48/'2014 Rate'!$AA48)*1000","v":0.3474667074850758},{"$f":"('2014'!F48/'2014 Rate'!$AA48)*1000","v":0.27552426144191028},{"$f":"('2014'!G48/'2014 Rate'!$AA48)*1000","v":2.7552426144191032E-2},{"$f":"('2014'!H48/'2014 Rate'!$AA48)*1000","v":19.79488749425991},{"$f":"('2014'!I48/'2014 Rate'!$AA48)*1000","v":19.144344099188736},{"$f":"('2014'!J48/'2014 Rate'!$AA48)*1000","v":0.54339507117710095},{"$f":"('2014'!K48/'2014 Rate'!$AA48)*1000","v":14.25531914893617},{"$f":"('2014'!L48/'2014 Rate'!$AA48)*1000","v":13.711924077759068},{"$f":"('2014'!M48/'2014 Rate'!$AA48)*1000","v":0.93065972753711923},{"$f":"('2014'!N48/'2014 Rate'!$AA48)*1000","v":4.2216439614266026},{"$f":"('2014'!O48/'2014 Rate'!$AA48)*1000","v":3.2909842338894841},{"$f":"('2014'!P48/'2014 Rate'!$AA48)*1000","v":-0.82351140364304298},{"$f":"('2014'!Q48/'2014 Rate'!$AA48)*1000","v":1.3179243838971377},{"$f":"('2014'!R48/'2014 Rate'!$AA48)*1000","v":2.1414357875401806},null,null,{"$f":"('2014'!U48/'2014 Rate'!$AA48)*1000","v":0.7837134547681005},null,null,null,null,"Lanarkshire",{"$f":"'Population estimates'!L48","v":653300}]
[46,"Lothian",null,{"$f":"('2014'!D49/'2014 Rate'!$AA49)*1000","v":6.3767305271989931},{"$f":"('2014'!E49/'2014 Rate'!$AA49)*1000","v":0.41486039248589945},{"$f":"('2014'!F49/'2014 Rate'!$AA49)*1000","v":5.7614319675569847},{"$f":"('2014'!G49/'2014 Rate'!$AA49)*1000","v":0.20043816715610868},{"$f":"('2014'!H49/'2014 Rate'!$AA49)*1000","v":39.580711322425771},{"$f":"('2014'!I49/'2014 Rate'!$AA49)*1000","v":33.203980795226776},{"$f":"('2014'!J49/'2014 Rate'!$AA49)*1000","v":-5.3605556332447679E-2},{"$f":"('2014'!K49/'2014 Rate'!$AA49)*1000","v":14.904675336782734},{"$f":"('2014'!L49/'2014 Rate'!$AA49)*1000","v":14.958280893115182},{"$f":"('2014'!M49/'2014 Rate'!$AA49)*1000","v":2.5520906166969657},{"$f":"('2014'!N49/'2014 Rate'!$AA49)*1000","v":13.590173868456626},{"$f":"('2014'!O49/'2014 Rate'!$AA49)*1000","v":11.038083251759661},{"$f":"('2014'!P49/'2014 Rate'!$AA49)*1000","v":3.8782454668344752},{"$f":"('2014'!Q49/'2014 Rate'!$AA49)*1000","v":11.085862117186409},{"$f":"('2014'!R49/'2014 Rate'!$AA49)*1000","v":7.2076166503519321},null,null,{"$f":"('2014'!U49/'2014 Rate'!$AA49)*1000","v":2.8003076492798211},null,null,null,null,"Lothian",{"$f":"'Population estimates'!L49","v":858120}]
[47,"Orkney",null,{"$f":"('2014'!D50/'2014 Rate'!$AA50)*1000","v":3.1047265987025026},{"$f":"('2014'!E50/'2014 Rate'!$AA50)*1000","v":2.0389249304911954},{"$f":"('2014'!F50/'2014 Rate'!$AA50)*1000","v":0.64874884151992585},{"$f":"('2014'!G50/'2014 Rate'!$AA50)*1000","v":0.41705282669138088},{"$f":"('2014'!H50/'2014 Rate'!$AA50)*1000","v":34.61538461538462},{"$f":"('2014'!I50/'2014 Rate'!$AA50)*1000","v":31.510658016682111},{"$f":"('2014'!J50/'2014 Rate'!$AA50)*1000","v":-1.8999073215940685},{"$f":"('2014'!K50/'2014 Rate'!$AA50)*1000","v":17.516218721037998},{"$f":"('2014'!L50/'2014 Rate'!$AA50)*1000","v":19.416126042632065},{"$f":"('2014'!M50/'2014 Rate'!$AA50)*1000","v":5.7460611677479143},{"$f":"('2014'!N50/'2014 Rate'!$AA50)*1000","v":14.68952734012975},{"$f":"('2014'!O50/'2014 Rate'!$AA50)*1000","v":8.9434661723818358},{"$f":"('2014'!P50/'2014 Rate'!$AA50)*1000","v":-0.74142724745134381},{"$f":"('2014'!Q50/'2014 Rate'!$AA50)*1000","v":2.4096385542168677},{"$f":"('2014'!R50/'2014 Rate'!$AA50)*1000","v":3.1510658016682114},null,null,{"$f":"('2014'!U50/'2014 Rate'!$AA50)*1000","v":0.50973123262279885},null,null,null,null,"Orkney",{"$f":"'Population estimates'!L50","v":21580}]
[48,"Shetland",null,{"$f":"('2014'!D51/'2014 Rate'!$AA51)*1000","v":-0.2153316106804479},{"$f":"('2014'!E51/'2014 Rate'!$AA51)*1000","v":0.1722652885443583},{"$f":"('2014'!F51/'2014 Rate'!$AA51)*1000","v":-4.3066322136089574E-2},{"$f":"('2014'!G51/'2014 Rate'!$AA51)*1000","v":-0.34453057708871659},{"$f":"('2014'!H51/'2014 Rate'!$AA51)*1000","v":29.026701119724375},{"$f":"('2014'!I51/'2014 Rate'!$AA51)*1000","v":29.242032730404823},{"$f":"('2014'!J51/'2014 Rate'!$AA51)*1000","v":-1.2919896640826873},{"$f":"('2014'!K51/'2014 Rate'!$AA51)*1000","v":15.374677002583979},{"$f":"('2014'!L51/'2014 Rate'!$AA51)*1000","v":16.666666666666668},{"$f":"('2014'!M51/'2014 Rate'!$AA51)*1000","v":2.7562446167097328},{"$f":"('2014'!N51/'2014 Rate'!$AA51)*1000","v":11.455641688199828},{"$f":"('2014'!O51/'2014 Rate'!$AA51)*1000","v":8.699397071490095},{"$f":"('2014'!P51/'2014 Rate'!$AA51)*1000","v":-1.6795865633074936},{"$f":"('2014'!Q51/'2014 Rate'!$AA51)*1000","v":2.1963824289405687},{"$f":"('2014'!R51/'2014 Rate'!$AA51)*1000","v":3.8759689922480618},null,null,{"$f":"('2014'!U51/'2014 Rate'!$AA51)*1000","v":1.2058570198105081},null,null,null,null,"Shetland",{"$f":"'Population estimates'!L51","v":23220}]
[49,"Tayside",null,{"$f":"('2014'!D52/'2014 Rate'!$AA52)*1000","v":4.9299178347027546},{"$f":"('2014'!E52/'2014 Rate'!$AA52)*1000","v":1.2711454809086515},{"$f":"('2014'!F52/'2014 Rate'!$AA52)*1000","v":3.6080231996133398},{"$f":"('2014'!G52/'2014 Rate'!$AA52)*1000","v":5.0749154180763652E-2},{"$f":"('2014'!H52/'2014 Rate'!$AA52)*1000","v":34.879168680521985},{"$f":"('2014'!I52/'2014 Rate'!$AA52)*1000","v":29.949250845819236},{"$f":"('2014'!J52/'2014 Rate'!$AA52)*1000","v":1.766553890768487},{"$f":"('2014'!K52/'2014 Rate'!$AA52)*1000","v":19.470758820686321},{"$f":"('2014'!L52/'2014 Rate'!$AA52)*1000","v":17.704204929917836},{"$f":"('2014'!M52/'2014 Rate'!$AA52)*1000","v":1.3533107781536975},{"$f":"('2014'!N52/'2014 Rate'!$AA52)*1000","v":8.5041082648622517},{"$f":"('2014'!O52/'2014 Rate'!$AA52)*1000","v":7.1507974867085551},{"$f":"('2014'!P52/'2014 Rate'!$AA52)*1000","v":1.8100531657805703},{"$f":"('2014'!Q52/'2014 Rate'!$AA52)*1000","v":6.9043015949734166},{"$f":"('2014'!R52/'2014 Rate'!$AA52)*1000","v":5.0942484291928469},null,null,{"$f":"('2014'!U52/'2014 Rate'!$AA52)*1000","v":1.638472692121798},null,null,null,null,"Tayside",{"$f":"'Population estimates'!L52","v":413800}]
[50,"Western Isles",null,{"$f":"('2014'!D53/'2014 Rate'!$AA53)*1000","v":-3.2293577981651378},{"$f":"('2014'!E53/'2014 Rate'!$AA53)*1000","v":0},{"$f":"('2014'!F53/'2014 Rate'!$AA53)*1000","v":-3.3027522935779818},{"$f":"('2014'!G53/'2014 Rate'!$AA53)*1000","v":7.3394495412844027E-2},{"$f":"('2014'!H53/'2014 Rate'!$AA53)*1000","v":30.018348623853214},{"$f":"('2014'!I53/'2014 Rate'!$AA53)*1000","v":33.247706422018346},{"$f":"('2014'!J53/'2014 Rate'!$AA53)*1000","v":-2.2018348623853212},{"$f":"('2014'!K53/'2014 Rate'!$AA53)*1000","v":20.440366972477065},{"$f":"('2014'!L53/'2014 Rate'!$AA53)*1000","v":22.642201834862384},{"$f":"('2014'!M53/'2014 Rate'!$AA53)*1000","v":0.73394495412844041},{"$f":"('2014'!N53/'2014 Rate'!$AA53)*1000","v":8.4036697247706424},{"$f":"('2014'!O53/'2014 Rate'!$AA53)*1000","v":7.669724770642202},{"$f":"('2014'!P53/'2014 Rate'!$AA53)*1000","v":-1.761467889908257},{"$f":"('2014'!Q53/'2014 Rate'!$AA53)*1000","v":1.1743119266055044},{"$f":"('2014'!R53/'2014 Rate'!$AA53)*1000","v":2.9357798165137616},null,null,{"$f":"('2014'!U53/'2014 Rate'!$AA53)*1000","v":0.62385321100917424},null,null,null,null,"Western Isles",{"$f":"'Population estimates'!L53","v":27250}]

{"sheet":"2015","index":57,"n_rows":53,"n_cols":25,"rows_kept":53,"cut":false,"hidden":true,"merged":[]}
[null,2015]
[null,null,"Not specified ",{"$f":"'Comparing Indicators'!$U8","v":"Total net migration"},{"$f":"'Comparing Indicators'!$U9","v":"Total net migration for ages 0-15"},{"$f":"'Comparing Indicators'!$U10","v":"Total net migration for ages 16-64"},{"$f":"'Comparing Indicators'!$U11","v":"Total net migration for people aged 65+"},{"$f":"'Comparing Indicators'!$U12","v":"Total in-migration"},{"$f":"'Comparing Indicators'!$U13","v":"Total out-migration"},{"$f":"'Comparing Indicators'!$U14","v":"Within Scotland net migration"},{"$f":"'Comparing Indicators'!$U15","v":"Within Scotland in-migration"},{"$f":"'Comparing Indicators'!$U16","v":"Within Scotland out-migration"},{"$f":"'Comparing Indicators'!$U17","v":"Rest of UK net migration"},{"$f":"'Comparing Indicators'!$U18","v":"Rest of UK in-migration"},{"$f":"'Comparing Indicators'!$U19","v":"Rest of UK out-migration"},{"$f":"'Comparing Indicators'!$U20","v":"Overseas net migration"},{"$f":"'Comparing Indicators'!$U21","v":"Overseas in-migration"},{"$f":"'Comparing Indicators'!$U22","v":"Overseas out-migration"},{"$f":"'Comparing Indicators'!$U23","v":"Worker Registration Scheme"},{"$f":"'Comparing Indicators'!$U24","v":"NINo Allocation"},{"$f":"'Comparing Indicators'!$U25","v":"Births to non-UK mothers"},{"$f":"'Comparing Indicators'!$U26","v":"Pupils from a minority ethnic group"},{"$f":"'Comparing Indicators'!$U27","v":"Pupils with English as an additional language"},{"$f":"'Comparing Indicators'!$U28","v":"Estimate of resident population born outside the UK"},"NHS registrations from overseas"]
[1,"Not specified"]
[2,"SCOTLAND",null,{"$f":"'Total net migration'!M4","v":27968},{"$f":"'Total net migration 0-15'!M4","v":4093},{"$f":"'Total net migration 16-64'!M4","v":23858},{"$f":"'Total net migration 65+'!M4","v":17},{"$f":"'Total in-migration'!M4","v":84954},{"$f":"'Total out-migration'!M4","v":56986},null,null,null,{"$f":"'Rest of UK net migration'!M4","v":8368},{"$f":"'Rest of UK in-migration'!M4","v":47154},{"$f":"'Rest of UK out-migration'!M4","v":38786},{"$f":"'Overseas net migration'!M4","v":19600},{"$f":"'Overseas in-migration'!M4","v":37800},{"$f":"'Overseas out-migration'!M4","v":18200},null,{"$f":"NINo!M5","v":46570},{"$f":"'Non-UK Births'!M5","v":8998},{"$f":"'Pupils ethnic group'!N5","v":44348},{"$f":"'Pupils with English as an add.'!K4","v":35441},{"$f":"'Pop born outside UK'!M5","v":393000},{"$f":"'NHS Overseas'!M5","v":57422}]
[3,"Aberdeen City",null,{"$f":"'Total net migration'!M5","v":1085},{"$f":"'Total net migration 0-15'!M5","v":-337},{"$f":"'Total net migration 16-64'!M5","v":1625},{"$f":"'Total net migration 65+'!M5","v":-203},{"$f":"'Total in-migration'!M5","v":14060},{"$f":"'Total out-migration'!M5","v":12975},{"$f":"'Within Scotland net migration'!M5","v":-2221},{"$f":"'Within Scotland in-migration'!M5","v":6807},{"$f":"'Within Scotland out-migration'!M5","v":9028},{"$f":"'Rest of UK net migration'!M5","v":117},{"$f":"'Rest of UK in-migration'!M5","v":2663},{"$f":"'Rest of UK out-migration'!M5","v":2546},{"$f":"'Overseas net migration'!M5","v":3189},{"$f":"'Overseas in-migration'!M5","v":4590},{"$f":"'Overseas out-migration'!M5","v":1401},null,{"$f":"NINo!M6","v":5210},{"$f":"'Non-UK Births'!M6","v":992},{"$f":"'Pupils ethnic group'!N6","v":2858},{"$f":"'Pupils with English as an add.'!K5","v":3054},{"$f":"'Pop born outside UK'!M6","v":39000}]
[4,"Aberdeenshire",null,{"$f":"'Total net migration'!M6","v":986},{"$f":"'Total net migration 0-15'!M6","v":463},{"$f":"'Total net migration 16-64'!M6","v":719},{"$f":"'Total net migration 65+'!M6","v":-196},{"$f":"'Total in-migration'!M6","v":9488},{"$f":"'Total out-migration'!M6","v":8502},{"$f":"'Within Scotland net migration'!M6","v":951},{"$f":"'Within Scotland in-migration'!M6","v":6869},{"$f":"'Within Scotland out-migration'!M6","v":5918},{"$f":"'Rest of UK net migration'!M6","v":-221},{"$f":"'Rest of UK in-migration'!M6","v":1539},{"$f":"'Rest of UK out-migration'!M6","v":1760},{"$f":"'Overseas net migration'!M6","v":256},{"$f":"'Overseas in-migration'!M6","v":1080},{"$f":"'Overseas out-migration'!M6","v":824},null,{"$f":"NINo!M7","v":1730},{"$f":"'Non-UK Births'!M7","v":434},{"$f":"'Pupils ethnic group'!N7","v":994},{"$f":"'Pupils with English as an add.'!K6","v":1566},{"$f":"'Pop born outside UK'!M7","v":13000}]
[5,"Angus",null,{"$f":"'Total net migration'!M7","v":537},{"$f":"'Total net migration 0-15'!M7","v":194},{"$f":"'Total net migration 16-64'!M7","v":307},{"$f":"'Total net migration 65+'!M7","v":36},{"$f":"'Total in-migration'!M7","v":4306},{"$f":"'Total out-migration'!M7","v":3769},{"$f":"'Within Scotland net migration'!M7","v":441},{"$f":"'Within Scotland in-migration'!M7","v":3282},{"$f":"'Within Scotland out-migration'!M7","v":2841},{"$f":"'Rest of UK net migration'!M7","v":107},{"$f":"'Rest of UK in-migration'!M7","v":734},{"$f":"'Rest of UK out-migration'!M7","v":627},{"$f":"'Overseas net migration'!M7","v":-11},{"$f":"'Overseas in-migration'!M7","v":290},{"$f":"'Overseas out-migration'!M7","v":301},null,{"$f":"NINo!M8","v":1310},{"$f":"'Non-UK Births'!M8","v":115},{"$f":"'Pupils ethnic group'!N8","v":366},{"$f":"'Pupils with English as an add.'!K7","v":476},{"$f":"'Pop born outside UK'!M8","v":6000}]
[6,"Argyll & Bute",null,{"$f":"'Total net migration'!M8","v":-233},{"$f":"'Total net migration 0-15'!M8","v":26},{"$f":"'Total net migration 16-64'!M8","v":-198},{"$f":"'Total net migration 65+'!M8","v":-61},{"$f":"'Total in-migration'!M8","v":3913},{"$f":"'Total out-migration'!M8","v":4146},{"$f":"'Within Scotland net migration'!M8","v":-444},{"$f":"'Within Scotland in-migration'!M8","v":2273},{"$f":"'Within Scotland out-migration'!M8","v":2717},{"$f":"'Rest of UK net migration'!M8","v":296},{"$f":"'Rest of UK in-migration'!M8","v":1341},{"$f":"'Rest of UK out-migration'!M8","v":1045},{"$f":"'Overseas net migration'!M8","v":-85},{"$f":"'Overseas in-migration'!M8","v":299},{"$f":"'Overseas out-migration'!M8","v":384},null,{"$f":"NINo!M9","v":570},{"$f":"'Non-UK Births'!M9","v":87},{"$f":"'Pupils ethnic group'!N9","v":255},{"$f":"'Pupils with English as an add.'!K8","v":175},{"$f":"'Pop born outside UK'!M9","v":3000}]
[7,"Clackmannanshire",null,{"$f":"'Total net migration'!M9","v":142},{"$f":"'Total net migration 0-15'!M9","v":8},{"$f":"'Total net migration 16-64'!M9","v":51},{"$f":"'Total net migration 65+'!M9","v":83},{"$f":"'Total in-migration'!M9","v":1860},{"$f":"'Total out-migration'!M9","v":1718},{"$f":"'Within Scotland net migration'!M9","v":67},{"$f":"'Within Scotland in-migration'!M9","v":1459},{"$f":"'Within Scotland out-migration'!M9","v":1392},{"$f":"'Rest of UK net migration'!M9","v":79},{"$f":"'Rest of UK in-migration'!M9","v":303},{"$f":"'Rest of UK out-migration'!M9","v":224},{"$f":"'Overseas net migration'!M9","v":-4},{"$f":"'Overseas in-migration'!M9","v":98},{"$f":"'Overseas out-migration'!M9","v":102},null,{"$f":"NINo!M10","v":110},{"$f":"'Non-UK Births'!M10","v":40},{"$f":"'Pupils ethnic group'!N10","v":203},{"$f":"'Pupils with English as an add.'!K9","v":167},{"$f":"'Pop born outside UK'!M10","v":3000}]
[8,"Dumfries & Galloway",null,{"$f":"'Total net migration'!M10","v":330},{"$f":"'Total net migration 0-15'!M10","v":74},{"$f":"'Total net migration 16-64'!M10","v":206},{"$f":"'Total net migration 65+'!M10","v":50},{"$f":"'Total in-migration'!M10","v":3928},{"$f":"'Total out-migration'!M10","v":3598},{"$f":"'Within Scotland net migration'!M10","v":-103},{"$f":"'Within Scotland in-migration'!M10","v":1734},{"$f":"'Within Scotland out-migration'!M10","v":1837},{"$f":"'Rest of UK net migration'!M10","v":505},{"$f":"'Rest of UK in-migration'!M10","v":1913},{"$f":"'Rest of UK out-migration'!M10","v":1408},{"$f":"'Overseas net migration'!M10","v":-72},{"$f":"'Overseas in-migration'!M10","v":281},{"$f":"'Overseas out-migration'!M10","v":353},null,{"$f":"NINo!M11","v":340},{"$f":"'Non-UK Births'!M11","v":87},{"$f":"'Pupils ethnic group'!N11","v":411},{"$f":"'Pupils with English as an add.'!K10","v":341},{"$f":"'Pop born outside UK'!M11","v":5000}]
[9,"Dundee City",null,{"$f":"'Total net migration'!M11","v":209},{"$f":"'Total net migration 0-15'!M11","v":-145},{"$f":"'Total net migration 16-64'!M11","v":410},{"$f":"'Total net migration 65+'!M11","v":-56},{"$f":"'Total in-migration'!M11","v":7019},{"$f":"'Total out-migration'!M11","v":6810},{"$f":"'Within Scotland net migration'!M11","v":-515},{"$f":"'Within Scotland in-migration'!M11","v":4252},{"$f":"'Within Scotland out-migration'!M11","v":4767},{"$f":"'Rest of UK net migration'!M11","v":53},{"$f":"'Rest of UK in-migration'!M11","v":1379},{"$f":"'Rest of UK out-migration'!M11","v":1326},{"$f":"'Overseas net migration'!M11","v":671},{"$f":"'Overseas in-migration'!M11","v":1388},{"$f":"'Overseas out-migration'!M11","v":717},null,{"$f":"NINo!M12","v":1340},{"$f":"'Non-UK Births'!M12","v":267},{"$f":"'Pupils ethnic group'!N12","v":1595},{"$f":"'Pupils with English as an add.'!K11","v":1137},{"$f":"'Pop born outside UK'!M12","v":17000}]
[10,"East Ayrshire",null,{"$f":"'Total net migration'!M12","v":62},{"$f":"'Total net migration 0-15'!M12","v":71},{"$f":"'Total net migration 16-64'!M12","v":10},{"$f":"'Total net migration 65+'!M12","v":-19},{"$f":"'Total in-migration'!M12","v":3352},{"$f":"'Total out-migration'!M12","v":3290},{"$f":"'Within Scotland net migration'!M12","v":-15},{"$f":"'Within Scotland in-migration'!M12","v":2605},{"$f":"'Within Scotland out-migration'!M12","v":2620},{"$f":"'Rest of UK net migration'!M12","v":168},{"$f":"'Rest of UK in-migration'!M12","v":657},{"$f":"'Rest of UK out-migration'!M12","v":489},{"$f":"'Overseas net migration'!M12","v":-91},{"$f":"'Overseas in-migration'!M12","v":90},{"$f":"'Overseas out-migration'!M12","v":181},null,{"$f":"NINo!M13","v":90},{"$f":"'Non-UK Births'!M13","v":56},{"$f":"'Pupils ethnic group'!N13","v":382},{"$f":"'Pupils with English as an add.'!K12","v":169},{"$f":"'Pop born outside UK'!M13","v":2000}]
[11,"East Dunbartonshire",null,{"$f":"'Total net migration'!M13","v":549},{"$f":"'Total net migration 0-15'!M13","v":513},{"$f":"'Total net migration 16-64'!M13","v":60},{"$f":"'Total net migration 65+'!M13","v":-24},{"$f":"'Total in-migration'!M13","v":4197},{"$f":"'Total out-migration'!M13","v":3648},{"$f":"'Within Scotland net migration'!M13","v":607},{"$f":"'Within Scotland in-migration'!M13","v":3615},{"$f":"'Within Scotland out-migration'!M13","v":3008},{"$f":"'Rest of UK net migration'!M13","v":55},{"$f":"'Rest of UK in-migration'!M13","v":477},{"$f":"'Rest of UK out-migration'!M13","v":422},{"$f":"'Overseas net migration'!M13","v":-113},{"$f":"'Overseas in-migration'!M13","v":105},{"$f":"'Overseas out-migration'!M13","v":218},null,{"$f":"NINo!M14","v":110},{"$f":"'Non-UK Births'!M14","v":86},{"$f":"'Pupils ethnic group'!N14","v":1293},{"$f":"'Pupils with English as an add.'!K13","v":406},{"$f":"'Pop born outside UK'!M14","v":5000}]
[12,"East Lothian",null,{"$f":"'Total net migration'!M14","v":961},{"$f":"'Total net migration 0-15'!M14","v":222},{"$f":"'Total net migration 16-64'!M14","v":606},{"$f":"'Total net migration 65+'!M14","v":133},{"$f":"'Total in-migration'!M14","v":4337},{"$f":"'Total out-migration'!M14","v":3376},{"$f":"'Within Scotland net migration'!M14","v":684},{"$f":"'Within Scotland in-migration'!M14","v":3231},{"$f":"'Within Scotland out-migration'!M14","v":2547},{"$f":"'Rest of UK net migration'!M14","v":120},{"$f":"'Rest of UK in-migration'!M14","v":694},{"$f":"'Rest of UK out-migration'!M14","v":574},{"$f":"'Overseas net migration'!M14","v":157},{"$f":"'Overseas in-migration'!M14","v":412},{"$f":"'Overseas out-migration'!M14","v":255},null,{"$f":"NINo!M15","v":510},{"$f":"'Non-UK Births'!M15","v":125},{"$f":"'Pupils ethnic group'!N15","v":393},{"$f":"'Pupils with English as an add.'!K14","v":283},{"$f":"'Pop born outside UK'!M15","v":5000}]
[13,"East Renfrewshire",null,{"$f":"'Total net migration'!M15","v":627},{"$f":"'Total net migration 0-15'!M15","v":567},{"$f":"'Total net migration 16-64'!M15","v":-74},{"$f":"'Total net migration 65+'!M15","v":134},{"$f":"'Total in-migration'!M15","v":3943},{"$f":"'Total out-migration'!M15","v":3316},{"$f":"'Within Scotland net migration'!M15","v":708},{"$f":"'Within Scotland in-migration'!M15","v":3416},{"$f":"'Within Scotland out-migration'!M15","v":2708},{"$f":"'Rest of UK net migration'!M15","v":2},{"$f":"'Rest of UK in-migration'!M15","v":400},{"$f":"'Rest of UK out-migration'!M15","v":398},{"$f":"'Overseas net migration'!M15","v":-83},{"$f":"'Overseas in-migration'!M15","v":127},{"$f":"'Overseas out-migration'!M15","v":210},null,{"$f":"NINo!M16","v":140},{"$f":"'Non-UK Births'!M16","v":92},{"$f":"'Pupils ethnic group'!N16","v":2795},{"$f":"'Pupils with English as an add.'!K15","v":837},{"$f":"'Pop born outside UK'!M16","v":6000}]
[14,"Edinburgh, City of",null,{"$f":"'Total net migration'!M16","v":6261},{"$f":"'Total net migration 0-15'!M16","v":-258},{"$f":"'Total net migration 16-64'!M16","v":6593},{"$f":"'Total net migration 65+'!M16","v":-74},{"$f":"'Total in-migration'!M16","v":31436},{"$f":"'Total out-migration'!M16","v":25175},{"$f":"'Within Scotland net migration'!M16","v":-1927},{"$f":"'Within Scotland in-migration'!M16","v":12285},{"$f":"'Within Scotland out-migration'!M16","v":14212},{"$f":"'Rest of UK net migration'!M16","v":2139},{"$f":"'Rest of UK in-migration'!M16","v":9501},{"$f":"'Rest of UK out-migration'!M16","v":7362},{"$f":"'Overseas net migration'!M16","v":6049},{"$f":"'Overseas in-migration'!M16","v":9650},{"$f":"'Overseas out-migration'!M16","v":3601},null,{"$f":"NINo!M17","v":11930},{"$f":"'Non-UK Births'!M17","v":1821},{"$f":"'Pupils ethnic group'!N17","v":6887},{"$f":"'Pupils with English as an add.'!K16","v":5685},{"$f":"'Pop born outside UK'!M17","v":77000}]
[15,"Eilean Siar",null,{"$f":"'Total net migration'!M17","v":-5},{"$f":"'Total net migration 0-15'!M17","v":22},{"$f":"'Total net migration 16-64'!M17","v":-18},{"$f":"'Total net migration 65+'!M17","v":-9},{"$f":"'Total in-migration'!M17","v":881},{"$f":"'Total out-migration'!M17","v":886},{"$f":"'Within Scotland net migration'!M17","v":-46},{"$f":"'Within Scotland in-migration'!M17","v":604},{"$f":"'Within Scotland out-migration'!M17","v":650},{"$f":"'Rest of UK net migration'!M17","v":39},{"$f":"'Rest of UK in-migration'!M17","v":222},{"$f":"'Rest of UK out-migration'!M17","v":183},{"$f":"'Overseas net migration'!M17","v":2},{"$f":"'Overseas in-migration'!M17","v":55},{"$f":"'Overseas out-migration'!M17","v":53},null,{"$f":"NINo!M18","v":70},{"$f":"'Non-UK Births'!M18","v":8},{"$f":"'Pupils ethnic group'!N18","v":65},{"$f":"'Pupils with English as an add.'!K17","v":53},{"$f":"'Pop born outside UK'!M18","v":0}]
[16,"Falkirk",null,{"$f":"'Total net migration'!M18","v":734},{"$f":"'Total net migration 0-15'!M18","v":129},{"$f":"'Total net migration 16-64'!M18","v":571},{"$f":"'Total net migration 65+'!M18","v":34},{"$f":"'Total in-migration'!M18","v":4478},{"$f":"'Total out-migration'!M18","v":3744},{"$f":"'Within Scotland net migration'!M18","v":391},{"$f":"'Within Scotland in-migration'!M18","v":3367},{"$f":"'Within Scotland out-migration'!M18","v":2976},{"$f":"'Rest of UK net migration'!M18","v":216},{"$f":"'Rest of UK in-migration'!M18","v":734},{"$f":"'Rest of UK out-migration'!M18","v":518},{"$f":"'Overseas net migration'!M18","v":127},{"$f":"'Overseas in-migration'!M18","v":377},{"$f":"'Overseas out-migration'!M18","v":250},null,{"$f":"NINo!M19","v":540},{"$f":"'Non-UK Births'!M19","v":171},{"$f":"'Pupils ethnic group'!N19","v":752},{"$f":"'Pupils with English as an add.'!K18","v":648},{"$f":"'Pop born outside UK'!M19","v":8000}]
[17,"Fife",null,{"$f":"'Total net migration'!M19","v":1228},{"$f":"'Total net migration 0-15'!M19","v":279},{"$f":"'Total net migration 16-64'!M19","v":901},{"$f":"'Total net migration 65+'!M19","v":48},{"$f":"'Total in-migration'!M19","v":11289},{"$f":"'Total out-migration'!M19","v":10061},{"$f":"'Within Scotland net migration'!M19","v":-68},{"$f":"'Within Scotland in-migration'!M19","v":6390},{"$f":"'Within Scotland out-migration'!M19","v":6458},{"$f":"'Rest of UK net migration'!M19","v":468},{"$f":"'Rest of UK in-migration'!M19","v":2981},{"$f":"'Rest of UK out-migration'!M19","v":2513},{"$f":"'Overseas net migration'!M19","v":828},{"$f":"'Overseas in-migration'!M19","v":1918},{"$f":"'Overseas out-migration'!M19","v":1090},null,{"$f":"NINo!M20","v":2620},{"$f":"'Non-UK Births'!M20","v":443},{"$f":"'Pupils ethnic group'!N20","v":1731},{"$f":"'Pupils with English as an add.'!K19","v":1150},{"$f":"'Pop born outside UK'!M20","v":20000}]
[18,"Glasgow City",null,{"$f":"'Total net migration'!M20","v":5840},{"$f":"'Total net migration 0-15'!M20","v":-698},{"$f":"'Total net migration 16-64'!M20","v":6790},{"$f":"'Total net migration 65+'!M20","v":-252},{"$f":"'Total in-migration'!M20","v":33301},{"$f":"'Total out-migration'!M20","v":27461},{"$f":"'Within Scotland net migration'!M20","v":-2417},{"$f":"'Within Scotland in-migration'!M20","v":16288},{"$f":"'Within Scotland out-migration'!M20","v":18705},{"$f":"'Rest of UK net migration'!M20","v":1180},{"$f":"'Rest of UK in-migration'!M20","v":6604},{"$f":"'Rest of UK out-migration'!M20","v":5424},{"$f":"'Overseas net migration'!M20","v":7077},{"$f":"'Overseas in-migration'!M20","v":10409},{"$f":"'Overseas out-migration'!M20","v":3332},null,{"$f":"NINo!M21","v":9310},{"$f":"'Non-UK Births'!M21","v":1952},{"$f":"'Pupils ethnic group'!N21","v":13161},{"$f":"'Pupils with English as an add.'!K20","v":11483},{"$f":"'Pop born outside UK'!M21","v":83000}]
[19,"Highland",null,{"$f":"'Total net migration'!M21","v":1115},{"$f":"'Total net migration 0-15'!M21","v":339},{"$f":"'Total net migration 16-64'!M21","v":819},{"$f":"'Total net migration 65+'!M21","v":-43},{"$f":"'Total in-migration'!M21","v":7722},{"$f":"'Total out-migration'!M21","v":6607},{"$f":"'Within Scotland net migration'!M21","v":-28},{"$f":"'Within Scotland in-migration'!M21","v":4330},{"$f":"'Within Scotland out-migration'!M21","v":4358},{"$f":"'Rest of UK net migration'!M21","v":814},{"$f":"'Rest of UK in-migration'!M21","v":2474},{"$f":"'Rest of UK out-migration'!M21","v":1660},{"$f":"'Overseas net migration'!M21","v":329},{"$f":"'Overseas in-migration'!M21","v":918},{"$f":"'Overseas out-migration'!M21","v":589},null,{"$f":"NINo!M22","v":1680},{"$f":"'Non-UK Births'!M22","v":314},{"$f":"'Pupils ethnic group'!N22","v":829},{"$f":"'Pupils with English as an add.'!K21","v":1225},{"$f":"'Pop born outside UK'!M22","v":10000}]
[20,"Inverclyde",null,{"$f":"'Total net migration'!M22","v":-136},{"$f":"'Total net migration 0-15'!M22","v":6},{"$f":"'Total net migration 16-64'!M22","v":-148},{"$f":"'Total net migration 65+'!M22","v":6},{"$f":"'Total in-migration'!M22","v":1456},{"$f":"'Total out-migration'!M22","v":1592},{"$f":"'Within Scotland net migration'!M22","v":-253},{"$f":"'Within Scotland in-migration'!M22","v":1003},{"$f":"'Within Scotland out-migration'!M22","v":1256},{"$f":"'Rest of UK net migration'!M22","v":103},{"$f":"'Rest of UK in-migration'!M22","v":353},{"$f":"'Rest of UK out-migration'!M22","v":250},{"$f":"'Overseas net migration'!M22","v":14},{"$f":"'Overseas in-migration'!M22","v":100},{"$f":"'Overseas out-migration'!M22","v":86},null,{"$f":"NINo!M23","v":100},{"$f":"'Non-UK Births'!M23","v":30},{"$f":"'Pupils ethnic group'!N23","v":192},{"$f":"'Pupils with English as an add.'!K22","v":29},{"$f":"'Pop born outside UK'!M23","v":2000}]
[21,"Midlothian",null,{"$f":"'Total net migration'!M23","v":987},{"$f":"'Total net migration 0-15'!M23","v":250},{"$f":"'Total net migration 16-64'!M23","v":689},{"$f":"'Total net migration 65+'!M23","v":48},{"$f":"'Total in-migration'!M23","v":3645},{"$f":"'Total out-migration'!M23","v":2658},{"$f":"'Within Scotland net migration'!M23","v":1034},{"$f":"'Within Scotland in-migration'!M23","v":3073},{"$f":"'Within Scotland out-migration'!M23","v":2039},{"$f":"'Rest of UK net migration'!M23","v":-27},{"$f":"'Rest of UK in-migration'!M23","v":401},{"$f":"'Rest of UK out-migration'!M23","v":428},{"$f":"'Overseas net migration'!M23","v":-20},{"$f":"'Overseas in-migration'!M23","v":171},{"$f":"'Overseas out-migration'!M23","v":191},null,{"$f":"NINo!M24","v":240},{"$f":"'Non-UK Births'!M24","v":114},{"$f":"'Pupils ethnic group'!N24","v":462},{"$f":"'Pupils with English as an add.'!K23","v":307},{"$f":"'Pop born outside UK'!M24","v":4000}]
[22,"Moray",null,{"$f":"'Total net migration'!M24","v":410},{"$f":"'Total net migration 0-15'!M24","v":126},{"$f":"'Total net migration 16-64'!M24","v":249},{"$f":"'Total net migration 65+'!M24","v":35},{"$f":"'Total in-migration'!M24","v":3680},{"$f":"'Total out-migration'!M24","v":3270},{"$f":"'Within Scotland net migration'!M24","v":274},{"$f":"'Within Scotland in-migration'!M24","v":2091},{"$f":"'Within Scotland out-migration'!M24","v":1817},{"$f":"'Rest of UK net migration'!M24","v":258},{"$f":"'Rest of UK in-migration'!M24","v":1257},{"$f":"'Rest of UK out-migration'!M24","v":999},{"$f":"'Overseas net migration'!M24","v":-122},{"$f":"'Overseas in-migration'!M24","v":332},{"$f":"'Overseas out-migration'!M24","v":454},null,{"$f":"NINo!M25","v":310},{"$f":"'Non-UK Births'!M25","v":98},{"$f":"'Pupils ethnic group'!N25","v":318},{"$f":"'Pupils with English as an add.'!K24","v":415},{"$f":"'Pop born outside UK'!M25","v":4000}]
[23,"North Ayrshire",null,{"$f":"'Total net migration'!M25","v":60},{"$f":"'Total net migration 0-15'!M25","v":101},{"$f":"'Total net migration 16-64'!M25","v":-41},{"$f":"'Total net migration 65+'!M25","v":0},{"$f":"'Total in-migration'!M25","v":3725},{"$f":"'Total out-migration'!M25","v":3665},{"$f":"'Within Scotland net migration'!M25","v":-74},{"$f":"'Within Scotland in-migration'!M25","v":2816},{"$f":"'Within Scotland out-migration'!M25","v":2890},{"$f":"'Rest of UK net migration'!M25","v":176},{"$f":"'Rest of UK in-migration'!M25","v":751},{"$f":"'Rest of UK out-migration'!M25","v":575},{"$f":"'Overseas net migration'!M25","v":-42},{"$f":"'Overseas in-migration'!M25","v":158},{"$f":"'Overseas out-migration'!M25","v":200},null,{"$f":"NINo!M26","v":180},{"$f":"'Non-UK Births'!M26","v":62},{"$f":"'Pupils ethnic group'!N26","v":331},{"$f":"'Pupils with English as an add.'!K25","v":121},{"$f":"'Pop born outside UK'!M26","v":2000}]
[24,"North Lanarkshire",null,{"$f":"'Total net migration'!M26","v":140},{"$f":"'Total net migration 0-15'!M26","v":107},{"$f":"'Total net migration 16-64'!M26","v":-29},{"$f":"'Total net migration 65+'!M26","v":62},{"$f":"'Total in-migration'!M26","v":7581},{"$f":"'Total out-migration'!M26","v":7441},{"$f":"'Within Scotland net migration'!M26","v":-152},{"$f":"'Within Scotland in-migration'!M26","v":5780},{"$f":"'Within Scotland out-migration'!M26","v":5932},{"$f":"'Rest of UK net migration'!M26","v":127},{"$f":"'Rest of UK in-migration'!M26","v":1178},{"$f":"'Rest of UK out-migration'!M26","v":1051},{"$f":"'Overseas net migration'!M26","v":165},{"$f":"'Overseas in-migration'!M26","v":623},{"$f":"'Overseas out-migration'!M26","v":458},null,{"$f":"NINo!M27","v":1030},{"$f":"'Non-UK Births'!M27","v":237},{"$f":"'Pupils ethnic group'!N27","v":1928},{"$f":"'Pupils with English as an add.'!K26","v":1271},{"$f":"'Pop born outside UK'!M27","v":14000}]
[25,"Orkney Islands",null,{"$f":"'Total net migration'!M27","v":100},{"$f":"'Total net migration 0-15'!M27","v":35},{"$f":"'Total net migration 16-64'!M27","v":63},{"$f":"'Total net migration 65+'!M27","v":2},{"$f":"'Total in-migration'!M27","v":711},{"$f":"'Total out-migration'!M27","v":611},{"$f":"'Within Scotland net migration'!M27","v":-35},{"$f":"'Within Scotland in-migration'!M27","v":389},{"$f":"'Within Scotland out-migration'!M27","v":424},{"$f":"'Rest of UK net migration'!M27","v":132},{"$f":"'Rest of UK in-migration'!M27","v":269},{"$f":"'Rest of UK out-migration'!M27","v":137},{"$f":"'Overseas net migration'!M27","v":3},{"$f":"'Overseas in-migration'!M27","v":53},{"$f":"'Overseas out-migration'!M27","v":50},null,{"$f":"NINo!M28","v":60},{"$f":"'Non-UK Births'!M28","v":9},{"$f":"'Pupils ethnic group'!N28","v":38},{"$f":"'Pupils with English as an add.'!K27","v":20},{"$f":"'Pop born outside UK'!M28","v":0}]
[26,"Perth & Kinross",null,{"$f":"'Total net migration'!M28","v":1263},{"$f":"'Total net migration 0-15'!M28","v":500},{"$f":"'Total net migration 16-64'!M28","v":649},{"$f":"'Total net migration 65+'!M28","v":114},{"$f":"'Total in-migration'!M28","v":6512},{"$f":"'Total out-migration'!M28","v":5249},{"$f":"'Within Scotland net migration'!M28","v":468},{"$f":"'Within Scotland in-migration'!M28","v":4209},{"$f":"'Within Scotland out-migration'!M28","v":3741},{"$f":"'Rest of UK net migration'!M28","v":332},{"$f":"'Rest of UK in-migration'!M28","v":1355},{"$f":"'Rest of UK out-migration'!M28","v":1023},{"$f":"'Overseas net migration'!M28","v":463},{"$f":"'Overseas in-migration'!M28","v":948},{"$f":"'Overseas out-migration'!M28","v":485},null,{"$f":"NINo!M29","v":2730},{"$f":"'Non-UK Births'!M29","v":233},{"$f":"'Pupils ethnic group'!N29","v":622},{"$f":"'Pupils with English as an add.'!K28","v":740},{"$f":"'Pop born outside UK'!M29","v":14000}]
[27,"Renfrewshire",null,{"$f":"'Total net migration'!M29","v":591},{"$f":"'Total net migration 0-15'!M29","v":98},{"$f":"'Total net migration 16-64'!M29","v":459},{"$f":"'Total net migration 65+'!M29","v":34},{"$f":"'Total in-migration'!M29","v":5410},{"$f":"'Total out-migration'!M29","v":4819},{"$f":"'Within Scotland net migration'!M29","v":203},{"$f":"'Within Scotland in-migration'!M29","v":4075},{"$f":"'Within Scotland out-migration'!M29","v":3872},{"$f":"'Rest of UK net migration'!M29","v":110},{"$f":"'Rest of UK in-migration'!M29","v":787},{"$f":"'Rest of UK out-migration'!M29","v":677},{"$f":"'Overseas net migration'!M29","v":278},{"$f":"'Overseas in-migration'!M29","v":548},{"$f":"'Overseas out-migration'!M29","v":270},null,{"$f":"NINo!M30","v":750},{"$f":"'Non-UK Births'!M30","v":185},{"$f":"'Pupils ethnic group'!N30","v":979},{"$f":"'Pupils with English as an add.'!K29","v":563},{"$f":"'Pop born outside UK'!M30","v":9000}]
[28,"Scottish Borders",null,{"$f":"'Total net migration'!M30","v":435},{"$f":"'Total net migration 0-15'!M30","v":130},{"$f":"'Total net migration 16-64'!M30","v":282},{"$f":"'Total net migration 65+'!M30","v":23},{"$f":"'Total in-migration'!M30","v":4130},{"$f":"'Total out-migration'!M30","v":3695},{"$f":"'Within Scotland net migration'!M30","v":91},{"$f":"'Within Scotland in-migration'!M30","v":2286},{"$f":"'Within Scotland out-migration'!M30","v":2195},{"$f":"'Rest of UK net migration'!M30","v":394},{"$f":"'Rest of UK in-migration'!M30","v":1580},{"$f":"'Rest of UK out-migration'!M30","v":1186},{"$f":"'Overseas net migration'!M30","v":-50},{"$f":"'Overseas in-migration'!M30","v":264},{"$f":"'Overseas out-migration'!M30","v":314},null,{"$f":"NINo!M31","v":450},{"$f":"'Non-UK Births'!M31","v":121},{"$f":"'Pupils ethnic group'!N31","v":330},{"$f":"'Pupils with English as an add.'!K30","v":411},{"$f":"'Pop born outside UK'!M31","v":6000}]
[29,"Shetland Islands",null,{"$f":"'Total net migration'!M31","v":-36},{"$f":"'Total net migration 0-15'!M31","v":-7},{"$f":"'Total net migration 16-64'!M31","v":4},{"$f":"'Total net migration 65+'!M31","v":-33},{"$f":"'Total in-migration'!M31","v":705},{"$f":"'Total out-migration'!M31","v":741},{"$f":"'Within Scotland net migration'!M31","v":-99},{"$f":"'Within Scotland in-migration'!M31","v":390},{"$f":"'Within Scotland out-migration'!M31","v":489},{"$f":"'Rest of UK net migration'!M31","v":31},{"$f":"'Rest of UK in-migration'!M31","v":222},{"$f":"'Rest of UK out-migration'!M31","v":191},{"$f":"'Overseas net migration'!M31","v":32},{"$f":"'Overseas in-migration'!M31","v":93},{"$f":"'Overseas out-migration'!M31","v":61},null,{"$f":"NINo!M32","v":300},{"$f":"'Non-UK Births'!M32","v":24},{"$f":"'Pupils ethnic group'!N32","v":101},{"$f":"'Pupils with English as an add.'!K31","v":57},{"$f":"'Pop born outside UK'!M32","v":0}]
[30,"South Ayrshire",null,{"$f":"'Total net migration'!M32","v":311},{"$f":"'Total net migration 0-15'!M32","v":183},{"$f":"'Total net migration 16-64'!M32","v":28},{"$f":"'Total net migration 65+'!M32","v":100},{"$f":"'Total in-migration'!M32","v":3749},{"$f":"'Total out-migration'!M32","v":3438},{"$f":"'Within Scotland net migration'!M32","v":112},{"$f":"'Within Scotland in-migration'!M32","v":2684},{"$f":"'Within Scotland out-migration'!M32","v":2572},{"$f":"'Rest of UK net migration'!M32","v":185},{"$f":"'Rest of UK in-migration'!M32","v":811},{"$f":"'Rest of UK out-migration'!M32","v":626},{"$f":"'Overseas net migration'!M32","v":14},{"$f":"'Overseas in-migration'!M32","v":254},{"$f":"'Overseas out-migration'!M32","v":240},null,{"$f":"NINo!M33","v":280},{"$f":"'Non-UK Births'!M33","v":78},{"$f":"'Pupils ethnic group'!N33","v":318},{"$f":"'Pupils with English as an add.'!K32","v":177},{"$f":"'Pop born outside UK'!M33","v":4000}]
[31,"South Lanarkshire",null,{"$f":"'Total net migration'!M33","v":1034},{"$f":"'Total net migration 0-15'!M33","v":388},{"$f":"'Total net migration 16-64'!M33","v":616},{"$f":"'Total net migration 65+'!M33","v":30},{"$f":"'Total in-migration'!M33","v":9169},{"$f":"'Total out-migration'!M33","v":8135},{"$f":"'Within Scotland net migration'!M33","v":1228},{"$f":"'Within Scotland in-migration'!M33","v":7455},{"$f":"'Within Scotland out-migration'!M33","v":6227},{"$f":"'Rest of UK net migration'!M33","v":-33},{"$f":"'Rest of UK in-migration'!M33","v":1260},{"$f":"'Rest of UK out-migration'!M33","v":1293},{"$f":"'Overseas net migration'!M33","v":-161},{"$f":"'Overseas in-migration'!M33","v":454},{"$f":"'Overseas out-migration'!M33","v":615},null,{"$f":"NINo!M34","v":710},{"$f":"'Non-UK Births'!M34","v":221},{"$f":"'Pupils ethnic group'!N34","v":1698},{"$f":"'Pupils with English as an add.'!K33","v":711},{"$f":"'Pop born outside UK'!M34","v":11000}]
[32,"Stirling",null,{"$f":"'Total net migration'!M34","v":1412},{"$f":"'Total net migration 0-15'!M34","v":357},{"$f":"'Total net migration 16-64'!M34","v":1092},{"$f":"'Total net migration 65+'!M34","v":-37},{"$f":"'Total in-migration'!M34","v":5938},{"$f":"'Total out-migration'!M34","v":4526},{"$f":"'Within Scotland net migration'!M34","v":413},{"$f":"'Within Scotland in-migration'!M34","v":3793},{"$f":"'Within Scotland out-migration'!M34","v":3380},{"$f":"'Rest of UK net migration'!M34","v":362},{"$f":"'Rest of UK in-migration'!M34","v":1112},{"$f":"'Rest of UK out-migration'!M34","v":750},{"$f":"'Overseas net migration'!M34","v":637},{"$f":"'Overseas in-migration'!M34","v":1033},{"$f":"'Overseas out-migration'!M34","v":396},null,{"$f":"NINo!M35","v":750},{"$f":"'Non-UK Births'!M35","v":104},{"$f":"'Pupils ethnic group'!N35","v":464},{"$f":"'Pupils with English as an add.'!K34","v":304},{"$f":"'Pop born outside UK'!M35","v":8000}]
[33,"West Dunbartonshire",null,{"$f":"'Total net migration'!M35","v":79},{"$f":"'Total net migration 0-15'!M35","v":60},{"$f":"'Total net migration 16-64'!M35","v":30},{"$f":"'Total net migration 65+'!M35","v":-11},{"$f":"'Total in-migration'!M35","v":2551},{"$f":"'Total out-migration'!M35","v":2472},{"$f":"'Within Scotland net migration'!M35","v":92},{"$f":"'Within Scotland in-migration'!M35","v":2083},{"$f":"'Within Scotland out-migration'!M35","v":1991},{"$f":"'Rest of UK net migration'!M35","v":20},{"$f":"'Rest of UK in-migration'!M35","v":347},{"$f":"'Rest of UK out-migration'!M35","v":327},{"$f":"'Overseas net migration'!M35","v":-33},{"$f":"'Overseas in-migration'!M35","v":121},{"$f":"'Overseas out-migration'!M35","v":154},null,{"$f":"NINo!M36","v":190},{"$f":"'Non-UK Births'!M36","v":72},{"$f":"'Pupils ethnic group'!N36","v":328},{"$f":"'Pupils with English as an add.'!K35","v":213},{"$f":"'Pop born outside UK'!M36","v":2000}]
[34,"West Lothian",null,{"$f":"'Total net migration'!M36","v":890},{"$f":"'Total net migration 0-15'!M36","v":290},{"$f":"'Total net migration 16-64'!M36","v":537},{"$f":"'Total net migration 65+'!M36","v":63},{"$f":"'Total in-migration'!M36","v":5724},{"$f":"'Total out-migration'!M36","v":4834},{"$f":"'Within Scotland net migration'!M36","v":633},{"$f":"'Within Scotland in-migration'!M36","v":4308},{"$f":"'Within Scotland out-migration'!M36","v":3675},{"$f":"'Rest of UK net migration'!M36","v":61},{"$f":"'Rest of UK in-migration'!M36","v":855},{"$f":"'Rest of UK out-migration'!M36","v":794},{"$f":"'Overseas net migration'!M36","v":196},{"$f":"'Overseas in-migration'!M36","v":561},{"$f":"'Overseas out-migration'!M36","v":365},null,{"$f":"NINo!M37","v":880},{"$f":"'Non-UK Births'!M37","v":320},{"$f":"'Pupils ethnic group'!N37","v":1269},{"$f":"'Pupils with English as an add.'!K36","v":1211},{"$f":"'Pop born outside UK'!M37","v":10000}]
[]
[35,"Not specified"]
[36,"SCOTLAND",null,{"$f":"'Total net migration'!M39","v":27968},{"$f":"'Total net migration 0-15'!M39","v":4093},{"$f":"'Total net migration 16-64'!M39","v":23858},{"$f":"'Total net migration 65+'!M39","v":17},{"$f":"'Total in-migration'!M39","v":84954},{"$f":"'Total out-migration'!M39","v":56986},null,null,null,{"$f":"'Rest of UK net migration'!M39","v":8368},{"$f":"'Rest of UK in-migration'!M39","v":47154},{"$f":"'Rest of UK out-migration'!M39","v":38786},{"$f":"'Overseas net migration'!M39","v":19600},{"$f":"'Overseas in-migration'!M39","v":37800},{"$f":"'Overseas out-migration'!M39","v":18200},null,null,{"$f":"'Non-UK Births'!M40","v":8998},null,null,null,{"$f":"'NHS Overseas'!M5","v":57422}]
[37,"Ayrshire & Arran",null,{"$f":"'Total net migration'!M40","v":433},{"$f":"'Total net migration 0-15'!M40","v":355},{"$f":"'Total net migration 16-64'!M40","v":-3},{"$f":"'Total net migration 65+'!M40","v":81},{"$f":"'Total in-migration'!M40","v":8024},{"$f":"'Total out-migration'!M40","v":7591},{"$f":"'Within Scotland net migration'!M40","v":23},{"$f":"'Within Scotland in-migration'!M40","v":5303},{"$f":"'Within Scotland out-migration'!M40","v":5280},{"$f":"'Rest of UK net migration'!M40","v":529},{"$f":"'Rest of UK in-migration'!M40","v":2219},{"$f":"'Rest of UK out-migration'!M40","v":1690},{"$f":"'Overseas net migration'!M40","v":-119},{"$f":"'Overseas in-migration'!M40","v":502},{"$f":"'Overseas out-migration'!M40","v":621},null,null,{"$f":"'Non-UK Births'!M41","v":196}]
[38,"Borders",null,{"$f":"'Total net migration'!M41","v":435},{"$f":"'Total net migration 0-15'!M41","v":130},{"$f":"'Total net migration 16-64'!M41","v":282},{"$f":"'Total net migration 65+'!M41","v":23},{"$f":"'Total in-migration'!M41","v":4130},{"$f":"'Total out-migration'!M41","v":3695},{"$f":"'Within Scotland net migration'!M41","v":91},{"$f":"'Within Scotland in-migration'!M41","v":2286},{"$f":"'Within Scotland out-migration'!M41","v":2195},{"$f":"'Rest of UK net migration'!M41","v":394},{"$f":"'Rest of UK in-migration'!M41","v":1580},{"$f":"'Rest of UK out-migration'!M41","v":1186},{"$f":"'Overseas net migration'!M41","v":-50},{"$f":"'Overseas in-migration'!M41","v":264},{"$f":"'Overseas out-migration'!M41","v":314},null,null,{"$f":"'Non-UK Births'!M42","v":121}]
[39,"Dumfries & Galloway",null,{"$f":"'Total net migration'!M42","v":330},{"$f":"'Total net migration 0-15'!M42","v":74},{"$f":"'Total net migration 16-64'!M42","v":206},{"$f":"'Total net migration 65+'!M42","v":50},{"$f":"'Total in-migration'!M42","v":3928},{"$f":"'Total out-migration'!M42","v":3598},{"$f":"'Within Scotland net migration'!M42","v":-103},{"$f":"'Within Scotland in-migration'!M42","v":1734},{"$f":"'Within Scotland out-migration'!M42","v":1837},{"$f":"'Rest of UK net migration'!M42","v":505},{"$f":"'Rest of UK in-migration'!M42","v":1913},{"$f":"'Rest of UK out-migration'!M42","v":1408},{"$f":"'Overseas net migration'!M42","v":-72},{"$f":"'Overseas in-migration'!M42","v":281},{"$f":"'Overseas out-migration'!M42","v":353},null,null,{"$f":"'Non-UK Births'!M43","v":87}]
[40,"Fife",null,{"$f":"'Total net migration'!M43","v":1228},{"$f":"'Total net migration 0-15'!M43","v":279},{"$f":"'Total net migration 16-64'!M43","v":901},{"$f":"'Total net migration 65+'!M43","v":48},{"$f":"'Total in-migration'!M43","v":11289},{"$f":"'Total out-migration'!M43","v":10061},{"$f":"'Within Scotland net migration'!M43","v":-68},{"$f":"'Within Scotland in-migration'!M43","v":6390},{"$f":"'Within Scotland out-migration'!M43","v":6458},{"$f":"'Rest of UK net migration'!M43","v":468},{"$f":"'Rest of UK in-migration'!M43","v":2981},{"$f":"'Rest of UK out-migration'!M43","v":2513},{"$f":"'Overseas net migration'!M43","v":828},{"$f":"'Overseas in-migration'!M43","v":1918},{"$f":"'Overseas out-migration'!M43","v":1090},null,null,{"$f":"'Non-UK Births'!M44","v":443}]
[41,"Forth Valley",null,{"$f":"'Total net migration'!M44","v":2288},{"$f":"'Total net migration 0-15'!M44","v":494},{"$f":"'Total net migration 16-64'!M44","v":1714},{"$f":"'Total net migration 65+'!M44","v":80},{"$f":"'Total in-migration'!M44","v":10572},{"$f":"'Total out-migration'!M44","v":8284},{"$f":"'Within Scotland net migration'!M44","v":871},{"$f":"'Within Scotland in-migration'!M44","v":6915},{"$f":"'Within Scotland out-migration'!M44","v":6044},{"$f":"'Rest of UK net migration'!M44","v":657},{"$f":"'Rest of UK in-migration'!M44","v":2149},{"$f":"'Rest of UK out-migration'!M44","v":1492},{"$f":"'Overseas net migration'!M44","v":760},{"$f":"'Overseas in-migration'!M44","v":1508},{"$f":"'Overseas out-migration'!M44","v":748},null,null,{"$f":"'Non-UK Births'!M45","v":315}]
[42,"Grampian",null,{"$f":"'Total net migration'!M45","v":2481},{"$f":"'Total net migration 0-15'!M45","v":252},{"$f":"'Total net migration 16-64'!M45","v":2593},{"$f":"'Total net migration 65+'!M45","v":-364},{"$f":"'Total in-migration'!M45","v":19204},{"$f":"'Total out-migration'!M45","v":16723},{"$f":"'Within Scotland net migration'!M45","v":-996},{"$f":"'Within Scotland in-migration'!M45","v":7743},{"$f":"'Within Scotland out-migration'!M45","v":8739},{"$f":"'Rest of UK net migration'!M45","v":154},{"$f":"'Rest of UK in-migration'!M45","v":5459},{"$f":"'Rest of UK out-migration'!M45","v":5305},{"$f":"'Overseas net migration'!M45","v":3323},{"$f":"'Overseas in-migration'!M45","v":6002},{"$f":"'Overseas out-migration'!M45","v":2679},null,null,{"$f":"'Non-UK Births'!M46","v":1524}]
[43,"Greater Glasgow & Clyde",null,{"$f":"'Total net migration'!M46","v":7550},{"$f":"'Total net migration 0-15'!M46","v":546},{"$f":"'Total net migration 16-64'!M46","v":7117},{"$f":"'Total net migration 65+'!M46","v":-113},{"$f":"'Total in-migration'!M46","v":37643},{"$f":"'Total out-migration'!M46","v":30093},{"$f":"'Within Scotland net migration'!M46","v":-1060},{"$f":"'Within Scotland in-migration'!M46","v":17265},{"$f":"'Within Scotland out-migration'!M46","v":18325},{"$f":"'Rest of UK net migration'!M46","v":1470},{"$f":"'Rest of UK in-migration'!M46","v":8968},{"$f":"'Rest of UK out-migration'!M46","v":7498},{"$f":"'Overseas net migration'!M46","v":7140},{"$f":"'Overseas in-migration'!M46","v":11410},{"$f":"'Overseas out-migration'!M46","v":4270},null,null,{"$f":"'Non-UK Births'!M47","v":2417}]
[44,"Highland",null,{"$f":"'Total net migration'!M47","v":882},{"$f":"'Total net migration 0-15'!M47","v":365},{"$f":"'Total net migration 16-64'!M47","v":621},{"$f":"'Total net migration 65+'!M47","v":-104},{"$f":"'Total in-migration'!M47","v":11308},{"$f":"'Total out-migration'!M47","v":10426},{"$f":"'Within Scotland net migration'!M47","v":-472},{"$f":"'Within Scotland in-migration'!M47","v":6276},{"$f":"'Within Scotland out-migration'!M47","v":6748},{"$f":"'Rest of UK net migration'!M47","v":1110},{"$f":"'Rest of UK in-migration'!M47","v":3815},{"$f":"'Rest of UK out-migration'!M47","v":2705},{"$f":"'Overseas net migration'!M47","v":244},{"$f":"'Overseas in-migration'!M47","v":1217},{"$f":"'Overseas out-migration'!M47","v":973},null,null,{"$f":"'Non-UK Births'!M48","v":401}]
[45,"Lanarkshire",null,{"$f":"'Total net migration'!M48","v":1174},{"$f":"'Total net migration 0-15'!M48","v":495},{"$f":"'Total net migration 16-64'!M48","v":587},{"$f":"'Total net migration 65+'!M48","v":92},{"$f":"'Total in-migration'!M48","v":14153},{"$f":"'Total out-migration'!M48","v":12979},{"$f":"'Within Scotland net migration'!M48","v":1076},{"$f":"'Within Scotland in-migration'!M48","v":10638},{"$f":"'Within Scotland out-migration'!M48","v":9562},{"$f":"'Rest of UK net migration'!M48","v":94},{"$f":"'Rest of UK in-migration'!M48","v":2438},{"$f":"'Rest of UK out-migration'!M48","v":2344},{"$f":"'Overseas net migration'!M48","v":4},{"$f":"'Overseas in-migration'!M48","v":1077},{"$f":"'Overseas out-migration'!M48","v":1073},null,null,{"$f":"'Non-UK Births'!M49","v":458}]
[46,"Lothian",null,{"$f":"'Total net migration'!M49","v":9099},{"$f":"'Total net migration 0-15'!M49","v":504},{"$f":"'Total net migration 16-64'!M49","v":8425},{"$f":"'Total net migration 65+'!M49","v":170},{"$f":"'Total in-migration'!M49","v":35907},{"$f":"'Total out-migration'!M49","v":26808},{"$f":"'Within Scotland net migration'!M49","v":424},{"$f":"'Within Scotland in-migration'!M49","v":13662},{"$f":"'Within Scotland out-migration'!M49","v":13238},{"$f":"'Rest of UK net migration'!M49","v":2293},{"$f":"'Rest of UK in-migration'!M49","v":11451},{"$f":"'Rest of UK out-migration'!M49","v":9158},{"$f":"'Overseas net migration'!M49","v":6382},{"$f":"'Overseas in-migration'!M49","v":10794},{"$f":"'Overseas out-migration'!M49","v":4412},null,null,{"$f":"'Non-UK Births'!M50","v":2380}]
[47,"Orkney",null,{"$f":"'Total net migration'!M50","v":100},{"$f":"'Total net migration 0-15'!M50","v":35},{"$f":"'Total net migration 16-64'!M50","v":63},{"$f":"'Total net migration 65+'!M50","v":2},{"$f":"'Total in-migration'!M50","v":711},{"$f":"'Total out-migration'!M50","v":611},{"$f":"'Within Scotland net migration'!M50","v":-35},{"$f":"'Within Scotland in-migration'!M50","v":389},{"$f":"'Within Scotland out-migration'!M50","v":424},{"$f":"'Rest of UK net migration'!M50","v":132},{"$f":"'Rest of UK in-migration'!M50","v":269},{"$f":"'Rest of UK out-migration'!M50","v":137},{"$f":"'Overseas net migration'!M50","v":3},{"$f":"'Overseas in-migration'!M50","v":53},{"$f":"'Overseas out-migration'!M50","v":50},null,null,{"$f":"'Non-UK Births'!M51","v":9}]
[48,"Shetland",null,{"$f":"'Total net migration'!M51","v":-36},{"$f":"'Total net migration 0-15'!M51","v":-7},{"$f":"'Total net migration 16-64'!M51","v":4},{"$f":"'Total net migration 65+'!M51","v":-33},{"$f":"'Total in-migration'!M51","v":705},{"$f":"'Total out-migration'!M51","v":741},{"$f":"'Within Scotland net migration'!M51","v":-99},{"$f":"'Within Scotland in-migration'!M51","v":390},{"$f":"'Within Scotland out-migration'!M51","v":489},{"$f":"'Rest of UK net migration'!M51","v":31},{"$f":"'Rest of UK in-migration'!M51","v":222},{"$f":"'Rest of UK out-migration'!M51","v":191},{"$f":"'Overseas net migration'!M51","v":32},{"$f":"'Overseas in-migration'!M51","v":93},{"$f":"'Overseas out-migration'!M51","v":61},null,null,{"$f":"'Non-UK Births'!M52","v":24}]
[49,"Tayside",null,{"$f":"'Total net migration'!M52","v":2009},{"$f":"'Total net migration 0-15'!M52","v":549},{"$f":"'Total net migration 16-64'!M52","v":1366},{"$f":"'Total net migration 65+'!M52","v":94},{"$f":"'Total in-migration'!M52","v":14314},{"$f":"'Total out-migration'!M52","v":12305},{"$f":"'Within Scotland net migration'!M52","v":394},{"$f":"'Within Scotland in-migration'!M52","v":8220},{"$f":"'Within Scotland out-migration'!M52","v":7826},{"$f":"'Rest of UK net migration'!M52","v":492},{"$f":"'Rest of UK in-migration'!M52","v":3468},{"$f":"'Rest of UK out-migration'!M52","v":2976},{"$f":"'Overseas net migration'!M52","v":1123},{"$f":"'Overseas in-migration'!M52","v":2626},{"$f":"'Overseas out-migration'!M52","v":1503},null,null,{"$f":"'Non-UK Births'!M53","v":615}]
[50,"Western Isles",null,{"$f":"'Total net migration'!M53","v":-5},{"$f":"'Total net migration 0-15'!M53","v":22},{"$f":"'Total net migration 16-64'!M53","v":-18},{"$f":"'Total net migration 65+'!M53","v":-9},{"$f":"'Total in-migration'!M53","v":881},{"$f":"'Total out-migration'!M53","v":886},{"$f":"'Within Scotland net migration'!M53","v":-46},{"$f":"'Within Scotland in-migration'!M53","v":604},{"$f":"'Within Scotland out-migration'!M53","v":650},{"$f":"'Rest of UK net migration'!M53","v":39},{"$f":"'Rest of UK in-migration'!M53","v":222},{"$f":"'Rest of UK out-migration'!M53","v":183},{"$f":"'Overseas net migration'!M53","v":2},{"$f":"'Overseas in-migration'!M53","v":55},{"$f":"'Overseas out-migration'!M53","v":53},null,null,{"$f":"'Non-UK Births'!M54","v":8}]

{"sheet":"2015 Rate","index":58,"n_rows":53,"n_cols":27,"rows_kept":53,"cut":false,"hidden":true,"merged":[]}
[null,2014,"RATE"]
[null,null,"Not specified ",{"$f":"'Comparing Indicators'!$U8","v":"Total net migration"},{"$f":"'Comparing Indicators'!$U9","v":"Total net migration for ages 0-15"},{"$f":"'Comparing Indicators'!$U10","v":"Total net migration for ages 16-64"},{"$f":"'Comparing Indicators'!$U11","v":"Total net migration for people aged 65+"},{"$f":"'Comparing Indicators'!$U12","v":"Total in-migration"},{"$f":"'Comparing Indicators'!$U13","v":"Total out-migration"},{"$f":"'Comparing Indicators'!$U14","v":"Within Scotland net migration"},{"$f":"'Comparing Indicators'!$U15","v":"Within Scotland in-migration"},{"$f":"'Comparing Indicators'!$U16","v":"Within Scotland out-migration"},{"$f":"'Comparing Indicators'!$U17","v":"Rest of UK net migration"},{"$f":"'Comparing Indicators'!$U18","v":"Rest of UK in-migration"},{"$f":"'Comparing Indicators'!$U19","v":"Rest of UK out-migration"},{"$f":"'Comparing Indicators'!$U20","v":"Overseas net migration"},{"$f":"'Comparing Indicators'!$U21","v":"Overseas in-migration"},{"$f":"'Comparing Indicators'!$U22","v":"Overseas out-migration"},{"$f":"'Comparing Indicators'!$U23","v":"Worker Registration Scheme"},{"$f":"'Comparing Indicators'!$U24","v":"NINo Allocation"},{"$f":"'Comparing Indicators'!$U25","v":"Births to non-UK mothers"},{"$f":"'Comparing Indicators'!$U26","v":"Pupils from a minority ethnic group"},{"$f":"'Comparing Indicators'!$U27","v":"Pupils with English as an additional language"},{"$f":"'Comparing Indicators'!$U28","v":"Estimate of resident population born outside the UK"},"NHS registrations from overseas",null,"Mid-year population estimate"]
[1,"Not specified"]
[2,"SCOTLAND",null,{"$f":"('2015'!D4/'2015 Rate'!$AA4)*1000","v":5.2052856876977485},{"$f":"('2015'!E4/'2015 Rate'!$AA4)*1000","v":0.76177182207332961},{"$f":"('2015'!F4/'2015 Rate'!$AA4)*1000","v":4.4403498976363291},{"$f":"('2015'!G4/'2015 Rate'!$AA4)*1000","v":3.1639679880885912E-3},{"$f":"('2015'!H4/'2015 Rate'!$AA4)*1000","v":15.811278615298717},{"$f":"('2015'!I4/'2015 Rate'!$AA4)*1000","v":10.605992927600967},null,null,null,{"$f":"('2015'!M4/'2015 Rate'!$AA4)*1000","v":1.5574167131956076},{"$f":"('2015'!N4/'2015 Rate'!$AA4)*1000","v":8.7761027359017305},{"$f":"('2015'!O4/'2015 Rate'!$AA4)*1000","v":7.218686022706124},{"$f":"('2015'!P4/'2015 Rate'!$AA4)*1000","v":3.6478689745021402},{"$f":"('2015'!Q4/'2015 Rate'!$AA4)*1000","v":7.0351758793969852},{"$f":"('2015'!R4/'2015 Rate'!$AA4)*1000","v":3.3873069048948445},null,{"$f":"('2015'!T4/'2015 Rate'!$AA4)*1000","v":8.6674111297226872},{"$f":"('2015'!U4/'2015 Rate'!$AA4)*1000","v":1.6746696445188907},{"$f":"('2015'!V4/'2015 Rate'!$AA4)*1000","v":8.2538619021031092},{"$f":"('2015'!W4/'2015 Rate'!$AA4)*1000","v":6.5961287921086917},{"$f":"('2015'!X4/'2015 Rate'!$AA4)*1000","v":73.14349525404802},{"$f":"('2015'!Y4/'2015 Rate'!$AA4)*1000","v":10.68713940070724},"Scotland",{"$f":"'Population estimates'!M4","v":5373000}]
[3,"Aberdeen City",null,{"$f":"('2015'!D5/'2015 Rate'!$AA5)*1000","v":4.7102235728239634},{"$f":"('2015'!E5/'2015 Rate'!$AA5)*1000","v":-1.4629911004992402},{"$f":"('2015'!F5/'2015 Rate'!$AA5)*1000","v":7.0544823095289777},{"$f":"('2015'!G5/'2015 Rate'!$AA5)*1000","v":-0.88126763620577386},{"$f":"('2015'!H5/'2015 Rate'!$AA5)*1000","v":61.037551551986105},{"$f":"('2015'!I5/'2015 Rate'!$AA5)*1000","v":56.327327979162142},{"$f":"('2015'!J5/'2015 Rate'!$AA5)*1000","v":-9.6418493596700667},{"$f":"('2015'!K5/'2015 Rate'!$AA5)*1000","v":29.55068374213154},{"$f":"('2015'!L5/'2015 Rate'!$AA5)*1000","v":39.192533101801601},{"$f":"('2015'!M5/'2015 Rate'!$AA5)*1000","v":0.50792272628608637},{"$f":"('2015'!N5/'2015 Rate'!$AA5)*1000","v":11.560668547861949},{"$f":"('2015'!O5/'2015 Rate'!$AA5)*1000","v":11.052745821575861},{"$f":"('2015'!P5/'2015 Rate'!$AA5)*1000","v":13.844150206207944},{"$f":"('2015'!Q5/'2015 Rate'!$AA5)*1000","v":19.926199261992622},{"$f":"('2015'!R5/'2015 Rate'!$AA5)*1000","v":6.0820490557846751},null,{"$f":"('2015'!T5/'2015 Rate'!$AA5)*1000","v":22.617755589320598},{"$f":"('2015'!U5/'2015 Rate'!$AA5)*1000","v":4.3064901237247675},{"$f":"('2015'!V5/'2015 Rate'!$AA5)*1000","v":12.407206425005427},{"$f":"('2015'!W5/'2015 Rate'!$AA5)*1000","v":13.258085522031692},{"$f":"('2015'!X5/'2015 Rate'!$AA5)*1000","v":169.30757542869546},null,"Aberdeen City",{"$f":"'Population estimates'!M5","v":230350}]
[4,"Aberdeenshire",null,{"$f":"('2015'!D6/'2015 Rate'!$AA6)*1000","v":3.7639334249503742},{"$f":"('2015'!E6/'2015 Rate'!$AA6)*1000","v":1.7674454115132081},{"$f":"('2015'!F6/'2015 Rate'!$AA6)*1000","v":2.7446938463887616},{"$f":"('2015'!G6/'2015 Rate'!$AA6)*1000","v":-0.74820583295159571},{"$f":"('2015'!H6/'2015 Rate'!$AA6)*1000","v":36.219270117575206},{"$f":"('2015'!I6/'2015 Rate'!$AA6)*1000","v":32.455336692624826},{"$f":"('2015'!J6/'2015 Rate'!$AA6)*1000","v":3.6303252404947322},{"$f":"('2015'!K6/'2015 Rate'!$AA6)*1000","v":26.221560543594443},{"$f":"('2015'!L6/'2015 Rate'!$AA6)*1000","v":22.591235303099708},{"$f":"('2015'!M6/'2015 Rate'!$AA6)*1000","v":-0.84364025041991142},{"$f":"('2015'!N6/'2015 Rate'!$AA6)*1000","v":5.8749427393495193},{"$f":"('2015'!O6/'2015 Rate'!$AA6)*1000","v":6.7185829897694305},{"$f":"('2015'!P6/'2015 Rate'!$AA6)*1000","v":0.97724843487555357},{"$f":"('2015'!Q6/'2015 Rate'!$AA6)*1000","v":4.1227668346312418},{"$f":"('2015'!R6/'2015 Rate'!$AA6)*1000","v":3.1455183997556877},null,{"$f":"('2015'!T6/'2015 Rate'!$AA6)*1000","v":6.6040616888074517},{"$f":"('2015'!U6/'2015 Rate'!$AA6)*1000","v":1.6567414872499617},{"$f":"('2015'!V6/'2015 Rate'!$AA6)*1000","v":3.7944724385402351},{"$f":"('2015'!W6/'2015 Rate'!$AA6)*1000","v":5.9780119102153},{"$f":"('2015'!X6/'2015 Rate'!$AA6)*1000","v":49.625897083524201},null,"Aberdeenshire",{"$f":"'Population estimates'!M6","v":261960}]
[5,"Angus",null,{"$f":"('2015'!D7/'2015 Rate'!$AA7)*1000","v":4.5936698032506413},{"$f":"('2015'!E7/'2015 Rate'!$AA7)*1000","v":1.6595380667236954},{"$f":"('2015'!F7/'2015 Rate'!$AA7)*1000","v":2.6261762189905906},{"$f":"('2015'!G7/'2015 Rate'!$AA7)*1000","v":0.30795551753635586},{"$f":"('2015'!H7/'2015 Rate'!$AA7)*1000","v":36.834901625320782},{"$f":"('2015'!I7/'2015 Rate'!$AA7)*1000","v":32.241231822070141},{"$f":"('2015'!J7/'2015 Rate'!$AA7)*1000","v":3.772455089820359},{"$f":"('2015'!K7/'2015 Rate'!$AA7)*1000","v":28.075278015397775},{"$f":"('2015'!L7/'2015 Rate'!$AA7)*1000","v":24.302822925577416},{"$f":"('2015'!M7/'2015 Rate'!$AA7)*1000","v":0.91531223267750206},{"$f":"('2015'!N7/'2015 Rate'!$AA7)*1000","v":6.2788708297690334},{"$f":"('2015'!O7/'2015 Rate'!$AA7)*1000","v":5.363558597091532},{"$f":"('2015'!P7/'2015 Rate'!$AA7)*1000","v":-9.4097519247219846E-2},{"$f":"('2015'!Q7/'2015 Rate'!$AA7)*1000","v":2.4807527801539777},{"$f":"('2015'!R7/'2015 Rate'!$AA7)*1000","v":2.5748502994011973},null,{"$f":"('2015'!T7/'2015 Rate'!$AA7)*1000","v":11.206159110350727},{"$f":"('2015'!U7/'2015 Rate'!$AA7)*1000","v":0.98374679213002558},{"$f":"('2015'!V7/'2015 Rate'!$AA7)*1000","v":3.1308810949529513},{"$f":"('2015'!W7/'2015 Rate'!$AA7)*1000","v":4.0718562874251498},{"$f":"('2015'!X7/'2015 Rate'!$AA7)*1000","v":51.32591958939264},null,"Angus",{"$f":"'Population estimates'!M7","v":116900}]
[6,"Argyll & Bute",null,{"$f":"('2015'!D8/'2015 Rate'!$AA8)*1000","v":-2.6815513868109107},{"$f":"('2015'!E8/'2015 Rate'!$AA8)*1000","v":0.29922891011623892},{"$f":"('2015'!F8/'2015 Rate'!$AA8)*1000","v":-2.2787432385775115},{"$f":"('2015'!G8/'2015 Rate'!$AA8)*1000","v":-0.70203705834963748},{"$f":"('2015'!H8/'2015 Rate'!$AA8)*1000","v":45.033950972493955},{"$f":"('2015'!I8/'2015 Rate'!$AA8)*1000","v":47.715502359304871},{"$f":"('2015'!J8/'2015 Rate'!$AA8)*1000","v":-5.1099090804465419},{"$f":"('2015'!K8/'2015 Rate'!$AA8)*1000","v":26.159512026700426},{"$f":"('2015'!L8/'2015 Rate'!$AA8)*1000","v":31.269421107146972},{"$f":"('2015'!M8/'2015 Rate'!$AA8)*1000","v":3.4066060536310276},{"$f":"('2015'!N8/'2015 Rate'!$AA8)*1000","v":15.433306479456784},{"$f":"('2015'!O8/'2015 Rate'!$AA8)*1000","v":12.026700425825757},{"$f":"('2015'!P8/'2015 Rate'!$AA8)*1000","v":-0.9782483599953965},{"$f":"('2015'!Q8/'2015 Rate'!$AA8)*1000","v":3.441132466336748},{"$f":"('2015'!R8/'2015 Rate'!$AA8)*1000","v":4.4193808263321435},null,{"$f":"('2015'!T8/'2015 Rate'!$AA8)*1000","v":6.5600184140867759},{"$f":"('2015'!U8/'2015 Rate'!$AA8)*1000","v":1.0012659684658765},{"$f":"('2015'!V8/'2015 Rate'!$AA8)*1000","v":2.9347450799861896},{"$f":"('2015'!W8/'2015 Rate'!$AA8)*1000","v":2.0140407411669927},{"$f":"('2015'!X8/'2015 Rate'!$AA8)*1000","v":34.526412705719878},null,"Argyll & Bute",{"$f":"'Population estimates'!M8","v":86890}]
[7,"Clackmannanshire",null,{"$f":"('2015'!D9/'2015 Rate'!$AA9)*1000","v":2.7647975077881619},{"$f":"('2015'!E9/'2015 Rate'!$AA9)*1000","v":0.15576323987538943},{"$f":"('2015'!F9/'2015 Rate'!$AA9)*1000","v":0.9929906542056075},{"$f":"('2015'!G9/'2015 Rate'!$AA9)*1000","v":1.6160436137071652},{"$f":"('2015'!H9/'2015 Rate'!$AA9)*1000","v":36.214953271028037},{"$f":"('2015'!I9/'2015 Rate'!$AA9)*1000","v":33.450155763239877},{"$f":"('2015'!J9/'2015 Rate'!$AA9)*1000","v":1.3045171339563864},{"$f":"('2015'!K9/'2015 Rate'!$AA9)*1000","v":28.407320872274141},{"$f":"('2015'!L9/'2015 Rate'!$AA9)*1000","v":27.102803738317757},{"$f":"('2015'!M9/'2015 Rate'!$AA9)*1000","v":1.5381619937694704},{"$f":"('2015'!N9/'2015 Rate'!$AA9)*1000","v":5.8995327102803738},{"$f":"('2015'!O9/'2015 Rate'!$AA9)*1000","v":4.361370716510903},{"$f":"('2015'!P9/'2015 Rate'!$AA9)*1000","v":-7.7881619937694713E-2},{"$f":"('2015'!Q9/'2015 Rate'!$AA9)*1000","v":1.9080996884735202},{"$f":"('2015'!R9/'2015 Rate'!$AA9)*1000","v":1.985981308411215},null,{"$f":"('2015'!T9/'2015 Rate'!$AA9)*1000","v":2.1417445482866042},{"$f":"('2015'!U9/'2015 Rate'!$AA9)*1000","v":0.77881619937694702},{"$f":"('2015'!V9/'2015 Rate'!$AA9)*1000","v":3.9524922118380066},{"$f":"('2015'!W9/'2015 Rate'!$AA9)*1000","v":3.2515576323987538},{"$f":"('2015'!X9/'2015 Rate'!$AA9)*1000","v":58.411214953271028},null,"Clackmannanshire",{"$f":"'Population estimates'!M9","v":51360}]
[8,"Dumfries & Galloway",null,{"$f":"('2015'!D10/'2015 Rate'!$AA10)*1000","v":2.2048506714772502},{"$f":"('2015'!E10/'2015 Rate'!$AA10)*1000","v":0.49442105966459543},{"$f":"('2015'!F10/'2015 Rate'!$AA10)*1000","v":1.3763613282554954},{"$f":"('2015'!G10/'2015 Rate'!$AA10)*1000","v":0.33406828355715906},{"$f":"('2015'!H10/'2015 Rate'!$AA10)*1000","v":26.244404356250417},{"$f":"('2015'!I10/'2015 Rate'!$AA10)*1000","v":24.039553684773168},{"$f":"('2015'!J10/'2015 Rate'!$AA10)*1000","v":-0.6881806641277477},{"$f":"('2015'!K10/'2015 Rate'!$AA10)*1000","v":11.585488073762278},{"$f":"('2015'!L10/'2015 Rate'!$AA10)*1000","v":12.273668737890025},{"$f":"('2015'!M10/'2015 Rate'!$AA10)*1000","v":3.3740896639273066},{"$f":"('2015'!N10/'2015 Rate'!$AA10)*1000","v":12.781452528896907},{"$f":"('2015'!O10/'2015 Rate'!$AA10)*1000","v":9.4073628649696008},{"$f":"('2015'!P10/'2015 Rate'!$AA10)*1000","v":-0.4810583283223091},{"$f":"('2015'!Q10/'2015 Rate'!$AA10)*1000","v":1.8774637535912342},{"$f":"('2015'!R10/'2015 Rate'!$AA10)*1000","v":2.3585220819135433},null,{"$f":"('2015'!T10/'2015 Rate'!$AA10)*1000","v":2.2716643281886815},{"$f":"('2015'!U10/'2015 Rate'!$AA10)*1000","v":0.58127881338945675},{"$f":"('2015'!V10/'2015 Rate'!$AA10)*1000","v":2.7460412908398477},{"$f":"('2015'!W10/'2015 Rate'!$AA10)*1000","v":2.278345693859825},{"$f":"('2015'!X10/'2015 Rate'!$AA10)*1000","v":33.406828355715909},null,"Dumfries & Galloway",{"$f":"'Population estimates'!M10","v":149670}]
[9,"Dundee City",null,{"$f":"('2015'!D11/'2015 Rate'!$AA11)*1000","v":1.4101612576749207},{"$f":"('2015'!E11/'2015 Rate'!$AA11)*1000","v":-0.97834154240604543},{"$f":"('2015'!F11/'2015 Rate'!$AA11)*1000","v":2.766345050941232},{"$f":"('2015'!G11/'2015 Rate'!$AA11)*1000","v":-0.37784225086026585},{"$f":"('2015'!H11/'2015 Rate'!$AA11)*1000","v":47.358477835503678},{"$f":"('2015'!I11/'2015 Rate'!$AA11)*1000","v":45.948316577828756},{"$f":"('2015'!J11/'2015 Rate'!$AA11)*1000","v":-3.4747992713042306},{"$f":"('2015'!K11/'2015 Rate'!$AA11)*1000","v":28.689022333175899},{"$f":"('2015'!L11/'2015 Rate'!$AA11)*1000","v":32.163821604480127},{"$f":"('2015'!M11/'2015 Rate'!$AA11)*1000","v":0.35760070170703734},{"$f":"('2015'!N11/'2015 Rate'!$AA11)*1000","v":9.3043654274340462},{"$f":"('2015'!O11/'2015 Rate'!$AA11)*1000","v":8.9467647257270091},{"$f":"('2015'!P11/'2015 Rate'!$AA11)*1000","v":4.5273598272721136},{"$f":"('2015'!Q11/'2015 Rate'!$AA11)*1000","v":9.3650900748937307},{"$f":"('2015'!R11/'2015 Rate'!$AA11)*1000","v":4.837730247621618},null,{"$f":"('2015'!T11/'2015 Rate'!$AA11)*1000","v":9.0412252884420763},{"$f":"('2015'!U11/'2015 Rate'!$AA11)*1000","v":1.8014978746373389},{"$f":"('2015'!V11/'2015 Rate'!$AA11)*1000","v":10.7617569664665},{"$f":"('2015'!W11/'2015 Rate'!$AA11)*1000","v":7.6715471290736117},{"$f":"('2015'!X11/'2015 Rate'!$AA11)*1000","v":114.70211186829499},null,"Dundee City",{"$f":"'Population estimates'!M11","v":148210}]
[10,"East Ayrshire",null,{"$f":"('2015'!D12/'2015 Rate'!$AA12)*1000","v":0.50794691135507131},{"$f":"('2015'!E12/'2015 Rate'!$AA12)*1000","v":0.58168114042274288},{"$f":"('2015'!F12/'2015 Rate'!$AA12)*1000","v":8.1926921186301821E-2},{"$f":"('2015'!G12/'2015 Rate'!$AA12)*1000","v":-0.15566115025397345},{"$f":"('2015'!H12/'2015 Rate'!$AA12)*1000","v":27.461903981648369},{"$f":"('2015'!I12/'2015 Rate'!$AA12)*1000","v":26.953957070293299},{"$f":"('2015'!J12/'2015 Rate'!$AA12)*1000","v":-0.12289038177945273},{"$f":"('2015'!K12/'2015 Rate'!$AA12)*1000","v":21.341962969031623},{"$f":"('2015'!L12/'2015 Rate'!$AA12)*1000","v":21.464853350811076},{"$f":"('2015'!M12/'2015 Rate'!$AA12)*1000","v":1.3763722759298707},{"$f":"('2015'!N12/'2015 Rate'!$AA12)*1000","v":5.3825987219400293},{"$f":"('2015'!O12/'2015 Rate'!$AA12)*1000","v":4.0062264460101593},{"$f":"('2015'!P12/'2015 Rate'!$AA12)*1000","v":-0.74553498279534658},{"$f":"('2015'!Q12/'2015 Rate'!$AA12)*1000","v":0.73734229067671642},{"$f":"('2015'!R12/'2015 Rate'!$AA12)*1000","v":1.482877273472063},null,{"$f":"('2015'!T12/'2015 Rate'!$AA12)*1000","v":0.73734229067671642},{"$f":"('2015'!U12/'2015 Rate'!$AA12)*1000","v":0.45879075864329016},{"$f":"('2015'!V12/'2015 Rate'!$AA12)*1000","v":3.1296083893167292},{"$f":"('2015'!W12/'2015 Rate'!$AA12)*1000","v":1.3845649680485008},{"$f":"('2015'!X12/'2015 Rate'!$AA12)*1000","v":16.385384237260364},null,"East Ayrshire",{"$f":"'Population estimates'!M12","v":122060}]
[11,"East Dunbartonshire",null,{"$f":"('2015'!D13/'2015 Rate'!$AA13)*1000","v":5.1327599102468211},{"$f":"('2015'!E13/'2015 Rate'!$AA13)*1000","v":4.7961854899027676},{"$f":"('2015'!F13/'2015 Rate'!$AA13)*1000","v":0.56095736724008971},{"$f":"('2015'!G13/'2015 Rate'!$AA13)*1000","v":-0.22438294689603591},{"$f":"('2015'!H13/'2015 Rate'!$AA13)*1000","v":39.238967838444282},{"$f":"('2015'!I13/'2015 Rate'!$AA13)*1000","v":34.106207928197456},{"$f":"('2015'!J13/'2015 Rate'!$AA13)*1000","v":5.6750186985789082},{"$f":"('2015'!K13/'2015 Rate'!$AA13)*1000","v":33.797681376215408},{"$f":"('2015'!L13/'2015 Rate'!$AA13)*1000","v":28.122662677636498},{"$f":"('2015'!M13/'2015 Rate'!$AA13)*1000","v":0.51421091997008228},{"$f":"('2015'!N13/'2015 Rate'!$AA13)*1000","v":4.4596110695587132},{"$f":"('2015'!O13/'2015 Rate'!$AA13)*1000","v":3.9454001495886315},{"$f":"('2015'!P13/'2015 Rate'!$AA13)*1000","v":-1.056469708302169},{"$f":"('2015'!Q13/'2015 Rate'!$AA13)*1000","v":0.98167539267015702},{"$f":"('2015'!R13/'2015 Rate'!$AA13)*1000","v":2.0381451009723262},null,{"$f":"('2015'!T13/'2015 Rate'!$AA13)*1000","v":1.0284218399401646},{"$f":"('2015'!U13/'2015 Rate'!$AA13)*1000","v":0.80403889304412868},{"$f":"('2015'!V13/'2015 Rate'!$AA13)*1000","v":12.088631264023933},{"$f":"('2015'!W13/'2015 Rate'!$AA13)*1000","v":3.7958115183246073},{"$f":"('2015'!X13/'2015 Rate'!$AA13)*1000","v":46.746447270007479},null,"East Dunbartonshire",{"$f":"'Population estimates'!M13","v":106960}]
[12,"East Lothian",null,{"$f":"('2015'!D14/'2015 Rate'!$AA14)*1000","v":9.3255701115963117},{"$f":"('2015'!E14/'2015 Rate'!$AA14)*1000","v":2.1542940320232895},{"$f":"('2015'!F14/'2015 Rate'!$AA14)*1000","v":5.880640465793304},{"$f":"('2015'!G14/'2015 Rate'!$AA14)*1000","v":1.2906356137797186},{"$f":"('2015'!H14/'2015 Rate'!$AA14)*1000","v":42.086365841824353},{"$f":"('2015'!I14/'2015 Rate'!$AA14)*1000","v":32.760795730228047},{"$f":"('2015'!J14/'2015 Rate'!$AA14)*1000","v":6.6375545851528379},{"$f":"('2015'!K14/'2015 Rate'!$AA14)*1000","v":31.353711790393014},{"$f":"('2015'!L14/'2015 Rate'!$AA14)*1000","v":24.716157205240176},{"$f":"('2015'!M14/'2015 Rate'!$AA14)*1000","v":1.1644832605531297},{"$f":"('2015'!N14/'2015 Rate'!$AA14)*1000","v":6.7345948568655993},{"$f":"('2015'!O14/'2015 Rate'!$AA14)*1000","v":5.5701115963124694},{"$f":"('2015'!P14/'2015 Rate'!$AA14)*1000","v":1.5235322658903445},{"$f":"('2015'!Q14/'2015 Rate'!$AA14)*1000","v":3.9980591945657444},{"$f":"('2015'!R14/'2015 Rate'!$AA14)*1000","v":2.4745269286754006},null,{"$f":"('2015'!T14/'2015 Rate'!$AA14)*1000","v":4.9490538573508012},{"$f":"('2015'!U14/'2015 Rate'!$AA14)*1000","v":1.2130033964095099},{"$f":"('2015'!V14/'2015 Rate'!$AA14)*1000","v":3.813682678311499},{"$f":"('2015'!W14/'2015 Rate'!$AA14)*1000","v":2.7462396894711305},{"$f":"('2015'!X14/'2015 Rate'!$AA14)*1000","v":48.520135856380399},null,"East Lothian",{"$f":"'Population estimates'!M14","v":103050}]
[13,"East Renfrewshire",null,{"$f":"('2015'!D15/'2015 Rate'!$AA15)*1000","v":6.7462879276952874},{"$f":"('2015'!E15/'2015 Rate'!$AA15)*1000","v":6.1007101355713358},{"$f":"('2015'!F15/'2015 Rate'!$AA15)*1000","v":-0.79621261028620616},{"$f":"('2015'!G15/'2015 Rate'!$AA15)*1000","v":1.4417904024101571},{"$f":"('2015'!H15/'2015 Rate'!$AA15)*1000","v":42.425220572412314},{"$f":"('2015'!I15/'2015 Rate'!$AA15)*1000","v":35.678932644717023},{"$f":"('2015'!J15/'2015 Rate'!$AA15)*1000","v":7.6178179470626208},{"$f":"('2015'!K15/'2015 Rate'!$AA15)*1000","v":36.754895631590273},{"$f":"('2015'!L15/'2015 Rate'!$AA15)*1000","v":29.13707768452765},{"$f":"('2015'!M15/'2015 Rate'!$AA15)*1000","v":2.1519259737465032E-2},{"$f":"('2015'!N15/'2015 Rate'!$AA15)*1000","v":4.3038519474930057},{"$f":"('2015'!O15/'2015 Rate'!$AA15)*1000","v":4.2823326877555417},{"$f":"('2015'!P15/'2015 Rate'!$AA15)*1000","v":-0.89304927910479881},{"$f":"('2015'!Q15/'2015 Rate'!$AA15)*1000","v":1.3664729933290296},{"$f":"('2015'!R15/'2015 Rate'!$AA15)*1000","v":2.2595222724338284},null,{"$f":"('2015'!T15/'2015 Rate'!$AA15)*1000","v":1.5063481816225521},{"$f":"('2015'!U15/'2015 Rate'!$AA15)*1000","v":0.98988594792339146},{"$f":"('2015'!V15/'2015 Rate'!$AA15)*1000","v":30.073165483107381},{"$f":"('2015'!W15/'2015 Rate'!$AA15)*1000","v":9.0058102001291154},{"$f":"('2015'!X15/'2015 Rate'!$AA15)*1000","v":64.557779212395104},null,"East Renfrewshire",{"$f":"'Population estimates'!M15","v":92940}]
[14,"Edinburgh, City of",null,{"$f":"('2015'!D16/'2015 Rate'!$AA16)*1000","v":12.55187345883202},{"$f":"('2015'!E16/'2015 Rate'!$AA16)*1000","v":-0.51723100980333192},{"$f":"('2015'!F16/'2015 Rate'!$AA16)*1000","v":13.217457548966541},{"$f":"('2015'!G16/'2015 Rate'!$AA16)*1000","v":-0.14835308033118824},{"$f":"('2015'!H16/'2015 Rate'!$AA16)*1000","v":63.021992341773412},{"$f":"('2015'!I16/'2015 Rate'!$AA16)*1000","v":50.470118882941399},{"$f":"('2015'!J16/'2015 Rate'!$AA16)*1000","v":-3.8631944026783747},{"$f":"('2015'!K16/'2015 Rate'!$AA16)*1000","v":24.628616106333073},{"$f":"('2015'!L16/'2015 Rate'!$AA16)*1000","v":28.491810509011447},{"$f":"('2015'!M16/'2015 Rate'!$AA16)*1000","v":4.288205930113671},{"$f":"('2015'!N16/'2015 Rate'!$AA16)*1000","v":19.04733265171107},{"$f":"('2015'!O16/'2015 Rate'!$AA16)*1000","v":14.759126721597402},{"$f":"('2015'!P16/'2015 Rate'!$AA16)*1000","v":12.126861931396725},{"$f":"('2015'!Q16/'2015 Rate'!$AA16)*1000","v":19.346043583729276},{"$f":"('2015'!R16/'2015 Rate'!$AA16)*1000","v":7.2191816523325514},null,{"$f":"('2015'!T16/'2015 Rate'!$AA16)*1000","v":23.916922275014535},{"$f":"('2015'!U16/'2015 Rate'!$AA16)*1000","v":3.6506886389607263},{"$f":"('2015'!V16/'2015 Rate'!$AA16)*1000","v":13.80686032757964},{"$f":"('2015'!W16/'2015 Rate'!$AA16)*1000","v":11.397125157875745},{"$f":"('2015'!X16/'2015 Rate'!$AA16)*1000","v":154.36739439866884},null,"Edinburgh, City of",{"$f":"'Population estimates'!M16","v":498810}]
[15,"Eilean Siar",null,{"$f":"('2015'!D17/'2015 Rate'!$AA17)*1000","v":-0.1847063169560399},{"$f":"('2015'!E17/'2015 Rate'!$AA17)*1000","v":0.8127077946065755},{"$f":"('2015'!F17/'2015 Rate'!$AA17)*1000","v":-0.66494274104174367},{"$f":"('2015'!G17/'2015 Rate'!$AA17)*1000","v":-0.33247137052087183},{"$f":"('2015'!H17/'2015 Rate'!$AA17)*1000","v":32.545253047654228},{"$f":"('2015'!I17/'2015 Rate'!$AA17)*1000","v":32.729959364610266},{"$f":"('2015'!J17/'2015 Rate'!$AA17)*1000","v":-1.6992981159955669},{"$f":"('2015'!K17/'2015 Rate'!$AA17)*1000","v":22.31252308828962},{"$f":"('2015'!L17/'2015 Rate'!$AA17)*1000","v":24.011821204285184},{"$f":"('2015'!M17/'2015 Rate'!$AA17)*1000","v":1.4407092722571113},{"$f":"('2015'!N17/'2015 Rate'!$AA17)*1000","v":8.2009604728481715},{"$f":"('2015'!O17/'2015 Rate'!$AA17)*1000","v":6.7602512005910604},{"$f":"('2015'!P17/'2015 Rate'!$AA17)*1000","v":7.3882526782415955E-2},{"$f":"('2015'!Q17/'2015 Rate'!$AA17)*1000","v":2.0317694865164388},{"$f":"('2015'!R17/'2015 Rate'!$AA17)*1000","v":1.9578869597340229},null,{"$f":"('2015'!T17/'2015 Rate'!$AA17)*1000","v":2.5858884373845585},{"$f":"('2015'!U17/'2015 Rate'!$AA17)*1000","v":0.29553010712966382},{"$f":"('2015'!V17/'2015 Rate'!$AA17)*1000","v":2.4011821204285186},{"$f":"('2015'!W17/'2015 Rate'!$AA17)*1000","v":1.9578869597340229},{"$f":"('2015'!X17/'2015 Rate'!$AA17)*1000","v":0},null,"Eilean Siar",{"$f":"'Population estimates'!M17","v":27070}]
[16,"Falkirk",null,{"$f":"('2015'!D18/'2015 Rate'!$AA18)*1000","v":4.6320838066388994},{"$f":"('2015'!E18/'2015 Rate'!$AA18)*1000","v":0.81408557364634615},{"$f":"('2015'!F18/'2015 Rate'!$AA18)*1000","v":3.6034330430392529},{"$f":"('2015'!G18/'2015 Rate'!$AA18)*1000","v":0.21456518995330051},{"$f":"('2015'!H18/'2015 Rate'!$AA18)*1000","v":28.259497665025872},{"$f":"('2015'!I18/'2015 Rate'!$AA18)*1000","v":23.627413858386976},{"$f":"('2015'!J18/'2015 Rate'!$AA18)*1000","v":2.4674996844629562},{"$f":"('2015'!K18/'2015 Rate'!$AA18)*1000","v":21.24826454625773},{"$f":"('2015'!L18/'2015 Rate'!$AA18)*1000","v":18.780764861794776},{"$f":"('2015'!M18/'2015 Rate'!$AA18)*1000","v":1.3631200302915563},{"$f":"('2015'!N18/'2015 Rate'!$AA18)*1000","v":4.6320838066388994},{"$f":"('2015'!O18/'2015 Rate'!$AA18)*1000","v":3.2689637763473431},{"$f":"('2015'!P18/'2015 Rate'!$AA18)*1000","v":0.80146409188438728},{"$f":"('2015'!Q18/'2015 Rate'!$AA18)*1000","v":2.3791493121292442},{"$f":"('2015'!R18/'2015 Rate'!$AA18)*1000","v":1.5776852202448568},null,{"$f":"('2015'!T18/'2015 Rate'!$AA18)*1000","v":3.4078000757288907},{"$f":"('2015'!U18/'2015 Rate'!$AA18)*1000","v":1.079136690647482},{"$f":"('2015'!V18/'2015 Rate'!$AA18)*1000","v":4.7456771424965289},{"$f":"('2015'!W18/'2015 Rate'!$AA18)*1000","v":4.0893600908746688},{"$f":"('2015'!X18/'2015 Rate'!$AA18)*1000","v":50.485927047835418},null,"Falkirk",{"$f":"'Population estimates'!M18","v":158460}]
[17,"Fife",null,{"$f":"('2015'!D19/'2015 Rate'!$AA19)*1000","v":3.336231254075201},{"$f":"('2015'!E19/'2015 Rate'!$AA19)*1000","v":0.75798739404477289},{"$f":"('2015'!F19/'2015 Rate'!$AA19)*1000","v":2.4478374266463816},{"$f":"('2015'!G19/'2015 Rate'!$AA19)*1000","v":0.13040643338404695},{"$f":"('2015'!H19/'2015 Rate'!$AA19)*1000","v":30.669963051510539},{"$f":"('2015'!I19/'2015 Rate'!$AA19)*1000","v":27.333731797435341},{"$f":"('2015'!J19/'2015 Rate'!$AA19)*1000","v":-0.1847424472940665},{"$f":"('2015'!K19/'2015 Rate'!$AA19)*1000","v":17.360356444251252},{"$f":"('2015'!L19/'2015 Rate'!$AA19)*1000","v":17.545098891545315},{"$f":"('2015'!M19/'2015 Rate'!$AA19)*1000","v":1.2714627254944577},{"$f":"('2015'!N19/'2015 Rate'!$AA19)*1000","v":8.0987828732884157},{"$f":"('2015'!O19/'2015 Rate'!$AA19)*1000","v":6.8273201477939578},{"$f":"('2015'!P19/'2015 Rate'!$AA19)*1000","v":2.2495109758748097},{"$f":"('2015'!Q19/'2015 Rate'!$AA19)*1000","v":5.2108237339708765},{"$f":"('2015'!R19/'2015 Rate'!$AA19)*1000","v":2.9613127580960663},null,{"$f":"('2015'!T19/'2015 Rate'!$AA19)*1000","v":7.118017822212563},{"$f":"('2015'!U19/'2015 Rate'!$AA19)*1000","v":1.2035427081069332},{"$f":"('2015'!V19/'2015 Rate'!$AA19)*1000","v":4.7027820039121924},{"$f":"('2015'!W19/'2015 Rate'!$AA19)*1000","v":3.1243207998261249},{"$f":"('2015'!X19/'2015 Rate'!$AA19)*1000","v":54.33601391001956},null,"Fife",{"$f":"'Population estimates'!M19","v":368080}]
[18,"Glasgow City",null,{"$f":"('2015'!D20/'2015 Rate'!$AA20)*1000","v":9.6315598509087295},{"$f":"('2015'!E20/'2015 Rate'!$AA20)*1000","v":-1.1511693109476531},{"$f":"('2015'!F20/'2015 Rate'!$AA20)*1000","v":11.198337566381896},{"$f":"('2015'!G20/'2015 Rate'!$AA20)*1000","v":-0.41560840452551379},{"$f":"('2015'!H20/'2015 Rate'!$AA20)*1000","v":54.921331266286238},{"$f":"('2015'!I20/'2015 Rate'!$AA20)*1000","v":45.289771415377508},{"$f":"('2015'!J20/'2015 Rate'!$AA20)*1000","v":-3.9862123561038358},{"$f":"('2015'!K20/'2015 Rate'!$AA20)*1000","v":26.862816241712572},{"$f":"('2015'!L20/'2015 Rate'!$AA20)*1000","v":30.849028597816407},{"$f":"('2015'!M20/'2015 Rate'!$AA20)*1000","v":1.946102846587723},{"$f":"('2015'!N20/'2015 Rate'!$AA20)*1000","v":10.891578982089257},{"$f":"('2015'!O20/'2015 Rate'!$AA20)*1000","v":8.9454761355015346},{"$f":"('2015'!P20/'2015 Rate'!$AA20)*1000","v":11.671669360424843},{"$f":"('2015'!Q20/'2015 Rate'!$AA20)*1000","v":17.166936042484416},{"$f":"('2015'!R20/'2015 Rate'!$AA20)*1000","v":5.4952666820595706},null,{"$f":"('2015'!T20/'2015 Rate'!$AA20)*1000","v":15.354421611637035},{"$f":"('2015'!U20/'2015 Rate'!$AA20)*1000","v":3.2193158953722332},{"$f":"('2015'!V20/'2015 Rate'!$AA20)*1000","v":21.705643698255102},{"$f":"('2015'!W20/'2015 Rate'!$AA20)*1000","v":18.938219480819342},{"$f":"('2015'!X20/'2015 Rate'!$AA20)*1000","v":136.88689514133983},null,"Glasgow City",{"$f":"'Population estimates'!M20","v":606340}]
[19,"Highland",null,{"$f":"('2015'!D21/'2015 Rate'!$AA21)*1000","v":4.7627183802486011},{"$f":"('2015'!E21/'2015 Rate'!$AA21)*1000","v":1.448037247447781},{"$f":"('2015'!F21/'2015 Rate'!$AA21)*1000","v":3.4983554739225151},{"$f":"('2015'!G21/'2015 Rate'!$AA21)*1000","v":-0.18367434112169492},{"$f":"('2015'!H21/'2015 Rate'!$AA21)*1000","v":32.984494468412286},{"$f":"('2015'!I21/'2015 Rate'!$AA21)*1000","v":28.221776088163686},{"$f":"('2015'!J21/'2015 Rate'!$AA21)*1000","v":-0.11960189654435949},{"$f":"('2015'!K21/'2015 Rate'!$AA21)*1000","v":18.495579001324163},{"$f":"('2015'!L21/'2015 Rate'!$AA21)*1000","v":18.615180897868523},{"$f":"('2015'!M21/'2015 Rate'!$AA21)*1000","v":3.4769979923967367},{"$f":"('2015'!N21/'2015 Rate'!$AA21)*1000","v":10.567681858955192},{"$f":"('2015'!O21/'2015 Rate'!$AA21)*1000","v":7.0906838665584555},{"$f":"('2015'!P21/'2015 Rate'!$AA21)*1000","v":1.4053222843962241},{"$f":"('2015'!Q21/'2015 Rate'!$AA21)*1000","v":3.9212336081329289},{"$f":"('2015'!R21/'2015 Rate'!$AA21)*1000","v":2.515911323736705},null,{"$f":"('2015'!T21/'2015 Rate'!$AA21)*1000","v":7.1761137926615692},{"$f":"('2015'!U21/'2015 Rate'!$AA21)*1000","v":1.3412498398188886},{"$f":"('2015'!V21/'2015 Rate'!$AA21)*1000","v":3.541070436974072},{"$f":"('2015'!W21/'2015 Rate'!$AA21)*1000","v":5.2325829738157275},{"$f":"('2015'!X21/'2015 Rate'!$AA21)*1000","v":42.714963051556964},null,"Highland",{"$f":"'Population estimates'!M21","v":234110}]
[20,"Inverclyde",null,{"$f":"('2015'!D22/'2015 Rate'!$AA22)*1000","v":-1.7106918238993711},{"$f":"('2015'!E22/'2015 Rate'!$AA22)*1000","v":7.5471698113207558E-2},{"$f":"('2015'!F22/'2015 Rate'!$AA22)*1000","v":-1.8616352201257862},{"$f":"('2015'!G22/'2015 Rate'!$AA22)*1000","v":7.5471698113207558E-2},{"$f":"('2015'!H22/'2015 Rate'!$AA22)*1000","v":18.314465408805031},{"$f":"('2015'!I22/'2015 Rate'!$AA22)*1000","v":20.025157232704402},{"$f":"('2015'!J22/'2015 Rate'!$AA22)*1000","v":-3.1823899371069184},{"$f":"('2015'!K22/'2015 Rate'!$AA22)*1000","v":12.616352201257861},{"$f":"('2015'!L22/'2015 Rate'!$AA22)*1000","v":15.798742138364778},{"$f":"('2015'!M22/'2015 Rate'!$AA22)*1000","v":1.2955974842767295},{"$f":"('2015'!N22/'2015 Rate'!$AA22)*1000","v":4.4402515723270444},{"$f":"('2015'!O22/'2015 Rate'!$AA22)*1000","v":3.1446540880503147},{"$f":"('2015'!P22/'2015 Rate'!$AA22)*1000","v":0.1761006289308176},{"$f":"('2015'!Q22/'2015 Rate'!$AA22)*1000","v":1.2578616352201257},{"$f":"('2015'!R22/'2015 Rate'!$AA22)*1000","v":1.0817610062893082},null,{"$f":"('2015'!T22/'2015 Rate'!$AA22)*1000","v":1.2578616352201257},{"$f":"('2015'!U22/'2015 Rate'!$AA22)*1000","v":0.37735849056603771},{"$f":"('2015'!V22/'2015 Rate'!$AA22)*1000","v":2.4150943396226419},{"$f":"('2015'!W22/'2015 Rate'!$AA22)*1000","v":0.36477987421383651},{"$f":"('2015'!X22/'2015 Rate'!$AA22)*1000","v":25.157232704402517},null,"Inverclyde",{"$f":"'Population estimates'!M22","v":79500}]
[21,"Midlothian",null,{"$f":"('2015'!D23/'2015 Rate'!$AA23)*1000","v":11.294198420871954},{"$f":"('2015'!E23/'2015 Rate'!$AA23)*1000","v":2.8607392150131594},{"$f":"('2015'!F23/'2015 Rate'!$AA23)*1000","v":7.884197276576268},{"$f":"('2015'!G23/'2015 Rate'!$AA23)*1000","v":0.5492619292825266},{"$f":"('2015'!H23/'2015 Rate'!$AA23)*1000","v":41.70957775489186},{"$f":"('2015'!I23/'2015 Rate'!$AA23)*1000","v":30.41537933401991},{"$f":"('2015'!J23/'2015 Rate'!$AA23)*1000","v":11.832017393294427},{"$f":"('2015'!K23/'2015 Rate'!$AA23)*1000","v":35.164206430941761},{"$f":"('2015'!L23/'2015 Rate'!$AA23)*1000","v":23.332189037647328},{"$f":"('2015'!M23/'2015 Rate'!$AA23)*1000","v":-0.30895983522142118},{"$f":"('2015'!N23/'2015 Rate'!$AA23)*1000","v":4.5886257008811073},{"$f":"('2015'!O23/'2015 Rate'!$AA23)*1000","v":4.8975855361025289},{"$f":"('2015'!P23/'2015 Rate'!$AA23)*1000","v":-0.22885913720105275},{"$f":"('2015'!Q23/'2015 Rate'!$AA23)*1000","v":1.956745623069001},{"$f":"('2015'!R23/'2015 Rate'!$AA23)*1000","v":2.1856047602700537},null,{"$f":"('2015'!T23/'2015 Rate'!$AA23)*1000","v":2.7463096464126333},{"$f":"('2015'!U23/'2015 Rate'!$AA23)*1000","v":1.3044970820460007},{"$f":"('2015'!V23/'2015 Rate'!$AA23)*1000","v":5.286646069344318},{"$f":"('2015'!W23/'2015 Rate'!$AA23)*1000","v":3.5129877560361598},{"$f":"('2015'!X23/'2015 Rate'!$AA23)*1000","v":45.771827440210551},null,"Midlothian",{"$f":"'Population estimates'!M23","v":87390}]
[22,"Moray",null,{"$f":"('2015'!D24/'2015 Rate'!$AA24)*1000","v":4.2927442152654169},{"$f":"('2015'!E24/'2015 Rate'!$AA24)*1000","v":1.3192335881059576},{"$f":"('2015'!F24/'2015 Rate'!$AA24)*1000","v":2.6070568526855826},{"$f":"('2015'!G24/'2015 Rate'!$AA24)*1000","v":0.36645377447387711},{"$f":"('2015'!H24/'2015 Rate'!$AA24)*1000","v":38.529996858967642},{"$f":"('2015'!I24/'2015 Rate'!$AA24)*1000","v":34.237252643702234},{"$f":"('2015'!J24/'2015 Rate'!$AA24)*1000","v":2.8688095487383518},{"$f":"('2015'!K24/'2015 Rate'!$AA24)*1000","v":21.892995497853629},{"$f":"('2015'!L24/'2015 Rate'!$AA24)*1000","v":19.024185949115274},{"$f":"('2015'!M24/'2015 Rate'!$AA24)*1000","v":2.7012878232645794},{"$f":"('2015'!N24/'2015 Rate'!$AA24)*1000","v":13.160925557533242},{"$f":"('2015'!O24/'2015 Rate'!$AA24)*1000","v":10.459637734268663},{"$f":"('2015'!P24/'2015 Rate'!$AA24)*1000","v":-1.2773531567375145},{"$f":"('2015'!Q24/'2015 Rate'!$AA24)*1000","v":3.4760758035807768},{"$f":"('2015'!R24/'2015 Rate'!$AA24)*1000","v":4.753428960318292},null,{"$f":"('2015'!T24/'2015 Rate'!$AA24)*1000","v":3.2457334310543402},{"$f":"('2015'!U24/'2015 Rate'!$AA24)*1000","v":1.0260705685268559},{"$f":"('2015'!V24/'2015 Rate'!$AA24)*1000","v":3.329494293791226},{"$f":"('2015'!W24/'2015 Rate'!$AA24)*1000","v":4.345094754475971},{"$f":"('2015'!X24/'2015 Rate'!$AA24)*1000","v":41.880431368443098},null,"Moray",{"$f":"'Population estimates'!M24","v":95510}]
[23,"North Ayrshire",null,{"$f":"('2015'!D25/'2015 Rate'!$AA25)*1000","v":0.44075516050833763},{"$f":"('2015'!E25/'2015 Rate'!$AA25)*1000","v":0.74193785352236841},{"$f":"('2015'!F25/'2015 Rate'!$AA25)*1000","v":-0.30118269301403072},{"$f":"('2015'!G25/'2015 Rate'!$AA25)*1000","v":0},{"$f":"('2015'!H25/'2015 Rate'!$AA25)*1000","v":27.363549548225961},{"$f":"('2015'!I25/'2015 Rate'!$AA25)*1000","v":26.922794387717623},{"$f":"('2015'!J25/'2015 Rate'!$AA25)*1000","v":-0.54359803129361639},{"$f":"('2015'!K25/'2015 Rate'!$AA25)*1000","v":20.686108866524645},{"$f":"('2015'!L25/'2015 Rate'!$AA25)*1000","v":21.229706897818261},{"$f":"('2015'!M25/'2015 Rate'!$AA25)*1000","v":1.2928818041577903},{"$f":"('2015'!N25/'2015 Rate'!$AA25)*1000","v":5.5167854256960256},{"$f":"('2015'!O25/'2015 Rate'!$AA25)*1000","v":4.2239036215382351},{"$f":"('2015'!P25/'2015 Rate'!$AA25)*1000","v":-0.30852861235583628},{"$f":"('2015'!Q25/'2015 Rate'!$AA25)*1000","v":1.160655256005289},{"$f":"('2015'!R25/'2015 Rate'!$AA25)*1000","v":1.4691838683611254},null,{"$f":"('2015'!T25/'2015 Rate'!$AA25)*1000","v":1.3222654815250128},{"$f":"('2015'!U25/'2015 Rate'!$AA25)*1000","v":0.45544699919194886},{"$f":"('2015'!V25/'2015 Rate'!$AA25)*1000","v":2.4314993021376625},{"$f":"('2015'!W25/'2015 Rate'!$AA25)*1000","v":0.88885624035848088},{"$f":"('2015'!X25/'2015 Rate'!$AA25)*1000","v":14.691838683611254},null,"North Ayrshire",{"$f":"'Population estimates'!M25","v":136130}]
[24,"North Lanarkshire",null,{"$f":"('2015'!D26/'2015 Rate'!$AA26)*1000","v":0.4138828120380772},{"$f":"('2015'!E26/'2015 Rate'!$AA26)*1000","v":0.31632472062910189},{"$f":"('2015'!F26/'2015 Rate'!$AA26)*1000","v":-8.5732868207887419E-2},{"$f":"('2015'!G26/'2015 Rate'!$AA26)*1000","v":0.18329095961686276},{"$f":"('2015'!H26/'2015 Rate'!$AA26)*1000","v":22.411754271861884},{"$f":"('2015'!I26/'2015 Rate'!$AA26)*1000","v":21.997871459823802},{"$f":"('2015'!J26/'2015 Rate'!$AA26)*1000","v":-0.44935848164134096},{"$f":"('2015'!K26/'2015 Rate'!$AA26)*1000","v":17.087447525572045},{"$f":"('2015'!L26/'2015 Rate'!$AA26)*1000","v":17.536806007213386},{"$f":"('2015'!M26/'2015 Rate'!$AA26)*1000","v":0.37545083663454148},{"$f":"('2015'!N26/'2015 Rate'!$AA26)*1000","v":3.4825282327203926},{"$f":"('2015'!O26/'2015 Rate'!$AA26)*1000","v":3.1070773960858511},{"$f":"('2015'!P26/'2015 Rate'!$AA26)*1000","v":0.48779045704487672},{"$f":"('2015'!Q26/'2015 Rate'!$AA26)*1000","v":1.8417785135694436},{"$f":"('2015'!R26/'2015 Rate'!$AA26)*1000","v":1.353988056524567},null,{"$f":"('2015'!T26/'2015 Rate'!$AA26)*1000","v":3.0449949742801397},{"$f":"('2015'!U26/'2015 Rate'!$AA26)*1000","v":0.70064447466445923},{"$f":"('2015'!V26/'2015 Rate'!$AA26)*1000","v":5.6997575829243781},{"$f":"('2015'!W26/'2015 Rate'!$AA26)*1000","v":3.7574646721456868},{"$f":"('2015'!X26/'2015 Rate'!$AA26)*1000","v":41.388281203807722},null,"North Lanarkshire",{"$f":"'Population estimates'!M26","v":338260}]
[25,"Orkney Islands",null,{"$f":"('2015'!D27/'2015 Rate'!$AA27)*1000","v":4.6146746654360866},{"$f":"('2015'!E27/'2015 Rate'!$AA27)*1000","v":1.6151361329026304},{"$f":"('2015'!F27/'2015 Rate'!$AA27)*1000","v":2.9072450392247347},{"$f":"('2015'!G27/'2015 Rate'!$AA27)*1000","v":9.2293493308721733E-2},{"$f":"('2015'!H27/'2015 Rate'!$AA27)*1000","v":32.810336871250577},{"$f":"('2015'!I27/'2015 Rate'!$AA27)*1000","v":28.195662205814489},{"$f":"('2015'!J27/'2015 Rate'!$AA27)*1000","v":-1.6151361329026304},{"$f":"('2015'!K27/'2015 Rate'!$AA27)*1000","v":17.951084448546375},{"$f":"('2015'!L27/'2015 Rate'!$AA27)*1000","v":19.566220581449009},{"$f":"('2015'!M27/'2015 Rate'!$AA27)*1000","v":6.0913705583756341},{"$f":"('2015'!N27/'2015 Rate'!$AA27)*1000","v":12.413474850023073},{"$f":"('2015'!O27/'2015 Rate'!$AA27)*1000","v":6.322104291647439},{"$f":"('2015'!P27/'2015 Rate'!$AA27)*1000","v":0.13844023996308258},{"$f":"('2015'!Q27/'2015 Rate'!$AA27)*1000","v":2.4457775726811262},{"$f":"('2015'!R27/'2015 Rate'!$AA27)*1000","v":2.3073373327180433},null,{"$f":"('2015'!T27/'2015 Rate'!$AA27)*1000","v":2.7688047992616522},{"$f":"('2015'!U27/'2015 Rate'!$AA27)*1000","v":0.41532071988924785},{"$f":"('2015'!V27/'2015 Rate'!$AA27)*1000","v":1.7535763728657128},{"$f":"('2015'!W27/'2015 Rate'!$AA27)*1000","v":0.9229349330872173},{"$f":"('2015'!X27/'2015 Rate'!$AA27)*1000","v":0},null,"Orkney Islands",{"$f":"'Population estimates'!M27","v":21670}]
[26,"Perth & Kinross",null,{"$f":"('2015'!D28/'2015 Rate'!$AA28)*1000","v":8.4239311678783437},{"$f":"('2015'!E28/'2015 Rate'!$AA28)*1000","v":3.3348896151537386},{"$f":"('2015'!F28/'2015 Rate'!$AA28)*1000","v":4.3286867204695518},{"$f":"('2015'!G28/'2015 Rate'!$AA28)*1000","v":0.7603548322550524},{"$f":"('2015'!H28/'2015 Rate'!$AA28)*1000","v":43.433602347762289},{"$f":"('2015'!I28/'2015 Rate'!$AA28)*1000","v":35.009671179883945},{"$f":"('2015'!J28/'2015 Rate'!$AA28)*1000","v":3.1214566797838992},{"$f":"('2015'!K28/'2015 Rate'!$AA28)*1000","v":28.073100780364168},{"$f":"('2015'!L28/'2015 Rate'!$AA28)*1000","v":24.951644100580271},{"$f":"('2015'!M28/'2015 Rate'!$AA28)*1000","v":2.2143667044620821},{"$f":"('2015'!N28/'2015 Rate'!$AA28)*1000","v":9.0375508570666305},{"$f":"('2015'!O28/'2015 Rate'!$AA28)*1000","v":6.8231841526045489},{"$f":"('2015'!P28/'2015 Rate'!$AA28)*1000","v":3.0881077836323616},{"$f":"('2015'!Q28/'2015 Rate'!$AA28)*1000","v":6.3229507103314884},{"$f":"('2015'!R28/'2015 Rate'!$AA28)*1000","v":3.2348429266991263},null,{"$f":"('2015'!T28/'2015 Rate'!$AA28)*1000","v":18.208497298739413},{"$f":"('2015'!U28/'2015 Rate'!$AA28)*1000","v":1.5540585606616422},{"$f":"('2015'!V28/'2015 Rate'!$AA28)*1000","v":4.1486026812512504},{"$f":"('2015'!W28/'2015 Rate'!$AA28)*1000","v":4.9356366304275321},{"$f":"('2015'!X28/'2015 Rate'!$AA28)*1000","v":93.376909224304683},null,"Perth & Kinross",{"$f":"'Population estimates'!M28","v":149930}]
[27,"Renfrewshire",null,{"$f":"('2015'!D29/'2015 Rate'!$AA29)*1000","v":3.385655362053162},{"$f":"('2015'!E29/'2015 Rate'!$AA29)*1000","v":0.56141154903758017},{"$f":"('2015'!F29/'2015 Rate'!$AA29)*1000","v":2.629468377635197},{"$f":"('2015'!G29/'2015 Rate'!$AA29)*1000","v":0.19477543538038497},{"$f":"('2015'!H29/'2015 Rate'!$AA29)*1000","v":30.992208982584785},{"$f":"('2015'!I29/'2015 Rate'!$AA29)*1000","v":27.606553620531621},{"$f":"('2015'!J29/'2015 Rate'!$AA29)*1000","v":1.1629239230064161},{"$f":"('2015'!K29/'2015 Rate'!$AA29)*1000","v":23.344408799266727},{"$f":"('2015'!L29/'2015 Rate'!$AA29)*1000","v":22.181484876260313},{"$f":"('2015'!M29/'2015 Rate'!$AA29)*1000","v":0.63015582034830431},{"$f":"('2015'!N29/'2015 Rate'!$AA29)*1000","v":4.5084784601283223},{"$f":"('2015'!O29/'2015 Rate'!$AA29)*1000","v":3.8783226397800186},{"$f":"('2015'!P29/'2015 Rate'!$AA29)*1000","v":1.5925756186984419},{"$f":"('2015'!Q29/'2015 Rate'!$AA29)*1000","v":3.1393217231897341},{"$f":"('2015'!R29/'2015 Rate'!$AA29)*1000","v":1.5467461044912925},null,{"$f":"('2015'!T29/'2015 Rate'!$AA29)*1000","v":4.2965169569202564},{"$f":"('2015'!U29/'2015 Rate'!$AA29)*1000","v":1.05980751604033},{"$f":"('2015'!V29/'2015 Rate'!$AA29)*1000","v":5.6083868010999085},{"$f":"('2015'!W29/'2015 Rate'!$AA29)*1000","v":3.2252520623281393},{"$f":"('2015'!X29/'2015 Rate'!$AA29)*1000","v":51.55820348304308},null,"Renfrewshire",{"$f":"'Population estimates'!M29","v":174560}]
[28,"Scottish Borders",null,{"$f":"('2015'!D30/'2015 Rate'!$AA30)*1000","v":3.8147855827413841},{"$f":"('2015'!E30/'2015 Rate'!$AA30)*1000","v":1.14005086380777},{"$f":"('2015'!F30/'2015 Rate'!$AA30)*1000","v":2.4730334122599316},{"$f":"('2015'!G30/'2015 Rate'!$AA30)*1000","v":0.20170130667368236},{"$f":"('2015'!H30/'2015 Rate'!$AA30)*1000","v":36.218538980969917},{"$f":"('2015'!I30/'2015 Rate'!$AA30)*1000","v":32.403753398228531},{"$f":"('2015'!J30/'2015 Rate'!$AA30)*1000","v":0.79803560466543888},{"$f":"('2015'!K30/'2015 Rate'!$AA30)*1000","v":20.047355958958168},{"$f":"('2015'!L30/'2015 Rate'!$AA30)*1000","v":19.249320354292731},{"$f":"('2015'!M30/'2015 Rate'!$AA30)*1000","v":3.4552310795404719},{"$f":"('2015'!N30/'2015 Rate'!$AA30)*1000","v":13.856002806279049},{"$f":"('2015'!O30/'2015 Rate'!$AA30)*1000","v":10.400771726738578},{"$f":"('2015'!P30/'2015 Rate'!$AA30)*1000","v":-0.4384811014645269},{"$f":"('2015'!Q30/'2015 Rate'!$AA30)*1000","v":2.3151802157327022},{"$f":"('2015'!R30/'2015 Rate'!$AA30)*1000","v":2.7536613171972286},null,{"$f":"('2015'!T30/'2015 Rate'!$AA30)*1000","v":3.9463299131807421},{"$f":"('2015'!U30/'2015 Rate'!$AA30)*1000","v":1.0611242655441551},{"$f":"('2015'!V30/'2015 Rate'!$AA30)*1000","v":2.8939752696658774},{"$f":"('2015'!W30/'2015 Rate'!$AA30)*1000","v":3.604314654038411},{"$f":"('2015'!X30/'2015 Rate'!$AA30)*1000","v":52.617732175743228},null,"Scottish Borders",{"$f":"'Population estimates'!M30","v":114030}]
[29,"Shetland Islands",null,{"$f":"('2015'!D31/'2015 Rate'!$AA31)*1000","v":-1.5517241379310345},{"$f":"('2015'!E31/'2015 Rate'!$AA31)*1000","v":-0.30172413793103448},{"$f":"('2015'!F31/'2015 Rate'!$AA31)*1000","v":0.17241379310344826},{"$f":"('2015'!G31/'2015 Rate'!$AA31)*1000","v":-1.4224137931034484},{"$f":"('2015'!H31/'2015 Rate'!$AA31)*1000","v":30.387931034482758},{"$f":"('2015'!I31/'2015 Rate'!$AA31)*1000","v":31.939655172413797},{"$f":"('2015'!J31/'2015 Rate'!$AA31)*1000","v":-4.2672413793103452},{"$f":"('2015'!K31/'2015 Rate'!$AA31)*1000","v":16.810344827586206},{"$f":"('2015'!L31/'2015 Rate'!$AA31)*1000","v":21.077586206896552},{"$f":"('2015'!M31/'2015 Rate'!$AA31)*1000","v":1.336206896551724},{"$f":"('2015'!N31/'2015 Rate'!$AA31)*1000","v":9.568965517241379},{"$f":"('2015'!O31/'2015 Rate'!$AA31)*1000","v":8.2327586206896548},{"$f":"('2015'!P31/'2015 Rate'!$AA31)*1000","v":1.3793103448275861},{"$f":"('2015'!Q31/'2015 Rate'!$AA31)*1000","v":4.0086206896551726},{"$f":"('2015'!R31/'2015 Rate'!$AA31)*1000","v":2.6293103448275863},null,{"$f":"('2015'!T31/'2015 Rate'!$AA31)*1000","v":12.931034482758621},{"$f":"('2015'!U31/'2015 Rate'!$AA31)*1000","v":1.0344827586206897},{"$f":"('2015'!V31/'2015 Rate'!$AA31)*1000","v":4.3534482758620685},{"$f":"('2015'!W31/'2015 Rate'!$AA31)*1000","v":2.4568965517241379},{"$f":"('2015'!X31/'2015 Rate'!$AA31)*1000","v":0},null,"Shetland Islands",{"$f":"'Population estimates'!M31","v":23200}]
[30,"South Ayrshire",null,{"$f":"('2015'!D32/'2015 Rate'!$AA32)*1000","v":2.7669039145907472},{"$f":"('2015'!E32/'2015 Rate'!$AA32)*1000","v":1.6281138790035588},{"$f":"('2015'!F32/'2015 Rate'!$AA32)*1000","v":0.24911032028469751},{"$f":"('2015'!G32/'2015 Rate'!$AA32)*1000","v":0.88967971530249101},{"$f":"('2015'!H32/'2015 Rate'!$AA32)*1000","v":33.354092526690394},{"$f":"('2015'!I32/'2015 Rate'!$AA32)*1000","v":30.587188612099641},{"$f":"('2015'!J32/'2015 Rate'!$AA32)*1000","v":0.99644128113879005},{"$f":"('2015'!K32/'2015 Rate'!$AA32)*1000","v":23.87900355871886},{"$f":"('2015'!L32/'2015 Rate'!$AA32)*1000","v":22.882562277580071},{"$f":"('2015'!M32/'2015 Rate'!$AA32)*1000","v":1.6459074733096086},{"$f":"('2015'!N32/'2015 Rate'!$AA32)*1000","v":7.2153024911032029},{"$f":"('2015'!O32/'2015 Rate'!$AA32)*1000","v":5.5693950177935942},{"$f":"('2015'!P32/'2015 Rate'!$AA32)*1000","v":0.12455516014234876},{"$f":"('2015'!Q32/'2015 Rate'!$AA32)*1000","v":2.2597864768683276},{"$f":"('2015'!R32/'2015 Rate'!$AA32)*1000","v":2.1352313167259789},null,{"$f":"('2015'!T32/'2015 Rate'!$AA32)*1000","v":2.4911032028469751},{"$f":"('2015'!U32/'2015 Rate'!$AA32)*1000","v":0.69395017793594305},{"$f":"('2015'!V32/'2015 Rate'!$AA32)*1000","v":2.8291814946619218},{"$f":"('2015'!W32/'2015 Rate'!$AA32)*1000","v":1.5747330960854091},{"$f":"('2015'!X32/'2015 Rate'!$AA32)*1000","v":35.587188612099645},null,"South Ayrshire",{"$f":"'Population estimates'!M32","v":112400}]
[31,"South Lanarkshire",null,{"$f":"('2015'!D33/'2015 Rate'!$AA33)*1000","v":3.2697720013913925},{"$f":"('2015'!E33/'2015 Rate'!$AA33)*1000","v":1.2269550643518958},{"$f":"('2015'!F33/'2015 Rate'!$AA33)*1000","v":1.9479492774246592},{"$f":"('2015'!G33/'2015 Rate'!$AA33)*1000","v":9.4867659614837299E-2},{"$f":"('2015'!H33/'2015 Rate'!$AA33)*1000","v":28.994719033614771},{"$f":"('2015'!I33/'2015 Rate'!$AA33)*1000","v":25.724947032223383},{"$f":"('2015'!J33/'2015 Rate'!$AA33)*1000","v":3.8832495335673403},{"$f":"('2015'!K33/'2015 Rate'!$AA33)*1000","v":23.574613414287072},{"$f":"('2015'!L33/'2015 Rate'!$AA33)*1000","v":19.691363880719731},{"$f":"('2015'!M33/'2015 Rate'!$AA33)*1000","v":-0.10435442557632103},{"$f":"('2015'!N33/'2015 Rate'!$AA33)*1000","v":3.9844417038231663},{"$f":"('2015'!O33/'2015 Rate'!$AA33)*1000","v":4.0887961293994879},{"$f":"('2015'!P33/'2015 Rate'!$AA33)*1000","v":-0.50912310659962678},{"$f":"('2015'!Q33/'2015 Rate'!$AA33)*1000","v":1.4356639155045379},{"$f":"('2015'!R33/'2015 Rate'!$AA33)*1000","v":1.9447870221041648},null,{"$f":"('2015'!T33/'2015 Rate'!$AA33)*1000","v":2.2452012775511498},{"$f":"('2015'!U33/'2015 Rate'!$AA33)*1000","v":0.69885842582930136},{"$f":"('2015'!V33/'2015 Rate'!$AA33)*1000","v":5.3695095341997909},{"$f":"('2015'!W33/'2015 Rate'!$AA33)*1000","v":2.248363532871644},{"$f":"('2015'!X33/'2015 Rate'!$AA33)*1000","v":34.784808525440347},null,"South Lanarkshire",{"$f":"'Population estimates'!M33","v":316230}]
[32,"Stirling",null,{"$f":"('2015'!D34/'2015 Rate'!$AA34)*1000","v":15.210600021544758},{"$f":"('2015'!E34/'2015 Rate'!$AA34)*1000","v":3.845739523860821},{"$f":"('2015'!F34/'2015 Rate'!$AA34)*1000","v":11.763438543574274},{"$f":"('2015'!G34/'2015 Rate'!$AA34)*1000","v":-0.39857804589033718},{"$f":"('2015'!H34/'2015 Rate'!$AA34)*1000","v":63.966390175589794},{"$f":"('2015'!I34/'2015 Rate'!$AA34)*1000","v":48.75579015404503},{"$f":"('2015'!J34/'2015 Rate'!$AA34)*1000","v":4.4489927825056554},{"$f":"('2015'!K34/'2015 Rate'!$AA34)*1000","v":40.859635893568893},{"$f":"('2015'!L34/'2015 Rate'!$AA34)*1000","v":36.410643111063237},{"$f":"('2015'!M34/'2015 Rate'!$AA34)*1000","v":3.8996014219541095},{"$f":"('2015'!N34/'2015 Rate'!$AA34)*1000","v":11.978886135947432},{"$f":"('2015'!O34/'2015 Rate'!$AA34)*1000","v":8.0792847139933226},{"$f":"('2015'!P34/'2015 Rate'!$AA34)*1000","v":6.8620058170849942},{"$f":"('2015'!Q34/'2015 Rate'!$AA34)*1000","v":11.127868146073469},{"$f":"('2015'!R34/'2015 Rate'!$AA34)*1000","v":4.2658623289884732},null,{"$f":"('2015'!T34/'2015 Rate'!$AA34)*1000","v":8.0792847139933226},{"$f":"('2015'!U34/'2015 Rate'!$AA34)*1000","v":1.1203274803404071},{"$f":"('2015'!V34/'2015 Rate'!$AA34)*1000","v":4.9983841430572014},{"$f":"('2015'!W34/'2015 Rate'!$AA34)*1000","v":3.2748034040719598},{"$f":"('2015'!X34/'2015 Rate'!$AA34)*1000","v":86.179036949262084},null,"Stirling",{"$f":"'Population estimates'!M34","v":92830}]
[33,"West Dunbartonshire",null,{"$f":"('2015'!D35/'2015 Rate'!$AA35)*1000","v":0.88179484317446144},{"$f":"('2015'!E35/'2015 Rate'!$AA35)*1000","v":0.66971760241098344},{"$f":"('2015'!F35/'2015 Rate'!$AA35)*1000","v":0.33485880120549172},{"$f":"('2015'!G35/'2015 Rate'!$AA35)*1000","v":-0.12278156044201363},{"$f":"('2015'!H35/'2015 Rate'!$AA35)*1000","v":28.474160062506979},{"$f":"('2015'!I35/'2015 Rate'!$AA35)*1000","v":27.592365219332514},{"$f":"('2015'!J35/'2015 Rate'!$AA35)*1000","v":1.026900323696841},{"$f":"('2015'!K35/'2015 Rate'!$AA35)*1000","v":23.250362763701308},{"$f":"('2015'!L35/'2015 Rate'!$AA35)*1000","v":22.223462440004468},{"$f":"('2015'!M35/'2015 Rate'!$AA35)*1000","v":0.22323920080366114},{"$f":"('2015'!N35/'2015 Rate'!$AA35)*1000","v":3.8732001339435205},{"$f":"('2015'!O35/'2015 Rate'!$AA35)*1000","v":3.6499609331398597},{"$f":"('2015'!P35/'2015 Rate'!$AA35)*1000","v":-0.36834468132604081},{"$f":"('2015'!Q35/'2015 Rate'!$AA35)*1000","v":1.3505971648621498},{"$f":"('2015'!R35/'2015 Rate'!$AA35)*1000","v":1.7189418461881907},null,{"$f":"('2015'!T35/'2015 Rate'!$AA35)*1000","v":2.1207724076347803},{"$f":"('2015'!U35/'2015 Rate'!$AA35)*1000","v":0.80366112289318004},{"$f":"('2015'!V35/'2015 Rate'!$AA35)*1000","v":3.6611228931800421},{"$f":"('2015'!W35/'2015 Rate'!$AA35)*1000","v":2.377497488558991},{"$f":"('2015'!X35/'2015 Rate'!$AA35)*1000","v":22.323920080366115},null,"West Dunbartonshire",{"$f":"'Population estimates'!M35","v":89590}]
[34,"West Lothian",null,{"$f":"('2015'!D36/'2015 Rate'!$AA36)*1000","v":4.9845981517782132},{"$f":"('2015'!E36/'2015 Rate'!$AA36)*1000","v":1.6241949033884067},{"$f":"('2015'!F36/'2015 Rate'!$AA36)*1000","v":3.0075609073088772},{"$f":"('2015'!G36/'2015 Rate'!$AA36)*1000","v":0.35284234108092971},{"$f":"('2015'!H36/'2015 Rate'!$AA36)*1000","v":32.058246989638761},{"$f":"('2015'!I36/'2015 Rate'!$AA36)*1000","v":27.073648837860542},{"$f":"('2015'!J36/'2015 Rate'!$AA36)*1000","v":3.5452254270512462},{"$f":"('2015'!K36/'2015 Rate'!$AA36)*1000","v":24.127695323438811},{"$f":"('2015'!L36/'2015 Rate'!$AA36)*1000","v":20.582469896387568},{"$f":"('2015'!M36/'2015 Rate'!$AA36)*1000","v":0.34164099691963035},{"$f":"('2015'!N36/'2015 Rate'!$AA36)*1000","v":4.7885746289554749},{"$f":"('2015'!O36/'2015 Rate'!$AA36)*1000","v":4.4469336320358437},{"$f":"('2015'!P36/'2015 Rate'!$AA36)*1000","v":1.0977317278073371},{"$f":"('2015'!Q36/'2015 Rate'!$AA36)*1000","v":3.1419770372444695},{"$f":"('2015'!R36/'2015 Rate'!$AA36)*1000","v":2.0442453094371325},null,{"$f":"('2015'!T36/'2015 Rate'!$AA36)*1000","v":4.928591430971716},{"$f":"('2015'!U36/'2015 Rate'!$AA36)*1000","v":1.7922150658078968},{"$f":"('2015'!V36/'2015 Rate'!$AA36)*1000","v":7.1072528703444409},{"$f":"('2015'!W36/'2015 Rate'!$AA36)*1000","v":6.7824138896667598},{"$f":"('2015'!X36/'2015 Rate'!$AA36)*1000","v":56.00672080649678},null,"West Lothian",{"$f":"'Population estimates'!M36","v":178550}]
[]
[35,"Not specified"]
[36,"SCOTLAND",null,{"$f":"('2015'!D39/'2015 Rate'!$AA39)*1000","v":5.2052856876977485},{"$f":"('2015'!E39/'2015 Rate'!$AA39)*1000","v":0.76177182207332961},{"$f":"('2015'!F39/'2015 Rate'!$AA39)*1000","v":4.4403498976363291},{"$f":"('2015'!G39/'2015 Rate'!$AA39)*1000","v":3.1639679880885912E-3},{"$f":"('2015'!H39/'2015 Rate'!$AA39)*1000","v":15.811278615298717},{"$f":"('2015'!I39/'2015 Rate'!$AA39)*1000","v":10.605992927600967},null,null,null,{"$f":"('2015'!M39/'2015 Rate'!$AA39)*1000","v":1.5574167131956076},{"$f":"('2015'!N39/'2015 Rate'!$AA39)*1000","v":8.7761027359017305},{"$f":"('2015'!O39/'2015 Rate'!$AA39)*1000","v":7.218686022706124},{"$f":"('2015'!P39/'2015 Rate'!$AA39)*1000","v":3.6478689745021402},{"$f":"('2015'!Q39/'2015 Rate'!$AA39)*1000","v":7.0351758793969852},{"$f":"('2015'!R39/'2015 Rate'!$AA39)*1000","v":3.3873069048948445},null,null,{"$f":"('2015'!U39/'2015 Rate'!$AA39)*1000","v":1.6746696445188907},null,null,null,{"$f":"('2015'!Y39/'2015 Rate'!$AA39)*1000","v":10.68713940070724},"SCOTLAND",{"$f":"'Population estimates'!M39","v":5373000}]
[37,"Ayrshire & Arran",null,{"$f":"('2015'!D40/'2015 Rate'!$AA40)*1000","v":1.1684071345692004},{"$f":"('2015'!E40/'2015 Rate'!$AA40)*1000","v":0.95793194635581091},{"$f":"('2015'!F40/'2015 Rate'!$AA40)*1000","v":-8.0951995466688256E-3},{"$f":"('2015'!G40/'2015 Rate'!$AA40)*1000","v":0.2185703877600583},{"$f":"('2015'!H40/'2015 Rate'!$AA40)*1000","v":21.651960387490217},{"$f":"('2015'!I40/'2015 Rate'!$AA40)*1000","v":20.48355325292102},{"$f":"('2015'!J40/'2015 Rate'!$AA40)*1000","v":6.206319652446099E-2},{"$f":"('2015'!K40/'2015 Rate'!$AA40)*1000","v":14.309614398661592},{"$f":"('2015'!L40/'2015 Rate'!$AA40)*1000","v":14.247551202137132},{"$f":"('2015'!M40/'2015 Rate'!$AA40)*1000","v":1.4274535200626031},{"$f":"('2015'!N40/'2015 Rate'!$AA40)*1000","v":5.9877492646860411},{"$f":"('2015'!O40/'2015 Rate'!$AA40)*1000","v":4.5602957446234385},{"$f":"('2015'!P40/'2015 Rate'!$AA40)*1000","v":-0.32110958201786338},{"$f":"('2015'!Q40/'2015 Rate'!$AA40)*1000","v":1.3545967241425834},{"$f":"('2015'!R40/'2015 Rate'!$AA40)*1000","v":1.6757063061604469},null,null,{"$f":"('2015'!U40/'2015 Rate'!$AA40)*1000","v":0.52888637038236319},null,null,null,null,"Ayrshire & Arran",{"$f":"'Population estimates'!M40","v":370590}]
[38,"Borders",null,{"$f":"('2015'!D41/'2015 Rate'!$AA41)*1000","v":3.8147855827413841},{"$f":"('2015'!E41/'2015 Rate'!$AA41)*1000","v":1.14005086380777},{"$f":"('2015'!F41/'2015 Rate'!$AA41)*1000","v":2.4730334122599316},{"$f":"('2015'!G41/'2015 Rate'!$AA41)*1000","v":0.20170130667368236},{"$f":"('2015'!H41/'2015 Rate'!$AA41)*1000","v":36.218538980969917},{"$f":"('2015'!I41/'2015 Rate'!$AA41)*1000","v":32.403753398228531},{"$f":"('2015'!J41/'2015 Rate'!$AA41)*1000","v":0.79803560466543888},{"$f":"('2015'!K41/'2015 Rate'!$AA41)*1000","v":20.047355958958168},{"$f":"('2015'!L41/'2015 Rate'!$AA41)*1000","v":19.249320354292731},{"$f":"('2015'!M41/'2015 Rate'!$AA41)*1000","v":3.4552310795404719},{"$f":"('2015'!N41/'2015 Rate'!$AA41)*1000","v":13.856002806279049},{"$f":"('2015'!O41/'2015 Rate'!$AA41)*1000","v":10.400771726738578},{"$f":"('2015'!P41/'2015 Rate'!$AA41)*1000","v":-0.4384811014645269},{"$f":"('2015'!Q41/'2015 Rate'!$AA41)*1000","v":2.3151802157327022},{"$f":"('2015'!R41/'2015 Rate'!$AA41)*1000","v":2.7536613171972286},null,null,{"$f":"('2015'!U41/'2015 Rate'!$AA41)*1000","v":1.0611242655441551},null,null,null,null,"Borders",{"$f":"'Population estimates'!M41","v":114030}]
[39,"Dumfries & Galloway",null,{"$f":"('2015'!D42/'2015 Rate'!$AA42)*1000","v":2.2048506714772502},{"$f":"('2015'!E42/'2015 Rate'!$AA42)*1000","v":0.49442105966459543},{"$f":"('2015'!F42/'2015 Rate'!$AA42)*1000","v":1.3763613282554954},{"$f":"('2015'!G42/'2015 Rate'!$AA42)*1000","v":0.33406828355715906},{"$f":"('2015'!H42/'2015 Rate'!$AA42)*1000","v":26.244404356250417},{"$f":"('2015'!I42/'2015 Rate'!$AA42)*1000","v":24.039553684773168},{"$f":"('2015'!J42/'2015 Rate'!$AA42)*1000","v":-0.6881806641277477},{"$f":"('2015'!K42/'2015 Rate'!$AA42)*1000","v":11.585488073762278},{"$f":"('2015'!L42/'2015 Rate'!$AA42)*1000","v":12.273668737890025},{"$f":"('2015'!M42/'2015 Rate'!$AA42)*1000","v":3.3740896639273066},{"$f":"('2015'!N42/'2015 Rate'!$AA42)*1000","v":12.781452528896907},{"$f":"('2015'!O42/'2015 Rate'!$AA42)*1000","v":9.4073628649696008},{"$f":"('2015'!P42/'2015 Rate'!$AA42)*1000","v":-0.4810583283223091},{"$f":"('2015'!Q42/'2015 Rate'!$AA42)*1000","v":1.8774637535912342},{"$f":"('2015'!R42/'2015 Rate'!$AA42)*1000","v":2.3585220819135433},null,null,{"$f":"('2015'!U42/'2015 Rate'!$AA42)*1000","v":0.58127881338945675},null,null,null,null,"Dumfries & Galloway",{"$f":"'Population estimates'!M42","v":149670}]
[40,"Fife",null,{"$f":"('2015'!D43/'2015 Rate'!$AA43)*1000","v":3.336231254075201},{"$f":"('2015'!E43/'2015 Rate'!$AA43)*1000","v":0.75798739404477289},{"$f":"('2015'!F43/'2015 Rate'!$AA43)*1000","v":2.4478374266463816},{"$f":"('2015'!G43/'2015 Rate'!$AA43)*1000","v":0.13040643338404695},{"$f":"('2015'!H43/'2015 Rate'!$AA43)*1000","v":30.669963051510539},{"$f":"('2015'!I43/'2015 Rate'!$AA43)*1000","v":27.333731797435341},{"$f":"('2015'!J43/'2015 Rate'!$AA43)*1000","v":-0.1847424472940665},{"$f":"('2015'!K43/'2015 Rate'!$AA43)*1000","v":17.360356444251252},{"$f":"('2015'!L43/'2015 Rate'!$AA43)*1000","v":17.545098891545315},{"$f":"('2015'!M43/'2015 Rate'!$AA43)*1000","v":1.2714627254944577},{"$f":"('2015'!N43/'2015 Rate'!$AA43)*1000","v":8.0987828732884157},{"$f":"('2015'!O43/'2015 Rate'!$AA43)*1000","v":6.8273201477939578},{"$f":"('2015'!P43/'2015 Rate'!$AA43)*1000","v":2.2495109758748097},{"$f":"('2015'!Q43/'2015 Rate'!$AA43)*1000","v":5.2108237339708765},{"$f":"('2015'!R43/'2015 Rate'!$AA43)*1000","v":2.9613127580960663},null,null,{"$f":"('2015'!U43/'2015 Rate'!$AA43)*1000","v":1.2035427081069332},null,null,null,null,"Fife",{"$f":"'Population estimates'!M43","v":368080}]
[41,"Forth Valley",null,{"$f":"('2015'!D44/'2015 Rate'!$AA44)*1000","v":7.5598876590120598},{"$f":"('2015'!E44/'2015 Rate'!$AA44)*1000","v":1.6322484718321493},{"$f":"('2015'!F44/'2015 Rate'!$AA44)*1000","v":5.6633074508508177},{"$f":"('2015'!G44/'2015 Rate'!$AA44)*1000","v":0.26433173632909301},{"$f":"('2015'!H44/'2015 Rate'!$AA44)*1000","v":34.931438955889639},{"$f":"('2015'!I44/'2015 Rate'!$AA44)*1000","v":27.371551296877584},{"$f":"('2015'!J44/'2015 Rate'!$AA44)*1000","v":2.877911779283},{"$f":"('2015'!K44/'2015 Rate'!$AA44)*1000","v":22.848174458945977},{"$f":"('2015'!L44/'2015 Rate'!$AA44)*1000","v":19.970262679662977},{"$f":"('2015'!M44/'2015 Rate'!$AA44)*1000","v":2.1708243846026765},{"$f":"('2015'!N44/'2015 Rate'!$AA44)*1000","v":7.1006112671402608},{"$f":"('2015'!O44/'2015 Rate'!$AA44)*1000","v":4.9297868825375852},{"$f":"('2015'!P44/'2015 Rate'!$AA44)*1000","v":2.5111514951263834},{"$f":"('2015'!Q44/'2015 Rate'!$AA44)*1000","v":4.982653229803403},{"$f":"('2015'!R44/'2015 Rate'!$AA44)*1000","v":2.4715017346770196},null,null,{"$f":"('2015'!U44/'2015 Rate'!$AA44)*1000","v":1.0408062117958037},null,null,null,null,"Forth Valley",{"$f":"'Population estimates'!M44","v":302650}]
[42,"Grampian",null,{"$f":"('2015'!D45/'2015 Rate'!$AA45)*1000","v":4.2206797999387566},{"$f":"('2015'!E45/'2015 Rate'!$AA45)*1000","v":0.42870266408084107},{"$f":"('2015'!F45/'2015 Rate'!$AA45)*1000","v":4.4112143173080192},{"$f":"('2015'!G45/'2015 Rate'!$AA45)*1000","v":-0.61923718145010376},{"$f":"('2015'!H45/'2015 Rate'!$AA45)*1000","v":32.669864924636791},{"$f":"('2015'!I45/'2015 Rate'!$AA45)*1000","v":28.449185124698037},{"$f":"('2015'!J45/'2015 Rate'!$AA45)*1000","v":-1.6943962437480862},{"$f":"('2015'!K45/'2015 Rate'!$AA45)*1000","v":13.172399714198225},{"$f":"('2015'!L45/'2015 Rate'!$AA45)*1000","v":14.866795957946309},{"$f":"('2015'!M45/'2015 Rate'!$AA45)*1000","v":0.26198496138273619},{"$f":"('2015'!N45/'2015 Rate'!$AA45)*1000","v":9.2868565207036173},{"$f":"('2015'!O45/'2015 Rate'!$AA45)*1000","v":9.0248715593208804},{"$f":"('2015'!P45/'2015 Rate'!$AA45)*1000","v":5.6530910823041065},{"$f":"('2015'!Q45/'2015 Rate'!$AA45)*1000","v":10.210608689734952},{"$f":"('2015'!R45/'2015 Rate'!$AA45)*1000","v":4.5575176074308468},null,null,{"$f":"('2015'!U45/'2015 Rate'!$AA45)*1000","v":2.5926303970603244},null,null,null,null,"Grampian",{"$f":"'Population estimates'!M45","v":587820}]
[43,"Greater Glasgow & Clyde",null,{"$f":"('2015'!D46/'2015 Rate'!$AA46)*1000","v":6.56584542869318},{"$f":"('2015'!E46/'2015 Rate'!$AA46)*1000","v":0.47482802702867233},{"$f":"('2015'!F46/'2015 Rate'!$AA46)*1000","v":6.1892876709946165},{"$f":"('2015'!G46/'2015 Rate'!$AA46)*1000","v":-9.827026933010985E-2},{"$f":"('2015'!H46/'2015 Rate'!$AA46)*1000","v":32.736174764542696},{"$f":"('2015'!I46/'2015 Rate'!$AA46)*1000","v":26.170329335849516},{"$f":"('2015'!J46/'2015 Rate'!$AA46)*1000","v":-0.92182730522049938},{"$f":"('2015'!K46/'2015 Rate'!$AA46)*1000","v":15.01447964587917},{"$f":"('2015'!L46/'2015 Rate'!$AA46)*1000","v":15.936306951099672},{"$f":"('2015'!M46/'2015 Rate'!$AA46)*1000","v":1.2783831496925793},{"$f":"('2015'!N46/'2015 Rate'!$AA46)*1000","v":7.7990068615258847},{"$f":"('2015'!O46/'2015 Rate'!$AA46)*1000","v":6.5206237118333057},{"$f":"('2015'!P46/'2015 Rate'!$AA46)*1000","v":6.2092895842210991},{"$f":"('2015'!Q46/'2015 Rate'!$AA46)*1000","v":9.92268825713764},{"$f":"('2015'!R46/'2015 Rate'!$AA46)*1000","v":3.71339867291654},null,null,{"$f":"('2015'!U46/'2015 Rate'!$AA46)*1000","v":2.1019401855829689},null,null,null,null,"Greater Glasgow & Clyde",{"$f":"'Population estimates'!M46","v":1149890}]
[44,"Highland",null,{"$f":"('2015'!D47/'2015 Rate'!$AA47)*1000","v":2.7476635514018692},{"$f":"('2015'!E47/'2015 Rate'!$AA47)*1000","v":1.1370716510903425},{"$f":"('2015'!F47/'2015 Rate'!$AA47)*1000","v":1.9345794392523363},{"$f":"('2015'!G47/'2015 Rate'!$AA47)*1000","v":-0.32398753894080995},{"$f":"('2015'!H47/'2015 Rate'!$AA47)*1000","v":35.227414330218068},{"$f":"('2015'!I47/'2015 Rate'!$AA47)*1000","v":32.479750778816204},{"$f":"('2015'!J47/'2015 Rate'!$AA47)*1000","v":-1.4704049844236762},{"$f":"('2015'!K47/'2015 Rate'!$AA47)*1000","v":19.55140186915888},{"$f":"('2015'!L47/'2015 Rate'!$AA47)*1000","v":21.021806853582557},{"$f":"('2015'!M47/'2015 Rate'!$AA47)*1000","v":3.4579439252336446},{"$f":"('2015'!N47/'2015 Rate'!$AA47)*1000","v":11.884735202492212},{"$f":"('2015'!O47/'2015 Rate'!$AA47)*1000","v":8.426791277258566},{"$f":"('2015'!P47/'2015 Rate'!$AA47)*1000","v":0.76012461059190028},{"$f":"('2015'!Q47/'2015 Rate'!$AA47)*1000","v":3.7912772585669781},{"$f":"('2015'!R47/'2015 Rate'!$AA47)*1000","v":3.0311526479750777},null,null,{"$f":"('2015'!U47/'2015 Rate'!$AA47)*1000","v":1.2492211838006229},null,null,null,null,"Highland",{"$f":"'Population estimates'!M47","v":321000}]
[45,"Lanarkshire",null,{"$f":"('2015'!D48/'2015 Rate'!$AA48)*1000","v":1.7937630827056181},{"$f":"('2015'!E48/'2015 Rate'!$AA48)*1000","v":0.7563140766092683},{"$f":"('2015'!F48/'2015 Rate'!$AA48)*1000","v":0.89688154135280906},{"$f":"('2015'!G48/'2015 Rate'!$AA48)*1000","v":0.14056746474354076},{"$f":"('2015'!H48/'2015 Rate'!$AA48)*1000","v":21.62447096212318},{"$f":"('2015'!I48/'2015 Rate'!$AA48)*1000","v":19.830707879417563},{"$f":"('2015'!J48/'2015 Rate'!$AA48)*1000","v":1.6440281746092378},{"$f":"('2015'!K48/'2015 Rate'!$AA48)*1000","v":16.253877064584639},{"$f":"('2015'!L48/'2015 Rate'!$AA48)*1000","v":14.609848889975401},{"$f":"('2015'!M48/'2015 Rate'!$AA48)*1000","v":0.14362327919448731},{"$f":"('2015'!N48/'2015 Rate'!$AA48)*1000","v":3.7250378157038306},{"$f":"('2015'!O48/'2015 Rate'!$AA48)*1000","v":3.5814145365093433},{"$f":"('2015'!P48/'2015 Rate'!$AA48)*1000","v":6.1116289018930776E-3},{"$f":"('2015'!Q48/'2015 Rate'!$AA48)*1000","v":1.645556081834711},{"$f":"('2015'!R48/'2015 Rate'!$AA48)*1000","v":1.6394444529328178},null,null,{"$f":"('2015'!U48/'2015 Rate'!$AA48)*1000","v":0.69978150926675731},null,null,null,null,"Lanarkshire",{"$f":"'Population estimates'!M48","v":654490}]
[46,"Lothian",null,{"$f":"('2015'!D49/'2015 Rate'!$AA49)*1000","v":10.485134823692096},{"$f":"('2015'!E49/'2015 Rate'!$AA49)*1000","v":0.58077898133210415},{"$f":"('2015'!F49/'2015 Rate'!$AA49)*1000","v":9.7084581700852741},{"$f":"('2015'!G49/'2015 Rate'!$AA49)*1000","v":0.19589767227471766},{"$f":"('2015'!H49/'2015 Rate'!$AA49)*1000","v":41.377045402166395},{"$f":"('2015'!I49/'2015 Rate'!$AA49)*1000","v":30.891910578474302},{"$f":"('2015'!J49/'2015 Rate'!$AA49)*1000","v":0.4885918414381194},{"$f":"('2015'!K49/'2015 Rate'!$AA49)*1000","v":15.743258815395251},{"$f":"('2015'!L49/'2015 Rate'!$AA49)*1000","v":15.254666973957134},{"$f":"('2015'!M49/'2015 Rate'!$AA49)*1000","v":2.6423138972113391},{"$f":"('2015'!N49/'2015 Rate'!$AA49)*1000","v":13.195436736575248},{"$f":"('2015'!O49/'2015 Rate'!$AA49)*1000","v":10.553122839363908},{"$f":"('2015'!P49/'2015 Rate'!$AA49)*1000","v":7.3542290850426362},{"$f":"('2015'!Q49/'2015 Rate'!$AA49)*1000","v":12.438349850195898},{"$f":"('2015'!R49/'2015 Rate'!$AA49)*1000","v":5.0841207651532612},null,null,{"$f":"('2015'!U49/'2015 Rate'!$AA49)*1000","v":2.7425674118460472},null,null,null,null,"Lothian",{"$f":"'Population estimates'!M49","v":867800}]
[47,"Orkney",null,{"$f":"('2015'!D50/'2015 Rate'!$AA50)*1000","v":4.6146746654360866},{"$f":"('2015'!E50/'2015 Rate'!$AA50)*1000","v":1.6151361329026304},{"$f":"('2015'!F50/'2015 Rate'!$AA50)*1000","v":2.9072450392247347},{"$f":"('2015'!G50/'2015 Rate'!$AA50)*1000","v":9.2293493308721733E-2},{"$f":"('2015'!H50/'2015 Rate'!$AA50)*1000","v":32.810336871250577},{"$f":"('2015'!I50/'2015 Rate'!$AA50)*1000","v":28.195662205814489},{"$f":"('2015'!J50/'2015 Rate'!$AA50)*1000","v":-1.6151361329026304},{"$f":"('2015'!K50/'2015 Rate'!$AA50)*1000","v":17.951084448546375},{"$f":"('2015'!L50/'2015 Rate'!$AA50)*1000","v":19.566220581449009},{"$f":"('2015'!M50/'2015 Rate'!$AA50)*1000","v":6.0913705583756341},{"$f":"('2015'!N50/'2015 Rate'!$AA50)*1000","v":12.413474850023073},{"$f":"('2015'!O50/'2015 Rate'!$AA50)*1000","v":6.322104291647439},{"$f":"('2015'!P50/'2015 Rate'!$AA50)*1000","v":0.13844023996308258},{"$f":"('2015'!Q50/'2015 Rate'!$AA50)*1000","v":2.4457775726811262},{"$f":"('2015'!R50/'2015 Rate'!$AA50)*1000","v":2.3073373327180433},null,null,{"$f":"('2015'!U50/'2015 Rate'!$AA50)*1000","v":0.41532071988924785},null,null,null,null,"Orkney",{"$f":"'Population estimates'!M50","v":21670}]
[48,"Shetland",null,{"$f":"('2015'!D51/'2015 Rate'!$AA51)*1000","v":-1.5517241379310345},{"$f":"('2015'!E51/'2015 Rate'!$AA51)*1000","v":-0.30172413793103448},{"$f":"('2015'!F51/'2015 Rate'!$AA51)*1000","v":0.17241379310344826},{"$f":"('2015'!G51/'2015 Rate'!$AA51)*1000","v":-1.4224137931034484},{"$f":"('2015'!H51/'2015 Rate'!$AA51)*1000","v":30.387931034482758},{"$f":"('2015'!I51/'2015 Rate'!$AA51)*1000","v":31.939655172413797},{"$f":"('2015'!J51/'2015 Rate'!$AA51)*1000","v":-4.2672413793103452},{"$f":"('2015'!K51/'2015 Rate'!$AA51)*1000","v":16.810344827586206},{"$f":"('2015'!L51/'2015 Rate'!$AA51)*1000","v":21.077586206896552},{"$f":"('2015'!M51/'2015 Rate'!$AA51)*1000","v":1.336206896551724},{"$f":"('2015'!N51/'2015 Rate'!$AA51)*1000","v":9.568965517241379},{"$f":"('2015'!O51/'2015 Rate'!$AA51)*1000","v":8.2327586206896548},{"$f":"('2015'!P51/'2015 Rate'!$AA51)*1000","v":1.3793103448275861},{"$f":"('2015'!Q51/'2015 Rate'!$AA51)*1000","v":4.0086206896551726},{"$f":"('2015'!R51/'2015 Rate'!$AA51)*1000","v":2.6293103448275863},null,null,{"$f":"('2015'!U51/'2015 Rate'!$AA51)*1000","v":1.0344827586206897},null,null,null,null,"Shetland",{"$f":"'Population estimates'!M51","v":23200}]
[49,"Tayside",null,{"$f":"('2015'!D52/'2015 Rate'!$AA52)*1000","v":4.8404973014649189},{"$f":"('2015'!E52/'2015 Rate'!$AA52)*1000","v":1.3227640709329223},{"$f":"('2015'!F52/'2015 Rate'!$AA52)*1000","v":3.2912490362374709},{"$f":"('2015'!G52/'2015 Rate'!$AA52)*1000","v":0.22648419429452582},{"$f":"('2015'!H52/'2015 Rate'!$AA52)*1000","v":34.488242097147264},{"$f":"('2015'!I52/'2015 Rate'!$AA52)*1000","v":29.647744795682343},{"$f":"('2015'!J52/'2015 Rate'!$AA52)*1000","v":0.94930609097918273},{"$f":"('2015'!K52/'2015 Rate'!$AA52)*1000","v":19.805319969159598},{"$f":"('2015'!L52/'2015 Rate'!$AA52)*1000","v":18.856013878180416},{"$f":"('2015'!M52/'2015 Rate'!$AA52)*1000","v":1.1854279105628374},{"$f":"('2015'!N52/'2015 Rate'!$AA52)*1000","v":8.355821125674634},{"$f":"('2015'!O52/'2015 Rate'!$AA52)*1000","v":7.1703932151117957},{"$f":"('2015'!P52/'2015 Rate'!$AA52)*1000","v":2.7057632999228991},{"$f":"('2015'!Q52/'2015 Rate'!$AA52)*1000","v":6.3271010023130296},{"$f":"('2015'!R52/'2015 Rate'!$AA52)*1000","v":3.621337702390131},null,null,{"$f":"('2015'!U52/'2015 Rate'!$AA52)*1000","v":1.4817848882035467},null,null,null,null,"Tayside",{"$f":"'Population estimates'!M52","v":415040}]
[50,"Western Isles",null,{"$f":"('2015'!D53/'2015 Rate'!$AA53)*1000","v":-0.1847063169560399},{"$f":"('2015'!E53/'2015 Rate'!$AA53)*1000","v":0.8127077946065755},{"$f":"('2015'!F53/'2015 Rate'!$AA53)*1000","v":-0.66494274104174367},{"$f":"('2015'!G53/'2015 Rate'!$AA53)*1000","v":-0.33247137052087183},{"$f":"('2015'!H53/'2015 Rate'!$AA53)*1000","v":32.545253047654228},{"$f":"('2015'!I53/'2015 Rate'!$AA53)*1000","v":32.729959364610266},{"$f":"('2015'!J53/'2015 Rate'!$AA53)*1000","v":-1.6992981159955669},{"$f":"('2015'!K53/'2015 Rate'!$AA53)*1000","v":22.31252308828962},{"$f":"('2015'!L53/'2015 Rate'!$AA53)*1000","v":24.011821204285184},{"$f":"('2015'!M53/'2015 Rate'!$AA53)*1000","v":1.4407092722571113},{"$f":"('2015'!N53/'2015 Rate'!$AA53)*1000","v":8.2009604728481715},{"$f":"('2015'!O53/'2015 Rate'!$AA53)*1000","v":6.7602512005910604},{"$f":"('2015'!P53/'2015 Rate'!$AA53)*1000","v":7.3882526782415955E-2},{"$f":"('2015'!Q53/'2015 Rate'!$AA53)*1000","v":2.0317694865164388},{"$f":"('2015'!R53/'2015 Rate'!$AA53)*1000","v":1.9578869597340229},null,null,{"$f":"('2015'!U53/'2015 Rate'!$AA53)*1000","v":0.29553010712966382},null,null,null,null,"Western Isles",{"$f":"'Population estimates'!M53","v":27070}]