{"text_format":"1","workbook":"xlsx","n_sheets":60,"sheets":["Cover Sheet","Table of Contents","Notes","Introduction","Information","Info lookup","Comparing Indicators","Comparing Areas","Comparing NHS Board Areas","Total net migration","Total net migration 0-15","Total net migration 16-64","Total net migration 65+","Total in-migration","Total out-migration","Within Scotland net migration","Within Scotland in-migration","Within Scotland out-migration","Rest of UK net migration","Rest of UK in-migration","Rest of UK out-migration","International net migration","International in-migration","International out-migration","2011 Census country of birth","Pop born outside UK","Non-British Population","NINo","NINo Top 5 nationalities","EUSS (by nationality)","EUSS (by age group)","EUSS (concluded applications)","Pupils' ethnic group (2021)","Pupils' ethnic group (TS)","Pupils with English as an add.","Births to non-UK mothers","Births to non-UK mothers %birth","Citizenships","2011","2011 Rate","2012","2012 Rate","2013","2013 Rate","2014","2014 Rate","2015","2015 Rate","2016","2016 Rate","2017","2017 Rate","2018","2018 Rate","2019","2019 Rate","2020","2020 Rate","2021","2021 Rate"],"not_rendered":{"charts":3,"images":17,"macros":1,"external_links":2,"defined_names":128,"comments":0,"pivot_tables":0},"unopened":[],"bounds":{"document_bytes":16777216,"sheet_cells":100000,"rows_first":2000,"rows_last":500,"rows_between":2000,"halvings":0,"cell_chars":16384,"cell_head_chars":4096},"cells_cut":0,"cells_raw":0,"read":"whole","date_system":"1900"}

{"sheet":"Cover Sheet","index":0,"n_rows":30,"n_cols":1,"rows_kept":30,"cut":false,"hidden":false,"merged":[]}
["NRS Local Area Migration Spreadsheet - 2022 Update"]
["This spreadsheet contains the data tables and figures on a wide range of migration indicators."]
["Link to NRS website: Local Area Migration (opens a new window)"]
["Publication date"]
["The data tables in this spreadsheet were originally published at 9.30am on 11 August 2022."]
["Geographic coverage"]
["Scottish administrative areas."]
["Time period"]
["2004 to 2021 (mid-year or calendar year)"]
["Supplier"]
["National Records of Scotland (NRS)."]
["Department"]
["Demographic Statistics and Vital Events."]
["Data sources"]
["The figures come from a wide range of sources which can be found on the \"Information\" Sheet under the relevant topic name."]
["Accessibility"]
["Most tables have been redesigned to improve accessibility, in line with the Governemnt Statistical Service guidelines. However, in order to retain the functionality of the sheets with light purple and dark purple coloured tabs, these sheets have not been altered. All the data is available on an accessible sheet. "]
["Shorthand used in Tables"]
["Some tables use shorthand: [c] = confidential - small number, may be disclosive; [low] = zero due to rounding; [w] = none recorded; [x] = not available;  [z] = not applicable."]
["Website link for UK equivalent data (2020)"]
["Local Area Migration Indictors for UK  (ONS website - opens a new window)"]
["Copyright and reproduction "]
["The content of this spreadsheet is © Crown copyright 2022. You may re-use this information (not including logos) free of charge in any format or medium, under the terms of the Open Government Licence."]
["View the open government licence at the National Archives (opens a new window)."]
["Contact us"]
["Please get in touch if you need any further information, or have any suggestions for improvement."]
["Statistics Customer Services telephone: (0131) 314 4299"]
["E-mail: population.migration@nrscotland.gov.uk"]
["For media enquiries, please contact communications@nrscotland.gov.uk"]
["Go to the Introduction"]

{"sheet":"Table of Contents","index":1,"n_rows":39,"n_cols":2,"rows_kept":39,"cut":false,"hidden":false,"merged":[]}
["Table of Contents"]
["This worksheet contains one table."]
["Date published: 11 August 2022"]
["Worksheet Name","Worksheet  Information"]
["Cover sheet","Cover sheet"]
["Notes","Notes for tables"]
["Introduction","Introduction - How this spreadsheet works"]
["Information","Provides information on each indicator, data sources and any strengths and weaknesses to be aware of"]
["Comparing Indicators","Allows you to compare up to three indicators for one selected area"]
["Comparing Areas","Allows you to compare up to three Council areas for one selected indicator"]
["Comparing NHS Board Areas","Allows you to compare up to three NHS Board areas for one selected indicator"]
["Total Net Migration","Total net migration"]
["Total net migration for ages 0-15","Total net migration for ages 0-15"]
["Total net migration for ages 16-64","Total net migration for ages 16-64"]
["Total net migration for people aged 65+","Total net migration for people aged 65+"]
["Total in-migration","Total in-migration"]
["Total out-migration","Total out-migration"]
["Within Scotland net migration","Within Scotland net migration"]
["Within Scotland in-migration","Within Scotland in-migration"]
["Within Scotland out-migration","Within Scotland out-migration"]
["Rest of UK net migration","Rest of UK net migration"]
["Rest of UK in-migration","Rest of UK in-migration"]
["Rest of UK out-migration","Rest of UK out-migration"]
["International net migration","International net migration"]
["International in-migration","International in-migration"]
["International out-migration","International out-migration"]
["Census population by country of birth","Census population by country of birth"]
["Population born outside the UK","Population born outside the UK"]
["Population with non-British nationality","Population with non-British nationality"]
["National Insurance Number (NINo) allocations","National Insurance Number (NINo) allocations"]
["EU Settlement Scheme (EUSS) applications (by nationality)","EU Settlement Scheme (EUSS) applications (by nationality)"]
["EU Settlement Scheme (EUSS) applications (by age group)","EU Settlement Scheme (EUSS) applications (by age group)"]
["EU Settlement Scheme (EUSS) applications (concluded applications)","EU Settlement Scheme (EUSS) applications (concluded applications)"]
["Pupils from a minority ethnic group (2021)","Pupils from a minority ethnic group (2021)"]
["Pupils from a minority ethnic group (time series)","Pupils from a minority ethnic group (time series)"]
["Pupils with English as an additional language","Pupils with English as an additional language"]
["Births to non-UK mothers","Births to non-UK mothers"]
["Births to non-UK mothers as a percentage of total births","Births to non-UK mothers as a percentage of total births"]
["Citizenships","Citizenships"]

{"sheet":"Notes","index":2,"n_rows":51,"n_cols":3,"rows_kept":51,"cut":false,"hidden":false,"merged":[]}
["Notes related to the data in this spreadsheet"]
["This worksheet contains one table."]
["Return to front page"]
["Note Number","Note Text ","Note Link"]
["Note 1","Figures include asylum seekers. For 2015-16 onwards, figures also include refugees."]
["Note 2","Movements to/from the armed forces were included in these figures in previous releases of this spreadsheet but are no longer treated as migration. Armed forces movements are included in the mid-year population estimates under another category."]
["Note 3","Source for data:  'Total Migration to or from Scotland' section of the NRS website. Also choose from the left hand side: \"Migration within Scotland\",  \"Rest of the UK Migration\" and \"International Migration\". Migration within Scotland is estimated based on GP registration data. This may have been affected by the COVID-19 pandemic. During the pandemic, many people may have moved address without registering a change of address with their GP. In particular, students may have moved from their term-time address to their parents’ address. There may also be people who registered a change of address with their GP during one mid-year period, when the move itself could have taken place in the past. For example, people may have wanted to check that their GP had details of their correct address to ensure that they received details of their COVID-19 vaccination appointments. NRS have not made any adjustments to the established method to estimate migration within Scotland.","NRS Website - Migration Data"]
["Note 4","The NHS Board areas used for estimates between 2003-04 and 2010-11 are those that existed between 2006 and 2014. The 2011-12 estimates onwards use the NHS Board areas that came into force in April 2014."]
["Note 5","International migration estimates for the year ending June 2021 are using a different method to those previously published. They rely less on International Passenger Survey (IPS) data and make greater use of administrative data. This means that the latest figures on international migration may not be comparable with previous estimates produced from the IPS or more recently using some statistical modelling (for the year ending June 2020).","NRS Website - Migration Methods"]
["Note 6","Totals have been rounded to the nearest ten at council level, and the nearest hundred at national level. This may result in the sum of council area data differing from the national totals."]
["Note 7","In April 2019, a boundary change at Cardowan by Stepps, between Glasgow and North Lanarkshire council areas (Greater Glasgow and Clyde and Lanarkshire health board areas) resulted in approximately 400 people transferring from Glasgow to North Lanarkshire. These moves have been accounted for as migration within Scotland in 2018-19 estimates."]
["Note 8","Includes UK (part not specified), Channel Islands, Isle of Man and Ireland (part not specified). 2011 Census data is based on NHS Health Board areas that existed between 2006 and 2014."]
["Note 9","Source: Scotland's Census Standard Outputs file 'KS204SC'","NRS Website - 2011 Census Results"]
["Note 10","In order to protect against disclosure of personal information, some records have been swapped between different geographic areas. Some cell values will be affected, particularly small values at the most detailed geographies."]
["Note 11","A number of census tables including information on country of birth incorrectly classified 1,565 people with country of birth coded as Malta or Cyprus. These people were incorrectly classified as ‘EU countries: member countries in 2001’, and not ‘EU countries: Accession countries April 2001 to March 2011’. Previous versions of this workbook used the incorrect unrevised figures; this has now been corrected."]
["Note 12","The data above comes from the ONS Annual Population Survey (APS) and Labour Force Survey (LFS). From 2020, the LFS has used a new weighting methodology to reflect the change in survey operations during the coronavirus (COVID-19) pandemic and caution should be taken when making comparisons. More information on the reweighting and other impacts of COVID-19 on the data can be found on the ONS website.","ONS Website - Population born outside UK"]
["Note 13","Figures are rounded to the nearest thousand and come with confidence intervals, which can be found on the ONS website. Totals may not sum due to rounding.","ONS Website - Population born outside UK"]
["Note 14","Source: 'Table 1.1' and 'Table 1.2' in the 'Data' file, from the Population by Country of Birth and Nationality section of the NRS website. ","NRS Website - Data Source"]
["Note 15","National Records of Scotland (NRS) has made the decision to cancel the publication of Scotland’s population by country of birth and nationality for the year ending December 2021, which would usually have been out in May 2022. This is therefore shown as [x] = not available for 2021."]
["Note 16\n","These statistics are usually updated quarterly. The latest data can be accessed at the GOV.UK website. Data for 2021 will be added when it becomes available.","GOV.UK Website - Latest NINO Data"]
["Note 17","Figures are rounded to the nearest ten. Some additional disclosure control has been applied. Totals may not sum due to rounding method used. "]
["Note 18","Registration date is derived from the date at which a NINo is maintained on the National Insurance Recording & Pay As You Earn System. "]
["Note 19","Data for 2021 will be added when it becomes available. NINo operations were paused for the majority of applicants from mid-March 2020 and therefore estimates for 2020 and 2021 should be viewed with caution. The service for EU Nationals was more heavily disrupted than for Non-EU nationals. This was due to the closure of face-to-face services which at the time (prior to the end of the transition period, 31 December 2020) required EU nationals to attend an evidence of identity interview prior to a NINo being allocated.  The majority of Non-EU Nationals were able to access the NINo service via a postal process as they would have had their identity verified by another government department, for example through the Home Office visa process. The postal process was reinstated on 1 June 2020, after being suspended in March 2020. Further information about the latest NINo statistics can be found on the GOV.UK website.","GOV.UK Website - NINO allocations to June 2021"]
["Note 20","The quarterly National Insurance number allocations to adult overseas nationals entering the UK National Statistics publication is currently suspended due to an underlying data issue. Progress is being made to investigate. Once a solution is in place DWP will reinstate the statistical series as soon as possible in line with the UK Statistics Authority Code of Practice for Statistics. DWP will provide an update by early October 2022 or as soon as they have any further information.","GOV.UK Website - NINO Data Suspension"]
["Note 21","Improvements have been made to the allocation of migrants whose residential address is incomplete. Figures reflect the best estimate of an overseas national's locality at the time of registering for a NINo. A very small proportion of NINo registrations are to overseas nationals registering whilst abroad. "]
["Note 22","Source: Department for Work and Pensions (DWP), National Insurance Number Allocations to Adult Overseas Nationals - data produced using the Stat-Xplore tool at the DWP website.","DWP Website - StatsXplore"]
["Note 23","These statistics are updated quarterly. The latest data can be accessed at the GOV.UK website.","GOV.UK Website - Latest Settlement Scheme data"]
["Note 24","Figures in these tables have been derived from live management information systems and are provisional and subject to change. Figures are rounded to the nearest 10, therefore table breakdowns may not match overall totals."]
["Note 25","Tables include data since testing of the scheme began on 28 August 2018 through to 31 December 2021."]
["Note 26","EEA EFTA (Iceland, Liechtenstein, Norway) plus Swiss nationals were able to apply from 30 March 2019, when the scheme fully launched."]
["Note 27","The EU Settlement Scheme allows those currently resident in the UK under EU law to obtain a status under the UK’s Immigration Rules. As such it is open to all those currently here under EU law, which includes eligible non-EEA nationals."]
["Note 28","These statistics are released as Experimental Statistics, meaning they are going through development and evaluation."]
["Note 29","Applications received by region and local authority exclude a small number of records (2.6%) where locational data is not currently in an analysable form from live systems. See Notes for EUSS_01 on the Home Office website","Home Office website"]
["Note 30","Applications received by nationality exclude small numbers of records (0.01%), in which nationality is not currently in an analysable form from live systems."]
["Note 31","Applications received by age group exclude small numbers of records (0.01%) where age is not currently in an analysable form from live systems."]
["Note 32","Other outcomes include withdrawn or void applications, invalid applications and refused applications. "]
["Note 33","The data in this table are mainly derived from the annual pupil census which takes place in September of the relevant year. Data is from the GOV.SCOT website.","Gov.Scot website - Supplementary Statistics"]
["Note 34","Grant aided school figures are displayed separately, but are included in the Scotland total. Grant aided school figures exclude grant aided special schools as no ethnicity information is collected for them."]
["Note 35","'White (all)' includes all known categories other than 'Minority ethnic group. 'White - British' includes White - Scottish and White - Other British. "]
["Note 36","'White other' includes 'White - Gypsy/Traveller', 'White - Other', 'White - Irish' and 'White - Polish'."]
["Note 37","'Minority ethnic group' includes all known categories other than 'White - Scottish', 'White - Other British' and 'White other'."]
["Note 38","Source: Pupils Census, Scottish Government publication and from requested custom data (contact: AnalyticalServices@educationscotland.gov.scot )","Gov.Scot website"]
["Note 39","Minority ethnic group includes all categories other than 'White - UK' and 'White - other' and 'Unknown/not disclosed' (up to 2010). From 2011,  it includes all categories other than 'White - Scottish', 'White - Other British' and 'White - Other'.  "]
["Note 40","Ethnicity figures for 2011 to latest year are not directly comparable to previous years due to the changes in ethnicity categories in 2011. Categories are based on those used in 2011 population census."]
["Note 41","The competency levels 'New to English', 'Early Acquisition', 'Developing competence' and 'Competent' have been combined. Totals may not sum due to data being suppressed where the number of pupils is between 1 and 4."]
["Note 42","Births to non-UK mothers is the total of all births of mothers not born in the UK, Isle of Man, or the Channel Islands, or where the birth of the mother is not stated. Prior to 2020, the number of 'not stated' was small (below 10) for each year, however, in 2020 there were 263 births without a country of birth of the mother stated, with the majority of these registered in Glasgow City/NHS Greater Glasgow and Clyde. This may have been the result of impacts of the coronavirus (COVID-19) pandemic on birth registrations. The number of 'not stated in 2021 was lower (97) but still higher than usual. The full breakdown of births by mother's country of birth is available in the NRS Vital Events Reference Tables, Table 3.09.","NRS Wesite - Births to non-UK borm Mothers"]
["Note 43","Source: NRS Vital Events Reference Tables, Table 3.09. NRS Website.","NRS Website - Vital Events"]
["Note 44","Source: Citizenship data tables immigration statistics, Home Office website. ","Home Office Website"]
["Note 45","Definition of citizenship ceremonies: A ceremony organised by County or Local Authorities for successful applicants over 18 years of age for British citizenship. At the ceremony the applicant takes the Oath or Affirmation of allegiance to Her Majesty the Queen and the Pledge of loyalty to the United Kingdom. Since 1 January 2004 this has been the final stage in the process of attaining British citizenship. The citizenship ceremony is organised by the relevant local authority, and happens after the Home Office have processed the application."]
["Note 46","2004 data reflects ceremonies held only for applications received and decided in that year. Persons granted citizenship who applied before 2004 were not required to attend a ceremony."]
["Note 47","Data for 2021 have not been published but will be added once they have been released."]

{"sheet":"Introduction","index":3,"n_rows":64,"n_cols":7,"rows_kept":64,"cut":false,"hidden":false,"merged":[[1,0,1,4],[27,4,27,10],[29,4,29,10],[50,1,50,3],[47,1,47,3],[48,1,48,3],[49,1,49,3],[41,1,41,3],[42,1,42,3],[43,1,43,3],[44,1,44,3],[45,1,45,3],[28,4,28,10],[51,1,51,3],[52,1,52,3],[30,4,30,10],[61,1,61,3],[59,1,59,3],[55,1,55,4],[56,1,56,4],[58,1,58,3],[67,1,67,2],[53,1,53,3],[2,0,2,4],[4,1,4,9],[27,1,27,3],[35,1,35,3],[36,1,36,3],[37,1,37,3],[38,1,38,3],[39,1,39,3],[40,1,40,3],[46,1,46,3],[60,1,60,3],[62,1,62,3],[54,1,54,4],[57,1,57,3]]}
[]
[]
[]
[]
[null,"Local Area Migration"]
[]
[]
[]
[]
[]
[]
[]
[]
[]
[]
[]
[]
[]
[]
[]
[]
[]
[]
[]
[]
[null,"The main worksheets are:"]
[]
[null,"Information on Indicators and Data Sources",null,null,"Provides information on each indicator, data sources and any strengths and weaknesses to be aware of"]
[null,"Comparing Indicators",null,null,"Allows you to compare up to three indicators for one selected area"]
[null,"Comparing Areas",null,null,"Allows you to compare up to three Council areas for one selected indicator"]
[null,"Comparing NHS Board Areas",null,null,"Allows you to compare up to three NHS Board areas for one selected indicator"]
[]
[]
[null,"Background data and information on the data source is also available:"]
[]
[null,"Total net migration",null,null,null,"Information","Data"]
[null,"Total net migration for ages 0-15",null,null,null,"Information","Data"]
[null,"Total net migration for ages 16-64",null,null,null,"Information","Data"]
[null,"Total net migration for people aged 65+",null,null,null,"Information","Data"]
[null,"Total in-migration",null,null,null,"Information","Data"]
[null,"Total out-migration",null,null,null,"Information","Data"]
[null,"Within Scotland net migration",null,null,null,"Information","Data"]
[null,"Within Scotland in-migration",null,null,null,"Information","Data"]
[null,"Within Scotland out-migration",null,null,null,"Information","Data"]
[null,"Rest of UK net migration",null,null,null,"Information","Data"]
[null,"Rest of UK in-migration",null,null,null,"Information","Data"]
[null,"Rest of UK out-migration",null,null,null,"Information","Data"]
[null,"International net migration",null,null,null,"Information","Data"]
[null,"International in-migration",null,null,null,"Information","Data"]
[null,"International out-migration",null,null,null,"Information","Data"]
[null,"Census population by country of birth",null,null,null,"Information","Data"]
[null,"Population born outside the UK",null,null,null,"Information","Data"]
[null,"Population with non-British nationality",null,null,null,"Information","Data"]
[null,"National Insurance Number (NINo) allocations",null,null,null,"Information","Data"]
[null,"EU Settlement Scheme (EUSS) applications (by nationality)",null,null,null,"Information","Data"]
[null,"EU Settlement Scheme (EUSS) applications (by age group)",null,null,null,"Information","Data"]
[null,"EU Settlement Scheme (EUSS) applications (concluded applications)",null,null,null,"Information","Data"]
[null,"Pupils from a minority ethnic group (2021)",null,null,null,"Information","Data"]
[null,"Pupils from a minority ethnic group (time series)",null,null,null,"Information","Data"]
[null,"Pupils with English as an additional language",null,null,null,"Information","Data"]
[null,"Births to non-UK mothers",null,null,null,"Information","Data"]
[null,"Births to non-UK mothers as a percentage of total births",null,null,null,"Information","Data"]
[null,"Citizenships",null,null,null,"Information","Data"]
[null,"Data can also be compared using our interactive visualisation app",null,null,null,"NRS website (opens in a new window)."]

{"sheet":"Information","index":4,"n_rows":267,"n_cols":4,"rows_kept":267,"cut":false,"hidden":false,"merged":[[6,2,6,3],[4,2,4,3],[7,2,7,3],[39,2,39,3],[36,2,36,3],[37,2,37,3],[38,2,38,3],[10,2,10,3],[11,2,11,3],[12,2,12,3],[13,2,13,3],[14,2,14,3],[15,2,15,3],[16,2,16,3],[17,2,17,3],[18,2,18,3],[269,2,269,3],[33,2,33,3],[27,2,27,3],[28,2,28,3],[30,2,30,3],[31,2,31,3],[9,2,9,3],[24,2,24,3],[25,2,25,3],[32,2,32,3],[29,2,29,3],[19,2,19,3],[20,2,20,3],[21,2,21,3],[22,2,22,3],[23,2,23,3]]}
[]
[]
[]
[]
[null,null,"Information on Indicators and Data Sources"]
[]
[null,null,"This page contains information on the strengths and weaknesses of each indicator. Additional information is provided for some key data sources of migration data, as well as links to further information."]
[]
[null,null,"Click on the title to view information on the indicator:"]
[null,null,"Notes for tables"]
[null,null,"Total net migration"]
[null,null,"Total net migration for ages 0-15"]
[null,null,"Total net migration for ages 16-64"]
[null,null,"Total net migration for people aged 65+"]
[null,null,"Total in-migration"]
[null,null,"Total out-migration"]
[null,null,"Within Scotland net migration"]
[null,null,"Within Scotland in-migration"]
[null,null,"Within Scotland out-migration"]
[null,null,"Rest of UK net migration"]
[null,null,"Rest of UK in-migration"]
[null,null,"Rest of UK out-migration"]
[null,null,"International net migration"]
[null,null,"International in-migration"]
[null,null,"International out-migration"]
[null,null,"Census population by country of birth"]
[null,null,"Population born outside the UK"]
[null,null,"Population with non-British nationality"]
[null,null,"National Insurance Number (NINo) allocations"]
[null,null,"EU Settlement Scheme (EUSS) applications"]
[null,null,"Pupils from a minority ethnic group"]
[null,null,"Pupils with English as an additional language"]
[null,null,"Births to non-UK mothers"]
[null,null,"Citizenships"]
[]
[null,null,"Additional information on key data sources used for the indicators:"]
[null,null,"Community Health Index (CHI)"]
[null,null,"International Passenger Survey (IPS)"]
[null,null,"National Health Service Central Register (NHSCR)"]
[null,null,"NRS mid-year population and migration estimates"]
[]
[null,null,"Total net migration"]
[null,null,"Indicator of:","Difference between in and out migration for the rest of the UK, within Scotland and internationally."]
[null,null,"Information:","These figures are published by NRS and relate to total net migration (difference between immigration and emigration). They include asylum seekers and rounding adjustments. Refugees are also included from 2015-16 onwards. More information on the methodology for the NRS migration estimates can be found in the Migration section of this website."]
[null,null,"Strengths:","Provides an estimate of all long-term migrants (i.e. those that stay for 12 months or more) at Council and NHS Board area level."]
[null,null,"Weaknesses:","Estimates are only produced annually, about 10 months after the period to which they refer, and rely on administrative and survey data rather than a comprehensive count of people moving."]
[null,null,"Source:","'Total Migration To and From Scotland' section of the NRS website"]
[]
[null,null,"Total net migration for ages 0-15"]
[null,null,"Indicator of:","Difference between in and out migration for the rest of the UK, within Scotland and internationally of people aged 15 and under"]
[null,null,"Information:","These figures include asylum seekers and rounding adjustments. Refugees are also included from 2015-16 onwards. More information on the methodology for the NRS migration estimates can be found in the Migration section of this website."]
[null,null,"Strengths:","Provides an estimate of all long-term migrants (i.e. those that stay for 12 months or more) within this age group at Council and NHS Board area level."]
[null,null,"Weaknesses:","Estimates are only produced annually, about 10 months after the period to which they refer, and rely on administrative and survey data rather than a comprehensive count of people moving."]
[null,null,"Source:","'Total Migration To and From Scotland' section of the NRS website"]
[]
[null,null,"Total net migration for ages 16-64"]
[null,null,"Indicator of:","Difference between in and out migration for the rest of the UK, within Scotland and internationally of people aged between 16 and 64"]
[null,null,"Information:","These figures include asylum seekers and rounding adjustments. Refugees are also included from 2015-16 onwards. More information on the methodology for the NRS migration estimates can be found in the Migration section of this website."]
[null,null,"Strengths:","Provides an estimate of all long-term migrants (i.e. those that stay for 12 months or more) within this age group at Council and NHS Board area level."]
[null,null,"Weaknesses:","Estimates are only produced annually, about 10 months after the period to which they refer, and rely on administrative and survey data rather than a comprehensive count of people moving."]
[null,null,"Source:","'Total Migration To and From Scotland' section of the NRS website"]
[]
[null,null,"Total net migration for ages 65+"]
[null,null,"Indicator of:","Difference between in and out migration for the rest of the UK, within Scotland and internationally of people aged 65 and over"]
[null,null,"Information:","These figures include asylum seekers and rounding adjustments. Refugees are also included from 2015-16 onwards. More information on the methodology for the NRS migration estimates can be found in the Migration section of this website."]
[null,null,"Strengths:","Provides an estimate of all long-term migrants (i.e. those that stay for 12 months or more) within this age group at Council and NHS Board area level."]
[null,null,"Weaknesses:","Estimates are only produced annually, about 10 months after the period to which they refer, and rely on administrative and survey data rather than a comprehensive count of people moving."]
[null,null,"Source:","'Total Migration To and From Scotland' section of the NRS website"]
[]
[null,null,"Total in-migration"]
[null,null,"Indicator of:","Flow of people to administrative areas in Scotland from the rest of the UK, other areas within Scotland and internationally."]
[null,null,"Information:","These figures measure total in-migration. Figures include asylum seekers, refugees are also included from 2015-16 onwards. Scotland level estimates cannot be derived by adding together the estimates for individual Council areas or NHS Board areas because administrative area estimates include moves within Scotland. It would not, therefore, be appropriate to compare total in-migration for Scotland with total in-migration for an administrative area. More information on the methodology for the NRS migration estimates can be found in the Migration section of this website."]
[null,null,"Strengths:","The best available measure of immigration (or inflow) to Scotland."]
[null,null,"Weaknesses:","Estimates are only produced annually, about 10 months after the period to which they refer, and rely on administrative and survey data rather than a comprehensive count of people moving."]
[null,null,"Source:","'Total Migration To and From Scotland' section of the NRS website"]
[]
[null,null,"Total out-migration"]
[null,null,"Indicator of:","Flow of people from administrative areas in Scotland to the rest of the UK, other areas within Scotland and internationally."]
[null,null,"Information:","These figures measure total out-migration. Figures include asylum seekers. Scotland level estimates cannot be derived by adding together the estimates for individual Council areas or NHS Board areas because administrative area estimates include moves within Scotland. It would not, therefore, be appropriate to compare total out-migration for Scotland with total out-migration for an administrative area. More information on the methodology for the NRS migration estimates can be found in the Migration section of this website."]
[null,null,"Strengths:","The best available measure of emigration (or outflow) from Scotland."]
[null,null,"Weaknesses:","Estimates are only produced annually, about 10 months after the period to which they refer, and rely on administrative and survey data rather than a comprehensive count of people moving."]
[null,null,"Source:","'Total Migration To and From Scotland' section of the NRS website"]
[]
[null,null,"Within Scotland net migration"]
[null,null,"Indicator of:","Net migration between administrative areas within Scotland"]
[null,null,"Information:","Moves within Scotland at Council area level are derived from a combination of the National Health Service Central Register (NHSCR) and the Community Health Index (CHI), and from the NHSCR for NHS Board areas. More information on the methodology for the NRS migration estimates can be found in the Migration section of this website."]
[null,null,"Strengths:","These estimates are National Statistics."]
[null,null,"Weaknesses:","Estimates are only produced annually, about 10 months after the period to which they refer, and rely on administrative and survey data rather than a comprehensive count of people moving."]
[null,null,"Source:","'Migration within Scotland' section of the NRS website"]
[]
[null,null,"Within Scotland in-migration"]
[null,null,"Indicator of:","Flow of people to administrative areas in Scotland from other areas within Scotland"]
[null,null,"Information:","Moves within Scotland at Council area level are derived from a combination of the National Health Service Central Register (NHSCR) and the Community Health Index (CHI), and from the NHSCR for NHS Board areas. More information on the methodology for the NRS migration estimates can be found in the Migration section of this website."]
[null,null,"Strengths:","These estimates are National Statistics."]
[null,null,"Weaknesses:","Estimates are only produced annually, about 10 months after the period to which they refer, and rely on administrative and survey data rather than a comprehensive count of people moving."]
[null,null,"Source:","'Migration within Scotland' section of the NRS website"]
[]
[null,null,"Within Scotland out-migration"]
[null,null,"Indicator of:","Flow of people from administrative areas in Scotland to other areas within Scotland"]
[null,null,"Information:","Moves within Scotland at Council area level are derived from a combination of the National Health Service Central Register (NHSCR) and the Community Health Index (CHI), and from the NHSCR for NHS Board areas. More information on the methodology for the NRS migration estimates can be found in the Migration section of this website."]
[null,null,"Strengths:","These estimates are National Statistics."]
[null,null,"Weaknesses:","Estimates are only produced annually, about 10 months after the period to which they refer, and rely on administrative and survey data rather than a comprehensive count of people moving."]
[null,null,"Source:","'Migration within Scotland' section of the NRS website"]
[]
[null,null,"Rest of UK net migration"]
[null,null,"Indicator of:","Net migration between administrative areas in Scotland and the rest of the UK"]
[null,null,"Information:","These are the NRS National Statistics for rest of UK migration. Moves between Scottish administrative areas and the rest of the UK are derived from General Practitioner (GP) registration information. Moves between Scotland and the rest of the UK used here do not include movements to/from the armed forces. More information on the methodology for the NRS migration estimates can be found in the Migration section of this website."]
[null,null,"Strengths:","These estimates are National Statistics."]
[null,null,"Weaknesses:","Estimates are only produced annually at Scottish administrative area level, about 10 months after the period to which they refer, and rely on administrative and survey data rather than a comprehensive count of people moving."]
[null,null,"Source:","'Migration between Scotland and Rest of the UK' section of the NRS website"]
[]
[null,null,"Rest of UK in-migration"]
[null,null,"Indicator of:","Flow of people to administrative areas in Scotland from the rest of the UK"]
[null,null,"Information:","These are the NRS National Statistics for rest of UK migration. Moves between Scottish administrative areas and the rest of the UK are derived from the National Health Service Central Register (NHSCR) and Community Health Index (CHI). Moves between Scotland and the rest of the UK used here do not include movements to/from the armed forces. More information on the methodology for the NRS migration estimates can be found in the Migration section of this website."]
[null,null,"Strengths:","These estimates are National Statistics."]
[null,null,"Weaknesses:","Estimates are only produced annually at Scottish administrative area level, about 10 months after the period to which they refer, and rely on administrative and survey data rather than a comprehensive count of people moving."]
[null,null,"Source:","'Migration between Scotland and Rest of the UK' section of the NRS website"]
[]
[null,null,"Rest of UK out-migration"]
[null,null,"Indicator of:","Flow of people from administrative areas in Scotland to the rest of the UK"]
[null,null,"Information:","These are the NRS National Statistics for rest of UK migration. Moves between Scottish administrative areas and the rest of the UK are derived from General Practitioner (GP) registration information. Moves between Scotland and the rest of the UK used here do not include movements to/from the armed forces. More information on the methodology for the NRS migration estimates can be found in the Migration section of this website."]
[null,null,"Strengths:","These estimates are National Statistics."]
[null,null,"Weaknesses:","Estimates are only produced annually at Scottish administrative area level, about 10 months after the period to which they refer, and rely on administrative and survey data rather than a comprehensive count of people moving."]
[null,null,"Source:","'Migration between Scotland and Rest of the UK' section of the NRS website"]
[]
[null,null,"International net migration"]
[null,null,"Indicator of:","International net migration"]
[null,null,"Information:","These figures measure international net migration. International migration estimates for the year ending June 2021 are using a different method to those previously published. They rely less on International Passenger Survey (IPS) data and make greater use of administrative data. This means that the latest figures on international migration may not be comparable with previous estimates produced from the IPS or more recently using some statistical modelling (for the year ending June 2020). Data from the National Health Service Central Register (NHSCR) and the Community Health Index (CHI) are also used for this process. In March 2020 the IPS was suspended due to the pandemic. International migration for March to June 2020 has been modelled using alternative data sources. More information on the methodology for the NRS migration estimates can be found in the Migration section of this website. Asylum seekers are included for all years, refugees are also included from 2015-16 onwards."]
[null,null,"Strengths:","The best available measure of international net migration for Scotland."]
[null,null,"Weaknesses:","The IPS sample size for Scotland is small, making the estimates less reliable. "]
[null,null,null,"Estimates are only produced annually, about 10 months after the period to which they refer."]
[null,null,"Source:","International Migration section of the NRS website"]
[]
[null,null,"International in-migration"]
[null,null,"Indicator of:","International in-migration to administrative areas in Scotland."]
[null,null,"Information:","These figures measure international net migration. International migration estimates for the year ending June 2021 are using a different method to those previously published. They rely less on International Passenger Survey (IPS) data and make greater use of administrative data. This means that the latest figures on international migration may not be comparable with previous estimates produced from the IPS or more recently using some statistical modelling (for the year ending June 2020). Data from the National Health Service Central Register (NHSCR) and the Community Health Index (CHI) are also used for this process. In March 2020 the IPS was suspended due to the pandemic. International migration for March to June 2020 has been modelled using alternative data sources. More information on the methodology for the NRS migration estimates can be found in the Migration section of this website. Asylum seekers are included for all years, refugees are also included from 2015-16 onwards."]
[null,null,"Strengths:","The best available measure of international immigration (or inflow)."]
[null,null,"Weaknesses:","The IPS sample size for Scotland is small, making the estimates less reliable. "]
[null,null,null,"Estimates are only produced annually, about 10 months after the period to which they refer."]
[null,null,"Source:","International Migration section of the NRS website"]
[]
[null,null,"International out-migration"]
[null,null,"Indicator of:","International out-migration from administrative areas in Scotland."]
[null,null,"Information:","These figures measure international net migration. International migration estimates for the year ending June 2021 are using a different method to those previously published. They rely less on International Passenger Survey (IPS) data and make greater use of administrative data. This means that the latest figures on international migration may not be comparable with previous estimates produced from the IPS or more recently using some statistical modelling (for the year ending June 2020). Data from the National Health Service Central Register (NHSCR) and the Community Health Index (CHI) are also used for this process. In March 2020 the IPS was suspended due to the pandemic. International migration for March to June 2020 has been modelled using alternative data sources. More information on the methodology for the NRS migration estimates can be found in the Migration section of this website. Asylum seekers are included for all years, refugees are also included from 2015-16 onwards."]
[null,null,"Strengths:","The best available measure of international emigration (or outflow)."]
[null,null,"Weaknesses:","The IPS sample size for Scotland is small, making the estimates less reliable. "]
[null,null,null,"Estimates are only produced annually, about 10 months after the period to which they refer."]
[null,null,"Source:","International Migration section of the NRS website"]
[]
[null,null,"Population born outside the UK"]
[null,null,"Indicator of:","Resident population ('stock') of migrants based on those with non-UK country of birth"]
[null,null,"Information:","The country of birth data from the Annual Population Survey (APS) is used for this indicator. This information gives an estimate of the number of people living in Scotland who were born outside the UK. The data is available from 2004, on a calendar year basis. The APS comprises of data from the Labour Force Survey (LFS), plus data from the Annual Local (Area) Labour Force Survey Boosts for England, Scotland and Wales. It is updated quarterly and is published about 8 months after the time period to which it refers. Data is available at council area level although some data is suppressed. For 2020, the LFS used a new weighting methodology to reflect the change in survey operations during the coronavirus (COVID-19) pandemic and caution should be taken when making comparisons. National Records of Scotland (NRS) has made the decision to cancel the publication of Scotland’s population by country of birth and nationality for the year ending December 2021, which would usually have been out in May 2022. This is therefore shown as [x] = not available for 2021. This is due to the impending reweighting of the Annual Population Survey (APS), the data of which traditionally informs the release, which will not be complete until Autumn 2022. More information on the reweighting and other impacts of COVID-19 on the data can be found on the ONS website."]
[null,null,"Link:","ONS website."]
[null,null,"Strengths:","Gives a more robust estimate of change over time than looking at nationality as an individual's nationality can change. "]
[null,null,"Weaknesses:","LFS excludes most communal establishments and foreign students living in halls of residence, and so the number of foreign born migrants is likely to be under-reported. "]
[null,null,null,"For some council areas an estimate cannot be made from the APS as the number of people born outside the UK is too small for the estimate to be reliable. "]
[null,null,null,"Some people born outside the UK may have lived in the UK for a long time and are therefore not regarded as migrants."]
[null,null,"Source:","'Population by Country of Birth and Nationality' section of the NRS website"]
[]
[null,null,"Population with non-British nationality"]
[null,null,"Indicator of:","Resident population ('stock') of migrants based on those with non-British nationality"]
[null,null,"Information:","Nationality data from the Annual Population Survey (APS) is used for this indicator. This information gives an estimate of the number of people living in Scotland who were born outside the UK. The data is available from 2004, on a calendar year basis. The APS comprises of data from the Labour Force Survey (LFS), plus data from the Annual Local (Area) Labour Force Survey Boosts for England, Scotland and Wales. It is updated quarterly and is published about 8 months after the time period to which it refers. Data is available at council area level although some data is suppressed. Suppressed estimates are indicated with either [low] = zero due to rounding or [c] = confidential. For 2020, the LFS used a new weighting methodology to reflect the change in survey operations during the coronavirus (COVID-19) pandemic and caution should be taken when making comparisons. National Records of Scotland (NRS) has made the decision to cancel the publication of Scotland’s population by country of birth and nationality for the year ending December 2021, which would usually have been out in May 2022. This is therefore shown as [x] = not available for 2021. This is due to the impending reweighting of the Annual Population Survey (APS), the data of which traditionally informs the release, which will not be complete until Autumn 2022. More information on the reweighting and other impacts of COVID-19 on the data can be found on the ONS website."]
[null,null,"Link:","ONS website."]
[null,null,"Strengths:","Gives a more up to date look at migration than country of birth data, as people who were born outside the UK but have lived here for many years are not regarded as migrants."]
[null,null,"Weaknesses:","LFS excludes most communal establishments and foreign students living in halls of residence, and so the number of foreign born migrants is likely to be under-reported. "]
[null,null,null,"For some council areas an estimate cannot be made from the APS as the number of people born outside the UK is too small for the estimate to be reliable. "]
[null,null,null,"An individuals nationality can change, meaning time series are less robust than for country of birth data."]
[null,null,"Source:","'Population by Country of Birth and Nationality' section of the NRS website"]
[]
[null,null,"National Insurance Number (NINo) allocations to adult overseas nationals entering the UK"]
[null,null,"Indicator of:","Inflow of overseas nationals, looking to work or claim benefits"]
[null,null,"Information:","These data have been obtained using the Stat-Xplore tool on the DWP website, which has annual Council area data. Data used here is on a calendar year basis up until 2020. Data for 2021 will be added when it becomes available. NINo data March 2020 to June 2021: NINo operations were paused for the majority of applicants from mid-March 2020 and therefore estimates for 2020 and 2021 should be viewed with caution. The service for EU Nationals was more heavily disrupted than for Non-EU nationals. This was due to the closure of face-to-face services which at the time (prior to the end of the transition period, 31 December 2020) required EU nationals to attend an evidence of identity interview prior to a NINo being allocated.  The majority of Non-EU Nationals were able to access the NINo service via a postal process as they would have had their identity verified by another government department, for example through the Home Office visa process. The postal process was reinstated on 1 June 2020, after being suspended in March 2020. The quarterly 'National Insurance number allocations to adult overseas nationals entering the UK' National Statistics publication is currently (as at 11 August 2022) suspended due to an underlying data issue. Progress is being made to investigate. Once a solution is in place DWP will reinstate the statistical series as soon as possible in line with the UK Statistics Authority Code of Practice for Statistics. DWP will provide an update by early October 2022 or as soon as they have any further information."]
[null,null,"Strengths:","Includes any overseas national looking to work or claim benefits/tax credits in the UK, self-employed or students working part-time. "]
[null,null,null,"Provides Council area level data. "]
[null,null,null,"Location data relates to the residence of the individual, not their employer."]
[null,null,"Weaknesses:","Based on the date of registration not the date of arrival, and the lag between the two can often be a year or even longer. \nRandom adjustments have been applied to the data to avoid the disclosure of confidential information. "]
[null,null,null,"Excludes those not working, nor planning to work or claim benefits, so children and students that don't work are not included. "]
[null,null,null,"Excludes returning UK nationals. "]
[null,null,null,"Does not provide any outflow information or overall stock. "]
[null,null,null,"Includes migrants staying less than one month as there is no minimum stay for registration. "]
[null,null,null,"Data reflects the migrant's first destination or location at registration, not where migrants settle nor does it reflect the stock of migrants nationally."]
[null,null,"Source:","Department for Work and Pensions - Stat-Xplore"]
[]
[null,null,"EU Settlement Scheme (EUSS) applications"]
[null,null,"Indicator of:","Number of people who have applied to remain in the UK following Brexit. The EU Settlement Scheme (EUSS) enables resident EU, other EEA and Swiss citizens, and their family members, to obtain a UK immigration status. "]
[null,null,"Information:","These data come from the Home Office and are updated quarterly. They include applications by nationality, age group and outcome."]
[null,null,"Strengths:","Detailed and timely information based on administrative data."]
[null,null,"Weaknesses:","These data are classed as experimental statistics. They do not indicate how many people are eligible to apply to the scheme nor how many EU citizens live in the UK. They measure applications rather than applicants; one individual may need to apply multiple times (for example, to gain pre-settled and then settled status) and this will be recorded as separate applications."]
[null,null,null,"Data come from a live operational database to which revisions may be made."]
[null,null,"Source:","'EU Settlement Scheme' section of the UK government website"]
[]
[null,null,"Pupils from a minority ethnic group"]
[null,null,"Indicator of:","School aged children by ethnicity"]
[null,null,"Information:","These figures come from the Pupil Census which is collected by the Scottish Government through the ScotXed programme, and are available annually from 2003. The Pupil Census covers all publicly funded schools in Scotland (local authority and grant-aided). It is conducted in September and the data is published in December on the Scottish Government website, with supplementary data being published in March."]
[null,null,"Strengths:","Data is reasonably current. "]
[null,null,null,"Can provide an indication of where migrant families with school aged children live, rather than work."]
[null,null,"Weaknesses:","Provides no information about migrants without school aged children. "]
[null,null,null,"Although over 97.5 per cent of pupils disclosed their ethnic background, some pupils' ethnicity was in the 'unknown' category. "]
[null,null,null,"No specific nationality data. "]
[null,null,null,"Only includes children in publicly funded schools. "]
[null,null,null,"Non-migrants may be from a minority ethnic group."]
[null,null,"Source:","Pupil Census, Scottish Government"]
[]
[null,null,"Pupils with English as an additional language"]
[null,null,"Indicator of:","Migrants from non-English speaking countries with school aged children"]
[null,null,"Information:","These figures come from the Pupil Census which is collected by the Scottish Government through the ScotXed programme, and are available annually from 2003. The Pupil Census covers all publicly funded schools in Scotland (local authority and grant-aided). It is conducted in September and the data is published in December on the Scottish Government website, with supplementary data being published in March the following year."]
[null,null,"Strengths:","Data is reasonably current. "]
[null,null,null,"Can provide an indication of where migrant families with school aged children live, rather than work."]
[null,null,"Weaknesses:","Provides no information about migrants without school aged children. "]
[null,null,null,"No specific nationality data. "]
[null,null,null,"Only includes children in publicly funded schools. "]
[null,null,null,"Excludes migrants from English speaking countries (whose first language is English) and those fluent in English. "]
[null,null,null,"Includes non-recent migrants still speaking a different home language if pupils have English as an additional language."]
[null,null,"Source:","Pupil Census, Scottish Government"]
[]
[null,null,"Births to non-UK mothers"]
[null,null,"Indicator of:","Number of babies born each year to mothers who had a non-UK country of birth"]
[null,null,"Information:","This data comes from the NRS Vital Events branch and is collected when the birth is registered. This data is published annually on a calendar year basis. Data is available back to 1996."]
[null,null,"Strengths:","Gives an indication of migrants choosing to have children, potentially indicating a desire to settle in an area."]
[null,null,"Weaknesses:","Only gives information on a very specific group of migrants (i.e. mothers having children)."]
[null,null,"Source:","'Births' section of the Vital Events Reference Tables on the NRS website"]
[]
[null,null,"Citizenships"]
[null,null,"Indicator of:","Overseas nationals gaining UK citizenship"]
[null,null,"Information:","Definition of citizenship ceremonies:  A ceremony organised by County or Local Authorities for successful applicants over 18 years of age for British citizenship. At the ceremony the applicant takes the Oath or Affirmation of allegiance to Her Majesty the Queen and the Pledge of loyalty to the United Kingdom. Since 1 January 2004 this has been the final stage in the process of attaining British citizenship. The citizenship ceremony is organised by the relevant local authority, and happens after the Home Office have processed the application."]
[null,null,"Strengths:","Shows the number of people aged 18 and over that have become British citizens."]
[null,null,"Weaknesses:","Citizenship is a complicated subject, and people will gain British Citizenship for a variety of different reasons."]
[null,null,"Source:","Home Office Immigration Statistics"]
[]
[null,null,"Information on key data sources"]
[]
[null,null,"Census"]
[null,null,"Information:","Every ten years a census of the UK population is carried out, with the data collected providing detailed data on various aspects of the population.  Data from the 2011 Census (in Scotland) includes information on country of birth, which is included in this spreadsheet."]
[null,null,"Strengths:","Most comprehensive and detailed source of population and demography data."]
[null,null,"Weaknesses:","Data is only collected once every ten years."]
[null,null,"Source:","Scotland's Census 2011 - Census Results"]
[]
[null,null,"Community Health Index (CHI)"]
[null,null,"Information:","The CHI holds records of people registered with a NHS GP in Scotland."]
[null,null,"Strengths:","The CHI records provided to NRS contain the postcode of the patient's address which enables migration to be estimated for Council areas by matching two extracts taken one year apart."]
[null,null,"Weaknesses:","Moves derived from the National Health Service Central Register (NHSCR) are considered to be more reliable than moves derived from the CHI, and so the CHI data is adjusted to ensure that it is consistent with the NHSCR data for moves across a NHS Board area boundary by origin, destination, age and sex."]
[null,null,"Source:","Migration - Methodology section of the NRS website"]
[]
[null,null,"International Passenger Survey (IPS)"]
[null,null,"Information:","The IPS provides information on moves into and out of Scotland with an origin or destination outside the UK. It is a continuous sample survey conducted by the Office for National Statistics (ONS) at the principal international air, sea and Channel Tunnel routes between the UK and countries outside the British Isles. The IPS is used along with information from the Home Office, the Labour Force Survey (LFS), and the Irish Central Statistics Office to compile the estimates of international migration into Scotland. The allocation of these migrants to Scotland is based on the LFS as it provides more reliable data on the geographical distribution of immigrants than the destination provided in the IPS since it is based on where migrants actually live rather than on their initial intentions. The outflow of international migrants from Scotland is based directly on the IPS data. The IPS collects data on intentions which may or may not be realised, and so an adjustment is made to the data for visitor and migrant switchers - people who change their intentions and their migratory status. The adjusted IPS data is called the Long-Term International Migration (LTIM) estimate and is produced by ONS. In March 2020 the IPS was suspended due to the COVID-19 pandemic. International migration for March to June 2020 has been modelled using alternative data sources. More information on the methodology can be found on the "]
[null,null,"Link:","ONS website."]
[null,null,null,"Future international migration statistics will now be based on a range of administrative data. ONS are leading the cross-government transformation programme to deliver new measures of international migration based on administrative data."]
[null,null,"Strengths:","It is currently the main source of migration data to and from the UK."]
[null,null,null,"Provides estimates of both inflows and outflows of migrants."]
[null,null,"Weaknesses:","Sample size for Scotland is small."]
[null,null,"Source:","International Passenger Survey methodology section of the ONS website"]
[]
[null,null,"National Health Service Central Register (NHSCR)"]
[null,null,"Information:","The NHSCR system records movement of patient records between NHS Board areas in the UK. Counts of these re-registrations are used as a proxy indicator for moves within the UK. A lag is assumed between the arrival at destination and the date of the migrant appearing on the NHSCR."]
[null,null,"Strengths:","Most comprehensive administrative data source available. "]
[null,null,null,"Data is reasonably current."]
[null,null,"Weaknesses:","Only shows those who have registered with a GP. "]
[null,null,null,"Data does not show the exact time of migration as there is a difference between move date and date at which the change of GP is processed. This lag is not consistent. "]
[null,null,null,"There may be month to month variation in the volume of records loaded onto the NHSCR. "]
[null,null,null,"Captures short-term migrants (i.e. those staying for less than 12 months), and these cannot be distinguished from long-term migrants. "]
[null,null,"Source:","Migration - Methodology section of the NRS website"]
[]
[null,null,"NRS mid-year population and migration estimates"]
[null,null,"Information:","NRS mid-year population and migration estimates are produced annually, and use a range of data sources to produce migration estimates for within Scotland, rest of UK and international migration. More information on the methodology for the NRS migration estimates can be found in the Mid-Year Population Estimates section of this website. The population and migration estimates in this tool are based on the 2011 Census, and updated annually to account for population change. "]
[null,null,"Strengths:","Provides an estimate of all long-term migrants (i.e. those staying 12 months or more) at Council and NHS Board area level."]
[null,null,"Weaknesses:","Estimates are only produced annually, about 10 months after the period to which they refer, and rely on administrative and survey data rather than a comprehensive count of people moving."]
[null,null,"Source:","Mid-Year Population Estimates' section of the NRS website"]

{"sheet":"Info lookup","index":5,"n_rows":25,"n_cols":7,"rows_kept":25,"cut":false,"hidden":true,"merged":[]}
[]
[null,null,"Indicator of:","Information:","Strengths:","Weaknesses:","Source:"]
[1,"Not specified","~","~","~","~","~"]
[2,"Total net migration",{"$f":"Information!D43","v":"Difference between in and out migration for the rest of the UK, within Scotland and internationally."},{"$f":"Information!D44","v":"These figures are published by NRS and relate to total net migration (difference between immigration and emigration). They include asylum seekers and rounding adjustments. Refugees are also included from 2015-16 onwards. More information on the methodology for the NRS migration estimates can be found in the Migration section of this website."},{"$f":"Information!D45","v":"Provides an estimate of all long-term migrants (i.e. those that stay for 12 months or more) at Council and NHS Board area level."},{"$f":"CONCATENATE(Information!D46)","v":"Estimates are only produced annually, about 10 months after the period to which they refer, and rely on administrative and survey data rather than a comprehensive count of people moving."},{"$f":"Information!D47","v":"'Total Migration To and From Scotland' section of the NRS website"}]
[3,"Total net migration for ages 0-15",{"$f":"Information!D50","v":"Difference between in and out migration for the rest of the UK, within Scotland and internationally of people aged 15 and under"},{"$f":"Information!D51","v":"These figures include asylum seekers and rounding adjustments. Refugees are also included from 2015-16 onwards. More information on the methodology for the NRS migration estimates can be found in the Migration section of this website."},{"$f":"Information!D52","v":"Provides an estimate of all long-term migrants (i.e. those that stay for 12 months or more) within this age group at Council and NHS Board area level."},{"$f":"CONCATENATE(Information!D53)","v":"Estimates are only produced annually, about 10 months after the period to which they refer, and rely on administrative and survey data rather than a comprehensive count of people moving."},{"$f":"Information!D54","v":"'Total Migration To and From Scotland' section of the NRS website"}]
[4,"Total net migration for ages 16 - 64",{"$f":"Information!D57","v":"Difference between in and out migration for the rest of the UK, within Scotland and internationally of people aged between 16 and 64"},{"$f":"Information!D58","v":"These figures include asylum seekers and rounding adjustments. Refugees are also included from 2015-16 onwards. More information on the methodology for the NRS migration estimates can be found in the Migration section of this website."},{"$f":"Information!D59","v":"Provides an estimate of all long-term migrants (i.e. those that stay for 12 months or more) within this age group at Council and NHS Board area level."},{"$f":"CONCATENATE(Information!D60)","v":"Estimates are only produced annually, about 10 months after the period to which they refer, and rely on administrative and survey data rather than a comprehensive count of people moving."},{"$f":"Information!D61","v":"'Total Migration To and From Scotland' section of the NRS website"}]
[5,"Total net migration for people aged 65+",{"$f":"Information!D64","v":"Difference between in and out migration for the rest of the UK, within Scotland and internationally of people aged 65 and over"},{"$f":"Information!D65","v":"These figures include asylum seekers and rounding adjustments. Refugees are also included from 2015-16 onwards. More information on the methodology for the NRS migration estimates can be found in the Migration section of this website."},{"$f":"Information!D66","v":"Provides an estimate of all long-term migrants (i.e. those that stay for 12 months or more) within this age group at Council and NHS Board area level."},{"$f":"CONCATENATE(Information!D67)","v":"Estimates are only produced annually, about 10 months after the period to which they refer, and rely on administrative and survey data rather than a comprehensive count of people moving."},{"$f":"Information!D68","v":"'Total Migration To and From Scotland' section of the NRS website"}]
[6,"Total in-migration",{"$f":"Information!D71","v":"Flow of people to administrative areas in Scotland from the rest of the UK, other areas within Scotland and internationally."},{"$f":"Information!D72","v":"These figures measure total in-migration. Figures include asylum seekers, refugees are also included from 2015-16 onwards. Scotland level estimates cannot be derived by adding together the estimates for individual Council areas or NHS Board areas because administrative area estimates include moves within Scotland. It would not, therefore, be appropriate to compare total in-migration for Scotland with total in-migration for an administrative area. More information on the methodology for the NRS migration estimates can be found in the Migration section of this website."},{"$f":"Information!D73","v":"The best available measure of immigration (or inflow) to Scotland."},{"$f":"Information!D74","v":"Estimates are only produced annually, about 10 months after the period to which they refer, and rely on administrative and survey data rather than a comprehensive count of people moving."},{"$f":"Information!D75","v":"'Total Migration To and From Scotland' section of the NRS website"}]
[7,"Total out-migration",{"$f":"Information!D78","v":"Flow of people from administrative areas in Scotland to the rest of the UK, other areas within Scotland and internationally."},{"$f":"Information!D79","v":"These figures measure total out-migration. Figures include asylum seekers. Scotland level estimates cannot be derived by adding together the estimates for individual Council areas or NHS Board areas because administrative area estimates include moves within Scotland. It would not, therefore, be appropriate to compare total out-migration for Scotland with total out-migration for an administrative area. More information on the methodology for the NRS migration estimates can be found in the Migration section of this website."},{"$f":"Information!D80","v":"The best available measure of emigration (or outflow) from Scotland."},{"$f":"Information!D81","v":"Estimates are only produced annually, about 10 months after the period to which they refer, and rely on administrative and survey data rather than a comprehensive count of people moving."},{"$f":"Information!D82","v":"'Total Migration To and From Scotland' section of the NRS website"}]
[8,"Within Scotland net migration",{"$f":"Information!D85","v":"Net migration between administrative areas within Scotland"},{"$f":"Information!D86","v":"Moves within Scotland at Council area level are derived from a combination of the National Health Service Central Register (NHSCR) and the Community Health Index (CHI), and from the NHSCR for NHS Board areas. More information on the methodology for the NRS migration estimates can be found in the Migration section of this website."},{"$f":"Information!D87","v":"These estimates are National Statistics."},{"$f":"Information!D88","v":"Estimates are only produced annually, about 10 months after the period to which they refer, and rely on administrative and survey data rather than a comprehensive count of people moving."},{"$f":"Information!D89","v":"'Migration within Scotland' section of the NRS website"}]
[9,"Within Scotland in-migration",{"$f":"Information!D92","v":"Flow of people to administrative areas in Scotland from other areas within Scotland"},{"$f":"Information!D93","v":"Moves within Scotland at Council area level are derived from a combination of the National Health Service Central Register (NHSCR) and the Community Health Index (CHI), and from the NHSCR for NHS Board areas. More information on the methodology for the NRS migration estimates can be found in the Migration section of this website."},{"$f":"Information!D94","v":"These estimates are National Statistics."},{"$f":"Information!D95","v":"Estimates are only produced annually, about 10 months after the period to which they refer, and rely on administrative and survey data rather than a comprehensive count of people moving."},{"$f":"Information!D96","v":"'Migration within Scotland' section of the NRS website"}]
[10,"Within Scotland out-migration",{"$f":"Information!D99","v":"Flow of people from administrative areas in Scotland to other areas within Scotland"},{"$f":"Information!D100","v":"Moves within Scotland at Council area level are derived from a combination of the National Health Service Central Register (NHSCR) and the Community Health Index (CHI), and from the NHSCR for NHS Board areas. More information on the methodology for the NRS migration estimates can be found in the Migration section of this website."},{"$f":"Information!D101","v":"These estimates are National Statistics."},{"$f":"Information!D102","v":"Estimates are only produced annually, about 10 months after the period to which they refer, and rely on administrative and survey data rather than a comprehensive count of people moving."},{"$f":"Information!D103","v":"'Migration within Scotland' section of the NRS website"}]
[11,"Rest of UK net migration",{"$f":"Information!D106","v":"Net migration between administrative areas in Scotland and the rest of the UK"},{"$f":"Information!D107","v":"These are the NRS National Statistics for rest of UK migration. Moves between Scottish administrative areas and the rest of the UK are derived from General Practitioner (GP) registration information. Moves between Scotland and the rest of the UK used here do not include movements to/from the armed forces. More information on the methodology for the NRS migration estimates can be found in the Migration section of this website."},{"$f":"Information!D108","v":"These estimates are National Statistics."},{"$f":"CONCATENATE(Information!D109)","v":"Estimates are only produced annually at Scottish administrative area level, about 10 months after the period to which they refer, and rely on administrative and survey data rather than a comprehensive count of people moving."},{"$f":"Information!D110","v":"'Migration between Scotland and Rest of the UK' section of the NRS website"}]
[12,"Rest of UK in-migration",{"$f":"Information!D113","v":"Flow of people to administrative areas in Scotland from the rest of the UK"},{"$f":"Information!D114","v":"These are the NRS National Statistics for rest of UK migration. Moves between Scottish administrative areas and the rest of the UK are derived from the National Health Service Central Register (NHSCR) and Community Health Index (CHI). Moves between Scotland and the rest of the UK used here do not include movements to/from the armed forces. More information on the methodology for the NRS migration estimates can be found in the Migration section of this website."},{"$f":"Information!D115","v":"These estimates are National Statistics."},{"$f":"CONCATENATE(Information!D116)","v":"Estimates are only produced annually at Scottish administrative area level, about 10 months after the period to which they refer, and rely on administrative and survey data rather than a comprehensive count of people moving."},{"$f":"Information!D117","v":"'Migration between Scotland and Rest of the UK' section of the NRS website"}]
[13,"Rest of UK out-migration",{"$f":"Information!D120","v":"Flow of people from administrative areas in Scotland to the rest of the UK"},{"$f":"Information!D121","v":"These are the NRS National Statistics for rest of UK migration. Moves between Scottish administrative areas and the rest of the UK are derived from General Practitioner (GP) registration information. Moves between Scotland and the rest of the UK used here do not include movements to/from the armed forces. More information on the methodology for the NRS migration estimates can be found in the Migration section of this website."},{"$f":"Information!D122","v":"These estimates are National Statistics."},{"$f":"CONCATENATE(Information!D123)","v":"Estimates are only produced annually at Scottish administrative area level, about 10 months after the period to which they refer, and rely on administrative and survey data rather than a comprehensive count of people moving."},{"$f":"Information!D124","v":"'Migration between Scotland and Rest of the UK' section of the NRS website"}]
[14,"International net migration",{"$f":"Information!D127","v":"International net migration"},{"$f":"Information!D128","v":"These figures measure international net migration. International migration estimates for the year ending June 2021 are using a different method to those previously published. They rely less on International Passenger Survey (IPS) data and make greater use of administrative data. This means that the latest figures on international migration may not be comparable with previous estimates produced from the IPS or more recently using some statistical modelling (for the year ending June 2020). Data from the National Health Service Central Register (NHSCR) and the Community Health Index (CHI) are also used for this process. In March 2020 the IPS was suspended due to the pandemic. International migration for March to June 2020 has been modelled using alternative data sources. More information on the methodology for the NRS migration estimates can be found in the Migration section of this website. Asylum seekers are included for all years, refugees are also included from 2015-16 onwards."},{"$f":"Information!D129","v":"The best available measure of international net migration for Scotland."},{"$f":"CONCATENATE(Information!D130,Information!D131)","v":"The IPS sample size for Scotland is small, making the estimates less reliable. Estimates are only produced annually, about 10 months after the period to which they refer."},{"$f":"Information!D132","v":"International Migration section of the NRS website"}]
[15,"International in-migration",{"$f":"Information!D135","v":"International in-migration to administrative areas in Scotland."},{"$f":"Information!D136","v":"These figures measure international net migration. International migration estimates for the year ending June 2021 are using a different method to those previously published. They rely less on International Passenger Survey (IPS) data and make greater use of administrative data. This means that the latest figures on international migration may not be comparable with previous estimates produced from the IPS or more recently using some statistical modelling (for the year ending June 2020). Data from the National Health Service Central Register (NHSCR) and the Community Health Index (CHI) are also used for this process. In March 2020 the IPS was suspended due to the pandemic. International migration for March to June 2020 has been modelled using alternative data sources. More information on the methodology for the NRS migration estimates can be found in the Migration section of this website. Asylum seekers are included for all years, refugees are also included from 2015-16 onwards."},{"$f":"Information!D137","v":"The best available measure of international immigration (or inflow)."},{"$f":"CONCATENATE(Information!D138,Information!D139)","v":"The IPS sample size for Scotland is small, making the estimates less reliable. Estimates are only produced annually, about 10 months after the period to which they refer."},{"$f":"Information!D140","v":"International Migration section of the NRS website"}]
[16,"International out-migration",{"$f":"Information!D143","v":"International out-migration from administrative areas in Scotland."},{"$f":"Information!D144","v":"These figures measure international net migration. International migration estimates for the year ending June 2021 are using a different method to those previously published. They rely less on International Passenger Survey (IPS) data and make greater use of administrative data. This means that the latest figures on international migration may not be comparable with previous estimates produced from the IPS or more recently using some statistical modelling (for the year ending June 2020). Data from the National Health Service Central Register (NHSCR) and the Community Health Index (CHI) are also used for this process. In March 2020 the IPS was suspended due to the pandemic. International migration for March to June 2020 has been modelled using alternative data sources. More information on the methodology for the NRS migration estimates can be found in the Migration section of this website. Asylum seekers are included for all years, refugees are also included from 2015-16 onwards."},{"$f":"Information!D145","v":"The best available measure of international emigration (or outflow)."},{"$f":"CONCATENATE(Information!D146,Information!D147)","v":"The IPS sample size for Scotland is small, making the estimates less reliable. Estimates are only produced annually, about 10 months after the period to which they refer."},{"$f":"Information!D148","v":"International Migration section of the NRS website"}]
[17,"National Insurance Number (NINo) allocations to adult overseas nationals entering the UK",{"$f":"Information!D171","v":"Inflow of overseas nationals, looking to work or claim benefits"},{"$f":"Information!D172","v":"These data have been obtained using the Stat-Xplore tool on the DWP website, which has annual Council area data. Data used here is on a calendar year basis up until 2020. Data for 2021 will be added when it becomes available. NINo data March 2020 to June 2021: NINo operations were paused for the majority of applicants from mid-March 2020 and therefore estimates for 2020 and 2021 should be viewed with caution. The service for EU Nationals was more heavily disrupted than for Non-EU nationals. This was due to the closure of face-to-face services which at the time (prior to the end of the transition period, 31 December 2020) required EU nationals to attend an evidence of identity interview prior to a NINo being allocated.  The majority of Non-EU Nationals were able to access the NINo service via a postal process as they would have had their identity verified by another government department, for example through the Home Office visa process. The postal process was reinstated on 1 June 2020, after being suspended in March 2020. The quarterly 'National Insurance number allocations to adult overseas nationals entering the UK' National Statistics publication is currently (as at 11 August 2022) suspended due to an underlying data issue. Progress is being made to investigate. Once a solution is in place DWP will reinstate the statistical series as soon as possible in line with the UK Statistics Authority Code of Practice for Statistics. DWP will provide an update by early October 2022 or as soon as they have any further information."},{"$f":"CONCATENATE(Information!D173,Information!D174,Information!D175)","v":"Includes any overseas national looking to work or claim benefits/tax credits in the UK, self-employed or students working part-time. Provides Council area level data. Location data relates to the residence of the individual, not their employer."},{"$f":"CONCATENATE(Information!D176,Information!D177,Information!D178,Information!D179,Information!D180,Information!D181)","v":"Based on the date of registration not the date of arrival, and the lag between the two can often be a year or even longer. \nRandom adjustments have been applied to the data to avoid the disclosure of confidential information. Excludes those not working, nor planning to work or claim benefits, so children and students that don't work are not included. Excludes returning UK nationals. Does not provide any outflow information or overall stock. Includes migrants staying less than one month as there is no minimum stay for registration. Data reflects the migrant's first destination or location at registration, not where migrants settle nor does it reflect the stock of migrants nationally."},{"$f":"Information!D182","v":"Department for Work and Pensions - Stat-Xplore"}]
[18,"Births to non-UK mothers",{"$f":"Information!D217","v":"Number of babies born each year to mothers who had a non-UK country of birth"},{"$f":"Information!D218","v":"This data comes from the NRS Vital Events branch and is collected when the birth is registered. This data is published annually on a calendar year basis. Data is available back to 1996."},{"$f":"Information!D219","v":"Gives an indication of migrants choosing to have children, potentially indicating a desire to settle in an area."},{"$f":"Information!D220","v":"Only gives information on a very specific group of migrants (i.e. mothers having children)."},{"$f":"Information!D221","v":"'Births' section of the Vital Events Reference Tables on the NRS website"}]
[19,"Pupils from a minority ethnic group",{"$f":"Information!D193","v":"School aged children by ethnicity"},{"$f":"Information!D194","v":"These figures come from the Pupil Census which is collected by the Scottish Government through the ScotXed programme, and are available annually from 2003. The Pupil Census covers all publicly funded schools in Scotland (local authority and grant-aided). It is conducted in September and the data is published in December on the Scottish Government website, with supplementary data being published in March."},{"$f":"CONCATENATE(Information!D195,Information!D196)","v":"Data is reasonably current. Can provide an indication of where migrant families with school aged children live, rather than work."},{"$f":"CONCATENATE(Information!D197,Information!D198,Information!D199,Information!D200,Information!D201)","v":"Provides no information about migrants without school aged children. Although over 97.5 per cent of pupils disclosed their ethnic background, some pupils' ethnicity was in the 'unknown' category. No specific nationality data. Only includes children in publicly funded schools. Non-migrants may be from a minority ethnic group."},{"$f":"Information!D202","v":"Pupil Census, Scottish Government"}]
[20,"Pupils with English as an additional language",{"$f":"Information!D205","v":"Migrants from non-English speaking countries with school aged children"},{"$f":"Information!D206","v":"These figures come from the Pupil Census which is collected by the Scottish Government through the ScotXed programme, and are available annually from 2003. The Pupil Census covers all publicly funded schools in Scotland (local authority and grant-aided). It is conducted in September and the data is published in December on the Scottish Government website, with supplementary data being published in March the following year."},{"$f":"CONCATENATE(Information!D207,Information!D208)","v":"Data is reasonably current. Can provide an indication of where migrant families with school aged children live, rather than work."},{"$f":"CONCATENATE(Information!D209,Information!D210,Information!D211,Information!D212,Information!D213)","v":"Provides no information about migrants without school aged children. No specific nationality data. Only includes children in publicly funded schools. Excludes migrants from English speaking countries (whose first language is English) and those fluent in English. Includes non-recent migrants still speaking a different home language if pupils have English as an additional language."},{"$f":"Information!D214","v":"Pupil Census, Scottish Government"}]
[21,"Population born outside the UK",{"$f":"Information!D151","v":"Resident population ('stock') of migrants based on those with non-UK country of birth"},{"$f":"CONCATENATE(Information!D152,Information!D153)","v":"The country of birth data from the Annual Population Survey (APS) is used for this indicator. This information gives an estimate of the number of people living in Scotland who were born outside the UK. The data is available from 2004, on a calendar year basis. The APS comprises of data from the Labour Force Survey (LFS), plus data from the Annual Local (Area) Labour Force Survey Boosts for England, Scotland and Wales. It is updated quarterly and is published about 8 months after the time period to which it refers. Data is available at council area level although some data is suppressed. For 2020, the LFS used a new weighting methodology to reflect the change in survey operations during the coronavirus (COVID-19) pandemic and caution should be taken when making comparisons. National Records of Scotland (NRS) has made the decision to cancel the publication of Scotland’s population by country of birth and nationality for the year ending December 2021, which would usually have been out in May 2022. This is therefore shown as [x] = not available for 2021. This is due to the impending reweighting of the Annual Population Survey (APS), the data of which traditionally informs the release, which will not be complete until Autumn 2022. More information on the reweighting and other impacts of COVID-19 on the data can be found on the ONS website.ONS website."},{"$f":"Information!D154","v":"Gives a more robust estimate of change over time than looking at nationality as an individual's nationality can change. "},{"$f":"CONCATENATE(Information!D155,Information!D156,Information!D157)","v":"LFS excludes most communal establishments and foreign students living in halls of residence, and so the number of foreign born migrants is likely to be under-reported. For some council areas an estimate cannot be made from the APS as the number of people born outside the UK is too small for the estimate to be reliable. Some people born outside the UK may have lived in the UK for a long time and are therefore not regarded as migrants."},{"$f":"Information!D158","v":"'Population by Country of Birth and Nationality' section of the NRS website"}]
[22,"Population with non-British nationality",{"$f":"Information!D161","v":"Resident population ('stock') of migrants based on those with non-British nationality"},{"$f":"CONCATENATE(Information!D162,Information!D163)","v":"Nationality data from the Annual Population Survey (APS) is used for this indicator. This information gives an estimate of the number of people living in Scotland who were born outside the UK. The data is available from 2004, on a calendar year basis. The APS comprises of data from the Labour Force Survey (LFS), plus data from the Annual Local (Area) Labour Force Survey Boosts for England, Scotland and Wales. It is updated quarterly and is published about 8 months after the time period to which it refers. Data is available at council area level although some data is suppressed. Suppressed estimates are indicated with either [low] = zero due to rounding or [c] = confidential. For 2020, the LFS used a new weighting methodology to reflect the change in survey operations during the coronavirus (COVID-19) pandemic and caution should be taken when making comparisons. National Records of Scotland (NRS) has made the decision to cancel the publication of Scotland’s population by country of birth and nationality for the year ending December 2021, which would usually have been out in May 2022. This is therefore shown as [x] = not available for 2021. This is due to the impending reweighting of the Annual Population Survey (APS), the data of which traditionally informs the release, which will not be complete until Autumn 2022. More information on the reweighting and other impacts of COVID-19 on the data can be found on the ONS website.ONS website."},{"$f":"Information!D164","v":"Gives a more up to date look at migration than country of birth data, as people who were born outside the UK but have lived here for many years are not regarded as migrants."},{"$f":"CONCATENATE(Information!D165,Information!D166,Information!D167)","v":"LFS excludes most communal establishments and foreign students living in halls of residence, and so the number of foreign born migrants is likely to be under-reported. For some council areas an estimate cannot be made from the APS as the number of people born outside the UK is too small for the estimate to be reliable. An individuals nationality can change, meaning time series are less robust than for country of birth data."},{"$f":"Information!D168","v":"'Population by Country of Birth and Nationality' section of the NRS website"}]
[23,"Citizenships",{"$f":"Information!D224","v":"Overseas nationals gaining UK citizenship"},{"$f":"Information!D225","v":"Definition of citizenship ceremonies:  A ceremony organised by County or Local Authorities for successful applicants over 18 years of age for British citizenship. At the ceremony the applicant takes the Oath or Affirmation of allegiance to Her Majesty the Queen and the Pledge of loyalty to the United Kingdom. Since 1 January 2004 this has been the final stage in the process of attaining British citizenship. The citizenship ceremony is organised by the relevant local authority, and happens after the Home Office have processed the application."},{"$f":"Information!D226","v":"Shows the number of people aged 18 and over that have become British citizens."},{"$f":"Information!D227","v":"Citizenship is a complicated subject, and people will gain British Citizenship for a variety of different reasons."},{"$f":"Information!D228","v":"Home Office Immigration Statistics"}]

{"sheet":"Comparing Indicators","index":6,"n_rows":66,"n_cols":34,"rows_kept":66,"cut":false,"hidden":false,"merged":[[1,1,1,14],[3,2,3,5],[2,2,2,5],[38,3,38,14],[47,3,47,14],[45,3,45,14],[43,3,43,14],[6,2,6,15],[37,3,37,14],[40,3,40,13],[46,3,46,14],[39,3,39,13],[65,1,65,4],[59,3,59,14],[63,3,63,14],[55,3,55,14],[56,3,56,14],[48,3,48,14],[61,3,61,14],[49,3,49,14],[52,3,52,14],[62,3,62,14],[53,3,53,14],[60,3,60,14],[54,3,54,14]]}
[null,null,null,null,null,null,null,null,null,null,null,null,null,null,null,null,null,null,"Geography",null,"Indicator","Timing",null,null,"Value",null,"Timing of Indicator data"]
[null,null,null,null,null,null,null,null,null,null,null,null,null,null,null,null,null,"Code - Geography",1,"Ind1",1,null,null,"Code - count/rate",1,null,null,{"$f":"I15","v":2015},{"$f":"J15","v":2016},2017,2018,2019,2020,2021]
[null,null,null,null,null,null,null,null,null,null,null,null,null,null,null,null,null,1,"Not specified","Ind2",1,1,"Mid-year",null,null,null,{"$f":"VLOOKUP($E$16,$U$7:$V$29,2,FALSE)","v":0},{"$f":"IF((VLOOKUP($S$2,INDIRECT(\"Data\"&AB2),$U$2+2,FALSE))=\"\",NA(),(VLOOKUP($S$2,INDIRECT(\"Data\"&AB2),$U$2+2,FALSE)))","v":{"$error":"#N/A"}},{"$error":"#N/A"},{"$error":"#N/A"},{"$error":"#N/A"},{"$error":"#N/A"},{"$error":"#N/A"},{"$f":"IF((VLOOKUP($S$2,INDIRECT(\"Data\"&AH2),$U$2+2,FALSE))=\"\",NA(),(VLOOKUP($S$2,INDIRECT(\"Data\"&AH2),$U$2+2,FALSE)))","v":{"$error":"#N/A"}}]
[null,null,null,null,null,null,null,null,null,null,null,null,null,null,null,null,null,2,"SCOTLAND","Ind3",1,2,"Calendar year"]
[null,null,null,null,null,null,null,null,null,null,null,null,null,null,null,null,null,3,"Aberdeen City",null,null,null,null,null,null,null,{"$f":"VLOOKUP($E$18,$U$7:$V$29,2,FALSE)","v":0},{"$f":"IF((VLOOKUP($S$2,INDIRECT(\"Data\"&AB2),$U$3+2,FALSE))=\"\",NA(),(VLOOKUP($S$2,INDIRECT(\"Data\"&AB2),$U$3+2,FALSE)))","v":{"$error":"#N/A"}},{"$f":"IF((VLOOKUP($S$2,INDIRECT(\"Data\"&AC2),$U$3+2,FALSE))=\"\",NA(),(VLOOKUP($S$2,INDIRECT(\"Data\"&AC2),$U$3+2,FALSE)))","v":{"$error":"#N/A"}},{"$error":"#N/A"},{"$error":"#N/A"},{"$error":"#N/A"},{"$error":"#N/A"},{"$error":"#N/A"}]
[null,null,null,null,null,null,null,null,null,null,null,null,null,null,null,null,null,4,"Aberdeenshire"]
[null,null,"Comparing Indicators",null,null,null,null,null,null,null,null,null,null,null,null,null,null,5,"Angus",1,"Not specified",null,null,1,"Count",null,{"$f":"VLOOKUP($E$20,$U$7:$V$29,2,FALSE)","v":0},{"$f":"IF((VLOOKUP($S$2,INDIRECT(\"Data\"&AB2),$U$4+2,FALSE))=\"\",NA(),(VLOOKUP($S$2,INDIRECT(\"Data\"&AB2),$U$4+2,FALSE)))","v":{"$error":"#N/A"}},{"$f":"IF((VLOOKUP($S$2,INDIRECT(\"Data\"&AC2),$U$4+2,FALSE))=\"\",NA(),(VLOOKUP($S$2,INDIRECT(\"Data\"&AC2),$U$4+2,FALSE)))","v":{"$error":"#N/A"}},{"$error":"#N/A"},{"$error":"#N/A"},{"$error":"#N/A"},{"$error":"#N/A"},{"$error":"#N/A"}]
[null,null,null,null,null,null,null,null,null,null,null,null,null,null,null,null,null,6,"Argyll and Bute",2,"Total net migration",1,null,2,"Rate per 1000"]
[null,null,null,null,null,null,null,null,null,null,null,null,null,null,null,null,null,7,"City of Edinburgh",3,"Total net migration for ages 0-15",1]
[null,null,null,null,null,null,null,null,null,null,null,null,null,null,null,null,null,8,"Clackmannanshire",4,"Total net migration for ages 16-64",1]
[null,null,"Geography",null,{"$f":"VLOOKUP($S$2,$R$3:$S$36,2)","v":"Not specified"},null,null,null,null,null,null,null,null,null,null,null,null,9,"Dumfries and Galloway",5,"Total net migration for people aged 65+",1]
[null,null,null,null,null,null,null,null,null,null,null,null,null,null,null,null,null,10,"Dundee City",6,"Total in-migration",1]
[null,null,"Value",null,{"$f":"VLOOKUP($Y$2,$X$7:$Y$8,2)","v":"Count"},null,null,null,null,null,null,null,null,null,null,null,null,11,"East Ayrshire",7,"Total out-migration",1,null,null,null,null,null,{"$f":"I15","v":2015},2016,2017,2018,2019,2020,2021]
[null,null,null,null,null,null,null,null,null,null,null,null,null,null,null,null,null,12,"East Dunbartonshire",8,"Within Scotland net migration",1,null,null,null,null,null,{"$f":"IF((VLOOKUP($S$2,INDIRECT(\"Rate\"&AB13),$U$2+2,FALSE))=\"\",NA(),(VLOOKUP($S$2,INDIRECT(\"Rate\"&AB13),$U$2+2,FALSE)))","v":{"$error":"#N/A"}},{"$error":"#N/A"},{"$error":"#N/A"},{"$error":"#N/A"},{"$error":"#N/A"},{"$error":"#N/A"},{"$error":"#N/A"}]
[null,null,null,null,null,null,"Timing of data",null,2015,2016,2017,2018,2019,2020,2021,null,null,13,"East Lothian",9,"Within Scotland in-migration",1]
[null,null,"Indicator",null,{"$f":"VLOOKUP($U$2,$T$7:$U$29,2)","v":"Not specified"},null,{"$f":"VLOOKUP(AA3,$V$3:$W$4,2)","v":{"$error":"#N/A"}},null,{"$f":"IF($Y$2=1,AB3,AB14)","v":{"$error":"#N/A"}},{"$error":"#N/A"},{"$error":"#N/A"},{"$error":"#N/A"},{"$error":"#N/A"},{"$error":"#N/A"},{"$error":"#N/A"},null,null,14,"East Renfrewshire",10,"Within Scotland out-migration",1,null,null,null,null,null,{"$f":"IF((VLOOKUP($S$2,INDIRECT(\"Rate\"&AB13),$U$3+2,FALSE))=\"\",NA(),(VLOOKUP($S$2,INDIRECT(\"Rate\"&AB13),$U$3+2,FALSE)))","v":{"$error":"#N/A"}},{"$f":"IF((VLOOKUP($S$2,INDIRECT(\"Rate\"&AC2),$U$3+2,FALSE))=\"\",NA(),(VLOOKUP($S$2,INDIRECT(\"Rate\"&AC2),$U$3+2,FALSE)))","v":{"$error":"#N/A"}},{"$error":"#N/A"},{"$error":"#N/A"},{"$error":"#N/A"},{"$error":"#N/A"},{"$error":"#N/A"}]
[null,null,null,null,null,null,null,null,null,null,null,null,null,null,null,null,null,15,"Falkirk",11,"Rest of UK net migration",1]
[null,null,"Indicator",null,{"$f":"VLOOKUP($U$3,$T$7:$U$29,2)","v":"Not specified"},null,{"$f":"VLOOKUP(AA5,$V$2:$W$4,2)","v":{"$error":"#N/A"}},null,{"$f":"IF($Y$2=1,AB5,AB16)","v":{"$error":"#N/A"}},{"$error":"#N/A"},{"$error":"#N/A"},{"$error":"#N/A"},{"$error":"#N/A"},{"$error":"#N/A"},{"$f":"IF($Y$2=1,AH5,AH16)","v":{"$error":"#N/A"}},null,null,16,"Fife",12,"Rest of UK in-migration",1,null,null,null,null,null,{"$f":"IF((VLOOKUP($S$2,INDIRECT(\"Rate\"&AB13),$U$4+2,FALSE))=\"\",NA(),(VLOOKUP($S$2,INDIRECT(\"Rate\"&AB13),$U$4+2,FALSE)))","v":{"$error":"#N/A"}},{"$f":"IF((VLOOKUP($S$2,INDIRECT(\"Rate\"&AC2),$U$4+2,FALSE))=\"\",NA(),(VLOOKUP($S$2,INDIRECT(\"Rate\"&AC2),$U$4+2,FALSE)))","v":{"$error":"#N/A"}},{"$error":"#N/A"},{"$error":"#N/A"},{"$error":"#N/A"},{"$error":"#N/A"},{"$error":"#N/A"}]
[null,null,null,null,null,null,null,null,null,null,null,null,null,null,null,null,null,17,"Glasgow City",13,"Rest of UK out-migration",1]
[null,null,"Indicator",null,{"$f":"VLOOKUP($U$4,$T$7:$U$29,2)","v":"Not specified"},null,{"$f":"VLOOKUP($AA$7,$V$3:$W$4,2)","v":{"$error":"#N/A"}},null,{"$f":"IF($Y$2=1,AB7,AB18)","v":{"$error":"#N/A"}},{"$error":"#N/A"},{"$error":"#N/A"},{"$error":"#N/A"},{"$error":"#N/A"},{"$error":"#N/A"},{"$f":"IF($Y$2=1,AH7,AH18)","v":{"$error":"#N/A"}},null,null,18,"Highland",14,"International net migration",1]
[null,null,null,null,null,null,null,null,null,null,null,null,null,null,null,null,null,19,"Inverclyde",15,"International in-migration",1]
[null,null,null,null,null,null,null,null,null,null,null,null,null,null,null,null,null,20,"Midlothian",16,"International out-migration",1]
[null,null,null,null,null,null,null,null,null,null,null,null,null,null,null,null,null,21,"Moray",17,"NINo Allocation",2]
[null,null,null,null,null,null,null,null,null,null,null,null,null,null,null,null,null,22,"Na h-Eileanan Siar",18,"Births to non-UK mothers",2]
[null,null,null,null,null,null,null,null,null,null,null,null,null,null,null,null,null,23,"North Ayrshire",19,"Pupils from a minority ethnic group",2]
[null,null,null,null,null,null,null,null,null,null,null,null,null,null,null,null,null,24,"North Lanarkshire",20,"Pupils with English as an additional language",2]
[null,null,null,null,null,null,null,null,null,null,null,null,null,null,null,null,null,25,"Orkney Islands",21,"Population born outside the UK",2]
[null,null,null,null,null,null,null,null,null,null,null,null,null,null,null,null,null,26,"Perth and Kinross",22,"Population with non-British nationality",2]
[null,null,null,null,null,null,null,null,null,null,null,null,null,null,null,null,null,27,"Renfrewshire",23,"Citizenships",2]
[null,null,null,null,null,null,null,null,null,null,null,null,null,null,null,null,null,28,"Scottish Borders"]
[null,null,null,null,null,null,null,null,null,null,null,null,null,null,null,null,null,29,"Shetland Islands"]
[null,null,null,null,null,null,null,null,null,null,null,null,null,null,null,null,null,30,"South Ayrshire"]
[null,null,null,null,null,null,null,null,null,null,null,null,null,null,null,null,null,31,"South Lanarkshire"]
[null,null,null,null,null,null,null,null,null,null,null,null,null,null,null,null,null,32,"Stirling"]
[null,null,null,null,null,null,null,null,null,null,null,null,null,null,null,null,null,33,"West Dunbartonshire"]
[null,null,null,null,null,null,null,null,null,null,null,null,null,null,null,null,null,34,"West Lothian"]
[]
[]
[]
[]
[]
[]
[null,"Information on Indicators"]
[]
[null,{"$f":"VLOOKUP($U$2,'Info lookup'!$A$3:$B$25,2)","v":"Not specified"}]
[null,"Indicator of:",null,{"$f":"VLOOKUP($U$2,'Info lookup'!$A$2:$F$25,3)","v":"~"}]
[null,"Information:",null,{"$f":"VLOOKUP($U$2,'Info lookup'!$A$2:$F$25,4)","v":"~"}]
[null,"Strengths:",null,{"$f":"VLOOKUP($U$2,'Info lookup'!$A$2:$F$25,5)","v":"~"}]
[null,"Weaknesses:",null,{"$f":"VLOOKUP($U$2,'Info lookup'!$A$2:$F$25,6)","v":"~"}]
[null,"Source:",null,{"$f":"VLOOKUP($U$2,'Info lookup'!$A$2:$G$25,7)","v":"~"}]
[]
[null,{"$f":"VLOOKUP($U$3,'Info lookup'!$A$3:$F$25,2)","v":"Not specified"}]
[null,"Indicator of:",null,{"$f":"VLOOKUP($U$3,'Info lookup'!$A$2:$F$25,3)","v":"~"}]
[null,"Information:",null,{"$f":"VLOOKUP($U$3,'Info lookup'!$A$2:$F$25,4)","v":"~"}]
[null,"Strengths:",null,{"$f":"VLOOKUP($U$3,'Info lookup'!$A$2:$F$25,5)","v":"~"}]
[null,"Weaknesses:",null,{"$f":"VLOOKUP($U$3,'Info lookup'!$A$2:$F$25,6)","v":"~"}]
[null,"Source:",null,{"$f":"VLOOKUP($U$3,'Info lookup'!$A$2:$G$25,7)","v":"~"}]
[]
[null,{"$f":"VLOOKUP($U$4,'Info lookup'!$A$3:$F$25,2)","v":"Not specified"}]
[null,"Indicator of:",null,{"$f":"VLOOKUP($U$4,'Info lookup'!$A$2:$F$25,3)","v":"~"}]
[null,"Information:",null,{"$f":"VLOOKUP($U$4,'Info lookup'!$A$2:$F$25,4)","v":"~"}]
[null,"Strengths:",null,{"$f":"VLOOKUP($U$4,'Info lookup'!$A$2:$F$25,5)","v":"~"}]
[null,"Weaknesses:",null,{"$f":"VLOOKUP($U$4,'Info lookup'!$A$2:$F$25,6)","v":"~"}]
[null,"Source:",null,{"$f":"VLOOKUP($U$4,'Info lookup'!$A$2:$G$25,7)","v":"~"}]
[]
[null,"© Crown Copyright 2022"]

{"sheet":"Comparing Areas","index":7,"n_rows":50,"n_cols":32,"rows_kept":50,"cut":false,"hidden":false,"merged":[[49,1,49,4],[1,1,1,7],[2,1,2,7],[5,1,5,15],[46,3,46,14],[47,3,47,14],[44,3,44,14],[45,3,45,14],[43,3,43,14],[6,1,6,15],[42,1,42,14]]}
[null,null,null,null,null,null,null,null,null,null,null,null,null,null,null,null,null,null,"Geography",null,"Indicator","Timing",null,"Value"]
[null,null,null,null,null,null,null,null,null,null,null,null,null,null,null,null,null,"Code - Geography 1",1,"Code - indicator",1,"Code",1,"Code - count/rate",1]
[null,null,null,null,null,null,null,null,null,null,null,null,null,null,null,null,null,"Code - Geography 2",1,null,null,1,"Mid-year",1,"Count"]
[null,null,null,null,null,null,null,null,null,null,null,null,null,null,null,null,null,"Code - Geography 3",1,null,null,2,"Calendar year",2,"Rate per 1000","Count"]
[null,null,null,null,null,null,null,null,null,null,null,null,null,null,null,null,null,null,null,null,null,null,null,null,null,{"$f":"I15","v":2015},2016,2017,2018,2019,2020,2021]
[null,null,null,null,null,null,null,null,null,null,null,null,null,null,null,null,null,null,null,null,null,null,null,null,null,{"$f":"IF((VLOOKUP($S$2,INDIRECT(\"Data\"&Z5),$U$2+2,FALSE))=\"\",NA(),(VLOOKUP($S$2,INDIRECT(\"Data\"&Z5),$U$2+2,FALSE)))","v":{"$error":"#N/A"}},{"$error":"#N/A"},{"$error":"#N/A"},{"$error":"#N/A"},{"$error":"#N/A"},{"$error":"#N/A"},{"$error":"#N/A"}]
[null,"Comparing Areas",null,null,null,null,null,null,null,null,null,null,null,null,null,null,null,null,null,null,null,null,null,null,null,{"$f":"IF((VLOOKUP($S$3,INDIRECT(\"Data\"&Z5),$U$2+2,FALSE))=\"\",NA(),(VLOOKUP($S$3,INDIRECT(\"Data\"&Z5),$U$2+2,FALSE)))","v":{"$error":"#N/A"}},{"$f":"IF((VLOOKUP($S$3,INDIRECT(\"Data\"&AA5),$U$2+2,FALSE))=\"\",NA(),(VLOOKUP($S$3,INDIRECT(\"Data\"&AA5),$U$2+2,FALSE)))","v":{"$error":"#N/A"}},{"$error":"#N/A"},{"$error":"#N/A"},{"$error":"#N/A"},{"$error":"#N/A"},{"$error":"#N/A"}]
[null,null,null,null,null,null,null,null,null,null,null,null,null,null,null,null,null,null,null,null,null,null,null,null,null,{"$f":"IF((VLOOKUP($S$4,INDIRECT(\"Data\"&Z5),$U$2+2,FALSE))=\"\",NA(),(VLOOKUP($S$4,INDIRECT(\"Data\"&Z5),$U$2+2,FALSE)))","v":{"$error":"#N/A"}},{"$f":"IF((VLOOKUP($S$4,INDIRECT(\"Data\"&AA5),$U$2+2,FALSE))=\"\",NA(),(VLOOKUP($S$4,INDIRECT(\"Data\"&AA5),$U$2+2,FALSE)))","v":{"$error":"#N/A"}},{"$error":"#N/A"},{"$error":"#N/A"},{"$error":"#N/A"},{"$error":"#N/A"},{"$error":"#N/A"}]
[]
[null,null,null,null,null,null,null,null,null,null,null,null,null,null,null,null,null,null,null,null,null,null,null,null,null,"Rate"]
[null,null,"Indicator",null,{"$f":"VLOOKUP($U$2,$T$14:$U$36,2)","v":"Not specified"},null,null,null,null,null,null,null,null,null,null,null,null,null,null,null,"Calendar/mid-year code",{"$f":"VLOOKUP(U2,T14:V34,3)","v":1},null,null,null,{"$f":"I15","v":2015},2016,2017,2018,2019,2020,{"$f":"O15","v":2021}]
[null,null,null,null,null,null,null,null,null,null,null,null,null,null,null,null,null,null,null,null,null,null,null,null,null,{"$f":"IF((VLOOKUP($S$2,INDIRECT(\"Rate\"&Z11),$U$2+2,FALSE))=\"\",NA(),(VLOOKUP($S$2,INDIRECT(\"Rate\"&Z11),$U$2+2,FALSE)))","v":{"$error":"#N/A"}},{"$error":"#N/A"},{"$error":"#N/A"},{"$error":"#N/A"},{"$error":"#N/A"},{"$error":"#N/A"},{"$error":"#N/A"}]
[null,null,"Value",null,{"$f":"VLOOKUP($Y$2,$X$3:$Y$4,2)","v":"Count"},null,null,null,null,null,null,{"$f":"VLOOKUP($V$11,$V$3:$W$4,2)","v":"Mid-year"},null,null,null,null,null,null,null,null,null,null,null,null,null,{"$f":"IF((VLOOKUP($S$3,INDIRECT(\"Rate\"&Z11),$U$2+2,FALSE))=\"\",NA(),(VLOOKUP($S$3,INDIRECT(\"Rate\"&Z11),$U$2+2,FALSE)))","v":{"$error":"#N/A"}},{"$f":"IF((VLOOKUP($S$3,INDIRECT(\"Rate\"&AA11),$U$2+2,FALSE))=\"\",NA(),(VLOOKUP($S$3,INDIRECT(\"Rate\"&AA11),$U$2+2,FALSE)))","v":{"$error":"#N/A"}},{"$error":"#N/A"},{"$error":"#N/A"},{"$error":"#N/A"},{"$error":"#N/A"},{"$error":"#N/A"}]
[null,null,null,null,null,null,null,null,null,null,null,null,null,null,null,null,null,1,"Not specified",1,"Not specified",1,null,null,null,{"$f":"IF((VLOOKUP($S$4,INDIRECT(\"Rate\"&Z11),$U$2+2,FALSE))=\"\",NA(),(VLOOKUP($S$4,INDIRECT(\"Rate\"&Z11),$U$2+2,FALSE)))","v":{"$error":"#N/A"}},{"$error":"#N/A"},{"$error":"#N/A"},{"$error":"#N/A"},{"$error":"#N/A"},{"$error":"#N/A"},{"$error":"#N/A"}]
[null,null,null,null,null,null,null,null,2015,2016,2017,2018,2019,2020,2021,null,null,2,"SCOTLAND",2,{"$f":"'Comparing Indicators'!U8","v":"Total net migration"},1]
[null,null,"Geography",null,{"$f":"VLOOKUP($S$2,$R$14:$S$47,2)","v":"Not specified"},null,null,null,{"$f":"IF($Y$2=1,Z6,Z12)","v":{"$error":"#N/A"}},{"$f":"IF($Y$2=1,AA6,AA12)","v":{"$error":"#N/A"}},{"$error":"#N/A"},{"$error":"#N/A"},{"$error":"#N/A"},{"$error":"#N/A"},{"$error":"#N/A"},null,null,3,"Aberdeen City",3,{"$f":"'Comparing Indicators'!U9","v":"Total net migration for ages 0-15"},1]
[null,null,null,null,null,null,null,null,null,null,null,null,null,null,null,null,null,4,"Aberdeenshire",4,{"$f":"'Comparing Indicators'!U10","v":"Total net migration for ages 16-64"},1]
[null,null,"Geography",null,{"$f":"VLOOKUP($S$3,$R$14:$S$47,2)","v":"Not specified"},null,null,null,{"$f":"IF($Y$2=1,Z7,Z13)","v":{"$error":"#N/A"}},{"$f":"IF($Y$2=1,AA7,AA13)","v":{"$error":"#N/A"}},{"$error":"#N/A"},{"$error":"#N/A"},{"$error":"#N/A"},{"$error":"#N/A"},{"$error":"#N/A"},null,null,5,"Angus",5,{"$f":"'Comparing Indicators'!U11","v":"Total net migration for people aged 65+"},1]
[null,null,null,null,null,null,null,null,null,null,null,null,null,null,null,null,null,6,"Argyll and Bute",6,{"$f":"'Comparing Indicators'!U12","v":"Total in-migration"},1]
[null,null,"Geography",null,{"$f":"VLOOKUP($S$4,$R$14:$S$47,2)","v":"Not specified"},null,null,null,{"$f":"IF($Y$2=1,Z8,Z14)","v":{"$error":"#N/A"}},{"$f":"IF($Y$2=1,AA8,AA14)","v":{"$error":"#N/A"}},{"$error":"#N/A"},{"$error":"#N/A"},{"$error":"#N/A"},{"$error":"#N/A"},{"$error":"#N/A"},null,null,7,"City of Edinburgh",7,{"$f":"'Comparing Indicators'!U13","v":"Total out-migration"},1]
[null,null,null,null,null,null,null,null,null,null,null,null,null,null,null,null,null,8,"Clackmannanshire",8,{"$f":"'Comparing Indicators'!U14","v":"Within Scotland net migration"},1]
[null,null,null,null,null,null,null,null,null,null,null,null,null,null,null,null,null,9,"Dumfries and Galloway",9,{"$f":"'Comparing Indicators'!U15","v":"Within Scotland in-migration"},1]
[null,null,null,null,null,null,null,null,null,null,null,null,null,null,null,null,null,10,"Dundee City",10,{"$f":"'Comparing Indicators'!U16","v":"Within Scotland out-migration"},1]
[null,null,null,null,null,null,null,null,null,null,null,null,null,null,null,null,null,11,"East Ayrshire",11,{"$f":"'Comparing Indicators'!U17","v":"Rest of UK net migration"},1]
[null,null,null,null,null,null,null,null,null,null,null,null,null,null,null,null,null,12,"East Dunbartonshire",12,{"$f":"'Comparing Indicators'!U18","v":"Rest of UK in-migration"},1]
[null,null,null,null,null,null,null,null,null,null,null,null,null,null,null,null,null,13,"East Lothian",13,{"$f":"'Comparing Indicators'!U19","v":"Rest of UK out-migration"},1]
[null,null,null,null,null,null,null,null,null,null,null,null,null,null,null,null,null,14,"East Renfrewshire",14,{"$f":"'Comparing Indicators'!U20","v":"International net migration"},1]
[null,null,null,null,null,null,null,null,null,null,null,null,null,null,null,null,null,15,"Falkirk",15,{"$f":"'Comparing Indicators'!U21","v":"International in-migration"},1]
[null,null,null,null,null,null,null,null,null,null,null,null,null,null,null,null,null,16,"Fife",16,{"$f":"'Comparing Indicators'!U22","v":"International out-migration"},1]
[null,null,null,null,null,null,null,null,null,null,null,null,null,null,null,null,null,17,"Glasgow City",17,{"$f":"'Comparing Indicators'!U23","v":"NINo Allocation"},2]
[null,null,null,null,null,null,null,null,null,null,null,null,null,null,null,null,null,18,"Highland",18,{"$f":"'Comparing Indicators'!U24","v":"Births to non-UK mothers"},2]
[null,null,null,null,null,null,null,null,null,null,null,null,null,null,null,null,null,19,"Inverclyde",19,{"$f":"'Comparing Indicators'!U25","v":"Pupils from a minority ethnic group"},2]
[null,null,null,null,null,null,null,null,null,null,null,null,null,null,null,null,null,20,"Midlothian",20,{"$f":"'Comparing Indicators'!U26","v":"Pupils with English as an additional language"},2]
[null,null,null,null,null,null,null,null,null,null,null,null,null,null,null,null,null,21,"Moray",21,{"$f":"'Comparing Indicators'!U27","v":"Population born outside the UK"},2]
[null,null,null,null,null,null,null,null,null,null,null,null,null,null,null,null,null,22,"Na h-Eileanan Siar",22,{"$f":"'Comparing Indicators'!U28","v":"Population with non-British nationality"},2]
[null,null,null,null,null,null,null,null,null,null,null,null,null,null,null,null,null,23,"North Ayrshire",23,{"$f":"'Comparing Indicators'!U29","v":"Citizenships"},2]
[null,null,null,null,null,null,null,null,null,null,null,null,null,null,null,null,null,24,"North Lanarkshire"]
[null,null,null,null,null,null,null,null,null,null,null,null,null,null,null,null,null,25,"Orkney Islands"]
[null,null,null,null,null,null,null,null,null,null,null,null,null,null,null,null,null,26,"Perth and Kinross"]
[null,null,null,null,null,null,null,null,null,null,null,null,null,null,null,null,null,27,"Renfrewshire"]
[null,null,null,null,null,null,null,null,null,null,null,null,null,null,null,null,null,28,"Scottish Borders"]
[null,null,null,null,null,null,null,null,null,null,null,null,null,null,null,null,null,29,"Shetland Islands"]
[null,{"$f":"VLOOKUP($U$2,'Info lookup'!$A$3:$F$25,2)","v":"Not specified"},null,null,null,null,null,null,null,null,null,null,null,null,null,null,null,30,"South Ayrshire"]
[null,"Indicator of:",null,{"$f":"VLOOKUP($U$2,'Info lookup'!$A$4:$F$25,3)","v":{"$error":"#N/A"}},null,null,null,null,null,null,null,null,null,null,null,null,null,31,"South Lanarkshire"]
[null,"Information:",null,{"$f":"VLOOKUP($U$2,'Info lookup'!$A$4:$F$25,4)","v":{"$error":"#N/A"}},null,null,null,null,null,null,null,null,null,null,null,null,null,32,"Stirling"]
[null,"Strengths:",null,{"$f":"VLOOKUP($U$2,'Info lookup'!$A$4:$F$25,5)","v":{"$error":"#N/A"}},null,null,null,null,null,null,null,null,null,null,null,null,null,33,"West Dunbartonshire"]
[null,"Weaknesses:",null,{"$f":"VLOOKUP($U$2,'Info lookup'!$A$4:$F$25,6)","v":{"$error":"#N/A"}},null,null,null,null,null,null,null,null,null,null,null,null,null,34,"West Lothian"]
[null,"Source:",null,{"$f":"VLOOKUP($U$2,'Info lookup'!$A$4:$G$25,7)","v":{"$error":"#N/A"}}]
[]
[null,"© Crown Copyright 2022"]

{"sheet":"Comparing NHS Board Areas","index":8,"n_rows":54,"n_cols":38,"rows_kept":54,"cut":false,"hidden":false,"merged":[[5,27,5,28],[54,3,54,16],[44,3,44,14],[45,3,45,14],[46,3,46,14],[47,3,47,14],[53,1,53,4],[50,1,51,11],[0,18,0,19],[5,24,5,25],[2,1,2,7],[12,10,12,12],[43,3,43,14],[42,1,42,14],[1,1,1,7],[6,1,6,15]]}
[null,null,null,null,null,null,null,null,null,null,null,null,null,null,null,null,null,null,"Health Board Areas",null,null,null,"Indicator"]
[null,null,null,null,null,null,null,null,null,null,null,null,null,null,null,null,null,null,"HB area 1",1,null,"Ind",1]
[null,null,null,null,null,null,null,null,null,null,null,null,null,null,null,null,null,null,"HB area 2",1]
[null,null,null,null,null,null,null,null,null,null,null,null,null,null,null,null,null,null,"HB area 3",1]
[]
[null,null,null,null,null,null,null,null,null,null,null,null,null,null,null,null,null,null,null,null,null,null,null,null,"Timing",null,null,"Value",null,null,null,"Count"]
[null,"Comparing NHS Board Areas",null,null,null,null,null,null,null,null,null,null,null,null,null,null,null,null,null,1,null,1,1,null,"Code",{"$f":"VLOOKUP($W$2,$V$11:$X$27,3)","v":0},null,null,null,1,null,{"$f":"I15","v":2015},2016,2017,2018,2019,2020,2021]
[null,null,null,null,null,null,null,null,null,null,null,null,null,null,null,null,null,null,null,1,null,null,null,null,null,null,null,null,null,null,null,{"$f":"IF((VLOOKUP(($T$2+34),INDIRECT(\"Data\"&AF7),$W$2+2,FALSE))=\"\",NA(),(VLOOKUP($T$2+34,INDIRECT(\"Data\"&AF7),$W$2+2,FALSE)))","v":{"$error":"#N/A"}},{"$error":"#N/A"},{"$error":"#N/A"},{"$error":"#N/A"},{"$error":"#N/A"},{"$error":"#N/A"},{"$error":"#N/A"}]
[null,null,null,null,null,null,null,null,null,null,null,null,null,null,null,null,null,null,null,1,null,null,null,null,null,null,null,null,null,null,null,{"$f":"IF((VLOOKUP(($T$3+34),INDIRECT(\"Data\"&AF7),$W$2+2,FALSE))=\"\",NA(),(VLOOKUP($T$3+34,INDIRECT(\"Data\"&AF7),$W$2+2,FALSE)))","v":{"$error":"#N/A"}},{"$error":"#N/A"},{"$error":"#N/A"},{"$error":"#N/A"},{"$error":"#N/A"},{"$error":"#N/A"},{"$error":"#N/A"}]
[null,null,null,null,null,null,null,null,null,null,null,null,null,null,null,null,null,null,null,null,null,null,null,"Timing codes",null,null,null,null,null,null,null,{"$f":"IF((VLOOKUP(($T$4+34),INDIRECT(\"Data\"&AF7),$W$2+2,FALSE))=\"\",NA(),(VLOOKUP($T$4+34,INDIRECT(\"Data\"&AF7),$W$2+2,FALSE)))","v":{"$error":"#N/A"}},{"$error":"#N/A"},{"$error":"#N/A"},{"$error":"#N/A"},{"$error":"#N/A"},{"$error":"#N/A"},{"$error":"#N/A"}]
[null,null,"Indicator",null,{"$f":"VLOOKUP($W$2,HBIndicatorCode,2)","v":"Not specified"},null,null,null,null,null,null,null,null,null,null,null,null,null,1,"Not specified",null,1,"Not specified",null,1,"Mid-year",null,1,"Count"]
[null,null,null,null,null,null,null,null,null,null,null,null,null,null,null,null,null,null,2,"SCOTLAND",null,2,"Total net migration",1,2,"Calendar year",null,2,"Rate per 1000",null,null,"Rate"]
[null,null,"Value",null,{"$f":"VLOOKUP($AD$7,$AB$11:$AC$12,2)","v":"Count"},null,null,null,null,null,{"$f":"VLOOKUP($Z$7,TimingCode,2)","v":{"$error":"#N/A"}},null,null,null,null,null,null,null,3,"Ayrshire and Arran",null,3,"Total net migration for ages 0-15",1,null,null,null,null,null,null,null,{"$f":"I15","v":2015},2016,2017,2018,2019,2020,2021]
[null,null,null,null,null,null,null,null,null,null,null,null,null,null,null,null,null,null,4,"Borders",null,4,"Total net migration for ages 16-64",1,null,null,null,null,null,null,null,{"$f":"IF((VLOOKUP(($T$2+34),INDIRECT(\"Rate\"&AF13),$W$2+2,FALSE))=\"\",NA(),(VLOOKUP($T$2+34,INDIRECT(\"Rate\"&AF13),$W$2+2,FALSE)))","v":{"$error":"#N/A"}},{"$error":"#N/A"},{"$error":"#N/A"},{"$error":"#N/A"},{"$error":"#N/A"},{"$error":"#N/A"},{"$error":"#N/A"}]
[null,null,null,null,null,null,null,null,2015,2016,2017,2018,2019,2020,2021,null,null,null,5,"Dumfries and Galloway",null,5,"Total net migration for people aged 65+",1,null,null,null,null,null,null,null,{"$f":"IF((VLOOKUP(($T$3+34),INDIRECT(\"Rate\"&AF13),$W$2+2,FALSE))=\"\",NA(),(VLOOKUP($T$3+34,INDIRECT(\"Rate\"&AF13),$W$2+2,FALSE)))","v":{"$error":"#N/A"}},{"$error":"#N/A"},{"$error":"#N/A"},{"$error":"#N/A"},{"$error":"#N/A"},{"$error":"#N/A"},{"$error":"#N/A"}]
[null,null,"Geography",null,{"$f":"VLOOKUP($T$2,HBCode,2)","v":"Not specified"},null,null,null,{"$f":"IF($AD$7=1,AF8,AF14)","v":{"$error":"#N/A"}},{"$error":"#N/A"},{"$error":"#N/A"},{"$error":"#N/A"},{"$error":"#N/A"},{"$error":"#N/A"},{"$error":"#N/A"},null,null,null,6,"Fife",null,6,"Total in-migration",1,null,null,null,null,null,null,null,{"$f":"IF((VLOOKUP(($T$4+34),INDIRECT(\"Rate\"&AF13),$W$2+2,FALSE))=\"\",NA(),(VLOOKUP($T$4+34,INDIRECT(\"Rate\"&AF13),$W$2+2,FALSE)))","v":{"$error":"#N/A"}},{"$error":"#N/A"},{"$error":"#N/A"},{"$error":"#N/A"},{"$error":"#N/A"},{"$error":"#N/A"},{"$error":"#N/A"}]
[null,null,null,null,null,null,null,null,null,null,null,null,null,null,null,null,null,null,7,"Forth Valley",null,7,"Total out-migration",1]
[null,null,"Geography",null,{"$f":"VLOOKUP($T$3,HBCode,2)","v":"Not specified"},null,null,null,{"$f":"IF($AD$7=1,AF9,AF15)","v":{"$error":"#N/A"}},{"$error":"#N/A"},{"$error":"#N/A"},{"$error":"#N/A"},{"$error":"#N/A"},{"$error":"#N/A"},{"$error":"#N/A"},null,null,null,8,"Grampian",null,8,"Within Scotland net migration",1]
[null,null,null,null,null,null,null,null,null,null,null,null,null,null,null,null,null,null,9,"Greater Glasgow and Clyde",null,9,"Within Scotland in-migration",1]
[null,null,"Geography",null,{"$f":"VLOOKUP($T$4,HBCode,2)","v":"Not specified"},null,null,null,{"$f":"IF($AD$7=1,AF10,AF16)","v":{"$error":"#N/A"}},{"$error":"#N/A"},{"$error":"#N/A"},{"$error":"#N/A"},{"$error":"#N/A"},{"$error":"#N/A"},{"$error":"#N/A"},null,null,null,10,"Highland",null,10,"Within Scotland out-migration",1]
[null,null,null,null,null,null,null,null,null,null,null,null,null,null,null,null,null,null,11,"Lanarkshire",null,11,"Rest of UK net migration",1]
[null,null,null,null,null,null,null,null,null,null,null,null,null,null,null,null,null,null,12,"Lothian",null,12,"Rest of UK in-migration",1]
[null,null,null,null,null,null,null,null,null,null,null,null,null,null,null,null,null,null,13,"Orkney",null,13,"Rest of UK out-migration",1]
[null,null,null,null,null,null,null,null,null,null,null,null,null,null,null,null,null,null,14,"Shetland",null,14,"International net migration",1]
[null,null,null,null,null,null,null,null,null,null,null,null,null,null,null,null,null,null,15,"Tayside",null,15,"International in-migration",1]
[null,null,null,null,null,null,null,null,null,null,null,null,null,null,null,null,null,null,16,"Western Isles",null,16,"International out-migration",1]
[]
[]
[null,null,null,null,null,null,null,null,null,null,null,null,null,null,null,null,null,null,null,null,null,null,"(Set code in column X to 1 if data is at mid-year, 2 if data is for calendar year.)"]
[]
[]
[]
[]
[]
[]
[]
[]
[]
[]
[]
[]
[]
[null,{"$f":"VLOOKUP('Comparing NHS Board Areas'!$W$2,'Info lookup'!$A$3:$F$23,2)","v":"Not specified"}]
[null,"Indicator of:",null,{"$f":"VLOOKUP($W$2,'Info lookup'!$A$4:$F$23,3)","v":{"$error":"#N/A"}}]
[null,"Information:",null,{"$f":"VLOOKUP($W$2,'Info lookup'!$A$4:$F$23,4)","v":{"$error":"#N/A"}}]
[null,"Strengths:",null,{"$f":"VLOOKUP($W$2,'Info lookup'!$A$4:$F$23,5)","v":{"$error":"#N/A"}}]
[null,"Weaknesses:",null,{"$f":"VLOOKUP($W$2,'Info lookup'!$A$4:$F$23,6)","v":{"$error":"#N/A"}}]
[null,"Source:",null,{"$f":"VLOOKUP($W$2,'Info lookup'!$A$4:$G$23,7)","v":{"$error":"#N/A"}}]
[]
[null,"Note"]
[null,"1) The NHS Board areas used for estimates between 2003-04 and 2010-11 are those that existed between 2006 and 2014. The 2011-12 estimates onwards use the NHS Board areas that came into force in April 2014."]
[]
[]
[null,"© Crown Copyright 2022"]

{"sheet":"Total net migration","index":9,"n_rows":55,"n_cols":19,"rows_kept":55,"cut":false,"hidden":false,"merged":[]}
["Total net migration"]
["This worksheet contains two tables, presented next to each other vertically with one blank row between the tables. "]
["See notes [1], [2], [3], [4], [5], [6] which are explained in the Notes worksheet."]
["Return to front page"]
["Council Area","2003-04","2004-05","2005-06","2006-07","2007-08","2008-09","2009-10","2010-11","2011-12","2012-13","2013-14","2014-15","2015-16","2016-17","2017-18","2018-19","2019-20","2020-21"]
["Scotland",18600,25300,18800,33000,26400,24400,26100,30200,12700,10000,17600,28000,31700,23900,20900,30200,16900,27800]
["Aberdeen City",-1190,1110,1140,2950,1650,2970,2750,3080,1850,1660,1410,1090,-970,-1420,-1320,810,500,-1510]
["Aberdeenshire",3230,2780,3070,2680,1880,1510,1690,1380,1390,1660,2040,990,-350,-690,-600,-380,-130,2240]
["Angus",1340,1070,950,760,650,150,360,120,260,110,650,540,70,140,200,490,280,940]
["Argyll and Bute",930,440,200,380,-40,-30,290,300,-230,-20,-280,-230,230,140,-80,-70,-90,1220]
["City of Edinburgh",2230,5320,3410,4920,3360,5860,8070,8040,3970,3000,3300,6260,7660,5090,4620,5910,2890,-1380]
["Clackmannanshire",550,570,300,740,400,40,-80,-10,-260,-60,-80,140,10,120,-30,150,100,300]
["Dumfries and Galloway",1180,1190,470,710,810,300,120,380,-130,-10,330,330,390,320,380,730,340,1500]
["Dundee City",-740,570,-110,270,610,920,980,1430,490,310,-10,210,180,590,350,820,-80,-610]
["East Ayrshire",370,40,90,330,550,380,30,30,-80,-120,-90,60,150,20,230,430,50,900]
["East Dunbartonshire",-460,-480,-450,-290,-180,-80,-70,-110,260,90,910,550,710,690,370,420,610,490]
["East Lothian",430,500,930,1560,1640,710,600,450,790,520,710,960,960,800,1150,1270,970,1820]
["East Renfrewshire",-100,-20,-210,50,-70,70,370,270,190,540,890,630,820,960,520,370,730,690]
["Falkirk",1510,1640,940,940,660,570,460,1020,360,380,420,730,940,900,430,730,230,610]
["Fife",2350,2660,1560,1890,1630,1550,1810,2080,620,300,650,1230,1610,1520,1240,2300,1440,1760]
["Glasgow City",-3420,-1560,-1990,2300,2930,3990,3050,5370,1150,440,2050,5840,7960,5390,5360,6270,3260,390]
["Highland",2850,2860,2050,2680,2110,990,990,900,120,90,240,1120,1200,810,970,980,390,3390]
["Inverclyde",-600,-130,-350,-320,-200,-360,-230,-290,-310,-160,-270,-140,-60,10,-180,80,-100,90]
["Midlothian",-260,-320,-260,110,430,470,240,520,560,580,1020,990,1010,1270,1090,940,630,1390]
["Moray",980,690,460,530,330,400,-10,-160,330,600,470,410,550,0,50,300,20,700]
["Na h-Eileanan Siar",250,270,130,70,20,70,170,20,10,-20,-90,-10,-70,160,20,50,-40,320]
["North Ayrshire",210,100,-20,430,330,-120,-170,140,-400,-310,-140,60,70,350,50,90,140,800]
["North Lanarkshire",230,330,300,850,530,90,-420,-60,-270,-390,-90,140,980,730,550,1220,440,1080]
["Orkney Islands",260,140,200,140,100,90,160,100,110,80,70,100,220,200,250,150,170,220]
["Perth and Kinross",1670,2060,2020,2440,2400,1800,1860,1830,980,380,1410,1260,1060,900,660,1030,720,2530]
["Renfrewshire",-270,-290,-340,270,400,160,440,590,-400,-340,370,590,1610,1160,1340,1520,850,1230]
["Scottish Borders",1390,1000,840,1490,1300,420,290,490,50,310,280,440,690,820,680,590,270,1270]
["Shetland Islands",70,90,-110,50,30,200,160,60,-70,-90,-10,-40,-20,-130,-80,-90,-30,120]
["South Ayrshire",680,430,370,580,400,170,440,600,360,410,100,310,550,690,500,560,350,1190]
["South Lanarkshire",2130,1080,1330,1650,740,640,810,590,410,580,510,1030,1100,1280,1300,1840,1170,2660]
["Stirling",-10,660,700,480,240,310,1010,1020,770,250,470,1410,1010,340,510,80,130,-230]
["West Dunbartonshire",-370,-330,-110,-30,-210,-60,-290,-170,-280,-420,-100,80,290,-100,-210,-60,-210,-130]
["West Lothian",1210,840,1320,1460,1000,230,200,220,150,-390,440,890,1130,790,580,710,890,1800]
[]
["NHS Board Areas","2003-04","2004-05","2005-06","2006-07","2007-08","2008-09","2009-10","2010-11","2011-12","2012-13","2013-14","2014-15","2015-16","2016-17","2017-18","2018-19","2019-20","2020-21"]
["Scotland",18600,25300,18800,33000,26400,24400,26100,30200,12700,10000,17600,28000,31700,23900,20900,30200,16900,27800]
["Ayrshire and Arran",1260,560,440,1330,1280,440,310,760,-120,-20,-120,430,760,1060,780,1090,540,2890]
["Borders",1390,1000,840,1490,1300,420,290,490,50,310,280,440,690,820,680,590,270,1270]
["Dumfries and Galloway",1180,1190,470,710,810,300,120,380,-130,-10,330,330,390,320,380,730,340,1500]
["Fife",2350,2660,1560,1890,1620,1550,1810,2070,620,300,650,1230,1610,1520,1240,2300,1440,1760]
["Forth Valley",2050,2870,1940,2150,1300,910,1390,2030,870,570,800,2290,1960,1360,900,960,460,690]
["Grampian",3020,4580,4670,6160,3860,4890,4440,4300,3560,3920,3920,2480,-770,-2100,-1870,730,400,1430]
["Greater Glasgow and Clyde",-4560,-2420,-2800,2710,2890,4120,3860,5780,620,140,3850,7550,11330,8110,7200,8600,5150,2740]
["Highland",3780,3300,2250,3060,2070,960,1280,1200,-120,70,-40,880,1430,950,890,910,300,4610]
["Lanarkshire",1700,1020,980,1770,1050,330,-200,420,140,190,430,1170,2080,2010,1850,3060,1610,3740]
["Lothian",3620,6340,5400,8050,6410,7270,9100,9230,5470,3710,5470,9100,10750,7950,7440,8830,5380,3620]
["Orkney",260,140,200,140,100,90,160,100,110,80,70,100,220,200,250,150,170,220]
["Shetland",70,90,-110,50,30,200,160,60,-70,-90,-10,-40,-20,-130,-80,-90,-30,120]
["Tayside",2270,3710,2870,3460,3670,2870,3190,3370,1730,800,2040,2010,1310,1630,1210,2350,910,2860]
["Western Isles",250,270,130,70,20,70,170,20,10,-20,-90,-10,-70,160,20,50,-40,320]

{"sheet":"Total net migration 0-15","index":10,"n_rows":55,"n_cols":19,"rows_kept":55,"cut":false,"hidden":false,"merged":[]}
["Total net migration for ages 0-15"]
["This worksheet contains two tables, presented next to each other vertically with one blank row between the tables. "]
["See notes [1], [2], [3], [4], [5] which are explained in the Notes worksheet."]
["Return to front page"]
["Council Area","2003-04","2004-05","2005-06","2006-07","2007-08","2008-09","2009-10","2010-11","2011-12","2012-13","2013-14","2014-15","2015-16","2016-17","2017-18","2018-19","2019-20","2020-21"]
["Scotland",3430,4434,2416,5380,4287,3522,2883,3490,1637,1877,3092,4093,5201,3775,3298,5145,2614,5166]
["Aberdeen City",-347,212,-6,333,180,42,162,307,40,-296,-303,-337,-318,-362,-258,-10,33,17]
["Aberdeenshire",991,831,828,692,569,579,496,453,557,745,835,463,120,171,205,301,242,619]
["Angus",337,348,276,166,170,116,165,93,33,67,181,194,59,115,145,160,105,130]
["Argyll and Bute",150,129,41,123,-28,56,110,135,-37,99,55,26,131,117,47,59,-42,188]
["City of Edinburgh",-782,-65,-280,-86,-124,208,200,239,-63,-151,-364,-258,226,-338,-376,-88,-307,-517]
["Clackmannanshire",97,156,97,224,139,-21,10,1,-102,45,-24,8,70,46,-13,60,79,81]
["Dumfries and Galloway",258,276,100,195,165,170,4,113,-17,9,169,74,164,124,113,190,153,323]
["Dundee City",-294,45,-142,-16,65,-11,-111,-91,-131,-37,-79,-145,-62,-82,-111,-49,-115,-104]
["East Ayrshire",204,59,37,80,165,63,33,25,33,-4,16,71,101,-11,36,29,-19,144]
["East Dunbartonshire",260,225,266,206,238,220,270,234,407,251,496,513,538,485,375,414,422,427]
["East Lothian",170,143,229,346,233,232,131,191,213,154,249,222,169,195,419,360,230,359]
["East Renfrewshire",201,274,244,180,255,281,325,418,315,584,635,567,626,659,606,511,575,589]
["Falkirk",271,201,90,108,59,10,50,92,-31,70,82,129,166,72,-28,88,36,54]
["Fife",453,429,196,368,278,282,256,330,62,169,101,279,338,295,335,487,334,461]
["Glasgow City",-1535,-1394,-1413,-550,-648,-406,-871,-488,-1069,-923,-1001,-698,-351,-533,-533,-563,-1001,-1022]
["Highland",743,596,418,499,451,271,242,170,-28,166,111,339,312,100,253,231,82,397]
["Inverclyde",-69,-4,-74,-49,-7,-3,-16,-34,-24,36,-3,6,53,-3,10,97,28,64]
["Midlothian",-55,-33,-66,32,121,161,62,174,192,147,275,250,210,259,181,215,122,198]
["Moray",150,39,-25,86,77,142,-4,-76,180,163,162,126,170,74,-1,182,61,198]
["Na h-Eileanan Siar",87,104,41,11,40,48,45,9,26,-11,0,22,8,86,9,25,-15,25]
["North Ayrshire",137,49,45,103,127,58,1,64,63,-13,91,101,131,119,83,107,73,65]
["North Lanarkshire",18,137,21,377,218,79,-46,39,79,109,81,107,367,151,258,351,260,208]
["Orkney Islands",96,63,32,40,45,41,37,5,40,35,44,35,74,46,43,73,20,54]
["Perth and Kinross",526,373,369,436,391,341,417,390,306,244,424,500,335,430,320,398,256,507]
["Renfrewshire",-14,105,-1,131,114,-51,41,108,-66,-25,52,98,294,245,216,197,130,-3]
["Scottish Borders",332,339,179,322,305,117,119,141,58,101,172,130,230,234,198,179,138,308]
["Shetland Islands",63,95,-48,23,16,45,46,-15,-27,-43,4,-7,14,3,7,43,21,36]
["South Ayrshire",90,217,177,220,218,28,148,159,104,128,86,183,145,180,92,161,116,227]
["South Lanarkshire",473,307,391,430,199,263,219,91,250,97,146,388,243,390,223,465,234,517]
["Stirling",341,208,234,118,156,90,324,220,276,116,230,357,277,227,283,203,137,197]
["West Dunbartonshire",-151,-141,-58,13,-17,44,-93,-63,-39,-118,-27,60,63,-1,-62,-24,-37,-9]
["West Lothian",229,111,218,219,117,27,111,56,37,-37,196,290,298,282,223,293,263,428]
[]
["NHS Board Areas","2003-04","2004-05","2005-06","2006-07","2007-08","2008-09","2009-10","2010-11","2011-12","2012-13","2013-14","2014-15","2015-16","2016-17","2017-18","2018-19","2019-20","2020-21"]
["Scotland",3430,4434,2416,5380,4287,3522,2883,3490,1637,1877,3092,4093,5201,3775,3298,5145,2614,5166]
["Ayrshire and Arran",431,325,259,403,510,149,182,248,200,111,193,355,377,288,{"$f":"SUM(P15,P27,P34)","v":211},297,170,436]
["Borders",332,339,179,322,305,117,119,141,58,101,172,130,230,234,{"$f":"P32","v":198},179,138,308]
["Dumfries and Galloway",258,276,100,195,165,170,4,113,-17,9,169,74,164,124,{"$f":"P13","v":113},190,153,323]
["Fife",453,429,196,369,277,281,257,330,62,169,101,279,338,295,{"$f":"P20","v":335},487,334,461]
["Forth Valley",709,565,421,450,354,79,384,313,143,231,288,494,513,345,{"$f":"SUM(P36,P19,P12)","v":242},351,252,332]
["Grampian",794,1082,797,1111,826,763,654,684,777,612,694,252,-28,-117,{"$f":"SUM(P7,P8,P25)","v":-54},473,336,834]
["Greater Glasgow and Clyde",-1291,-789,-887,69,-103,138,-231,186,-476,-195,152,546,1223,852,{"$f":"SUM(P37,P31,P23,P21,P18,P16)","v":612},632,117,46]
["Highland",893,725,459,622,423,327,352,305,-65,265,166,365,443,217,{"$f":"SUM(P22,P10)","v":300},290,40,585]
["Lanarkshire",474,298,263,669,455,289,60,119,329,206,227,495,610,541,{"$f":"SUM(P28,P35)","v":481},816,494,725]
["Lothian",-438,156,101,511,347,628,504,660,379,113,356,504,903,398,{"$f":"SUM(P11,P17,P24,P38)","v":447},780,308,468]
["Orkney",96,63,32,40,45,41,37,5,40,35,44,35,74,46,{"$f":"P29","v":43},73,20,54]
["Shetland",63,95,-48,23,16,45,46,-15,-27,-43,4,-7,14,3,{"$f":"P33","v":7},43,21,36]
["Tayside",569,766,503,585,627,447,470,392,208,274,526,549,332,463,{"$f":"SUM(P30,P14,P9)","v":354},509,246,533]
["Western Isles",87,104,41,11,40,48,45,9,26,-11,0,22,8,86,{"$f":"P26","v":9},25,-15,25]

{"sheet":"Total net migration 16-64","index":11,"n_rows":55,"n_cols":19,"rows_kept":55,"cut":false,"hidden":false,"merged":[]}
["Total net migration for ages 16-64"]
["This worksheet contains two tables, presented next to each other vertically with one blank row between the tables. "]
["See notes [1], [2], [3], [4], [5] which are explained in the Notes worksheet."]
["Return to front page"]
["Council Area","2003-04","2004-05","2005-06","2006-07","2007-08","2008-09","2009-10","2010-11","2011-12","2012-13","2013-14","2014-15","2015-16","2016-17","2017-18","2018-19","2019-20","2020-21"]
["Scotland",13595,19931,16044,26935,21574,20601,22931,26224,11462,8267,14470,23858,26475,19788,17048,24399,13928,21236]
["Aberdeen City",-708,963,1306,2776,1641,3043,2709,2859,1987,2079,1928,1625,-531,-1024,-958,854,464,-1536]
["Aberdeenshire",1815,1667,1962,1758,1177,884,1193,975,924,1039,1374,719,-358,-846,-813,-702,-348,1369]
["Angus",796,594,576,494,342,-13,174,-35,137,-36,394,307,18,-34,-14,197,101,711]
["Argyll and Bute",718,307,136,225,12,-28,224,181,-128,-76,-269,-198,278,103,3,-48,42,983]
["City of Edinburgh",3398,5731,3946,5148,3653,5710,7905,7825,4018,3149,3621,6593,7365,5466,4974,6064,3265,-779]
["Clackmannanshire",413,408,223,503,288,82,-76,-18,-198,-119,-73,51,-53,89,-40,92,29,212]
["Dumfries and Galloway",723,726,318,404,523,111,91,230,-75,19,105,206,229,192,182,462,121,1093]
["Dundee City",-357,634,113,320,608,1036,1133,1603,730,395,154,410,244,726,494,921,71,-514]
["East Ayrshire",181,-27,14,276,388,326,-17,15,-93,-132,-76,10,17,32,115,352,20,662]
["East Dunbartonshire",-613,-644,-613,-435,-362,-218,-294,-312,-157,-177,339,60,170,215,10,21,214,83]
["East Lothian",179,267,561,1167,1318,421,397,199,511,313,374,606,667,468,609,760,594,1244]
["East Renfrewshire",-348,-326,-494,-118,-327,-280,11,-117,-100,-24,230,-74,159,241,-41,-97,139,133]
["Falkirk",1168,1392,792,820,532,477,315,889,346,226,318,571,744,781,369,606,170,548]
["Fife",1734,1997,1292,1394,1248,1146,1453,1618,474,121,363,901,1182,1176,836,1633,939,1123]
["Glasgow City",-1170,531,19,3295,3976,4706,4271,6127,2536,1679,3303,6790,8515,6086,6034,6907,4413,1746]
["Highland",1818,2040,1506,2010,1495,667,736,667,187,-30,172,819,1016,856,777,747,291,2807]
["Inverclyde",-485,-145,-289,-259,-160,-334,-220,-265,-305,-195,-236,-148,-153,-36,-210,-49,-125,3]
["Midlothian",-173,-273,-206,99,270,291,133,302,343,443,753,689,783,994,865,704,531,1199]
["Moray",697,549,455,347,155,251,-51,-114,103,402,198,249,343,-105,16,93,-120,481]
["Na h-Eileanan Siar",126,125,60,45,-59,2,86,12,-26,-20,-90,-18,-65,53,16,29,-16,272]
["North Ayrshire",-72,-22,-124,242,120,-252,-218,11,-476,-333,-271,-41,21,147,-62,-28,28,666]
["North Lanarkshire",184,151,268,589,379,7,-358,-81,-279,-407,-138,-29,726,592,324,962,236,916]
["Orkney Islands",135,67,142,80,30,36,98,85,70,39,14,63,127,121,184,82,110,166]
["Perth and Kinross",910,1488,1520,1865,1895,1396,1363,1255,644,81,945,649,631,364,270,566,401,1812]
["Renfrewshire",-192,-401,-312,127,241,189,364,408,-323,-321,254,459,1233,894,1015,1242,641,1151]
["Scottish Borders",849,605,649,1031,950,189,146,370,13,175,173,282,500,566,461,394,151,895]
["Shetland Islands",-11,-11,-69,15,4,135,114,64,-59,-23,-1,4,-30,-133,-72,-125,-34,90]
["South Ayrshire",376,78,99,287,141,73,267,324,155,148,-86,28,239,372,255,288,204,757]
["South Lanarkshire",1272,562,763,1014,401,269,470,335,49,304,318,616,744,897,954,1262,902,2184]
["Stirling",-407,441,443,317,52,198,684,817,530,226,235,1092,743,130,265,-132,4,-458]
["West Dunbartonshire",-196,-165,-35,-21,-137,-83,-208,-123,-164,-257,-51,30,213,-70,-112,-50,-125,-84]
["West Lothian",835,622,1023,1120,780,164,36,118,88,-421,196,537,758,475,342,392,615,1301]
[]
["NHS Board Areas","2003-04","2004-05","2005-06","2006-07","2007-08","2008-09","2009-10","2010-11","2011-12","2012-13","2013-14","2014-15","2015-16","2016-17","2017-18","2018-19","2019-20","2020-21"]
["Scotland",13595,19931,16044,26935,21574,20601,22931,26224,11462,8267,14470,23858,26475,19788,17048,24399,13928,21236]
["Ayrshire and Arran",485,29,-11,805,649,147,32,350,-414,-317,-433,-3,277,551,{"$f":"SUM(P15,P27,P34)","v":308},612,252,2085]
["Borders",849,605,649,1031,950,189,146,370,13,175,173,282,500,566,{"$f":"P32","v":461},394,151,895]
["Dumfries and Galloway",723,726,318,404,523,111,91,230,-75,19,105,206,229,192,{"$f":"P13","v":182},462,121,1093]
["Fife",1734,1997,1293,1391,1242,1145,1455,1614,474,121,363,901,1182,1176,{"$f":"P20","v":836},1633,939,1123]
["Forth Valley",1174,2241,1458,1640,872,757,923,1688,678,333,480,1714,1434,1000,{"$f":"SUM(P36,P19,P12)","v":594},566,203,302]
["Grampian",1804,3179,3723,4881,2973,4178,3851,3720,3014,3520,3500,2593,-546,-1975,{"$f":"SUM(P7,P8,P25)","v":-1755},245,-4,314]
["Greater Glasgow and Clyde",-2385,-877,-1172,3247,3555,4397,4428,5781,1487,705,3839,7117,10137,7330,{"$f":"SUM(P37,P31,P23,P21,P18,P16)","v":6696},7974,5157,3032]
["Highland",2536,2347,1642,2235,1507,639,960,848,59,-106,-97,621,1294,959,{"$f":"SUM(P22,P10)","v":780},699,333,3790]
["Lanarkshire",837,440,479,945,456,-141,-392,191,-230,-103,180,587,1470,1489,{"$f":"SUM(P28,P35)","v":1278},2224,1138,3100]
["Lothian",4239,6347,5324,7534,6021,6586,8471,8444,4960,3484,4944,8425,9573,7403,{"$f":"SUM(P11,P17,P24,P38)","v":6790},7920,5005,2965]
["Orkney",135,67,142,80,30,36,98,85,70,39,14,63,127,121,{"$f":"P29","v":184},82,110,166]
["Shetland",-11,-11,-69,15,4,135,114,64,-59,-23,-1,4,-30,-133,{"$f":"P33","v":-72},-125,-34,90]
["Tayside",1349,2716,2208,2682,2851,2420,2668,2827,1511,440,1493,1366,893,1056,{"$f":"SUM(P30,P14,P9)","v":750},1684,573,2009]
["Western Isles",126,125,60,45,-59,2,86,12,-26,-20,-90,-18,-65,53,{"$f":"P26","v":16},29,-16,272]

{"sheet":"Total net migration 65+","index":12,"n_rows":55,"n_cols":19,"rows_kept":55,"cut":false,"hidden":false,"merged":[]}
["Total net migration for ages 65+"]
["This worksheet contains two tables, presented next to each other vertically with one blank row between the tables. "]
["See notes [1], [2], [3], [4], [5] which are explained in the Notes worksheet."]
["Return to front page"]
["Council Area","2003-04","2004-05","2005-06","2006-07","2007-08","2008-09","2009-10","2010-11","2011-12","2012-13","2013-14","2014-15","2015-16","2016-17","2017-18","2018-19","2019-20","2020-21"]
["Scotland",1597,942,362,734,548,299,261,495,-361,-182,23,17,17,292,554,702,340,1372]
["Aberdeen City",-136,-65,-157,-156,-175,-111,-117,-88,-180,-119,-213,-203,-120,-30,-102,-34,5,12]
["Aberdeenshire",424,282,277,233,135,44,4,-44,-95,-120,-168,-196,-116,-13,8,18,-21,248]
["Angus",209,131,102,96,141,45,16,57,88,82,70,36,-9,63,67,136,71,102]
["Argyll and Bute",58,1,23,30,-23,-55,-43,-12,-68,-46,-61,-61,-175,-83,-131,-77,-93,44]
["City of Edinburgh",-382,-349,-254,-143,-173,-57,-36,-20,11,0,39,-74,68,-40,23,-70,-68,-83]
["Clackmannanshire",41,8,-23,14,-30,-22,-9,9,44,15,15,83,-5,-14,22,0,-4,7]
["Dumfries and Galloway",202,189,51,113,122,23,24,34,-36,-34,60,50,1,6,88,76,61,85]
["Dundee City",-89,-107,-80,-39,-65,-106,-41,-85,-107,-49,-87,-56,-5,-56,-31,-48,-38,4]
["East Ayrshire",-18,4,40,-31,-4,-6,14,-10,-16,16,-30,-19,33,-3,79,51,46,95]
["East Dunbartonshire",-104,-63,-102,-60,-56,-81,-47,-27,10,18,74,-24,-2,-12,-15,-11,-28,-24]
["East Lothian",81,87,135,46,84,52,67,55,63,54,89,133,124,137,123,153,148,217]
["East Renfrewshire",50,35,37,-17,0,71,33,-31,-26,-21,25,134,34,58,-44,-43,18,-36]
["Falkirk",71,49,59,7,72,78,93,40,41,79,15,34,30,48,87,36,22,12]
["Fife",161,231,72,131,101,122,97,128,87,14,186,48,88,53,73,183,162,180]
["Glasgow City",-713,-695,-594,-442,-399,-311,-350,-269,-321,-317,-255,-252,-201,-163,-145,-77,-152,-335]
["Highland",289,226,130,168,165,52,12,61,-41,-43,-44,-43,-132,-143,-62,2,21,186]
["Inverclyde",-45,19,10,-10,-36,-22,10,10,24,-1,-31,6,44,49,22,34,1,24]
["Midlothian",-35,-15,11,-22,36,15,42,46,24,-14,-8,48,15,18,41,21,-25,-10]
["Moray",133,105,28,92,98,11,46,28,44,31,107,35,40,34,36,23,79,18]
["Na h-Eileanan Siar",33,45,28,17,42,21,38,2,13,12,2,-9,-10,16,-6,-4,-8,27]
["North Ayrshire",141,68,58,83,86,77,52,61,12,38,43,0,-87,86,33,15,41,67]
["North Lanarkshire",26,42,13,-117,-63,2,-18,-16,-71,-87,-29,62,-111,-9,-33,-94,-60,-45]
["Orkney Islands",30,5,26,23,20,11,28,9,-4,6,9,2,22,37,26,-10,37,-2]
["Perth and Kinross",229,202,134,139,114,63,81,181,30,52,38,114,96,104,67,69,60,211]
["Renfrewshire",-62,10,-31,11,43,18,38,73,-6,3,66,34,87,23,110,78,75,77]
["Scottish Borders",204,59,7,139,47,115,21,-23,-26,32,-65,23,-40,18,23,13,-19,65]
["Shetland Islands",20,4,5,8,6,23,-5,10,18,-23,-8,-33,1,-3,-10,-6,-18,-3]
["South Ayrshire",218,130,90,71,41,72,28,113,98,129,103,100,162,138,148,114,34,209]
["South Lanarkshire",382,210,180,207,135,108,119,161,109,178,47,30,110,-9,122,109,38,-38]
["Stirling",56,9,24,42,36,22,-2,-16,-32,-89,2,-37,-8,-22,-43,11,-10,33]
["West Dunbartonshire",-27,-26,-15,-24,-51,-17,10,13,-77,-49,-20,-11,12,-25,-38,13,-43,-41]
["West Lothian",150,111,78,125,99,42,56,45,29,71,52,63,71,29,16,21,8,66]
[]
["NHS Health Boards","2003-04","2004-05","2005-06","2006-07","2007-08","2008-09","2009-10","2010-11","2011-12","2012-13","2013-14","2014-15","2015-16","2016-17","2017-18","2018-19","2019-20","2020-21"]
["Scotland",1597,942,362,734,548,299,261,495,-361,-182,23,17,17,292,554,702,340,1372]
["Ayrshire and Arran",341,202,188,123,123,143,94,164,94,183,116,81,108,221,{"$f":"SUM(P15,P27,P34)","v":260},180,121,371]
["Borders",204,59,7,139,47,115,21,-23,-26,32,-65,23,-40,18,{"$f":"P32","v":23},13,-19,65]
["Dumfries and Galloway",202,189,51,113,122,23,24,34,-36,-34,60,50,1,6,{"$f":"P13","v":88},76,61,85]
["Fife",161,231,74,131,101,122,97,127,87,14,186,48,88,53,{"$f":"P20","v":73},183,162,180]
["Forth Valley",168,66,60,63,78,78,82,33,53,5,32,80,17,12,{"$f":"SUM(P36,P19,P12)","v":66},47,8,52]
["Grampian",421,322,148,169,58,-56,-67,-104,-231,-208,-274,-364,-196,-9,{"$f":"SUM(P7,P8,P25)","v":-58},7,63,278]
["Greater Glasgow and Clyde",-883,-753,-737,-611,-567,-411,-335,-192,-396,-367,-141,-113,-26,-70,{"$f":"SUM(P37,P31,P23,P21,P18,P16)","v":-110},-6,-129,-335]
["Highland",347,227,153,198,142,-3,-31,49,-109,-89,-105,-104,-307,-226,{"$f":"SUM(P22,P10)","v":-193},-75,-72,230]
["Lanarkshire",390,285,235,159,140,179,130,106,38,91,18,92,-1,-18,{"$f":"SUM(P28,P35)","v":89},15,-22,-83]
["Lothian",-186,-166,-30,6,46,52,129,126,127,111,172,170,278,144,{"$f":"SUM(P11,P17,P24,P38)","v":203},125,63,190]
["Orkney",30,5,26,23,20,11,28,9,-4,6,9,2,22,37,{"$f":"P29","v":26},-10,37,-2]
["Shetland",20,4,5,8,6,23,-5,10,18,-23,-8,-33,1,-3,{"$f":"P33","v":-10},-6,-18,-3]
["Tayside",349,226,154,196,190,2,56,154,11,85,21,94,82,111,{"$f":"SUM(P30,P14,P9)","v":103},157,93,317]
["Western Isles",33,45,28,17,42,21,38,2,13,12,2,-9,-10,16,{"$f":"P26","v":-6},-4,-8,27]

{"sheet":"Total in-migration","index":13,"n_rows":55,"n_cols":19,"rows_kept":55,"cut":false,"hidden":false,"merged":[]}
["Total in-migration"]
["This worksheet contains two tables, presented next to each other vertically with one blank row between the tables. "]
["See notes [1], [2], [3], [4], [5], [6] which are explained in the Notes worksheet."]
["Return to front page"]
["Council Area","2003-04","2004-05","2005-06","2006-07","2007-08","2008-09","2009-10","2010-11","2011-12","2012-13","2013-14","2014-15","2015-16","2016-17","2017-18","2018-19","2019-20","2020-21"]
["Scotland",90400,99100,94600,96600,98500,90500,92400,87900,81000,75900,82400,85000,86700,80500,80600,87400,81000,97200]
["Aberdeen City",10650,12400,12750,13510,13630,14160,13970,13580,13650,14040,14210,14060,12310,11330,10680,11910,11110,11770]
["Aberdeenshire",10270,10290,10290,9930,9780,8830,8980,8840,9060,9550,10340,9490,8160,7220,7130,7250,6350,9510]
["Angus",4760,4560,4440,4180,4280,3390,3660,3600,3930,3950,4230,4310,3910,3790,3890,4020,3360,4640]
["Argyll and Bute",4900,4760,4440,4310,4080,3860,3950,3740,3820,3930,3790,3910,4110,4180,4130,3940,3430,5280]
["City of Edinburgh",28530,31870,30270,29700,29670,29510,31280,29900,28840,27830,29440,31440,32390,30210,30720,32520,30120,34080]
["Clackmannanshire",2080,2130,2010,2270,2130,1680,1580,1530,1480,1600,1730,1860,1760,1880,1730,1730,1540,2110]
["Dumfries and Galloway",5280,5480,4740,4670,4930,4190,3950,4000,3840,3980,4050,3930,3880,4010,4020,4220,3550,5310]
["Dundee City",5830,6850,6480,6670,7300,6860,7130,7390,6950,7070,6860,7020,6870,6970,6920,7320,6370,6990]
["East Ayrshire",3660,3450,3400,3670,3790,3370,3080,3110,3080,3110,3250,3350,3390,3350,3410,3520,2770,4020]
["East Dunbartonshire",3620,3670,3490,3490,3430,3230,3070,3050,3430,3510,4050,4200,4200,4050,3980,3870,3440,4500]
["East Lothian",3680,3650,3940,4400,4810,3650,3720,3650,4020,3780,4140,4340,4010,4160,4500,4560,4210,5590]
["East Renfrewshire",3400,3410,3330,3290,3290,2950,3100,3140,3290,3670,3820,3940,4080,4020,3790,3580,3480,4440]
["Falkirk",4720,5160,4540,4580,4310,3770,3560,4200,3840,4080,4170,4480,4550,4640,4290,4490,3610,4520]
["Fife",12570,13210,12150,11940,12080,11200,11340,11170,10740,10460,10890,11290,11400,11170,11160,11860,10390,13320]
["Glasgow City",26610,28420,27500,29030,31110,29920,29100,29320,28360,28010,30310,33300,34970,33180,34080,35620,32000,36400]
["Highland",9790,10160,9580,9630,9620,8050,7860,7510,7150,7080,7240,7720,7640,7300,7470,7430,6190,10110]
["Inverclyde",1750,1960,1660,1620,1660,1330,1400,1260,1330,1400,1380,1460,1530,1520,1470,1610,1250,1780]
["Midlothian",2610,2560,2560,2950,2990,2780,2630,2720,2850,2990,3530,3650,3630,3780,3790,3770,3230,4490]
["Moray",4060,3940,3860,3450,3480,3170,3080,3040,3410,3530,3480,3680,3560,3140,3070,3180,2720,3790]
["Na h-Eileanan Siar",1230,1220,1090,1030,1030,970,970,910,870,860,820,880,840,990,860,850,720,1110]
["North Ayrshire",4450,4330,4130,4340,4190,3540,3480,3530,3500,3500,3550,3730,3740,3810,3580,3610,3210,4340]
["North Lanarkshire",7880,7890,7840,8240,8010,7120,6230,6540,6710,6640,6920,7580,8060,7690,7810,8380,6590,8900]
["Orkney Islands",900,800,780,740,750,710,810,670,740,760,750,710,860,780,820,810,700,940]
["Perth and Kinross",6920,7390,7300,7530,7850,6980,6980,6460,6390,5980,6760,6510,6330,6170,6000,6370,5290,7930]
["Renfrewshire",4840,5030,4830,5250,5070,4690,4870,4780,4340,4410,5030,5410,6160,5850,6160,6200,5250,6910]
["Scottish Borders",5420,4960,4760,5150,5300,4310,4140,4090,3990,3970,4200,4130,4390,4440,4530,4260,3590,5360]
["Shetland Islands",820,820,720,780,750,810,760,710,670,650,670,710,680,540,580,600,560,800]
["South Ayrshire",4040,4000,3740,3920,3830,3510,3510,3480,3600,3730,3430,3750,3790,3870,3700,3800,3180,4370]
["South Lanarkshire",10040,9250,9270,9270,8790,8060,7910,7620,8170,8210,8290,9170,9170,9130,9310,9890,8180,11370]
["Stirling",4760,5530,5290,5150,4990,4750,5190,5160,5210,5030,5130,5940,5550,5080,5200,5080,4530,5380]
["West Dunbartonshire",2440,2350,2440,2460,2430,2250,2080,2090,2140,2170,2260,2550,2560,2330,2400,2400,1970,2460]
["West Lothian",6210,5980,6200,6710,6350,5060,4830,4820,4910,4590,5230,5720,5660,5330,5280,5610,5050,6940]
[]
["NHS Board Areas","2003-04","2004-05","2005-06","2006-07","2007-08","2008-09","2009-10","2010-11","2011-12","2012-13","2013-14","2014-15","2015-16","2016-17","2017-18","2018-19","2019-20","2020-21"]
["Scotland",90400,99100,94600,96600,98500,90500,92400,87900,81000,75900,82400,85000,86700,80500,80600,87400,81000,97200]
["Ayrshire and Arran",9500,9190,8670,9100,9060,7960,7720,7760,7690,7820,7780,8020,8170,8300,8070,8250,6840,10090]
["Borders",5420,4960,4760,5150,5300,4310,4140,4090,3990,3970,4200,4130,4390,4440,4530,4260,3590,5360]
["Dumfries and Galloway",5280,5480,4740,4670,4930,4190,3950,4000,3840,3980,4050,3930,3880,4010,4020,4220,3550,5310]
["Fife",12570,13210,12150,11940,12080,11190,11340,11170,10740,10460,10890,11290,11400,11170,11160,11860,10390,13320]
["Forth Valley",9970,11260,10250,10260,9830,8840,8930,9430,9110,9190,9450,10570,10250,9950,9570,9750,8230,10370]
["Grampian",18090,19970,20190,20240,19920,19890,19460,18790,19260,19500,20220,19200,16800,15210,14410,15870,14630,18090]
["Greater Glasgow and Clyde",35520,37780,36530,38260,40070,38430,38150,37790,32120,31620,34840,37640,40460,38200,38760,40580,36300,42260]
["Highland",14340,14620,13680,13620,13350,11600,11490,10950,10650,10660,10690,11310,11430,11160,11290,11030,9370,14930]
["Lanarkshire",13000,12550,12520,12640,12420,11180,10330,10450,12720,12520,12930,14150,14710,14420,14700,15710,12660,17450]
["Lothian",32280,35920,34810,34660,35300,33840,35430,33810,33360,31520,33970,35910,37060,34830,35420,37460,34320,40570]
["Orkney",900,800,780,740,750,710,810,670,740,760,750,710,860,780,820,810,700,940]
["Shetland",820,820,720,780,750,810,760,710,670,650,670,710,680,540,580,600,560,800]
["Tayside",13650,15420,14660,14790,15730,14380,14800,14390,14010,13470,14430,14310,13810,13710,13330,14260,11960,16050]
["Western Isles",1230,1220,1090,1030,1030,970,970,910,870,860,820,880,840,990,860,850,720,1110]

{"sheet":"Total out-migration","index":14,"n_rows":55,"n_cols":19,"rows_kept":55,"cut":false,"hidden":false,"merged":[]}
["Total out-migration"]
["This worksheet contains two tables, presented next to each other vertically with one blank row between the tables. "]
["See notes [1], [2], [3], [4], [5], [6] which are explained in the Notes worksheet."]
["Return to front page"]
["Council Area","2003-04","2004-05","2005-06","2006-07","2007-08","2008-09","2009-10","2010-11","2011-12","2012-13","2013-14","2014-15","2015-16","2016-17","2017-18","2018-19","2019-20","2020-21"]
["Scotland",71800,73800,75800,63600,72100,66100,66300,57700,68300,65900,64900,57000,55000,56600,59700,57100,64100,69400]
["Aberdeen City",11850,11290,11600,10560,11980,11190,11220,10500,11810,12380,12790,12980,13270,12750,12000,11100,10610,13280]
["Aberdeenshire",7040,7510,7220,7250,7900,7320,7290,7450,7680,7890,8300,8500,8510,7910,7730,7630,6480,7280]
["Angus",3420,3490,3490,3420,3630,3240,3310,3490,3670,3830,3590,3770,3840,3640,3690,3520,3080,3700]
["Argyll and Bute",3970,4320,4240,3930,4120,3890,3660,3430,4050,3950,4060,4150,3880,4040,4210,4000,3530,4070]
["City of Edinburgh",26290,26550,26860,24780,26320,23650,23210,21860,24870,24840,26140,25180,24730,25120,26100,26620,27230,35460]
["Clackmannanshire",1530,1560,1710,1530,1740,1640,1660,1530,1740,1660,1820,1720,1750,1750,1760,1580,1440,1810]
["Dumfries and Galloway",4100,4290,4270,3960,4120,3880,3830,3630,3960,3990,3710,3600,3490,3680,3630,3490,3220,3810]
["Dundee City",6570,6280,6590,6410,6690,5940,6150,5960,6460,6760,6870,6810,6700,6380,6570,6500,6460,7600]
["East Ayrshire",3290,3410,3310,3350,3240,2990,3050,3080,3160,3230,3340,3290,3240,3330,3180,3090,2730,3120]
["East Dunbartonshire",4080,4160,3940,3780,3610,3310,3140,3160,3170,3420,3140,3650,3490,3360,3610,3440,2830,4010]
["East Lothian",3250,3150,3020,2840,3180,2940,3130,3210,3230,3250,3420,3380,3050,3360,3350,3290,3240,3770]
["East Renfrewshire",3500,3430,3540,3240,3360,2870,2730,2870,3100,3130,2930,3320,3260,3060,3270,3210,2750,3750]
["Falkirk",3210,3520,3600,3640,3650,3210,3110,3180,3490,3700,3760,3740,3610,3740,3860,3760,3380,3910]
["Fife",10230,10550,10590,10050,10460,9650,9530,9100,10120,10160,10240,10060,9800,9640,9920,9560,8960,11560]
["Glasgow City",30030,29980,29490,26730,28180,25930,26050,23950,27220,27570,28270,27460,27000,27790,28720,29350,28740,36010]
["Highland",6940,7300,7530,6960,7510,7060,6870,6610,7030,6990,7000,6610,6440,6490,6500,6450,5790,6720]
["Inverclyde",2350,2090,2010,1940,1860,1690,1620,1550,1630,1560,1650,1590,1590,1510,1650,1520,1350,1690]
["Midlothian",2870,2880,2820,2840,2560,2320,2400,2200,2290,2410,2510,2660,2620,2510,2700,2830,2600,3100]
["Moray",3080,3250,3400,2930,3150,2770,3090,3200,3090,2930,3010,3270,3010,3140,3020,2880,2700,3090]
["Na h-Eileanan Siar",990,950,960,960,1010,900,810,890,850,880,910,890,900,830,840,800,750,780]
["North Ayrshire",4240,4240,4150,3910,3860,3660,3640,3390,3900,3800,3690,3670,3680,3450,3530,3520,3060,3540]
["North Lanarkshire",7650,7560,7540,7390,7470,7040,6650,6600,6980,7030,7010,7440,7080,6960,7260,7160,6160,7820]
["Orkney Islands",640,670,580,600,650,620,640,570,630,680,680,610,640,580,570,660,530,720]
["Perth and Kinross",5250,5320,5280,5090,5450,5180,5120,4630,5410,5600,5350,5250,5270,5270,5340,5340,4570,5400]
["Renfrewshire",5110,5310,5170,4980,4670,4530,4430,4190,4740,4750,4660,4820,4550,4690,4820,4690,4410,5690]
["Scottish Borders",4030,3960,3930,3660,4000,3890,3860,3600,3950,3670,3920,3700,3700,3620,3850,3680,3320,4100]
["Shetland Islands",740,740,840,740,720,610,600,650,730,740,680,740,690,670,650,690,590,670]
["South Ayrshire",3360,3580,3380,3340,3430,3330,3070,2890,3240,3320,3330,3440,3240,3180,3210,3240,2830,3180]
["South Lanarkshire",7910,8180,7940,7620,8050,7420,7100,7040,7760,7630,7780,8140,8070,7850,8010,8060,7000,8700]
["Stirling",4770,4870,4590,4670,4750,4440,4180,4140,4430,4780,4670,4530,4530,4740,4690,4990,4400,5610]
["West Dunbartonshire",2820,2690,2550,2490,2640,2300,2370,2260,2420,2590,2350,2470,2270,2420,2610,2460,2180,2600]
["West Lothian",5000,5130,4880,5250,5350,4830,4630,4600,4750,4970,4790,4830,4540,4540,4700,4900,4160,5140]
[]
["NHS Board Areas","2003-04","2004-05","2005-06","2006-07","2007-08","2008-09","2009-10","2010-11","2011-12","2012-13","2013-14","2014-15","2015-16","2016-17","2017-18","2018-19","2019-20","2020-21"]
["Scotland",71800,73800,75800,63600,72100,66100,66300,57700,68300,65900,64900,57000,55000,56600,59700,57100,64100,69400]
["Ayrshire and Arran",8240,8640,8240,7770,7780,7520,7410,7000,7810,7840,7900,7590,7410,7240,7290,7160,6300,7190]
["Borders",4030,3960,3930,3660,4000,3890,3860,3600,3950,3670,3920,3700,3700,3620,3850,3680,3320,4100]
["Dumfries and Galloway",4100,4290,4270,3960,4120,3880,3830,3630,3960,3990,3710,3600,3490,3680,3630,3490,3220,3810]
["Fife",10230,10550,10590,10040,10460,9640,9530,9100,10120,10160,10240,10060,9800,9640,9920,9560,8960,11560]
["Forth Valley",7920,8390,8310,8100,8530,7920,7540,7400,8240,8620,8650,8280,8290,8590,8660,8790,7770,9680]
["Grampian",15070,15380,15520,14080,16060,15010,15020,14490,15700,15580,16300,16720,17570,17310,16270,15140,14240,16660]
["Greater Glasgow and Clyde",40080,40190,39330,35560,37180,34310,34290,32010,31500,31480,30990,30090,29120,30090,31560,31980,31150,39520]
["Highland",10560,11320,11420,10560,11280,10630,10210,9740,10760,10590,10720,10430,10000,10210,10400,10110,9070,10320]
["Lanarkshire",11300,11530,11540,10860,11370,10850,10530,10030,12580,12330,12510,12980,12630,12410,12860,12650,11050,13700]
["Lothian",28660,29580,29420,26600,28890,26580,26330,24580,27890,27810,28490,26810,26310,26890,27980,28640,28950,36950]
["Orkney",640,670,580,600,650,620,640,570,630,680,680,610,640,580,570,660,530,720]
["Shetland",740,740,840,740,720,610,600,650,730,740,680,740,690,670,650,690,590,670]
["Tayside",11380,11710,11790,11330,12060,11510,11600,11010,12280,12670,12390,12310,12510,12080,12130,11910,11050,13190]
["Western Isles",990,950,960,960,1010,900,810,890,850,880,910,890,900,830,840,800,750,780]

{"sheet":"Within Scotland net migration","index":15,"n_rows":55,"n_cols":19,"rows_kept":55,"cut":false,"hidden":false,"merged":[[65,0,65,10],[57,0,58,10],[59,0,60,10],[61,0,62,10],[63,0,64,10]]}
["Within Scotland net migration"]
["This worksheet contains two tables, presented next to each other vertically with one blank row between the tables. "]
["See notes [2], [3], [4], [6], [7] which are explained in the Notes worksheet.  Some shorthand is used in this table, [z] = Not applicable."]
["Return to front page"]
["Council Area","2003-04","2004-05","2005-06","2006-07","2007-08","2008-09","2009-10","2010-11","2011-12","2012-13","2013-14","2014-15","2015-16","2016-17","2017-18","2018-19","2019-20","2020-21"]
["Scotland","[z]","[z]","[z]","[z]","[z]","[z]","[z]","[z]","[z]","[z]","[z]","[z]","[z]","[z]","[z]","[z]","[z]","[z]"]
["Aberdeen City",-1680,-1090,-1140,-1120,-1660,-980,-1310,-1060,-360,-200,-1140,-2220,-2660,-2220,-1850,-910,-810,-2830]
["Aberdeenshire",1240,870,1340,1100,880,690,1080,790,1080,1180,1640,950,-70,-490,-310,-540,10,1310]
["Angus",1000,510,690,390,380,-20,120,-30,200,160,430,440,70,90,210,340,210,490]
["Argyll and Bute",200,-30,-240,-230,-210,-290,-150,-120,-330,-200,-440,-440,-280,-430,-560,-540,-290,350]
["City of Edinburgh",-2860,-1550,-2610,-1950,-1980,-770,-360,-390,-250,-610,-1710,-1930,-1480,-2380,-2490,-2830,-3090,-7260]
["Clackmannanshire",340,290,140,390,290,10,-110,-10,-250,-90,-60,70,-110,90,-60,50,10,210]
["Dumfries and Galloway",-60,-120,-260,-60,50,-80,-100,-90,-170,-190,-110,-100,-180,-250,-230,-60,-70,330]
["Dundee City",-690,-350,-650,-530,-390,-100,-280,-10,-130,-250,-310,-520,-610,-60,-460,-310,-590,-1240]
["East Ayrshire",280,-30,170,250,360,400,70,10,-70,-40,40,-20,60,-60,200,280,80,650]
["East Dunbartonshire",-160,-260,-130,-170,-100,-10,160,20,370,290,1060,610,590,650,490,460,580,540]
["East Lothian",360,480,880,1090,990,420,350,210,470,500,560,680,500,550,870,960,760,1350]
["East Renfrewshire",190,130,70,250,160,120,380,280,470,700,940,710,730,910,630,350,750,690]
["Falkirk",1050,1160,770,580,440,430,280,610,370,400,170,390,590,630,330,560,240,310]
["Fife",1300,940,640,270,730,250,530,450,200,-120,-90,-70,120,200,450,1030,770,1310]
["Glasgow City",-4550,-3300,-2650,-2760,-2170,-1520,-1860,-1230,-2100,-1800,-2680,-2420,-1820,-1830,-1620,-3130,-2620,-6470]
["Highland",20,90,130,60,430,80,-70,-170,-90,-430,-410,-30,-40,-210,-60,-230,-140,1310]
["Inverclyde",-300,-260,-310,-270,-200,-310,-170,-250,-200,-150,-290,-250,-140,-50,-200,-30,-100,-20]
["Midlothian",-240,-230,-220,0,330,490,250,380,510,570,950,1030,860,1120,1050,900,610,1140]
["Moray",190,-70,10,-170,-60,50,-100,60,-120,130,180,270,200,-60,-40,-130,-190,80]
["Na h-Eileanan Siar",-40,40,-50,-50,-80,-30,30,-30,-30,-70,-60,-50,-120,0,-80,-50,-40,170]
["North Ayrshire",250,210,150,350,140,-170,-150,20,-180,-200,-210,-70,-110,110,-50,0,90,560]
["North Lanarkshire",410,330,340,270,220,60,-250,-200,-110,-180,-180,-150,550,570,480,970,510,560]
["Orkney Islands",-50,-20,80,-20,-50,-60,20,10,40,20,-40,-40,-20,40,30,10,30,0]
["Perth and Kinross",530,380,600,470,490,370,460,340,310,180,610,470,400,260,220,250,510,1560]
["Renfrewshire",-310,-400,-210,-220,150,130,130,170,-270,-140,380,200,910,670,1150,1020,800,810]
["Scottish Borders",390,330,270,550,360,160,140,130,-80,-10,70,90,360,340,390,200,220,610]
["Shetland Islands",-90,-100,-80,-100,-100,10,-40,10,-100,-90,-30,-100,-160,-120,-130,-180,-60,0]
["South Ayrshire",520,180,260,290,220,130,140,230,300,330,100,110,250,410,280,330,270,750]
["South Lanarkshire",2020,1030,1240,1300,700,750,910,480,660,950,540,1230,770,1200,1310,1420,1200,2250]
["Stirling",-400,400,220,-360,-330,-150,310,-110,210,110,60,410,210,40,0,-400,-160,-460]
["West Dunbartonshire",-200,-150,30,-110,-150,10,-260,-190,-250,-370,-130,90,120,-210,-150,-130,-130,-80]
["West Lothian",1330,580,520,500,170,-40,-170,-320,-100,-370,160,630,510,510,230,330,630,1050]
[]
["NHS Board Areas","2003-04","2004-05","2005-06","2006-07","2007-08","2008-09","2009-10","2010-11","2011-12","2012-13","2013-14","2014-15","2015-16","2016-17","2017-18","2018-19","2019-20","2020-21"]
["Scotland","[z]","[z]","[z]","[z]","[z]","[z]","[z]","[z]","[z]","[z]","[z]","[z]","[z]","[z]","[z]","[z]","[z]","[z]"]
["Ayrshire and Arran",1050,360,580,890,720,350,60,260,50,100,-70,20,200,450,430,600,440,1970]
["Borders",390,330,270,550,360,160,140,130,-80,-10,70,90,360,340,390,200,220,610]
["Dumfries and Galloway",-60,-120,-260,-60,50,-80,-100,-90,-170,-190,-110,-100,-180,-250,-230,-60,-70,330]
["Fife",1300,940,640,260,730,250,530,440,200,-120,-90,-70,120,200,450,1030,770,1310]
["Forth Valley",990,1850,1140,620,400,290,490,490,330,420,180,870,690,760,270,210,80,60]
["Grampian",-250,-290,210,-190,-840,-240,-330,-200,600,1120,690,-1000,-2540,-2770,-2200,-1570,-990,-1450]
["Greater Glasgow and Clyde",-4570,-3800,-2550,-2560,-2080,-1100,-1030,-1050,-1980,-1480,-720,-1060,380,140,290,-1470,-700,-4550]
["Highland",230,60,-110,-170,220,-210,-220,-290,-420,-620,-850,-470,-320,-640,-620,-770,-420,1670]
["Lanarkshire",1670,920,930,850,680,320,80,130,560,770,360,1080,1320,1770,1780,2390,1710,2810]
["Lothian",-1410,-710,-1440,-360,-490,110,80,-130,630,80,-50,420,390,-200,-340,-640,-1100,-3720]
["Orkney",-50,-20,80,-20,-50,-60,20,10,40,20,-40,-40,-20,40,30,10,30,0]
["Shetland",-90,-100,-80,-100,-100,10,-40,10,-100,-90,-30,-100,-160,-120,-130,-180,-60,0]
["Tayside",840,540,640,340,480,240,300,300,380,90,730,390,-140,290,-30,280,130,800]
["Western Isles",-40,40,-50,-50,-80,-30,30,-30,-30,-70,-60,-50,-120,0,-80,-50,-40,170]

{"sheet":"Within Scotland in-migration","index":16,"n_rows":55,"n_cols":19,"rows_kept":55,"cut":false,"hidden":false,"merged":[]}
["Within Scotland in-migration"]
["This worksheet contains two tables, presented next to each other vertically with one blank row between the tables. "]
["See notes [2], [3], [4], [6], [7] which are explained in the Notes worksheet. Some shorthand is used in this table, [z] = Not applicable."]
["Return to front page"]
["Council Area","2003-04","2004-05","2005-06","2006-07","2007-08","2008-09","2009-10","2010-11","2011-12","2012-13","2013-14","2014-15","2015-16","2016-17","2017-18","2018-19","2019-20","2020-21"]
["Scotland","[z]","[z]","[z]","[z]","[z]","[z]","[z]","[z]","[z]","[z]","[z]","[z]","[z]","[z]","[z]","[z]","[z]","[z]"]
["Aberdeen City",5540,5830,5800,5630,5630,5740,5520,5960,6710,7420,7040,6810,6180,6070,5930,6280,5420,5810]
["Aberdeenshire",5990,5920,6060,5940,6010,5530,5790,5790,6200,6670,7230,6870,5940,5260,5300,5160,4500,6750]
["Angus",3410,3080,3070,2930,2930,2290,2490,2570,2810,2930,3130,3280,2940,2880,3050,3060,2520,3390]
["Argyll and Bute",2620,2440,2250,2200,2210,2090,2140,2050,2210,2310,2170,2270,2390,2370,2190,2150,1870,3100]
["City of Edinburgh",10810,11330,10340,11200,10740,10800,10790,10810,11510,11500,11530,12290,12290,11610,11530,11700,9640,11690]
["Clackmannanshire",1450,1430,1330,1570,1510,1190,1120,1130,1030,1180,1280,1460,1310,1440,1310,1360,1160,1660]
["Dumfries and Galloway",1780,1840,1660,1730,1790,1710,1620,1650,1720,1730,1730,1730,1680,1640,1640,1710,1380,2170]
["Dundee City",3520,3570,3500,3600,3780,3600,3510,3770,3900,4170,4200,4250,4170,4410,4240,4450,3660,4080]
["East Ayrshire",2570,2390,2470,2720,2690,2540,2270,2300,2270,2370,2490,2610,2670,2590,2690,2720,2100,3050]
["East Dunbartonshire",2940,2890,2810,2870,2830,2590,2530,2460,2860,2980,3490,3620,3540,3450,3370,3270,2880,3740]
["East Lothian",2700,2730,2920,3190,3250,2510,2570,2530,2750,2820,3060,3230,2870,3030,3380,3340,3100,4160]
["East Renfrewshire",2870,2780,2770,2850,2830,2440,2540,2580,2830,3160,3290,3420,3480,3450,3300,3060,2980,3650]
["Falkirk",3260,3510,3150,3160,3000,2660,2500,2990,2860,3170,3060,3370,3470,3530,3310,3550,2780,3450]
["Fife",6970,6840,6380,6100,6400,5680,5750,5850,5930,5730,6040,6390,6480,6440,6560,6970,5660,7940]
["Glasgow City",13110,13790,13810,13910,14580,13900,13340,13660,14160,15000,14980,16290,16770,16650,16920,16230,13920,17200]
["Highland",4290,4470,4450,4160,4530,4130,3910,3970,3990,3970,4060,4330,4180,4020,4090,3990,3300,5560]
["Inverclyde",1040,1070,980,1040,1050,850,900,870,890,980,940,1000,1090,1120,1040,1160,910,1310]
["Midlothian",2060,1980,1950,2330,2340,2190,2020,2160,2280,2460,2870,3070,3020,3190,3190,3140,2660,3620]
["Moray",1860,1710,1710,1550,1640,1680,1550,1710,1630,1820,1900,2090,2060,1800,1740,1710,1430,2020]
["Na h-Eileanan Siar",650,680,610,590,620,600,600,580,550,500,560,600,530,590,540,550,490,720]
["North Ayrshire",3120,3070,2880,3110,2900,2490,2430,2460,2570,2570,2540,2820,2750,2800,2660,2680,2330,3300]
["North Lanarkshire",5830,5710,5670,5790,5580,5040,4440,4740,5020,5110,5180,5780,6160,6020,6160,6710,5160,6910]
["Orkney Islands",380,380,420,360,370,350,430,350,410,430,380,390,420,410,400,430,340,460]
["Perth and Kinross",4050,3810,3940,3750,3910,3450,3470,3450,3680,3900,4140,4210,4240,4100,4110,4230,3580,5270]
["Renfrewshire",3270,3430,3270,3490,3540,3300,3270,3330,3220,3330,3900,4080,4510,4400,4820,4700,3930,5180]
["Scottish Borders",2610,2570,2350,2590,2500,2280,2240,2210,2110,2150,2320,2290,2500,2580,2590,2370,2030,3010]
["Shetland Islands",370,380,390,370,330,380,300,380,320,350,360,390,320,290,300,300,300,420]
["South Ayrshire",2710,2530,2440,2600,2510,2330,2230,2310,2520,2680,2480,2680,2690,2800,2740,2740,2270,3110]
["South Lanarkshire",7380,6610,6780,6810,6530,5990,5870,5670,6300,6550,6410,7460,7080,7230,7480,7810,6420,8990]
["Stirling",2690,3660,3240,2980,2880,2800,3070,2840,3150,3340,3320,3790,3600,3420,3460,3270,2830,3490]
["West Dunbartonshire",1810,1730,1830,1780,1870,1730,1520,1530,1650,1650,1760,2080,1990,1830,1980,1920,1600,1970]
["West Lothian",4690,4220,3990,4310,3910,3270,3080,3070,3260,3210,3700,4310,4100,4000,3880,4200,3740,5080]
[]
["NHS Board Areas","2003-04","2004-05","2005-06","2006-07","2007-08","2008-09","2009-10","2010-11","2011-12","2012-13","2013-14","2014-15","2015-16","2016-17","2017-18","2018-19","2019-20","2020-21"]
["Scotland","[z]","[z]","[z]","[z]","[z]","[z]","[z]","[z]","[z]","[z]","[z]","[z]","[z]","[z]","[z]","[z]","[z]","[z]"]
["Ayrshire and Arran",5730,5400,5180,5610,5340,4890,4570,4710,4860,5110,5050,5300,5370,5470,5450,5460,4390,6810]
["Borders",2610,2570,2350,2590,2500,2280,2240,2210,2110,2150,2320,2290,2500,2580,2590,2370,2030,3010]
["Dumfries and Galloway",1780,1840,1660,1730,1790,1710,1620,1650,1720,1730,1730,1730,1680,1640,1640,1710,1380,2170]
["Fife",6970,6840,6380,6100,6400,5670,5750,5850,5930,5730,6040,6390,6480,6440,6560,6970,5660,7940]
["Forth Valley",5810,7030,6140,5980,5790,5280,5280,5510,5610,6170,6060,6920,6780,6750,6420,6630,5330,6960]
["Grampian",6500,6790,6850,6460,6320,6680,6280,6790,7670,8280,8370,7740,6940,6660,6480,6690,5800,7600]
["Greater Glasgow and Clyde",17450,18100,18310,18610,19390,18510,18200,18150,14820,15560,16350,17270,18360,18140,18320,17630,15130,18810]
["Highland",6560,6610,6360,6040,6390,5920,5730,5710,5880,5940,5880,6280,6250,6070,5970,5800,4930,8190]
["Lanarkshire",8730,8230,8290,8180,8130,7400,6920,7130,9170,9330,9310,10640,10720,10840,11230,11950,9470,13080]
["Lothian",11520,12130,11040,11920,11720,11610,11430,11300,12550,12320,12790,13660,13640,13190,13100,13370,10850,14010]
["Orkney",380,380,420,360,370,350,430,350,410,430,380,390,420,410,400,430,340,460]
["Shetland",370,380,390,370,330,380,300,380,320,350,360,390,320,290,300,300,300,420]
["Tayside",7120,7080,6940,6690,6920,6490,6490,6720,7130,7480,8060,8220,8050,8170,7930,8290,6710,9250]
["Western Isles",650,680,610,590,620,600,600,580,550,500,560,600,530,590,540,550,490,720]

{"sheet":"Within Scotland out-migration","index":17,"n_rows":55,"n_cols":19,"rows_kept":55,"cut":false,"hidden":false,"merged":[]}
["Within Scotland out-migration"]
["This worksheet contains two tables, presented next to each other vertically with one blank row between the tables. "]
["See notes [2], [3], [4], [6], [7] which are explained in the Notes worksheet. Some shorthand is used in this table, [z] = Not applicable."]
["Return to front page"]
["Council Area","2003-04","2004-05","2005-06","2006-07","2007-08","2008-09","2009-10","2010-11","2011-12","2012-13","2013-14","2014-15","2015-16","2016-17","2017-18","2018-19","2019-20","2020-21"]
["Scotland","[z]","[z]","[z]","[z]","[z]","[z]","[z]","[z]","[z]","[z]","[z]","[z]","[z]","[z]","[z]","[z]","[z]","[z]"]
["Aberdeen City",7220,6910,6930,6750,7290,6720,6830,7010,7070,7610,8180,9030,8840,8300,7780,7190,6220,8640]
["Aberdeenshire",4750,5050,4720,4840,5140,4840,4710,5000,5120,5480,5590,5920,6000,5750,5610,5700,4490,5440]
["Angus",2420,2570,2380,2540,2550,2310,2370,2600,2620,2770,2710,2840,2880,2790,2840,2730,2310,2910]
["Argyll and Bute",2420,2470,2490,2430,2420,2380,2290,2170,2540,2510,2610,2720,2670,2800,2750,2690,2160,2740]
["City of Edinburgh",13670,12880,12950,13160,12720,11570,11160,11210,11760,12110,13240,14210,13770,13990,14020,14530,12730,18950]
["Clackmannanshire",1110,1130,1180,1180,1220,1190,1230,1140,1280,1270,1340,1390,1420,1350,1370,1310,1150,1450]
["Dumfries and Galloway",1840,1950,1920,1780,1740,1800,1720,1740,1890,1930,1840,1840,1860,1890,1870,1770,1440,1850]
["Dundee City",4210,3920,4150,4130,4170,3700,3790,3780,4030,4420,4510,4770,4780,4470,4700,4750,4250,5330]
["East Ayrshire",2290,2420,2290,2480,2330,2140,2190,2290,2330,2400,2440,2620,2610,2650,2480,2440,2030,2390]
["East Dunbartonshire",3090,3150,2940,3040,2930,2610,2360,2440,2490,2700,2430,3010,2950,2790,2880,2820,2300,3200]
["East Lothian",2340,2250,2040,2090,2260,2090,2220,2320,2270,2320,2500,2550,2370,2480,2510,2380,2340,2810]
["East Renfrewshire",2670,2650,2690,2600,2670,2320,2160,2300,2360,2460,2350,2710,2760,2540,2670,2710,2230,2960]
["Falkirk",2210,2350,2380,2580,2560,2230,2220,2380,2490,2770,2880,2980,2880,2900,2980,2990,2550,3140]
["Fife",5660,5900,5740,5840,5670,5420,5220,5400,5730,5850,6120,6460,6360,6250,6120,5940,4890,6630]
["Glasgow City",17660,17090,16460,16670,16750,15420,15200,14890,16260,16800,17660,18710,18590,18480,18540,19360,16540,23670]
["Highland",4270,4380,4310,4100,4100,4060,3980,4130,4080,4400,4470,4360,4220,4230,4160,4220,3440,4250]
["Inverclyde",1340,1330,1290,1310,1250,1160,1060,1120,1090,1140,1230,1260,1230,1170,1240,1190,1010,1330]
["Midlothian",2290,2210,2160,2330,2010,1710,1770,1780,1770,1900,1920,2040,2160,2070,2140,2240,2050,2480]
["Moray",1670,1780,1700,1720,1710,1630,1650,1650,1740,1690,1720,1820,1860,1860,1780,1840,1630,1950]
["Na h-Eileanan Siar",690,640,660,640,700,630,570,610,580,570,620,650,650,590,620,600,530,550]
["North Ayrshire",2870,2860,2730,2760,2760,2660,2580,2440,2750,2770,2750,2890,2860,2690,2710,2690,2250,2740]
["North Lanarkshire",5420,5370,5320,5520,5360,4980,4690,4940,5130,5290,5370,5930,5610,5460,5690,5740,4650,6340]
["Orkney Islands",430,400,340,380,420,420,420,340,370,410,420,420,440,370,370,420,320,450]
["Perth and Kinross",3520,3430,3340,3280,3410,3080,3010,3110,3370,3730,3530,3740,3840,3840,3890,3980,3070,3710]
["Renfrewshire",3580,3830,3480,3710,3380,3180,3140,3160,3490,3470,3510,3870,3600,3730,3670,3680,3130,4370]
["Scottish Borders",2220,2250,2080,2040,2140,2120,2090,2070,2190,2160,2250,2200,2140,2250,2200,2170,1810,2410]
["Shetland Islands",450,480,480,470,430,380,340,370,430,440,390,490,470,420,440,480,350,420]
["South Ayrshire",2190,2350,2180,2310,2290,2200,2080,2080,2220,2350,2380,2570,2440,2390,2460,2410,2000,2360]
["South Lanarkshire",5360,5580,5540,5510,5830,5240,4960,5190,5640,5600,5880,6230,6300,6020,6180,6390,5210,6750]
["Stirling",3100,3260,3020,3340,3220,2950,2760,2950,2940,3230,3250,3380,3390,3390,3450,3680,2990,3950]
["West Dunbartonshire",2010,1880,1810,1890,2020,1710,1780,1720,1910,2020,1890,1990,1870,2040,2130,2040,1730,2050]
["West Lothian",3370,3640,3470,3810,3740,3300,3240,3390,3360,3580,3540,3680,3580,3490,3660,3860,3110,4030]
[]
["NHS Board Areas","2003-04","2004-05","2005-06","2006-07","2007-08","2008-09","2009-10","2010-11","2011-12","2012-13","2013-14","2014-15","2015-16","2016-17","2017-18","2018-19","2019-20","2020-21"]
["Scotland","[z]","[z]","[z]","[z]","[z]","[z]","[z]","[z]","[z]","[z]","[z]","[z]","[z]","[z]","[z]","[z]","[z]","[z]"]
["Ayrshire and Arran",4690,5040,4600,4720,4620,4540,4510,4450,4820,5010,5120,5280,5160,5010,5020,4860,3950,4850]
["Borders",2220,2250,2080,2040,2140,2120,2090,2070,2190,2160,2250,2200,2140,2250,2200,2170,1810,2410]
["Dumfries and Galloway",1840,1950,1920,1780,1740,1800,1720,1740,1890,1930,1840,1840,1860,1890,1870,1770,1440,1850]
["Fife",5660,5900,5740,5840,5670,5420,5220,5410,5730,5850,6120,6460,6360,6250,6120,5940,4890,6630]
["Forth Valley",4820,5180,5000,5370,5390,4990,4800,5010,5290,5750,5880,6040,6100,5990,6150,6430,5240,6900]
["Grampian",6750,7080,6640,6650,7160,6920,6610,6990,7070,7170,7680,8740,9480,9430,8680,8260,6790,9050]
["Greater Glasgow and Clyde",22010,21900,20860,21170,21470,19620,19230,19200,16810,17040,17070,18330,17970,18000,18030,19100,15830,23360]
["Highland",6330,6550,6470,6210,6170,6120,5950,6000,6300,6560,6740,6750,6570,6710,6590,6570,5350,6520]
["Lanarkshire",7070,7310,7360,7340,7450,7080,6840,6990,8610,8570,8960,9560,9390,9080,9450,9560,7760,10270]
["Lothian",12930,12840,12470,12270,12200,11500,11350,11420,11910,12250,12840,13240,13260,13390,13440,14000,11950,17730]
["Orkney",430,400,340,380,420,420,420,340,370,410,420,420,440,370,370,420,320,450]
["Shetland",450,480,480,470,430,380,340,370,430,440,390,490,470,420,440,480,350,420]
["Tayside",6280,6540,6300,6350,6440,6240,6190,6420,6750,7390,7330,7830,8190,7880,7960,8000,6580,8440]
["Western Isles",690,640,660,640,700,630,570,610,580,570,620,650,650,590,620,600,530,550]

{"sheet":"Rest of UK net migration","index":18,"n_rows":55,"n_cols":19,"rows_kept":55,"cut":false,"hidden":false,"merged":[[0,10,0,11],[0,0,0,1]]}
["Rest of UK net migration"]
["This worksheet contains two tables, presented next to each other vertically with one blank row between the tables. "]
["See notes [2], [3], [4], [6] which are explained in the Notes worksheet."]
["Return to front page"]
["Council Area","2003-04","2004-05","2005-06","2006-07","2007-08","2008-09","2009-10","2010-11","2011-12","2012-13","2013-14","2014-15","2015-16","2016-17","2017-18","2018-19","2019-20","2020-21"]
["Scotland",15500,12500,8900,8800,11500,4100,3300,2900,3000,7900,9600,8400,8800,10500,10000,10000,9000,8900]
["Aberdeen City",-390,50,140,320,270,280,320,0,100,560,590,120,-780,-690,-650,-310,0,-640]
["Aberdeenshire",1870,1290,1070,750,600,220,-100,-130,100,370,280,-220,-600,-410,-250,-50,-40,660]
["Angus",450,440,130,160,170,30,20,-90,50,40,190,110,-70,10,40,90,160,290]
["Argyll and Bute",830,570,550,470,400,310,350,370,270,380,400,300,480,610,610,560,470,900]
["City of Edinburgh",2050,1650,1920,750,1350,360,1130,360,160,1660,1730,2140,2350,2960,2810,2030,1730,-310]
["Clackmannanshire",260,270,140,190,120,0,30,-10,40,60,0,80,60,-10,50,60,100,50]
["Dumfries and Galloway",1490,1390,850,740,930,560,380,450,320,520,710,510,560,680,800,900,730,1240]
["Dundee City",-160,200,-150,-270,50,-10,0,-140,60,240,40,50,-20,250,250,200,120,-120]
["East Ayrshire",220,150,110,150,280,120,50,80,120,80,40,170,130,170,130,240,160,270]
["East Dunbartonshire",-110,-180,-130,-130,40,-40,-170,-50,-20,-70,-50,60,70,50,20,-10,50,-60]
["East Lothian",120,10,10,280,390,70,100,70,200,80,120,120,170,150,110,90,220,410]
["East Renfrewshire",-150,-70,-160,-190,-130,-30,-50,20,-120,-50,10,0,40,60,-30,0,30,-100]
["Falkirk",390,240,100,40,110,10,20,130,20,110,230,220,200,170,80,130,100,150]
["Fife",960,930,650,610,510,240,20,330,70,480,630,470,440,660,530,500,410,-280]
["Glasgow City",40,250,-400,330,850,60,-470,-460,-290,180,730,1180,1850,1830,1680,1410,1000,310]
["Highland",2820,2150,1460,1640,1370,730,710,640,380,760,740,810,890,930,1000,1030,860,1780]
["Inverclyde",-120,0,-40,-60,50,-40,-90,-20,-10,50,80,100,50,60,80,60,70,130]
["Midlothian",0,-70,-40,20,90,-40,-60,70,30,60,110,-30,70,110,-10,-40,90,160]
["Moray",870,700,430,460,400,310,40,-130,540,620,330,260,280,160,210,380,320,630]
["Na h-Eileanan Siar",320,250,190,100,130,120,150,50,80,110,20,40,30,150,120,100,60,160]
["North Ayrshire",100,80,110,120,340,150,80,80,10,130,240,180,210,290,220,170,210,280]
["North Lanarkshire",150,20,-10,10,220,10,-150,30,40,140,260,130,170,120,220,240,280,240]
["Orkney Islands",320,180,150,160,170,170,150,70,100,90,120,130,240,160,230,140,190,210]
["Perth and Kinross",1030,620,450,580,530,260,240,370,220,210,330,330,240,490,290,470,240,610]
["Renfrewshire",-140,-50,-220,-10,110,-70,-30,-40,-40,10,0,110,190,210,10,180,90,100]
["Scottish Borders",1060,570,550,690,850,250,250,290,190,490,390,390,330,470,420,430,320,630]
["Shetland Islands",180,190,10,130,130,120,170,10,30,30,60,30,100,10,70,70,70,150]
["South Ayrshire",360,290,200,220,250,150,330,290,160,270,170,190,260,280,260,290,270,470]
["South Lanarkshire",480,310,300,280,220,-60,-50,110,70,60,350,-30,190,100,210,410,330,380]
["Stirling",320,110,300,270,320,100,30,150,150,200,450,360,360,300,340,190,240,30]
["West Dunbartonshire",-70,-100,-30,10,20,-40,-90,10,30,40,70,20,80,90,0,70,-50,-50]
["West Lothian",-20,90,280,70,360,-160,-40,-10,-10,0,220,60,240,70,140,50,190,250]
[]
["NHS Board Areas","2003-04","2004-05","2005-06","2006-07","2007-08","2008-09","2009-10","2010-11","2011-12","2012-13","2013-14","2014-15","2015-16","2016-17","2017-18","2018-19","2019-20","2020-21"]
["Scotland",15500,12500,8900,8800,11500,4100,3300,2900,3000,7900,9600,8400,8800,10500,10000,10000,9000,8900]
["Ayrshire and Arran",680,520,420,490,880,420,460,460,290,470,450,530,600,740,610,690,630,1020]
["Borders",1060,570,550,690,850,250,250,290,190,490,390,390,330,470,420,430,320,630]
["Dumfries and Galloway",1490,1390,850,740,930,560,380,450,320,520,710,510,560,680,800,900,730,1240]
["Fife",960,930,650,610,510,240,30,330,70,480,630,470,440,660,530,500,410,-280]
["Forth Valley",980,620,540,500,550,110,80,270,210,370,680,660,620,460,470,370,450,240]
["Grampian",2340,2030,1640,1520,1270,810,260,-260,750,1540,1190,150,-1110,-930,-690,20,270,650]
["Greater Glasgow and Clyde",-610,-130,-910,-70,960,-210,-880,-560,-450,150,840,1470,2280,2290,1750,1710,1180,330]
["Highland",3650,2720,2010,2120,1770,1040,1060,1010,650,1150,1140,1110,1360,1540,1620,1590,1330,2680]
["Lanarkshire",670,310,230,290,420,10,-210,150,110,190,610,90,360,210,440,650,600,620]
["Lothian",2150,1670,2170,1110,2190,220,1130,500,380,1790,2190,2290,2830,3280,3050,2140,2220,500]
["Orkney",320,180,150,160,170,170,150,70,100,90,120,130,240,160,230,140,190,210]
["Shetland",180,190,10,130,130,120,170,10,30,30,60,30,100,10,70,70,70,150]
["Tayside",1320,1260,430,460,750,280,260,140,320,480,560,490,150,750,570,760,520,780]
["Western Isles",320,250,190,100,130,120,150,50,80,110,20,40,30,150,120,100,60,160]

{"sheet":"Rest of UK in-migration","index":19,"n_rows":55,"n_cols":19,"rows_kept":55,"cut":false,"hidden":false,"merged":[[63,0,63,10],[0,10,0,11],[0,0,0,1],[57,0,58,9],[59,0,60,10],[61,0,62,10]]}
["Rest of UK in-migration"]
["This worksheet contains two tables, presented next to each other vertically with one blank row between the tables. "]
["See notes [2], [3], [4], [6] which are explained in the Notes worksheet."]
["Return to front page"]
["Council Area","2003-04","2004-05","2005-06","2006-07","2007-08","2008-09","2009-10","2010-11","2011-12","2012-13","2013-14","2014-15","2015-16","2016-17","2017-18","2018-19","2019-20","2020-21"]
["Scotland",61900,57300,53300,51500,53300,45400,45000,43700,45100,47700,49200,47200,46300,47600,47700,47500,41800,56200]
["Aberdeen City",2220,2250,2490,2530,2590,2560,2600,2340,2530,2990,2960,2660,1970,2080,1780,2030,1910,2270]
["Aberdeenshire",3510,2990,2670,2480,2250,1790,1640,1610,1810,1910,2050,1540,1240,1200,1230,1330,1210,2000]
["Angus",1210,1110,930,820,830,640,620,520,750,740,760,730,620,610,620,640,600,840]
["Argyll and Bute",1980,1850,1720,1570,1460,1340,1330,1330,1310,1380,1380,1340,1370,1510,1640,1490,1260,1870]
["City of Edinburgh",9900,9530,9480,8320,8940,8060,8650,7870,8020,9080,9440,9500,9630,10060,10200,9840,9030,10980]
["Clackmannanshire",550,550,500,450,430,310,310,290,340,350,330,300,290,270,320,240,270,310]
["Dumfries and Galloway",3250,3140,2560,2450,2620,2090,1950,1990,1870,2050,2110,1910,1870,2130,2120,2240,1890,2800]
["Dundee City",1500,1550,1350,1230,1450,1340,1430,1370,1470,1530,1380,1380,1260,1380,1370,1270,1160,1340]
["East Ayrshire",960,860,820,790,880,720,660,690,700,660,670,660,600,660,610,690,570,780]
["East Dunbartonshire",500,490,470,400,460,460,390,430,460,450,460,480,480,470,500,460,390,550]
["East Lothian",770,660,670,830,1020,690,730,690,870,700,740,690,680,790,700,740,710,1090]
["East Renfrewshire",390,460,400,290,320,350,370,430,390,420,410,400,420,440,390,370,370,490]
["Falkirk",1070,990,820,750,750,610,610,710,680,670,790,730,700,730,650,640,530,700]
["Fife",3970,3870,3610,3550,3480,3120,2910,3020,2850,3220,3230,2980,2870,3040,3030,2950,2640,3310]
["Glasgow City",6300,6220,5700,6010,6760,6000,5600,5400,5660,5920,6440,6600,6730,6820,7190,7080,6200,7770]
["Highland",4760,4200,3610,3700,3530,2620,2640,2520,2400,2490,2470,2470,2540,2550,2630,2630,2200,3580]
["Inverclyde",500,460,420,360,430,300,300,290,360,350,370,350,310,300,350,300,270,380]
["Midlothian",420,410,410,410,450,410,400,380,400,440,510,400,410,430,410,400,420,620]
["Moray",1960,1720,1620,1390,1340,1100,1080,920,1470,1480,1300,1260,1180,1140,1120,1170,1010,1480]
["Na h-Eileanan Siar",540,460,390,350,330,290,300,270,270,330,230,220,230,340,270,250,190,340]
["North Ayrshire",1100,1010,1030,970,1030,830,810,850,780,810,880,750,810,830,760,750,660,850]
["North Lanarkshire",1640,1450,1330,1270,1350,1190,1010,1170,1150,1120,1250,1180,1170,1090,1170,1110,930,1180]
["Orkney Islands",470,370,310,320,330,310,310,260,280,280,320,270,390,330,380,320,310,420]
["Perth and Kinross",2220,1940,1630,1730,1600,1370,1380,1380,1330,1230,1380,1360,1150,1370,1210,1380,1030,1790]
["Renfrewshire",920,900,750,850,840,720,760,720,700,750,700,790,850,820,710,780,680,940]
["Scottish Borders",2440,1830,1830,1920,2120,1510,1510,1510,1500,1570,1600,1580,1580,1600,1690,1610,1310,1960]
["Shetland Islands",390,370,270,340,330,280,360,230,250,240,270,220,270,190,220,220,220,330]
["South Ayrshire",1180,1130,980,980,1000,900,960,870,840,880,790,810,840,820,760,850,690,1030]
["South Lanarkshire",2230,1880,1760,1740,1550,1350,1350,1400,1420,1350,1510,1260,1450,1380,1380,1500,1260,1670]
["Stirling",1370,1060,1170,1160,1180,990,870,960,1000,1010,1200,1110,1120,1050,1110,1030,920,1130]
["West Dunbartonshire",470,430,420,450,400,350,350,390,380,420,380,350,370,360,320,370,240,350]
["West Lothian",1190,1200,1240,1150,1300,840,830,870,900,880,970,860,910,810,840,780,760,1050]
[]
["NHS Board Areas","2003-04","2004-05","2005-06","2006-07","2007-08","2008-09","2009-10","2010-11","2011-12","2012-13","2013-14","2014-15","2015-16","2016-17","2017-18","2018-19","2019-20","2020-21"]
["Scotland",61900,57300,53300,51500,53300,45400,45000,43700,45100,47700,49200,47200,46300,47600,47700,47500,41800,56200]
["Ayrshire and Arran",3240,2990,2830,2740,2910,2450,2430,2400,2320,2350,2330,2220,2250,2300,2130,2290,1920,2660]
["Borders",2440,1830,1830,1920,2120,1510,1510,1510,1500,1570,1600,1580,1580,1600,1690,1610,1310,1960]
["Dumfries and Galloway",3250,3140,2560,2450,2620,2090,1950,1990,1870,2050,2110,1910,1870,2130,2120,2240,1890,2800]
["Fife",3970,3870,3610,3550,3470,3120,2910,3020,2850,3220,3230,2980,2870,3040,3030,2950,2640,3310]
["Forth Valley",2990,2600,2490,2350,2370,1910,1790,1960,2010,2030,2320,2150,2110,2040,2080,1910,1720,2140]
["Grampian",7680,6960,6790,6400,6170,5450,5320,4870,5800,6380,6300,5460,4400,4420,4130,4530,4130,5750]
["Greater Glasgow and Clyde",9400,9270,8470,8680,9490,8430,8070,7970,7940,8300,8750,8970,9150,9220,9450,9360,8140,10480]
["Highland",6740,6050,5330,5260,4990,3960,3970,3850,3710,3870,3850,3820,3910,4060,4270,4120,3460,5450]
["Lanarkshire",3550,3020,2770,2690,2630,2280,2060,2260,2580,2470,2760,2440,2620,2470,2550,2610,2190,2850]
["Lothian",12280,11800,11800,10710,11700,9990,10600,9820,10180,11100,11660,11450,11630,12080,12150,11760,10920,13740]
["Orkney",470,370,310,320,330,310,310,260,280,280,320,270,390,330,380,320,310,420]
["Shetland",390,370,270,340,330,280,360,230,250,240,270,220,270,190,220,220,220,330]
["Tayside",4930,4610,3910,3790,3880,3350,3430,3280,3550,3490,3520,3470,3040,3360,3200,3290,2790,3970]
["Western Isles",540,460,390,350,330,290,300,270,270,330,230,220,230,340,270,250,190,340]

{"sheet":"Rest of UK out-migration","index":20,"n_rows":55,"n_cols":19,"rows_kept":55,"cut":false,"hidden":false,"merged":[[0,10,0,11],[0,0,0,1]]}
["Rest of UK out-migration"]
["This worksheet contains two tables, presented next to each other vertically with one blank row between the tables. "]
["See notes [2], [3], [4], [6] which are explained in the Notes worksheet."]
["Return to front page"]
["Council Area","2003-04","2004-05","2005-06","2006-07","2007-08","2008-09","2009-10","2010-11","2011-12","2012-13","2013-14","2014-15","2015-16","2016-17","2017-18","2018-19","2019-20","2020-21"]
["Scotland",46400,44800,44400,42700,41800,41300,41700,40800,42100,39800,39700,38800,37500,37100,37700,37400,32800,47300]
["Aberdeen City",2600,2210,2350,2210,2310,2280,2280,2340,2430,2430,2370,2550,2750,2760,2430,2340,1910,2910]
["Aberdeenshire",1640,1700,1600,1730,1650,1570,1740,1740,1700,1540,1770,1760,1850,1610,1480,1380,1250,1340]
["Angus",760,670,800,670,670,620,600,610,700,700,570,630,690,600,590,550,440,560]
["Argyll and Bute",1150,1280,1170,1100,1060,1030,980,960,1040,1000,980,1050,890,910,1030,930,790,970]
["City of Edinburgh",7850,7880,7560,7560,7590,7700,7520,7510,7860,7420,7710,7360,7280,7100,7390,7810,7300,11300]
["Clackmannanshire",290,280,360,260,320,310,280,300,300,290,330,220,230,270,260,180,160,260]
["Dumfries and Galloway",1760,1750,1710,1720,1690,1530,1570,1540,1550,1520,1400,1410,1310,1440,1330,1340,1160,1560]
["Dundee City",1660,1350,1500,1500,1400,1350,1430,1510,1420,1290,1340,1330,1280,1130,1120,1080,1040,1460]
["East Ayrshire",750,710,710,640,600,590,610,610,580,590,630,490,480,490,480,450,410,520]
["East Dunbartonshire",610,670,600,530,420,490,560,490,480,520,500,420,400,420,480,470,340,610]
["East Lothian",650,650,660,560,630,620,630,630,670,630,620,570,510,630,590,650,490,680]
["East Renfrewshire",540,530,560,490,450,380,420,410,510,470,400,400,370,390,420,370,340,590]
["Falkirk",680,750,720,710,640,600,590,570,660,560,560,520,500,560,570,520,430,550]
["Fife",3010,2940,2960,2930,2970,2880,2880,2700,2790,2740,2600,2510,2430,2390,2500,2460,2240,3580]
["Glasgow City",6270,5970,6100,5690,5910,5940,6070,5860,5950,5750,5700,5420,4890,5000,5510,5670,5200,7460]
["Highland",1940,2050,2150,2050,2160,1890,1930,1880,2020,1720,1730,1660,1650,1620,1630,1590,1340,1800]
["Inverclyde",620,460,460,430,370,340,390,310,370,300,290,250,260,250,270,240,200,250]
["Midlothian",430,490,460,390,360,450,460,310,370,380,400,430,340,330,410,440,330,460]
["Moray",1090,1030,1200,930,930,790,1040,1050,930,870,970,1000,910,970,910,790,690,850]
["Na h-Eileanan Siar",220,220,200,250,200,180,160,220,190,220,210,180,200,190,150,140,130,170]
["North Ayrshire",1000,930,920,850,690,690,730,760,770,690,640,580,590,530,550,590,460,570]
["North Lanarkshire",1490,1430,1340,1260,1130,1170,1160,1140,1120,980,990,1050,1000,970,940,870,660,940]
["Orkney Islands",150,200,160,170,160,140,170,190,190,200,190,140,150,170,140,180,130,200]
["Perth and Kinross",1190,1330,1180,1160,1070,1110,1140,1020,1110,1020,1050,1020,910,880,920,910,790,1180]
["Renfrewshire",1060,950,960,850,730,790,790,760,740,740,700,680,660,610,700,600,580,840]
["Scottish Borders",1380,1260,1280,1230,1270,1260,1270,1220,1310,1080,1210,1190,1250,1130,1270,1180,990,1340]
["Shetland Islands",210,180,250,210,200,160,190,210,220,210,200,190,170,190,150,150,150,190]
["South Ayrshire",820,830,780,770,740,750,630,580,680,610,620,630,580,540,490,570,420,560]
["South Lanarkshire",1760,1580,1470,1470,1330,1410,1400,1290,1350,1290,1160,1290,1260,1290,1170,1100,930,1290]
["Stirling",1050,950,860,890,860,890,840,810,860,810,750,750,760,750,770,850,680,1100]
["West Dunbartonshire",540,530,450,440,390,390,440,390,350,370,320,330,290,270,320,300,290,400]
["West Lothian",1210,1110,960,1090,940,1000,870,880,910,880,750,790,670,740,710,730,580,800]
[]
["NHS Board Areas","2003-04","2004-05","2005-06","2006-07","2007-08","2008-09","2009-10","2010-11","2011-12","2012-13","2013-14","2014-15","2015-16","2016-17","2017-18","2018-19","2019-20","2020-21"]
["Scotland",46400,44800,44400,42700,41800,41300,41700,40800,42100,39800,39700,38800,37500,37100,37700,37400,32800,47300]
["Ayrshire and Arran",2560,2470,2410,2250,2030,2030,1970,1950,2030,1880,1880,1690,1650,1560,1520,1610,1290,1650]
["Borders",1380,1260,1280,1230,1270,1260,1270,1220,1310,1080,1210,1190,1250,1130,1270,1180,990,1340]
["Dumfries and Galloway",1760,1750,1710,1720,1690,1530,1570,1540,1550,1520,1400,1410,1310,1440,1330,1340,1160,1560]
["Fife",3010,2940,2960,2930,2970,2880,2880,2700,2790,2740,2600,2510,2430,2390,2500,2460,2240,3580]
["Forth Valley",2010,1970,1940,1860,1820,1800,1710,1690,1810,1660,1640,1490,1490,1580,1610,1540,1270,1910]
["Grampian",5330,4930,5150,4880,4900,4640,5060,5130,5060,4840,5120,5310,5500,5350,4810,4510,3850,5100]
["Greater Glasgow and Clyde",10010,9400,9380,8750,8520,8640,8950,8520,8390,8150,7910,7500,6870,6940,7690,7660,6950,10150]
["Highland",3090,3330,3320,3150,3220,2920,2910,2840,3060,2720,2710,2710,2540,2530,2660,2530,2140,2770]
["Lanarkshire",2880,2700,2550,2400,2200,2270,2270,2110,2470,2280,2150,2340,2260,2250,2120,1960,1590,2230]
["Lothian",10130,10130,9630,9600,9520,9770,9470,9320,9810,9310,9470,9160,8800,8800,9100,9620,8700,13240]
["Orkney",150,200,160,170,160,140,170,190,190,200,190,140,150,170,140,180,130,200]
["Shetland",210,180,250,210,200,160,190,210,220,210,200,190,170,190,150,150,150,190]
["Tayside",3610,3350,3480,3320,3130,3070,3170,3140,3220,3010,2960,2980,2890,2610,2630,2530,2270,3190]
["Western Isles",220,220,200,250,200,180,160,220,190,220,210,180,200,190,150,140,130,170]

{"sheet":"International net migration","index":21,"n_rows":55,"n_cols":19,"rows_kept":55,"cut":false,"hidden":false,"merged":[[0,10,0,11],[0,0,0,1]]}
["International net migration"]
["This worksheet contains two tables, presented next to each other vertically with one blank row between the tables. "]
["See notes [1], [4], [5], [6] which are explained in the Notes worksheet."]
["Return to front page"]
["Council Area","2003-04","2004-05","2005-06","2006-07","2007-08","2008-09","2009-10","2010-11","2011-12","2012-13","2013-14","2014-15","2015-16","2016-17","2017-18","2018-19","2019-20","2020-21"]
["Scotland",3100,12800,9900,24200,14900,20300,22800,27300,9700,2100,8000,19600,22900,13400,10900,20200,7900,18900]
["Aberdeen City",870,2150,2140,3750,3030,3670,3740,4130,2100,1300,1970,3190,2470,1490,1180,2020,1310,1970]
["Aberdeenshire",130,620,660,840,410,610,720,720,210,120,120,260,320,210,-40,210,-90,270]
["Angus",-110,130,140,210,110,150,220,240,10,-90,30,-10,70,50,-50,70,-90,170]
["Argyll and Bute",-100,-100,-110,140,-230,-50,90,60,-170,-210,-230,-90,40,-40,-130,-80,-270,-40]
["City of Edinburgh",3040,5220,4110,6120,3990,6270,7300,8080,4060,1950,3270,6050,6790,4510,4310,6710,4250,6190]
["Clackmannanshire",-50,10,10,160,-10,30,0,10,-50,-30,-30,0,60,40,-20,50,-10,40]
["Dumfries and Galloway",-260,-80,-120,30,-180,-170,-160,20,-280,-340,-270,-70,10,-120,-180,-110,-330,-70]
["Dundee City",110,720,690,1060,950,1030,1260,1580,570,320,260,670,800,400,570,930,390,750]
["East Ayrshire",-130,-90,-190,-70,-90,-140,-100,-70,-130,-160,-170,-90,-40,-90,-100,-80,-190,-20]
["East Dunbartonshire",-190,-40,-190,10,-120,-30,-70,-70,-90,-120,-110,-110,50,-10,-140,-20,-20,10]
["East Lothian",-50,0,40,190,250,220,150,170,120,-50,30,160,290,100,170,220,0,60]
["East Renfrewshire",-140,-80,-130,-10,-100,-20,40,-30,-160,-110,-50,-80,50,-10,-80,20,-50,100]
["Falkirk",70,250,70,320,110,120,160,280,-30,-130,20,130,160,100,20,40,-110,150]
["Fife",90,790,270,1010,380,1060,1250,1300,360,-50,110,830,1040,670,270,780,260,730]
["Glasgow City",1100,1490,1070,4740,4250,5450,5380,7060,3540,2070,4000,7080,7940,5390,5310,7990,4880,6550]
["Highland",10,620,460,970,310,190,360,420,-180,-240,-90,330,350,90,30,170,-330,300]
["Inverclyde",-180,120,0,20,-50,-10,30,-30,-100,-60,-60,10,40,0,-60,60,-70,-20]
["Midlothian",-20,-20,0,90,10,20,40,70,20,-50,-40,-20,90,50,40,70,-70,100]
["Moray",-80,70,20,240,-10,40,50,-100,-100,-150,-40,-120,80,-100,-120,50,-100,-10]
["Na h-Eileanan Siar",-40,-10,-10,30,-30,-10,-10,0,-40,-60,-50,0,20,10,-20,-10,-60,-10]
["North Ayrshire",-140,-190,-280,-50,-150,-90,-90,30,-230,-240,-170,-40,-40,-50,-110,-70,-150,-40]
["North Lanarkshire",-330,-20,-30,570,100,20,-20,120,-200,-340,-170,170,270,50,-150,0,-350,280]
["Orkney Islands",-20,-30,-30,0,-30,-20,0,20,-30,-30,-20,0,0,10,-10,0,-50,0]
["Perth and Kinross",110,1070,970,1390,1380,1170,1170,1120,450,-10,470,460,420,150,150,310,-40,360]
["Renfrewshire",190,160,80,500,130,100,340,460,-80,-210,-10,280,510,290,180,320,-50,320]
["Scottish Borders",-60,110,10,260,90,20,-100,70,-70,-170,-170,-50,0,20,-130,-50,-270,30]
["Shetland Islands",-20,0,-40,10,0,80,20,40,0,-30,-40,30,40,-20,-10,20,-50,-20]
["South Ayrshire",-200,-50,-90,70,-80,-110,-30,80,-100,-190,-170,10,40,0,-50,-50,-190,-30]
["South Lanarkshire",-370,-250,-200,70,-180,-50,-60,0,-320,-420,-370,-160,130,-20,-220,10,-360,40]
["Stirling",70,140,180,560,260,360,660,990,420,-50,-40,640,440,0,160,300,50,200]
["West Dunbartonshire",-100,-80,-110,70,-70,-30,50,10,-60,-100,-30,-30,90,30,-60,0,-30,0]
["West Lothian",-100,180,520,890,470,430,410,550,260,-20,60,200,370,210,220,320,70,500]
[]
["NHS Board Area","2003-04","2004-05","2005-06","2006-07","2007-08","2008-09","2009-10","2010-11","2011-12","2012-13","2013-14","2014-15","2015-16","2016-17","2017-18","2018-19","2019-20","2020-21"]
["Scotland",3100,12800,9900,24200,14900,20300,22800,27300,9700,2100,8000,19600,22900,13400,10900,20200,7900,18900]
["Ayrshire and Arran",-470,-320,-560,-50,-320,-330,-210,50,-460,-590,-510,-120,-40,-130,-260,-200,-530,-90]
["Borders",-60,110,10,260,90,20,-100,70,-70,-170,-170,-50,0,20,-130,-50,-270,30]
["Dumfries and Galloway",-260,-80,-120,30,-180,-170,-160,20,-280,-340,-270,-70,10,-120,-180,-110,-330,-70]
["Fife",90,790,270,1010,380,1060,1250,1300,360,-50,110,830,1040,670,270,780,260,730]
["Forth Valley",90,400,260,1040,360,510,820,1270,340,-220,-60,760,660,140,160,390,-70,400]
["Grampian",920,2840,2820,4830,3430,4320,4510,4760,2210,1270,2050,3320,2870,1600,1020,2280,1110,2230]
["Greater Glasgow and Clyde",620,1510,670,5340,4000,5440,5770,7380,3050,1480,3730,7140,8670,5690,5150,8360,4660,6960]
["Highland",-100,520,350,1110,90,130,440,480,-350,-450,-320,240,390,50,-110,90,-600,260]
["Lanarkshire",-640,-210,-180,630,-60,0,-80,130,-530,-770,-540,0,400,30,-370,20,-700,320]
["Lothian",2880,5380,4670,7300,4710,6940,7900,8860,4460,1840,3330,6380,7540,4860,4730,7330,4250,6850]
["Orkney",-20,-30,-30,0,-30,-20,0,20,-30,-30,-20,0,0,10,-10,0,-50,0]
["Shetland",-20,0,-40,10,0,80,20,40,0,-30,-40,30,40,-20,-10,20,-50,-20]
["Tayside",110,1910,1790,2660,2440,2350,2640,2930,1030,220,750,1120,1300,590,670,1310,260,1280]
["Western Isles",-40,-10,-10,30,-30,-10,-10,0,-40,-60,-50,0,20,10,-20,-10,-60,-10]

{"sheet":"International in-migration","index":22,"n_rows":55,"n_cols":19,"rows_kept":55,"cut":false,"hidden":false,"merged":[[63,0,64,10],[62,0,62,10],[57,0,57,9],[0,10,0,11],[0,0,0,1],[60,0,61,10],[58,0,59,10]]}
["International in-migration"]
["This worksheet contains two tables, presented next to each other vertically with one blank row between the tables. "]
["See notes [1], [4], [5], [6] which are explained in the Notes worksheet."]
["Return to front page"]
["Council Area","2003-04","2004-05","2005-06","2006-07","2007-08","2008-09","2009-10","2010-11","2011-12","2012-13","2013-14","2014-15","2015-16","2016-17","2017-18","2018-19","2019-20","2020-21"]
["Scotland",28500,41800,41300,45100,45200,45100,47400,44200,35900,28200,33200,37800,40400,32900,32900,39900,39200,41000]
["Aberdeen City",2890,4320,4460,5350,5410,5860,5850,5280,4410,3640,4200,4590,4160,3180,2980,3590,3780,3690]
["Aberdeenshire",780,1390,1560,1510,1510,1510,1560,1440,1060,980,1060,1080,980,760,600,760,650,770]
["Angus",140,370,450,420,520,460,550,510,370,280,340,290,350,300,220,310,240,400]
["Argyll and Bute",300,470,460,540,410,430,480,360,300,240,240,300,350,300,300,290,300,320]
["City of Edinburgh",7810,11010,10460,10190,9990,10650,11840,11220,9310,7250,8460,9650,10470,8540,9000,10990,11450,11410]
["Clackmannanshire",90,150,170,250,190,180,150,100,120,70,130,100,160,170,110,140,120,130]
["Dumfries and Galloway",240,500,520,490,520,390,380,360,240,200,210,280,340,240,260,270,280,340]
["Dundee City",810,1730,1630,1850,2070,1920,2200,2250,1580,1370,1280,1390,1440,1180,1320,1600,1550,1570]
["East Ayrshire",130,200,120,160,220,120,150,120,110,80,90,90,110,110,110,110,100,190]
["East Dunbartonshire",190,300,210,220,140,180,150,160,110,80,100,110,190,140,100,130,160,210]
["East Lothian",210,260,360,380,550,450,430,430,410,250,340,410,460,350,420,480,400,340]
["East Renfrewshire",140,180,160,140,140,160,190,130,80,90,130,130,180,130,100,150,140,300]
["Falkirk",390,670,570,660,560,510,460,500,310,240,330,380,380,380,330,300,290,370]
["Fife",1640,2490,2170,2290,2210,2400,2680,2300,1960,1510,1630,1920,2050,1680,1570,1940,2080,2070]
["Glasgow City",7200,8420,7990,9120,9770,10020,10170,10260,8550,7090,8900,10410,11460,9710,9970,12320,11880,11430]
["Highland",740,1500,1530,1770,1560,1290,1310,1020,760,620,720,920,920,730,750,820,690,980]
["Inverclyde",210,430,270,220,190,180,200,100,80,70,70,100,130,100,80,150,70,90]
["Midlothian",130,170,200,210,200,180,210,180,170,90,150,170,210,160,190,230,150,250]
["Moray",240,510,530,520,500,390,450,410,320,230,280,330,320,200,220,300,280,280]
["Na h-Eileanan Siar",50,80,90,100,80,80,70,60,40,30,30,60,70,60,50,50,40,50]
["North Ayrshire",230,260,220,260,260,230,240,220,150,110,140,160,180,180,160,180,210,200]
["North Lanarkshire",420,730,840,1180,1080,900,780,630,530,410,490,620,740,580,480,560,500,810]
["Orkney Islands",40,50,50,50,50,50,60,70,40,50,50,50,50,50,50,60,40,60]
["Perth and Kinross",650,1640,1730,2040,2340,2160,2130,1630,1380,840,1240,950,940,700,680,770,680,860]
["Renfrewshire",650,700,810,910,690,660,850,730,430,330,430,550,800,630,640,730,650,800]
["Scottish Borders",360,550,580,640,690,520,390,370,380,250,280,260,320,260,250,290,250,390]
["Shetland Islands",60,70,70,80,90,150,100,100,90,60,50,90,90,50,60,80,50,40]
["South Ayrshire",160,350,330,330,330,280,330,310,240,170,170,250,260,250,210,210,220,230]
["South Lanarkshire",430,770,740,720,710,720,690,560,450,310,370,450,640,520,450,580,500,710]
["Stirling",690,820,890,1010,930,960,1250,1360,1050,690,610,1030,820,600,630,770,780,760]
["West Dunbartonshire",160,200,190,230,160,170,200,160,110,100,120,120,190,140,100,110,130,140]
["West Lothian",330,560,970,1250,1140,960,930,870,740,500,560,560,660,520,560,640,550,810]
[]
["NHS Board Area","2003-04","2004-05","2005-06","2006-07","2007-08","2008-09","2009-10","2010-11","2011-12","2012-13","2013-14","2014-15","2015-16","2016-17","2017-18","2018-19","2019-20","2020-21"]
["Scotland",28500,41800,41300,45100,45200,45100,47400,44200,35900,28200,33200,37800,40400,32900,32900,39900,39200,41000]
["Ayrshire and Arran",520,800,670,760,810,620,710,640,500,360,400,500,550,540,480,500,530,610]
["Borders",360,550,580,640,690,520,390,370,380,250,280,260,320,260,250,290,250,390]
["Dumfries and Galloway",240,500,520,490,520,390,380,360,240,200,210,280,340,240,260,270,280,340]
["Fife",1640,2490,2170,2290,2210,2400,2680,2300,1960,1510,1630,1920,2050,1680,1570,1940,2080,2070]
["Forth Valley",1170,1640,1630,1920,1680,1640,1860,1970,1480,990,1070,1510,1360,1160,1070,1210,1190,1270]
["Grampian",3910,6220,6550,7380,7420,7770,7860,7130,5790,4840,5550,6000,5460,4140,3800,4660,4710,4740]
["Greater Glasgow and Clyde",8670,10410,9750,10980,11200,11480,11880,11670,9350,7760,9740,11410,12960,10840,10990,13580,13030,12970]
["Highland",1040,1960,1990,2310,1970,1720,1780,1380,1070,850,960,1220,1270,1030,1050,1110,990,1300]
["Lanarkshire",720,1300,1450,1760,1660,1500,1340,1060,980,720,860,1080,1380,1110,930,1150,1000,1520]
["Lothian",8480,11990,11980,12030,11880,12240,13400,12700,10630,8090,9510,10790,11790,9570,10170,12330,12550,12820]
["Orkney",40,50,50,50,50,50,60,70,40,50,50,50,50,50,50,60,40,60]
["Shetland",60,70,70,80,90,150,100,100,90,60,50,90,90,50,60,80,50,40]
["Tayside",1600,3740,3810,4310,4930,4540,4880,4390,3340,2490,2860,2630,2720,2190,2210,2680,2470,2830]
["Western Isles",50,80,90,100,80,80,70,60,40,30,30,60,70,60,50,50,40,50]

{"sheet":"International out-migration","index":23,"n_rows":55,"n_cols":19,"rows_kept":55,"cut":false,"hidden":false,"merged":[]}
["International out-migration"]
["This worksheet contains two tables, presented next to each other vertically with one blank row between the tables. "]
["See notes [1], [4], [5], [6] which are explained in the Notes worksheet."]
["Return to front page"]
["Council Area","2003-04","2004-05","2005-06","2006-07","2007-08","2008-09","2009-10","2010-11","2011-12","2012-13","2013-14","2014-15","2015-16","2016-17","2017-18","2018-19","2019-20","2020-21"]
["Scotland",25400,29000,31400,20900,30300,24800,24600,16900,26200,26100,25200,18200,17500,19500,22000,19700,31300,22100]
["Aberdeen City",2020,2170,2320,1600,2380,2200,2110,1150,2310,2330,2240,1400,1680,1690,1800,1570,2480,1720]
["Aberdeenshire",650,760,900,680,1110,910,840,720,850,860,940,820,660,550,640,560,740,500]
["Angus",240,250,310,220,410,310,340,280,360,370,310,300,270,250,270,250,330,230]
["Argyll and Bute",400,570,570,400,640,480,390,310,480,450,470,380,310,330,440,380,570,350]
["City of Edinburgh",4770,5790,6350,4060,6010,4380,4540,3140,5250,5300,5190,3600,3680,4030,4690,4280,7200,5220]
["Clackmannanshire",130,140,160,90,200,150,150,100,170,110,150,100,90,130,140,90,130,90]
["Dumfries and Galloway",500,590,640,460,700,560,540,340,520,540,480,350,330,360,440,380,610,410]
["Dundee City",710,1010,940,780,1120,890,940,670,1020,1050,1020,720,640,790,750,670,1160,820]
["East Ayrshire",260,280,310,230,320,260,250,180,250,240,270,180,150,190,210,190,290,200]
["East Dunbartonshire",380,340,400,210,260,210,220,230,200,200,210,220,140,160,240,150,190,200]
["East Lothian",260,250,320,190,300,230,280,260,290,300,310,260,170,240,250,260,400,280]
["East Renfrewshire",280,250,290,150,240,170,160,160,230,200,180,210,130,140,180,130,180,200]
["Falkirk",330,420,500,350,460,380,300,220,340,360,310,250,230,280,310,260,400,220]
["Fife",1550,1710,1900,1280,1830,1340,1430,1000,1600,1560,1520,1090,1010,1010,1300,1170,1830,1350]
["Glasgow City",6100,6920,6930,4380,5520,4570,4780,3200,5010,5020,4900,3330,3530,4310,4670,4330,7000,4880]
["Highland",730,870,1070,800,1250,1110,950,600,940,860,810,590,570,640,720,640,1010,680]
["Inverclyde",380,310,270,200,240,180,180,120,180,130,130,90,90,100,140,90,140,110]
["Midlothian",150,190,200,120,190,160,170,110,150,130,190,190,120,110,150,160,220,150]
["Moray",320,440,510,280,510,350,400,500,410,370,320,450,240,300,340,260,380,290]
["Na h-Eileanan Siar",80,90,100,70,110,90,70,60,80,90,80,50,50,50,70,60,90,60]
["North Ayrshire",370,450,500,310,410,310,330,190,380,350,300,200,220,230,270,250,360,240]
["North Lanarkshire",750,750,880,610,980,880,800,520,730,750,660,460,470,530,630,560,850,540]
["Orkney Islands",60,80,80,50,70,60,60,40,70,80,70,50,50,40,60,60,90,60]
["Perth and Kinross",550,570,760,650,960,990,960,510,930,850,770,490,520,550,530,460,710,500]
["Renfrewshire",470,540,730,410,560,560,500,270,510,540,440,270,290,350,450,410,700,480]
["Scottish Borders",430,450,570,380,600,510,500,310,450,420,460,310,310,240,380,330,520,350]
["Shetland Islands",80,80,110,60,90,70,80,70,90,90,90,60,50,70,70,60,100,70]
["South Ayrshire",350,390,410,270,410,380,350,230,340,360,330,240,220,250,260,260,410,260]
["South Lanarkshire",800,1020,940,650,890,770,740,560,770,730,740,620,510,540,660,570,860,670]
["Stirling",620,670,710,450,670,600,590,380,640,740,660,400,380,610,470,470,730,560]
["West Dunbartonshire",260,280,290,160,230,200,150,150,170,200,150,150,110,110,160,110,170,140]
["West Lothian",420,380,450,360,680,530,520,330,480,520,500,370,280,320,340,310,480,320]
[]
["NHS Board Areas","2003-04","2004-05","2005-06","2006-07","2007-08","2008-09","2009-10","2010-11","2011-12","2012-13","2013-14","2014-15","2015-16","2016-17","2017-18","2018-19","2019-20","2020-21"]
["Scotland",25400,29000,31400,20900,30300,24800,24600,16900,26200,26100,25200,18200,17500,19500,22000,19700,31300,22100]
["Ayrshire and Arran",990,1120,1220,810,1130,950,930,600,960,950,900,620,590,670,740,700,1060,700]
["Borders",430,450,570,380,600,510,500,310,450,420,460,310,310,240,380,330,520,350]
["Dumfries and Galloway",500,590,640,460,700,560,540,340,520,540,480,350,330,360,440,380,610,410]
["Fife",1550,1710,1900,1280,1830,1340,1430,1000,1600,1560,1520,1090,1010,1010,1300,1170,1830,1350]
["Forth Valley",1080,1240,1370,880,1320,1130,1030,700,1150,1210,1120,750,700,1020,910,820,1260,870]
["Grampian",2990,3370,3730,2550,4000,3450,3350,2370,3580,3570,3500,2680,2590,2540,2780,2380,3590,2510]
["Greater Glasgow and Clyde",8060,8900,9080,5640,7200,6050,6110,4290,6300,6280,6010,4270,4280,5150,5830,5220,8370,6010]
["Highland",1140,1440,1640,1210,1890,1590,1340,900,1410,1310,1280,970,880,970,1150,1020,1590,1030]
["Lanarkshire",1360,1520,1640,1130,1720,1500,1420,930,1500,1480,1400,1070,980,1080,1300,1130,1710,1200]
["Lothian",5600,6610,7310,4730,7170,5300,5500,3840,6170,6250,6190,4410,4250,4700,5440,5010,8300,5970]
["Orkney",60,80,80,50,70,60,60,40,70,80,70,50,50,40,60,60,90,60]
["Shetland",80,80,110,60,90,70,80,70,90,90,90,60,50,70,70,60,100,70]
["Tayside",1500,1830,2020,1650,2490,2190,2240,1460,2310,2270,2110,1500,1430,1590,1540,1370,2210,1550]
["Western Isles",80,90,100,70,110,90,70,60,80,90,80,50,50,50,70,60,90,60]

{"sheet":"2011 Census country of birth","index":24,"n_rows":55,"n_cols":10,"rows_kept":55,"cut":false,"hidden":false,"merged":[]}
["2011 Census - country of birth"]
["This worksheet contains two tables, presented next to each other vertically with one blank row between the tables. "]
["See notes [8], [9], [10], [11] which are explained in the Notes worksheet."]
["Return to front page"]
["Council Area","All people","England","Northern Ireland","Scotland","Wales","Republic of Ireland","Other EU: Member countries in March 2001\n[Note 9]","Other EU: Accession countries April 2001 to March 2011","Other countries"]
["Scotland",5295403,459486,36655,4411884,17381,22952,59031,78254,209760]
["Aberdeen City",222793,18008,1374,167180,764,1378,4840,9523,19726]
["Aberdeenshire",252973,31561,1366,203656,1285,572,2484,5040,7009]
["Angus",115978,10087,649,99596,397,250,863,1645,2491]
["Argyll and Bute",88166,15613,644,67060,529,327,879,896,2218]
["City of Edinburgh",476626,57725,6363,334626,2118,4743,13461,14803,42787]
["Clackmannanshire",51442,4356,318,44431,192,154,407,587,997]
["Dumfries and Galloway",151324,27186,1547,116687,642,456,1084,1183,2539]
["Dundee City",147268,8882,1539,123242,340,572,2203,2785,7705]
["East Ayrshire",122767,6602,742,112379,260,251,605,331,1597]
["East Dunbartonshire",105026,5945,593,93728,236,428,642,218,3236]
["East Lothian",99717,9877,645,83463,414,490,1033,1133,2662]
["East Renfrewshire",90574,4618,481,80890,211,406,549,261,3158]
["Falkirk",155990,8317,718,140890,403,394,893,1450,2925]
["Fife",365198,35531,2233,305206,1499,1032,4264,3919,11514]
["Glasgow City",593245,28263,5040,486243,1015,4339,7219,10475,50651]
["Highland",232132,37058,1318,179271,1267,681,2544,4361,5632]
["Inverclyde",81485,3189,338,75679,149,212,484,167,1267]
["Midlothian",83187,5560,456,73594,213,277,755,571,1761]
["Moray",93295,16580,632,70332,853,217,1497,1205,1979]
["Na h-Eileanan Siar",27684,3099,75,23556,141,50,186,118,459]
["North Ayrshire",138146,8562,866,124918,337,361,852,348,1902]
["North Lanarkshire",337727,10286,1131,315754,408,746,1200,3122,5080]
["Orkney Islands",21349,3757,105,16654,111,34,197,109,382]
["Perth and Kinross",146652,18519,1006,116268,624,576,1709,3305,4645]
["Renfrewshire",174908,6824,886,159373,310,685,1139,1418,4273]
["Scottish Borders",113870,21161,777,85392,560,410,1288,1580,2702]
["Shetland Islands",23167,3057,72,18691,151,158,181,357,500]
["South Ayrshire",112799,8888,1131,98603,334,383,898,541,2021]
["South Lanarkshire",313830,14274,1323,286940,609,991,1682,1584,6427]
["Stirling",90247,10588,872,71994,389,360,1216,1002,3826]
["West Dunbartonshire",90720,3590,426,83699,156,509,382,444,1514]
["West Lothian",175118,11923,989,151889,464,510,1395,3773,4175]
[]
["NHS Board Areas","All people","England","Northern Ireland","Scotland","Wales","Republic of Ireland","Other EU: Member countries in March 2001\n[note 9]","Other EU: Accession countries April 2001 to March 2011","Other countries"]
["Scotland",5295403,459486,36655,4411884,17381,22952,59031,78254,209760]
["Ayrshire and Arran",373712,24052,2739,335900,931,995,2355,1220,5520]
["Borders",113870,21161,777,85392,560,410,1288,1580,2702]
["Dumfries and Galloway",151324,27186,1547,116687,642,456,1084,1183,2539]
["Fife",365198,35531,2233,305206,1499,1032,4264,3919,11514]
["Forth Valley",297636,23278,1910,257245,986,909,2519,3041,7748]
["Grampian",569061,66149,3372,441168,2902,2167,8821,15768,28714]
["Greater Glasgow and Clyde",1213408,55024,8072,1051125,2181,6938,10784,13317,65967]
["Highland",320298,52671,1962,246331,1796,1008,3423,5257,7850]
["Lanarkshire",574637,21997,2148,531661,914,1379,2520,4374,9644]
["Lothian",834350,85080,8453,643292,3208,6020,16638,20278,51381]
["Orkney",21349,3757,105,16654,111,34,197,109,382]
["Shetland",23167,3057,72,18691,151,158,181,357,500]
["Tayside",409709,37444,3190,338976,1359,1396,4771,7733,14840]
["Western Isles",27684,3099,75,23556,141,50,186,118,459]

{"sheet":"Pop born outside UK","index":25,"n_rows":38,"n_cols":19,"rows_kept":38,"cut":false,"hidden":false,"merged":[]}
["Estimate of resident population born outside the UK, calendar year to 2004 to 2021"]
["This worksheet contains one table. "]
["See notes [12], [13], [14], [15], [16] which are explained in the Notes worksheet. Some shorthand is used in this table, [x] = not available, [c] = confidential, [low] = zero due to rounding."]
["Return to front page"]
["Council Area","2004","2005","2006","2007","2008","2009","2010","2011","2012","2013","2014","2015","2016","2017","2018","2019","2020","2021"]
["Scotland",203000,221000,227000,254000,288000,319000,323000,339000,374000,353000,381000,393000,457000,477000,469000,502000,516000,"[x]"]
["Aberdeen City",12000,12000,14000,20000,25000,32000,30000,32000,32000,42000,42000,39000,48000,55000,44000,50000,56000,"[x]"]
["Aberdeenshire",7000,6000,8000,10000,14000,15000,14000,17000,15000,11000,13000,13000,23000,21000,17000,22000,24000,"[x]"]
["Angus",3000,3000,3000,4000,5000,5000,4000,4000,4000,6000,5000,6000,6000,7000,8000,7000,5000,"[x]"]
["Argyll and Bute",2000,3000,3000,3000,4000,3000,4000,4000,4000,4000,4000,3000,5000,4000,5000,6000,5000,"[x]"]
["City of Edinburgh",39000,46000,48000,46000,57000,62000,62000,66000,69000,67000,65000,77000,90000,102000,108000,103000,116000,"[x]"]
["Clackmannanshire",1000,1000,1000,1000,1000,2000,2000,2000,2000,2000,3000,3000,4000,3000,4000,3000,3000,"[x]"]
["Dumfries and Galloway",4000,4000,3000,4000,6000,5000,6000,5000,6000,4000,5000,5000,6000,7000,7000,6000,8000,"[x]"]
["Dundee City",6000,7000,9000,8000,9000,11000,12000,14000,14000,15000,18000,17000,12000,15000,12000,16000,18000,"[x]"]
["East Ayrshire",3000,2000,3000,2000,3000,3000,2000,2000,2000,2000,3000,2000,4000,4000,5000,5000,5000,"[x]"]
["East Dunbartonshire",3000,4000,4000,4000,5000,4000,4000,4000,5000,5000,6000,5000,5000,6000,6000,6000,6000,"[x]"]
["East Lothian",3000,3000,4000,4000,4000,4000,5000,6000,6000,6000,5000,5000,5000,6000,6000,7000,9000,"[x]"]
["East Renfrewshire",3000,3000,4000,4000,3000,4000,5000,4000,4000,3000,4000,6000,7000,7000,7000,7000,6000,"[x]"]
["Falkirk",4000,3000,2000,4000,3000,5000,6000,7000,7000,7000,7000,8000,9000,8000,8000,9000,8000,"[x]"]
["Fife",13000,16000,12000,10000,10000,14000,21000,16000,20000,20000,18000,20000,30000,19000,23000,26000,30000,"[x]"]
["Glasgow City",42000,46000,44000,55000,60000,70000,63000,64000,86000,66000,80000,83000,91000,91000,96000,103000,90000,"[x]"]
["Highland",6000,7000,7000,8000,9000,8000,9000,11000,12000,11000,15000,10000,13000,14000,14000,14000,17000,"[x]"]
["Inverclyde",3000,2000,2000,2000,2000,2000,2000,2000,3000,2000,2000,2000,2000,1000,2000,2000,3000,"[x]"]
["Midlothian",1000,2000,2000,2000,3000,4000,3000,3000,3000,3000,4000,4000,4000,6000,7000,8000,6000,"[x]"]
["Moray",3000,4000,4000,4000,4000,5000,5000,6000,5000,5000,4000,4000,5000,4000,5000,5000,5000,"[x]"]
["Na h-Eileanan Siar","[low]","[low]",1000,"[low]","[low]",1000,"[c]","[c]",1000,1000,1000,"[low]",1000,1000,1000,"[low]",1000,"[x]"]
["North Ayrshire",2000,3000,3000,3000,2000,2000,2000,4000,3000,4000,3000,2000,4000,4000,3000,3000,3000,"[x]"]
["North Lanarkshire",8000,7000,6000,5000,12000,10000,8000,7000,8000,7000,11000,14000,15000,15000,13000,16000,16000,"[x]"]
["Orkney Islands","[low]",1000,1000,1000,"[low]","[low]","[low]","[low]","[low]","[low]","[low]","[low]",1000,1000,1000,1000,1000,"[x]"]
["Perth and Kinross",5000,6000,5000,7000,7000,7000,9000,8000,10000,11000,11000,14000,10000,12000,12000,14000,13000,"[x]"]
["Renfrewshire",5000,4000,5000,7000,9000,7000,7000,11000,10000,9000,11000,9000,12000,11000,10000,10000,8000,"[x]"]
["Scottish Borders",4000,3000,4000,5000,5000,6000,7000,5000,5000,6000,6000,6000,6000,9000,8000,7000,4000,"[x]"]
["Shetland Islands",1000,"[low]","[low]","[low]","[low]","[low]",1000,"[low]","[low]",1000,1000,"[low]","[low]",1000,1000,"[low]",1000,"[x]"]
["South Ayrshire",3000,2000,3000,3000,3000,4000,4000,3000,4000,3000,4000,4000,4000,5000,4000,5000,5000,"[x]"]
["South Lanarkshire",6000,7000,8000,11000,9000,8000,11000,11000,12000,11000,9000,11000,12000,10000,9000,13000,14000,"[x]"]
["Stirling",4000,4000,6000,5000,3000,4000,6000,7000,7000,6000,7000,8000,6000,7000,7000,6000,5000,"[x]"]
["West Dunbartonshire",2000,2000,3000,3000,3000,4000,3000,3000,3000,3000,3000,2000,4000,4000,3000,5000,3000,"[x]"]
["West Lothian",5000,6000,7000,10000,8000,8000,8000,12000,11000,11000,10000,10000,15000,17000,15000,16000,20000,"[x]"]

{"sheet":"Non-British Population","index":26,"n_rows":38,"n_cols":19,"rows_kept":38,"cut":false,"hidden":false,"merged":[]}
["Estimate of resident non-British population, calendar year to 2004 to 2021"]
["This worksheet contains one table. "]
["See notes [12], [13], [14], [15] which are explained in the Notes worksheet. Some shorthand is used in this table, [x] = not available, [c] = confidential, [low] = zero due to rounding."]
["Return to front page"]
["Council Area","2004","2005","2006","2007","2008","2009","2010","2011","2012","2013","2014","2015","2016","2017","2018","2019","2020","2021"]
["Scotland",126000,137000,134000,169000,196000,229000,245000,257000,281000,264000,282000,295000,337000,378000,352000,388000,406000,"[x]"]
["Aberdeen City",8000,9000,10000,17000,22000,28000,25000,30000,31000,38000,39000,36000,43000,48000,38000,41000,46000,"[x]"]
["Aberdeenshire",4000,4000,4000,6000,9000,11000,10000,11000,11000,7000,10000,9000,16000,16000,12000,16000,17000,"[x]"]
["Angus",1000,1000,2000,2000,3000,3000,3000,2000,2000,5000,5000,5000,4000,5000,5000,5000,3000,"[x]"]
["Argyll and Bute",1000,1000,1000,1000,2000,2000,2000,2000,2000,2000,2000,2000,3000,2000,2000,4000,4000,"[x]"]
["City of Edinburgh",26000,32000,32000,32000,42000,45000,55000,54000,56000,52000,51000,60000,69000,85000,81000,84000,100000,"[x]"]
["Clackmannanshire",1000,"[low]",1000,1000,1000,1000,2000,2000,2000,2000,2000,2000,2000,1000,2000,2000,3000,"[x]"]
["Dumfries and Galloway",2000,2000,2000,2000,3000,3000,3000,2000,4000,2000,3000,2000,3000,4000,5000,3000,4000,"[x]"]
["Dundee City",4000,5000,6000,5000,5000,7000,10000,12000,12000,14000,17000,14000,10000,14000,9000,12000,14000,"[x]"]
["East Ayrshire",1000,1000,2000,1000,1000,1000,1000,"[low]",1000,1000,2000,2000,3000,2000,3000,3000,3000,"[x]"]
["East Dunbartonshire",2000,2000,2000,2000,2000,2000,2000,2000,3000,3000,2000,2000,2000,3000,3000,4000,4000,"[x]"]
["East Lothian",1000,2000,2000,3000,2000,2000,3000,3000,3000,4000,4000,3000,3000,4000,4000,5000,6000,"[x]"]
["East Renfrewshire",1000,2000,2000,2000,2000,3000,3000,2000,3000,1000,2000,4000,4000,4000,4000,3000,3000,"[x]"]
["Falkirk",2000,1000,1000,2000,2000,3000,4000,5000,5000,5000,5000,6000,6000,6000,6000,7000,5000,"[x]"]
["Fife",7000,9000,7000,6000,3000,7000,11000,10000,12000,15000,12000,14000,21000,10000,13000,18000,25000,"[x]"]
["Glasgow City",34000,35000,27000,41000,47000,59000,57000,56000,68000,48000,55000,67000,69000,76000,82000,83000,75000,"[x]"]
["Highland",2000,3000,3000,4000,5000,5000,6000,9000,8000,8000,8000,6000,8000,11000,11000,12000,11000,"[x]"]
["Inverclyde",2000,1000,1000,1000,1000,2000,1000,2000,2000,2000,1000,1000,1000,1000,1000,1000,1000,"[x]"]
["Midlothian",1000,1000,1000,1000,2000,2000,1000,2000,2000,2000,3000,3000,3000,5000,5000,6000,3000,"[x]"]
["Moray",1000,2000,2000,3000,3000,4000,4000,4000,4000,3000,2000,3000,4000,4000,3000,3000,3000,"[x]"]
["Na h-Eileanan Siar","[c]","[c]","[c]","[c]","[low]","[low]","[c]","[c]","[low]","[low]","[c]","[c]","[low]","[low]",1000,"[low]","[low]","[x]"]
["North Ayrshire",2000,2000,2000,2000,2000,1000,2000,2000,2000,2000,2000,1000,2000,2000,1000,2000,2000,"[x]"]
["North Lanarkshire",5000,4000,3000,3000,9000,7000,7000,5000,6000,6000,9000,9000,9000,13000,10000,13000,18000,"[x]"]
["Orkney Islands","[c]","[c]","[low]","[low]","[c]","[low]","[low]","[c]","[c]","[c]","[c]","[c]","[low]","[low]",1000,"[c]","[c]","[x]"]
["Perth and Kinross",2000,3000,3000,4000,4000,4000,5000,5000,7000,7000,8000,10000,8000,9000,9000,11000,9000,"[x]"]
["Renfrewshire",3000,2000,3000,5000,6000,5000,5000,8000,8000,7000,9000,8000,10000,8000,7000,7000,6000,"[x]"]
["Scottish Borders",2000,1000,3000,4000,3000,3000,5000,3000,3000,4000,5000,4000,4000,7000,6000,5000,3000,"[x]"]
["Shetland Islands","[low]","[low]","[low]","[c]","[low]","[low]","[low]","[low]","[low]","[low]","[low]","[low]","[low]",1000,1000,"[low]",1000,"[x]"]
["South Ayrshire",2000,1000,1000,2000,2000,2000,3000,2000,2000,2000,2000,2000,3000,4000,3000,4000,4000,"[x]"]
["South Lanarkshire",3000,3000,3000,7000,5000,5000,5000,6000,7000,7000,6000,7000,7000,8000,7000,8000,9000,"[x]"]
["Stirling",2000,2000,4000,2000,2000,2000,4000,4000,5000,4000,6000,7000,4000,5000,5000,6000,3000,"[x]"]
["West Dunbartonshire",1000,1000,2000,2000,2000,2000,1000,1000,2000,2000,2000,1000,2000,3000,2000,4000,3000,"[x]"]
["West Lothian",3000,4000,5000,7000,5000,7000,6000,9000,9000,8000,8000,8000,12000,16000,11000,14000,18000,"[x]"]

{"sheet":"NINo","index":27,"n_rows":38,"n_cols":19,"rows_kept":38,"cut":false,"hidden":false,"merged":[]}
["National Insurance Number (NINo) allocations to adult overseas nationals entering the UK, calendar year to 2021"]
["This worksheet contains one table. "]
["See notes [16], [17], [18], [19], [20], [21], [22] which are explained in the Notes worksheet. Some shorthand is used in this table, [x] = not available"]
["Return to front page"]
["Calendar Year Registrations",2004,2005,2006,2007,2008,2009,2010,2011,2012,2013,2014,2015,2016,2017,2018,2019,2020,2021]
["Scotland",19080,39410,45490,57080,46110,41610,39420,39500,34850,39470,43600,46570,45200,40510,38010,48190,17100,"[x]"]
["Aberdeen City",1900,3580,4960,6360,5020,4830,4230,4600,4110,4930,5460,5210,4140,3230,2940,4020,1730,"[x]"]
["Aberdeenshire",740,1610,1600,2000,1690,1680,1620,1500,1290,1610,1680,1730,1450,1180,1000,1100,360,"[x]"]
["Angus",370,790,660,920,1260,1350,1570,1140,1090,1240,1220,1310,1180,1080,1090,1080,120,"[x]"]
["Argyll and Bute",350,680,780,770,560,530,520,360,340,460,460,570,560,490,440,520,110,"[x]"]
["City of Edinburgh",5090,11060,11950,13630,10330,10450,9820,10590,9710,11360,11340,11930,12000,10200,10000,12470,4550,"[x]"]
["Clackmannanshire",30,110,160,210,170,120,100,90,100,140,90,110,140,120,80,120,40,"[x]"]
["Dumfries and Galloway",260,630,590,800,420,350,310,310,250,280,310,340,380,470,260,280,80,"[x]"]
["Dundee City",750,1480,1480,1940,1660,1500,1540,1490,1090,1300,1240,1340,1340,1120,1130,1450,650,"[x]"]
["East Ayrshire",100,160,140,190,130,100,90,100,100,80,90,90,160,190,90,150,50,"[x]"]
["East Dunbartonshire",130,170,220,270,140,150,150,130,90,90,110,110,170,130,100,140,50,"[x]"]
["East Lothian",160,280,350,490,490,420,400,310,280,370,450,510,550,560,500,640,170,"[x]"]
["East Renfrewshire",100,130,190,230,100,110,110,100,80,100,120,140,170,100,120,160,60,"[x]"]
["Falkirk",160,390,530,670,430,320,340,330,380,380,410,540,460,470,320,430,140,"[x]"]
["Fife",730,1410,1800,2450,1950,1650,1810,1900,1890,1970,2450,2620,2330,1980,1820,2310,620,"[x]"]
["Glasgow City",3290,6250,7840,10700,8820,7650,7940,7650,6600,6820,8400,9310,8940,9440,9900,13610,5510,"[x]"]
["Highland",1220,2690,2360,2960,2140,1560,1310,1280,1200,1290,1600,1680,1730,1610,1430,1450,310,"[x]"]
["Inverclyde",210,330,230,270,250,150,160,130,100,80,90,100,180,190,70,140,40,"[x]"]
["Midlothian",80,210,250,240,180,150,200,170,150,180,260,240,290,220,270,280,100,"[x]"]
["Moray",240,550,520,560,380,260,270,200,220,320,310,310,260,230,230,240,70,"[x]"]
["Na h-Eileanan Siar",60,130,90,130,70,50,40,40,50,30,60,70,60,80,60,50,20,"[x]"]
["North Ayrshire",240,310,280,340,220,230,170,170,110,130,130,180,210,190,120,140,40,"[x]"]
["North Lanarkshire",300,720,1100,1650,1170,680,540,690,560,590,790,1030,1300,990,690,880,270,"[x]"]
["Orkney Islands",30,60,70,110,60,60,50,50,40,70,50,60,60,50,50,50,10,"[x]"]
["Perth and Kinross",810,1610,1750,2450,3930,3580,2930,2810,2160,2350,2460,2730,2670,2320,2030,2380,450,"[x]"]
["Renfrewshire",280,590,930,1180,780,570,480,530,450,510,670,750,890,780,660,830,360,"[x]"]
["Scottish Borders",270,630,760,870,610,390,380,390,330,340,360,450,370,320,330,350,120,"[x]"]
["Shetland Islands",90,110,150,170,160,160,110,100,100,190,540,300,140,110,90,70,20,"[x]"]
["South Ayrshire",180,400,410,490,310,290,300,310,200,220,240,280,320,330,190,300,90,"[x]"]
["South Lanarkshire",380,710,870,1060,720,480,480,470,370,500,640,710,900,740,590,690,320,"[x]"]
["Stirling",240,690,750,880,720,680,570,600,490,590,580,750,710,700,670,910,300,"[x]"]
["West Dunbartonshire",80,160,230,260,150,180,140,130,100,140,170,190,150,130,110,140,70,"[x]"]
["West Lothian",280,820,1490,1850,1110,950,750,880,830,810,850,880,980,780,660,800,280,"[x]"]

{"sheet":"NINo Top 5 nationalities","index":28,"n_rows":38,"n_cols":3,"rows_kept":38,"cut":false,"hidden":true,"merged":[]}
["Nationalities of NINo allocations to overseas nationals, 2020"]
["This worksheet contains one table. "]
["See notes [18], [20], [21a], [21b], [22], [23], [24], [25], [26] which are explained in the Notes worksheet. Some shorthand is used in this table, [w] = none recorded."]
["Return to front page"]
["Council Area","Number of nationalities","Top 5 most common nationalities"]
["SCOTLAND",124,"India, Nigeria, Romania, Poland, Pakistan"]
["Glasgow City",92,"India, Iran, Syria, Pakistan, Eritrea"]
["City of Edinburgh",84,"India, Spain, Italy, China, United States"]
["Aberdeen City",60,"Nigeria, India, Romania, Poland, Ghana"]
["Dundee City",37,"India, Nigeria, Poland, Pakistan, China"]
["Fife",34,"Romania, United States, India, Poland, Bulgaria"]
["South Lanarkshire",27,"India, Pakistan, Romania, South Africa, Poland"]
["Perth and Kinross",23,"Romania, Ukraine, Poland, India, Belarus"]
["Stirling",23,"India, Italy, Ireland, Spain, United States"]
["Aberdeenshire",22,"Romania, Lithuania, Poland, Philippines, India"]
["Renfrewshire",22,"India, Nigeria, Ghana, Pakistan, Romania"]
["Highland",21,"Poland, India, Bulgaria, Latvia, United States"]
["West Lothian",21,"Romania, Poland, India, Bulgaria, Nigeria"]
["North Lanarkshire",16,"Romania, Poland, Pakistan, India, Nigeria"]
["East Lothian",14,"Bulgaria, Ukraine, Romania, South Africa, Ireland"]
["Falkirk",13,"Romania, Hungary, Poland, India, Pakistan"]
["Argyll and Bute",12,"Spain, Poland, Australia, Hungary, Romania"]
["Midlothian",11,"United States, Poland, India, Italy, Romania"]
["Scottish Borders",10,"Romania, Poland, Croatia, Bulgaria, Lithuania"]
["South Ayrshire",9,"Poland, Nigeria, India, Italy, Pakistan"]
["Angus",8,"Bulgaria, Ukraine, Romania, Poland, India"]
["Dumfries and Galloway",8,"Poland, Romania, Bulgaria, Italy, Pakistan"]
["Moray",8,"United States, Bulgaria, Netherlands, Portugal, India"]
["East Dunbartonshire",7,"India, France, Pakistan, Philippines, South Africa"]
["East Renfrewshire",5,"India, Pakistan, Italy, Nigeria, Romania"]
["Clackmannanshire",4,"South Africa, Bulgaria, India, Poland"]
["East Ayrshire",4,"South Africa, Portugal, Nepal, Romania"]
["North Ayrshire",4,"Poland, South Africa, Romania, Spain"]
["West Dunbartonshire",4,"India, Italy, Nigeria, Syria"]
["Inverclyde",3,"India, Romania, Ireland"]
["Shetland Islands",2,"Poland, Hungary"]
["Na h-Eileanan Siar",1,"Latvia"]
["Orkney Islands",0,"[w]"]

{"sheet":"EUSS (by nationality)","index":29,"n_rows":39,"n_cols":36,"rows_kept":39,"cut":false,"hidden":false,"merged":[]}
["EU Settlement Scheme: Applications by nationality and local authority, 28 August 2018 to 31 December 2021, Scotland"]
["This worksheet contains one table. "]
["See notes [23], [24], [25], [26], [27], [28], [29], [30] which are explained in the Notes worksheet. Some shorthand is used in this table, [c] = confidential, fewer than 10.",null,null,null,null,null,null,null,null,null,null,null,null,null,null,null,null,null,null,null,null,null,null,null,null,null,null,null,null,null,null,null,null,null,null,"Switzerland"]
["Return to front page",null,null,null,null,null,null,null,null,null,null,null,null,null,null,null,null,null,null,null,null,null,null,null,null,null,null,null,null,null,null,null,null,null,null,990]
["Council Area","Total","Austria","Belgium","Bulgaria","Croatia","Cyprus","Czech Republic","Denmark","Estonia","Finland","France","Germany","Greece","Hungary","Iceland","Ireland","Italy","Latvia","Liechtenstein","Lithuania","Luxembourg","Malta","Netherlands","Norway","Poland","Portugal","Romania","Slovakia","Slovenia","Spain","Sweden","Switzerland","Non-EEA"]
["Scotland",304670,1240,1520,12450,770,1230,4120,1700,1410,1940,10130,11260,8330,9090,270,990,22780,10490,0,11690,190,660,6060,1670,102630,10280,29360,5620,440,20060,3200,990,12090]
["Aberdeen City",29490,100,110,970,80,90,350,180,240,370,880,890,570,1150,10,100,1290,1730,0,1910,40,40,420,160,11030,1070,2840,400,50,1230,260,70,880]
["Aberdeenshire",12550,10,40,310,30,"[c]",100,90,60,30,270,370,70,180,20,20,180,1490,0,2500,"[c]",30,410,90,4350,280,950,100,"[c]",230,50,40,250]
["Angus",5890,"[c]",20,1200,0,"[c]",150,10,70,"[c]",50,90,20,40,0,"[c]",90,630,0,190,"[c]","[c]",70,20,1680,70,1310,50,"[c]",50,20,"[c]",40]
["Argyll and Bute",3030,10,30,50,10,"[c]",70,30,"[c]",20,140,210,20,240,"[c]","[c]",120,170,0,90,0,"[c]",140,10,900,80,280,50,"[c]",210,40,30,70]
["City of Edinburgh",71190,450,410,1730,190,370,870,430,280,470,3460,3060,3410,2110,80,270,8420,840,0,1510,60,160,1460,490,19740,2410,3710,720,150,9340,980,310,3310]
["Clackmannanshire",1540,"[c]","[c]",30,"[c]","[c]",20,"[c]","[c]","[c]",30,80,20,70,0,"[c]",60,80,0,100,0,"[c]",40,10,710,20,110,50,"[c]",50,10,"[c]",40]
["Dumfries and Galloway",2990,10,20,170,"[c]",0,50,20,"[c]",20,90,140,40,90,"[c]","[c]",80,80,0,140,0,"[c]",100,10,1300,100,240,80,"[c]",100,20,10,50]
["Dundee City",9770,30,30,870,50,60,150,50,90,110,290,330,210,150,"[c]",50,780,430,0,270,20,30,150,30,3530,220,700,100,20,510,110,30,370]
["East Ayrshire",1470,"[c]",10,20,"[c]","[c]",30,"[c]","[c]","[c]",30,70,50,30,"[c]","[c]",100,40,0,10,0,20,30,10,500,120,160,30,0,70,10,"[c]",90]
["East Dunbartonshire",1330,"[c]",10,30,0,0,20,20,10,10,90,130,60,20,"[c]",10,180,20,0,20,0,10,40,20,230,60,90,10,"[c]",80,30,20,100]
["East Lothian",4620,10,20,890,10,"[c]",50,30,10,40,150,210,70,130,"[c]",10,330,60,0,260,"[c]",20,90,20,1450,80,220,70,"[c]",210,40,20,110]
["East Renfrewshire",1470,10,20,30,"[c]","[c]",10,20,"[c]",10,70,70,40,20,"[c]",30,220,10,0,30,0,"[c]",30,10,400,20,170,20,"[c]",100,40,"[c]",90]
["Falkirk",5590,"[c]",10,170,"[c]","[c]",30,20,10,20,100,130,70,490,"[c]",10,340,120,0,440,"[c]","[c]",70,20,2270,160,480,180,10,180,30,"[c]",210]
["Fife",17100,90,60,1220,50,50,330,90,90,60,470,840,260,330,10,40,820,610,0,510,"[c]",50,330,90,5850,560,2820,170,30,560,120,70,520]
["Glasgow City",52220,250,290,1400,160,510,670,240,160,370,1990,1670,2310,880,70,220,5160,1030,0,1370,40,120,970,420,13400,2470,5600,2130,80,3830,860,130,3450]
["Highland",12620,30,90,340,30,10,250,90,50,40,380,610,60,550,"[c]",20,330,1050,0,290,"[c]",20,400,40,5580,400,820,170,10,560,80,80,220]
["Inverclyde",790,10,"[c]",20,"[c]",0,"[c]",10,"[c]","[c]",30,60,20,30,0,"[c]",70,20,0,10,0,0,60,10,170,30,90,20,0,40,10,"[c]",30]
["Midlothian",4040,10,30,110,20,"[c]",40,20,"[c]",20,80,120,80,100,"[c]","[c]",390,100,0,110,0,"[c]",50,20,1840,120,270,30,10,250,30,10,140]
["Moray",3470,20,20,150,"[c]","[c]",30,30,"[c]",10,90,300,10,70,"[c]","[c]",110,140,0,180,"[c]","[c]",150,10,1390,330,180,20,"[c]",80,30,20,60]
["Na h-Eileanan Siar",500,"[c]","[c]",10,0,0,"[c]","[c]",0,"[c]",20,60,"[c]","[c]",0,"[c]",20,100,0,30,0,0,30,"[c]",100,"[c]",60,"[c]",0,20,"[c]","[c]","[c]"]
["North Ayrshire",1410,"[c]",20,"[c]","[c]","[c]",40,20,"[c]",20,50,120,20,60,"[c]","[c]",120,30,0,10,"[c]","[c]",40,10,540,40,110,20,0,60,20,10,30]
["North Lanarkshire",11060,20,40,150,"[c]",10,140,10,50,20,130,150,120,300,"[c]",20,590,160,0,410,"[c]","[c]",100,"[c]",5980,240,1410,120,"[c]",350,40,10,480]
["Orkney Islands",380,"[c]","[c]","[c]","[c]","[c]","[c]","[c]","[c]","[c]",40,40,"[c]",20,0,"[c]",20,10,0,"[c]",0,0,20,"[c]",130,"[c]",20,"[c]","[c]",20,"[c]","[c]","[c]"]
["Perth and Kinross",11600,30,20,1440,30,"[c]",310,50,10,30,200,340,100,460,"[c]",10,240,180,"[c]",230,0,20,170,30,3930,210,2630,260,"[c]",390,60,30,170]
["Renfrewshire",7060,20,40,350,20,20,80,20,20,50,210,170,150,180,"[c]",20,660,100,0,130,"[c]",10,80,20,2810,250,760,130,"[c]",340,40,10,360]
["Scottish Borders",4120,20,30,70,30,"[c]",50,50,"[c]",10,100,170,"[c]",70,"[c]","[c]",190,160,0,290,"[c]","[c]",130,"[c]",1760,230,450,80,"[c]",90,30,10,70]
["Shetland Islands",720,"[c]","[c]",20,"[c]",0,"[c]","[c]","[c]","[c]",20,30,"[c]",180,"[c]","[c]",20,50,0,20,0,0,20,"[c]",180,20,30,"[c]","[c]",20,10,"[c]",20]
["South Ayrshire",1610,20,20,40,"[c]",0,30,10,10,20,90,90,60,60,"[c]",10,170,40,0,30,0,"[c]",50,"[c]",460,50,110,30,"[c]",90,20,"[c]",80]
["South Lanarkshire",7130,10,30,200,"[c]",10,90,30,160,50,150,180,160,300,"[c]",40,710,200,0,150,0,20,110,30,2280,250,1020,120,"[c]",400,50,10,350]
["Stirling",3990,20,40,100,20,40,70,60,10,90,210,330,120,210,10,30,370,140,0,90,"[c]",20,130,30,930,70,300,90,"[c]",270,70,10,100]
["West Dunbartonshire",1650,"[c]","[c]",100,0,"[c]",20,"[c]","[c]","[c]",40,40,10,30,0,"[c]",120,30,0,30,0,"[c]",30,"[c]",840,20,140,30,0,40,20,"[c]",80]
["West Lothian",12270,20,30,240,"[c]",10,70,40,20,30,170,210,170,560,"[c]",20,510,630,0,330,"[c]",20,140,10,6370,310,1280,340,"[c]",350,60,20,310]
[null,null,null,null,null,null,null,null,null,null,null,null,null,null,null,null,null,null,null,null,null,null,null,null,null,null,null,null,null,null,null,null,null,null,null,{"$f":"SUM(AJ7:AJ38)","v":0}]

{"sheet":"EUSS (by age group)","index":30,"n_rows":38,"n_cols":5,"rows_kept":38,"cut":false,"hidden":false,"merged":[]}
["EU Settlement Scheme: Applications by age group and local authority, 28 August 2018 to 31 December 2021, Scotland"]
["This worksheet contains one table. "]
["See notes [23], [24], [25], [26], [27], [28], [29], [30], [31] which are explained in the Notes worksheet. Some shorthand is used in this table, [c] = confidential, fewer than 10."]
["Return to front page"]
["Council Area","Total","Under 18","18 to 64","65+"]
["Scotland",304670,50680,246720,7260]
["Aberdeen City",29490,4720,24180,590]
["Aberdeenshire",12550,2450,9780,320]
["Angus",5890,910,4860,120]
["Argyll and Bute",3030,370,2490,170]
["City of Edinburgh",71190,8830,61050,1320]
["Clackmannanshire",1540,310,1170,50]
["Dumfries and Galloway",2990,550,2290,150]
["Dundee City",9770,1610,8000,160]
["East Ayrshire",1470,250,1140,80]
["East Dunbartonshire",1330,230,1030,70]
["East Lothian",4620,760,3730,130]
["East Renfrewshire",1470,340,1040,90]
["Falkirk",5590,1030,4430,130]
["Fife",17100,3170,13470,450]
["Glasgow City",52220,9560,41720,950]
["Highland",12620,2010,10210,410]
["Inverclyde",790,120,630,50]
["Midlothian",4040,780,3130,130]
["Moray",3470,700,2630,140]
["Na h-Eileanan Siar",500,70,400,30]
["North Ayrshire",1410,200,1110,100]
["North Lanarkshire",11060,2450,8350,260]
["Orkney Islands",380,40,320,20]
["Perth and Kinross",11600,1900,9440,260]
["Renfrewshire",7060,1340,5560,160]
["Scottish Borders",4120,740,3210,170]
["Shetland Islands",720,120,560,30]
["South Ayrshire",1610,250,1260,100]
["South Lanarkshire",7130,1390,5480,260]
["Stirling",3990,490,3400,100]
["West Dunbartonshire",1650,350,1260,40]
["West Lothian",12270,2640,9420,210]

{"sheet":"EUSS (concluded applications)","index":31,"n_rows":38,"n_cols":5,"rows_kept":38,"cut":false,"hidden":false,"merged":[]}
["EU Settlement Scheme: Concluded applications by outcome type and local authority, 28 August 2018 to 31 December 2021, Scotland"]
["This worksheet contains one table. "]
["See notes [23], [24], [25], [26], [27], [28], [29], [30], [31], [32] which are explained in the Notes worksheet."]
["Return to front page"]
["Council Area","Total concluded applications","Settled","Pre-settled","Other outcomes\n[note 32]"]
["Scotland",294120,166040,114580,13490]
["Aberdeen City",28550,16480,10840,1230]
["Aberdeenshire",12190,8460,3190,540]
["Angus",5660,2960,2220,490]
["Argyll and Bute",2950,1650,1170,140]
["City of Edinburgh",69190,36020,30670,2490]
["Clackmannanshire",1510,1060,390,50]
["Dumfries and Galloway",2880,1780,930,160]
["Dundee City",9490,4970,4070,450]
["East Ayrshire",1380,850,440,100]
["East Dunbartonshire",1310,920,350,50]
["East Lothian",4510,2730,1630,160]
["East Renfrewshire",1430,940,420,70]
["Falkirk",5420,3430,1700,290]
["Fife",16500,9030,6640,820]
["Glasgow City",49630,24170,22860,2600]
["Highland",12250,8060,3650,540]
["Inverclyde",750,470,260,10]
["Midlothian",3940,2680,1100,160]
["Moray",3360,2280,910,170]
["Na h-Eileanan Siar",490,300,170,10]
["North Ayrshire",1370,950,370,40]
["North Lanarkshire",10550,6680,3290,590]
["Orkney Islands",370,240,120,0]
["Perth and Kinross",11210,5900,4600,720]
["Renfrewshire",6730,3760,2660,310]
["Scottish Borders",3990,2710,1090,190]
["Shetland Islands",710,440,240,10]
["South Ayrshire",1550,900,580,60]
["South Lanarkshire",6860,4220,2340,310]
["Stirling",3910,1820,1940,150]
["West Dunbartonshire",1570,1060,440,80]
["West Lothian",11900,8130,3310,460]

{"sheet":"Pupils' ethnic group (2021)","index":32,"n_rows":39,"n_cols":6,"rows_kept":39,"cut":false,"hidden":false,"merged":[]}
["Pupils from minority ethnic groups, by Council Area, 2021"]
["This worksheet contains one table. "]
["See notes [33], [34], [35], [36], [37], [38] which are explained in the Notes worksheet.  "]
["Return to front page"]
["Council Area","Total","White (all)","White other","Minority ethnic group","Not known / Not disclosed"]
["Scotland",704723,624821,42975,65026,14876]
["Aberdeen City",24260,19513,3496,4406,341]
["Aberdeenshire",36647,34817,2419,1554,276]
["Angus",15143,14486,886,505,152]
["Argyll and Bute",10068,9608,552,376,84]
["City of Edinburgh",52564,41235,6537,10656,673]
["Clackmannanshire",6731,6325,256,296,110]
["Dumfries and Galloway",18705,17683,840,538,484]
["Dundee City",18377,15666,1109,2161,550]
["East Ayrshire",16241,15572,330,517,152]
["East Dunbartonshire",17390,15111,506,1982,297]
["East Lothian",15030,14245,857,591,194]
["East Renfrewshire",17539,13374,562,3920,245]
["Falkirk",21771,20588,1173,1084,99]
["Fife",50245,46970,2761,2634,641]
["Glasgow City",70805,47698,4785,18023,5084]
["Highland",30843,29260,2267,1242,341]
["Inverclyde",9805,9347,174,307,151]
["Midlothian",13830,12722,790,860,248]
["Moray",12217,11690,627,426,101]
["Na h-Eileanan Siar",3293,3171,87,74,48]
["North Ayrshire",17887,16973,392,523,391]
["North Lanarkshire",49001,45733,2707,2654,614]
["Orkney Islands",2795,2647,136,69,79]
["Perth and Kinross",18139,17127,1611,847,165]
["Renfrewshire",23917,21543,967,1669,705]
["Scottish Borders",14477,13915,843,429,133]
["Shetland Islands",3325,3197,163,105,23]
["South Ayrshire",14326,13507,409,470,349]
["South Lanarkshire",45394,41952,1426,2704,738]
["Stirling",12785,11907,656,691,187]
["West Dunbartonshire",12433,11619,363,491,323]
["West Lothian",27571,24715,2251,2104,752]
["Grant Aided [note 38]",1169,905,37,118,146]

{"sheet":"Pupils' ethnic group (TS)","index":33,"n_rows":39,"n_cols":20,"rows_kept":39,"cut":false,"hidden":false,"merged":[]}
["Pupils from minority ethnic groups, by Council Area, 2003 to 2021"]
["This worksheet contains one table. "]
["See notes [33], [34], [35], [36], [37], [38], [39], [40] which are explained in the Notes worksheet.  "]
["Return to front page"]
["Council Area","2003","2004","2005","2006","2007","2008","2009","2010","2011","2012","2013","2014","2015","2016","2017","2018","2019","2020","2021"]
["Scotland",23703,25066,26232,27637,29999,31580,33522,34743,35253,36910,39168,41940,44440,47906,51260,54297,57859,60673,{"$f":"+'Pupils'' ethnic group (2021)'!E6","v":65026}]
["Aberdeen City",1085,1189,1251,1391,1552,1627,1739,1920,2034,2233,2412,2655,2858,3014,3334,3608,3759,4010,{"$f":"+'Pupils'' ethnic group (2021)'!E7","v":4406}]
["Aberdeenshire",386,418,455,487,563,559,731,735,711,749,811,946,994,1100,1202,1287,1367,1469,{"$f":"+'Pupils'' ethnic group (2021)'!E8","v":1554}]
["Angus",177,177,193,198,619,570,503,411,366,306,322,359,366,402,439,446,467,506,{"$f":"+'Pupils'' ethnic group (2021)'!E9","v":505}]
["Argyll and Bute",155,154,187,180,178,203,209,209,214,208,219,233,255,288,297,323,348,346,{"$f":"+'Pupils'' ethnic group (2021)'!E10","v":376}]
["City of Edinburgh",3539,3722,3934,4052,4326,4672,4883,5051,5246,5642,6082,6538,6887,7474,8101,8706,9396,9876,{"$f":"+'Pupils'' ethnic group (2021)'!E11","v":10656}]
["Clackmannanshire",87,115,127,188,197,188,209,207,186,201,200,212,203,217,229,243,245,254,{"$f":"+'Pupils'' ethnic group (2021)'!E12","v":296}]
["Dumfries and Galloway",307,302,332,325,328,341,443,497,411,409,399,408,411,422,439,448,486,484,{"$f":"+'Pupils'' ethnic group (2021)'!E13","v":538}]
["Dundee City",809,876,926,936,1075,1191,1229,1266,1287,1351,1440,1532,1595,1684,1844,1898,2015,2038,{"$f":"+'Pupils'' ethnic group (2021)'!E14","v":2161}]
["East Ayrshire",208,209,219,244,248,258,273,296,289,303,332,362,382,411,434,434,467,479,{"$f":"+'Pupils'' ethnic group (2021)'!E15","v":517}]
["East Dunbartonshire",1003,1029,958,950,958,979,992,1015,1033,1075,1148,1241,1293,1367,1487,1591,1720,1816,{"$f":"+'Pupils'' ethnic group (2021)'!E16","v":1982}]
["East Lothian",174,190,205,211,222,240,260,306,293,331,330,375,393,423,428,471,521,548,{"$f":"+'Pupils'' ethnic group (2021)'!E17","v":591}]
["East Renfrewshire",1366,1459,1572,1648,1778,1852,1921,1990,2154,2277,2407,2621,2795,2997,3202,3401,3516,3680,{"$f":"+'Pupils'' ethnic group (2021)'!E18","v":3920}]
["Falkirk",407,461,455,486,506,544,612,637,627,641,678,724,752,805,871,911,975,1019,{"$f":"+'Pupils'' ethnic group (2021)'!E19","v":1084}]
["Fife",935,991,1099,1166,1259,1276,1646,1553,1292,1365,1477,1568,1731,1884,2022,2133,2276,2437,{"$f":"+'Pupils'' ethnic group (2021)'!E20","v":2634}]
["Glasgow City",7444,7713,7943,8342,8853,9177,9670,10104,10580,11073,11772,12552,13161,14117,14945,15679,16627,17137,{"$f":"+'Pupils'' ethnic group (2021)'!E21","v":18023}]
["Highland",417,450,516,552,631,632,642,646,648,658,714,738,829,917,929,1009,1088,1162,{"$f":"+'Pupils'' ethnic group (2021)'!E22","v":1242}]
["Inverclyde",230,238,207,198,189,185,185,182,175,176,184,189,192,202,211,224,246,283,{"$f":"+'Pupils'' ethnic group (2021)'!E23","v":307}]
["Midlothian",193,204,223,227,226,279,286,309,307,333,373,406,462,515,594,626,692,763,{"$f":"+'Pupils'' ethnic group (2021)'!E24","v":860}]
["Moray",176,183,192,197,201,230,242,268,232,251,268,291,318,342,333,337,352,399,{"$f":"+'Pupils'' ethnic group (2021)'!E25","v":426}]
["Na h-Eileanan Siar",52,57,54,55,54,39,51,46,48,59,57,62,65,67,68,67,70,71,{"$f":"+'Pupils'' ethnic group (2021)'!E26","v":74}]
["North Ayrshire",290,281,294,282,269,263,256,277,279,279,296,327,331,390,408,435,453,504,{"$f":"+'Pupils'' ethnic group (2021)'!E27","v":523}]
["North Lanarkshire",1023,1113,1177,1262,1373,1425,1502,1564,1574,1622,1697,1795,1928,2051,2153,2271,2432,2522,{"$f":"+'Pupils'' ethnic group (2021)'!E28","v":2654}]
["Orkney Islands",21,24,28,30,35,46,55,49,39,39,38,42,38,39,47,51,60,60,{"$f":"+'Pupils'' ethnic group (2021)'!E29","v":69}]
["Perth and Kinross",214,233,298,321,369,438,495,509,487,523,542,572,622,696,720,747,806,824,{"$f":"+'Pupils'' ethnic group (2021)'!E30","v":847}]
["Renfrewshire",509,575,581,606,660,732,771,781,787,837,850,891,979,1076,1201,1271,1373,1516,{"$f":"+'Pupils'' ethnic group (2021)'!E31","v":1669}]
["Scottish Borders",162,169,182,174,200,227,289,338,332,321,305,322,330,340,361,368,402,408,{"$f":"+'Pupils'' ethnic group (2021)'!E32","v":429}]
["Shetland Islands",56,40,47,51,52,55,57,67,84,88,84,88,101,102,100,106,95,104,{"$f":"+'Pupils'' ethnic group (2021)'!E33","v":105}]
["South Ayrshire",189,299,279,268,277,279,291,296,284,294,295,287,318,347,362,388,411,432,{"$f":"+'Pupils'' ethnic group (2021)'!E34","v":470}]
["South Lanarkshire",1072,1091,1104,1135,1181,1235,1307,1413,1396,1449,1524,1595,1698,1868,2024,2177,2311,2488,{"$f":"+'Pupils'' ethnic group (2021)'!E35","v":2704}]
["Stirling",273,299,321,334,324,432,480,481,488,423,451,443,464,488,498,524,569,618,{"$f":"+'Pupils'' ethnic group (2021)'!E36","v":691}]
["West Dunbartonshire",143,162,172,212,245,264,282,284,272,292,290,309,328,370,391,404,434,456,{"$f":"+'Pupils'' ethnic group (2021)'!E37","v":491}]
["West Lothian",528,564,614,835,949,939,906,932,984,1003,1076,1166,1269,1399,1486,1616,1775,1862,{"$f":"+'Pupils'' ethnic group (2021)'!E38","v":2104}]
["Grant Aided [note 38]",73,79,87,94,103,103,105,104,111,99,95,91,92,92,100,97,105,102,{"$f":"+'Pupils'' ethnic group (2021)'!E39","v":118}]

{"sheet":"Pupils with English as an add.","index":34,"n_rows":38,"n_cols":17,"rows_kept":38,"cut":false,"hidden":false,"merged":[]}
["Pupils with English as an additional language, by Council Area, 2006 to 2021"]
["This worksheet contains one table. "]
["See notes [33], [38], [41] which are explained in the Notes worksheet.  "]
["Return to front page"]
["Council Area","2006","2007","2008","2009","2010","2011","2012","2013","2014","2015","2016","2017","2018","2019","2020","2021"]
["Scotland",9486,15411,19001,21223,22740,24555,26131,29532,32509,35441,39331,41524,44311,46951,47938,49441]
["Aberdeen City",846,1181,1417,1503,1675,1833,1602,2132,2444,3054,3459,3805,4124,4461,4558,4925]
["Aberdeenshire",279,443,515,681,829,925,1054,1216,1356,1566,1671,1719,1741,1768,1806,1805]
["Angus",76,100,150,203,261,299,348,379,431,476,527,563,572,576,546,561]
["Argyll and Bute",43,56,102,104,110,124,135,145,164,175,214,203,203,209,198,174]
["City of Edinburgh",1910,2211,2602,2979,3258,3588,3951,4861,5227,5685,6096,5914,6373,7183,7419,7540]
["Clackmannanshire",22,54,84,89,109,115,120,139,156,167,179,199,203,209,204,213]
["Dumfries and Galloway",131,179,232,225,243,260,298,298,331,341,395,410,439,432,442,489]
["Dundee City",435,490,657,702,765,870,928,959,1096,1137,1195,1292,1334,1300,1301,1295]
["East Ayrshire",22,36,77,80,88,99,121,126,158,169,172,168,186,183,183,168]
["East Dunbartonshire",255,253,333,350,295,306,385,377,400,406,437,515,557,603,661,684]
["East Lothian",73,104,117,125,156,159,184,221,263,283,344,376,413,404,443,429]
["East Renfrewshire",373,549,679,771,759,805,868,818,831,837,886,961,974,1004,871,966]
["Falkirk",254,298,328,394,416,461,477,497,581,648,730,768,793,747,756,740]
["Fife",282,432,512,550,505,611,802,903,1004,1150,1336,1543,1615,1657,1796,1852]
["Glasgow City",2691,6365,7804,8425,8914,9275,9702,10445,11190,11483,12743,13489,14763,15681,15865,16434]
["Highland",254,372,486,643,570,646,632,867,976,1225,1352,1320,1398,1412,1393,1412]
["Inverclyde",16,20,24,47,54,35,53,53,44,29,59,57,67,105,126,140]
["Midlothian",42,82,99,124,129,128,184,230,266,307,353,417,500,525,501,569]
["Moray",127,185,193,222,240,252,266,304,381,415,471,447,433,424,452,450]
["Na h-Eileanan Siar",23,32,19,27,18,25,39,47,54,53,62,57,55,64,67,68]
["North Ayrshire",13,65,66,71,77,93,101,108,117,121,155,169,179,200,224,231]
["North Lanarkshire",302,493,667,740,851,892,896,1000,1121,1271,1428,1555,1604,1707,1741,1784]
["Orkney Islands",0,6,6,7,15,5,16,15,14,20,22,29,31,19,16,14]
["Perth and Kinross",165,240,315,379,403,450,519,578,630,740,867,861,900,918,948,919]
["Renfrewshire",42,98,197,265,303,319,323,416,480,563,630,832,865,890,963,961]
["Scottish Borders",137,171,217,242,258,322,347,357,394,411,446,492,453,502,510,493]
["Shetland Islands",0,12,25,49,48,42,33,29,49,57,74,58,63,39,51,39]
["South Ayrshire",30,63,86,74,138,158,149,148,174,177,209,209,207,220,224,220]
["South Lanarkshire",268,291,373,414,456,461,510,581,660,711,824,912,939,962,1048,1125]
["Stirling",91,106,120,139,172,184,209,244,264,304,315,339,320,341,371,416]
["West Dunbartonshire",22,77,109,120,87,132,155,169,201,213,266,294,293,311,319,317]
["West Lothian",173,289,359,422,519,630,710,851,1033,1211,1414,1539,1697,1870,1916,1991]

{"sheet":"Births to non-UK mothers","index":35,"n_rows":55,"n_cols":19,"rows_kept":55,"cut":false,"hidden":false,"merged":[]}
["Births to non-UK mothers, 2004 to 2021"]
["This worksheet contains two tables, presented next to each other vertically with one blank row between the tables. "]
["See notes [4], [42], [43] which are explained in the Notes worksheet.  "]
["Return to front page"]
["Council Area","2004","2005","2006","2007","2008","2009","2010","2011","2012","2013","2014","2015","2016","2017","2018","2019","2020","2021"]
["Scotland",4215,4672,5220,6345,7603,7984,8176,8341,8439,8633,9178,8997,9291,9177,8863,8746,8275,8257]
["Aberdeen City",299,330,395,555,726,782,840,838,911,940,986,992,988,884,822,804,706,681]
["Aberdeenshire",163,185,229,270,298,322,359,378,383,364,450,434,454,395,418,324,298,296]
["Angus",59,61,68,85,95,116,101,134,134,133,135,115,139,121,111,95,96,112]
["Argyll and Bute",43,52,55,73,83,83,73,79,78,70,81,87,87,95,72,83,61,79]
["City of Edinburgh",721,835,996,1116,1455,1475,1527,1529,1652,1699,1880,1820,1836,1836,1721,1674,1698,1657]
["Clackmannanshire",18,27,23,53,46,49,48,43,50,42,49,40,41,47,43,33,46,43]
["Dumfries and Galloway",59,71,76,86,81,116,85,96,90,98,91,87,96,99,94,80,95,83]
["Dundee City",135,151,170,215,288,292,290,318,265,238,310,267,307,271,297,258,275,253]
["East Ayrshire",38,41,38,51,52,68,61,76,52,45,44,56,57,57,58,69,57,66]
["East Dunbartonshire",67,65,69,74,80,78,75,77,79,73,87,86,66,98,107,80,99,107]
["East Lothian",51,70,69,77,106,90,112,130,134,115,126,125,129,125,131,130,115,127]
["East Renfrewshire",81,73,79,77,77,82,84,76,81,87,78,92,108,100,83,110,117,111]
["Falkirk",78,97,86,107,143,131,123,144,160,149,164,171,173,160,166,192,159,182]
["Fife",219,227,285,322,388,388,406,424,402,407,408,443,485,443,457,438,437,411]
["Glasgow City",1035,1206,1195,1448,1731,1827,1922,1881,1873,1986,2037,1952,1939,2074,2008,2102,1939,1864]
["Highland",151,163,202,241,261,301,312,269,327,316,337,314,322,274,300,284,252,270]
["Inverclyde",40,41,32,32,36,42,33,34,27,33,28,30,35,27,34,31,31,42]
["Midlothian",40,40,53,75,82,81,71,82,100,85,99,114,128,136,151,180,141,139]
["Moray",64,59,59,102,84,99,87,107,78,112,107,98,112,109,96,81,93,100]
["Na h-Eileanan Siar",11,8,11,13,14,22,10,13,13,21,17,8,26,19,9,10,13,19]
["North Ayrshire",48,55,49,54,55,77,60,52,64,61,56,62,49,56,45,57,49,57]
["North Lanarkshire",141,103,161,189,245,253,277,284,240,265,273,237,288,284,306,298,243,269]
["Orkney Islands",6,4,9,6,13,7,14,8,11,7,11,9,13,11,13,6,9,11]
["Perth and Kinross",92,107,111,145,166,196,204,204,201,211,233,233,223,233,237,221,219,215]
["Renfrewshire",91,88,101,123,155,162,175,176,183,176,186,185,224,232,206,213,183,212]
["Scottish Borders",63,71,84,126,135,118,124,115,135,130,121,121,128,109,111,106,86,91]
["Shetland Islands",14,18,21,15,24,22,23,30,21,22,28,24,24,22,19,19,20,12]
["South Ayrshire",40,49,44,62,59,58,63,61,67,58,59,78,53,65,57,52,50,47]
["South Lanarkshire",124,138,169,195,213,206,207,245,197,227,239,221,264,258,233,260,259,257]
["Stirling",80,61,85,82,85,108,102,100,80,84,109,104,107,109,86,99,87,91]
["West Dunbartonshire",25,28,38,49,49,39,54,60,44,68,51,72,61,66,55,75,59,50]
["West Lothian",119,148,158,227,278,294,254,278,307,311,298,320,329,362,317,282,283,303]
[]
["NHS Board Areas","2004","2005","2006","2007","2008","2009","2010","2011","2012","2013","2014","2015","2016","2017","2018","2019","2020","2021"]
["Scotland",4215,4672,5220,6345,7603,7984,8176,8341,8439,8633,9178,8997,9291,9177,8863,8746,8275,8257]
["Ayrshire and Arran",126,145,131,167,166,203,184,189,183,164,159,196,159,178,160,178,156,170]
["Borders",63,71,84,126,135,118,124,115,135,130,121,121,128,109,111,106,86,91]
["Dumfries and Galloway",59,71,76,86,81,116,85,96,90,98,91,87,96,99,94,80,95,83]
["Fife",219,227,285,322,388,388,406,424,402,407,408,443,485,443,457,438,437,411]
["Forth Valley",176,185,194,242,275,288,273,287,290,275,322,315,321,316,295,324,292,316]
["Grampian",526,574,683,927,1108,1203,1286,1323,1372,1416,1543,1524,1554,1388,1336,1209,1097,1077]
["Greater Glasgow and Clyde",1391,1546,1560,1864,2196,2291,2408,2384,2287,2423,2467,2417,2433,2597,2493,2611,2428,2386]
["Highland",194,215,257,314,344,384,385,348,405,386,418,401,409,369,372,367,313,349]
["Lanarkshire",213,196,285,323,391,398,419,450,437,492,512,458,552,542,539,558,502,526]
["Lothian",931,1093,1275,1495,1920,1940,1964,2018,2193,2210,2403,2379,2422,2459,2320,2266,2237,2226]
["Orkney",6,4,9,6,13,7,14,8,11,7,11,9,13,11,13,6,9,11]
["Shetland",14,18,21,15,24,22,23,30,21,22,28,24,24,22,19,19,20,12]
["Tayside",286,319,349,445,548,604,595,656,600,582,678,615,669,625,645,574,590,580]
["Western Isles",11,8,11,13,14,22,10,13,13,21,17,8,26,19,9,10,13,19]

{"sheet":"Births to non-UK mothers %birth","index":36,"n_rows":55,"n_cols":19,"rows_kept":55,"cut":false,"hidden":false,"merged":[]}
["Births to non-UK mothers as percentage of total births, 2004 to 2021"]
["This worksheet contains two tables, presented next to each other vertically with one blank row between the tables. "]
["See notes [4], [42], [43] which are explained in the Notes worksheet.  "]
["Return to front page"]
["Council Area","2004","2005","2006","2007","2008","2009","2010","2011","2012","2013","2014","2015","2016","2017","2018","2019","2020","2021"]
["Scotland",7.8117760438867991,8.5904460706799544,9.3733165738911826,10.981118360706807,12.663013607368297,13.521661077803746,13.90689051045228,14.236217784604882,14.543229875747496,15.412218373977934,16.179814896430145,16.329086355221605,17.051460872118632,17.360625035470385,17.274109300693848,17.540059763752684,17.678224273109873,17.279119407357804]
["Aberdeen City",14.409638554216867,16.011644832605533,17.954545454545453,22.962350020686802,27.966101694915253,30.499219968798752,32.320123124278574,32.131901840490798,33.891369047619044,37.6,38.440545808966867,38.02223073974703,39.190797302657678,36.802664446294756,35.173299101412063,35.575221238938056,35.176880916791234,33.365997060264576]
["Aberdeenshire",6.8257956448911221,7.5050709939148073,8.8451139436075703,10.037174721189592,10.754240346445327,11.091973820186015,13.164649798313164,14.025974025974024,13.358911754447158,13.496477567667778,15.867418899858956,15.012106537530268,16.150836001422981,14.855208725084617,15.49870226177234,13.5,13.030170529077395,12.654980761008977]
["Angus",5.5088702147525677,5.5707762557077629,6.1261261261261257,7.3784722222222223,7.9564489112227816,9.9570815450643781,9.2153284671532845,11.601731601731602,11.591695501730104,11.97119711971197,11.780104712041885,10.7981220657277,13.560975609756099,11.480075901328274,11.514522821576763,9.8445595854922274,11.162790697674419,12.240437158469945]
["Argyll and Bute",5.3283767038413883,6.7270375161707623,7.042253521126761,9.8515519568151149,10.285006195786865,10.184049079754601,9.5674967234600263,10.604026845637584,10.196078431372548,9.873060648801129,11.141678129298487,12.645348837209303,12.446351931330472,14.285714285714285,11.111111111111111,13.153724247226625,10.304054054054054,13.18864774624374]
["City of Edinburgh",15.783712784588442,17.800042634832657,20.351450756027788,22.072784810126585,26.746323529411764,26.94063926940639,27.503602305475503,27.500000000000004,29.468426685693899,30.969741159314619,33.849477853799065,34.508911642017445,34.641509433962263,36.479237035565269,35.129618289446825,35.746316463805258,37.335092348284959,35.611433483773908]
["Clackmannanshire",3.5928143712574849,5.1136363636363642,4.2124542124542126,8.3596214511041005,7.1428571428571423,8.0327868852459012,7.741935483870968,7.624113475177305,7.9744816586921852,7.6363636363636367,8.7971274685816869,7.2332730560578664,8.1188118811881189,8.7686567164179117,9.2473118279569881,7.9710144927536222,10.36036036036036,8.6345381526104426]
["Dumfries and Galloway",4.1229909154437454,5.0461975835110158,5.1665533650577844,5.7067020570670213,5.6643356643356642,7.6974120769741212,5.8823529411764701,6.8767908309455592,6.4748201438848918,7.3850791258477768,7.0762052877138411,6.9267515923566876,7.2837632776934749,7.9326923076923075,7.8464106844741242,6.9384215091066777,8.3553210202286721,7.6638965835641741]
["Dundee City",8.7719298245614024,9.7734627831715208,10.848755583918315,12.88968824940048,15.991116046640755,16.515837104072396,16.618911174785101,18.016997167138811,15.424912689173457,14.968553459119496,18.075801749271136,17.170418006430868,19.479695431472081,18.151373074346953,19.959677419354836,18.207480592801694,21.367521367521366,20.159362549800797]
["East Ayrshire",2.989771833202203,3.2591414944356121,2.8875379939209727,3.9110429447852764,3.7928519328956964,4.9926578560939792,4.5727136431784112,5.5800293685756248,3.8291605301914582,3.3532041728763042,3.5087719298245612,4.2200452147701579,4.4705882352941178,4.9522154648132064,4.9319727891156457,5.8673469387755102,5.1212938005390836,5.8823529411764701]
["East Dunbartonshire",7.5365579302587182,6.9892473118279561,7.4837310195227769,8.2959641255605376,8.2474226804123703,8.3961248654467155,8.1168831168831161,8.3333333333333321,8.8366890380313201,7.8918918918918921,9.3851132686084142,8.8568486096807408,6.9400630914826493,9.4594594594594597,11.263157894736842,8.791208791208792,11.199095022624435,11.915367483296215]
["East Lothian",5.3684210526315796,6.6413662239089177,6.5340909090909092,6.9936421435059044,8.9678510998307956,8.4745762711864394,9.9732858414959935,11.545293072824157,12.418906394810008,10.879848628192999,12.450592885375494,11.781338360037701,12.39193083573487,12.873326467559219,12.84313725490196,13.360739979445016,11.979166666666668,13.025641025641024]
["East Renfrewshire",8.6078639744952188,8.1291759465478837,9.2074592074592072,8.6226203807390824,8.870967741935484,9.6698113207547181,9.6330275229357802,9.4175960346964054,9.1940976163450614,9.8863636363636367,9.1441969519343491,10.562571756601608,12.543554006968641,11.286681715575622,9.7189695550351285,13.613861386138614,14.680050188205771,14.050632911392405]
["Falkirk",4.4956772334293946,5.5811277330264666,4.89470688673876,5.6553911205073994,7.3370959466393018,6.9903948772678763,6.5635005336179288,8.1957882754695515,8.8593576965669989,8.9328537170263793,9.5571095571095572,10.727728983688834,11.054313099041533,10.21059349074665,11.118553248492967,13.150684931506849,11.103351955307263,12.414733969986358]
["Fife",5.8634538152610443,5.9253458626990341,7.1267816954238565,7.8999018645731116,8.9215911703839961,9.3833131801692868,9.7315436241610733,9.9343955014058114,10.002488181139586,10.511363636363637,10.491128824890717,11.797603195739015,12.971382722653116,12.784992784992784,13.135958608795631,13.172932330827066,13.899491094147582,13.018688628444727]
["Glasgow City",15.653357531760436,17.649641445924193,18.059543599818646,20.24042493709813,23.483923483923483,24.321086261980831,25.406477197620621,24.649456165640153,24.830969110433514,27.377998345740277,27.287340924313462,27.547276319503244,28.376993999707302,30.268534734384122,30.665852168601099,32.076911338318325,33.04925856485427,31.438691178950918]
["Highland",6.9425287356321839,7.2995969547693687,9.3561834182491896,10.334476843910807,10.515713134568896,12.679022746419545,12.646939602756385,11.471215351812367,13.739495798319329,14.151365875503807,14.588744588744589,14.144144144144144,14.976744186046512,13.116323599808521,14.962593516209477,14.445574771108852,13.504823151125404,14.323607427055704]
["Inverclyde",4.4543429844097995,4.5454545454545459,3.7825059101654848,3.7339556592765457,4.1860465116279073,5.1660516605166054,4.1719342604298353,4.176904176904177,3.524804177545692,4.3766578249336874,3.763440860215054,4.2194092827004219,4.9575070821529748,4.0479760119940025,4.9346879535558781,5.0406504065040654,5.0406504065040654,6.9421487603305785]
["Midlothian",4.5402951191827468,4.6136101499423301,5.9751972942502816,8.0042689434364984,8.7420042643923246,8.553326293558607,7.1428571428571423,8.3758937691521957,9.433962264150944,8.3661417322834648,9.5837366892545983,10.536044362292053,11.76470588235294,12.285456187895212,14.046511627906977,17.029328287606432,14.402451481103167,12.978524743230627]
["Moray",7.4941451990632322,6.7198177676537592,6.5628476084538381,10.18981018981019,8.7866108786610866,10.248447204968944,9.375,10.996916752312435,8.524590163934425,11.715481171548117,11.493018259935553,10.828729281767956,11.92758253461129,12.733644859813085,11.636363636363637,9.9264705882352935,10.87719298245614,11.82033096926714]
["Na h-Eileanan Siar",4.9327354260089686,3.4334763948497855,4.0145985401459852,4.9429657794676807,5.4474708171206228,9.6916299559471373,4.2553191489361701,5.5319148936170208,5.485232067510549,8.536585365853659,7.5221238938053103,3.6036036036036037,10.92436974789916,8.8372093023255811,4.3689320388349513,5,7.1038251366120218,10.497237569060774]
["North Ayrshire",3.4139402560455197,3.9883973894126177,3.2644903397734839,3.5340314136125657,3.7137069547602972,5.1401869158878499,4.1379310344827589,3.5812672176308542,4.7548291233283804,4.667176740627391,4.361370716510903,4.9402390438247012,3.938906752411576,4.6940486169321041,4,5.0711743772241995,4.4263775971093047,5.3320860617399441]
["North Lanarkshire",3.5205992509363293,2.6864893062076161,4.0239940014996245,4.6724351050679855,5.8584409373505499,6.2208015736415048,7.0501399847289381,7.1124467818682691,6.4171122994652414,7.0893525949705731,7.3406829792955097,6.3778256189451019,8.2027912275704917,7.9820123664980329,9.0345438441098302,8.66783013379872,7.9646017699115044,8.1614077669902922]
["Orkney Islands",3.5087719298245612,2.2222222222222223,4.225352112676056,3.1578947368421053,6.0747663551401869,3.5175879396984926,7.1065989847715745,3.9024390243902438,5.4726368159203984,3.4825870646766171,6.0773480662983426,4.7120418848167542,7.3033707865168536,5.9782608695652177,6.9892473118279561,3.296703296703297,4.918032786885246,6.4327485380116958]
["Perth and Kinross",7.1595330739299605,7.9435783221974754,8.3395942900075131,10.424155283968368,11.503811503811503,13.754385964912281,13.915416098226466,14.098134070490669,15.740015661707126,15.984848484848484,17.170228445099482,17.170228445099482,16.830188679245282,19.256198347107439,19.474116680361544,18.462823725981618,18.465430016863408,18.006700167504189]
["Renfrewshire",4.8275862068965516,4.7084002140181918,5.4951033732317738,6.4805057955742891,7.7037773359840953,8.6677367576243967,8.7719298245614024,9.62800875273523,9.3367346938775508,9.8269123394751539,10.259238830667403,10.80607476635514,12.633953750705022,12.931995540691194,12.139068945197407,12.581216774955701,11.890838206627679,12.871888281724347]
["Scottish Borders",5.9885931558935361,6.7812798471824252,7.5607560756075607,10.76923076923077,11.86291739894552,10.181190681622088,10.680447889750216,10.379061371841155,11.842105263157894,11.423550087873462,11.193339500462535,11.668273866923819,12.736318407960198,11.021233569261881,11.280487804878049,11.572052401746726,10.177514792899409,10.68075117370892]
["Shetland Islands",6.0869565217391308,7.929515418502203,7.8358208955223887,6.1475409836065573,8.6330935251798557,8.0586080586080584,8.6466165413533833,12.396694214876034,7.608695652173914,8.4291187739463602,11.067193675889328,10.256410256410255,9.0225563909774422,10.091743119266056,8.8372093023255811,9.2682926829268286,11.363636363636363,6]
["South Ayrshire",3.8834951456310676,5.0204918032786887,4.3478260869565215,6.0252672497570456,5.5295220243673855,5.5028462998102468,6.0869565217391308,5.6849953401677542,6.7201604814443332,5.811623246492986,5.7115198451113267,7.5728155339805827,5.4303278688524586,6.9370330843116337,6.1158798283261806,6.2126642771804059,6.119951040391677,6.0723514211886309]
["South Lanarkshire",3.6926742108397859,4.1541240216736908,4.7956867196367758,5.6488991888760136,5.773922472214692,5.9417363715027403,6.0561732007021645,6.9960022844089087,5.837037037037037,6.9376528117359406,7.0252792475014703,6.9387755102040813,7.9638009049773748,8.0499219968798741,7.3897875039644791,8.3628176262463807,8.8759424263193978,8.2663235767127698]
["Stirling",8.5653104925053523,6.9873997709049256,9.361233480176212,9.3394077448747161,9.8607888631090486,12.514484356894554,12.200956937799043,12.004801920768307,9.7442143727161987,10.408921933085502,12.960760998810938,13.131313131313133,13.258983890954152,13.557213930348258,11.360634081902246,13.432835820895523,12.5,13.582089552238804]
["West Dunbartonshire",2.5025025025025025,2.8000000000000003,3.6398467432950192,4.4343891402714934,4.4384057971014492,3.6044362292051755,5.1724137931034484,5.6390977443609023,4.1745730550284632,6.9458631256384056,5.1724137931034484,7.7922077922077921,6.367432150313153,7.4074074074074066,6.2146892655367232,8.8757396449704142,7.6523994811932559,6.5019505851755532]
["West Lothian",5.7823129251700678,7.0075757575757569,7.211319032405294,9.9387040280210162,11.90578158458244,13.160250671441363,11.715867158671585,13.027179006560448,14.7242206235012,15.327747658945293,14.687037949728932,16.251904520060943,16.540975364504774,18.795430944963655,18.072976054732042,15.684093437152391,17.017438364401684,17.544875506658947]
[]
["NHS Board Areas","2004","2005","2006","2007","2008","2009","2010","2011","2012","2013","2014","2015","2016","2017","2018","2019","2020","2021"]
["Scotland",7.8117760438867991,8.5904460706799544,9.3733165738911826,10.981118360706807,12.663013607368297,13.521661077803746,13.90689051045228,14.236217784604882,14.543229875747496,15.412218373977934,16.179814896430145,16.329086355221605,17.051460872118632,17.360625035470385,17.274109300693848,17.540059763752684,17.678224273109873,17.279119407357804]
["Ayrshire and Arran",3.3989749123280282,4.0132853584278987,3.4212588143118312,4.3253043253043248,4.2357744322531259,5.1865099642309653,4.8180151872217856,4.8623617185490096,4.9446095649824366,4.4968467233342473,4.4525343041164938,5.4263565891472867,4.5493562231759652,5.4251752514477296,4.9489638107021348,5.674211029646159,5.1366480079025356,5.7335581787521077]
["Borders",5.9942911512844903,6.7812798471824252,7.5743913435527501,10.778443113772456,11.86291739894552,10.198789974070872,10.680447889750216,10.379061371841155,11.842105263157894,11.423550087873462,11.193339500462535,11.668273866923819,12.736318407960198,11.021233569261881,11.280487804878049,11.572052401746726,10.177514792899409,10.68075117370892]
["Dumfries and Galloway",4.1229909154437454,5.0461975835110158,5.1665533650577844,5.7067020570670213,5.6643356643356642,7.6974120769741212,5.8823529411764701,6.8767908309455592,6.4748201438848918,7.3850791258477768,7.0762052877138411,6.9267515923566876,7.2837632776934749,7.9326923076923075,7.8464106844741242,6.9384215091066777,8.3553210202286721,7.6638965835641741]
["Fife",5.8634538152610443,5.9253458626990341,7.1267816954238565,7.8999018645731116,8.9215911703839961,9.3833131801692868,9.7315436241610733,9.9343955014058114,10.002488181139586,10.511363636363637,10.491128824890717,11.797603195739015,12.971382722653116,12.784992784992784,13.135958608795631,13.172932330827066,13.899491094147582,13.018688628444727]
["Forth Valley",5.5502995900346894,5.8992346938775508,6.0417315478044218,7.1071953010279003,7.9617834394904454,8.6098654708520179,8.1981981981981971,9.0995561192136982,8.9121081745543957,9.0909090909090917,10.340398201669879,10.717931269139163,11.157455683003128,10.8703130374957,10.865561694290976,12.409038682497126,11.353032659409021,11.996962794229308]
["Grampian",9.8927966898627044,10.621761658031089,12.00773558368495,15.176817288801573,17.523327534398227,18.700450800559615,20.562839782539175,21.080305927342256,21.205564142194746,23.013164310092638,24.368288060644346,23.793911007025763,24.780736724605326,23.457833361500761,22.80252602833248,22.078159240321401,21.305107787919987,20.608495981630309]
["Greater Glasgow and Clyde",10.62237495227186,11.615326821938392,11.932991662204543,13.55537779070613,15.441952042753673,16.346771316446667,17.070750035445908,16.947465699864932,17.460681020003054,19.256139235476436,19.291523303096653,19.690427698574339,20.137394471114053,21.416790367804715,21.448851415297256,22.855392156862745,23.183424042776661,22.429028012784357]
["Highland",6.5057008718980551,7.1523619427811047,8.7414965986394559,10.221354166666668,10.459106111280024,12.041392285983067,11.919504643962849,11.262135922330096,12.877583465818759,13.120326308633581,13.763582482713204,13.789546079779919,14.355914355914356,13.398692810457517,14.021862042970223,14.131690412013862,12.739112739112739,14.049919484702095]
["Lanarkshire",3.2784362013236881,3.1195288874741363,4.3286755771567442,4.9328039095907146,5.7096962616822431,6.0532319391634983,6.501163692785104,6.9209474007997542,6.1419536191145463,7.0185449358059913,7.1900014042971501,6.6367193160411535,8.0867272194550246,8.0141948839272512,8.2415902140672781,8.5229876279211858,8.4101189478974696,8.2123341139734585]
["Lothian",11.01253844334043,12.53009285796171,14.124293785310735,15.941565365749627,19.421404005664574,19.960901327297048,19.991856677524432,20.604451705125587,22.309257375381485,23.049645390070921,24.958454507685914,25.346260387811636,25.716712677850921,27.210357419497623,26.52034750800183,26.624368464340264,27.444485339222179,26.418229290291954]
["Orkney",3.5087719298245612,2.2222222222222223,4.225352112676056,3.1578947368421053,6.0747663551401869,3.5175879396984926,7.1065989847715745,3.9024390243902438,5.4726368159203984,3.4825870646766171,6.0773480662983426,4.7120418848167542,7.3033707865168536,5.9782608695652177,6.9892473118279561,3.296703296703297,4.918032786885246,6.4327485380116958]
["Shetland",6.0869565217391308,7.929515418502203,7.8358208955223887,6.1475409836065573,8.6330935251798557,8.0586080586080584,8.6466165413533833,12.396694214876034,7.608695652173914,8.4291187739463602,11.067193675889328,10.256410256410255,9.0225563909774422,10.091743119266056,8.8372093023255811,9.2682926829268286,11.363636363636363,6]
["Tayside",7.3465193937837139,8.003010536879076,8.7162837162837175,10.572582561178427,12.356257046223226,13.859568609453879,13.814720222892966,15.025194686211634,14.454348349795229,14.474011439940313,16.073968705547653,15.463917525773196,17.040244523688234,16.63561352142667,17.57972199509403,16.037999441184688,17.7017701770177,17.241379310344829]
["Western Isles",4.9327354260089686,3.4334763948497855,4.0145985401459852,4.9429657794676807,5.4474708171206228,9.6916299559471373,4.2553191489361701,5.5319148936170208,5.485232067510549,8.536585365853659,7.5221238938053103,3.6036036036036037,10.92436974789916,8.8372093023255811,4.3689320388349513,5,7.1038251366120218,10.497237569060774]

{"sheet":"Citizenships","index":37,"n_rows":38,"n_cols":19,"rows_kept":38,"cut":false,"hidden":false,"merged":[]}
["People attending citizenship ceremonies, by Council Area, 2004 to 2021"]
["This worksheet contains one table. Some shorthand is used in this table, [x] = not available."]
["See notes [44], [45], [46], [47] which are explained in the Notes worksheet.  "]
["Return to front page"]
["Council Area","2004","2005","2006","2007","2008","2009","2010","2011","2012","2013","2014","2015","2016","2017","2018","2019","2020","2021"]
["Scotland",881,2428,2280,2833,2172,4529,4767,4417,4746,5716,3956,3542,4462,3282,4439,4460,2953,"[x]"]
["Aberdeen City",59,195,183,233,182,373,429,422,609,857,720,629,650,400,590,557,289,"[x]"]
["Aberdeenshire",34,58,58,56,57,118,124,154,180,220,194,211,193,125,189,200,90,"[x]"]
["Angus",10,31,15,21,22,41,33,51,33,43,27,18,30,32,21,37,12,"[x]"]
["Argyll and Bute",8,20,19,25,16,31,34,30,46,36,27,22,30,23,28,29,15,"[x]"]
["City of Edinburgh",181,514,462,637,466,849,807,842,887,1054,766,760,952,786,1112,1102,762,"[x]"]
["Clackmannanshire",3,8,11,19,12,17,11,10,23,18,13,12,10,7,25,16,10,"[x]"]
["Dumfries and Galloway",14,40,17,40,23,45,71,60,65,42,25,29,41,23,29,22,28,"[x]"]
["Dundee City",26,94,77,90,74,150,155,141,152,192,121,124,128,88,128,117,82,"[x]"]
["East Ayrshire",7,20,24,12,17,31,22,37,27,28,15,16,16,11,26,31,6,"[x]"]
["East Dunbartonshire",29,65,72,39,41,67,49,63,61,74,54,52,54,33,67,50,37,"[x]"]
["East Lothian",11,26,15,22,31,28,35,29,43,49,27,32,39,34,45,54,36,"[x]"]
["East Renfrewshire",20,44,46,51,31,90,83,63,67,82,61,44,87,56,64,69,54,"[x]"]
["Falkirk",14,39,25,45,31,58,53,62,71,76,48,46,66,54,58,56,53,"[x]"]
["Fife",59,117,110,111,94,162,206,183,175,177,145,130,160,119,163,169,109,"[x]"]
["Glasgow City",194,588,681,771,641,1517,1614,1313,1253,1518,915,723,1078,750,1004,1037,785,"[x]"]
["Highland",14,58,40,57,53,117,126,101,124,183,75,78,101,88,101,107,51,"[x]"]
["Inverclyde",6,11,13,19,10,25,29,21,28,31,17,4,19,9,17,13,5,"[x]"]
["Midlothian",6,26,16,29,26,49,35,33,44,60,50,49,59,56,54,60,69,"[x]"]
["Moray",11,22,20,23,13,21,27,16,42,35,29,36,37,19,30,27,23,"[x]"]
["Na h-Eileanan Siar",1,7,5,3,7,10,7,11,8,19,9,5,6,7,10,4,5,"[x]"]
["North Ayrshire",9,29,23,22,16,25,41,41,41,31,21,23,27,22,17,24,11,"[x]"]
["North Lanarkshire",30,66,61,88,42,123,149,120,147,140,80,67,103,62,96,83,71,"[x]"]
["Orkney Islands",0,3,4,2,1,6,3,6,5,7,5,2,8,8,6,4,4,"[x]"]
["Perth and Kinross",18,32,25,57,26,75,66,72,82,86,54,53,63,62,63,100,40,"[x]"]
["Renfrewshire",13,51,40,54,42,77,95,84,101,128,75,86,89,71,84,99,58,"[x]"]
["Scottish Borders",16,32,19,28,18,27,35,31,47,51,27,28,26,26,37,23,27,"[x]"]
["Shetland Islands",2,6,4,14,11,14,5,12,11,18,9,9,9,7,19,23,7,"[x]"]
["South Ayrshire",12,33,25,24,19,39,46,23,32,40,35,26,36,36,29,40,18,"[x]"]
["South Lanarkshire",26,93,72,108,76,164,199,197,166,198,138,110,136,111,126,104,50,"[x]"]
["Stirling",11,27,24,31,6,34,30,43,44,48,46,27,41,32,56,44,35,"[x]"]
["West Dunbartonshire",6,11,12,18,20,48,40,40,33,50,23,11,31,23,19,29,25,"[x]"]
["West Lothian",31,62,62,84,48,98,108,106,99,125,105,80,137,102,126,130,86,"[x]"]

{"sheet":"2011","index":38,"n_rows":53,"n_cols":25,"rows_kept":53,"cut":false,"hidden":true,"merged":[]}
[null,2011]
[null,null,"Not specified ",{"$f":"'Comparing Indicators'!$U8","v":"Total net migration"},{"$f":"'Comparing Indicators'!$U9","v":"Total net migration for ages 0-15"},{"$f":"'Comparing Indicators'!$U10","v":"Total net migration for ages 16-64"},{"$f":"'Comparing Indicators'!$U11","v":"Total net migration for people aged 65+"},{"$f":"'Comparing Indicators'!$U12","v":"Total in-migration"},{"$f":"'Comparing Indicators'!$U13","v":"Total out-migration"},{"$f":"'Comparing Indicators'!$U14","v":"Within Scotland net migration"},{"$f":"'Comparing Indicators'!$U15","v":"Within Scotland in-migration"},{"$f":"'Comparing Indicators'!$U16","v":"Within Scotland out-migration"},{"$f":"'Comparing Indicators'!$U17","v":"Rest of UK net migration"},{"$f":"'Comparing Indicators'!$U18","v":"Rest of UK in-migration"},{"$f":"'Comparing Indicators'!$U19","v":"Rest of UK out-migration"},{"$f":"'Comparing Indicators'!$U20","v":"International net migration"},{"$f":"'Comparing Indicators'!$U21","v":"International in-migration"},{"$f":"'Comparing Indicators'!$U22","v":"International out-migration"},{"$f":"'Comparing Indicators'!$U23","v":"NINo Allocation"},{"$f":"'Comparing Indicators'!$U24","v":"Births to non-UK mothers"},{"$f":"'Comparing Indicators'!$U25","v":"Pupils from a minority ethnic group"},{"$f":"'Comparing Indicators'!$U26","v":"Pupils with English as an additional language"},{"$f":"'Comparing Indicators'!$U27","v":"Population born outside the UK"},{"$f":"'Comparing Indicators'!$U28","v":"Population with non-British nationality"},{"$f":"'Comparing Indicators'!$U29","v":"Citizenships"}]
[1,"Not specified"]
[2,"Scotland",null,{"$f":"'Total net migration'!I6","v":30200},{"$f":"'Total net migration 0-15'!I6","v":3490},{"$f":"'Total net migration 16-64'!I6","v":26224},{"$f":"'Total net migration 65+'!I6","v":495},{"$f":"'Total in-migration'!I6","v":87900},{"$f":"'Total out-migration'!I6","v":57700},{"$f":"'Within Scotland net migration'!I6","v":"[z]"},{"$f":"'Within Scotland in-migration'!I6","v":"[z]"},{"$f":"'Within Scotland out-migration'!I6","v":"[z]"},{"$f":"'Rest of UK net migration'!I6","v":2900},{"$f":"'Rest of UK in-migration'!I6","v":43700},{"$f":"'Rest of UK out-migration'!I6","v":40800},{"$f":"'International net migration'!I6","v":27300},{"$f":"'International in-migration'!I6","v":44200},{"$f":"'International out-migration'!I6","v":16900},{"$f":"NINo!I6","v":39500},{"$f":"'Births to non-UK mothers'!I6","v":8341},{"$f":"'Pupils'' ethnic group (TS)'!J6","v":35253},{"$f":"'Pupils with English as an add.'!G6","v":24555},{"$f":"'Pop born outside UK'!I6","v":339000},{"$f":"'Non-British Population'!I6","v":257000},{"$f":"Citizenships!I6","v":4417}]
[3,"Aberdeen City",null,{"$f":"'Total net migration'!I7","v":3080},{"$f":"'Total net migration 0-15'!I7","v":307},{"$f":"'Total net migration 16-64'!I7","v":2859},{"$f":"'Total net migration 65+'!I7","v":-88},{"$f":"'Total in-migration'!I7","v":13580},{"$f":"'Total out-migration'!I7","v":10500},{"$f":"'Within Scotland net migration'!I7","v":-1060},{"$f":"'Within Scotland in-migration'!I7","v":5960},{"$f":"'Within Scotland out-migration'!I7","v":7010},{"$f":"'Rest of UK net migration'!I7","v":0},{"$f":"'Rest of UK in-migration'!I7","v":2340},{"$f":"'Rest of UK out-migration'!I7","v":2340},{"$f":"'International net migration'!I7","v":4130},{"$f":"'International in-migration'!I7","v":5280},{"$f":"'International out-migration'!I7","v":1150},{"$f":"NINo!I7","v":4600},{"$f":"'Births to non-UK mothers'!I7","v":838},{"$f":"'Pupils'' ethnic group (TS)'!J7","v":2034},{"$f":"'Pupils with English as an add.'!G7","v":1833},{"$f":"'Pop born outside UK'!I7","v":32000},{"$f":"'Non-British Population'!I7","v":30000},{"$f":"Citizenships!I7","v":422}]
[4,"Aberdeenshire",null,{"$f":"'Total net migration'!I8","v":1380},{"$f":"'Total net migration 0-15'!I8","v":453},{"$f":"'Total net migration 16-64'!I8","v":975},{"$f":"'Total net migration 65+'!I8","v":-44},{"$f":"'Total in-migration'!I8","v":8840},{"$f":"'Total out-migration'!I8","v":7450},{"$f":"'Within Scotland net migration'!I8","v":790},{"$f":"'Within Scotland in-migration'!I8","v":5790},{"$f":"'Within Scotland out-migration'!I8","v":5000},{"$f":"'Rest of UK net migration'!I8","v":-130},{"$f":"'Rest of UK in-migration'!I8","v":1610},{"$f":"'Rest of UK out-migration'!I8","v":1740},{"$f":"'International net migration'!I8","v":720},{"$f":"'International in-migration'!I8","v":1440},{"$f":"'International out-migration'!I8","v":720},{"$f":"NINo!I8","v":1500},{"$f":"'Births to non-UK mothers'!I8","v":378},{"$f":"'Pupils'' ethnic group (TS)'!J8","v":711},{"$f":"'Pupils with English as an add.'!G8","v":925},{"$f":"'Pop born outside UK'!I8","v":17000},{"$f":"'Non-British Population'!I8","v":11000},{"$f":"Citizenships!I8","v":154}]
[5,"Angus",null,{"$f":"'Total net migration'!I9","v":120},{"$f":"'Total net migration 0-15'!I9","v":93},{"$f":"'Total net migration 16-64'!I9","v":-35},{"$f":"'Total net migration 65+'!I9","v":57},{"$f":"'Total in-migration'!I9","v":3600},{"$f":"'Total out-migration'!I9","v":3490},{"$f":"'Within Scotland net migration'!I9","v":-30},{"$f":"'Within Scotland in-migration'!I9","v":2570},{"$f":"'Within Scotland out-migration'!I9","v":2600},{"$f":"'Rest of UK net migration'!I9","v":-90},{"$f":"'Rest of UK in-migration'!I9","v":520},{"$f":"'Rest of UK out-migration'!I9","v":610},{"$f":"'International net migration'!I9","v":240},{"$f":"'International in-migration'!I9","v":510},{"$f":"'International out-migration'!I9","v":280},{"$f":"NINo!I9","v":1140},{"$f":"'Births to non-UK mothers'!I9","v":134},{"$f":"'Pupils'' ethnic group (TS)'!J9","v":366},{"$f":"'Pupils with English as an add.'!G9","v":299},{"$f":"'Pop born outside UK'!I9","v":4000},{"$f":"'Non-British Population'!I9","v":2000},{"$f":"Citizenships!I9","v":51}]
[6,"Argyll and Bute",null,{"$f":"'Total net migration'!I10","v":300},{"$f":"'Total net migration 0-15'!I10","v":135},{"$f":"'Total net migration 16-64'!I10","v":181},{"$f":"'Total net migration 65+'!I10","v":-12},{"$f":"'Total in-migration'!I10","v":3740},{"$f":"'Total out-migration'!I10","v":3430},{"$f":"'Within Scotland net migration'!I10","v":-120},{"$f":"'Within Scotland in-migration'!I10","v":2050},{"$f":"'Within Scotland out-migration'!I10","v":2170},{"$f":"'Rest of UK net migration'!I10","v":370},{"$f":"'Rest of UK in-migration'!I10","v":1330},{"$f":"'Rest of UK out-migration'!I10","v":960},{"$f":"'International net migration'!I10","v":60},{"$f":"'International in-migration'!I10","v":360},{"$f":"'International out-migration'!I10","v":310},{"$f":"NINo!I10","v":360},{"$f":"'Births to non-UK mothers'!I10","v":79},{"$f":"'Pupils'' ethnic group (TS)'!J10","v":214},{"$f":"'Pupils with English as an add.'!G10","v":124},{"$f":"'Pop born outside UK'!I10","v":4000},{"$f":"'Non-British Population'!I10","v":2000},{"$f":"Citizenships!I10","v":30}]
[7,"City of Edinburgh",null,{"$f":"'Total net migration'!I11","v":8040},{"$f":"'Total net migration 0-15'!I11","v":239},{"$f":"'Total net migration 16-64'!I11","v":7825},{"$f":"'Total net migration 65+'!I11","v":-20},{"$f":"'Total in-migration'!I11","v":29900},{"$f":"'Total out-migration'!I11","v":21860},{"$f":"'Within Scotland net migration'!I11","v":-390},{"$f":"'Within Scotland in-migration'!I11","v":10810},{"$f":"'Within Scotland out-migration'!I11","v":11210},{"$f":"'Rest of UK net migration'!I11","v":360},{"$f":"'Rest of UK in-migration'!I11","v":7870},{"$f":"'Rest of UK out-migration'!I11","v":7510},{"$f":"'International net migration'!I11","v":8080},{"$f":"'International in-migration'!I11","v":11220},{"$f":"'International out-migration'!I11","v":3140},{"$f":"NINo!I11","v":10590},{"$f":"'Births to non-UK mothers'!I11","v":1529},{"$f":"'Pupils'' ethnic group (TS)'!J11","v":5246},{"$f":"'Pupils with English as an add.'!G11","v":3588},{"$f":"'Pop born outside UK'!I11","v":66000},{"$f":"'Non-British Population'!I11","v":54000},{"$f":"Citizenships!I11","v":842}]
[8,"Clackmannanshire",null,{"$f":"'Total net migration'!I12","v":-10},{"$f":"'Total net migration 0-15'!I12","v":1},{"$f":"'Total net migration 16-64'!I12","v":-18},{"$f":"'Total net migration 65+'!I12","v":9},{"$f":"'Total in-migration'!I12","v":1530},{"$f":"'Total out-migration'!I12","v":1530},{"$f":"'Within Scotland net migration'!I12","v":-10},{"$f":"'Within Scotland in-migration'!I12","v":1130},{"$f":"'Within Scotland out-migration'!I12","v":1140},{"$f":"'Rest of UK net migration'!I12","v":-10},{"$f":"'Rest of UK in-migration'!I12","v":290},{"$f":"'Rest of UK out-migration'!I12","v":300},{"$f":"'International net migration'!I12","v":10},{"$f":"'International in-migration'!I12","v":100},{"$f":"'International out-migration'!I12","v":100},{"$f":"NINo!I12","v":90},{"$f":"'Births to non-UK mothers'!I12","v":43},{"$f":"'Pupils'' ethnic group (TS)'!J12","v":186},{"$f":"'Pupils with English as an add.'!G12","v":115},{"$f":"'Pop born outside UK'!I12","v":2000},{"$f":"'Non-British Population'!I12","v":2000},{"$f":"Citizenships!I12","v":10}]
[9,"Dumfries and Galloway",null,{"$f":"'Total net migration'!I13","v":380},{"$f":"'Total net migration 0-15'!I13","v":113},{"$f":"'Total net migration 16-64'!I13","v":230},{"$f":"'Total net migration 65+'!I13","v":34},{"$f":"'Total in-migration'!I13","v":4000},{"$f":"'Total out-migration'!I13","v":3630},{"$f":"'Within Scotland net migration'!I13","v":-90},{"$f":"'Within Scotland in-migration'!I13","v":1650},{"$f":"'Within Scotland out-migration'!I13","v":1740},{"$f":"'Rest of UK net migration'!I13","v":450},{"$f":"'Rest of UK in-migration'!I13","v":1990},{"$f":"'Rest of UK out-migration'!I13","v":1540},{"$f":"'International net migration'!I13","v":20},{"$f":"'International in-migration'!I13","v":360},{"$f":"'International out-migration'!I13","v":340},{"$f":"NINo!I13","v":310},{"$f":"'Births to non-UK mothers'!I13","v":96},{"$f":"'Pupils'' ethnic group (TS)'!J13","v":411},{"$f":"'Pupils with English as an add.'!G13","v":260},{"$f":"'Pop born outside UK'!I13","v":5000},{"$f":"'Non-British Population'!I13","v":2000},{"$f":"Citizenships!I13","v":60}]
[10,"Dundee City",null,{"$f":"'Total net migration'!I14","v":1430},{"$f":"'Total net migration 0-15'!I14","v":-91},{"$f":"'Total net migration 16-64'!I14","v":1603},{"$f":"'Total net migration 65+'!I14","v":-85},{"$f":"'Total in-migration'!I14","v":7390},{"$f":"'Total out-migration'!I14","v":5960},{"$f":"'Within Scotland net migration'!I14","v":-10},{"$f":"'Within Scotland in-migration'!I14","v":3770},{"$f":"'Within Scotland out-migration'!I14","v":3780},{"$f":"'Rest of UK net migration'!I14","v":-140},{"$f":"'Rest of UK in-migration'!I14","v":1370},{"$f":"'Rest of UK out-migration'!I14","v":1510},{"$f":"'International net migration'!I14","v":1580},{"$f":"'International in-migration'!I14","v":2250},{"$f":"'International out-migration'!I14","v":670},{"$f":"NINo!I14","v":1490},{"$f":"'Births to non-UK mothers'!I14","v":318},{"$f":"'Pupils'' ethnic group (TS)'!J14","v":1287},{"$f":"'Pupils with English as an add.'!G14","v":870},{"$f":"'Pop born outside UK'!I14","v":14000},{"$f":"'Non-British Population'!I14","v":12000},{"$f":"Citizenships!I14","v":141}]
[11,"East Ayrshire",null,{"$f":"'Total net migration'!I15","v":30},{"$f":"'Total net migration 0-15'!I15","v":25},{"$f":"'Total net migration 16-64'!I15","v":15},{"$f":"'Total net migration 65+'!I15","v":-10},{"$f":"'Total in-migration'!I15","v":3110},{"$f":"'Total out-migration'!I15","v":3080},{"$f":"'Within Scotland net migration'!I15","v":10},{"$f":"'Within Scotland in-migration'!I15","v":2300},{"$f":"'Within Scotland out-migration'!I15","v":2290},{"$f":"'Rest of UK net migration'!I15","v":80},{"$f":"'Rest of UK in-migration'!I15","v":690},{"$f":"'Rest of UK out-migration'!I15","v":610},{"$f":"'International net migration'!I15","v":-70},{"$f":"'International in-migration'!I15","v":120},{"$f":"'International out-migration'!I15","v":180},{"$f":"NINo!I15","v":100},{"$f":"'Births to non-UK mothers'!I15","v":76},{"$f":"'Pupils'' ethnic group (TS)'!J15","v":289},{"$f":"'Pupils with English as an add.'!G15","v":99},{"$f":"'Pop born outside UK'!I15","v":2000},{"$f":"'Non-British Population'!I15","v":"[low]"},{"$f":"Citizenships!I15","v":37}]
[12,"East Dunbartonshire",null,{"$f":"'Total net migration'!I16","v":-110},{"$f":"'Total net migration 0-15'!I16","v":234},{"$f":"'Total net migration 16-64'!I16","v":-312},{"$f":"'Total net migration 65+'!I16","v":-27},{"$f":"'Total in-migration'!I16","v":3050},{"$f":"'Total out-migration'!I16","v":3160},{"$f":"'Within Scotland net migration'!I16","v":20},{"$f":"'Within Scotland in-migration'!I16","v":2460},{"$f":"'Within Scotland out-migration'!I16","v":2440},{"$f":"'Rest of UK net migration'!I16","v":-50},{"$f":"'Rest of UK in-migration'!I16","v":430},{"$f":"'Rest of UK out-migration'!I16","v":490},{"$f":"'International net migration'!I16","v":-70},{"$f":"'International in-migration'!I16","v":160},{"$f":"'International out-migration'!I16","v":230},{"$f":"NINo!I16","v":130},{"$f":"'Births to non-UK mothers'!I16","v":77},{"$f":"'Pupils'' ethnic group (TS)'!J16","v":1033},{"$f":"'Pupils with English as an add.'!G16","v":306},{"$f":"'Pop born outside UK'!I16","v":4000},{"$f":"'Non-British Population'!I16","v":2000},{"$f":"Citizenships!I16","v":63}]
[13,"East Lothian",null,{"$f":"'Total net migration'!I17","v":450},{"$f":"'Total net migration 0-15'!I17","v":191},{"$f":"'Total net migration 16-64'!I17","v":199},{"$f":"'Total net migration 65+'!I17","v":55},{"$f":"'Total in-migration'!I17","v":3650},{"$f":"'Total out-migration'!I17","v":3210},{"$f":"'Within Scotland net migration'!I17","v":210},{"$f":"'Within Scotland in-migration'!I17","v":2530},{"$f":"'Within Scotland out-migration'!I17","v":2320},{"$f":"'Rest of UK net migration'!I17","v":70},{"$f":"'Rest of UK in-migration'!I17","v":690},{"$f":"'Rest of UK out-migration'!I17","v":630},{"$f":"'International net migration'!I17","v":170},{"$f":"'International in-migration'!I17","v":430},{"$f":"'International out-migration'!I17","v":260},{"$f":"NINo!I17","v":310},{"$f":"'Births to non-UK mothers'!I17","v":130},{"$f":"'Pupils'' ethnic group (TS)'!J17","v":293},{"$f":"'Pupils with English as an add.'!G17","v":159},{"$f":"'Pop born outside UK'!I17","v":6000},{"$f":"'Non-British Population'!I17","v":3000},{"$f":"Citizenships!I17","v":29}]
[14,"East Renfrewshire",null,{"$f":"'Total net migration'!I18","v":270},{"$f":"'Total net migration 0-15'!I18","v":418},{"$f":"'Total net migration 16-64'!I18","v":-117},{"$f":"'Total net migration 65+'!I18","v":-31},{"$f":"'Total in-migration'!I18","v":3140},{"$f":"'Total out-migration'!I18","v":2870},{"$f":"'Within Scotland net migration'!I18","v":280},{"$f":"'Within Scotland in-migration'!I18","v":2580},{"$f":"'Within Scotland out-migration'!I18","v":2300},{"$f":"'Rest of UK net migration'!I18","v":20},{"$f":"'Rest of UK in-migration'!I18","v":430},{"$f":"'Rest of UK out-migration'!I18","v":410},{"$f":"'International net migration'!I18","v":-30},{"$f":"'International in-migration'!I18","v":130},{"$f":"'International out-migration'!I18","v":160},{"$f":"NINo!I18","v":100},{"$f":"'Births to non-UK mothers'!I18","v":76},{"$f":"'Pupils'' ethnic group (TS)'!J18","v":2154},{"$f":"'Pupils with English as an add.'!G18","v":805},{"$f":"'Pop born outside UK'!I18","v":4000},{"$f":"'Non-British Population'!I18","v":2000},{"$f":"Citizenships!I18","v":63}]
[15,"Falkirk",null,{"$f":"'Total net migration'!I19","v":1020},{"$f":"'Total net migration 0-15'!I19","v":92},{"$f":"'Total net migration 16-64'!I19","v":889},{"$f":"'Total net migration 65+'!I19","v":40},{"$f":"'Total in-migration'!I19","v":4200},{"$f":"'Total out-migration'!I19","v":3180},{"$f":"'Within Scotland net migration'!I19","v":610},{"$f":"'Within Scotland in-migration'!I19","v":2990},{"$f":"'Within Scotland out-migration'!I19","v":2380},{"$f":"'Rest of UK net migration'!I19","v":130},{"$f":"'Rest of UK in-migration'!I19","v":710},{"$f":"'Rest of UK out-migration'!I19","v":570},{"$f":"'International net migration'!I19","v":280},{"$f":"'International in-migration'!I19","v":500},{"$f":"'International out-migration'!I19","v":220},{"$f":"NINo!I19","v":330},{"$f":"'Births to non-UK mothers'!I19","v":144},{"$f":"'Pupils'' ethnic group (TS)'!J19","v":627},{"$f":"'Pupils with English as an add.'!G19","v":461},{"$f":"'Pop born outside UK'!I19","v":7000},{"$f":"'Non-British Population'!I19","v":5000},{"$f":"Citizenships!I19","v":62}]
[16,"Fife",null,{"$f":"'Total net migration'!I20","v":2080},{"$f":"'Total net migration 0-15'!I20","v":330},{"$f":"'Total net migration 16-64'!I20","v":1618},{"$f":"'Total net migration 65+'!I20","v":128},{"$f":"'Total in-migration'!I20","v":11170},{"$f":"'Total out-migration'!I20","v":9100},{"$f":"'Within Scotland net migration'!I20","v":450},{"$f":"'Within Scotland in-migration'!I20","v":5850},{"$f":"'Within Scotland out-migration'!I20","v":5400},{"$f":"'Rest of UK net migration'!I20","v":330},{"$f":"'Rest of UK in-migration'!I20","v":3020},{"$f":"'Rest of UK out-migration'!I20","v":2700},{"$f":"'International net migration'!I20","v":1300},{"$f":"'International in-migration'!I20","v":2300},{"$f":"'International out-migration'!I20","v":1000},{"$f":"NINo!I20","v":1900},{"$f":"'Births to non-UK mothers'!I20","v":424},{"$f":"'Pupils'' ethnic group (TS)'!J20","v":1292},{"$f":"'Pupils with English as an add.'!G20","v":611},{"$f":"'Pop born outside UK'!I20","v":16000},{"$f":"'Non-British Population'!I20","v":10000},{"$f":"Citizenships!I20","v":183}]
[17,"Glasgow City",null,{"$f":"'Total net migration'!I21","v":5370},{"$f":"'Total net migration 0-15'!I21","v":-488},{"$f":"'Total net migration 16-64'!I21","v":6127},{"$f":"'Total net migration 65+'!I21","v":-269},{"$f":"'Total in-migration'!I21","v":29320},{"$f":"'Total out-migration'!I21","v":23950},{"$f":"'Within Scotland net migration'!I21","v":-1230},{"$f":"'Within Scotland in-migration'!I21","v":13660},{"$f":"'Within Scotland out-migration'!I21","v":14890},{"$f":"'Rest of UK net migration'!I21","v":-460},{"$f":"'Rest of UK in-migration'!I21","v":5400},{"$f":"'Rest of UK out-migration'!I21","v":5860},{"$f":"'International net migration'!I21","v":7060},{"$f":"'International in-migration'!I21","v":10260},{"$f":"'International out-migration'!I21","v":3200},{"$f":"NINo!I21","v":7650},{"$f":"'Births to non-UK mothers'!I21","v":1881},{"$f":"'Pupils'' ethnic group (TS)'!J21","v":10580},{"$f":"'Pupils with English as an add.'!G21","v":9275},{"$f":"'Pop born outside UK'!I21","v":64000},{"$f":"'Non-British Population'!I21","v":56000},{"$f":"Citizenships!I21","v":1313}]
[18,"Highland",null,{"$f":"'Total net migration'!I22","v":900},{"$f":"'Total net migration 0-15'!I22","v":170},{"$f":"'Total net migration 16-64'!I22","v":667},{"$f":"'Total net migration 65+'!I22","v":61},{"$f":"'Total in-migration'!I22","v":7510},{"$f":"'Total out-migration'!I22","v":6610},{"$f":"'Within Scotland net migration'!I22","v":-170},{"$f":"'Within Scotland in-migration'!I22","v":3970},{"$f":"'Within Scotland out-migration'!I22","v":4130},{"$f":"'Rest of UK net migration'!I22","v":640},{"$f":"'Rest of UK in-migration'!I22","v":2520},{"$f":"'Rest of UK out-migration'!I22","v":1880},{"$f":"'International net migration'!I22","v":420},{"$f":"'International in-migration'!I22","v":1020},{"$f":"'International out-migration'!I22","v":600},{"$f":"NINo!I22","v":1280},{"$f":"'Births to non-UK mothers'!I22","v":269},{"$f":"'Pupils'' ethnic group (TS)'!J22","v":648},{"$f":"'Pupils with English as an add.'!G22","v":646},{"$f":"'Pop born outside UK'!I22","v":11000},{"$f":"'Non-British Population'!I22","v":9000},{"$f":"Citizenships!I22","v":101}]
[19,"Inverclyde",null,{"$f":"'Total net migration'!I23","v":-290},{"$f":"'Total net migration 0-15'!I23","v":-34},{"$f":"'Total net migration 16-64'!I23","v":-265},{"$f":"'Total net migration 65+'!I23","v":10},{"$f":"'Total in-migration'!I23","v":1260},{"$f":"'Total out-migration'!I23","v":1550},{"$f":"'Within Scotland net migration'!I23","v":-250},{"$f":"'Within Scotland in-migration'!I23","v":870},{"$f":"'Within Scotland out-migration'!I23","v":1120},{"$f":"'Rest of UK net migration'!I23","v":-20},{"$f":"'Rest of UK in-migration'!I23","v":290},{"$f":"'Rest of UK out-migration'!I23","v":310},{"$f":"'International net migration'!I23","v":-30},{"$f":"'International in-migration'!I23","v":100},{"$f":"'International out-migration'!I23","v":120},{"$f":"NINo!I23","v":130},{"$f":"'Births to non-UK mothers'!I23","v":34},{"$f":"'Pupils'' ethnic group (TS)'!J23","v":175},{"$f":"'Pupils with English as an add.'!G23","v":35},{"$f":"'Pop born outside UK'!I23","v":2000},{"$f":"'Non-British Population'!I23","v":2000},{"$f":"Citizenships!I23","v":21}]
[20,"Midlothian",null,{"$f":"'Total net migration'!I24","v":520},{"$f":"'Total net migration 0-15'!I24","v":174},{"$f":"'Total net migration 16-64'!I24","v":302},{"$f":"'Total net migration 65+'!I24","v":46},{"$f":"'Total in-migration'!I24","v":2720},{"$f":"'Total out-migration'!I24","v":2200},{"$f":"'Within Scotland net migration'!I24","v":380},{"$f":"'Within Scotland in-migration'!I24","v":2160},{"$f":"'Within Scotland out-migration'!I24","v":1780},{"$f":"'Rest of UK net migration'!I24","v":70},{"$f":"'Rest of UK in-migration'!I24","v":380},{"$f":"'Rest of UK out-migration'!I24","v":310},{"$f":"'International net migration'!I24","v":70},{"$f":"'International in-migration'!I24","v":180},{"$f":"'International out-migration'!I24","v":110},{"$f":"NINo!I24","v":170},{"$f":"'Births to non-UK mothers'!I24","v":82},{"$f":"'Pupils'' ethnic group (TS)'!J24","v":307},{"$f":"'Pupils with English as an add.'!G24","v":128},{"$f":"'Pop born outside UK'!I24","v":3000},{"$f":"'Non-British Population'!I24","v":2000},{"$f":"Citizenships!I24","v":33}]
[21,"Moray",null,{"$f":"'Total net migration'!I25","v":-160},{"$f":"'Total net migration 0-15'!I25","v":-76},{"$f":"'Total net migration 16-64'!I25","v":-114},{"$f":"'Total net migration 65+'!I25","v":28},{"$f":"'Total in-migration'!I25","v":3040},{"$f":"'Total out-migration'!I25","v":3200},{"$f":"'Within Scotland net migration'!I25","v":60},{"$f":"'Within Scotland in-migration'!I25","v":1710},{"$f":"'Within Scotland out-migration'!I25","v":1650},{"$f":"'Rest of UK net migration'!I25","v":-130},{"$f":"'Rest of UK in-migration'!I25","v":920},{"$f":"'Rest of UK out-migration'!I25","v":1050},{"$f":"'International net migration'!I25","v":-100},{"$f":"'International in-migration'!I25","v":410},{"$f":"'International out-migration'!I25","v":500},{"$f":"NINo!I25","v":200},{"$f":"'Births to non-UK mothers'!I25","v":107},{"$f":"'Pupils'' ethnic group (TS)'!J25","v":232},{"$f":"'Pupils with English as an add.'!G25","v":252},{"$f":"'Pop born outside UK'!I25","v":6000},{"$f":"'Non-British Population'!I25","v":4000},{"$f":"Citizenships!I25","v":16}]
[22,"Na h-Eileanan Siar",null,{"$f":"'Total net migration'!I26","v":20},{"$f":"'Total net migration 0-15'!I26","v":9},{"$f":"'Total net migration 16-64'!I26","v":12},{"$f":"'Total net migration 65+'!I26","v":2},{"$f":"'Total in-migration'!I26","v":910},{"$f":"'Total out-migration'!I26","v":890},{"$f":"'Within Scotland net migration'!I26","v":-30},{"$f":"'Within Scotland in-migration'!I26","v":580},{"$f":"'Within Scotland out-migration'!I26","v":610},{"$f":"'Rest of UK net migration'!I26","v":50},{"$f":"'Rest of UK in-migration'!I26","v":270},{"$f":"'Rest of UK out-migration'!I26","v":220},{"$f":"'International net migration'!I26","v":0},{"$f":"'International in-migration'!I26","v":60},{"$f":"'International out-migration'!I26","v":60},{"$f":"NINo!I26","v":40},{"$f":"'Births to non-UK mothers'!I26","v":13},{"$f":"'Pupils'' ethnic group (TS)'!J26","v":48},{"$f":"'Pupils with English as an add.'!G26","v":25},{"$f":"'Pop born outside UK'!I26","v":"[c]"},{"$f":"'Non-British Population'!I26","v":"[c]"},{"$f":"Citizenships!I26","v":11}]
[23,"North Ayrshire",null,{"$f":"'Total net migration'!I27","v":140},{"$f":"'Total net migration 0-15'!I27","v":64},{"$f":"'Total net migration 16-64'!I27","v":11},{"$f":"'Total net migration 65+'!I27","v":61},{"$f":"'Total in-migration'!I27","v":3530},{"$f":"'Total out-migration'!I27","v":3390},{"$f":"'Within Scotland net migration'!I27","v":20},{"$f":"'Within Scotland in-migration'!I27","v":2460},{"$f":"'Within Scotland out-migration'!I27","v":2440},{"$f":"'Rest of UK net migration'!I27","v":80},{"$f":"'Rest of UK in-migration'!I27","v":850},{"$f":"'Rest of UK out-migration'!I27","v":760},{"$f":"'International net migration'!I27","v":30},{"$f":"'International in-migration'!I27","v":220},{"$f":"'International out-migration'!I27","v":190},{"$f":"NINo!I27","v":170},{"$f":"'Births to non-UK mothers'!I27","v":52},{"$f":"'Pupils'' ethnic group (TS)'!J27","v":279},{"$f":"'Pupils with English as an add.'!G27","v":93},{"$f":"'Pop born outside UK'!I27","v":4000},{"$f":"'Non-British Population'!I27","v":2000},{"$f":"Citizenships!I27","v":41}]
[24,"North Lanarkshire",null,{"$f":"'Total net migration'!I28","v":-60},{"$f":"'Total net migration 0-15'!I28","v":39},{"$f":"'Total net migration 16-64'!I28","v":-81},{"$f":"'Total net migration 65+'!I28","v":-16},{"$f":"'Total in-migration'!I28","v":6540},{"$f":"'Total out-migration'!I28","v":6600},{"$f":"'Within Scotland net migration'!I28","v":-200},{"$f":"'Within Scotland in-migration'!I28","v":4740},{"$f":"'Within Scotland out-migration'!I28","v":4940},{"$f":"'Rest of UK net migration'!I28","v":30},{"$f":"'Rest of UK in-migration'!I28","v":1170},{"$f":"'Rest of UK out-migration'!I28","v":1140},{"$f":"'International net migration'!I28","v":120},{"$f":"'International in-migration'!I28","v":630},{"$f":"'International out-migration'!I28","v":520},{"$f":"NINo!I28","v":690},{"$f":"'Births to non-UK mothers'!I28","v":284},{"$f":"'Pupils'' ethnic group (TS)'!J28","v":1574},{"$f":"'Pupils with English as an add.'!G28","v":892},{"$f":"'Pop born outside UK'!I28","v":7000},{"$f":"'Non-British Population'!I28","v":5000},{"$f":"Citizenships!I28","v":120}]
[25,"Orkney Islands",null,{"$f":"'Total net migration'!I29","v":100},{"$f":"'Total net migration 0-15'!I29","v":5},{"$f":"'Total net migration 16-64'!I29","v":85},{"$f":"'Total net migration 65+'!I29","v":9},{"$f":"'Total in-migration'!I29","v":670},{"$f":"'Total out-migration'!I29","v":570},{"$f":"'Within Scotland net migration'!I29","v":10},{"$f":"'Within Scotland in-migration'!I29","v":350},{"$f":"'Within Scotland out-migration'!I29","v":340},{"$f":"'Rest of UK net migration'!I29","v":70},{"$f":"'Rest of UK in-migration'!I29","v":260},{"$f":"'Rest of UK out-migration'!I29","v":190},{"$f":"'International net migration'!I29","v":20},{"$f":"'International in-migration'!I29","v":70},{"$f":"'International out-migration'!I29","v":40},{"$f":"NINo!I29","v":50},{"$f":"'Births to non-UK mothers'!I29","v":8},{"$f":"'Pupils'' ethnic group (TS)'!J29","v":39},{"$f":"'Pupils with English as an add.'!G29","v":5},{"$f":"'Pop born outside UK'!I29","v":"[low]"},{"$f":"'Non-British Population'!I29","v":"[c]"},{"$f":"Citizenships!I29","v":6}]
[26,"Perth and Kinross",null,{"$f":"'Total net migration'!I30","v":1830},{"$f":"'Total net migration 0-15'!I30","v":390},{"$f":"'Total net migration 16-64'!I30","v":1255},{"$f":"'Total net migration 65+'!I30","v":181},{"$f":"'Total in-migration'!I30","v":6460},{"$f":"'Total out-migration'!I30","v":4630},{"$f":"'Within Scotland net migration'!I30","v":340},{"$f":"'Within Scotland in-migration'!I30","v":3450},{"$f":"'Within Scotland out-migration'!I30","v":3110},{"$f":"'Rest of UK net migration'!I30","v":370},{"$f":"'Rest of UK in-migration'!I30","v":1380},{"$f":"'Rest of UK out-migration'!I30","v":1020},{"$f":"'International net migration'!I30","v":1120},{"$f":"'International in-migration'!I30","v":1630},{"$f":"'International out-migration'!I30","v":510},{"$f":"NINo!I30","v":2810},{"$f":"'Births to non-UK mothers'!I30","v":204},{"$f":"'Pupils'' ethnic group (TS)'!J30","v":487},{"$f":"'Pupils with English as an add.'!G30","v":450},{"$f":"'Pop born outside UK'!I30","v":8000},{"$f":"'Non-British Population'!I30","v":5000},{"$f":"Citizenships!I30","v":72}]
[27,"Renfrewshire",null,{"$f":"'Total net migration'!I31","v":590},{"$f":"'Total net migration 0-15'!I31","v":108},{"$f":"'Total net migration 16-64'!I31","v":408},{"$f":"'Total net migration 65+'!I31","v":73},{"$f":"'Total in-migration'!I31","v":4780},{"$f":"'Total out-migration'!I31","v":4190},{"$f":"'Within Scotland net migration'!I31","v":170},{"$f":"'Within Scotland in-migration'!I31","v":3330},{"$f":"'Within Scotland out-migration'!I31","v":3160},{"$f":"'Rest of UK net migration'!I31","v":-40},{"$f":"'Rest of UK in-migration'!I31","v":720},{"$f":"'Rest of UK out-migration'!I31","v":760},{"$f":"'International net migration'!I31","v":460},{"$f":"'International in-migration'!I31","v":730},{"$f":"'International out-migration'!I31","v":270},{"$f":"NINo!I31","v":530},{"$f":"'Births to non-UK mothers'!I31","v":176},{"$f":"'Pupils'' ethnic group (TS)'!J31","v":787},{"$f":"'Pupils with English as an add.'!G31","v":319},{"$f":"'Pop born outside UK'!I31","v":11000},{"$f":"'Non-British Population'!I31","v":8000},{"$f":"Citizenships!I31","v":84}]
[28,"Scottish Borders",null,{"$f":"'Total net migration'!I32","v":490},{"$f":"'Total net migration 0-15'!I32","v":141},{"$f":"'Total net migration 16-64'!I32","v":370},{"$f":"'Total net migration 65+'!I32","v":-23},{"$f":"'Total in-migration'!I32","v":4090},{"$f":"'Total out-migration'!I32","v":3600},{"$f":"'Within Scotland net migration'!I32","v":130},{"$f":"'Within Scotland in-migration'!I32","v":2210},{"$f":"'Within Scotland out-migration'!I32","v":2070},{"$f":"'Rest of UK net migration'!I32","v":290},{"$f":"'Rest of UK in-migration'!I32","v":1510},{"$f":"'Rest of UK out-migration'!I32","v":1220},{"$f":"'International net migration'!I32","v":70},{"$f":"'International in-migration'!I32","v":370},{"$f":"'International out-migration'!I32","v":310},{"$f":"NINo!I32","v":390},{"$f":"'Births to non-UK mothers'!I32","v":115},{"$f":"'Pupils'' ethnic group (TS)'!J32","v":332},{"$f":"'Pupils with English as an add.'!G32","v":322},{"$f":"'Pop born outside UK'!I32","v":5000},{"$f":"'Non-British Population'!I32","v":3000},{"$f":"Citizenships!I32","v":31}]
[29,"Shetland Islands",null,{"$f":"'Total net migration'!I33","v":60},{"$f":"'Total net migration 0-15'!I33","v":-15},{"$f":"'Total net migration 16-64'!I33","v":64},{"$f":"'Total net migration 65+'!I33","v":10},{"$f":"'Total in-migration'!I33","v":710},{"$f":"'Total out-migration'!I33","v":650},{"$f":"'Within Scotland net migration'!I33","v":10},{"$f":"'Within Scotland in-migration'!I33","v":380},{"$f":"'Within Scotland out-migration'!I33","v":370},{"$f":"'Rest of UK net migration'!I33","v":10},{"$f":"'Rest of UK in-migration'!I33","v":230},{"$f":"'Rest of UK out-migration'!I33","v":210},{"$f":"'International net migration'!I33","v":40},{"$f":"'International in-migration'!I33","v":100},{"$f":"'International out-migration'!I33","v":70},{"$f":"NINo!I33","v":100},{"$f":"'Births to non-UK mothers'!I33","v":30},{"$f":"'Pupils'' ethnic group (TS)'!J33","v":84},{"$f":"'Pupils with English as an add.'!G33","v":42},{"$f":"'Pop born outside UK'!I33","v":"[low]"},{"$f":"'Non-British Population'!I33","v":"[low]"},{"$f":"Citizenships!I33","v":12}]
[30,"South Ayrshire",null,{"$f":"'Total net migration'!I34","v":600},{"$f":"'Total net migration 0-15'!I34","v":159},{"$f":"'Total net migration 16-64'!I34","v":324},{"$f":"'Total net migration 65+'!I34","v":113},{"$f":"'Total in-migration'!I34","v":3480},{"$f":"'Total out-migration'!I34","v":2890},{"$f":"'Within Scotland net migration'!I34","v":230},{"$f":"'Within Scotland in-migration'!I34","v":2310},{"$f":"'Within Scotland out-migration'!I34","v":2080},{"$f":"'Rest of UK net migration'!I34","v":290},{"$f":"'Rest of UK in-migration'!I34","v":870},{"$f":"'Rest of UK out-migration'!I34","v":580},{"$f":"'International net migration'!I34","v":80},{"$f":"'International in-migration'!I34","v":310},{"$f":"'International out-migration'!I34","v":230},{"$f":"NINo!I34","v":310},{"$f":"'Births to non-UK mothers'!I34","v":61},{"$f":"'Pupils'' ethnic group (TS)'!J34","v":284},{"$f":"'Pupils with English as an add.'!G34","v":158},{"$f":"'Pop born outside UK'!I34","v":3000},{"$f":"'Non-British Population'!I34","v":2000},{"$f":"Citizenships!I34","v":23}]
[31,"South Lanarkshire",null,{"$f":"'Total net migration'!I35","v":590},{"$f":"'Total net migration 0-15'!I35","v":91},{"$f":"'Total net migration 16-64'!I35","v":335},{"$f":"'Total net migration 65+'!I35","v":161},{"$f":"'Total in-migration'!I35","v":7620},{"$f":"'Total out-migration'!I35","v":7040},{"$f":"'Within Scotland net migration'!I35","v":480},{"$f":"'Within Scotland in-migration'!I35","v":5670},{"$f":"'Within Scotland out-migration'!I35","v":5190},{"$f":"'Rest of UK net migration'!I35","v":110},{"$f":"'Rest of UK in-migration'!I35","v":1400},{"$f":"'Rest of UK out-migration'!I35","v":1290},{"$f":"'International net migration'!I35","v":0},{"$f":"'International in-migration'!I35","v":560},{"$f":"'International out-migration'!I35","v":560},{"$f":"NINo!I35","v":470},{"$f":"'Births to non-UK mothers'!I35","v":245},{"$f":"'Pupils'' ethnic group (TS)'!J35","v":1396},{"$f":"'Pupils with English as an add.'!G35","v":461},{"$f":"'Pop born outside UK'!I35","v":11000},{"$f":"'Non-British Population'!I35","v":6000},{"$f":"Citizenships!I35","v":197}]
[32,"Stirling",null,{"$f":"'Total net migration'!I36","v":1020},{"$f":"'Total net migration 0-15'!I36","v":220},{"$f":"'Total net migration 16-64'!I36","v":817},{"$f":"'Total net migration 65+'!I36","v":-16},{"$f":"'Total in-migration'!I36","v":5160},{"$f":"'Total out-migration'!I36","v":4140},{"$f":"'Within Scotland net migration'!I36","v":-110},{"$f":"'Within Scotland in-migration'!I36","v":2840},{"$f":"'Within Scotland out-migration'!I36","v":2950},{"$f":"'Rest of UK net migration'!I36","v":150},{"$f":"'Rest of UK in-migration'!I36","v":960},{"$f":"'Rest of UK out-migration'!I36","v":810},{"$f":"'International net migration'!I36","v":990},{"$f":"'International in-migration'!I36","v":1360},{"$f":"'International out-migration'!I36","v":380},{"$f":"NINo!I36","v":600},{"$f":"'Births to non-UK mothers'!I36","v":100},{"$f":"'Pupils'' ethnic group (TS)'!J36","v":488},{"$f":"'Pupils with English as an add.'!G36","v":184},{"$f":"'Pop born outside UK'!I36","v":7000},{"$f":"'Non-British Population'!I36","v":4000},{"$f":"Citizenships!I36","v":43}]
[33,"West Dunbartonshire",null,{"$f":"'Total net migration'!I37","v":-170},{"$f":"'Total net migration 0-15'!I37","v":-63},{"$f":"'Total net migration 16-64'!I37","v":-123},{"$f":"'Total net migration 65+'!I37","v":13},{"$f":"'Total in-migration'!I37","v":2090},{"$f":"'Total out-migration'!I37","v":2260},{"$f":"'Within Scotland net migration'!I37","v":-190},{"$f":"'Within Scotland in-migration'!I37","v":1530},{"$f":"'Within Scotland out-migration'!I37","v":1720},{"$f":"'Rest of UK net migration'!I37","v":10},{"$f":"'Rest of UK in-migration'!I37","v":390},{"$f":"'Rest of UK out-migration'!I37","v":390},{"$f":"'International net migration'!I37","v":10},{"$f":"'International in-migration'!I37","v":160},{"$f":"'International out-migration'!I37","v":150},{"$f":"NINo!I37","v":130},{"$f":"'Births to non-UK mothers'!I37","v":60},{"$f":"'Pupils'' ethnic group (TS)'!J37","v":272},{"$f":"'Pupils with English as an add.'!G37","v":132},{"$f":"'Pop born outside UK'!I37","v":3000},{"$f":"'Non-British Population'!I37","v":1000},{"$f":"Citizenships!I37","v":40}]
[34,"West Lothian",null,{"$f":"'Total net migration'!I38","v":220},{"$f":"'Total net migration 0-15'!I38","v":56},{"$f":"'Total net migration 16-64'!I38","v":118},{"$f":"'Total net migration 65+'!I38","v":45},{"$f":"'Total in-migration'!I38","v":4820},{"$f":"'Total out-migration'!I38","v":4600},{"$f":"'Within Scotland net migration'!I38","v":-320},{"$f":"'Within Scotland in-migration'!I38","v":3070},{"$f":"'Within Scotland out-migration'!I38","v":3390},{"$f":"'Rest of UK net migration'!I38","v":-10},{"$f":"'Rest of UK in-migration'!I38","v":870},{"$f":"'Rest of UK out-migration'!I38","v":880},{"$f":"'International net migration'!I38","v":550},{"$f":"'International in-migration'!I38","v":870},{"$f":"'International out-migration'!I38","v":330},{"$f":"NINo!I38","v":880},{"$f":"'Births to non-UK mothers'!I38","v":278},{"$f":"'Pupils'' ethnic group (TS)'!J38","v":984},{"$f":"'Pupils with English as an add.'!G38","v":630},{"$f":"'Pop born outside UK'!I38","v":12000},{"$f":"'Non-British Population'!I38","v":9000},{"$f":"Citizenships!I38","v":106}]
[]
[35,"Not specified"]
[36,"Scotland",null,{"$f":"'Total net migration'!I41","v":30200},{"$f":"'Total net migration 0-15'!I6","v":3490},{"$f":"'Total net migration 16-64'!I41","v":26224},{"$f":"'Total net migration 65+'!I41","v":495},{"$f":"'Total in-migration'!I41","v":87900},{"$f":"'Total out-migration'!I41","v":57700},{"$f":"'Within Scotland net migration'!I41","v":"[z]"},{"$f":"'Within Scotland in-migration'!I41","v":"[z]"},{"$f":"'Within Scotland out-migration'!I41","v":"[z]"},{"$f":"'Rest of UK net migration'!I41","v":2900},{"$f":"'Rest of UK in-migration'!I41","v":43700},{"$f":"'Rest of UK out-migration'!I41","v":40800},{"$f":"'International net migration'!I41","v":27300},{"$f":"'International in-migration'!I41","v":44200},{"$f":"'International out-migration'!I41","v":16900},null,{"$f":"'Births to non-UK mothers'!I41","v":8341}]
[37,"Ayrshire and Arran",null,{"$f":"'Total net migration'!I42","v":760},{"$f":"'Total net migration 0-15'!I42","v":248},{"$f":"'Total net migration 16-64'!I42","v":350},{"$f":"'Total net migration 65+'!I42","v":164},{"$f":"'Total in-migration'!I42","v":7760},{"$f":"'Total out-migration'!I42","v":7000},{"$f":"'Within Scotland net migration'!I42","v":260},{"$f":"'Within Scotland in-migration'!I42","v":4710},{"$f":"'Within Scotland out-migration'!I42","v":4450},{"$f":"'Rest of UK net migration'!I42","v":460},{"$f":"'Rest of UK in-migration'!I42","v":2400},{"$f":"'Rest of UK out-migration'!I42","v":1950},{"$f":"'International net migration'!I42","v":50},{"$f":"'International in-migration'!I42","v":640},{"$f":"'International out-migration'!I42","v":600},null,{"$f":"'Births to non-UK mothers'!I42","v":189}]
[38,"Borders",null,{"$f":"'Total net migration'!I43","v":490},{"$f":"'Total net migration 0-15'!I43","v":141},{"$f":"'Total net migration 16-64'!I43","v":370},{"$f":"'Total net migration 65+'!I43","v":-23},{"$f":"'Total in-migration'!I43","v":4090},{"$f":"'Total out-migration'!I43","v":3600},{"$f":"'Within Scotland net migration'!I43","v":130},{"$f":"'Within Scotland in-migration'!I43","v":2210},{"$f":"'Within Scotland out-migration'!I43","v":2070},{"$f":"'Rest of UK net migration'!I43","v":290},{"$f":"'Rest of UK in-migration'!I43","v":1510},{"$f":"'Rest of UK out-migration'!I43","v":1220},{"$f":"'International net migration'!I43","v":70},{"$f":"'International in-migration'!I43","v":370},{"$f":"'International out-migration'!I43","v":310},null,{"$f":"'Births to non-UK mothers'!I43","v":115}]
[39,"Dumfries and Galloway",null,{"$f":"'Total net migration'!I44","v":380},{"$f":"'Total net migration 0-15'!I44","v":113},{"$f":"'Total net migration 16-64'!I44","v":230},{"$f":"'Total net migration 65+'!I44","v":34},{"$f":"'Total in-migration'!I44","v":4000},{"$f":"'Total out-migration'!I44","v":3630},{"$f":"'Within Scotland net migration'!I44","v":-90},{"$f":"'Within Scotland in-migration'!I44","v":1650},{"$f":"'Within Scotland out-migration'!I44","v":1740},{"$f":"'Rest of UK net migration'!I44","v":450},{"$f":"'Rest of UK in-migration'!I44","v":1990},{"$f":"'Rest of UK out-migration'!I44","v":1540},{"$f":"'International net migration'!I44","v":20},{"$f":"'International in-migration'!I44","v":360},{"$f":"'International out-migration'!I44","v":340},null,{"$f":"'Births to non-UK mothers'!I44","v":96}]
[40,"Fife",null,{"$f":"'Total net migration'!I45","v":2070},{"$f":"'Total net migration 0-15'!I45","v":330},{"$f":"'Total net migration 16-64'!I45","v":1614},{"$f":"'Total net migration 65+'!I45","v":127},{"$f":"'Total in-migration'!I45","v":11170},{"$f":"'Total out-migration'!I45","v":9100},{"$f":"'Within Scotland net migration'!I45","v":440},{"$f":"'Within Scotland in-migration'!I45","v":5850},{"$f":"'Within Scotland out-migration'!I45","v":5410},{"$f":"'Rest of UK net migration'!I45","v":330},{"$f":"'Rest of UK in-migration'!I45","v":3020},{"$f":"'Rest of UK out-migration'!I45","v":2700},{"$f":"'International net migration'!I45","v":1300},{"$f":"'International in-migration'!I45","v":2300},{"$f":"'International out-migration'!I45","v":1000},null,{"$f":"'Births to non-UK mothers'!I45","v":424}]
[41,"Forth Valley",null,{"$f":"'Total net migration'!I46","v":2030},{"$f":"'Total net migration 0-15'!I46","v":313},{"$f":"'Total net migration 16-64'!I46","v":1688},{"$f":"'Total net migration 65+'!I46","v":33},{"$f":"'Total in-migration'!I46","v":9430},{"$f":"'Total out-migration'!I46","v":7400},{"$f":"'Within Scotland net migration'!I46","v":490},{"$f":"'Within Scotland in-migration'!I46","v":5510},{"$f":"'Within Scotland out-migration'!I46","v":5010},{"$f":"'Rest of UK net migration'!I46","v":270},{"$f":"'Rest of UK in-migration'!I46","v":1960},{"$f":"'Rest of UK out-migration'!I46","v":1690},{"$f":"'International net migration'!I46","v":1270},{"$f":"'International in-migration'!I46","v":1970},{"$f":"'International out-migration'!I46","v":700},null,{"$f":"'Births to non-UK mothers'!I46","v":287}]
[42,"Grampian",null,{"$f":"'Total net migration'!I47","v":4300},{"$f":"'Total net migration 0-15'!I47","v":684},{"$f":"'Total net migration 16-64'!I47","v":3720},{"$f":"'Total net migration 65+'!I47","v":-104},{"$f":"'Total in-migration'!I47","v":18790},{"$f":"'Total out-migration'!I47","v":14490},{"$f":"'Within Scotland net migration'!I47","v":-200},{"$f":"'Within Scotland in-migration'!I47","v":6790},{"$f":"'Within Scotland out-migration'!I47","v":6990},{"$f":"'Rest of UK net migration'!I47","v":-260},{"$f":"'Rest of UK in-migration'!I47","v":4870},{"$f":"'Rest of UK out-migration'!I47","v":5130},{"$f":"'International net migration'!I47","v":4760},{"$f":"'International in-migration'!I47","v":7130},{"$f":"'International out-migration'!I47","v":2370},null,{"$f":"'Births to non-UK mothers'!I47","v":1323}]
[43,"Greater Glasgow and Clyde",null,{"$f":"'Total net migration'!I48","v":5780},{"$f":"'Total net migration 0-15'!I48","v":186},{"$f":"'Total net migration 16-64'!I48","v":5781},{"$f":"'Total net migration 65+'!I48","v":-192},{"$f":"'Total in-migration'!I48","v":37790},{"$f":"'Total out-migration'!I48","v":32010},{"$f":"'Within Scotland net migration'!I48","v":-1050},{"$f":"'Within Scotland in-migration'!I48","v":18150},{"$f":"'Within Scotland out-migration'!I48","v":19200},{"$f":"'Rest of UK net migration'!I48","v":-560},{"$f":"'Rest of UK in-migration'!I48","v":7970},{"$f":"'Rest of UK out-migration'!I48","v":8520},{"$f":"'International net migration'!I48","v":7380},{"$f":"'International in-migration'!I48","v":11670},{"$f":"'International out-migration'!I48","v":4290},null,{"$f":"'Births to non-UK mothers'!I48","v":2384}]
[44,"Highland",null,{"$f":"'Total net migration'!I49","v":1200},{"$f":"'Total net migration 0-15'!I49","v":305},{"$f":"'Total net migration 16-64'!I49","v":848},{"$f":"'Total net migration 65+'!I49","v":49},{"$f":"'Total in-migration'!I49","v":10950},{"$f":"'Total out-migration'!I49","v":9740},{"$f":"'Within Scotland net migration'!I49","v":-290},{"$f":"'Within Scotland in-migration'!I49","v":5710},{"$f":"'Within Scotland out-migration'!I49","v":6000},{"$f":"'Rest of UK net migration'!I49","v":1010},{"$f":"'Rest of UK in-migration'!I49","v":3850},{"$f":"'Rest of UK out-migration'!I49","v":2840},{"$f":"'International net migration'!I49","v":480},{"$f":"'International in-migration'!I49","v":1380},{"$f":"'International out-migration'!I49","v":900},null,{"$f":"'Births to non-UK mothers'!I49","v":348}]
[45,"Lanarkshire",null,{"$f":"'Total net migration'!I50","v":420},{"$f":"'Total net migration 0-15'!I50","v":119},{"$f":"'Total net migration 16-64'!I50","v":191},{"$f":"'Total net migration 65+'!I50","v":106},{"$f":"'Total in-migration'!I50","v":10450},{"$f":"'Total out-migration'!I50","v":10030},{"$f":"'Within Scotland net migration'!I50","v":130},{"$f":"'Within Scotland in-migration'!I50","v":7130},{"$f":"'Within Scotland out-migration'!I50","v":6990},{"$f":"'Rest of UK net migration'!I50","v":150},{"$f":"'Rest of UK in-migration'!I50","v":2260},{"$f":"'Rest of UK out-migration'!I50","v":2110},{"$f":"'International net migration'!I50","v":130},{"$f":"'International in-migration'!I50","v":1060},{"$f":"'International out-migration'!I50","v":930},null,{"$f":"'Births to non-UK mothers'!I50","v":450}]
[46,"Lothian",null,{"$f":"'Total net migration'!I51","v":9230},{"$f":"'Total net migration 0-15'!I51","v":660},{"$f":"'Total net migration 16-64'!I51","v":8444},{"$f":"'Total net migration 65+'!I51","v":126},{"$f":"'Total in-migration'!I51","v":33810},{"$f":"'Total out-migration'!I51","v":24580},{"$f":"'Within Scotland net migration'!I51","v":-130},{"$f":"'Within Scotland in-migration'!I51","v":11300},{"$f":"'Within Scotland out-migration'!I51","v":11420},{"$f":"'Rest of UK net migration'!I51","v":500},{"$f":"'Rest of UK in-migration'!I51","v":9820},{"$f":"'Rest of UK out-migration'!I51","v":9320},{"$f":"'International net migration'!I51","v":8860},{"$f":"'International in-migration'!I51","v":12700},{"$f":"'International out-migration'!I51","v":3840},null,{"$f":"'Births to non-UK mothers'!I51","v":2018}]
[47,"Orkney",null,{"$f":"'Total net migration'!I52","v":100},{"$f":"'Total net migration 0-15'!I52","v":5},{"$f":"'Total net migration 16-64'!I52","v":85},{"$f":"'Total net migration 65+'!I52","v":9},{"$f":"'Total in-migration'!I52","v":670},{"$f":"'Total out-migration'!I52","v":570},{"$f":"'Within Scotland net migration'!I52","v":10},{"$f":"'Within Scotland in-migration'!I52","v":350},{"$f":"'Within Scotland out-migration'!I52","v":340},{"$f":"'Rest of UK net migration'!I52","v":70},{"$f":"'Rest of UK in-migration'!I52","v":260},{"$f":"'Rest of UK out-migration'!I52","v":190},{"$f":"'International net migration'!I52","v":20},{"$f":"'International in-migration'!I52","v":70},{"$f":"'International out-migration'!I52","v":40},null,{"$f":"'Births to non-UK mothers'!I52","v":8}]
[48,"Shetland",null,{"$f":"'Total net migration'!I53","v":60},{"$f":"'Total net migration 0-15'!I53","v":-15},{"$f":"'Total net migration 16-64'!I53","v":64},{"$f":"'Total net migration 65+'!I53","v":10},{"$f":"'Total in-migration'!I53","v":710},{"$f":"'Total out-migration'!I53","v":650},{"$f":"'Within Scotland net migration'!I53","v":10},{"$f":"'Within Scotland in-migration'!I53","v":380},{"$f":"'Within Scotland out-migration'!I53","v":370},{"$f":"'Rest of UK net migration'!I53","v":10},{"$f":"'Rest of UK in-migration'!I53","v":230},{"$f":"'Rest of UK out-migration'!I53","v":210},{"$f":"'International net migration'!I53","v":40},{"$f":"'International in-migration'!I53","v":100},{"$f":"'International out-migration'!I53","v":70},null,{"$f":"'Births to non-UK mothers'!I53","v":30}]
[49,"Tayside",null,{"$f":"'Total net migration'!I54","v":3370},{"$f":"'Total net migration 0-15'!I54","v":392},{"$f":"'Total net migration 16-64'!I54","v":2827},{"$f":"'Total net migration 65+'!I54","v":154},{"$f":"'Total in-migration'!I54","v":14390},{"$f":"'Total out-migration'!I54","v":11010},{"$f":"'Within Scotland net migration'!I54","v":300},{"$f":"'Within Scotland in-migration'!I54","v":6720},{"$f":"'Within Scotland out-migration'!I54","v":6420},{"$f":"'Rest of UK net migration'!I54","v":140},{"$f":"'Rest of UK in-migration'!I54","v":3280},{"$f":"'Rest of UK out-migration'!I54","v":3140},{"$f":"'International net migration'!I54","v":2930},{"$f":"'International in-migration'!I54","v":4390},{"$f":"'International out-migration'!I54","v":1460},null,{"$f":"'Births to non-UK mothers'!I54","v":656}]
[50,"Western Isles",null,{"$f":"'Total net migration'!I55","v":20},{"$f":"'Total net migration 0-15'!I55","v":9},{"$f":"'Total net migration 16-64'!I55","v":12},{"$f":"'Total net migration 65+'!I55","v":2},{"$f":"'Total in-migration'!I55","v":910},{"$f":"'Total out-migration'!I55","v":890},{"$f":"'Within Scotland net migration'!I55","v":-30},{"$f":"'Within Scotland in-migration'!I55","v":580},{"$f":"'Within Scotland out-migration'!I55","v":610},{"$f":"'Rest of UK net migration'!I55","v":50},{"$f":"'Rest of UK in-migration'!I55","v":270},{"$f":"'Rest of UK out-migration'!I55","v":220},{"$f":"'International net migration'!I55","v":0},{"$f":"'International in-migration'!I55","v":60},{"$f":"'International out-migration'!I55","v":60},null,{"$f":"'Births to non-UK mothers'!I55","v":13}]

{"sheet":"2011 Rate","index":39,"n_rows":53,"n_cols":27,"rows_kept":53,"cut":false,"hidden":true,"merged":[]}
[null,2011,"RATE"]
[null,null,"Not specified ",{"$f":"'Comparing Indicators'!$U8","v":"Total net migration"},{"$f":"'Comparing Indicators'!$U9","v":"Total net migration for ages 0-15"},{"$f":"'Comparing Indicators'!$U10","v":"Total net migration for ages 16-64"},{"$f":"'Comparing Indicators'!$U11","v":"Total net migration for people aged 65+"},{"$f":"'Comparing Indicators'!$U12","v":"Total in-migration"},{"$f":"'Comparing Indicators'!$U13","v":"Total out-migration"},{"$f":"'Comparing Indicators'!$U14","v":"Within Scotland net migration"},{"$f":"'Comparing Indicators'!$U15","v":"Within Scotland in-migration"},{"$f":"'Comparing Indicators'!$U16","v":"Within Scotland out-migration"},{"$f":"'Comparing Indicators'!$U17","v":"Rest of UK net migration"},{"$f":"'Comparing Indicators'!$U18","v":"Rest of UK in-migration"},{"$f":"'Comparing Indicators'!$U19","v":"Rest of UK out-migration"},{"$f":"'Comparing Indicators'!$U20","v":"International net migration"},{"$f":"'Comparing Indicators'!$U21","v":"International in-migration"},{"$f":"'Comparing Indicators'!$U22","v":"International out-migration"},{"$f":"'Comparing Indicators'!$U23","v":"NINo Allocation"},{"$f":"'Comparing Indicators'!$U24","v":"Births to non-UK mothers"},{"$f":"'Comparing Indicators'!$U25","v":"Pupils from a minority ethnic group"},{"$f":"'Comparing Indicators'!$U26","v":"Pupils with English as an additional language"},{"$f":"'Comparing Indicators'!$U27","v":"Population born outside the UK"},{"$f":"'Comparing Indicators'!$U28","v":"Population with non-British nationality"},{"$f":"'Comparing Indicators'!$U29","v":"Citizenships"},null,"Mid-year population estimate"]
[1,"Not specified"]
[2,"Scotland",null,{"$f":"('2011'!D4/'2011 Rate'!$AA4)*1000","v":5.6982207211456819},{"$f":"('2011'!E4/'2011 Rate'!$AA4)*1000","v":0.65850299062246453},{"$f":"('2011'!F4/'2011 Rate'!$AA4)*1000","v":4.9480178871299456},{"$f":"('2011'!G4/'2011 Rate'!$AA4)*1000","v":9.3397988641295115E-2},{"$f":"('2011'!H4/'2011 Rate'!$AA4)*1000","v":16.585218589029985},{"$f":"('2011'!I4/'2011 Rate'!$AA4)*1000","v":10.8869978678843},{"$f":"'Within Scotland net migration'!I6","v":"[z]"},{"$f":"'Within Scotland in-migration'!I6","v":"[z]"},{"$f":"'Within Scotland out-migration'!I6","v":"[z]"},{"$f":"('2011'!M4/'2011 Rate'!$AA4)*1000","v":0.54718013547425415},{"$f":"('2011'!N4/'2011 Rate'!$AA4)*1000","v":8.245438593181003},{"$f":"('2011'!O4/'2011 Rate'!$AA4)*1000","v":7.6982584577067499},{"$f":"('2011'!P4/'2011 Rate'!$AA4)*1000","v":5.1510405856714279},{"$f":"('2011'!Q4/'2011 Rate'!$AA4)*1000","v":8.3397799958489784},{"$f":"('2011'!R4/'2011 Rate'!$AA4)*1000","v":3.1887394101775506},{"$f":"('2011'!S4/'2011 Rate'!$AA4)*1000","v":7.4529708107700143},null,null,null,null,null,{"$f":"IF('2011'!Y4=\"*\",\"\",('2011'!Y4/'2011 Rate'!$AA4)*1000)","v":0.83341195116889},"Scotland",5299900]
[3,"Aberdeen City",null,{"$f":"('2011'!D5/'2011 Rate'!$AA5)*1000","v":13.845185651353052},{"$f":"('2011'!E5/'2011 Rate'!$AA5)*1000","v":1.380023374988762},{"$f":"('2011'!F5/'2011 Rate'!$AA5)*1000","v":12.851748628967005},{"$f":"('2011'!G5/'2011 Rate'!$AA5)*1000","v":-0.39557673289580148},{"$f":"('2011'!H5/'2011 Rate'!$AA5)*1000","v":61.044682190056641},{"$f":"('2011'!I5/'2011 Rate'!$AA5)*1000","v":47.199496538703592},{"$f":"('2011'!J5/'2011 Rate'!$AA5)*1000","v":-4.7649015553357907},{"$f":"('2011'!K5/'2011 Rate'!$AA5)*1000","v":26.791333273397466},{"$f":"('2011'!L5/'2011 Rate'!$AA5)*1000","v":31.511282927267828},{"$f":"('2011'!M5/'2011 Rate'!$AA5)*1000","v":0},{"$f":"('2011'!N5/'2011 Rate'!$AA5)*1000","v":10.518744942911084},{"$f":"('2011'!O5/'2011 Rate'!$AA5)*1000","v":10.518744942911084},{"$f":"('2011'!P5/'2011 Rate'!$AA5)*1000","v":18.565135305223414},{"$f":"('2011'!Q5/'2011 Rate'!$AA5)*1000","v":23.73460397374809},{"$f":"('2011'!R5/'2011 Rate'!$AA5)*1000","v":5.1694686685246785},{"$f":"('2011'!S5/'2011 Rate'!$AA5)*1000","v":20.677874674098714},null,null,null,null,null,{"$f":"IF('2011'!Y5=\"*\",\"\",('2011'!Y5/'2011 Rate'!$AA5)*1000)","v":1.89697024184123},"Aberdeen City",222460]
[4,"Aberdeenshire",null,{"$f":"('2011'!D6/'2011 Rate'!$AA6)*1000","v":5.4405677114133653},{"$f":"('2011'!E6/'2011 Rate'!$AA6)*1000","v":1.7859254878769959},{"$f":"('2011'!F6/'2011 Rate'!$AA6)*1000","v":3.8438793613246598},{"$f":"('2011'!G6/'2011 Rate'!$AA6)*1000","v":-0.17346737630593337},{"$f":"('2011'!H6/'2011 Rate'!$AA6)*1000","v":34.851172876010253},{"$f":"('2011'!I6/'2011 Rate'!$AA6)*1000","v":29.371180760890994},{"$f":"('2011'!J6/'2011 Rate'!$AA6)*1000","v":3.1145278927656221},{"$f":"('2011'!K6/'2011 Rate'!$AA6)*1000","v":22.826729745712598},{"$f":"('2011'!L6/'2011 Rate'!$AA6)*1000","v":19.712201852946976},{"$f":"('2011'!M6/'2011 Rate'!$AA6)*1000","v":-0.51251724817662125},{"$f":"('2011'!N6/'2011 Rate'!$AA6)*1000","v":6.3473289966489261},{"$f":"('2011'!O6/'2011 Rate'!$AA6)*1000","v":6.8598462448255475},{"$f":"('2011'!P6/'2011 Rate'!$AA6)*1000","v":2.8385570668243645},{"$f":"('2011'!Q6/'2011 Rate'!$AA6)*1000","v":5.677114133648729},{"$f":"('2011'!R6/'2011 Rate'!$AA6)*1000","v":2.8385570668243645},{"$f":"('2011'!S6/'2011 Rate'!$AA6)*1000","v":5.9136605558840927},null,null,null,null,null,{"$f":"IF('2011'!Y6=\"*\",\"\",('2011'!Y6/'2011 Rate'!$AA6)*1000)","v":0.6071358170707668},"Aberdeenshire",253650]
[5,"Angus",null,{"$f":"('2011'!D7/'2011 Rate'!$AA7)*1000","v":1.0327022375215145},{"$f":"('2011'!E7/'2011 Rate'!$AA7)*1000","v":0.80034423407917388},{"$f":"('2011'!F7/'2011 Rate'!$AA7)*1000","v":-0.30120481927710846},{"$f":"('2011'!G7/'2011 Rate'!$AA7)*1000","v":0.49053356282271943},{"$f":"('2011'!H7/'2011 Rate'!$AA7)*1000","v":30.981067125645438},{"$f":"('2011'!I7/'2011 Rate'!$AA7)*1000","v":30.034423407917384},{"$f":"('2011'!J7/'2011 Rate'!$AA7)*1000","v":-0.25817555938037862},{"$f":"('2011'!K7/'2011 Rate'!$AA7)*1000","v":22.117039586919105},{"$f":"('2011'!L7/'2011 Rate'!$AA7)*1000","v":22.375215146299482},{"$f":"('2011'!M7/'2011 Rate'!$AA7)*1000","v":-0.77452667814113596},{"$f":"('2011'!N7/'2011 Rate'!$AA7)*1000","v":4.4750430292598962},{"$f":"('2011'!O7/'2011 Rate'!$AA7)*1000","v":5.249569707401033},{"$f":"('2011'!P7/'2011 Rate'!$AA7)*1000","v":2.0654044750430289},{"$f":"('2011'!Q7/'2011 Rate'!$AA7)*1000","v":4.3889845094664368},{"$f":"('2011'!R7/'2011 Rate'!$AA7)*1000","v":2.4096385542168677},{"$f":"('2011'!S7/'2011 Rate'!$AA7)*1000","v":9.8106712564543894},null,null,null,null,null,{"$f":"IF('2011'!Y7=\"*\",\"\",('2011'!Y7/'2011 Rate'!$AA7)*1000)","v":0.4388984509466437},"Angus",116200]
[6,"Argyll and Bute",null,{"$f":"('2011'!D8/'2011 Rate'!$AA8)*1000","v":3.3734397840998538},{"$f":"('2011'!E8/'2011 Rate'!$AA8)*1000","v":1.5180479028449343},{"$f":"('2011'!F8/'2011 Rate'!$AA8)*1000","v":2.0353086697402452},{"$f":"('2011'!G8/'2011 Rate'!$AA8)*1000","v":-0.13493759136399416},{"$f":"('2011'!H8/'2011 Rate'!$AA8)*1000","v":42.055549308444846},{"$f":"('2011'!I8/'2011 Rate'!$AA8)*1000","v":38.569661531541662},{"$f":"('2011'!J8/'2011 Rate'!$AA8)*1000","v":-1.3493759136399415},{"$f":"('2011'!K8/'2011 Rate'!$AA8)*1000","v":23.051838524682335},{"$f":"('2011'!L8/'2011 Rate'!$AA8)*1000","v":24.401214438322274},{"$f":"('2011'!M8/'2011 Rate'!$AA8)*1000","v":4.160575733723153},{"$f":"('2011'!N8/'2011 Rate'!$AA8)*1000","v":14.955583042842687},{"$f":"('2011'!O8/'2011 Rate'!$AA8)*1000","v":10.795007309119532},{"$f":"('2011'!P8/'2011 Rate'!$AA8)*1000","v":0.67468795681997074},{"$f":"('2011'!Q8/'2011 Rate'!$AA8)*1000","v":4.0481277409198251},{"$f":"('2011'!R8/'2011 Rate'!$AA8)*1000","v":3.4858877769031826},{"$f":"('2011'!S8/'2011 Rate'!$AA8)*1000","v":4.0481277409198251},null,null,null,null,null,{"$f":"IF('2011'!Y8=\"*\",\"\",('2011'!Y8/'2011 Rate'!$AA8)*1000)","v":0.33734397840998537},"Argyll & Bute",88930]
[7,"City of Edinburgh",null,{"$f":"('2011'!D9/'2011 Rate'!$AA9)*1000","v":16.822195254634472},{"$f":"('2011'!E9/'2011 Rate'!$AA9)*1000","v":0.50006276938527849},{"$f":"('2011'!F9/'2011 Rate'!$AA9)*1000","v":16.372347993471983},{"$f":"('2011'!G9/'2011 Rate'!$AA9)*1000","v":-4.1846256852324556E-2},{"$f":"('2011'!H9/'2011 Rate'!$AA9)*1000","v":62.560153994225224},{"$f":"('2011'!I9/'2011 Rate'!$AA9)*1000","v":45.737958739590745},{"$f":"('2011'!J9/'2011 Rate'!$AA9)*1000","v":-0.8160020086203289},{"$f":"('2011'!K9/'2011 Rate'!$AA9)*1000","v":22.617901828681426},{"$f":"('2011'!L9/'2011 Rate'!$AA9)*1000","v":23.454826965727914},{"$f":"('2011'!M9/'2011 Rate'!$AA9)*1000","v":0.75323262334184204},{"$f":"('2011'!N9/'2011 Rate'!$AA9)*1000","v":16.466502071389716},{"$f":"('2011'!O9/'2011 Rate'!$AA9)*1000","v":15.713269448047871},{"$f":"('2011'!P9/'2011 Rate'!$AA9)*1000","v":16.905887768339124},{"$f":"('2011'!Q9/'2011 Rate'!$AA9)*1000","v":23.475750094154076},{"$f":"('2011'!R9/'2011 Rate'!$AA9)*1000","v":6.569862325814956},{"$f":"('2011'!S9/'2011 Rate'!$AA9)*1000","v":22.157593003305855},null,null,null,null,null,{"$f":"IF('2011'!Y9=\"*\",\"\",('2011'!Y9/'2011 Rate'!$AA9)*1000)","v":1.7617274134828638},"City of Edinburgh",477940]
[8,"Clackmannanshire",null,{"$f":"('2011'!D10/'2011 Rate'!$AA10)*1000","v":-0.19417475728155342},{"$f":"('2011'!E10/'2011 Rate'!$AA10)*1000","v":1.9417475728155338E-2},{"$f":"('2011'!F10/'2011 Rate'!$AA10)*1000","v":-0.34951456310679607},{"$f":"('2011'!G10/'2011 Rate'!$AA10)*1000","v":0.17475728155339804},{"$f":"('2011'!H10/'2011 Rate'!$AA10)*1000","v":29.708737864077669},{"$f":"('2011'!I10/'2011 Rate'!$AA10)*1000","v":29.708737864077669},{"$f":"('2011'!J10/'2011 Rate'!$AA10)*1000","v":-0.19417475728155342},{"$f":"('2011'!K10/'2011 Rate'!$AA10)*1000","v":21.941747572815537},{"$f":"('2011'!L10/'2011 Rate'!$AA10)*1000","v":22.135922330097088},{"$f":"('2011'!M10/'2011 Rate'!$AA10)*1000","v":-0.19417475728155342},{"$f":"('2011'!N10/'2011 Rate'!$AA10)*1000","v":5.6310679611650487},{"$f":"('2011'!O10/'2011 Rate'!$AA10)*1000","v":5.825242718446602},{"$f":"('2011'!P10/'2011 Rate'!$AA10)*1000","v":0.19417475728155342},{"$f":"('2011'!Q10/'2011 Rate'!$AA10)*1000","v":1.941747572815534},{"$f":"('2011'!R10/'2011 Rate'!$AA10)*1000","v":1.941747572815534},{"$f":"('2011'!S10/'2011 Rate'!$AA10)*1000","v":1.7475728155339807},null,null,null,null,null,{"$f":"IF('2011'!Y10=\"*\",\"\",('2011'!Y10/'2011 Rate'!$AA10)*1000)","v":0.19417475728155342},"Clackmannanshire",51500]
[9,"Dumfries and Galloway",null,{"$f":"('2011'!D11/'2011 Rate'!$AA11)*1000","v":2.5097417607819827},{"$f":"('2011'!E11/'2011 Rate'!$AA11)*1000","v":0.74631794465358958},{"$f":"('2011'!F11/'2011 Rate'!$AA11)*1000","v":1.5190542236312001},{"$f":"('2011'!G11/'2011 Rate'!$AA11)*1000","v":0.22455584175417742},{"$f":"('2011'!H11/'2011 Rate'!$AA11)*1000","v":26.418334324020872},{"$f":"('2011'!I11/'2011 Rate'!$AA11)*1000","v":23.974638399048938},{"$f":"('2011'!J11/'2011 Rate'!$AA11)*1000","v":-0.59441252229046959},{"$f":"('2011'!K11/'2011 Rate'!$AA11)*1000","v":10.89756290865861},{"$f":"('2011'!L11/'2011 Rate'!$AA11)*1000","v":11.491975430949079},{"$f":"('2011'!M11/'2011 Rate'!$AA11)*1000","v":2.9720626114523481},{"$f":"('2011'!N11/'2011 Rate'!$AA11)*1000","v":13.143121326200383},{"$f":"('2011'!O11/'2011 Rate'!$AA11)*1000","v":10.171058714748035},{"$f":"('2011'!P11/'2011 Rate'!$AA11)*1000","v":0.13209167162010435},{"$f":"('2011'!Q11/'2011 Rate'!$AA11)*1000","v":2.3776500891618784},{"$f":"('2011'!R11/'2011 Rate'!$AA11)*1000","v":2.245558417541774},{"$f":"('2011'!S11/'2011 Rate'!$AA11)*1000","v":2.0474209101116174},null,null,null,null,null,{"$f":"IF('2011'!Y11=\"*\",\"\",('2011'!Y11/'2011 Rate'!$AA11)*1000)","v":0.39627501486031302},"Dumfries & Galloway",151410]
[10,"Dundee City",null,{"$f":"('2011'!D12/'2011 Rate'!$AA12)*1000","v":9.7146739130434785},{"$f":"('2011'!E12/'2011 Rate'!$AA12)*1000","v":-0.61820652173913049},{"$f":"('2011'!F12/'2011 Rate'!$AA12)*1000","v":10.889945652173914},{"$f":"('2011'!G12/'2011 Rate'!$AA12)*1000","v":-0.57744565217391308},{"$f":"('2011'!H12/'2011 Rate'!$AA12)*1000","v":50.203804347826086},{"$f":"('2011'!I12/'2011 Rate'!$AA12)*1000","v":40.489130434782609},{"$f":"('2011'!J12/'2011 Rate'!$AA12)*1000","v":-6.7934782608695649E-2},{"$f":"('2011'!K12/'2011 Rate'!$AA12)*1000","v":25.611413043478262},{"$f":"('2011'!L12/'2011 Rate'!$AA12)*1000","v":25.679347826086957},{"$f":"('2011'!M12/'2011 Rate'!$AA12)*1000","v":-0.95108695652173914},{"$f":"('2011'!N12/'2011 Rate'!$AA12)*1000","v":9.3070652173913047},{"$f":"('2011'!O12/'2011 Rate'!$AA12)*1000","v":10.258152173913043},{"$f":"('2011'!P12/'2011 Rate'!$AA12)*1000","v":10.733695652173914},{"$f":"('2011'!Q12/'2011 Rate'!$AA12)*1000","v":15.285326086956522},{"$f":"('2011'!R12/'2011 Rate'!$AA12)*1000","v":4.5516304347826084},{"$f":"('2011'!S12/'2011 Rate'!$AA12)*1000","v":10.122282608695652},null,null,null,null,null,{"$f":"IF('2011'!Y12=\"*\",\"\",('2011'!Y12/'2011 Rate'!$AA12)*1000)","v":0.95788043478260876},"Dundee City",147200]
[11,"East Ayrshire",null,{"$f":"('2011'!D13/'2011 Rate'!$AA13)*1000","v":0.2445187056809846},{"$f":"('2011'!E13/'2011 Rate'!$AA13)*1000","v":0.20376558806748715},{"$f":"('2011'!F13/'2011 Rate'!$AA13)*1000","v":0.1222593528404923},{"$f":"('2011'!G13/'2011 Rate'!$AA13)*1000","v":-8.1506235226994864E-2},{"$f":"('2011'!H13/'2011 Rate'!$AA13)*1000","v":25.348439155595401},{"$f":"('2011'!I13/'2011 Rate'!$AA13)*1000","v":25.103920449914419},{"$f":"('2011'!J13/'2011 Rate'!$AA13)*1000","v":8.1506235226994864E-2},{"$f":"('2011'!K13/'2011 Rate'!$AA13)*1000","v":18.74643410220882},{"$f":"('2011'!L13/'2011 Rate'!$AA13)*1000","v":18.664927866981824},{"$f":"('2011'!M13/'2011 Rate'!$AA13)*1000","v":0.65204988181595891},{"$f":"('2011'!N13/'2011 Rate'!$AA13)*1000","v":5.6239302306626451},{"$f":"('2011'!O13/'2011 Rate'!$AA13)*1000","v":4.9718803488466863},{"$f":"('2011'!P13/'2011 Rate'!$AA13)*1000","v":-0.57054364658896406},{"$f":"('2011'!Q13/'2011 Rate'!$AA13)*1000","v":0.97807482272393842},{"$f":"('2011'!R13/'2011 Rate'!$AA13)*1000","v":1.4671122340859075},{"$f":"('2011'!S13/'2011 Rate'!$AA13)*1000","v":0.81506235226994861},null,null,null,null,null,{"$f":"IF('2011'!Y13=\"*\",\"\",('2011'!Y13/'2011 Rate'!$AA13)*1000)","v":0.30157307033988101},"East Ayrshire",122690]
[12,"East Dunbartonshire",null,{"$f":"('2011'!D14/'2011 Rate'!$AA14)*1000","v":-1.0476190476190477},{"$f":"('2011'!E14/'2011 Rate'!$AA14)*1000","v":2.2285714285714286},{"$f":"('2011'!F14/'2011 Rate'!$AA14)*1000","v":-2.9714285714285715},{"$f":"('2011'!G14/'2011 Rate'!$AA14)*1000","v":-0.25714285714285717},{"$f":"('2011'!H14/'2011 Rate'!$AA14)*1000","v":29.047619047619047},{"$f":"('2011'!I14/'2011 Rate'!$AA14)*1000","v":30.095238095238095},{"$f":"('2011'!J14/'2011 Rate'!$AA14)*1000","v":0.19047619047619049},{"$f":"('2011'!K14/'2011 Rate'!$AA14)*1000","v":23.428571428571427},{"$f":"('2011'!L14/'2011 Rate'!$AA14)*1000","v":23.238095238095237},{"$f":"('2011'!M14/'2011 Rate'!$AA14)*1000","v":-0.47619047619047616},{"$f":"('2011'!N14/'2011 Rate'!$AA14)*1000","v":4.0952380952380958},{"$f":"('2011'!O14/'2011 Rate'!$AA14)*1000","v":4.666666666666667},{"$f":"('2011'!P14/'2011 Rate'!$AA14)*1000","v":-0.66666666666666663},{"$f":"('2011'!Q14/'2011 Rate'!$AA14)*1000","v":1.5238095238095239},{"$f":"('2011'!R14/'2011 Rate'!$AA14)*1000","v":2.1904761904761907},{"$f":"('2011'!S14/'2011 Rate'!$AA14)*1000","v":1.2380952380952379},null,null,null,null,null,{"$f":"IF('2011'!Y14=\"*\",\"\",('2011'!Y14/'2011 Rate'!$AA14)*1000)","v":0.6},"East Dunbartonshire",105000]
[13,"East Lothian",null,{"$f":"('2011'!D15/'2011 Rate'!$AA15)*1000","v":4.5036028823058443},{"$f":"('2011'!E15/'2011 Rate'!$AA15)*1000","v":1.9115292233787031},{"$f":"('2011'!F15/'2011 Rate'!$AA15)*1000","v":1.9915932746196958},{"$f":"('2011'!G15/'2011 Rate'!$AA15)*1000","v":0.55044035228182553},{"$f":"('2011'!H15/'2011 Rate'!$AA15)*1000","v":36.529223378702966},{"$f":"('2011'!I15/'2011 Rate'!$AA15)*1000","v":32.125700560448358},{"$f":"('2011'!J15/'2011 Rate'!$AA15)*1000","v":2.1016813450760607},{"$f":"('2011'!K15/'2011 Rate'!$AA15)*1000","v":25.320256204963972},{"$f":"('2011'!L15/'2011 Rate'!$AA15)*1000","v":23.218574859887909},{"$f":"('2011'!M15/'2011 Rate'!$AA15)*1000","v":0.70056044835868692},{"$f":"('2011'!N15/'2011 Rate'!$AA15)*1000","v":6.9055244195356282},{"$f":"('2011'!O15/'2011 Rate'!$AA15)*1000","v":6.3050440352281827},{"$f":"('2011'!P15/'2011 Rate'!$AA15)*1000","v":1.7013610888710968},{"$f":"('2011'!Q15/'2011 Rate'!$AA15)*1000","v":4.3034427542033624},{"$f":"('2011'!R15/'2011 Rate'!$AA15)*1000","v":2.6020816653322658},{"$f":"('2011'!S15/'2011 Rate'!$AA15)*1000","v":3.1024819855884709},null,null,null,null,null,{"$f":"IF('2011'!Y15=\"*\",\"\",('2011'!Y15/'2011 Rate'!$AA15)*1000)","v":0.29023218574859888},"East Lothian",99920]
[14,"East Renfrewshire",null,{"$f":"('2011'!D16/'2011 Rate'!$AA16)*1000","v":2.9732408325074329},{"$f":"('2011'!E16/'2011 Rate'!$AA16)*1000","v":4.6030172888448408},{"$f":"('2011'!F16/'2011 Rate'!$AA16)*1000","v":-1.2884043607532212},{"$f":"('2011'!G16/'2011 Rate'!$AA16)*1000","v":-0.3413720955841868},{"$f":"('2011'!H16/'2011 Rate'!$AA16)*1000","v":34.577689681753114},{"$f":"('2011'!I16/'2011 Rate'!$AA16)*1000","v":31.604448849245681},{"$f":"('2011'!J16/'2011 Rate'!$AA16)*1000","v":3.0833608633410416},{"$f":"('2011'!K16/'2011 Rate'!$AA16)*1000","v":28.41096795507103},{"$f":"('2011'!L16/'2011 Rate'!$AA16)*1000","v":25.327607091729988},{"$f":"('2011'!M16/'2011 Rate'!$AA16)*1000","v":0.22024006166721727},{"$f":"('2011'!N16/'2011 Rate'!$AA16)*1000","v":4.735161325845171},{"$f":"('2011'!O16/'2011 Rate'!$AA16)*1000","v":4.5149212641779535},{"$f":"('2011'!P16/'2011 Rate'!$AA16)*1000","v":-0.33036009250082587},{"$f":"('2011'!Q16/'2011 Rate'!$AA16)*1000","v":1.4315604008369123},{"$f":"('2011'!R16/'2011 Rate'!$AA16)*1000","v":1.7619204933377381},{"$f":"('2011'!S16/'2011 Rate'!$AA16)*1000","v":1.1012003083360864},null,null,null,null,null,{"$f":"IF('2011'!Y16=\"*\",\"\",('2011'!Y16/'2011 Rate'!$AA16)*1000)","v":0.6937561942517344},"East Renfrewshire",90810]
[15,"Falkirk",null,{"$f":"('2011'!D17/'2011 Rate'!$AA17)*1000","v":6.5279999999999996},{"$f":"('2011'!E17/'2011 Rate'!$AA17)*1000","v":0.58879999999999999},{"$f":"('2011'!F17/'2011 Rate'!$AA17)*1000","v":5.6896000000000004},{"$f":"('2011'!G17/'2011 Rate'!$AA17)*1000","v":0.25600000000000001},{"$f":"('2011'!H17/'2011 Rate'!$AA17)*1000","v":26.880000000000003},{"$f":"('2011'!I17/'2011 Rate'!$AA17)*1000","v":20.352},{"$f":"('2011'!J17/'2011 Rate'!$AA17)*1000","v":3.9039999999999999},{"$f":"('2011'!K17/'2011 Rate'!$AA17)*1000","v":19.135999999999999},{"$f":"('2011'!L17/'2011 Rate'!$AA17)*1000","v":15.232000000000001},{"$f":"('2011'!M17/'2011 Rate'!$AA17)*1000","v":0.83199999999999996},{"$f":"('2011'!N17/'2011 Rate'!$AA17)*1000","v":4.5440000000000005},{"$f":"('2011'!O17/'2011 Rate'!$AA17)*1000","v":3.6480000000000001},{"$f":"('2011'!P17/'2011 Rate'!$AA17)*1000","v":1.792},{"$f":"('2011'!Q17/'2011 Rate'!$AA17)*1000","v":3.2},{"$f":"('2011'!R17/'2011 Rate'!$AA17)*1000","v":1.4079999999999999},{"$f":"('2011'!S17/'2011 Rate'!$AA17)*1000","v":2.1120000000000001},null,null,null,null,null,{"$f":"IF('2011'!Y17=\"*\",\"\",('2011'!Y17/'2011 Rate'!$AA17)*1000)","v":0.39679999999999999},"Falkirk",156250]
[16,"Fife",null,{"$f":"('2011'!D18/'2011 Rate'!$AA18)*1000","v":5.6939501779359434},{"$f":"('2011'!E18/'2011 Rate'!$AA18)*1000","v":0.90336709553791406},{"$f":"('2011'!F18/'2011 Rate'!$AA18)*1000","v":4.4292362441828637},{"$f":"('2011'!G18/'2011 Rate'!$AA18)*1000","v":0.35039693402682731},{"$f":"('2011'!H18/'2011 Rate'!$AA18)*1000","v":30.577607445934849},{"$f":"('2011'!I18/'2011 Rate'!$AA18)*1000","v":24.911032028469752},{"$f":"('2011'!J18/'2011 Rate'!$AA18)*1000","v":1.2318642211880646},{"$f":"('2011'!K18/'2011 Rate'!$AA18)*1000","v":16.014234875444842},{"$f":"('2011'!L18/'2011 Rate'!$AA18)*1000","v":14.782370654256775},{"$f":"('2011'!M18/'2011 Rate'!$AA18)*1000","v":0.90336709553791406},{"$f":"('2011'!N18/'2011 Rate'!$AA18)*1000","v":8.267177662195456},{"$f":"('2011'!O18/'2011 Rate'!$AA18)*1000","v":7.3911853271283876},{"$f":"('2011'!P18/'2011 Rate'!$AA18)*1000","v":3.5587188612099641},{"$f":"('2011'!Q18/'2011 Rate'!$AA18)*1000","v":6.2961949082945523},{"$f":"('2011'!R18/'2011 Rate'!$AA18)*1000","v":2.7374760470845878},{"$f":"('2011'!S18/'2011 Rate'!$AA18)*1000","v":5.201204489460717},null,null,null,null,null,{"$f":"IF('2011'!Y18=\"*\",\"\",('2011'!Y18/'2011 Rate'!$AA18)*1000)","v":0.5009581166164796},"Fife",365300]
[17,"Glasgow City",null,{"$f":"('2011'!D19/'2011 Rate'!$AA19)*1000","v":9.0547330792837162},{"$f":"('2011'!E19/'2011 Rate'!$AA19)*1000","v":-0.8228509762924493},{"$f":"('2011'!F19/'2011 Rate'!$AA19)*1000","v":10.331163794557042},{"$f":"('2011'!G19/'2011 Rate'!$AA19)*1000","v":-0.45357973898087883},{"$f":"('2011'!H19/'2011 Rate'!$AA19)*1000","v":49.438505378882404},{"$f":"('2011'!I19/'2011 Rate'!$AA19)*1000","v":40.383772299598689},{"$f":"('2011'!J19/'2011 Rate'!$AA19)*1000","v":-2.0739891410649847},{"$f":"('2011'!K19/'2011 Rate'!$AA19)*1000","v":23.033082656055036},{"$f":"('2011'!L19/'2011 Rate'!$AA19)*1000","v":25.107071797120021},{"$f":"('2011'!M19/'2011 Rate'!$AA19)*1000","v":-0.77563821535763666},{"$f":"('2011'!N19/'2011 Rate'!$AA19)*1000","v":9.1053181802853},{"$f":"('2011'!O19/'2011 Rate'!$AA19)*1000","v":9.8809563956429365},{"$f":"('2011'!P19/'2011 Rate'!$AA19)*1000","v":11.904360435706337},{"$f":"('2011'!Q19/'2011 Rate'!$AA19)*1000","v":17.300104542542069},{"$f":"('2011'!R19/'2011 Rate'!$AA19)*1000","v":5.3957441068357328},{"$f":"('2011'!S19/'2011 Rate'!$AA19)*1000","v":12.899200755404175},null,null,null,null,null,{"$f":"IF('2011'!Y19=\"*\",\"\",('2011'!Y19/'2011 Rate'!$AA19)*1000)","v":2.2139412538360368},"Glasgow City",593060]
[18,"Highland",null,{"$f":"('2011'!D20/'2011 Rate'!$AA20)*1000","v":3.8671421819275555},{"$f":"('2011'!E20/'2011 Rate'!$AA20)*1000","v":0.73046018991964934},{"$f":"('2011'!F20/'2011 Rate'!$AA20)*1000","v":2.8659820392729771},{"$f":"('2011'!G20/'2011 Rate'!$AA20)*1000","v":0.26210630344175656},{"$f":"('2011'!H20/'2011 Rate'!$AA20)*1000","v":32.269153095862158},{"$f":"('2011'!I20/'2011 Rate'!$AA20)*1000","v":28.402010913934603},{"$f":"('2011'!J20/'2011 Rate'!$AA20)*1000","v":-0.73046018991964934},{"$f":"('2011'!K20/'2011 Rate'!$AA20)*1000","v":17.058393846947109},{"$f":"('2011'!L20/'2011 Rate'!$AA20)*1000","v":17.745885790400894},{"$f":"('2011'!M20/'2011 Rate'!$AA20)*1000","v":2.7499677738151509},{"$f":"('2011'!N20/'2011 Rate'!$AA20)*1000","v":10.827998109397155},{"$f":"('2011'!O20/'2011 Rate'!$AA20)*1000","v":8.0780303355820049},{"$f":"('2011'!P20/'2011 Rate'!$AA20)*1000","v":1.8046663515661925},{"$f":"('2011'!Q20/'2011 Rate'!$AA20)*1000","v":4.3827611395178963},{"$f":"('2011'!R20/'2011 Rate'!$AA20)*1000","v":2.578094787951704},{"$f":"('2011'!S20/'2011 Rate'!$AA20)*1000","v":5.4999355476303018},null,null,null,null,null,{"$f":"IF('2011'!Y20=\"*\",\"\",('2011'!Y20/'2011 Rate'!$AA20)*1000)","v":0.43397928930520346},"Highland",232730]
[19,"Inverclyde",null,{"$f":"('2011'!D21/'2011 Rate'!$AA21)*1000","v":-3.570549125831076},{"$f":"('2011'!E21/'2011 Rate'!$AA21)*1000","v":-0.4186161044077813},{"$f":"('2011'!F21/'2011 Rate'!$AA21)*1000","v":-3.2627431667077071},{"$f":"('2011'!G21/'2011 Rate'!$AA21)*1000","v":0.12312238364934745},{"$f":"('2011'!H21/'2011 Rate'!$AA21)*1000","v":15.513420339817777},{"$f":"('2011'!I21/'2011 Rate'!$AA21)*1000","v":19.083969465648856},{"$f":"('2011'!J21/'2011 Rate'!$AA21)*1000","v":-3.0780595912336861},{"$f":"('2011'!K21/'2011 Rate'!$AA21)*1000","v":10.711647377493229},{"$f":"('2011'!L21/'2011 Rate'!$AA21)*1000","v":13.789706968726914},{"$f":"('2011'!M21/'2011 Rate'!$AA21)*1000","v":-0.24624476729869491},{"$f":"('2011'!N21/'2011 Rate'!$AA21)*1000","v":3.570549125831076},{"$f":"('2011'!O21/'2011 Rate'!$AA21)*1000","v":3.8167938931297707},{"$f":"('2011'!P21/'2011 Rate'!$AA21)*1000","v":-0.36936715094804234},{"$f":"('2011'!Q21/'2011 Rate'!$AA21)*1000","v":1.2312238364934747},{"$f":"('2011'!R21/'2011 Rate'!$AA21)*1000","v":1.4774686037921694},{"$f":"('2011'!S21/'2011 Rate'!$AA21)*1000","v":1.6005909874415167},null,null,null,null,null,{"$f":"IF('2011'!Y21=\"*\",\"\",('2011'!Y21/'2011 Rate'!$AA21)*1000)","v":0.25855700566362966},"Inverclyde",81220]
[20,"Midlothian",null,{"$f":"('2011'!D22/'2011 Rate'!$AA22)*1000","v":6.2312762133013786},{"$f":"('2011'!E22/'2011 Rate'!$AA22)*1000","v":2.0850808867585382},{"$f":"('2011'!F22/'2011 Rate'!$AA22)*1000","v":3.6189334931096462},{"$f":"('2011'!G22/'2011 Rate'!$AA22)*1000","v":0.55122828040742955},{"$f":"('2011'!H22/'2011 Rate'!$AA22)*1000","v":32.594367884961052},{"$f":"('2011'!I22/'2011 Rate'!$AA22)*1000","v":26.363091671659678},{"$f":"('2011'!J22/'2011 Rate'!$AA22)*1000","v":4.5536249251048533},{"$f":"('2011'!K22/'2011 Rate'!$AA22)*1000","v":25.883762732174954},{"$f":"('2011'!L22/'2011 Rate'!$AA22)*1000","v":21.330137807070102},{"$f":"('2011'!M22/'2011 Rate'!$AA22)*1000","v":0.83882564409826244},{"$f":"('2011'!N22/'2011 Rate'!$AA22)*1000","v":4.5536249251048533},{"$f":"('2011'!O22/'2011 Rate'!$AA22)*1000","v":3.7147992810065906},{"$f":"('2011'!P22/'2011 Rate'!$AA22)*1000","v":0.83882564409826244},{"$f":"('2011'!Q22/'2011 Rate'!$AA22)*1000","v":2.1569802276812466},{"$f":"('2011'!R22/'2011 Rate'!$AA22)*1000","v":1.3181545835829838},{"$f":"('2011'!S22/'2011 Rate'!$AA22)*1000","v":2.0371479928100658},null,null,null,null,null,{"$f":"IF('2011'!Y22=\"*\",\"\",('2011'!Y22/'2011 Rate'!$AA22)*1000)","v":0.39544637507489516},"Midlothian",83450]
[21,"Moray",null,{"$f":"('2011'!D23/'2011 Rate'!$AA23)*1000","v":-1.7117791804857174},{"$f":"('2011'!E23/'2011 Rate'!$AA23)*1000","v":-0.81309511073071572},{"$f":"('2011'!F23/'2011 Rate'!$AA23)*1000","v":-1.2196426660960737},{"$f":"('2011'!G23/'2011 Rate'!$AA23)*1000","v":0.29956135658500049},{"$f":"('2011'!H23/'2011 Rate'!$AA23)*1000","v":32.523804429228626},{"$f":"('2011'!I23/'2011 Rate'!$AA23)*1000","v":34.235583609714347},{"$f":"('2011'!J23/'2011 Rate'!$AA23)*1000","v":0.64191719268214398},{"$f":"('2011'!K23/'2011 Rate'!$AA23)*1000","v":18.294639991441105},{"$f":"('2011'!L23/'2011 Rate'!$AA23)*1000","v":17.652722798758962},{"$f":"('2011'!M23/'2011 Rate'!$AA23)*1000","v":-1.3908205841446453},{"$f":"('2011'!N23/'2011 Rate'!$AA23)*1000","v":9.8427302877928753},{"$f":"('2011'!O23/'2011 Rate'!$AA23)*1000","v":11.233550871937521},{"$f":"('2011'!P23/'2011 Rate'!$AA23)*1000","v":-1.0698619878035733},{"$f":"('2011'!Q23/'2011 Rate'!$AA23)*1000","v":4.3864341499946509},{"$f":"('2011'!R23/'2011 Rate'!$AA23)*1000","v":5.3493099390178669},{"$f":"('2011'!S23/'2011 Rate'!$AA23)*1000","v":2.1397239756071467},null,null,null,null,null,{"$f":"IF('2011'!Y23=\"*\",\"\",('2011'!Y23/'2011 Rate'!$AA23)*1000)","v":0.17117791804857174},"Moray",93470]
[22,"Na h-Eileanan Siar",null,{"$f":"('2011'!D24/'2011 Rate'!$AA24)*1000","v":0.72228241242325752},{"$f":"('2011'!E24/'2011 Rate'!$AA24)*1000","v":0.32502708559046589},{"$f":"('2011'!F24/'2011 Rate'!$AA24)*1000","v":0.4333694474539545},{"$f":"('2011'!G24/'2011 Rate'!$AA24)*1000","v":7.2228241242325741E-2},{"$f":"('2011'!H24/'2011 Rate'!$AA24)*1000","v":32.863849765258216},{"$f":"('2011'!I24/'2011 Rate'!$AA24)*1000","v":32.141567352834961},{"$f":"('2011'!J24/'2011 Rate'!$AA24)*1000","v":-1.0834236186348862},{"$f":"('2011'!K24/'2011 Rate'!$AA24)*1000","v":20.946189960274467},{"$f":"('2011'!L24/'2011 Rate'!$AA24)*1000","v":22.029613578909355},{"$f":"('2011'!M24/'2011 Rate'!$AA24)*1000","v":1.8057060310581436},{"$f":"('2011'!N24/'2011 Rate'!$AA24)*1000","v":9.7508125677139752},{"$f":"('2011'!O24/'2011 Rate'!$AA24)*1000","v":7.9451065366558327},{"$f":"('2011'!P24/'2011 Rate'!$AA24)*1000","v":0},{"$f":"('2011'!Q24/'2011 Rate'!$AA24)*1000","v":2.1668472372697725},{"$f":"('2011'!R24/'2011 Rate'!$AA24)*1000","v":2.1668472372697725},{"$f":"('2011'!S24/'2011 Rate'!$AA24)*1000","v":1.444564824846515},null,null,null,null,null,{"$f":"IF('2011'!Y24=\"*\",\"\",('2011'!Y24/'2011 Rate'!$AA24)*1000)","v":0.39725532683279163},"Na h-Eileanan Siar",27690]
[23,"North Ayrshire",null,{"$f":"('2011'!D25/'2011 Rate'!$AA25)*1000","v":1.0138315591281049},{"$f":"('2011'!E25/'2011 Rate'!$AA25)*1000","v":0.46346585560141934},{"$f":"('2011'!F25/'2011 Rate'!$AA25)*1000","v":7.9658193931493954E-2},{"$f":"('2011'!G25/'2011 Rate'!$AA25)*1000","v":0.44174089362010283},{"$f":"('2011'!H25/'2011 Rate'!$AA25)*1000","v":25.563038598015787},{"$f":"('2011'!I25/'2011 Rate'!$AA25)*1000","v":24.54920703888768},{"$f":"('2011'!J25/'2011 Rate'!$AA25)*1000","v":0.14483307987544355},{"$f":"('2011'!K25/'2011 Rate'!$AA25)*1000","v":17.814468824679558},{"$f":"('2011'!L25/'2011 Rate'!$AA25)*1000","v":17.669635744804115},{"$f":"('2011'!M25/'2011 Rate'!$AA25)*1000","v":0.57933231950177422},{"$f":"('2011'!N25/'2011 Rate'!$AA25)*1000","v":6.1554058947063508},{"$f":"('2011'!O25/'2011 Rate'!$AA25)*1000","v":5.5036570352668548},{"$f":"('2011'!P25/'2011 Rate'!$AA25)*1000","v":0.21724961981316532},{"$f":"('2011'!Q25/'2011 Rate'!$AA25)*1000","v":1.593163878629879},{"$f":"('2011'!R25/'2011 Rate'!$AA25)*1000","v":1.3759142588167137},{"$f":"('2011'!S25/'2011 Rate'!$AA25)*1000","v":1.2310811789412701},null,null,null,null,null,{"$f":"IF('2011'!Y25=\"*\",\"\",('2011'!Y25/'2011 Rate'!$AA25)*1000)","v":0.2969078137446593},"North Ayrshire",138090]
[24,"North Lanarkshire",null,{"$f":"('2011'!D26/'2011 Rate'!$AA26)*1000","v":-0.17766196849461091},{"$f":"('2011'!E26/'2011 Rate'!$AA26)*1000","v":0.11548027952149709},{"$f":"('2011'!F26/'2011 Rate'!$AA26)*1000","v":-0.23984365746772474},{"$f":"('2011'!G26/'2011 Rate'!$AA26)*1000","v":-4.7376524931896244E-2},{"$f":"('2011'!H26/'2011 Rate'!$AA26)*1000","v":19.36515456591259},{"$f":"('2011'!I26/'2011 Rate'!$AA26)*1000","v":19.542816534407201},{"$f":"('2011'!J26/'2011 Rate'!$AA26)*1000","v":-0.59220656164870311},{"$f":"('2011'!K26/'2011 Rate'!$AA26)*1000","v":14.035295511074262},{"$f":"('2011'!L26/'2011 Rate'!$AA26)*1000","v":14.627502072722965},{"$f":"('2011'!M26/'2011 Rate'!$AA26)*1000","v":8.8830984247305456E-2},{"$f":"('2011'!N26/'2011 Rate'!$AA26)*1000","v":3.464408385644913},{"$f":"('2011'!O26/'2011 Rate'!$AA26)*1000","v":3.3755774013976079},{"$f":"('2011'!P26/'2011 Rate'!$AA26)*1000","v":0.35532393698922182},{"$f":"('2011'!Q26/'2011 Rate'!$AA26)*1000","v":1.8654506691934147},{"$f":"('2011'!R26/'2011 Rate'!$AA26)*1000","v":1.5397370602866278},{"$f":"('2011'!S26/'2011 Rate'!$AA26)*1000","v":2.0431126376880258},null,null,null,null,null,{"$f":"IF('2011'!Y26=\"*\",\"\",('2011'!Y26/'2011 Rate'!$AA26)*1000)","v":0.35532393698922182},"North Lanarkshire",337720]
[25,"Orkney Islands",null,{"$f":"('2011'!D27/'2011 Rate'!$AA27)*1000","v":4.6685340802987865},{"$f":"('2011'!E27/'2011 Rate'!$AA27)*1000","v":0.23342670401493931},{"$f":"('2011'!F27/'2011 Rate'!$AA27)*1000","v":3.9682539682539679},{"$f":"('2011'!G27/'2011 Rate'!$AA27)*1000","v":0.42016806722689076},{"$f":"('2011'!H27/'2011 Rate'!$AA27)*1000","v":31.279178338001866},{"$f":"('2011'!I27/'2011 Rate'!$AA27)*1000","v":26.610644257703079},{"$f":"('2011'!J27/'2011 Rate'!$AA27)*1000","v":0.46685340802987862},{"$f":"('2011'!K27/'2011 Rate'!$AA27)*1000","v":16.339869281045754},{"$f":"('2011'!L27/'2011 Rate'!$AA27)*1000","v":15.873015873015872},{"$f":"('2011'!M27/'2011 Rate'!$AA27)*1000","v":3.2679738562091503},{"$f":"('2011'!N27/'2011 Rate'!$AA27)*1000","v":12.138188608776844},{"$f":"('2011'!O27/'2011 Rate'!$AA27)*1000","v":8.8702147525676942},{"$f":"('2011'!P27/'2011 Rate'!$AA27)*1000","v":0.93370681605975725},{"$f":"('2011'!Q27/'2011 Rate'!$AA27)*1000","v":3.2679738562091503},{"$f":"('2011'!R27/'2011 Rate'!$AA27)*1000","v":1.8674136321195145},{"$f":"('2011'!S27/'2011 Rate'!$AA27)*1000","v":2.3342670401493932},null,null,null,null,null,{"$f":"IF('2011'!Y27=\"*\",\"\",('2011'!Y27/'2011 Rate'!$AA27)*1000)","v":0.28011204481792717},"Orkney Islands",21420]
[26,"Perth and Kinross",null,{"$f":"('2011'!D28/'2011 Rate'!$AA28)*1000","v":12.461695607763025},{"$f":"('2011'!E28/'2011 Rate'!$AA28)*1000","v":2.6557711950970377},{"$f":"('2011'!F28/'2011 Rate'!$AA28)*1000","v":8.5461355124276466},{"$f":"('2011'!G28/'2011 Rate'!$AA28)*1000","v":1.2325502213142663},{"$f":"('2011'!H28/'2011 Rate'!$AA28)*1000","v":43.990466462376574},{"$f":"('2011'!I28/'2011 Rate'!$AA28)*1000","v":31.528770854613551},{"$f":"('2011'!J28/'2011 Rate'!$AA28)*1000","v":2.3152877085461356},{"$f":"('2011'!K28/'2011 Rate'!$AA28)*1000","v":23.493360572012257},{"$f":"('2011'!L28/'2011 Rate'!$AA28)*1000","v":21.17807286346612},{"$f":"('2011'!M28/'2011 Rate'!$AA28)*1000","v":2.5195778004766769},{"$f":"('2011'!N28/'2011 Rate'!$AA28)*1000","v":9.3973442288049025},{"$f":"('2011'!O28/'2011 Rate'!$AA28)*1000","v":6.9458631256384065},{"$f":"('2011'!P28/'2011 Rate'!$AA28)*1000","v":7.6268300987402107},{"$f":"('2011'!Q28/'2011 Rate'!$AA28)*1000","v":11.099761661559414},{"$f":"('2011'!R28/'2011 Rate'!$AA28)*1000","v":3.4729315628192032},{"$f":"('2011'!S28/'2011 Rate'!$AA28)*1000","v":19.135171944160707},null,null,null,null,null,{"$f":"IF('2011'!Y28=\"*\",\"\",('2011'!Y28/'2011 Rate'!$AA28)*1000)","v":0.49029622063329925},"Perth & Kinross",146850]
[27,"Renfrewshire",null,{"$f":"('2011'!D29/'2011 Rate'!$AA29)*1000","v":3.3772180881511162},{"$f":"('2011'!E29/'2011 Rate'!$AA29)*1000","v":0.618202633085289},{"$f":"('2011'!F29/'2011 Rate'!$AA29)*1000","v":2.3354321694333144},{"$f":"('2011'!G29/'2011 Rate'!$AA29)*1000","v":0.41785918717801945},{"$f":"('2011'!H29/'2011 Rate'!$AA29)*1000","v":27.361190612478534},{"$f":"('2011'!I29/'2011 Rate'!$AA29)*1000","v":23.983972524327417},{"$f":"('2011'!J29/'2011 Rate'!$AA29)*1000","v":0.97309673726388091},{"$f":"('2011'!K29/'2011 Rate'!$AA29)*1000","v":19.06124785346308},{"$f":"('2011'!L29/'2011 Rate'!$AA29)*1000","v":18.088151116199199},{"$f":"('2011'!M29/'2011 Rate'!$AA29)*1000","v":-0.2289639381797367},{"$f":"('2011'!N29/'2011 Rate'!$AA29)*1000","v":4.12135088723526},{"$f":"('2011'!O29/'2011 Rate'!$AA29)*1000","v":4.3503148254149968},{"$f":"('2011'!P29/'2011 Rate'!$AA29)*1000","v":2.633085289066972},{"$f":"('2011'!Q29/'2011 Rate'!$AA29)*1000","v":4.1785918717801946},{"$f":"('2011'!R29/'2011 Rate'!$AA29)*1000","v":1.5455065827132226},{"$f":"('2011'!S29/'2011 Rate'!$AA29)*1000","v":3.0337721808815115},null,null,null,null,null,{"$f":"IF('2011'!Y29=\"*\",\"\",('2011'!Y29/'2011 Rate'!$AA29)*1000)","v":0.48082427017744706},"Renfrewshire",174700]
[28,"Scottish Borders",null,{"$f":"('2011'!D30/'2011 Rate'!$AA30)*1000","v":4.3027748507200565},{"$f":"('2011'!E30/'2011 Rate'!$AA30)*1000","v":1.2381454162276082},{"$f":"('2011'!F30/'2011 Rate'!$AA30)*1000","v":3.249034070951879},{"$f":"('2011'!G30/'2011 Rate'!$AA30)*1000","v":-0.2019669827889006},{"$f":"('2011'!H30/'2011 Rate'!$AA30)*1000","v":35.914998243765368},{"$f":"('2011'!I30/'2011 Rate'!$AA30)*1000","v":31.612223393045312},{"$f":"('2011'!J30/'2011 Rate'!$AA30)*1000","v":1.1415525114155249},{"$f":"('2011'!K30/'2011 Rate'!$AA30)*1000","v":19.406392694063925},{"$f":"('2011'!L30/'2011 Rate'!$AA30)*1000","v":18.177028451001053},{"$f":"('2011'!M30/'2011 Rate'!$AA30)*1000","v":2.5465402177730945},{"$f":"('2011'!N30/'2011 Rate'!$AA30)*1000","v":13.25957147874956},{"$f":"('2011'!O30/'2011 Rate'!$AA30)*1000","v":10.713031260976466},{"$f":"('2011'!P30/'2011 Rate'!$AA30)*1000","v":0.61468212153143653},{"$f":"('2011'!Q30/'2011 Rate'!$AA30)*1000","v":3.249034070951879},{"$f":"('2011'!R30/'2011 Rate'!$AA30)*1000","v":2.7221636810677907},{"$f":"('2011'!S30/'2011 Rate'!$AA30)*1000","v":3.4246575342465753},null,null,null,null,null,{"$f":"IF('2011'!Y30=\"*\",\"\",('2011'!Y30/'2011 Rate'!$AA30)*1000)","v":0.27221636810677907},"Scottish Borders",113880]
[29,"Shetland Islands",null,{"$f":"('2011'!D31/'2011 Rate'!$AA31)*1000","v":2.5817555938037868},{"$f":"('2011'!E31/'2011 Rate'!$AA31)*1000","v":-0.64543889845094671},{"$f":"('2011'!F31/'2011 Rate'!$AA31)*1000","v":2.753872633390706},{"$f":"('2011'!G31/'2011 Rate'!$AA31)*1000","v":0.43029259896729777},{"$f":"('2011'!H31/'2011 Rate'!$AA31)*1000","v":30.55077452667814},{"$f":"('2011'!I31/'2011 Rate'!$AA31)*1000","v":27.969018932874356},{"$f":"('2011'!J31/'2011 Rate'!$AA31)*1000","v":0.43029259896729777},{"$f":"('2011'!K31/'2011 Rate'!$AA31)*1000","v":16.351118760757316},{"$f":"('2011'!L31/'2011 Rate'!$AA31)*1000","v":15.920826161790018},{"$f":"('2011'!M31/'2011 Rate'!$AA31)*1000","v":0.43029259896729777},{"$f":"('2011'!N31/'2011 Rate'!$AA31)*1000","v":9.8967297762478488},{"$f":"('2011'!O31/'2011 Rate'!$AA31)*1000","v":9.0361445783132535},{"$f":"('2011'!P31/'2011 Rate'!$AA31)*1000","v":1.7211703958691911},{"$f":"('2011'!Q31/'2011 Rate'!$AA31)*1000","v":4.3029259896729775},{"$f":"('2011'!R31/'2011 Rate'!$AA31)*1000","v":3.0120481927710845},{"$f":"('2011'!S31/'2011 Rate'!$AA31)*1000","v":4.3029259896729775},null,null,null,null,null,{"$f":"IF('2011'!Y31=\"*\",\"\",('2011'!Y31/'2011 Rate'!$AA31)*1000)","v":0.51635111876075723},"Shetland Islands",23240]
[30,"South Ayrshire",null,{"$f":"('2011'!D32/'2011 Rate'!$AA32)*1000","v":5.3106744556558683},{"$f":"('2011'!E32/'2011 Rate'!$AA32)*1000","v":1.4073287307488049},{"$f":"('2011'!F32/'2011 Rate'!$AA32)*1000","v":2.867764206054169},{"$f":"('2011'!G32/'2011 Rate'!$AA32)*1000","v":1.0001770224818551},{"$f":"('2011'!H32/'2011 Rate'!$AA32)*1000","v":30.801911842804035},{"$f":"('2011'!I32/'2011 Rate'!$AA32)*1000","v":25.579748628075766},{"$f":"('2011'!J32/'2011 Rate'!$AA32)*1000","v":2.0357585413347494},{"$f":"('2011'!K32/'2011 Rate'!$AA32)*1000","v":20.446096654275092},{"$f":"('2011'!L32/'2011 Rate'!$AA32)*1000","v":18.410338112940345},{"$f":"('2011'!M32/'2011 Rate'!$AA32)*1000","v":2.5668259869003363},{"$f":"('2011'!N32/'2011 Rate'!$AA32)*1000","v":7.7004779607010088},{"$f":"('2011'!O32/'2011 Rate'!$AA32)*1000","v":5.1336519738006725},{"$f":"('2011'!P32/'2011 Rate'!$AA32)*1000","v":0.70808992742078236},{"$f":"('2011'!Q32/'2011 Rate'!$AA32)*1000","v":2.743848468755532},{"$f":"('2011'!R32/'2011 Rate'!$AA32)*1000","v":2.0357585413347494},{"$f":"('2011'!S32/'2011 Rate'!$AA32)*1000","v":2.743848468755532},null,null,null,null,null,{"$f":"IF('2011'!Y32=\"*\",\"\",('2011'!Y32/'2011 Rate'!$AA32)*1000)","v":0.20357585413347495},"South Ayrshire",112980]
[31,"South Lanarkshire",null,{"$f":"('2011'!D33/'2011 Rate'!$AA33)*1000","v":1.8795794839120741},{"$f":"('2011'!E33/'2011 Rate'!$AA33)*1000","v":0.28990124243389614},{"$f":"('2011'!F33/'2011 Rate'!$AA33)*1000","v":1.0672188595093979},{"$f":"('2011'!G33/'2011 Rate'!$AA33)*1000","v":0.51290219815227778},{"$f":"('2011'!H33/'2011 Rate'!$AA33)*1000","v":24.275246893915259},{"$f":"('2011'!I33/'2011 Rate'!$AA33)*1000","v":22.427524689391529},{"$f":"('2011'!J33/'2011 Rate'!$AA33)*1000","v":1.5291494106403312},{"$f":"('2011'!K33/'2011 Rate'!$AA33)*1000","v":18.063077413188914},{"$f":"('2011'!L33/'2011 Rate'!$AA33)*1000","v":16.533928002548581},{"$f":"('2011'!M33/'2011 Rate'!$AA33)*1000","v":0.35043007327174264},{"$f":"('2011'!N33/'2011 Rate'!$AA33)*1000","v":4.4600191143676335},{"$f":"('2011'!O33/'2011 Rate'!$AA33)*1000","v":4.10958904109589},{"$f":"('2011'!P33/'2011 Rate'!$AA33)*1000","v":0},{"$f":"('2011'!Q33/'2011 Rate'!$AA33)*1000","v":1.7840076457470533},{"$f":"('2011'!R33/'2011 Rate'!$AA33)*1000","v":1.7840076457470533},{"$f":"('2011'!S33/'2011 Rate'!$AA33)*1000","v":1.4972921312519911},null,null,null,null,null,{"$f":"IF('2011'!Y33=\"*\",\"\",('2011'!Y33/'2011 Rate'!$AA33)*1000)","v":0.62758840395030269},"South Lanarkshire",313900]
[32,"Stirling",null,{"$f":"('2011'!D34/'2011 Rate'!$AA34)*1000","v":11.291929591497841},{"$f":"('2011'!E34/'2011 Rate'!$AA34)*1000","v":2.4355142256171813},{"$f":"('2011'!F34/'2011 Rate'!$AA34)*1000","v":9.0446141924056231},{"$f":"('2011'!G34/'2011 Rate'!$AA34)*1000","v":-0.1771283073176132},{"$f":"('2011'!H34/'2011 Rate'!$AA34)*1000","v":57.123879109930257},{"$f":"('2011'!I34/'2011 Rate'!$AA34)*1000","v":45.83194951843241},{"$f":"('2011'!J34/'2011 Rate'!$AA34)*1000","v":-1.2177571128085907},{"$f":"('2011'!K34/'2011 Rate'!$AA34)*1000","v":31.440274548876346},{"$f":"('2011'!L34/'2011 Rate'!$AA34)*1000","v":32.65803166168493},{"$f":"('2011'!M34/'2011 Rate'!$AA34)*1000","v":1.6605778811026237},{"$f":"('2011'!N34/'2011 Rate'!$AA34)*1000","v":10.627698439056791},{"$f":"('2011'!O34/'2011 Rate'!$AA34)*1000","v":8.9671205579541677},{"$f":"('2011'!P34/'2011 Rate'!$AA34)*1000","v":10.959814015277315},{"$f":"('2011'!Q34/'2011 Rate'!$AA34)*1000","v":15.055906121997122},{"$f":"('2011'!R34/'2011 Rate'!$AA34)*1000","v":4.2067972987933127},{"$f":"('2011'!S34/'2011 Rate'!$AA34)*1000","v":6.6423115244104949},null,null,null,null,null,{"$f":"IF('2011'!Y34=\"*\",\"\",('2011'!Y34/'2011 Rate'!$AA34)*1000)","v":0.47603232591608546},"Stirling",90330]
[33,"West Dunbartonshire",null,{"$f":"('2011'!D35/'2011 Rate'!$AA35)*1000","v":-1.876172607879925},{"$f":"('2011'!E35/'2011 Rate'!$AA35)*1000","v":-0.69528749586138394},{"$f":"('2011'!F35/'2011 Rate'!$AA35)*1000","v":-1.3574660633484161},{"$f":"('2011'!G35/'2011 Rate'!$AA35)*1000","v":0.14347202295552366},{"$f":"('2011'!H35/'2011 Rate'!$AA35)*1000","v":23.06588676746496},{"$f":"('2011'!I35/'2011 Rate'!$AA35)*1000","v":24.942059375344886},{"$f":"('2011'!J35/'2011 Rate'!$AA35)*1000","v":-2.0968987970422694},{"$f":"('2011'!K35/'2011 Rate'!$AA35)*1000","v":16.885553470919326},{"$f":"('2011'!L35/'2011 Rate'!$AA35)*1000","v":18.982452267961595},{"$f":"('2011'!M35/'2011 Rate'!$AA35)*1000","v":0.11036309458117205},{"$f":"('2011'!N35/'2011 Rate'!$AA35)*1000","v":4.3041606886657098},{"$f":"('2011'!O35/'2011 Rate'!$AA35)*1000","v":4.3041606886657098},{"$f":"('2011'!P35/'2011 Rate'!$AA35)*1000","v":0.11036309458117205},{"$f":"('2011'!Q35/'2011 Rate'!$AA35)*1000","v":1.7658095132987528},{"$f":"('2011'!R35/'2011 Rate'!$AA35)*1000","v":1.6554464187175808},{"$f":"('2011'!S35/'2011 Rate'!$AA35)*1000","v":1.4347202295552368},null,null,null,null,null,{"$f":"IF('2011'!Y35=\"*\",\"\",('2011'!Y35/'2011 Rate'!$AA35)*1000)","v":0.4414523783246882},"West Dunbartonshire",90610]
[34,"West Lothian",null,{"$f":"('2011'!D36/'2011 Rate'!$AA36)*1000","v":1.2549914432401597},{"$f":"('2011'!E36/'2011 Rate'!$AA36)*1000","v":0.31945236737022248},{"$f":"('2011'!F36/'2011 Rate'!$AA36)*1000","v":0.67313177410154024},{"$f":"('2011'!G36/'2011 Rate'!$AA36)*1000","v":0.25670279520821448},{"$f":"('2011'!H36/'2011 Rate'!$AA36)*1000","v":27.495721620079863},{"$f":"('2011'!I36/'2011 Rate'!$AA36)*1000","v":26.240730176839701},{"$f":"('2011'!J36/'2011 Rate'!$AA36)*1000","v":-1.8254420992584142},{"$f":"('2011'!K36/'2011 Rate'!$AA36)*1000","v":17.512835139760409},{"$f":"('2011'!L36/'2011 Rate'!$AA36)*1000","v":19.338277239018826},{"$f":"('2011'!M36/'2011 Rate'!$AA36)*1000","v":-5.7045065601825443E-2},{"$f":"('2011'!N36/'2011 Rate'!$AA36)*1000","v":4.9629207073588137},{"$f":"('2011'!O36/'2011 Rate'!$AA36)*1000","v":5.0199657729606386},{"$f":"('2011'!P36/'2011 Rate'!$AA36)*1000","v":3.1374786081003996},{"$f":"('2011'!Q36/'2011 Rate'!$AA36)*1000","v":4.9629207073588137},{"$f":"('2011'!R36/'2011 Rate'!$AA36)*1000","v":1.8824871648602395},{"$f":"('2011'!S36/'2011 Rate'!$AA36)*1000","v":5.0199657729606386},null,null,null,null,null,{"$f":"IF('2011'!Y36=\"*\",\"\",('2011'!Y36/'2011 Rate'!$AA36)*1000)","v":0.60467769537934968},"West Lothian",175300]
[]
[35,"Not specified"]
[36,"Scotland",null,{"$f":"('2011'!D39/'2011 Rate'!$AA39)*1000","v":5.6982207211456819},{"$f":"('2011'!E39/'2011 Rate'!$AA39)*1000","v":0.65850299062246453},{"$f":"('2011'!F39/'2011 Rate'!$AA39)*1000","v":4.9480178871299456},{"$f":"('2011'!G39/'2011 Rate'!$AA39)*1000","v":9.3397988641295115E-2},{"$f":"('2011'!H39/'2011 Rate'!$AA39)*1000","v":16.585218589029985},{"$f":"('2011'!I39/'2011 Rate'!$AA39)*1000","v":10.8869978678843},{"$f":"'Within Scotland net migration'!I41","v":"[z]"},{"$f":"'Within Scotland in-migration'!I41","v":"[z]"},{"$f":"'Within Scotland out-migration'!I41","v":"[z]"},{"$f":"('2011'!M39/'2011 Rate'!$AA39)*1000","v":0.54718013547425415},{"$f":"('2011'!N39/'2011 Rate'!$AA39)*1000","v":8.245438593181003},{"$f":"('2011'!O39/'2011 Rate'!$AA39)*1000","v":7.6982584577067499},{"$f":"('2011'!P39/'2011 Rate'!$AA39)*1000","v":5.1510405856714279},{"$f":"('2011'!Q39/'2011 Rate'!$AA39)*1000","v":8.3397799958489784},{"$f":"('2011'!R39/'2011 Rate'!$AA39)*1000","v":3.1887394101775506},null,null,null,null,null,null,null,"SCOTLAND",{"$f":"AA4","v":5299900}]
[37,"Ayrshire and Arran",null,{"$f":"('2011'!D40/'2011 Rate'!$AA40)*1000","v":2.033390410958904},{"$f":"('2011'!E40/'2011 Rate'!$AA40)*1000","v":0.66352739726027399},{"$f":"('2011'!F40/'2011 Rate'!$AA40)*1000","v":0.93642979452054786},{"$f":"('2011'!G40/'2011 Rate'!$AA40)*1000","v":0.43878424657534243},{"$f":"('2011'!H40/'2011 Rate'!$AA40)*1000","v":20.761986301369863},{"$f":"('2011'!I40/'2011 Rate'!$AA40)*1000","v":18.728595890410958},{"$f":"('2011'!J40/'2011 Rate'!$AA40)*1000","v":0.69563356164383561},{"$f":"('2011'!K40/'2011 Rate'!$AA40)*1000","v":12.601669520547944},{"$f":"('2011'!L40/'2011 Rate'!$AA40)*1000","v":11.906035958904109},{"$f":"('2011'!M40/'2011 Rate'!$AA40)*1000","v":1.2307363013698629},{"$f":"('2011'!N40/'2011 Rate'!$AA40)*1000","v":6.4212328767123283},{"$f":"('2011'!O40/'2011 Rate'!$AA40)*1000","v":5.2172517123287667},{"$f":"('2011'!P40/'2011 Rate'!$AA40)*1000","v":0.13377568493150685},{"$f":"('2011'!Q40/'2011 Rate'!$AA40)*1000","v":1.7123287671232876},{"$f":"('2011'!R40/'2011 Rate'!$AA40)*1000","v":1.6053082191780821},null,null,null,null,null,null,null,"Ayrshire & Arran",{"$f":"AA13+AA25+AA32","v":373760}]
[38,"Borders",null,{"$f":"('2011'!D41/'2011 Rate'!$AA41)*1000","v":4.3027748507200565},{"$f":"('2011'!E41/'2011 Rate'!$AA41)*1000","v":1.2381454162276082},{"$f":"('2011'!F41/'2011 Rate'!$AA41)*1000","v":3.249034070951879},{"$f":"('2011'!G41/'2011 Rate'!$AA41)*1000","v":-0.2019669827889006},{"$f":"('2011'!H41/'2011 Rate'!$AA41)*1000","v":35.914998243765368},{"$f":"('2011'!I41/'2011 Rate'!$AA41)*1000","v":31.612223393045312},{"$f":"('2011'!J41/'2011 Rate'!$AA41)*1000","v":1.1415525114155249},{"$f":"('2011'!K41/'2011 Rate'!$AA41)*1000","v":19.406392694063925},{"$f":"('2011'!L41/'2011 Rate'!$AA41)*1000","v":18.177028451001053},{"$f":"('2011'!M41/'2011 Rate'!$AA41)*1000","v":2.5465402177730945},{"$f":"('2011'!N41/'2011 Rate'!$AA41)*1000","v":13.25957147874956},{"$f":"('2011'!O41/'2011 Rate'!$AA41)*1000","v":10.713031260976466},{"$f":"('2011'!P41/'2011 Rate'!$AA41)*1000","v":0.61468212153143653},{"$f":"('2011'!Q41/'2011 Rate'!$AA41)*1000","v":3.249034070951879},{"$f":"('2011'!R41/'2011 Rate'!$AA41)*1000","v":2.7221636810677907},null,null,null,null,null,null,null,"Borders",{"$f":"AA30","v":113880}]
[39,"Dumfries and Galloway",null,{"$f":"('2011'!D42/'2011 Rate'!$AA42)*1000","v":2.5097417607819827},{"$f":"('2011'!E42/'2011 Rate'!$AA42)*1000","v":0.74631794465358958},{"$f":"('2011'!F42/'2011 Rate'!$AA42)*1000","v":1.5190542236312001},{"$f":"('2011'!G42/'2011 Rate'!$AA42)*1000","v":0.22455584175417742},{"$f":"('2011'!H42/'2011 Rate'!$AA42)*1000","v":26.418334324020872},{"$f":"('2011'!I42/'2011 Rate'!$AA42)*1000","v":23.974638399048938},{"$f":"('2011'!J42/'2011 Rate'!$AA42)*1000","v":-0.59441252229046959},{"$f":"('2011'!K42/'2011 Rate'!$AA42)*1000","v":10.89756290865861},{"$f":"('2011'!L42/'2011 Rate'!$AA42)*1000","v":11.491975430949079},{"$f":"('2011'!M42/'2011 Rate'!$AA42)*1000","v":2.9720626114523481},{"$f":"('2011'!N42/'2011 Rate'!$AA42)*1000","v":13.143121326200383},{"$f":"('2011'!O42/'2011 Rate'!$AA42)*1000","v":10.171058714748035},{"$f":"('2011'!P42/'2011 Rate'!$AA42)*1000","v":0.13209167162010435},{"$f":"('2011'!Q42/'2011 Rate'!$AA42)*1000","v":2.3776500891618784},{"$f":"('2011'!R42/'2011 Rate'!$AA42)*1000","v":2.245558417541774},null,null,null,null,null,null,null,"Dumfries & Galloway",{"$f":"AA11","v":151410}]
[40,"Fife",null,{"$f":"('2011'!D43/'2011 Rate'!$AA43)*1000","v":5.6665754174650971},{"$f":"('2011'!E43/'2011 Rate'!$AA43)*1000","v":0.90336709553791406},{"$f":"('2011'!F43/'2011 Rate'!$AA43)*1000","v":4.4182863399945251},{"$f":"('2011'!G43/'2011 Rate'!$AA43)*1000","v":0.34765945797974268},{"$f":"('2011'!H43/'2011 Rate'!$AA43)*1000","v":30.577607445934849},{"$f":"('2011'!I43/'2011 Rate'!$AA43)*1000","v":24.911032028469752},{"$f":"('2011'!J43/'2011 Rate'!$AA43)*1000","v":1.2044894607172187},{"$f":"('2011'!K43/'2011 Rate'!$AA43)*1000","v":16.014234875444842},{"$f":"('2011'!L43/'2011 Rate'!$AA43)*1000","v":14.809745414727621},{"$f":"('2011'!M43/'2011 Rate'!$AA43)*1000","v":0.90336709553791406},{"$f":"('2011'!N43/'2011 Rate'!$AA43)*1000","v":8.267177662195456},{"$f":"('2011'!O43/'2011 Rate'!$AA43)*1000","v":7.3911853271283876},{"$f":"('2011'!P43/'2011 Rate'!$AA43)*1000","v":3.5587188612099641},{"$f":"('2011'!Q43/'2011 Rate'!$AA43)*1000","v":6.2961949082945523},{"$f":"('2011'!R43/'2011 Rate'!$AA43)*1000","v":2.7374760470845878},null,null,null,null,null,null,null,"Fife",{"$f":"AA18","v":365300}]
[41,"Forth Valley",null,{"$f":"('2011'!D44/'2011 Rate'!$AA44)*1000","v":6.8102522812667736},{"$f":"('2011'!E44/'2011 Rate'!$AA44)*1000","v":1.0500536768652711},{"$f":"('2011'!F44/'2011 Rate'!$AA44)*1000","v":5.6629092860976922},{"$f":"('2011'!G44/'2011 Rate'!$AA44)*1000","v":0.11070853462157809},{"$f":"('2011'!H44/'2011 Rate'!$AA44)*1000","v":31.635802469135804},{"$f":"('2011'!I44/'2011 Rate'!$AA44)*1000","v":24.825550187869027},{"$f":"('2011'!J44/'2011 Rate'!$AA44)*1000","v":1.6438539989264627},{"$f":"('2011'!K44/'2011 Rate'!$AA44)*1000","v":18.484970477724101},{"$f":"('2011'!L44/'2011 Rate'!$AA44)*1000","v":16.807568438003219},{"$f":"('2011'!M44/'2011 Rate'!$AA44)*1000","v":0.90579710144927539},{"$f":"('2011'!N44/'2011 Rate'!$AA44)*1000","v":6.5754159957058507},{"$f":"('2011'!O44/'2011 Rate'!$AA44)*1000","v":5.6696188942565753},{"$f":"('2011'!P44/'2011 Rate'!$AA44)*1000","v":4.2606011808910358},{"$f":"('2011'!Q44/'2011 Rate'!$AA44)*1000","v":6.608964036500268},{"$f":"('2011'!R44/'2011 Rate'!$AA44)*1000","v":2.3483628556092326},null,null,null,null,null,null,null,"Forth Valley",{"$f":"AA10+AA17+AA34","v":298080}]
[42,"Grampian",null,{"$f":"('2011'!D45/'2011 Rate'!$AA45)*1000","v":7.5494223814038417},{"$f":"('2011'!E45/'2011 Rate'!$AA45)*1000","v":1.2008848625302855},{"$f":"('2011'!F45/'2011 Rate'!$AA45)*1000","v":6.5311281997261137},{"$f":"('2011'!G45/'2011 Rate'!$AA45)*1000","v":-0.18259068085255803},{"$f":"('2011'!H45/'2011 Rate'!$AA45)*1000","v":32.989220127111203},{"$f":"('2011'!I45/'2011 Rate'!$AA45)*1000","v":25.439797745707363},{"$f":"('2011'!J45/'2011 Rate'!$AA45)*1000","v":-0.35113592471645771},{"$f":"('2011'!K45/'2011 Rate'!$AA45)*1000","v":11.92106464412374},{"$f":"('2011'!L45/'2011 Rate'!$AA45)*1000","v":12.272200568840198},{"$f":"('2011'!M45/'2011 Rate'!$AA45)*1000","v":-0.45647670213139507},{"$f":"('2011'!N45/'2011 Rate'!$AA45)*1000","v":8.5501597668457467},{"$f":"('2011'!O45/'2011 Rate'!$AA45)*1000","v":9.0066364689771401},{"$f":"('2011'!P45/'2011 Rate'!$AA45)*1000","v":8.3570350082516942},{"$f":"('2011'!Q45/'2011 Rate'!$AA45)*1000","v":12.517995716141717},{"$f":"('2011'!R45/'2011 Rate'!$AA45)*1000","v":4.1609607078900241},null,null,null,null,null,null,null,"Grampian",{"$f":"AA5+AA6+AA23","v":569580}]
[43,"Greater Glasgow and Clyde",null,{"$f":"('2011'!D46/'2011 Rate'!$AA46)*1000","v":5.0907169279549063},{"$f":"('2011'!E46/'2011 Rate'!$AA46)*1000","v":0.16381891844283952},{"$f":"('2011'!F46/'2011 Rate'!$AA46)*1000","v":5.0915976748282548},{"$f":"('2011'!G46/'2011 Rate'!$AA46)*1000","v":-0.16910339968293114},{"$f":"('2011'!H46/'2011 Rate'!$AA46)*1000","v":33.283424343843578},{"$f":"('2011'!I46/'2011 Rate'!$AA46)*1000","v":28.192707415888677},{"$f":"('2011'!J46/'2011 Rate'!$AA46)*1000","v":-0.92478421701602964},{"$f":"('2011'!K46/'2011 Rate'!$AA46)*1000","v":15.985555751277085},{"$f":"('2011'!L46/'2011 Rate'!$AA46)*1000","v":16.910339968293112},{"$f":"('2011'!M46/'2011 Rate'!$AA46)*1000","v":-0.49321824907521578},{"$f":"('2011'!N46/'2011 Rate'!$AA46)*1000","v":7.0195525805883392},{"$f":"('2011'!O46/'2011 Rate'!$AA46)*1000","v":7.5039633609300687},{"$f":"('2011'!P46/'2011 Rate'!$AA46)*1000","v":6.4999119253126647},{"$f":"('2011'!Q46/'2011 Rate'!$AA46)*1000","v":10.278316011978157},{"$f":"('2011'!R46/'2011 Rate'!$AA46)*1000","v":3.7784040866654927},null,null,null,null,null,null,null,"Greater Glasgow",{"$f":"AA16+AA21+AA29+AA35+AA14+AA19","v":1135400}]
[44,"Highland",null,{"$f":"('2011'!D47/'2011 Rate'!$AA47)*1000","v":3.7306472673008768},{"$f":"('2011'!E47/'2011 Rate'!$AA47)*1000","v":0.94820618043897287},{"$f":"('2011'!F47/'2011 Rate'!$AA47)*1000","v":2.6363240688926197},{"$f":"('2011'!G47/'2011 Rate'!$AA47)*1000","v":0.1523347634147858},{"$f":"('2011'!H47/'2011 Rate'!$AA47)*1000","v":34.042156314120497},{"$f":"('2011'!I47/'2011 Rate'!$AA47)*1000","v":30.280420319592114},{"$f":"('2011'!J47/'2011 Rate'!$AA47)*1000","v":-0.90157308959771187},{"$f":"('2011'!K47/'2011 Rate'!$AA47)*1000","v":17.751663246906674},{"$f":"('2011'!L47/'2011 Rate'!$AA47)*1000","v":18.653236336504385},{"$f":"('2011'!M47/'2011 Rate'!$AA47)*1000","v":3.1399614499782378},{"$f":"('2011'!N47/'2011 Rate'!$AA47)*1000","v":11.969159982590313},{"$f":"('2011'!O47/'2011 Rate'!$AA47)*1000","v":8.8291985326120734},{"$f":"('2011'!P47/'2011 Rate'!$AA47)*1000","v":1.4922589069203507},{"$f":"('2011'!Q47/'2011 Rate'!$AA47)*1000","v":4.2902443573960083},{"$f":"('2011'!R47/'2011 Rate'!$AA47)*1000","v":2.7979854504756574},null,null,null,null,null,null,null,"Highland",{"$f":"AA20+AA8","v":321660}]
[45,"Lanarkshire",null,{"$f":"('2011'!D48/'2011 Rate'!$AA48)*1000","v":0.64454743562198824},{"$f":"('2011'!E48/'2011 Rate'!$AA48)*1000","v":0.18262177342623001},{"$f":"('2011'!F48/'2011 Rate'!$AA48)*1000","v":0.29311561953285659},{"$f":"('2011'!G48/'2011 Rate'!$AA48)*1000","v":0.162671495656978},{"$f":"('2011'!H48/'2011 Rate'!$AA48)*1000","v":16.036954052975663},{"$f":"('2011'!I48/'2011 Rate'!$AA48)*1000","v":15.392406617353673},{"$f":"('2011'!J48/'2011 Rate'!$AA48)*1000","v":0.1995027776925202},{"$f":"('2011'!K48/'2011 Rate'!$AA48)*1000","v":10.941960038058992},{"$f":"('2011'!L48/'2011 Rate'!$AA48)*1000","v":10.727110892851663},{"$f":"('2011'!M48/'2011 Rate'!$AA48)*1000","v":0.23019551272213865},{"$f":"('2011'!N48/'2011 Rate'!$AA48)*1000","v":3.4682790583468894},{"$f":"('2011'!O48/'2011 Rate'!$AA48)*1000","v":3.2380835456247508},{"$f":"('2011'!P48/'2011 Rate'!$AA48)*1000","v":0.1995027776925202},{"$f":"('2011'!Q48/'2011 Rate'!$AA48)*1000","v":1.62671495656978},{"$f":"('2011'!R48/'2011 Rate'!$AA48)*1000","v":1.4272121788772598},null,null,null,null,null,null,null,"Lanarkshire",{"$f":"AA26+AA33","v":651620}]
[46,"Lothian",null,{"$f":"('2011'!D49/'2011 Rate'!$AA49)*1000","v":11.032619739185522},{"$f":"('2011'!E49/'2011 Rate'!$AA49)*1000","v":0.78889805285616954},{"$f":"('2011'!F49/'2011 Rate'!$AA49)*1000","v":10.093113876238629},{"$f":"('2011'!G49/'2011 Rate'!$AA49)*1000","v":0.15060781009072327},{"$f":"('2011'!H49/'2011 Rate'!$AA49)*1000","v":40.413095707677414},{"$f":"('2011'!I49/'2011 Rate'!$AA49)*1000","v":29.38047596849189},{"$f":"('2011'!J49/'2011 Rate'!$AA49)*1000","v":-0.1553890104110637},{"$f":"('2011'!K49/'2011 Rate'!$AA49)*1000","v":13.506890904961692},{"$f":"('2011'!L49/'2011 Rate'!$AA49)*1000","v":13.650326914571904},{"$f":"('2011'!M49/'2011 Rate'!$AA49)*1000","v":0.59765004004255262},{"$f":"('2011'!N49/'2011 Rate'!$AA49)*1000","v":11.737846786435734},{"$f":"('2011'!O49/'2011 Rate'!$AA49)*1000","v":11.140196746393181},{"$f":"('2011'!P49/'2011 Rate'!$AA49)*1000","v":10.590358709554033},{"$f":"('2011'!Q49/'2011 Rate'!$AA49)*1000","v":15.18031101708084},{"$f":"('2011'!R49/'2011 Rate'!$AA49)*1000","v":4.5899523075268052},null,null,null,null,null,null,null,"Lothian",{"$f":"AA15+AA9+AA22+AA36","v":836610}]
[47,"Orkney",null,{"$f":"('2011'!D50/'2011 Rate'!$AA50)*1000","v":4.6685340802987865},{"$f":"('2011'!E50/'2011 Rate'!$AA50)*1000","v":0.23342670401493931},{"$f":"('2011'!F50/'2011 Rate'!$AA50)*1000","v":3.9682539682539679},{"$f":"('2011'!G50/'2011 Rate'!$AA50)*1000","v":0.42016806722689076},{"$f":"('2011'!H50/'2011 Rate'!$AA50)*1000","v":31.279178338001866},{"$f":"('2011'!I50/'2011 Rate'!$AA50)*1000","v":26.610644257703079},{"$f":"('2011'!J50/'2011 Rate'!$AA50)*1000","v":0.46685340802987862},{"$f":"('2011'!K50/'2011 Rate'!$AA50)*1000","v":16.339869281045754},{"$f":"('2011'!L50/'2011 Rate'!$AA50)*1000","v":15.873015873015872},{"$f":"('2011'!M50/'2011 Rate'!$AA50)*1000","v":3.2679738562091503},{"$f":"('2011'!N50/'2011 Rate'!$AA50)*1000","v":12.138188608776844},{"$f":"('2011'!O50/'2011 Rate'!$AA50)*1000","v":8.8702147525676942},{"$f":"('2011'!P50/'2011 Rate'!$AA50)*1000","v":0.93370681605975725},{"$f":"('2011'!Q50/'2011 Rate'!$AA50)*1000","v":3.2679738562091503},{"$f":"('2011'!R50/'2011 Rate'!$AA50)*1000","v":1.8674136321195145},null,null,null,null,null,null,null,"Orkney",{"$f":"AA27","v":21420}]
[48,"Shetland",null,{"$f":"('2011'!D51/'2011 Rate'!$AA51)*1000","v":2.5817555938037868},{"$f":"('2011'!E51/'2011 Rate'!$AA51)*1000","v":-0.64543889845094671},{"$f":"('2011'!F51/'2011 Rate'!$AA51)*1000","v":2.753872633390706},{"$f":"('2011'!G51/'2011 Rate'!$AA51)*1000","v":0.43029259896729777},{"$f":"('2011'!H51/'2011 Rate'!$AA51)*1000","v":30.55077452667814},{"$f":"('2011'!I51/'2011 Rate'!$AA51)*1000","v":27.969018932874356},{"$f":"('2011'!J51/'2011 Rate'!$AA51)*1000","v":0.43029259896729777},{"$f":"('2011'!K51/'2011 Rate'!$AA51)*1000","v":16.351118760757316},{"$f":"('2011'!L51/'2011 Rate'!$AA51)*1000","v":15.920826161790018},{"$f":"('2011'!M51/'2011 Rate'!$AA51)*1000","v":0.43029259896729777},{"$f":"('2011'!N51/'2011 Rate'!$AA51)*1000","v":9.8967297762478488},{"$f":"('2011'!O51/'2011 Rate'!$AA51)*1000","v":9.0361445783132535},{"$f":"('2011'!P51/'2011 Rate'!$AA51)*1000","v":1.7211703958691911},{"$f":"('2011'!Q51/'2011 Rate'!$AA51)*1000","v":4.3029259896729775},{"$f":"('2011'!R51/'2011 Rate'!$AA51)*1000","v":3.0120481927710845},null,null,null,null,null,null,null,"Shetland",{"$f":"AA31","v":23240}]
[49,"Tayside",null,{"$f":"('2011'!D52/'2011 Rate'!$AA52)*1000","v":8.2145033516148693},{"$f":"('2011'!E52/'2011 Rate'!$AA52)*1000","v":0.95551492992078002},{"$f":"('2011'!F52/'2011 Rate'!$AA52)*1000","v":6.8909201706276653},{"$f":"('2011'!G52/'2011 Rate'!$AA52)*1000","v":0.37538086532602072},{"$f":"('2011'!H52/'2011 Rate'!$AA52)*1000","v":35.076173065204145},{"$f":"('2011'!I52/'2011 Rate'!$AA52)*1000","v":26.83729433272395},{"$f":"('2011'!J52/'2011 Rate'!$AA52)*1000","v":0.73126142595978061},{"$f":"('2011'!K52/'2011 Rate'!$AA52)*1000","v":16.380255941499087},{"$f":"('2011'!L52/'2011 Rate'!$AA52)*1000","v":15.648994515539306},{"$f":"('2011'!M52/'2011 Rate'!$AA52)*1000","v":0.34125533211456432},{"$f":"('2011'!N52/'2011 Rate'!$AA52)*1000","v":7.9951249238269346},{"$f":"('2011'!O52/'2011 Rate'!$AA52)*1000","v":7.6538695917123709},{"$f":"('2011'!P52/'2011 Rate'!$AA52)*1000","v":7.1419865935405245},{"$f":"('2011'!Q52/'2011 Rate'!$AA52)*1000","v":10.700792199878123},{"$f":"('2011'!R52/'2011 Rate'!$AA52)*1000","v":3.5588056063375988},null,null,null,null,null,null,null,"Tayside",{"$f":"AA28+AA7+AA12","v":410250}]
[50,"Western Isles",null,{"$f":"('2011'!D53/'2011 Rate'!$AA53)*1000","v":0.72228241242325752},{"$f":"('2011'!E53/'2011 Rate'!$AA53)*1000","v":0.32502708559046589},{"$f":"('2011'!F53/'2011 Rate'!$AA53)*1000","v":0.4333694474539545},{"$f":"('2011'!G53/'2011 Rate'!$AA53)*1000","v":7.2228241242325741E-2},{"$f":"('2011'!H53/'2011 Rate'!$AA53)*1000","v":32.863849765258216},{"$f":"('2011'!I53/'2011 Rate'!$AA53)*1000","v":32.141567352834961},{"$f":"('2011'!J53/'2011 Rate'!$AA53)*1000","v":-1.0834236186348862},{"$f":"('2011'!K53/'2011 Rate'!$AA53)*1000","v":20.946189960274467},{"$f":"('2011'!L53/'2011 Rate'!$AA53)*1000","v":22.029613578909355},{"$f":"('2011'!M53/'2011 Rate'!$AA53)*1000","v":1.8057060310581436},{"$f":"('2011'!N53/'2011 Rate'!$AA53)*1000","v":9.7508125677139752},{"$f":"('2011'!O53/'2011 Rate'!$AA53)*1000","v":7.9451065366558327},{"$f":"('2011'!P53/'2011 Rate'!$AA53)*1000","v":0},{"$f":"('2011'!Q53/'2011 Rate'!$AA53)*1000","v":2.1668472372697725},{"$f":"('2011'!R53/'2011 Rate'!$AA53)*1000","v":2.1668472372697725},null,null,null,null,null,null,null,"Western Isles",{"$f":"AA24","v":27690}]

{"sheet":"2012","index":40,"n_rows":53,"n_cols":25,"rows_kept":53,"cut":false,"hidden":true,"merged":[]}
[null,2012]
[null,null,"Not specified ",{"$f":"'Comparing Indicators'!$U8","v":"Total net migration"},{"$f":"'Comparing Indicators'!$U9","v":"Total net migration for ages 0-15"},{"$f":"'Comparing Indicators'!$U10","v":"Total net migration for ages 16-64"},{"$f":"'Comparing Indicators'!$U11","v":"Total net migration for people aged 65+"},{"$f":"'Comparing Indicators'!$U12","v":"Total in-migration"},{"$f":"'Comparing Indicators'!$U13","v":"Total out-migration"},{"$f":"'Comparing Indicators'!$U14","v":"Within Scotland net migration"},{"$f":"'Comparing Indicators'!$U15","v":"Within Scotland in-migration"},{"$f":"'Comparing Indicators'!$U16","v":"Within Scotland out-migration"},{"$f":"'Comparing Indicators'!$U17","v":"Rest of UK net migration"},{"$f":"'Comparing Indicators'!$U18","v":"Rest of UK in-migration"},{"$f":"'Comparing Indicators'!$U19","v":"Rest of UK out-migration"},{"$f":"'Comparing Indicators'!$U20","v":"International net migration"},{"$f":"'Comparing Indicators'!$U21","v":"International in-migration"},{"$f":"'Comparing Indicators'!$U22","v":"International out-migration"},{"$f":"'Comparing Indicators'!$U23","v":"NINo Allocation"},{"$f":"'Comparing Indicators'!$U24","v":"Births to non-UK mothers"},{"$f":"'Comparing Indicators'!$U25","v":"Pupils from a minority ethnic group"},{"$f":"'Comparing Indicators'!$U26","v":"Pupils with English as an additional language"},{"$f":"'Comparing Indicators'!$U27","v":"Population born outside the UK"},{"$f":"'Comparing Indicators'!$U28","v":"Population with non-British nationality"},{"$f":"'Comparing Indicators'!$U29","v":"Citizenships"}]
[1,"Not specified"]
[2,"Scotland",null,{"$f":"'Total net migration'!J6","v":12700},{"$f":"'Total net migration 0-15'!J6","v":1637},{"$f":"'Total net migration 16-64'!J6","v":11462},{"$f":"'Total net migration 65+'!J6","v":-361},{"$f":"'Total in-migration'!J6","v":81000},{"$f":"'Total out-migration'!J6","v":68300},{"$f":"'Within Scotland net migration'!J6","v":"[z]"},{"$f":"'Within Scotland in-migration'!J6","v":"[z]"},{"$f":"'Within Scotland out-migration'!J6","v":"[z]"},{"$f":"'Rest of UK net migration'!J6","v":3000},{"$f":"'Rest of UK in-migration'!J6","v":45100},{"$f":"'Rest of UK out-migration'!J6","v":42100},{"$f":"'International net migration'!J6","v":9700},{"$f":"'International in-migration'!J6","v":35900},{"$f":"'International out-migration'!J6","v":26200},{"$f":"NINo!J6","v":34850},{"$f":"'Births to non-UK mothers'!J6","v":8439},{"$f":"'Pupils'' ethnic group (TS)'!K6","v":36910},{"$f":"'Pupils with English as an add.'!H6","v":26131},{"$f":"'Pop born outside UK'!J6","v":374000},{"$f":"'Non-British Population'!J6","v":281000},{"$f":"Citizenships!J6","v":4746}]
[3,"Aberdeen City",null,{"$f":"'Total net migration'!J7","v":1850},{"$f":"'Total net migration 0-15'!J7","v":40},{"$f":"'Total net migration 16-64'!J7","v":1987},{"$f":"'Total net migration 65+'!J7","v":-180},{"$f":"'Total in-migration'!J7","v":13650},{"$f":"'Total out-migration'!J7","v":11810},{"$f":"'Within Scotland net migration'!J7","v":-360},{"$f":"'Within Scotland in-migration'!J7","v":6710},{"$f":"'Within Scotland out-migration'!J7","v":7070},{"$f":"'Rest of UK net migration'!J7","v":100},{"$f":"'Rest of UK in-migration'!J7","v":2530},{"$f":"'Rest of UK out-migration'!J7","v":2430},{"$f":"'International net migration'!J7","v":2100},{"$f":"'International in-migration'!J7","v":4410},{"$f":"'International out-migration'!J7","v":2310},{"$f":"NINo!J7","v":4110},{"$f":"'Births to non-UK mothers'!J7","v":911},{"$f":"'Pupils'' ethnic group (TS)'!K7","v":2233},{"$f":"'Pupils with English as an add.'!H7","v":1602},{"$f":"'Pop born outside UK'!J7","v":32000},{"$f":"'Non-British Population'!J7","v":31000},{"$f":"Citizenships!J7","v":609}]
[4,"Aberdeenshire",null,{"$f":"'Total net migration'!J8","v":1390},{"$f":"'Total net migration 0-15'!J8","v":557},{"$f":"'Total net migration 16-64'!J8","v":924},{"$f":"'Total net migration 65+'!J8","v":-95},{"$f":"'Total in-migration'!J8","v":9060},{"$f":"'Total out-migration'!J8","v":7680},{"$f":"'Within Scotland net migration'!J8","v":1080},{"$f":"'Within Scotland in-migration'!J8","v":6200},{"$f":"'Within Scotland out-migration'!J8","v":5120},{"$f":"'Rest of UK net migration'!J8","v":100},{"$f":"'Rest of UK in-migration'!J8","v":1810},{"$f":"'Rest of UK out-migration'!J8","v":1700},{"$f":"'International net migration'!J8","v":210},{"$f":"'International in-migration'!J8","v":1060},{"$f":"'International out-migration'!J8","v":850},{"$f":"NINo!J8","v":1290},{"$f":"'Births to non-UK mothers'!J8","v":383},{"$f":"'Pupils'' ethnic group (TS)'!K8","v":749},{"$f":"'Pupils with English as an add.'!H8","v":1054},{"$f":"'Pop born outside UK'!J8","v":15000},{"$f":"'Non-British Population'!J8","v":11000},{"$f":"Citizenships!J8","v":180}]
[5,"Angus",null,{"$f":"'Total net migration'!J9","v":260},{"$f":"'Total net migration 0-15'!J9","v":33},{"$f":"'Total net migration 16-64'!J9","v":137},{"$f":"'Total net migration 65+'!J9","v":88},{"$f":"'Total in-migration'!J9","v":3930},{"$f":"'Total out-migration'!J9","v":3670},{"$f":"'Within Scotland net migration'!J9","v":200},{"$f":"'Within Scotland in-migration'!J9","v":2810},{"$f":"'Within Scotland out-migration'!J9","v":2620},{"$f":"'Rest of UK net migration'!J9","v":50},{"$f":"'Rest of UK in-migration'!J9","v":750},{"$f":"'Rest of UK out-migration'!J9","v":700},{"$f":"'International net migration'!J9","v":10},{"$f":"'International in-migration'!J9","v":370},{"$f":"'International out-migration'!J9","v":360},{"$f":"NINo!J9","v":1090},{"$f":"'Births to non-UK mothers'!J9","v":134},{"$f":"'Pupils'' ethnic group (TS)'!K9","v":306},{"$f":"'Pupils with English as an add.'!H9","v":348},{"$f":"'Pop born outside UK'!J9","v":4000},{"$f":"'Non-British Population'!J9","v":2000},{"$f":"Citizenships!J9","v":33}]
[6,"Argyll and Bute",null,{"$f":"'Total net migration'!J10","v":-230},{"$f":"'Total net migration 0-15'!J10","v":-37},{"$f":"'Total net migration 16-64'!J10","v":-128},{"$f":"'Total net migration 65+'!J10","v":-68},{"$f":"'Total in-migration'!J10","v":3820},{"$f":"'Total out-migration'!J10","v":4050},{"$f":"'Within Scotland net migration'!J10","v":-330},{"$f":"'Within Scotland in-migration'!J10","v":2210},{"$f":"'Within Scotland out-migration'!J10","v":2540},{"$f":"'Rest of UK net migration'!J10","v":270},{"$f":"'Rest of UK in-migration'!J10","v":1310},{"$f":"'Rest of UK out-migration'!J10","v":1040},{"$f":"'International net migration'!J10","v":-170},{"$f":"'International in-migration'!J10","v":300},{"$f":"'International out-migration'!J10","v":480},{"$f":"NINo!J10","v":340},{"$f":"'Births to non-UK mothers'!J10","v":78},{"$f":"'Pupils'' ethnic group (TS)'!K10","v":208},{"$f":"'Pupils with English as an add.'!H10","v":135},{"$f":"'Pop born outside UK'!J10","v":4000},{"$f":"'Non-British Population'!J10","v":2000},{"$f":"Citizenships!J10","v":46}]
[7,"City of Edinburgh",null,{"$f":"'Total net migration'!J11","v":3970},{"$f":"'Total net migration 0-15'!J11","v":-63},{"$f":"'Total net migration 16-64'!J11","v":4018},{"$f":"'Total net migration 65+'!J11","v":11},{"$f":"'Total in-migration'!J11","v":28840},{"$f":"'Total out-migration'!J11","v":24870},{"$f":"'Within Scotland net migration'!J11","v":-250},{"$f":"'Within Scotland in-migration'!J11","v":11510},{"$f":"'Within Scotland out-migration'!J11","v":11760},{"$f":"'Rest of UK net migration'!J11","v":160},{"$f":"'Rest of UK in-migration'!J11","v":8020},{"$f":"'Rest of UK out-migration'!J11","v":7860},{"$f":"'International net migration'!J11","v":4060},{"$f":"'International in-migration'!J11","v":9310},{"$f":"'International out-migration'!J11","v":5250},{"$f":"NINo!J11","v":9710},{"$f":"'Births to non-UK mothers'!J11","v":1652},{"$f":"'Pupils'' ethnic group (TS)'!K11","v":5642},{"$f":"'Pupils with English as an add.'!H11","v":3951},{"$f":"'Pop born outside UK'!J11","v":69000},{"$f":"'Non-British Population'!J11","v":56000},{"$f":"Citizenships!J11","v":887}]
[8,"Clackmannanshire",null,{"$f":"'Total net migration'!J12","v":-260},{"$f":"'Total net migration 0-15'!J12","v":-102},{"$f":"'Total net migration 16-64'!J12","v":-198},{"$f":"'Total net migration 65+'!J12","v":44},{"$f":"'Total in-migration'!J12","v":1480},{"$f":"'Total out-migration'!J12","v":1740},{"$f":"'Within Scotland net migration'!J12","v":-250},{"$f":"'Within Scotland in-migration'!J12","v":1030},{"$f":"'Within Scotland out-migration'!J12","v":1280},{"$f":"'Rest of UK net migration'!J12","v":40},{"$f":"'Rest of UK in-migration'!J12","v":340},{"$f":"'Rest of UK out-migration'!J12","v":300},{"$f":"'International net migration'!J12","v":-50},{"$f":"'International in-migration'!J12","v":120},{"$f":"'International out-migration'!J12","v":170},{"$f":"NINo!J12","v":100},{"$f":"'Births to non-UK mothers'!J12","v":50},{"$f":"'Pupils'' ethnic group (TS)'!K12","v":201},{"$f":"'Pupils with English as an add.'!H12","v":120},{"$f":"'Pop born outside UK'!J12","v":2000},{"$f":"'Non-British Population'!J12","v":2000},{"$f":"Citizenships!J12","v":23}]
[9,"Dumfries and Galloway",null,{"$f":"'Total net migration'!J13","v":-130},{"$f":"'Total net migration 0-15'!J13","v":-17},{"$f":"'Total net migration 16-64'!J13","v":-75},{"$f":"'Total net migration 65+'!J13","v":-36},{"$f":"'Total in-migration'!J13","v":3840},{"$f":"'Total out-migration'!J13","v":3960},{"$f":"'Within Scotland net migration'!J13","v":-170},{"$f":"'Within Scotland in-migration'!J13","v":1720},{"$f":"'Within Scotland out-migration'!J13","v":1890},{"$f":"'Rest of UK net migration'!J13","v":320},{"$f":"'Rest of UK in-migration'!J13","v":1870},{"$f":"'Rest of UK out-migration'!J13","v":1550},{"$f":"'International net migration'!J13","v":-280},{"$f":"'International in-migration'!J13","v":240},{"$f":"'International out-migration'!J13","v":520},{"$f":"NINo!J13","v":250},{"$f":"'Births to non-UK mothers'!J13","v":90},{"$f":"'Pupils'' ethnic group (TS)'!K13","v":409},{"$f":"'Pupils with English as an add.'!H13","v":298},{"$f":"'Pop born outside UK'!J13","v":6000},{"$f":"'Non-British Population'!J13","v":4000},{"$f":"Citizenships!J13","v":65}]
[10,"Dundee City",null,{"$f":"'Total net migration'!J14","v":490},{"$f":"'Total net migration 0-15'!J14","v":-131},{"$f":"'Total net migration 16-64'!J14","v":730},{"$f":"'Total net migration 65+'!J14","v":-107},{"$f":"'Total in-migration'!J14","v":6950},{"$f":"'Total out-migration'!J14","v":6460},{"$f":"'Within Scotland net migration'!J14","v":-130},{"$f":"'Within Scotland in-migration'!J14","v":3900},{"$f":"'Within Scotland out-migration'!J14","v":4030},{"$f":"'Rest of UK net migration'!J14","v":60},{"$f":"'Rest of UK in-migration'!J14","v":1470},{"$f":"'Rest of UK out-migration'!J14","v":1420},{"$f":"'International net migration'!J14","v":570},{"$f":"'International in-migration'!J14","v":1580},{"$f":"'International out-migration'!J14","v":1020},{"$f":"NINo!J14","v":1090},{"$f":"'Births to non-UK mothers'!J14","v":265},{"$f":"'Pupils'' ethnic group (TS)'!K14","v":1351},{"$f":"'Pupils with English as an add.'!H14","v":928},{"$f":"'Pop born outside UK'!J14","v":14000},{"$f":"'Non-British Population'!J14","v":12000},{"$f":"Citizenships!J14","v":152}]
[11,"East Ayrshire",null,{"$f":"'Total net migration'!J15","v":-80},{"$f":"'Total net migration 0-15'!J15","v":33},{"$f":"'Total net migration 16-64'!J15","v":-93},{"$f":"'Total net migration 65+'!J15","v":-16},{"$f":"'Total in-migration'!J15","v":3080},{"$f":"'Total out-migration'!J15","v":3160},{"$f":"'Within Scotland net migration'!J15","v":-70},{"$f":"'Within Scotland in-migration'!J15","v":2270},{"$f":"'Within Scotland out-migration'!J15","v":2330},{"$f":"'Rest of UK net migration'!J15","v":120},{"$f":"'Rest of UK in-migration'!J15","v":700},{"$f":"'Rest of UK out-migration'!J15","v":580},{"$f":"'International net migration'!J15","v":-130},{"$f":"'International in-migration'!J15","v":110},{"$f":"'International out-migration'!J15","v":250},{"$f":"NINo!J15","v":100},{"$f":"'Births to non-UK mothers'!J15","v":52},{"$f":"'Pupils'' ethnic group (TS)'!K15","v":303},{"$f":"'Pupils with English as an add.'!H15","v":121},{"$f":"'Pop born outside UK'!J15","v":2000},{"$f":"'Non-British Population'!J15","v":1000},{"$f":"Citizenships!J15","v":27}]
[12,"East Dunbartonshire",null,{"$f":"'Total net migration'!J16","v":260},{"$f":"'Total net migration 0-15'!J16","v":407},{"$f":"'Total net migration 16-64'!J16","v":-157},{"$f":"'Total net migration 65+'!J16","v":10},{"$f":"'Total in-migration'!J16","v":3430},{"$f":"'Total out-migration'!J16","v":3170},{"$f":"'Within Scotland net migration'!J16","v":370},{"$f":"'Within Scotland in-migration'!J16","v":2860},{"$f":"'Within Scotland out-migration'!J16","v":2490},{"$f":"'Rest of UK net migration'!J16","v":-20},{"$f":"'Rest of UK in-migration'!J16","v":460},{"$f":"'Rest of UK out-migration'!J16","v":480},{"$f":"'International net migration'!J16","v":-90},{"$f":"'International in-migration'!J16","v":110},{"$f":"'International out-migration'!J16","v":200},{"$f":"NINo!J16","v":90},{"$f":"'Births to non-UK mothers'!J16","v":79},{"$f":"'Pupils'' ethnic group (TS)'!K16","v":1075},{"$f":"'Pupils with English as an add.'!H16","v":385},{"$f":"'Pop born outside UK'!J16","v":5000},{"$f":"'Non-British Population'!J16","v":3000},{"$f":"Citizenships!J16","v":61}]
[13,"East Lothian",null,{"$f":"'Total net migration'!J17","v":790},{"$f":"'Total net migration 0-15'!J17","v":213},{"$f":"'Total net migration 16-64'!J17","v":511},{"$f":"'Total net migration 65+'!J17","v":63},{"$f":"'Total in-migration'!J17","v":4020},{"$f":"'Total out-migration'!J17","v":3230},{"$f":"'Within Scotland net migration'!J17","v":470},{"$f":"'Within Scotland in-migration'!J17","v":2750},{"$f":"'Within Scotland out-migration'!J17","v":2270},{"$f":"'Rest of UK net migration'!J17","v":200},{"$f":"'Rest of UK in-migration'!J17","v":870},{"$f":"'Rest of UK out-migration'!J17","v":670},{"$f":"'International net migration'!J17","v":120},{"$f":"'International in-migration'!J17","v":410},{"$f":"'International out-migration'!J17","v":290},{"$f":"NINo!J17","v":280},{"$f":"'Births to non-UK mothers'!J17","v":134},{"$f":"'Pupils'' ethnic group (TS)'!K17","v":331},{"$f":"'Pupils with English as an add.'!H17","v":184},{"$f":"'Pop born outside UK'!J17","v":6000},{"$f":"'Non-British Population'!J17","v":3000},{"$f":"Citizenships!J17","v":43}]
[14,"East Renfrewshire",null,{"$f":"'Total net migration'!J18","v":190},{"$f":"'Total net migration 0-15'!J18","v":315},{"$f":"'Total net migration 16-64'!J18","v":-100},{"$f":"'Total net migration 65+'!J18","v":-26},{"$f":"'Total in-migration'!J18","v":3290},{"$f":"'Total out-migration'!J18","v":3100},{"$f":"'Within Scotland net migration'!J18","v":470},{"$f":"'Within Scotland in-migration'!J18","v":2830},{"$f":"'Within Scotland out-migration'!J18","v":2360},{"$f":"'Rest of UK net migration'!J18","v":-120},{"$f":"'Rest of UK in-migration'!J18","v":390},{"$f":"'Rest of UK out-migration'!J18","v":510},{"$f":"'International net migration'!J18","v":-160},{"$f":"'International in-migration'!J18","v":80},{"$f":"'International out-migration'!J18","v":230},{"$f":"NINo!J18","v":80},{"$f":"'Births to non-UK mothers'!J18","v":81},{"$f":"'Pupils'' ethnic group (TS)'!K18","v":2277},{"$f":"'Pupils with English as an add.'!H18","v":868},{"$f":"'Pop born outside UK'!J18","v":4000},{"$f":"'Non-British Population'!J18","v":3000},{"$f":"Citizenships!J18","v":67}]
[15,"Falkirk",null,{"$f":"'Total net migration'!J19","v":360},{"$f":"'Total net migration 0-15'!J19","v":-31},{"$f":"'Total net migration 16-64'!J19","v":346},{"$f":"'Total net migration 65+'!J19","v":41},{"$f":"'Total in-migration'!J19","v":3840},{"$f":"'Total out-migration'!J19","v":3490},{"$f":"'Within Scotland net migration'!J19","v":370},{"$f":"'Within Scotland in-migration'!J19","v":2860},{"$f":"'Within Scotland out-migration'!J19","v":2490},{"$f":"'Rest of UK net migration'!J19","v":20},{"$f":"'Rest of UK in-migration'!J19","v":680},{"$f":"'Rest of UK out-migration'!J19","v":660},{"$f":"'International net migration'!J19","v":-30},{"$f":"'International in-migration'!J19","v":310},{"$f":"'International out-migration'!J19","v":340},{"$f":"NINo!J19","v":380},{"$f":"'Births to non-UK mothers'!J19","v":160},{"$f":"'Pupils'' ethnic group (TS)'!K19","v":641},{"$f":"'Pupils with English as an add.'!H19","v":477},{"$f":"'Pop born outside UK'!J19","v":7000},{"$f":"'Non-British Population'!J19","v":5000},{"$f":"Citizenships!J19","v":71}]
[16,"Fife",null,{"$f":"'Total net migration'!J20","v":620},{"$f":"'Total net migration 0-15'!J20","v":62},{"$f":"'Total net migration 16-64'!J20","v":474},{"$f":"'Total net migration 65+'!J20","v":87},{"$f":"'Total in-migration'!J20","v":10740},{"$f":"'Total out-migration'!J20","v":10120},{"$f":"'Within Scotland net migration'!J20","v":200},{"$f":"'Within Scotland in-migration'!J20","v":5930},{"$f":"'Within Scotland out-migration'!J20","v":5730},{"$f":"'Rest of UK net migration'!J20","v":70},{"$f":"'Rest of UK in-migration'!J20","v":2850},{"$f":"'Rest of UK out-migration'!J20","v":2790},{"$f":"'International net migration'!J20","v":360},{"$f":"'International in-migration'!J20","v":1960},{"$f":"'International out-migration'!J20","v":1600},{"$f":"NINo!J20","v":1890},{"$f":"'Births to non-UK mothers'!J20","v":402},{"$f":"'Pupils'' ethnic group (TS)'!K20","v":1365},{"$f":"'Pupils with English as an add.'!H20","v":802},{"$f":"'Pop born outside UK'!J20","v":20000},{"$f":"'Non-British Population'!J20","v":12000},{"$f":"Citizenships!J20","v":175}]
[17,"Glasgow City",null,{"$f":"'Total net migration'!J21","v":1150},{"$f":"'Total net migration 0-15'!J21","v":-1069},{"$f":"'Total net migration 16-64'!J21","v":2536},{"$f":"'Total net migration 65+'!J21","v":-321},{"$f":"'Total in-migration'!J21","v":28360},{"$f":"'Total out-migration'!J21","v":27220},{"$f":"'Within Scotland net migration'!J21","v":-2100},{"$f":"'Within Scotland in-migration'!J21","v":14160},{"$f":"'Within Scotland out-migration'!J21","v":16260},{"$f":"'Rest of UK net migration'!J21","v":-290},{"$f":"'Rest of UK in-migration'!J21","v":5660},{"$f":"'Rest of UK out-migration'!J21","v":5950},{"$f":"'International net migration'!J21","v":3540},{"$f":"'International in-migration'!J21","v":8550},{"$f":"'International out-migration'!J21","v":5010},{"$f":"NINo!J21","v":6600},{"$f":"'Births to non-UK mothers'!J21","v":1873},{"$f":"'Pupils'' ethnic group (TS)'!K21","v":11073},{"$f":"'Pupils with English as an add.'!H21","v":9702},{"$f":"'Pop born outside UK'!J21","v":86000},{"$f":"'Non-British Population'!J21","v":68000},{"$f":"Citizenships!J21","v":1253}]
[18,"Highland",null,{"$f":"'Total net migration'!J22","v":120},{"$f":"'Total net migration 0-15'!J22","v":-28},{"$f":"'Total net migration 16-64'!J22","v":187},{"$f":"'Total net migration 65+'!J22","v":-41},{"$f":"'Total in-migration'!J22","v":7150},{"$f":"'Total out-migration'!J22","v":7030},{"$f":"'Within Scotland net migration'!J22","v":-90},{"$f":"'Within Scotland in-migration'!J22","v":3990},{"$f":"'Within Scotland out-migration'!J22","v":4080},{"$f":"'Rest of UK net migration'!J22","v":380},{"$f":"'Rest of UK in-migration'!J22","v":2400},{"$f":"'Rest of UK out-migration'!J22","v":2020},{"$f":"'International net migration'!J22","v":-180},{"$f":"'International in-migration'!J22","v":760},{"$f":"'International out-migration'!J22","v":940},{"$f":"NINo!J22","v":1200},{"$f":"'Births to non-UK mothers'!J22","v":327},{"$f":"'Pupils'' ethnic group (TS)'!K22","v":658},{"$f":"'Pupils with English as an add.'!H22","v":632},{"$f":"'Pop born outside UK'!J22","v":12000},{"$f":"'Non-British Population'!J22","v":8000},{"$f":"Citizenships!J22","v":124}]
[19,"Inverclyde",null,{"$f":"'Total net migration'!J23","v":-310},{"$f":"'Total net migration 0-15'!J23","v":-24},{"$f":"'Total net migration 16-64'!J23","v":-305},{"$f":"'Total net migration 65+'!J23","v":24},{"$f":"'Total in-migration'!J23","v":1330},{"$f":"'Total out-migration'!J23","v":1630},{"$f":"'Within Scotland net migration'!J23","v":-200},{"$f":"'Within Scotland in-migration'!J23","v":890},{"$f":"'Within Scotland out-migration'!J23","v":1090},{"$f":"'Rest of UK net migration'!J23","v":-10},{"$f":"'Rest of UK in-migration'!J23","v":360},{"$f":"'Rest of UK out-migration'!J23","v":370},{"$f":"'International net migration'!J23","v":-100},{"$f":"'International in-migration'!J23","v":80},{"$f":"'International out-migration'!J23","v":180},{"$f":"NINo!J23","v":100},{"$f":"'Births to non-UK mothers'!J23","v":27},{"$f":"'Pupils'' ethnic group (TS)'!K23","v":176},{"$f":"'Pupils with English as an add.'!H23","v":53},{"$f":"'Pop born outside UK'!J23","v":3000},{"$f":"'Non-British Population'!J23","v":2000},{"$f":"Citizenships!J23","v":28}]
[20,"Midlothian",null,{"$f":"'Total net migration'!J24","v":560},{"$f":"'Total net migration 0-15'!J24","v":192},{"$f":"'Total net migration 16-64'!J24","v":343},{"$f":"'Total net migration 65+'!J24","v":24},{"$f":"'Total in-migration'!J24","v":2850},{"$f":"'Total out-migration'!J24","v":2290},{"$f":"'Within Scotland net migration'!J24","v":510},{"$f":"'Within Scotland in-migration'!J24","v":2280},{"$f":"'Within Scotland out-migration'!J24","v":1770},{"$f":"'Rest of UK net migration'!J24","v":30},{"$f":"'Rest of UK in-migration'!J24","v":400},{"$f":"'Rest of UK out-migration'!J24","v":370},{"$f":"'International net migration'!J24","v":20},{"$f":"'International in-migration'!J24","v":170},{"$f":"'International out-migration'!J24","v":150},{"$f":"NINo!J24","v":150},{"$f":"'Births to non-UK mothers'!J24","v":100},{"$f":"'Pupils'' ethnic group (TS)'!K24","v":333},{"$f":"'Pupils with English as an add.'!H24","v":184},{"$f":"'Pop born outside UK'!J24","v":3000},{"$f":"'Non-British Population'!J24","v":2000},{"$f":"Citizenships!J24","v":44}]
[21,"Moray",null,{"$f":"'Total net migration'!J25","v":330},{"$f":"'Total net migration 0-15'!J25","v":180},{"$f":"'Total net migration 16-64'!J25","v":103},{"$f":"'Total net migration 65+'!J25","v":44},{"$f":"'Total in-migration'!J25","v":3410},{"$f":"'Total out-migration'!J25","v":3090},{"$f":"'Within Scotland net migration'!J25","v":-120},{"$f":"'Within Scotland in-migration'!J25","v":1630},{"$f":"'Within Scotland out-migration'!J25","v":1740},{"$f":"'Rest of UK net migration'!J25","v":540},{"$f":"'Rest of UK in-migration'!J25","v":1470},{"$f":"'Rest of UK out-migration'!J25","v":930},{"$f":"'International net migration'!J25","v":-100},{"$f":"'International in-migration'!J25","v":320},{"$f":"'International out-migration'!J25","v":410},{"$f":"NINo!J25","v":220},{"$f":"'Births to non-UK mothers'!J25","v":78},{"$f":"'Pupils'' ethnic group (TS)'!K25","v":251},{"$f":"'Pupils with English as an add.'!H25","v":266},{"$f":"'Pop born outside UK'!J25","v":5000},{"$f":"'Non-British Population'!J25","v":4000},{"$f":"Citizenships!J25","v":42}]
[22,"Na h-Eileanan Siar",null,{"$f":"'Total net migration'!J26","v":10},{"$f":"'Total net migration 0-15'!J26","v":26},{"$f":"'Total net migration 16-64'!J26","v":-26},{"$f":"'Total net migration 65+'!J26","v":13},{"$f":"'Total in-migration'!J26","v":870},{"$f":"'Total out-migration'!J26","v":850},{"$f":"'Within Scotland net migration'!J26","v":-30},{"$f":"'Within Scotland in-migration'!J26","v":550},{"$f":"'Within Scotland out-migration'!J26","v":580},{"$f":"'Rest of UK net migration'!J26","v":80},{"$f":"'Rest of UK in-migration'!J26","v":270},{"$f":"'Rest of UK out-migration'!J26","v":190},{"$f":"'International net migration'!J26","v":-40},{"$f":"'International in-migration'!J26","v":40},{"$f":"'International out-migration'!J26","v":80},{"$f":"NINo!J26","v":50},{"$f":"'Births to non-UK mothers'!J26","v":13},{"$f":"'Pupils'' ethnic group (TS)'!K26","v":59},{"$f":"'Pupils with English as an add.'!H26","v":39},{"$f":"'Pop born outside UK'!J26","v":1000},{"$f":"'Non-British Population'!J26","v":"[low]"},{"$f":"Citizenships!J26","v":8}]
[23,"North Ayrshire",null,{"$f":"'Total net migration'!J27","v":-400},{"$f":"'Total net migration 0-15'!J27","v":63},{"$f":"'Total net migration 16-64'!J27","v":-476},{"$f":"'Total net migration 65+'!J27","v":12},{"$f":"'Total in-migration'!J27","v":3500},{"$f":"'Total out-migration'!J27","v":3900},{"$f":"'Within Scotland net migration'!J27","v":-180},{"$f":"'Within Scotland in-migration'!J27","v":2570},{"$f":"'Within Scotland out-migration'!J27","v":2750},{"$f":"'Rest of UK net migration'!J27","v":10},{"$f":"'Rest of UK in-migration'!J27","v":780},{"$f":"'Rest of UK out-migration'!J27","v":770},{"$f":"'International net migration'!J27","v":-230},{"$f":"'International in-migration'!J27","v":150},{"$f":"'International out-migration'!J27","v":380},{"$f":"NINo!J27","v":110},{"$f":"'Births to non-UK mothers'!J27","v":64},{"$f":"'Pupils'' ethnic group (TS)'!K27","v":279},{"$f":"'Pupils with English as an add.'!H27","v":101},{"$f":"'Pop born outside UK'!J27","v":3000},{"$f":"'Non-British Population'!J27","v":2000},{"$f":"Citizenships!J27","v":41}]
[24,"North Lanarkshire",null,{"$f":"'Total net migration'!J28","v":-270},{"$f":"'Total net migration 0-15'!J28","v":79},{"$f":"'Total net migration 16-64'!J28","v":-279},{"$f":"'Total net migration 65+'!J28","v":-71},{"$f":"'Total in-migration'!J28","v":6710},{"$f":"'Total out-migration'!J28","v":6980},{"$f":"'Within Scotland net migration'!J28","v":-110},{"$f":"'Within Scotland in-migration'!J28","v":5020},{"$f":"'Within Scotland out-migration'!J28","v":5130},{"$f":"'Rest of UK net migration'!J28","v":40},{"$f":"'Rest of UK in-migration'!J28","v":1150},{"$f":"'Rest of UK out-migration'!J28","v":1120},{"$f":"'International net migration'!J28","v":-200},{"$f":"'International in-migration'!J28","v":530},{"$f":"'International out-migration'!J28","v":730},{"$f":"NINo!J28","v":560},{"$f":"'Births to non-UK mothers'!J28","v":240},{"$f":"'Pupils'' ethnic group (TS)'!K28","v":1622},{"$f":"'Pupils with English as an add.'!H28","v":896},{"$f":"'Pop born outside UK'!J28","v":8000},{"$f":"'Non-British Population'!J28","v":6000},{"$f":"Citizenships!J28","v":147}]
[25,"Orkney Islands",null,{"$f":"'Total net migration'!J29","v":110},{"$f":"'Total net migration 0-15'!J29","v":40},{"$f":"'Total net migration 16-64'!J29","v":70},{"$f":"'Total net migration 65+'!J29","v":-4},{"$f":"'Total in-migration'!J29","v":740},{"$f":"'Total out-migration'!J29","v":630},{"$f":"'Within Scotland net migration'!J29","v":40},{"$f":"'Within Scotland in-migration'!J29","v":410},{"$f":"'Within Scotland out-migration'!J29","v":370},{"$f":"'Rest of UK net migration'!J29","v":100},{"$f":"'Rest of UK in-migration'!J29","v":280},{"$f":"'Rest of UK out-migration'!J29","v":190},{"$f":"'International net migration'!J29","v":-30},{"$f":"'International in-migration'!J29","v":40},{"$f":"'International out-migration'!J29","v":70},{"$f":"NINo!J29","v":40},{"$f":"'Births to non-UK mothers'!J29","v":11},{"$f":"'Pupils'' ethnic group (TS)'!K29","v":39},{"$f":"'Pupils with English as an add.'!H29","v":16},{"$f":"'Pop born outside UK'!J29","v":"[low]"},{"$f":"'Non-British Population'!J29","v":"[c]"},{"$f":"Citizenships!J29","v":5}]
[26,"Perth and Kinross",null,{"$f":"'Total net migration'!J30","v":980},{"$f":"'Total net migration 0-15'!J30","v":306},{"$f":"'Total net migration 16-64'!J30","v":644},{"$f":"'Total net migration 65+'!J30","v":30},{"$f":"'Total in-migration'!J30","v":6390},{"$f":"'Total out-migration'!J30","v":5410},{"$f":"'Within Scotland net migration'!J30","v":310},{"$f":"'Within Scotland in-migration'!J30","v":3680},{"$f":"'Within Scotland out-migration'!J30","v":3370},{"$f":"'Rest of UK net migration'!J30","v":220},{"$f":"'Rest of UK in-migration'!J30","v":1330},{"$f":"'Rest of UK out-migration'!J30","v":1110},{"$f":"'International net migration'!J30","v":450},{"$f":"'International in-migration'!J30","v":1380},{"$f":"'International out-migration'!J30","v":930},{"$f":"NINo!J30","v":2160},{"$f":"'Births to non-UK mothers'!J30","v":201},{"$f":"'Pupils'' ethnic group (TS)'!K30","v":523},{"$f":"'Pupils with English as an add.'!H30","v":519},{"$f":"'Pop born outside UK'!J30","v":10000},{"$f":"'Non-British Population'!J30","v":7000},{"$f":"Citizenships!J30","v":82}]
[27,"Renfrewshire",null,{"$f":"'Total net migration'!J31","v":-400},{"$f":"'Total net migration 0-15'!J31","v":-66},{"$f":"'Total net migration 16-64'!J31","v":-323},{"$f":"'Total net migration 65+'!J31","v":-6},{"$f":"'Total in-migration'!J31","v":4340},{"$f":"'Total out-migration'!J31","v":4740},{"$f":"'Within Scotland net migration'!J31","v":-270},{"$f":"'Within Scotland in-migration'!J31","v":3220},{"$f":"'Within Scotland out-migration'!J31","v":3490},{"$f":"'Rest of UK net migration'!J31","v":-40},{"$f":"'Rest of UK in-migration'!J31","v":700},{"$f":"'Rest of UK out-migration'!J31","v":740},{"$f":"'International net migration'!J31","v":-80},{"$f":"'International in-migration'!J31","v":430},{"$f":"'International out-migration'!J31","v":510},{"$f":"NINo!J31","v":450},{"$f":"'Births to non-UK mothers'!J31","v":183},{"$f":"'Pupils'' ethnic group (TS)'!K31","v":837},{"$f":"'Pupils with English as an add.'!H31","v":323},{"$f":"'Pop born outside UK'!J31","v":10000},{"$f":"'Non-British Population'!J31","v":8000},{"$f":"Citizenships!J31","v":101}]
[28,"Scottish Borders",null,{"$f":"'Total net migration'!J32","v":50},{"$f":"'Total net migration 0-15'!J32","v":58},{"$f":"'Total net migration 16-64'!J32","v":13},{"$f":"'Total net migration 65+'!J32","v":-26},{"$f":"'Total in-migration'!J32","v":3990},{"$f":"'Total out-migration'!J32","v":3950},{"$f":"'Within Scotland net migration'!J32","v":-80},{"$f":"'Within Scotland in-migration'!J32","v":2110},{"$f":"'Within Scotland out-migration'!J32","v":2190},{"$f":"'Rest of UK net migration'!J32","v":190},{"$f":"'Rest of UK in-migration'!J32","v":1500},{"$f":"'Rest of UK out-migration'!J32","v":1310},{"$f":"'International net migration'!J32","v":-70},{"$f":"'International in-migration'!J32","v":380},{"$f":"'International out-migration'!J32","v":450},{"$f":"NINo!J32","v":330},{"$f":"'Births to non-UK mothers'!J32","v":135},{"$f":"'Pupils'' ethnic group (TS)'!K32","v":321},{"$f":"'Pupils with English as an add.'!H32","v":347},{"$f":"'Pop born outside UK'!J32","v":5000},{"$f":"'Non-British Population'!J32","v":3000},{"$f":"Citizenships!J32","v":47}]
[29,"Shetland Islands",null,{"$f":"'Total net migration'!J33","v":-70},{"$f":"'Total net migration 0-15'!J33","v":-27},{"$f":"'Total net migration 16-64'!J33","v":-59},{"$f":"'Total net migration 65+'!J33","v":18},{"$f":"'Total in-migration'!J33","v":670},{"$f":"'Total out-migration'!J33","v":730},{"$f":"'Within Scotland net migration'!J33","v":-100},{"$f":"'Within Scotland in-migration'!J33","v":320},{"$f":"'Within Scotland out-migration'!J33","v":430},{"$f":"'Rest of UK net migration'!J33","v":30},{"$f":"'Rest of UK in-migration'!J33","v":250},{"$f":"'Rest of UK out-migration'!J33","v":220},{"$f":"'International net migration'!J33","v":0},{"$f":"'International in-migration'!J33","v":90},{"$f":"'International out-migration'!J33","v":90},{"$f":"NINo!J33","v":100},{"$f":"'Births to non-UK mothers'!J33","v":21},{"$f":"'Pupils'' ethnic group (TS)'!K33","v":88},{"$f":"'Pupils with English as an add.'!H33","v":33},{"$f":"'Pop born outside UK'!J33","v":"[low]"},{"$f":"'Non-British Population'!J33","v":"[low]"},{"$f":"Citizenships!J33","v":11}]
[30,"South Ayrshire",null,{"$f":"'Total net migration'!J34","v":360},{"$f":"'Total net migration 0-15'!J34","v":104},{"$f":"'Total net migration 16-64'!J34","v":155},{"$f":"'Total net migration 65+'!J34","v":98},{"$f":"'Total in-migration'!J34","v":3600},{"$f":"'Total out-migration'!J34","v":3240},{"$f":"'Within Scotland net migration'!J34","v":300},{"$f":"'Within Scotland in-migration'!J34","v":2520},{"$f":"'Within Scotland out-migration'!J34","v":2220},{"$f":"'Rest of UK net migration'!J34","v":160},{"$f":"'Rest of UK in-migration'!J34","v":840},{"$f":"'Rest of UK out-migration'!J34","v":680},{"$f":"'International net migration'!J34","v":-100},{"$f":"'International in-migration'!J34","v":240},{"$f":"'International out-migration'!J34","v":340},{"$f":"NINo!J34","v":200},{"$f":"'Births to non-UK mothers'!J34","v":67},{"$f":"'Pupils'' ethnic group (TS)'!K34","v":294},{"$f":"'Pupils with English as an add.'!H34","v":149},{"$f":"'Pop born outside UK'!J34","v":4000},{"$f":"'Non-British Population'!J34","v":2000},{"$f":"Citizenships!J34","v":32}]
[31,"South Lanarkshire",null,{"$f":"'Total net migration'!J35","v":410},{"$f":"'Total net migration 0-15'!J35","v":250},{"$f":"'Total net migration 16-64'!J35","v":49},{"$f":"'Total net migration 65+'!J35","v":109},{"$f":"'Total in-migration'!J35","v":8170},{"$f":"'Total out-migration'!J35","v":7760},{"$f":"'Within Scotland net migration'!J35","v":660},{"$f":"'Within Scotland in-migration'!J35","v":6300},{"$f":"'Within Scotland out-migration'!J35","v":5640},{"$f":"'Rest of UK net migration'!J35","v":70},{"$f":"'Rest of UK in-migration'!J35","v":1420},{"$f":"'Rest of UK out-migration'!J35","v":1350},{"$f":"'International net migration'!J35","v":-320},{"$f":"'International in-migration'!J35","v":450},{"$f":"'International out-migration'!J35","v":770},{"$f":"NINo!J35","v":370},{"$f":"'Births to non-UK mothers'!J35","v":197},{"$f":"'Pupils'' ethnic group (TS)'!K35","v":1449},{"$f":"'Pupils with English as an add.'!H35","v":510},{"$f":"'Pop born outside UK'!J35","v":12000},{"$f":"'Non-British Population'!J35","v":7000},{"$f":"Citizenships!J35","v":166}]
[32,"Stirling",null,{"$f":"'Total net migration'!J36","v":770},{"$f":"'Total net migration 0-15'!J36","v":276},{"$f":"'Total net migration 16-64'!J36","v":530},{"$f":"'Total net migration 65+'!J36","v":-32},{"$f":"'Total in-migration'!J36","v":5210},{"$f":"'Total out-migration'!J36","v":4430},{"$f":"'Within Scotland net migration'!J36","v":210},{"$f":"'Within Scotland in-migration'!J36","v":3150},{"$f":"'Within Scotland out-migration'!J36","v":2940},{"$f":"'Rest of UK net migration'!J36","v":150},{"$f":"'Rest of UK in-migration'!J36","v":1000},{"$f":"'Rest of UK out-migration'!J36","v":860},{"$f":"'International net migration'!J36","v":420},{"$f":"'International in-migration'!J36","v":1050},{"$f":"'International out-migration'!J36","v":640},{"$f":"NINo!J36","v":490},{"$f":"'Births to non-UK mothers'!J36","v":80},{"$f":"'Pupils'' ethnic group (TS)'!K36","v":423},{"$f":"'Pupils with English as an add.'!H36","v":209},{"$f":"'Pop born outside UK'!J36","v":7000},{"$f":"'Non-British Population'!J36","v":5000},{"$f":"Citizenships!J36","v":44}]
[33,"West Dunbartonshire",null,{"$f":"'Total net migration'!J37","v":-280},{"$f":"'Total net migration 0-15'!J37","v":-39},{"$f":"'Total net migration 16-64'!J37","v":-164},{"$f":"'Total net migration 65+'!J37","v":-77},{"$f":"'Total in-migration'!J37","v":2140},{"$f":"'Total out-migration'!J37","v":2420},{"$f":"'Within Scotland net migration'!J37","v":-250},{"$f":"'Within Scotland in-migration'!J37","v":1650},{"$f":"'Within Scotland out-migration'!J37","v":1910},{"$f":"'Rest of UK net migration'!J37","v":30},{"$f":"'Rest of UK in-migration'!J37","v":380},{"$f":"'Rest of UK out-migration'!J37","v":350},{"$f":"'International net migration'!J37","v":-60},{"$f":"'International in-migration'!J37","v":110},{"$f":"'International out-migration'!J37","v":170},{"$f":"NINo!J37","v":100},{"$f":"'Births to non-UK mothers'!J37","v":44},{"$f":"'Pupils'' ethnic group (TS)'!K37","v":292},{"$f":"'Pupils with English as an add.'!H37","v":155},{"$f":"'Pop born outside UK'!J37","v":3000},{"$f":"'Non-British Population'!J37","v":2000},{"$f":"Citizenships!J37","v":33}]
[34,"West Lothian",null,{"$f":"'Total net migration'!J38","v":150},{"$f":"'Total net migration 0-15'!J38","v":37},{"$f":"'Total net migration 16-64'!J38","v":88},{"$f":"'Total net migration 65+'!J38","v":29},{"$f":"'Total in-migration'!J38","v":4910},{"$f":"'Total out-migration'!J38","v":4750},{"$f":"'Within Scotland net migration'!J38","v":-100},{"$f":"'Within Scotland in-migration'!J38","v":3260},{"$f":"'Within Scotland out-migration'!J38","v":3360},{"$f":"'Rest of UK net migration'!J38","v":-10},{"$f":"'Rest of UK in-migration'!J38","v":900},{"$f":"'Rest of UK out-migration'!J38","v":910},{"$f":"'International net migration'!J38","v":260},{"$f":"'International in-migration'!J38","v":740},{"$f":"'International out-migration'!J38","v":480},{"$f":"NINo!J38","v":830},{"$f":"'Births to non-UK mothers'!J38","v":307},{"$f":"'Pupils'' ethnic group (TS)'!K38","v":1003},{"$f":"'Pupils with English as an add.'!H38","v":710},{"$f":"'Pop born outside UK'!J38","v":11000},{"$f":"'Non-British Population'!J38","v":9000},{"$f":"Citizenships!J38","v":99}]
[]
[35,"Not specified"]
[36,"Scotland",null,{"$f":"'Total net migration'!J41","v":12700},{"$f":"'Total net migration 0-15'!J6","v":1637},{"$f":"'Total net migration 16-64'!J41","v":11462},{"$f":"'Total net migration 65+'!J41","v":-361},{"$f":"'Total in-migration'!J41","v":81000},{"$f":"'Total out-migration'!J41","v":68300},{"$f":"'Within Scotland net migration'!J41","v":"[z]"},{"$f":"'Within Scotland in-migration'!J41","v":"[z]"},{"$f":"'Within Scotland out-migration'!J41","v":"[z]"},{"$f":"'Rest of UK net migration'!J41","v":3000},{"$f":"'Rest of UK in-migration'!J41","v":45100},{"$f":"'Rest of UK out-migration'!J41","v":42100},{"$f":"'International net migration'!J41","v":9700},{"$f":"'International in-migration'!J41","v":35900},{"$f":"'International out-migration'!J41","v":26200},null,{"$f":"'Births to non-UK mothers'!J41","v":8439}]
[37,"Ayrshire and Arran",null,{"$f":"'Total net migration'!J42","v":-120},{"$f":"'Total net migration 0-15'!J42","v":200},{"$f":"'Total net migration 16-64'!J42","v":-414},{"$f":"'Total net migration 65+'!J42","v":94},{"$f":"'Total in-migration'!J42","v":7690},{"$f":"'Total out-migration'!J42","v":7810},{"$f":"'Within Scotland net migration'!J42","v":50},{"$f":"'Within Scotland in-migration'!J42","v":4860},{"$f":"'Within Scotland out-migration'!J42","v":4820},{"$f":"'Rest of UK net migration'!J42","v":290},{"$f":"'Rest of UK in-migration'!J42","v":2320},{"$f":"'Rest of UK out-migration'!J42","v":2030},{"$f":"'International net migration'!J42","v":-460},{"$f":"'International in-migration'!J42","v":500},{"$f":"'International out-migration'!J42","v":960},null,{"$f":"'Births to non-UK mothers'!J42","v":183}]
[38,"Borders",null,{"$f":"'Total net migration'!J43","v":50},{"$f":"'Total net migration 0-15'!J43","v":58},{"$f":"'Total net migration 16-64'!J43","v":13},{"$f":"'Total net migration 65+'!J43","v":-26},{"$f":"'Total in-migration'!J43","v":3990},{"$f":"'Total out-migration'!J43","v":3950},{"$f":"'Within Scotland net migration'!J43","v":-80},{"$f":"'Within Scotland in-migration'!J43","v":2110},{"$f":"'Within Scotland out-migration'!J43","v":2190},{"$f":"'Rest of UK net migration'!J43","v":190},{"$f":"'Rest of UK in-migration'!J43","v":1500},{"$f":"'Rest of UK out-migration'!J43","v":1310},{"$f":"'International net migration'!J43","v":-70},{"$f":"'International in-migration'!J43","v":380},{"$f":"'International out-migration'!J43","v":450},null,{"$f":"'Births to non-UK mothers'!J43","v":135}]
[39,"Dumfries and Galloway",null,{"$f":"'Total net migration'!J44","v":-130},{"$f":"'Total net migration 0-15'!J44","v":-17},{"$f":"'Total net migration 16-64'!J44","v":-75},{"$f":"'Total net migration 65+'!J44","v":-36},{"$f":"'Total in-migration'!J44","v":3840},{"$f":"'Total out-migration'!J44","v":3960},{"$f":"'Within Scotland net migration'!J44","v":-170},{"$f":"'Within Scotland in-migration'!J44","v":1720},{"$f":"'Within Scotland out-migration'!J44","v":1890},{"$f":"'Rest of UK net migration'!J44","v":320},{"$f":"'Rest of UK in-migration'!J44","v":1870},{"$f":"'Rest of UK out-migration'!J44","v":1550},{"$f":"'International net migration'!J44","v":-280},{"$f":"'International in-migration'!J44","v":240},{"$f":"'International out-migration'!J44","v":520},null,{"$f":"'Births to non-UK mothers'!J44","v":90}]
[40,"Fife",null,{"$f":"'Total net migration'!J45","v":620},{"$f":"'Total net migration 0-15'!J45","v":62},{"$f":"'Total net migration 16-64'!J45","v":474},{"$f":"'Total net migration 65+'!J45","v":87},{"$f":"'Total in-migration'!J45","v":10740},{"$f":"'Total out-migration'!J45","v":10120},{"$f":"'Within Scotland net migration'!J45","v":200},{"$f":"'Within Scotland in-migration'!J45","v":5930},{"$f":"'Within Scotland out-migration'!J45","v":5730},{"$f":"'Rest of UK net migration'!J45","v":70},{"$f":"'Rest of UK in-migration'!J45","v":2850},{"$f":"'Rest of UK out-migration'!J45","v":2790},{"$f":"'International net migration'!J45","v":360},{"$f":"'International in-migration'!J45","v":1960},{"$f":"'International out-migration'!J45","v":1600},null,{"$f":"'Births to non-UK mothers'!J45","v":402}]
[41,"Forth Valley",null,{"$f":"'Total net migration'!J46","v":870},{"$f":"'Total net migration 0-15'!J46","v":143},{"$f":"'Total net migration 16-64'!J46","v":678},{"$f":"'Total net migration 65+'!J46","v":53},{"$f":"'Total in-migration'!J46","v":9110},{"$f":"'Total out-migration'!J46","v":8240},{"$f":"'Within Scotland net migration'!J46","v":330},{"$f":"'Within Scotland in-migration'!J46","v":5610},{"$f":"'Within Scotland out-migration'!J46","v":5290},{"$f":"'Rest of UK net migration'!J46","v":210},{"$f":"'Rest of UK in-migration'!J46","v":2010},{"$f":"'Rest of UK out-migration'!J46","v":1810},{"$f":"'International net migration'!J46","v":340},{"$f":"'International in-migration'!J46","v":1480},{"$f":"'International out-migration'!J46","v":1150},null,{"$f":"'Births to non-UK mothers'!J46","v":290}]
[42,"Grampian",null,{"$f":"'Total net migration'!J47","v":3560},{"$f":"'Total net migration 0-15'!J47","v":777},{"$f":"'Total net migration 16-64'!J47","v":3014},{"$f":"'Total net migration 65+'!J47","v":-231},{"$f":"'Total in-migration'!J47","v":19260},{"$f":"'Total out-migration'!J47","v":15700},{"$f":"'Within Scotland net migration'!J47","v":600},{"$f":"'Within Scotland in-migration'!J47","v":7670},{"$f":"'Within Scotland out-migration'!J47","v":7070},{"$f":"'Rest of UK net migration'!J47","v":750},{"$f":"'Rest of UK in-migration'!J47","v":5800},{"$f":"'Rest of UK out-migration'!J47","v":5060},{"$f":"'International net migration'!J47","v":2210},{"$f":"'International in-migration'!J47","v":5790},{"$f":"'International out-migration'!J47","v":3580},null,{"$f":"'Births to non-UK mothers'!J47","v":1372}]
[43,"Greater Glasgow and Clyde",null,{"$f":"'Total net migration'!J48","v":620},{"$f":"'Total net migration 0-15'!J48","v":-476},{"$f":"'Total net migration 16-64'!J48","v":1487},{"$f":"'Total net migration 65+'!J48","v":-396},{"$f":"'Total in-migration'!J48","v":32120},{"$f":"'Total out-migration'!J48","v":31500},{"$f":"'Within Scotland net migration'!J48","v":-1980},{"$f":"'Within Scotland in-migration'!J48","v":14820},{"$f":"'Within Scotland out-migration'!J48","v":16810},{"$f":"'Rest of UK net migration'!J48","v":-450},{"$f":"'Rest of UK in-migration'!J48","v":7940},{"$f":"'Rest of UK out-migration'!J48","v":8390},{"$f":"'International net migration'!J48","v":3050},{"$f":"'International in-migration'!J48","v":9350},{"$f":"'International out-migration'!J48","v":6300},null,{"$f":"'Births to non-UK mothers'!J48","v":2287}]
[44,"Highland",null,{"$f":"'Total net migration'!J49","v":-120},{"$f":"'Total net migration 0-15'!J49","v":-65},{"$f":"'Total net migration 16-64'!J49","v":59},{"$f":"'Total net migration 65+'!J49","v":-109},{"$f":"'Total in-migration'!J49","v":10650},{"$f":"'Total out-migration'!J49","v":10760},{"$f":"'Within Scotland net migration'!J49","v":-420},{"$f":"'Within Scotland in-migration'!J49","v":5880},{"$f":"'Within Scotland out-migration'!J49","v":6300},{"$f":"'Rest of UK net migration'!J49","v":650},{"$f":"'Rest of UK in-migration'!J49","v":3710},{"$f":"'Rest of UK out-migration'!J49","v":3060},{"$f":"'International net migration'!J49","v":-350},{"$f":"'International in-migration'!J49","v":1070},{"$f":"'International out-migration'!J49","v":1410},null,{"$f":"'Births to non-UK mothers'!J49","v":405}]
[45,"Lanarkshire",null,{"$f":"'Total net migration'!J50","v":140},{"$f":"'Total net migration 0-15'!J50","v":329},{"$f":"'Total net migration 16-64'!J50","v":-230},{"$f":"'Total net migration 65+'!J50","v":38},{"$f":"'Total in-migration'!J50","v":12720},{"$f":"'Total out-migration'!J50","v":12580},{"$f":"'Within Scotland net migration'!J50","v":560},{"$f":"'Within Scotland in-migration'!J50","v":9170},{"$f":"'Within Scotland out-migration'!J50","v":8610},{"$f":"'Rest of UK net migration'!J50","v":110},{"$f":"'Rest of UK in-migration'!J50","v":2580},{"$f":"'Rest of UK out-migration'!J50","v":2470},{"$f":"'International net migration'!J50","v":-530},{"$f":"'International in-migration'!J50","v":980},{"$f":"'International out-migration'!J50","v":1500},null,{"$f":"'Births to non-UK mothers'!J50","v":437}]
[46,"Lothian",null,{"$f":"'Total net migration'!J51","v":5470},{"$f":"'Total net migration 0-15'!J51","v":379},{"$f":"'Total net migration 16-64'!J51","v":4960},{"$f":"'Total net migration 65+'!J51","v":127},{"$f":"'Total in-migration'!J51","v":33360},{"$f":"'Total out-migration'!J51","v":27890},{"$f":"'Within Scotland net migration'!J51","v":630},{"$f":"'Within Scotland in-migration'!J51","v":12550},{"$f":"'Within Scotland out-migration'!J51","v":11910},{"$f":"'Rest of UK net migration'!J51","v":380},{"$f":"'Rest of UK in-migration'!J51","v":10180},{"$f":"'Rest of UK out-migration'!J51","v":9810},{"$f":"'International net migration'!J51","v":4460},{"$f":"'International in-migration'!J51","v":10630},{"$f":"'International out-migration'!J51","v":6170},null,{"$f":"'Births to non-UK mothers'!J51","v":2193}]
[47,"Orkney",null,{"$f":"'Total net migration'!J52","v":110},{"$f":"'Total net migration 0-15'!J52","v":40},{"$f":"'Total net migration 16-64'!J52","v":70},{"$f":"'Total net migration 65+'!J52","v":-4},{"$f":"'Total in-migration'!J52","v":740},{"$f":"'Total out-migration'!J52","v":630},{"$f":"'Within Scotland net migration'!J52","v":40},{"$f":"'Within Scotland in-migration'!J52","v":410},{"$f":"'Within Scotland out-migration'!J52","v":370},{"$f":"'Rest of UK net migration'!J52","v":100},{"$f":"'Rest of UK in-migration'!J52","v":280},{"$f":"'Rest of UK out-migration'!J52","v":190},{"$f":"'International net migration'!J52","v":-30},{"$f":"'International in-migration'!J52","v":40},{"$f":"'International out-migration'!J52","v":70},null,{"$f":"'Births to non-UK mothers'!J52","v":11}]
[48,"Shetland",null,{"$f":"'Total net migration'!J53","v":-70},{"$f":"'Total net migration 0-15'!J53","v":-27},{"$f":"'Total net migration 16-64'!J53","v":-59},{"$f":"'Total net migration 65+'!J53","v":18},{"$f":"'Total in-migration'!J53","v":670},{"$f":"'Total out-migration'!J53","v":730},{"$f":"'Within Scotland net migration'!J53","v":-100},{"$f":"'Within Scotland in-migration'!J53","v":320},{"$f":"'Within Scotland out-migration'!J53","v":430},{"$f":"'Rest of UK net migration'!J53","v":30},{"$f":"'Rest of UK in-migration'!J53","v":250},{"$f":"'Rest of UK out-migration'!J53","v":220},{"$f":"'International net migration'!J53","v":0},{"$f":"'International in-migration'!J53","v":90},{"$f":"'International out-migration'!J53","v":90},null,{"$f":"'Births to non-UK mothers'!J53","v":21}]
[49,"Tayside",null,{"$f":"'Total net migration'!J54","v":1730},{"$f":"'Total net migration 0-15'!J54","v":208},{"$f":"'Total net migration 16-64'!J54","v":1511},{"$f":"'Total net migration 65+'!J54","v":11},{"$f":"'Total in-migration'!J54","v":14010},{"$f":"'Total out-migration'!J54","v":12280},{"$f":"'Within Scotland net migration'!J54","v":380},{"$f":"'Within Scotland in-migration'!J54","v":7130},{"$f":"'Within Scotland out-migration'!J54","v":6750},{"$f":"'Rest of UK net migration'!J54","v":320},{"$f":"'Rest of UK in-migration'!J54","v":3550},{"$f":"'Rest of UK out-migration'!J54","v":3220},{"$f":"'International net migration'!J54","v":1030},{"$f":"'International in-migration'!J54","v":3340},{"$f":"'International out-migration'!J54","v":2310},null,{"$f":"'Births to non-UK mothers'!J54","v":600}]
[50,"Western Isles",null,{"$f":"'Total net migration'!J55","v":10},{"$f":"'Total net migration 0-15'!J55","v":26},{"$f":"'Total net migration 16-64'!J55","v":-26},{"$f":"'Total net migration 65+'!J55","v":13},{"$f":"'Total in-migration'!J55","v":870},{"$f":"'Total out-migration'!J55","v":850},{"$f":"'Within Scotland net migration'!J55","v":-30},{"$f":"'Within Scotland in-migration'!J55","v":550},{"$f":"'Within Scotland out-migration'!J55","v":580},{"$f":"'Rest of UK net migration'!J55","v":80},{"$f":"'Rest of UK in-migration'!J55","v":270},{"$f":"'Rest of UK out-migration'!J55","v":190},{"$f":"'International net migration'!J55","v":-40},{"$f":"'International in-migration'!J55","v":40},{"$f":"'International out-migration'!J55","v":80},null,{"$f":"'Births to non-UK mothers'!J55","v":13}]

{"sheet":"2012 Rate","index":41,"n_rows":53,"n_cols":27,"rows_kept":53,"cut":false,"hidden":true,"merged":[]}
[null,2012,"RATE"]
[null,null,"Not specified ",{"$f":"'Comparing Indicators'!$U8","v":"Total net migration"},{"$f":"'Comparing Indicators'!$U9","v":"Total net migration for ages 0-15"},{"$f":"'Comparing Indicators'!$U10","v":"Total net migration for ages 16-64"},{"$f":"'Comparing Indicators'!$U11","v":"Total net migration for people aged 65+"},{"$f":"'Comparing Indicators'!$U12","v":"Total in-migration"},{"$f":"'Comparing Indicators'!$U13","v":"Total out-migration"},{"$f":"'Comparing Indicators'!$U14","v":"Within Scotland net migration"},{"$f":"'Comparing Indicators'!$U15","v":"Within Scotland in-migration"},{"$f":"'Comparing Indicators'!$U16","v":"Within Scotland out-migration"},{"$f":"'Comparing Indicators'!$U17","v":"Rest of UK net migration"},{"$f":"'Comparing Indicators'!$U18","v":"Rest of UK in-migration"},{"$f":"'Comparing Indicators'!$U19","v":"Rest of UK out-migration"},{"$f":"'Comparing Indicators'!$U20","v":"International net migration"},{"$f":"'Comparing Indicators'!$U21","v":"International in-migration"},{"$f":"'Comparing Indicators'!$U22","v":"International out-migration"},{"$f":"'Comparing Indicators'!$U23","v":"NINo Allocation"},{"$f":"'Comparing Indicators'!$U24","v":"Births to non-UK mothers"},{"$f":"'Comparing Indicators'!$U25","v":"Pupils from a minority ethnic group"},{"$f":"'Comparing Indicators'!$U26","v":"Pupils with English as an additional language"},{"$f":"'Comparing Indicators'!$U27","v":"Population born outside the UK"},{"$f":"'Comparing Indicators'!$U28","v":"Population with non-British nationality"},{"$f":"'Comparing Indicators'!$U29","v":"Citizenships"},null,"Mid-year population estimate"]
[1,"Not specified"]
[2,"Scotland",null,{"$f":"('2012'!D4/'2012 Rate'!$AA4)*1000","v":2.3900933453778985},{"$f":"('2012'!E4/'2012 Rate'!$AA4)*1000","v":0.30807738632941883},{"$f":"('2012'!F4/'2012 Rate'!$AA4)*1000","v":2.157106293285155},{"$f":"('2012'!G4/'2012 Rate'!$AA4)*1000","v":-6.793887383318277E-2},{"$f":"('2012'!H4/'2012 Rate'!$AA4)*1000","v":15.24390243902439},{"$f":"('2012'!I4/'2012 Rate'!$AA4)*1000","v":12.853809093646491},{"$f":"'Within Scotland net migration'!J6","v":"[z]"},{"$f":"'Within Scotland in-migration'!J6","v":"[z]"},{"$f":"'Within Scotland out-migration'!J6","v":"[z]"},{"$f":"('2012'!M4/'2012 Rate'!$AA4)*1000","v":0.56458897922312556},{"$f":"('2012'!N4/'2012 Rate'!$AA4)*1000","v":8.4876543209876534},{"$f":"('2012'!O4/'2012 Rate'!$AA4)*1000","v":7.923065341764528},{"$f":"('2012'!P4/'2012 Rate'!$AA4)*1000","v":1.8255043661547727},{"$f":"('2012'!Q4/'2012 Rate'!$AA4)*1000","v":6.7562481180367362},{"$f":"('2012'!R4/'2012 Rate'!$AA4)*1000","v":4.9307437518819635},{"$f":"('2012'!S4/'2012 Rate'!$AA4)*1000","v":6.5586419753086416},null,null,null,null,null,{"$f":"IF('2012'!Y4=\"*\",\"\",('2012'!Y4/'2012 Rate'!$AA4)*1000)","v":0.89317976513098463},"Scotland",5313600]
[3,"Aberdeen City",null,{"$f":"('2012'!D5/'2012 Rate'!$AA5)*1000","v":8.2255124271930988},{"$f":"('2012'!E5/'2012 Rate'!$AA5)*1000","v":0.17784891734471567},{"$f":"('2012'!F5/'2012 Rate'!$AA5)*1000","v":8.8346449690987505},{"$f":"('2012'!G5/'2012 Rate'!$AA5)*1000","v":-0.80032012805122055},{"$f":"('2012'!H5/'2012 Rate'!$AA5)*1000","v":60.690943043884218},{"$f":"('2012'!I5/'2012 Rate'!$AA5)*1000","v":52.509892846027299},{"$f":"('2012'!J5/'2012 Rate'!$AA5)*1000","v":-1.6006402561024411},{"$f":"('2012'!K5/'2012 Rate'!$AA5)*1000","v":29.834155884576052},{"$f":"('2012'!L5/'2012 Rate'!$AA5)*1000","v":31.43479614067849},{"$f":"('2012'!M5/'2012 Rate'!$AA5)*1000","v":0.44462229336178916},{"$f":"('2012'!N5/'2012 Rate'!$AA5)*1000","v":11.248944022053266},{"$f":"('2012'!O5/'2012 Rate'!$AA5)*1000","v":10.804321728691477},{"$f":"('2012'!P5/'2012 Rate'!$AA5)*1000","v":9.3370681605975729},{"$f":"('2012'!Q5/'2012 Rate'!$AA5)*1000","v":19.607843137254903},{"$f":"('2012'!R5/'2012 Rate'!$AA5)*1000","v":10.27077497665733},{"$f":"('2012'!S5/'2012 Rate'!$AA5)*1000","v":18.273976257169533},null,null,null,null,null,{"$f":"IF('2012'!Y5=\"*\",\"\",('2012'!Y5/'2012 Rate'!$AA5)*1000)","v":2.7077497665732957},"Aberdeen City",224910]
[4,"Aberdeenshire",null,{"$f":"('2012'!D6/'2012 Rate'!$AA6)*1000","v":5.4390358428549064},{"$f":"('2012'!E6/'2012 Rate'!$AA6)*1000","v":2.1795273125684766},{"$f":"('2012'!F6/'2012 Rate'!$AA6)*1000","v":3.6155892940992329},{"$f":"('2012'!G6/'2012 Rate'!$AA6)*1000","v":-0.37173266551886058},{"$f":"('2012'!H6/'2012 Rate'!$AA6)*1000","v":35.451557364219752},{"$f":"('2012'!I6/'2012 Rate'!$AA6)*1000","v":30.05165127562999},{"$f":"('2012'!J6/'2012 Rate'!$AA6)*1000","v":4.2260134606354667},{"$f":"('2012'!K6/'2012 Rate'!$AA6)*1000","v":24.260447644388794},{"$f":"('2012'!L6/'2012 Rate'!$AA6)*1000","v":20.034434183753326},{"$f":"('2012'!M6/'2012 Rate'!$AA6)*1000","v":0.39129754265143218},{"$f":"('2012'!N6/'2012 Rate'!$AA6)*1000","v":7.0824855219909217},{"$f":"('2012'!O6/'2012 Rate'!$AA6)*1000","v":6.652058225074347},{"$f":"('2012'!P6/'2012 Rate'!$AA6)*1000","v":0.82172483956800746},{"$f":"('2012'!Q6/'2012 Rate'!$AA6)*1000","v":4.1477539521051812},{"$f":"('2012'!R6/'2012 Rate'!$AA6)*1000","v":3.3260291125371735},{"$f":"('2012'!S6/'2012 Rate'!$AA6)*1000","v":5.0477383002034744},null,null,null,null,null,{"$f":"IF('2012'!Y6=\"*\",\"\",('2012'!Y6/'2012 Rate'!$AA6)*1000)","v":0.70433557677257785},"Aberdeenshire",255560]
[5,"Angus",null,{"$f":"('2012'!D7/'2012 Rate'!$AA7)*1000","v":2.2371364653243848},{"$f":"('2012'!E7/'2012 Rate'!$AA7)*1000","v":0.2839442436757873},{"$f":"('2012'!F7/'2012 Rate'!$AA7)*1000","v":1.1787988298055412},{"$f":"('2012'!G7/'2012 Rate'!$AA7)*1000","v":0.75718464980209943},{"$f":"('2012'!H7/'2012 Rate'!$AA7)*1000","v":33.815178110480126},{"$f":"('2012'!I7/'2012 Rate'!$AA7)*1000","v":31.578041645155743},{"$f":"('2012'!J7/'2012 Rate'!$AA7)*1000","v":1.7208742040956806},{"$f":"('2012'!K7/'2012 Rate'!$AA7)*1000","v":24.178282567544311},{"$f":"('2012'!L7/'2012 Rate'!$AA7)*1000","v":22.543452073653416},{"$f":"('2012'!M7/'2012 Rate'!$AA7)*1000","v":0.43021855102392015},{"$f":"('2012'!N7/'2012 Rate'!$AA7)*1000","v":6.4532782653588026},{"$f":"('2012'!O7/'2012 Rate'!$AA7)*1000","v":6.0230597143348819},{"$f":"('2012'!P7/'2012 Rate'!$AA7)*1000","v":8.6043710204784032E-2},{"$f":"('2012'!Q7/'2012 Rate'!$AA7)*1000","v":3.1836172775770093},{"$f":"('2012'!R7/'2012 Rate'!$AA7)*1000","v":3.0975735673722249},{"$f":"('2012'!S7/'2012 Rate'!$AA7)*1000","v":9.3787644123214591},null,null,null,null,null,{"$f":"IF('2012'!Y7=\"*\",\"\",('2012'!Y7/'2012 Rate'!$AA7)*1000)","v":0.2839442436757873},"Angus",116220]
[6,"Argyll and Bute",null,{"$f":"('2012'!D8/'2012 Rate'!$AA8)*1000","v":-2.6464158324703719},{"$f":"('2012'!E8/'2012 Rate'!$AA8)*1000","v":-0.42572776435392934},{"$f":"('2012'!F8/'2012 Rate'!$AA8)*1000","v":-1.4727879415487286},{"$f":"('2012'!G8/'2012 Rate'!$AA8)*1000","v":-0.78241859394776203},{"$f":"('2012'!H8/'2012 Rate'!$AA8)*1000","v":43.953515130594866},{"$f":"('2012'!I8/'2012 Rate'!$AA8)*1000","v":46.599930963065241},{"$f":"('2012'!J8/'2012 Rate'!$AA8)*1000","v":-3.7970314118053157},{"$f":"('2012'!K8/'2012 Rate'!$AA8)*1000","v":25.428604303302265},{"$f":"('2012'!L8/'2012 Rate'!$AA8)*1000","v":29.225635715107583},{"$f":"('2012'!M8/'2012 Rate'!$AA8)*1000","v":3.1066620642043494},{"$f":"('2012'!N8/'2012 Rate'!$AA8)*1000","v":15.073064089287769},{"$f":"('2012'!O8/'2012 Rate'!$AA8)*1000","v":11.966402025083418},{"$f":"('2012'!P8/'2012 Rate'!$AA8)*1000","v":-1.956046484869405},{"$f":"('2012'!Q8/'2012 Rate'!$AA8)*1000","v":3.4518467380048325},{"$f":"('2012'!R8/'2012 Rate'!$AA8)*1000","v":5.5229547808077317},{"$f":"('2012'!S8/'2012 Rate'!$AA8)*1000","v":3.91209296973881},null,null,null,null,null,{"$f":"IF('2012'!Y8=\"*\",\"\",('2012'!Y8/'2012 Rate'!$AA8)*1000)","v":0.52928316649407436},"Argyll & Bute",86910]
[7,"City of Edinburgh",null,{"$f":"('2012'!D9/'2012 Rate'!$AA9)*1000","v":8.225763006858255},{"$f":"('2012'!E9/'2012 Rate'!$AA9)*1000","v":-0.13053477819447612},{"$f":"('2012'!F9/'2012 Rate'!$AA9)*1000","v":8.3252180759588086},{"$f":"('2012'!G9/'2012 Rate'!$AA9)*1000","v":2.2791786668876778E-2},{"$f":"('2012'!H9/'2012 Rate'!$AA9)*1000","v":59.755920684582392},{"$f":"('2012'!I9/'2012 Rate'!$AA9)*1000","v":51.530157677724134},{"$f":"('2012'!J9/'2012 Rate'!$AA9)*1000","v":-0.51799515156538134},{"$f":"('2012'!K9/'2012 Rate'!$AA9)*1000","v":23.848496778070157},{"$f":"('2012'!L9/'2012 Rate'!$AA9)*1000","v":24.36649192963554},{"$f":"('2012'!M9/'2012 Rate'!$AA9)*1000","v":0.33151689700184406},{"$f":"('2012'!N9/'2012 Rate'!$AA9)*1000","v":16.617284462217434},{"$f":"('2012'!O9/'2012 Rate'!$AA9)*1000","v":16.28576756521559},{"$f":"('2012'!P9/'2012 Rate'!$AA9)*1000","v":8.4122412614217925},{"$f":"('2012'!Q9/'2012 Rate'!$AA9)*1000","v":19.290139444294802},{"$f":"('2012'!R9/'2012 Rate'!$AA9)*1000","v":10.877898182873009},{"$f":"('2012'!S9/'2012 Rate'!$AA9)*1000","v":20.118931686799414},null,null,null,null,null,{"$f":"IF('2012'!Y9=\"*\",\"\",('2012'!Y9/'2012 Rate'!$AA9)*1000)","v":1.8378467977539732},"City of Edinburgh",482630]
[8,"Clackmannanshire",null,{"$f":"('2012'!D10/'2012 Rate'!$AA10)*1000","v":-5.0702028081123247},{"$f":"('2012'!E10/'2012 Rate'!$AA10)*1000","v":-1.9890795631825275},{"$f":"('2012'!F10/'2012 Rate'!$AA10)*1000","v":-3.8611544461778471},{"$f":"('2012'!G10/'2012 Rate'!$AA10)*1000","v":0.85803432137285485},{"$f":"('2012'!H10/'2012 Rate'!$AA10)*1000","v":28.861154446177849},{"$f":"('2012'!I10/'2012 Rate'!$AA10)*1000","v":33.931357254290177},{"$f":"('2012'!J10/'2012 Rate'!$AA10)*1000","v":-4.8751950078003121},{"$f":"('2012'!K10/'2012 Rate'!$AA10)*1000","v":20.085803432137286},{"$f":"('2012'!L10/'2012 Rate'!$AA10)*1000","v":24.960998439937597},{"$f":"('2012'!M10/'2012 Rate'!$AA10)*1000","v":0.78003120124804992},{"$f":"('2012'!N10/'2012 Rate'!$AA10)*1000","v":6.6302652106084246},{"$f":"('2012'!O10/'2012 Rate'!$AA10)*1000","v":5.8502340093603742},{"$f":"('2012'!P10/'2012 Rate'!$AA10)*1000","v":-0.9750390015600624},{"$f":"('2012'!Q10/'2012 Rate'!$AA10)*1000","v":2.3400936037441498},{"$f":"('2012'!R10/'2012 Rate'!$AA10)*1000","v":3.3151326053042123},{"$f":"('2012'!S10/'2012 Rate'!$AA10)*1000","v":1.9500780031201248},null,null,null,null,null,{"$f":"IF('2012'!Y10=\"*\",\"\",('2012'!Y10/'2012 Rate'!$AA10)*1000)","v":0.44851794071762868},"Clackmannanshire",51280]
[9,"Dumfries and Galloway",null,{"$f":"('2012'!D11/'2012 Rate'!$AA11)*1000","v":-0.86184036064704328},{"$f":"('2012'!E11/'2012 Rate'!$AA11)*1000","v":-0.11270220100769027},{"$f":"('2012'!F11/'2012 Rate'!$AA11)*1000","v":-0.49721559268098647},{"$f":"('2012'!G11/'2012 Rate'!$AA11)*1000","v":-0.23866348448687352},{"$f":"('2012'!H11/'2012 Rate'!$AA11)*1000","v":25.45743834526651},{"$f":"('2012'!I11/'2012 Rate'!$AA11)*1000","v":26.252983293556085},{"$f":"('2012'!J11/'2012 Rate'!$AA11)*1000","v":-1.1270220100769028},{"$f":"('2012'!K11/'2012 Rate'!$AA11)*1000","v":11.402810925483957},{"$f":"('2012'!L11/'2012 Rate'!$AA11)*1000","v":12.52983293556086},{"$f":"('2012'!M11/'2012 Rate'!$AA11)*1000","v":2.1214531954388756},{"$f":"('2012'!N11/'2012 Rate'!$AA11)*1000","v":12.397242110845928},{"$f":"('2012'!O11/'2012 Rate'!$AA11)*1000","v":10.275788915407054},{"$f":"('2012'!P11/'2012 Rate'!$AA11)*1000","v":-1.8562715460090162},{"$f":"('2012'!Q11/'2012 Rate'!$AA11)*1000","v":1.5910898965791569},{"$f":"('2012'!R11/'2012 Rate'!$AA11)*1000","v":3.4473614425881731},{"$f":"('2012'!S11/'2012 Rate'!$AA11)*1000","v":1.6573853089366217},null,null,null,null,null,{"$f":"IF('2012'!Y11=\"*\",\"\",('2012'!Y11/'2012 Rate'!$AA11)*1000)","v":0.43092018032352164},"Dumfries & Galloway",150840]
[10,"Dundee City",null,{"$f":"('2012'!D12/'2012 Rate'!$AA12)*1000","v":3.3157396129381516},{"$f":"('2012'!E12/'2012 Rate'!$AA12)*1000","v":-0.88645283529570984},{"$f":"('2012'!F12/'2012 Rate'!$AA12)*1000","v":4.939775341724185},{"$f":"('2012'!G12/'2012 Rate'!$AA12)*1000","v":-0.72404926241710654},{"$f":"('2012'!H12/'2012 Rate'!$AA12)*1000","v":47.029367979428883},{"$f":"('2012'!I12/'2012 Rate'!$AA12)*1000","v":43.713628366490731},{"$f":"('2012'!J12/'2012 Rate'!$AA12)*1000","v":-0.87968601975910132},{"$f":"('2012'!K12/'2012 Rate'!$AA12)*1000","v":26.390580592773038},{"$f":"('2012'!L12/'2012 Rate'!$AA12)*1000","v":27.27026661253214},{"$f":"('2012'!M12/'2012 Rate'!$AA12)*1000","v":0.4060089321965083},{"$f":"('2012'!N12/'2012 Rate'!$AA12)*1000","v":9.9472188388144538},{"$f":"('2012'!O12/'2012 Rate'!$AA12)*1000","v":9.608878061984031},{"$f":"('2012'!P12/'2012 Rate'!$AA12)*1000","v":3.8570848558668289},{"$f":"('2012'!Q12/'2012 Rate'!$AA12)*1000","v":10.691568547841385},{"$f":"('2012'!R12/'2012 Rate'!$AA12)*1000","v":6.902151847340642},{"$f":"('2012'!S12/'2012 Rate'!$AA12)*1000","v":7.3758289349032351},null,null,null,null,null,{"$f":"IF('2012'!Y12=\"*\",\"\",('2012'!Y12/'2012 Rate'!$AA12)*1000)","v":1.0285559615644877},"Dundee City",147780]
[11,"East Ayrshire",null,{"$f":"('2012'!D13/'2012 Rate'!$AA13)*1000","v":-0.65183736657703906},{"$f":"('2012'!E13/'2012 Rate'!$AA13)*1000","v":0.26888291371302858},{"$f":"('2012'!F13/'2012 Rate'!$AA13)*1000","v":-0.75776093864580785},{"$f":"('2012'!G13/'2012 Rate'!$AA13)*1000","v":-0.13036747331540779},{"$f":"('2012'!H13/'2012 Rate'!$AA13)*1000","v":25.095738613216003},{"$f":"('2012'!I13/'2012 Rate'!$AA13)*1000","v":25.747575979793041},{"$f":"('2012'!J13/'2012 Rate'!$AA13)*1000","v":-0.57035769575490913},{"$f":"('2012'!K13/'2012 Rate'!$AA13)*1000","v":18.495885276623483},{"$f":"('2012'!L13/'2012 Rate'!$AA13)*1000","v":18.98476330155626},{"$f":"('2012'!M13/'2012 Rate'!$AA13)*1000","v":0.97775604986555853},{"$f":"('2012'!N13/'2012 Rate'!$AA13)*1000","v":5.7035769575490916},{"$f":"('2012'!O13/'2012 Rate'!$AA13)*1000","v":4.7258209076835325},{"$f":"('2012'!P13/'2012 Rate'!$AA13)*1000","v":-1.0592357206876886},{"$f":"('2012'!Q13/'2012 Rate'!$AA13)*1000","v":0.89627637904342872},{"$f":"('2012'!R13/'2012 Rate'!$AA13)*1000","v":2.036991770553247},{"$f":"('2012'!S13/'2012 Rate'!$AA13)*1000","v":0.81479670822129879},null,null,null,null,null,{"$f":"IF('2012'!Y13=\"*\",\"\",('2012'!Y13/'2012 Rate'!$AA13)*1000)","v":0.21999511121975068},"East Ayrshire",122730]
[12,"East Dunbartonshire",null,{"$f":"('2012'!D14/'2012 Rate'!$AA14)*1000","v":2.4556101246694371},{"$f":"('2012'!E14/'2012 Rate'!$AA14)*1000","v":3.8439743105402342},{"$f":"('2012'!F14/'2012 Rate'!$AA14)*1000","v":-1.4828107291273138},{"$f":"('2012'!G14/'2012 Rate'!$AA14)*1000","v":9.4446543256516802E-2},{"$f":"('2012'!H14/'2012 Rate'!$AA14)*1000","v":32.39516433698526},{"$f":"('2012'!I14/'2012 Rate'!$AA14)*1000","v":29.93955421231583},{"$f":"('2012'!J14/'2012 Rate'!$AA14)*1000","v":3.494522100491122},{"$f":"('2012'!K14/'2012 Rate'!$AA14)*1000","v":27.011711371363809},{"$f":"('2012'!L14/'2012 Rate'!$AA14)*1000","v":23.517189270872688},{"$f":"('2012'!M14/'2012 Rate'!$AA14)*1000","v":-0.1888930865130336},{"$f":"('2012'!N14/'2012 Rate'!$AA14)*1000","v":4.3445409897997731},{"$f":"('2012'!O14/'2012 Rate'!$AA14)*1000","v":4.5334340763128074},{"$f":"('2012'!P14/'2012 Rate'!$AA14)*1000","v":-0.85001888930865122},{"$f":"('2012'!Q14/'2012 Rate'!$AA14)*1000","v":1.0389119758216849},{"$f":"('2012'!R14/'2012 Rate'!$AA14)*1000","v":1.8889308651303363},{"$f":"('2012'!S14/'2012 Rate'!$AA14)*1000","v":0.85001888930865122},null,null,null,null,null,{"$f":"IF('2012'!Y14=\"*\",\"\",('2012'!Y14/'2012 Rate'!$AA14)*1000)","v":0.57612391386475248},"East Dunbartonshire",105880]
[13,"East Lothian",null,{"$f":"('2012'!D15/'2012 Rate'!$AA15)*1000","v":7.832639302002776},{"$f":"('2012'!E15/'2012 Rate'!$AA15)*1000","v":2.1118381915526476},{"$f":"('2012'!F15/'2012 Rate'!$AA15)*1000","v":5.0664287130676184},{"$f":"('2012'!G15/'2012 Rate'!$AA15)*1000","v":0.62462819750148713},{"$f":"('2012'!H15/'2012 Rate'!$AA15)*1000","v":39.857227840571085},{"$f":"('2012'!I15/'2012 Rate'!$AA15)*1000","v":32.024588538568317},{"$f":"('2012'!J15/'2012 Rate'!$AA15)*1000","v":4.6599246480269683},{"$f":"('2012'!K15/'2012 Rate'!$AA15)*1000","v":27.265516557604602},{"$f":"('2012'!L15/'2012 Rate'!$AA15)*1000","v":22.506444576640888},{"$f":"('2012'!M15/'2012 Rate'!$AA15)*1000","v":1.9829466587348803},{"$f":"('2012'!N15/'2012 Rate'!$AA15)*1000","v":8.6258179654967293},{"$f":"('2012'!O15/'2012 Rate'!$AA15)*1000","v":6.6428713067618483},{"$f":"('2012'!P15/'2012 Rate'!$AA15)*1000","v":1.1897679952409281},{"$f":"('2012'!Q15/'2012 Rate'!$AA15)*1000","v":4.0650406504065044},{"$f":"('2012'!R15/'2012 Rate'!$AA15)*1000","v":2.8752726551655763},{"$f":"('2012'!S15/'2012 Rate'!$AA15)*1000","v":2.776125322228832},null,null,null,null,null,{"$f":"IF('2012'!Y15=\"*\",\"\",('2012'!Y15/'2012 Rate'!$AA15)*1000)","v":0.4263335316279992},"East Lothian",100860]
[14,"East Renfrewshire",null,{"$f":"('2012'!D16/'2012 Rate'!$AA16)*1000","v":2.0869947275922671},{"$f":"('2012'!E16/'2012 Rate'!$AA16)*1000","v":3.4600175746924431},{"$f":"('2012'!F16/'2012 Rate'!$AA16)*1000","v":-1.0984182776801408},{"$f":"('2012'!G16/'2012 Rate'!$AA16)*1000","v":-0.28558875219683655},{"$f":"('2012'!H16/'2012 Rate'!$AA16)*1000","v":36.137961335676628},{"$f":"('2012'!I16/'2012 Rate'!$AA16)*1000","v":34.050966608084359},{"$f":"('2012'!J16/'2012 Rate'!$AA16)*1000","v":5.1625659050966606},{"$f":"('2012'!K16/'2012 Rate'!$AA16)*1000","v":31.085237258347981},{"$f":"('2012'!L16/'2012 Rate'!$AA16)*1000","v":25.922671353251317},{"$f":"('2012'!M16/'2012 Rate'!$AA16)*1000","v":-1.3181019332161688},{"$f":"('2012'!N16/'2012 Rate'!$AA16)*1000","v":4.2838312829525487},{"$f":"('2012'!O16/'2012 Rate'!$AA16)*1000","v":5.6019332161687174},{"$f":"('2012'!P16/'2012 Rate'!$AA16)*1000","v":-1.7574692442882249},{"$f":"('2012'!Q16/'2012 Rate'!$AA16)*1000","v":0.87873462214411246},{"$f":"('2012'!R16/'2012 Rate'!$AA16)*1000","v":2.5263620386643235},{"$f":"('2012'!S16/'2012 Rate'!$AA16)*1000","v":0.87873462214411246},null,null,null,null,null,{"$f":"IF('2012'!Y16=\"*\",\"\",('2012'!Y16/'2012 Rate'!$AA16)*1000)","v":0.73594024604569419},"East Renfrewshire",91040]
[15,"Falkirk",null,{"$f":"('2012'!D17/'2012 Rate'!$AA17)*1000","v":2.295918367346939},{"$f":"('2012'!E17/'2012 Rate'!$AA17)*1000","v":-0.19770408163265307},{"$f":"('2012'!F17/'2012 Rate'!$AA17)*1000","v":2.2066326530612246},{"$f":"('2012'!G17/'2012 Rate'!$AA17)*1000","v":0.26147959183673469},{"$f":"('2012'!H17/'2012 Rate'!$AA17)*1000","v":24.489795918367346},{"$f":"('2012'!I17/'2012 Rate'!$AA17)*1000","v":22.257653061224488},{"$f":"('2012'!J17/'2012 Rate'!$AA17)*1000","v":2.3596938775510203},{"$f":"('2012'!K17/'2012 Rate'!$AA17)*1000","v":18.239795918367346},{"$f":"('2012'!L17/'2012 Rate'!$AA17)*1000","v":15.880102040816325},{"$f":"('2012'!M17/'2012 Rate'!$AA17)*1000","v":0.12755102040816327},{"$f":"('2012'!N17/'2012 Rate'!$AA17)*1000","v":4.3367346938775508},{"$f":"('2012'!O17/'2012 Rate'!$AA17)*1000","v":4.2091836734693882},{"$f":"('2012'!P17/'2012 Rate'!$AA17)*1000","v":-0.19132653061224489},{"$f":"('2012'!Q17/'2012 Rate'!$AA17)*1000","v":1.9770408163265305},{"$f":"('2012'!R17/'2012 Rate'!$AA17)*1000","v":2.1683673469387754},{"$f":"('2012'!S17/'2012 Rate'!$AA17)*1000","v":2.4234693877551021},null,null,null,null,null,{"$f":"IF('2012'!Y17=\"*\",\"\",('2012'!Y17/'2012 Rate'!$AA17)*1000)","v":0.45280612244897961},"Falkirk",156800]
[16,"Fife",null,{"$f":"('2012'!D18/'2012 Rate'!$AA18)*1000","v":1.693017667458562},{"$f":"('2012'!E18/'2012 Rate'!$AA18)*1000","v":0.1693017667458562},{"$f":"('2012'!F18/'2012 Rate'!$AA18)*1000","v":1.2943393135086425},{"$f":"('2012'!G18/'2012 Rate'!$AA18)*1000","v":0.23756860817563694},{"$f":"('2012'!H18/'2012 Rate'!$AA18)*1000","v":29.327435078233801},{"$f":"('2012'!I18/'2012 Rate'!$AA18)*1000","v":27.634417410775239},{"$f":"('2012'!J18/'2012 Rate'!$AA18)*1000","v":0.54613473143824576},{"$f":"('2012'!K18/'2012 Rate'!$AA18)*1000","v":16.192894787143988},{"$f":"('2012'!L18/'2012 Rate'!$AA18)*1000","v":15.646760055705741},{"$f":"('2012'!M18/'2012 Rate'!$AA18)*1000","v":0.19114715600338603},{"$f":"('2012'!N18/'2012 Rate'!$AA18)*1000","v":7.7824199229950031},{"$f":"('2012'!O18/'2012 Rate'!$AA18)*1000","v":7.6185795035635291},{"$f":"('2012'!P18/'2012 Rate'!$AA18)*1000","v":0.98304251658884234},{"$f":"('2012'!Q18/'2012 Rate'!$AA18)*1000","v":5.3521203680948091},{"$f":"('2012'!R18/'2012 Rate'!$AA18)*1000","v":4.3690778515059661},{"$f":"('2012'!S18/'2012 Rate'!$AA18)*1000","v":5.1609732120914229},null,null,null,null,null,{"$f":"IF('2012'!Y18=\"*\",\"\",('2012'!Y18/'2012 Rate'!$AA18)*1000)","v":0.47786789000846508},"Fife",366210]
[17,"Glasgow City",null,{"$f":"('2012'!D19/'2012 Rate'!$AA19)*1000","v":1.9325457509200599},{"$f":"('2012'!E19/'2012 Rate'!$AA19)*1000","v":-1.796427311072647},{"$f":"('2012'!F19/'2012 Rate'!$AA19)*1000","v":4.2616834994202364},{"$f":"('2012'!G19/'2012 Rate'!$AA19)*1000","v":-0.53943233569159921},{"$f":"('2012'!H19/'2012 Rate'!$AA19)*1000","v":47.658258692254691},{"$f":"('2012'!I19/'2012 Rate'!$AA19)*1000","v":45.742517686994802},{"$f":"('2012'!J19/'2012 Rate'!$AA19)*1000","v":-3.5289965886366312},{"$f":"('2012'!K19/'2012 Rate'!$AA19)*1000","v":23.795519854806997},{"$f":"('2012'!L19/'2012 Rate'!$AA19)*1000","v":27.324516443443628},{"$f":"('2012'!M19/'2012 Rate'!$AA19)*1000","v":-0.48733762414505855},{"$f":"('2012'!N19/'2012 Rate'!$AA19)*1000","v":9.5114860436587296},{"$f":"('2012'!O19/'2012 Rate'!$AA19)*1000","v":9.998823667803789},{"$f":"('2012'!P19/'2012 Rate'!$AA19)*1000","v":5.9488799637017493},{"$f":"('2012'!Q19/'2012 Rate'!$AA19)*1000","v":14.36805753944914},{"$f":"('2012'!R19/'2012 Rate'!$AA19)*1000","v":8.4191775757473906},{"$f":"('2012'!S19/'2012 Rate'!$AA19)*1000","v":11.091132135715126},null,null,null,null,null,{"$f":"IF('2012'!Y19=\"*\",\"\",('2012'!Y19/'2012 Rate'!$AA19)*1000)","v":2.1056346312198566},"Glasgow City",595070]
[18,"Highland",null,{"$f":"('2012'!D20/'2012 Rate'!$AA20)*1000","v":0.51526471724848644},{"$f":"('2012'!E20/'2012 Rate'!$AA20)*1000","v":-0.12022843402464684},{"$f":"('2012'!F20/'2012 Rate'!$AA20)*1000","v":0.80295418437889132},{"$f":"('2012'!G20/'2012 Rate'!$AA20)*1000","v":-0.17604877839323285},{"$f":"('2012'!H20/'2012 Rate'!$AA20)*1000","v":30.701189402722314},{"$f":"('2012'!I20/'2012 Rate'!$AA20)*1000","v":30.185924685473829},{"$f":"('2012'!J20/'2012 Rate'!$AA20)*1000","v":-0.3864485379363648},{"$f":"('2012'!K20/'2012 Rate'!$AA20)*1000","v":17.132551848512172},{"$f":"('2012'!L20/'2012 Rate'!$AA20)*1000","v":17.519000386448536},{"$f":"('2012'!M20/'2012 Rate'!$AA20)*1000","v":1.6316716046202069},{"$f":"('2012'!N20/'2012 Rate'!$AA20)*1000","v":10.305294344969727},{"$f":"('2012'!O20/'2012 Rate'!$AA20)*1000","v":8.6736227403495221},{"$f":"('2012'!P20/'2012 Rate'!$AA20)*1000","v":-0.7728970758727296},{"$f":"('2012'!Q20/'2012 Rate'!$AA20)*1000","v":3.2633432092404138},{"$f":"('2012'!R20/'2012 Rate'!$AA20)*1000","v":4.0362402851131431},{"$f":"('2012'!S20/'2012 Rate'!$AA20)*1000","v":5.1526471724848637},null,null,null,null,null,{"$f":"IF('2012'!Y20=\"*\",\"\",('2012'!Y20/'2012 Rate'!$AA20)*1000)","v":0.53244020782343604},"Highland",232890]
[19,"Inverclyde",null,{"$f":"('2012'!D21/'2012 Rate'!$AA21)*1000","v":-3.8418639236584458},{"$f":"('2012'!E21/'2012 Rate'!$AA21)*1000","v":-0.29743462634775064},{"$f":"('2012'!F21/'2012 Rate'!$AA21)*1000","v":-3.7798983765026644},{"$f":"('2012'!G21/'2012 Rate'!$AA21)*1000","v":0.29743462634775064},{"$f":"('2012'!H21/'2012 Rate'!$AA21)*1000","v":16.482835543437847},{"$f":"('2012'!I21/'2012 Rate'!$AA21)*1000","v":20.200768372784729},{"$f":"('2012'!J21/'2012 Rate'!$AA21)*1000","v":-2.4786218862312555},{"$f":"('2012'!K21/'2012 Rate'!$AA21)*1000","v":11.029867393729086},{"$f":"('2012'!L21/'2012 Rate'!$AA21)*1000","v":13.508489279960342},{"$f":"('2012'!M21/'2012 Rate'!$AA21)*1000","v":-0.12393109431156277},{"$f":"('2012'!N21/'2012 Rate'!$AA21)*1000","v":4.4615193952162597},{"$f":"('2012'!O21/'2012 Rate'!$AA21)*1000","v":4.5854504895278225},{"$f":"('2012'!P21/'2012 Rate'!$AA21)*1000","v":-1.2393109431156277},{"$f":"('2012'!Q21/'2012 Rate'!$AA21)*1000","v":0.99144875449250214},{"$f":"('2012'!R21/'2012 Rate'!$AA21)*1000","v":2.2307596976081299},{"$f":"('2012'!S21/'2012 Rate'!$AA21)*1000","v":1.2393109431156277},null,null,null,null,null,{"$f":"IF('2012'!Y21=\"*\",\"\",('2012'!Y21/'2012 Rate'!$AA21)*1000)","v":0.34700706407237575},"Inverclyde",80690]
[20,"Midlothian",null,{"$f":"('2012'!D22/'2012 Rate'!$AA22)*1000","v":6.6476733143399809},{"$f":"('2012'!E22/'2012 Rate'!$AA22)*1000","v":2.2792022792022792},{"$f":"('2012'!F22/'2012 Rate'!$AA22)*1000","v":4.0716999050332383},{"$f":"('2012'!G22/'2012 Rate'!$AA22)*1000","v":0.28490028490028491},{"$f":"('2012'!H22/'2012 Rate'!$AA22)*1000","v":33.831908831908834},{"$f":"('2012'!I22/'2012 Rate'!$AA22)*1000","v":27.184235517568851},{"$f":"('2012'!J22/'2012 Rate'!$AA22)*1000","v":6.0541310541310533},{"$f":"('2012'!K22/'2012 Rate'!$AA22)*1000","v":27.065527065527064},{"$f":"('2012'!L22/'2012 Rate'!$AA22)*1000","v":21.011396011396009},{"$f":"('2012'!M22/'2012 Rate'!$AA22)*1000","v":0.35612535612535612},{"$f":"('2012'!N22/'2012 Rate'!$AA22)*1000","v":4.7483380816714149},{"$f":"('2012'!O22/'2012 Rate'!$AA22)*1000","v":4.3922127255460586},{"$f":"('2012'!P22/'2012 Rate'!$AA22)*1000","v":0.23741690408357077},{"$f":"('2012'!Q22/'2012 Rate'!$AA22)*1000","v":2.0180436847103516},{"$f":"('2012'!R22/'2012 Rate'!$AA22)*1000","v":1.7806267806267806},{"$f":"('2012'!S22/'2012 Rate'!$AA22)*1000","v":1.7806267806267806},null,null,null,null,null,{"$f":"IF('2012'!Y22=\"*\",\"\",('2012'!Y22/'2012 Rate'!$AA22)*1000)","v":0.52231718898385571},"Midlothian",84240]
[21,"Moray",null,{"$f":"('2012'!D23/'2012 Rate'!$AA23)*1000","v":3.5510599375874312},{"$f":"('2012'!E23/'2012 Rate'!$AA23)*1000","v":1.936941784138599},{"$f":"('2012'!F23/'2012 Rate'!$AA23)*1000","v":1.108361132034865},{"$f":"('2012'!G23/'2012 Rate'!$AA23)*1000","v":0.47347465834499086},{"$f":"('2012'!H23/'2012 Rate'!$AA23)*1000","v":36.694286021736794},{"$f":"('2012'!I23/'2012 Rate'!$AA23)*1000","v":33.250833961045949},{"$f":"('2012'!J23/'2012 Rate'!$AA23)*1000","v":-1.291294522759066},{"$f":"('2012'!K23/'2012 Rate'!$AA23)*1000","v":17.540083934143979},{"$f":"('2012'!L23/'2012 Rate'!$AA23)*1000","v":18.723770580006455},{"$f":"('2012'!M23/'2012 Rate'!$AA23)*1000","v":5.8108253524157965},{"$f":"('2012'!N23/'2012 Rate'!$AA23)*1000","v":15.818357903798558},{"$f":"('2012'!O23/'2012 Rate'!$AA23)*1000","v":10.007532551382761},{"$f":"('2012'!P23/'2012 Rate'!$AA23)*1000","v":-1.0760787689658882},{"$f":"('2012'!Q23/'2012 Rate'!$AA23)*1000","v":3.4434520606908428},{"$f":"('2012'!R23/'2012 Rate'!$AA23)*1000","v":4.4119229527601425},{"$f":"('2012'!S23/'2012 Rate'!$AA23)*1000","v":2.3673732917249546},null,null,null,null,null,{"$f":"IF('2012'!Y23=\"*\",\"\",('2012'!Y23/'2012 Rate'!$AA23)*1000)","v":0.45195308296567305},"Moray",92930]
[22,"Na h-Eileanan Siar",null,{"$f":"('2012'!D24/'2012 Rate'!$AA24)*1000","v":0.36284470246734396},{"$f":"('2012'!E24/'2012 Rate'!$AA24)*1000","v":0.94339622641509435},{"$f":"('2012'!F24/'2012 Rate'!$AA24)*1000","v":-0.94339622641509435},{"$f":"('2012'!G24/'2012 Rate'!$AA24)*1000","v":0.47169811320754718},{"$f":"('2012'!H24/'2012 Rate'!$AA24)*1000","v":31.567489114658926},{"$f":"('2012'!I24/'2012 Rate'!$AA24)*1000","v":30.841799709724238},{"$f":"('2012'!J24/'2012 Rate'!$AA24)*1000","v":-1.0885341074020318},{"$f":"('2012'!K24/'2012 Rate'!$AA24)*1000","v":19.956458635703921},{"$f":"('2012'!L24/'2012 Rate'!$AA24)*1000","v":21.044992743105951},{"$f":"('2012'!M24/'2012 Rate'!$AA24)*1000","v":2.9027576197387517},{"$f":"('2012'!N24/'2012 Rate'!$AA24)*1000","v":9.7968069666182878},{"$f":"('2012'!O24/'2012 Rate'!$AA24)*1000","v":6.8940493468795356},{"$f":"('2012'!P24/'2012 Rate'!$AA24)*1000","v":-1.4513788098693758},{"$f":"('2012'!Q24/'2012 Rate'!$AA24)*1000","v":1.4513788098693758},{"$f":"('2012'!R24/'2012 Rate'!$AA24)*1000","v":2.9027576197387517},{"$f":"('2012'!S24/'2012 Rate'!$AA24)*1000","v":1.8142235123367199},null,null,null,null,null,{"$f":"IF('2012'!Y24=\"*\",\"\",('2012'!Y24/'2012 Rate'!$AA24)*1000)","v":0.29027576197387517},"Na h-Eileanan Siar",27560]
[23,"North Ayrshire",null,{"$f":"('2012'!D25/'2012 Rate'!$AA25)*1000","v":-2.9076106709311622},{"$f":"('2012'!E25/'2012 Rate'!$AA25)*1000","v":0.45794868067165806},{"$f":"('2012'!F25/'2012 Rate'!$AA25)*1000","v":-3.4600566984080832},{"$f":"('2012'!G25/'2012 Rate'!$AA25)*1000","v":8.7228320127934869E-2},{"$f":"('2012'!H25/'2012 Rate'!$AA25)*1000","v":25.44159337064767},{"$f":"('2012'!I25/'2012 Rate'!$AA25)*1000","v":28.349204041578833},{"$f":"('2012'!J25/'2012 Rate'!$AA25)*1000","v":-1.308424801919023},{"$f":"('2012'!K25/'2012 Rate'!$AA25)*1000","v":18.68139856073272},{"$f":"('2012'!L25/'2012 Rate'!$AA25)*1000","v":19.989823362651741},{"$f":"('2012'!M25/'2012 Rate'!$AA25)*1000","v":7.2690266773279055E-2},{"$f":"('2012'!N25/'2012 Rate'!$AA25)*1000","v":5.6698408083157661},{"$f":"('2012'!O25/'2012 Rate'!$AA25)*1000","v":5.5971505415424874},{"$f":"('2012'!P25/'2012 Rate'!$AA25)*1000","v":-1.6718761357854184},{"$f":"('2012'!Q25/'2012 Rate'!$AA25)*1000","v":1.0903540015991857},{"$f":"('2012'!R25/'2012 Rate'!$AA25)*1000","v":2.7622301373846043},{"$f":"('2012'!S25/'2012 Rate'!$AA25)*1000","v":0.79959293450606961},null,null,null,null,null,{"$f":"IF('2012'!Y25=\"*\",\"\",('2012'!Y25/'2012 Rate'!$AA25)*1000)","v":0.29803009377044409},"North Ayrshire",137570]
[24,"North Lanarkshire",null,{"$f":"('2012'!D26/'2012 Rate'!$AA26)*1000","v":-0.79907662256947531},{"$f":"('2012'!E26/'2012 Rate'!$AA26)*1000","v":0.23380390067773538},{"$f":"('2012'!F26/'2012 Rate'!$AA26)*1000","v":-0.8257125099884578},{"$f":"('2012'!G26/'2012 Rate'!$AA26)*1000","v":-0.21012755630530647},{"$f":"('2012'!H26/'2012 Rate'!$AA26)*1000","v":19.858533842374737},{"$f":"('2012'!I26/'2012 Rate'!$AA26)*1000","v":20.657610464944213},{"$f":"('2012'!J26/'2012 Rate'!$AA26)*1000","v":-0.3255497351208973},{"$f":"('2012'!K26/'2012 Rate'!$AA26)*1000","v":14.856906093699132},{"$f":"('2012'!L26/'2012 Rate'!$AA26)*1000","v":15.18245582882003},{"$f":"('2012'!M26/'2012 Rate'!$AA26)*1000","v":0.11838172186214449},{"$f":"('2012'!N26/'2012 Rate'!$AA26)*1000","v":3.4034745035366538},{"$f":"('2012'!O26/'2012 Rate'!$AA26)*1000","v":3.3146882121400458},{"$f":"('2012'!P26/'2012 Rate'!$AA26)*1000","v":-0.59190860931072242},{"$f":"('2012'!Q26/'2012 Rate'!$AA26)*1000","v":1.5685578146734145},{"$f":"('2012'!R26/'2012 Rate'!$AA26)*1000","v":2.1604664239841367},{"$f":"('2012'!S26/'2012 Rate'!$AA26)*1000","v":1.6573441060700229},null,null,null,null,null,{"$f":"IF('2012'!Y26=\"*\",\"\",('2012'!Y26/'2012 Rate'!$AA26)*1000)","v":0.43505282784338101},"North Lanarkshire",337890]
[25,"Orkney Islands",null,{"$f":"('2012'!D27/'2012 Rate'!$AA27)*1000","v":5.1091500232234095},{"$f":"('2012'!E27/'2012 Rate'!$AA27)*1000","v":1.8578727357176035},{"$f":"('2012'!F27/'2012 Rate'!$AA27)*1000","v":3.2512772875058058},{"$f":"('2012'!G27/'2012 Rate'!$AA27)*1000","v":-0.18578727357176034},{"$f":"('2012'!H27/'2012 Rate'!$AA27)*1000","v":34.370645610775668},{"$f":"('2012'!I27/'2012 Rate'!$AA27)*1000","v":29.26149558755225},{"$f":"('2012'!J27/'2012 Rate'!$AA27)*1000","v":1.8578727357176035},{"$f":"('2012'!K27/'2012 Rate'!$AA27)*1000","v":19.043195541105433},{"$f":"('2012'!L27/'2012 Rate'!$AA27)*1000","v":17.185322805387834},{"$f":"('2012'!M27/'2012 Rate'!$AA27)*1000","v":4.6446818392940088},{"$f":"('2012'!N27/'2012 Rate'!$AA27)*1000","v":13.005109150023223},{"$f":"('2012'!O27/'2012 Rate'!$AA27)*1000","v":8.824895494658616},{"$f":"('2012'!P27/'2012 Rate'!$AA27)*1000","v":-1.3934045517882026},{"$f":"('2012'!Q27/'2012 Rate'!$AA27)*1000","v":1.8578727357176035},{"$f":"('2012'!R27/'2012 Rate'!$AA27)*1000","v":3.2512772875058058},{"$f":"('2012'!S27/'2012 Rate'!$AA27)*1000","v":1.8578727357176035},null,null,null,null,null,{"$f":"IF('2012'!Y27=\"*\",\"\",('2012'!Y27/'2012 Rate'!$AA27)*1000)","v":0.23223409196470043},"Orkney Islands",21530]
[26,"Perth and Kinross",null,{"$f":"('2012'!D28/'2012 Rate'!$AA28)*1000","v":6.6332746717205904},{"$f":"('2012'!E28/'2012 Rate'!$AA28)*1000","v":2.0712061730066331},{"$f":"('2012'!F28/'2012 Rate'!$AA28)*1000","v":4.3590090699878168},{"$f":"('2012'!G28/'2012 Rate'!$AA28)*1000","v":0.2030594287261405},{"$f":"('2012'!H28/'2012 Rate'!$AA28)*1000","v":43.251658318667928},{"$f":"('2012'!I28/'2012 Rate'!$AA28)*1000","v":36.618383646947343},{"$f":"('2012'!J28/'2012 Rate'!$AA28)*1000","v":2.0982807635034519},{"$f":"('2012'!K28/'2012 Rate'!$AA28)*1000","v":24.908623257073234},{"$f":"('2012'!L28/'2012 Rate'!$AA28)*1000","v":22.810342493569784},{"$f":"('2012'!M28/'2012 Rate'!$AA28)*1000","v":1.4891024773250303},{"$f":"('2012'!N28/'2012 Rate'!$AA28)*1000","v":9.0023013401922292},{"$f":"('2012'!O28/'2012 Rate'!$AA28)*1000","v":7.5131988628671991},{"$f":"('2012'!P28/'2012 Rate'!$AA28)*1000","v":3.0458914308921079},{"$f":"('2012'!Q28/'2012 Rate'!$AA28)*1000","v":9.3407337214024651},{"$f":"('2012'!R28/'2012 Rate'!$AA28)*1000","v":6.2948422905103563},{"$f":"('2012'!S28/'2012 Rate'!$AA28)*1000","v":14.620278868282117},null,null,null,null,null,{"$f":"IF('2012'!Y28=\"*\",\"\",('2012'!Y28/'2012 Rate'!$AA28)*1000)","v":0.5550291051847841},"Perth & Kinross",147740]
[27,"Renfrewshire",null,{"$f":"('2012'!D29/'2012 Rate'!$AA29)*1000","v":-2.2948938611589211},{"$f":"('2012'!E29/'2012 Rate'!$AA29)*1000","v":-0.37865748709122204},{"$f":"('2012'!F29/'2012 Rate'!$AA29)*1000","v":-1.853126792885829},{"$f":"('2012'!G29/'2012 Rate'!$AA29)*1000","v":-3.4423407917383825E-2},{"$f":"('2012'!H29/'2012 Rate'!$AA29)*1000","v":24.899598393574298},{"$f":"('2012'!I29/'2012 Rate'!$AA29)*1000","v":27.194492254733216},{"$f":"('2012'!J29/'2012 Rate'!$AA29)*1000","v":-1.5490533562822719},{"$f":"('2012'!K29/'2012 Rate'!$AA29)*1000","v":18.473895582329316},{"$f":"('2012'!L29/'2012 Rate'!$AA29)*1000","v":20.022948938611592},{"$f":"('2012'!M29/'2012 Rate'!$AA29)*1000","v":-0.22948938611589215},{"$f":"('2012'!N29/'2012 Rate'!$AA29)*1000","v":4.0160642570281118},{"$f":"('2012'!O29/'2012 Rate'!$AA29)*1000","v":4.245553643144004},{"$f":"('2012'!P29/'2012 Rate'!$AA29)*1000","v":-0.45897877223178429},{"$f":"('2012'!Q29/'2012 Rate'!$AA29)*1000","v":2.4670109007458407},{"$f":"('2012'!R29/'2012 Rate'!$AA29)*1000","v":2.9259896729776251},{"$f":"('2012'!S29/'2012 Rate'!$AA29)*1000","v":2.5817555938037868},null,null,null,null,null,{"$f":"IF('2012'!Y29=\"*\",\"\",('2012'!Y29/'2012 Rate'!$AA29)*1000)","v":0.57946069994262772},"Renfrewshire",174300]
[28,"Scottish Borders",null,{"$f":"('2012'!D30/'2012 Rate'!$AA30)*1000","v":0.43967639817094623},{"$f":"('2012'!E30/'2012 Rate'!$AA30)*1000","v":0.51002462187829756},{"$f":"('2012'!F30/'2012 Rate'!$AA30)*1000","v":0.114315863524446},{"$f":"('2012'!G30/'2012 Rate'!$AA30)*1000","v":-0.22863172704889201},{"$f":"('2012'!H30/'2012 Rate'!$AA30)*1000","v":35.086176574041502},{"$f":"('2012'!I30/'2012 Rate'!$AA30)*1000","v":34.734435455504745},{"$f":"('2012'!J30/'2012 Rate'!$AA30)*1000","v":-0.70348223707351387},{"$f":"('2012'!K30/'2012 Rate'!$AA30)*1000","v":18.554344002813931},{"$f":"('2012'!L30/'2012 Rate'!$AA30)*1000","v":19.257826239887443},{"$f":"('2012'!M30/'2012 Rate'!$AA30)*1000","v":1.6707703130495957},{"$f":"('2012'!N30/'2012 Rate'!$AA30)*1000","v":13.190291945128385},{"$f":"('2012'!O30/'2012 Rate'!$AA30)*1000","v":11.51952163207879},{"$f":"('2012'!P30/'2012 Rate'!$AA30)*1000","v":-0.61554695743932464},{"$f":"('2012'!Q30/'2012 Rate'!$AA30)*1000","v":3.3415406260991913},{"$f":"('2012'!R30/'2012 Rate'!$AA30)*1000","v":3.9570875835385158},{"$f":"('2012'!S30/'2012 Rate'!$AA30)*1000","v":2.9018642279282449},null,null,null,null,null,{"$f":"IF('2012'!Y30=\"*\",\"\",('2012'!Y30/'2012 Rate'!$AA30)*1000)","v":0.4132958142806894},"Scottish Borders",113720]
[29,"Shetland Islands",null,{"$f":"('2012'!D31/'2012 Rate'!$AA31)*1000","v":-3.015941404566997},{"$f":"('2012'!E31/'2012 Rate'!$AA31)*1000","v":-1.1632916846186989},{"$f":"('2012'!F31/'2012 Rate'!$AA31)*1000","v":-2.5420077552778975},{"$f":"('2012'!G31/'2012 Rate'!$AA31)*1000","v":0.77552778974579928},{"$f":"('2012'!H31/'2012 Rate'!$AA31)*1000","v":28.866867729426971},{"$f":"('2012'!I31/'2012 Rate'!$AA31)*1000","v":31.451960361912967},{"$f":"('2012'!J31/'2012 Rate'!$AA31)*1000","v":-4.3084877208099952},{"$f":"('2012'!K31/'2012 Rate'!$AA31)*1000","v":13.787160706591987},{"$f":"('2012'!L31/'2012 Rate'!$AA31)*1000","v":18.526497199482982},{"$f":"('2012'!M31/'2012 Rate'!$AA31)*1000","v":1.2925463162429986},{"$f":"('2012'!N31/'2012 Rate'!$AA31)*1000","v":10.771219302024988},{"$f":"('2012'!O31/'2012 Rate'!$AA31)*1000","v":9.4786729857819907},{"$f":"('2012'!P31/'2012 Rate'!$AA31)*1000","v":0},{"$f":"('2012'!Q31/'2012 Rate'!$AA31)*1000","v":3.8776389487289959},{"$f":"('2012'!R31/'2012 Rate'!$AA31)*1000","v":3.8776389487289959},{"$f":"('2012'!S31/'2012 Rate'!$AA31)*1000","v":4.3084877208099952},null,null,null,null,null,{"$f":"IF('2012'!Y31=\"*\",\"\",('2012'!Y31/'2012 Rate'!$AA31)*1000)","v":0.47393364928909953},"Shetland Islands",23210]
[30,"South Ayrshire",null,{"$f":"('2012'!D32/'2012 Rate'!$AA32)*1000","v":3.1880977683315619},{"$f":"('2012'!E32/'2012 Rate'!$AA32)*1000","v":0.92100602196245129},{"$f":"('2012'!F32/'2012 Rate'!$AA32)*1000","v":1.3726532058094225},{"$f":"('2012'!G32/'2012 Rate'!$AA32)*1000","v":0.8678710591569252},{"$f":"('2012'!H32/'2012 Rate'!$AA32)*1000","v":31.880977683315624},{"$f":"('2012'!I32/'2012 Rate'!$AA32)*1000","v":28.692879914984058},{"$f":"('2012'!J32/'2012 Rate'!$AA32)*1000","v":2.656748140276302},{"$f":"('2012'!K32/'2012 Rate'!$AA32)*1000","v":22.316684378320936},{"$f":"('2012'!L32/'2012 Rate'!$AA32)*1000","v":19.659936238044633},{"$f":"('2012'!M32/'2012 Rate'!$AA32)*1000","v":1.4169323414806942},{"$f":"('2012'!N32/'2012 Rate'!$AA32)*1000","v":7.4388947927736453},{"$f":"('2012'!O32/'2012 Rate'!$AA32)*1000","v":6.0219624512929508},{"$f":"('2012'!P32/'2012 Rate'!$AA32)*1000","v":-0.88558271342543393},{"$f":"('2012'!Q32/'2012 Rate'!$AA32)*1000","v":2.1253985122210413},{"$f":"('2012'!R32/'2012 Rate'!$AA32)*1000","v":3.0109812256464754},{"$f":"('2012'!S32/'2012 Rate'!$AA32)*1000","v":1.7711654268508679},null,null,null,null,null,{"$f":"IF('2012'!Y32=\"*\",\"\",('2012'!Y32/'2012 Rate'!$AA32)*1000)","v":0.28338646829613884},"South Ayrshire",112920]
[31,"South Lanarkshire",null,{"$f":"('2012'!D33/'2012 Rate'!$AA33)*1000","v":1.3043616581299908},{"$f":"('2012'!E33/'2012 Rate'!$AA33)*1000","v":0.79534247446950657},{"$f":"('2012'!F33/'2012 Rate'!$AA33)*1000","v":0.15588712499602328},{"$f":"('2012'!G33/'2012 Rate'!$AA33)*1000","v":0.34676931886870482},{"$f":"('2012'!H33/'2012 Rate'!$AA33)*1000","v":25.991792065663475},{"$f":"('2012'!I33/'2012 Rate'!$AA33)*1000","v":24.687430407533483},{"$f":"('2012'!J33/'2012 Rate'!$AA33)*1000","v":2.0997041325994972},{"$f":"('2012'!K33/'2012 Rate'!$AA33)*1000","v":20.042630356631566},{"$f":"('2012'!L33/'2012 Rate'!$AA33)*1000","v":17.942926224032067},{"$f":"('2012'!M33/'2012 Rate'!$AA33)*1000","v":0.22269589285146185},{"$f":"('2012'!N33/'2012 Rate'!$AA33)*1000","v":4.517545254986798},{"$f":"('2012'!O33/'2012 Rate'!$AA33)*1000","v":4.2948493621353352},{"$f":"('2012'!P33/'2012 Rate'!$AA33)*1000","v":-1.0180383673209683},{"$f":"('2012'!Q33/'2012 Rate'!$AA33)*1000","v":1.4316164540451117},{"$f":"('2012'!R33/'2012 Rate'!$AA33)*1000","v":2.4496548213660803},{"$f":"('2012'!S33/'2012 Rate'!$AA33)*1000","v":1.1771068622148697},null,null,null,null,null,{"$f":"IF('2012'!Y33=\"*\",\"\",('2012'!Y33/'2012 Rate'!$AA33)*1000)","v":0.52810740304775239},"South Lanarkshire",314330]
[32,"Stirling",null,{"$f":"('2012'!D34/'2012 Rate'!$AA34)*1000","v":8.4606087243160104},{"$f":"('2012'!E34/'2012 Rate'!$AA34)*1000","v":3.0326337765080762},{"$f":"('2012'!F34/'2012 Rate'!$AA34)*1000","v":5.8235358751785515},{"$f":"('2012'!G34/'2012 Rate'!$AA34)*1000","v":-0.35160971321832768},{"$f":"('2012'!H34/'2012 Rate'!$AA34)*1000","v":57.246456433358972},{"$f":"('2012'!I34/'2012 Rate'!$AA34)*1000","v":48.675969673662237},{"$f":"('2012'!J34/'2012 Rate'!$AA34)*1000","v":2.3074387429952754},{"$f":"('2012'!K34/'2012 Rate'!$AA34)*1000","v":34.611581144929126},{"$f":"('2012'!L34/'2012 Rate'!$AA34)*1000","v":32.304142401933852},{"$f":"('2012'!M34/'2012 Rate'!$AA34)*1000","v":1.6481705307109107},{"$f":"('2012'!N34/'2012 Rate'!$AA34)*1000","v":10.98780353807274},{"$f":"('2012'!O34/'2012 Rate'!$AA34)*1000","v":9.4495110427425555},{"$f":"('2012'!P34/'2012 Rate'!$AA34)*1000","v":4.6148774859905508},{"$f":"('2012'!Q34/'2012 Rate'!$AA34)*1000","v":11.537193714976375},{"$f":"('2012'!R34/'2012 Rate'!$AA34)*1000","v":7.0321942643665531},{"$f":"('2012'!S34/'2012 Rate'!$AA34)*1000","v":5.384023733655642},null,null,null,null,null,{"$f":"IF('2012'!Y34=\"*\",\"\",('2012'!Y34/'2012 Rate'!$AA34)*1000)","v":0.48346335567520049},"Stirling",91010]
[33,"West Dunbartonshire",null,{"$f":"('2012'!D35/'2012 Rate'!$AA35)*1000","v":-3.0994022581359308},{"$f":"('2012'!E35/'2012 Rate'!$AA35)*1000","v":-0.43170245738321894},{"$f":"('2012'!F35/'2012 Rate'!$AA35)*1000","v":-1.815364179765331},{"$f":"('2012'!G35/'2012 Rate'!$AA35)*1000","v":-0.85233562098738103},{"$f":"('2012'!H35/'2012 Rate'!$AA35)*1000","v":23.688288687181757},{"$f":"('2012'!I35/'2012 Rate'!$AA35)*1000","v":26.787690945317689},{"$f":"('2012'!J35/'2012 Rate'!$AA35)*1000","v":-2.7673234447642239},{"$f":"('2012'!K35/'2012 Rate'!$AA35)*1000","v":18.264334735443878},{"$f":"('2012'!L35/'2012 Rate'!$AA35)*1000","v":21.142351117998672},{"$f":"('2012'!M35/'2012 Rate'!$AA35)*1000","v":0.33207881337170686},{"$f":"('2012'!N35/'2012 Rate'!$AA35)*1000","v":4.2063316360416199},{"$f":"('2012'!O35/'2012 Rate'!$AA35)*1000","v":3.8742528226699138},{"$f":"('2012'!P35/'2012 Rate'!$AA35)*1000","v":-0.66415762674341372},{"$f":"('2012'!Q35/'2012 Rate'!$AA35)*1000","v":1.2176223156962587},{"$f":"('2012'!R35/'2012 Rate'!$AA35)*1000","v":1.8817799424396724},{"$f":"('2012'!S35/'2012 Rate'!$AA35)*1000","v":1.1069293779056897},null,null,null,null,null,{"$f":"IF('2012'!Y35=\"*\",\"\",('2012'!Y35/'2012 Rate'!$AA35)*1000)","v":0.36528669470887759},"West Dunbartonshire",90340]
[34,"West Lothian",null,{"$f":"('2012'!D36/'2012 Rate'!$AA36)*1000","v":0.85222430543719108},{"$f":"('2012'!E36/'2012 Rate'!$AA36)*1000","v":0.21021532867450712},{"$f":"('2012'!F36/'2012 Rate'!$AA36)*1000","v":0.49997159252315204},{"$f":"('2012'!G36/'2012 Rate'!$AA36)*1000","v":0.16476336571785694},{"$f":"('2012'!H36/'2012 Rate'!$AA36)*1000","v":27.896142264644055},{"$f":"('2012'!I36/'2012 Rate'!$AA36)*1000","v":26.987103005511052},{"$f":"('2012'!J36/'2012 Rate'!$AA36)*1000","v":-0.56814953695812742},{"$f":"('2012'!K36/'2012 Rate'!$AA36)*1000","v":18.521674904834953},{"$f":"('2012'!L36/'2012 Rate'!$AA36)*1000","v":19.08982444179308},{"$f":"('2012'!M36/'2012 Rate'!$AA36)*1000","v":-5.6814953695812742E-2},{"$f":"('2012'!N36/'2012 Rate'!$AA36)*1000","v":5.1133458326231471},{"$f":"('2012'!O36/'2012 Rate'!$AA36)*1000","v":5.1701607863189585},{"$f":"('2012'!P36/'2012 Rate'!$AA36)*1000","v":1.4771887960911312},{"$f":"('2012'!Q36/'2012 Rate'!$AA36)*1000","v":4.2043065734901424},{"$f":"('2012'!R36/'2012 Rate'!$AA36)*1000","v":2.7271177773990112},{"$f":"('2012'!S36/'2012 Rate'!$AA36)*1000","v":4.715641156752457},null,null,null,null,null,{"$f":"IF('2012'!Y36=\"*\",\"\",('2012'!Y36/'2012 Rate'!$AA36)*1000)","v":0.56246804158854613},"West Lothian",176010]
[]
[35,"Not specified"]
[36,"Scotland",null,{"$f":"('2012'!D39/'2012 Rate'!$AA39)*1000","v":2.3900933453778985},{"$f":"('2012'!E39/'2012 Rate'!$AA39)*1000","v":0.30807738632941883},{"$f":"('2012'!F39/'2012 Rate'!$AA39)*1000","v":2.157106293285155},{"$f":"('2012'!G39/'2012 Rate'!$AA39)*1000","v":-6.793887383318277E-2},{"$f":"('2012'!H39/'2012 Rate'!$AA39)*1000","v":15.24390243902439},{"$f":"('2012'!I39/'2012 Rate'!$AA39)*1000","v":12.853809093646491},{"$f":"'Within Scotland net migration'!J41","v":"[z]"},{"$f":"'Within Scotland in-migration'!J41","v":"[z]"},{"$f":"'Within Scotland out-migration'!J41","v":"[z]"},{"$f":"('2012'!M39/'2012 Rate'!$AA39)*1000","v":0.56458897922312556},{"$f":"('2012'!N39/'2012 Rate'!$AA39)*1000","v":8.4876543209876534},{"$f":"('2012'!O39/'2012 Rate'!$AA39)*1000","v":7.923065341764528},{"$f":"('2012'!P39/'2012 Rate'!$AA39)*1000","v":1.8255043661547727},{"$f":"('2012'!Q39/'2012 Rate'!$AA39)*1000","v":6.7562481180367362},{"$f":"('2012'!R39/'2012 Rate'!$AA39)*1000","v":4.9307437518819635},null,null,null,null,null,null,null,"SCOTLAND",{"$f":"AA4","v":5313600}]
[37,"Ayrshire and Arran",null,{"$f":"('2012'!D40/'2012 Rate'!$AA40)*1000","v":-0.32152617758962543},{"$f":"('2012'!E40/'2012 Rate'!$AA40)*1000","v":0.53587696264937568},{"$f":"('2012'!F40/'2012 Rate'!$AA40)*1000","v":-1.1092653126842076},{"$f":"('2012'!G40/'2012 Rate'!$AA40)*1000","v":0.25186217244520659},{"$f":"('2012'!H40/'2012 Rate'!$AA40)*1000","v":20.604469213868494},{"$f":"('2012'!I40/'2012 Rate'!$AA40)*1000","v":20.925995391458123},{"$f":"('2012'!J40/'2012 Rate'!$AA40)*1000","v":0.13396924066234392},{"$f":"('2012'!K40/'2012 Rate'!$AA40)*1000","v":13.02181019237983},{"$f":"('2012'!L40/'2012 Rate'!$AA40)*1000","v":12.914634799849955},{"$f":"('2012'!M40/'2012 Rate'!$AA40)*1000","v":0.77702159584159469},{"$f":"('2012'!N40/'2012 Rate'!$AA40)*1000","v":6.2161727667327575},{"$f":"('2012'!O40/'2012 Rate'!$AA40)*1000","v":5.4391511708911642},{"$f":"('2012'!P40/'2012 Rate'!$AA40)*1000","v":-1.232517014093564},{"$f":"('2012'!Q40/'2012 Rate'!$AA40)*1000","v":1.3396924066234392},{"$f":"('2012'!R40/'2012 Rate'!$AA40)*1000","v":2.5722094207170034},null,null,null,null,null,null,null,"Ayrshire & Arran",{"$f":"AA13+AA25+AA32","v":373220}]
[38,"Borders",null,{"$f":"('2012'!D41/'2012 Rate'!$AA41)*1000","v":0.43967639817094623},{"$f":"('2012'!E41/'2012 Rate'!$AA41)*1000","v":0.51002462187829756},{"$f":"('2012'!F41/'2012 Rate'!$AA41)*1000","v":0.114315863524446},{"$f":"('2012'!G41/'2012 Rate'!$AA41)*1000","v":-0.22863172704889201},{"$f":"('2012'!H41/'2012 Rate'!$AA41)*1000","v":35.086176574041502},{"$f":"('2012'!I41/'2012 Rate'!$AA41)*1000","v":34.734435455504745},{"$f":"('2012'!J41/'2012 Rate'!$AA41)*1000","v":-0.70348223707351387},{"$f":"('2012'!K41/'2012 Rate'!$AA41)*1000","v":18.554344002813931},{"$f":"('2012'!L41/'2012 Rate'!$AA41)*1000","v":19.257826239887443},{"$f":"('2012'!M41/'2012 Rate'!$AA41)*1000","v":1.6707703130495957},{"$f":"('2012'!N41/'2012 Rate'!$AA41)*1000","v":13.190291945128385},{"$f":"('2012'!O41/'2012 Rate'!$AA41)*1000","v":11.51952163207879},{"$f":"('2012'!P41/'2012 Rate'!$AA41)*1000","v":-0.61554695743932464},{"$f":"('2012'!Q41/'2012 Rate'!$AA41)*1000","v":3.3415406260991913},{"$f":"('2012'!R41/'2012 Rate'!$AA41)*1000","v":3.9570875835385158},null,null,null,null,null,null,null,"Borders",{"$f":"AA30","v":113720}]
[39,"Dumfries and Galloway",null,{"$f":"('2012'!D42/'2012 Rate'!$AA42)*1000","v":-0.86184036064704328},{"$f":"('2012'!E42/'2012 Rate'!$AA42)*1000","v":-0.11270220100769027},{"$f":"('2012'!F42/'2012 Rate'!$AA42)*1000","v":-0.49721559268098647},{"$f":"('2012'!G42/'2012 Rate'!$AA42)*1000","v":-0.23866348448687352},{"$f":"('2012'!H42/'2012 Rate'!$AA42)*1000","v":25.45743834526651},{"$f":"('2012'!I42/'2012 Rate'!$AA42)*1000","v":26.252983293556085},{"$f":"('2012'!J42/'2012 Rate'!$AA42)*1000","v":-1.1270220100769028},{"$f":"('2012'!K42/'2012 Rate'!$AA42)*1000","v":11.402810925483957},{"$f":"('2012'!L42/'2012 Rate'!$AA42)*1000","v":12.52983293556086},{"$f":"('2012'!M42/'2012 Rate'!$AA42)*1000","v":2.1214531954388756},{"$f":"('2012'!N42/'2012 Rate'!$AA42)*1000","v":12.397242110845928},{"$f":"('2012'!O42/'2012 Rate'!$AA42)*1000","v":10.275788915407054},{"$f":"('2012'!P42/'2012 Rate'!$AA42)*1000","v":-1.8562715460090162},{"$f":"('2012'!Q42/'2012 Rate'!$AA42)*1000","v":1.5910898965791569},{"$f":"('2012'!R42/'2012 Rate'!$AA42)*1000","v":3.4473614425881731},null,null,null,null,null,null,null,"Dumfries & Galloway",{"$f":"AA11","v":150840}]
[40,"Fife",null,{"$f":"('2012'!D43/'2012 Rate'!$AA43)*1000","v":1.693017667458562},{"$f":"('2012'!E43/'2012 Rate'!$AA43)*1000","v":0.1693017667458562},{"$f":"('2012'!F43/'2012 Rate'!$AA43)*1000","v":1.2943393135086425},{"$f":"('2012'!G43/'2012 Rate'!$AA43)*1000","v":0.23756860817563694},{"$f":"('2012'!H43/'2012 Rate'!$AA43)*1000","v":29.327435078233801},{"$f":"('2012'!I43/'2012 Rate'!$AA43)*1000","v":27.634417410775239},{"$f":"('2012'!J43/'2012 Rate'!$AA43)*1000","v":0.54613473143824576},{"$f":"('2012'!K43/'2012 Rate'!$AA43)*1000","v":16.192894787143988},{"$f":"('2012'!L43/'2012 Rate'!$AA43)*1000","v":15.646760055705741},{"$f":"('2012'!M43/'2012 Rate'!$AA43)*1000","v":0.19114715600338603},{"$f":"('2012'!N43/'2012 Rate'!$AA43)*1000","v":7.7824199229950031},{"$f":"('2012'!O43/'2012 Rate'!$AA43)*1000","v":7.6185795035635291},{"$f":"('2012'!P43/'2012 Rate'!$AA43)*1000","v":0.98304251658884234},{"$f":"('2012'!Q43/'2012 Rate'!$AA43)*1000","v":5.3521203680948091},{"$f":"('2012'!R43/'2012 Rate'!$AA43)*1000","v":4.3690778515059661},null,null,null,null,null,null,null,"Fife",{"$f":"AA18","v":366210}]
[41,"Forth Valley",null,{"$f":"('2012'!D44/'2012 Rate'!$AA44)*1000","v":2.9088234310742584},{"$f":"('2012'!E44/'2012 Rate'!$AA44)*1000","v":0.47811695476278043},{"$f":"('2012'!F44/'2012 Rate'!$AA44)*1000","v":2.2668761911130431},{"$f":"('2012'!G44/'2012 Rate'!$AA44)*1000","v":0.17720418603096058},{"$f":"('2012'!H44/'2012 Rate'!$AA44)*1000","v":30.459059146076431},{"$f":"('2012'!I44/'2012 Rate'!$AA44)*1000","v":27.550235715002174},{"$f":"('2012'!J44/'2012 Rate'!$AA44)*1000","v":1.1033468186833395},{"$f":"('2012'!K44/'2012 Rate'!$AA44)*1000","v":18.75689591761677},{"$f":"('2012'!L44/'2012 Rate'!$AA44)*1000","v":17.686983851014745},{"$f":"('2012'!M44/'2012 Rate'!$AA44)*1000","v":0.70212979370757966},{"$f":"('2012'!N44/'2012 Rate'!$AA44)*1000","v":6.7203851683439764},{"$f":"('2012'!O44/'2012 Rate'!$AA44)*1000","v":6.0516901267177099},{"$f":"('2012'!P44/'2012 Rate'!$AA44)*1000","v":1.1367815707646527},{"$f":"('2012'!Q44/'2012 Rate'!$AA44)*1000","v":4.9483433080343708},{"$f":"('2012'!R44/'2012 Rate'!$AA44)*1000","v":3.8449964893510313},null,null,null,null,null,null,null,"Forth Valley",{"$f":"AA10+AA17+AA34","v":299090}]
[42,"Grampian",null,{"$f":"('2012'!D45/'2012 Rate'!$AA45)*1000","v":6.2085803976281833},{"$f":"('2012'!E45/'2012 Rate'!$AA45)*1000","v":1.3550749912800837},{"$f":"('2012'!F45/'2012 Rate'!$AA45)*1000","v":5.2563655388908268},{"$f":"('2012'!G45/'2012 Rate'!$AA45)*1000","v":-0.40286013254272762},{"$f":"('2012'!H45/'2012 Rate'!$AA45)*1000","v":33.589117544471577},{"$f":"('2012'!I45/'2012 Rate'!$AA45)*1000","v":27.380537146843391},{"$f":"('2012'!J45/'2012 Rate'!$AA45)*1000","v":1.0463899546564353},{"$f":"('2012'!K45/'2012 Rate'!$AA45)*1000","v":13.376351587024764},{"$f":"('2012'!L45/'2012 Rate'!$AA45)*1000","v":12.329961632368329},{"$f":"('2012'!M45/'2012 Rate'!$AA45)*1000","v":1.3079874433205441},{"$f":"('2012'!N45/'2012 Rate'!$AA45)*1000","v":10.115102895012207},{"$f":"('2012'!O45/'2012 Rate'!$AA45)*1000","v":8.8245552842692714},{"$f":"('2012'!P45/'2012 Rate'!$AA45)*1000","v":3.8542029996512035},{"$f":"('2012'!Q45/'2012 Rate'!$AA45)*1000","v":10.0976630624346},{"$f":"('2012'!R45/'2012 Rate'!$AA45)*1000","v":6.2434600627833978},null,null,null,null,null,null,null,"Grampian",{"$f":"AA5+AA6+AA23","v":573400}]
[43,"Greater Glasgow and Clyde",null,{"$f":"('2012'!D46/'2012 Rate'!$AA46)*1000","v":0.54514120915837239},{"$f":"('2012'!E46/'2012 Rate'!$AA46)*1000","v":-0.41852776703126648},{"$f":"('2012'!F46/'2012 Rate'!$AA46)*1000","v":1.3074596419653219},{"$f":"('2012'!G46/'2012 Rate'!$AA46)*1000","v":-0.34818696584954101},{"$f":"('2012'!H46/'2012 Rate'!$AA46)*1000","v":28.241831674462773},{"$f":"('2012'!I46/'2012 Rate'!$AA46)*1000","v":27.6966904653044},{"$f":"('2012'!J46/'2012 Rate'!$AA46)*1000","v":-1.7409348292477052},{"$f":"('2012'!K46/'2012 Rate'!$AA46)*1000","v":13.03063341891464},{"$f":"('2012'!L46/'2012 Rate'!$AA46)*1000","v":14.780360848310062},{"$f":"('2012'!M46/'2012 Rate'!$AA46)*1000","v":-0.39566700664720572},{"$f":"('2012'!N46/'2012 Rate'!$AA46)*1000","v":6.9813245172862519},{"$f":"('2012'!O46/'2012 Rate'!$AA46)*1000","v":7.3769915239334578},{"$f":"('2012'!P46/'2012 Rate'!$AA46)*1000","v":2.6817430450532829},{"$f":"('2012'!Q46/'2012 Rate'!$AA46)*1000","v":8.2210811381141617},{"$f":"('2012'!R46/'2012 Rate'!$AA46)*1000","v":5.5393380930608798},null,null,null,null,null,null,null,"Greater Glasgow & Clyde",{"$f":"AA16+AA21+AA29+AA35+AA14+AA19","v":1137320}]
[44,"Highland",null,{"$f":"('2012'!D47/'2012 Rate'!$AA47)*1000","v":-0.37523452157598497},{"$f":"('2012'!E47/'2012 Rate'!$AA47)*1000","v":-0.2032520325203252},{"$f":"('2012'!F47/'2012 Rate'!$AA47)*1000","v":0.18449030644152595},{"$f":"('2012'!G47/'2012 Rate'!$AA47)*1000","v":-0.34083802376485306},{"$f":"('2012'!H47/'2012 Rate'!$AA47)*1000","v":33.302063789868669},{"$f":"('2012'!I47/'2012 Rate'!$AA47)*1000","v":33.646028767979985},{"$f":"('2012'!J47/'2012 Rate'!$AA47)*1000","v":-1.3133208255159474},{"$f":"('2012'!K47/'2012 Rate'!$AA47)*1000","v":18.386491557223266},{"$f":"('2012'!L47/'2012 Rate'!$AA47)*1000","v":19.699812382739211},{"$f":"('2012'!M47/'2012 Rate'!$AA47)*1000","v":2.0325203252032522},{"$f":"('2012'!N47/'2012 Rate'!$AA47)*1000","v":11.601000625390869},{"$f":"('2012'!O47/'2012 Rate'!$AA47)*1000","v":9.5684803001876162},{"$f":"('2012'!P47/'2012 Rate'!$AA47)*1000","v":-1.0944340212632895},{"$f":"('2012'!Q47/'2012 Rate'!$AA47)*1000","v":3.3458411507191999},{"$f":"('2012'!R47/'2012 Rate'!$AA47)*1000","v":4.4090056285178232},null,null,null,null,null,null,null,"Highland",{"$f":"AA20+AA8","v":319800}]
[45,"Lanarkshire",null,{"$f":"('2012'!D48/'2012 Rate'!$AA48)*1000","v":0.21465149796081076},{"$f":"('2012'!E48/'2012 Rate'!$AA48)*1000","v":0.50443102020790531},{"$f":"('2012'!F48/'2012 Rate'!$AA48)*1000","v":-0.35264174664990344},{"$f":"('2012'!G48/'2012 Rate'!$AA48)*1000","v":5.8262549446505781E-2},{"$f":"('2012'!H48/'2012 Rate'!$AA48)*1000","v":19.502621814725096},{"$f":"('2012'!I48/'2012 Rate'!$AA48)*1000","v":19.287970316764284},{"$f":"('2012'!J48/'2012 Rate'!$AA48)*1000","v":0.85860599184324304},{"$f":"('2012'!K48/'2012 Rate'!$AA48)*1000","v":14.059673116433107},{"$f":"('2012'!L48/'2012 Rate'!$AA48)*1000","v":13.201067124589864},{"$f":"('2012'!M48/'2012 Rate'!$AA48)*1000","v":0.16865474839777989},{"$f":"('2012'!N48/'2012 Rate'!$AA48)*1000","v":3.9557204624206559},{"$f":"('2012'!O48/'2012 Rate'!$AA48)*1000","v":3.7870657140228756},{"$f":"('2012'!P48/'2012 Rate'!$AA48)*1000","v":-0.81260924228021225},{"$f":"('2012'!Q48/'2012 Rate'!$AA48)*1000","v":1.5025604857256754},{"$f":"('2012'!R48/'2012 Rate'!$AA48)*1000","v":2.2998374781515438},null,null,null,null,null,null,null,"Lanarkshire",{"$f":"AA26+AA33","v":652220}]
[46,"Lothian",null,{"$f":"('2012'!D49/'2012 Rate'!$AA49)*1000","v":6.4830397989902107},{"$f":"('2012'!E49/'2012 Rate'!$AA49)*1000","v":0.4491905089245502},{"$f":"('2012'!F49/'2012 Rate'!$AA49)*1000","v":5.8785881906748525},{"$f":"('2012'!G49/'2012 Rate'!$AA49)*1000","v":0.15052030246284401},{"$f":"('2012'!H49/'2012 Rate'!$AA49)*1000","v":39.538246379216346},{"$f":"('2012'!I49/'2012 Rate'!$AA49)*1000","v":33.055206580226134},{"$f":"('2012'!J49/'2012 Rate'!$AA49)*1000","v":0.74667551615426553},{"$f":"('2012'!K49/'2012 Rate'!$AA49)*1000","v":14.874250361485766},{"$f":"('2012'!L49/'2012 Rate'!$AA49)*1000","v":14.11572285301159},{"$f":"('2012'!M49/'2012 Rate'!$AA49)*1000","v":0.4503757081565411},{"$f":"('2012'!N49/'2012 Rate'!$AA49)*1000","v":12.065328181667338},{"$f":"('2012'!O49/'2012 Rate'!$AA49)*1000","v":11.626804465830707},{"$f":"('2012'!P49/'2012 Rate'!$AA49)*1000","v":5.2859885746794042},{"$f":"('2012'!Q49/'2012 Rate'!$AA49)*1000","v":12.598667836063242},{"$f":"('2012'!R49/'2012 Rate'!$AA49)*1000","v":7.3126792613838392},null,null,null,null,null,null,null,"Lothian",{"$f":"AA15+AA9+AA22+AA36","v":843740}]
[47,"Orkney",null,{"$f":"('2012'!D50/'2012 Rate'!$AA50)*1000","v":5.1091500232234095},{"$f":"('2012'!E50/'2012 Rate'!$AA50)*1000","v":1.8578727357176035},{"$f":"('2012'!F50/'2012 Rate'!$AA50)*1000","v":3.2512772875058058},{"$f":"('2012'!G50/'2012 Rate'!$AA50)*1000","v":-0.18578727357176034},{"$f":"('2012'!H50/'2012 Rate'!$AA50)*1000","v":34.370645610775668},{"$f":"('2012'!I50/'2012 Rate'!$AA50)*1000","v":29.26149558755225},{"$f":"('2012'!J50/'2012 Rate'!$AA50)*1000","v":1.8578727357176035},{"$f":"('2012'!K50/'2012 Rate'!$AA50)*1000","v":19.043195541105433},{"$f":"('2012'!L50/'2012 Rate'!$AA50)*1000","v":17.185322805387834},{"$f":"('2012'!M50/'2012 Rate'!$AA50)*1000","v":4.6446818392940088},{"$f":"('2012'!N50/'2012 Rate'!$AA50)*1000","v":13.005109150023223},{"$f":"('2012'!O50/'2012 Rate'!$AA50)*1000","v":8.824895494658616},{"$f":"('2012'!P50/'2012 Rate'!$AA50)*1000","v":-1.3934045517882026},{"$f":"('2012'!Q50/'2012 Rate'!$AA50)*1000","v":1.8578727357176035},{"$f":"('2012'!R50/'2012 Rate'!$AA50)*1000","v":3.2512772875058058},null,null,null,null,null,null,null,"Orkney",{"$f":"AA27","v":21530}]
[48,"Shetland",null,{"$f":"('2012'!D51/'2012 Rate'!$AA51)*1000","v":-3.015941404566997},{"$f":"('2012'!E51/'2012 Rate'!$AA51)*1000","v":-1.1632916846186989},{"$f":"('2012'!F51/'2012 Rate'!$AA51)*1000","v":-2.5420077552778975},{"$f":"('2012'!G51/'2012 Rate'!$AA51)*1000","v":0.77552778974579928},{"$f":"('2012'!H51/'2012 Rate'!$AA51)*1000","v":28.866867729426971},{"$f":"('2012'!I51/'2012 Rate'!$AA51)*1000","v":31.451960361912967},{"$f":"('2012'!J51/'2012 Rate'!$AA51)*1000","v":-4.3084877208099952},{"$f":"('2012'!K51/'2012 Rate'!$AA51)*1000","v":13.787160706591987},{"$f":"('2012'!L51/'2012 Rate'!$AA51)*1000","v":18.526497199482982},{"$f":"('2012'!M51/'2012 Rate'!$AA51)*1000","v":1.2925463162429986},{"$f":"('2012'!N51/'2012 Rate'!$AA51)*1000","v":10.771219302024988},{"$f":"('2012'!O51/'2012 Rate'!$AA51)*1000","v":9.4786729857819907},{"$f":"('2012'!P51/'2012 Rate'!$AA51)*1000","v":0},{"$f":"('2012'!Q51/'2012 Rate'!$AA51)*1000","v":3.8776389487289959},{"$f":"('2012'!R51/'2012 Rate'!$AA51)*1000","v":3.8776389487289959},null,null,null,null,null,null,null,"Shetland",{"$f":"AA31","v":23210}]
[49,"Tayside",null,{"$f":"('2012'!D52/'2012 Rate'!$AA52)*1000","v":4.2016806722689077},{"$f":"('2012'!E52/'2012 Rate'!$AA52)*1000","v":0.50517316753290908},{"$f":"('2012'!F52/'2012 Rate'!$AA52)*1000","v":3.6697916160683928},{"$f":"('2012'!G52/'2012 Rate'!$AA52)*1000","v":2.6715888667605773E-2},{"$f":"('2012'!H52/'2012 Rate'!$AA52)*1000","v":34.026327293923352},{"$f":"('2012'!I52/'2012 Rate'!$AA52)*1000","v":29.824646621654441},{"$f":"('2012'!J52/'2012 Rate'!$AA52)*1000","v":0.92291251760819937},{"$f":"('2012'!K52/'2012 Rate'!$AA52)*1000","v":17.316753290911741},{"$f":"('2012'!L52/'2012 Rate'!$AA52)*1000","v":16.393840773303541},{"$f":"('2012'!M52/'2012 Rate'!$AA52)*1000","v":0.77718948851216785},{"$f":"('2012'!N52/'2012 Rate'!$AA52)*1000","v":8.6219458881818625},{"$f":"('2012'!O52/'2012 Rate'!$AA52)*1000","v":7.8204692281536889},{"$f":"('2012'!P52/'2012 Rate'!$AA52)*1000","v":2.5015786661485402},{"$f":"('2012'!Q52/'2012 Rate'!$AA52)*1000","v":8.1119152863457522},{"$f":"('2012'!R52/'2012 Rate'!$AA52)*1000","v":5.610336620197212},null,null,null,null,null,null,null,"Tayside",{"$f":"AA28+AA7+AA12","v":411740}]
[50,"Western Isles",null,{"$f":"('2012'!D53/'2012 Rate'!$AA53)*1000","v":0.36284470246734396},{"$f":"('2012'!E53/'2012 Rate'!$AA53)*1000","v":0.94339622641509435},{"$f":"('2012'!F53/'2012 Rate'!$AA53)*1000","v":-0.94339622641509435},{"$f":"('2012'!G53/'2012 Rate'!$AA53)*1000","v":0.47169811320754718},{"$f":"('2012'!H53/'2012 Rate'!$AA53)*1000","v":31.567489114658926},{"$f":"('2012'!I53/'2012 Rate'!$AA53)*1000","v":30.841799709724238},{"$f":"('2012'!J53/'2012 Rate'!$AA53)*1000","v":-1.0885341074020318},{"$f":"('2012'!K53/'2012 Rate'!$AA53)*1000","v":19.956458635703921},{"$f":"('2012'!L53/'2012 Rate'!$AA53)*1000","v":21.044992743105951},{"$f":"('2012'!M53/'2012 Rate'!$AA53)*1000","v":2.9027576197387517},{"$f":"('2012'!N53/'2012 Rate'!$AA53)*1000","v":9.7968069666182878},{"$f":"('2012'!O53/'2012 Rate'!$AA53)*1000","v":6.8940493468795356},{"$f":"('2012'!P53/'2012 Rate'!$AA53)*1000","v":-1.4513788098693758},{"$f":"('2012'!Q53/'2012 Rate'!$AA53)*1000","v":1.4513788098693758},{"$f":"('2012'!R53/'2012 Rate'!$AA53)*1000","v":2.9027576197387517},null,null,null,null,null,null,null,"Western Isles",{"$f":"AA24","v":27560}]

{"sheet":"2013","index":42,"n_rows":53,"n_cols":25,"rows_kept":53,"cut":false,"hidden":true,"merged":[]}
[null,2013]
[null,null,"Not specified ",{"$f":"'Comparing Indicators'!$U8","v":"Total net migration"},{"$f":"'Comparing Indicators'!$U9","v":"Total net migration for ages 0-15"},{"$f":"'Comparing Indicators'!$U10","v":"Total net migration for ages 16-64"},{"$f":"'Comparing Indicators'!$U11","v":"Total net migration for people aged 65+"},{"$f":"'Comparing Indicators'!$U12","v":"Total in-migration"},{"$f":"'Comparing Indicators'!$U13","v":"Total out-migration"},{"$f":"'Comparing Indicators'!$U14","v":"Within Scotland net migration"},{"$f":"'Comparing Indicators'!$U15","v":"Within Scotland in-migration"},{"$f":"'Comparing Indicators'!$U16","v":"Within Scotland out-migration"},{"$f":"'Comparing Indicators'!$U17","v":"Rest of UK net migration"},{"$f":"'Comparing Indicators'!$U18","v":"Rest of UK in-migration"},{"$f":"'Comparing Indicators'!$U19","v":"Rest of UK out-migration"},{"$f":"'Comparing Indicators'!$U20","v":"International net migration"},{"$f":"'Comparing Indicators'!$U21","v":"International in-migration"},{"$f":"'Comparing Indicators'!$U22","v":"International out-migration"},{"$f":"'Comparing Indicators'!$U23","v":"NINo Allocation"},{"$f":"'Comparing Indicators'!$U24","v":"Births to non-UK mothers"},{"$f":"'Comparing Indicators'!$U25","v":"Pupils from a minority ethnic group"},{"$f":"'Comparing Indicators'!$U26","v":"Pupils with English as an additional language"},{"$f":"'Comparing Indicators'!$U27","v":"Population born outside the UK"},{"$f":"'Comparing Indicators'!$U28","v":"Population with non-British nationality"},{"$f":"'Comparing Indicators'!$U29","v":"Citizenships"}]
[1,"Not specified"]
[2,"Scotland",null,{"$f":"'Total net migration'!K6","v":10000},{"$f":"'Total net migration 0-15'!K6","v":1877},{"$f":"'Total net migration 16-64'!K6","v":8267},{"$f":"'Total net migration 65+'!K6","v":-182},{"$f":"'Total in-migration'!K6","v":75900},{"$f":"'Total out-migration'!K6","v":65900},{"$f":"'Within Scotland net migration'!K6","v":"[z]"},{"$f":"'Within Scotland in-migration'!K6","v":"[z]"},{"$f":"'Within Scotland out-migration'!K6","v":"[z]"},{"$f":"'Rest of UK net migration'!K6","v":7900},{"$f":"'Rest of UK in-migration'!K6","v":47700},{"$f":"'Rest of UK out-migration'!K6","v":39800},{"$f":"'International net migration'!K6","v":2100},{"$f":"'International in-migration'!K6","v":28200},{"$f":"'International out-migration'!K6","v":26100},{"$f":"NINo!K6","v":39470},{"$f":"'Births to non-UK mothers'!K6","v":8633},{"$f":"'Pupils'' ethnic group (TS)'!L6","v":39168},{"$f":"'Pupils with English as an add.'!I6","v":29532},{"$f":"'Pop born outside UK'!K6","v":353000},{"$f":"'Non-British Population'!K6","v":264000},{"$f":"Citizenships!K6","v":5716}]
[3,"Aberdeen City",null,{"$f":"'Total net migration'!K7","v":1660},{"$f":"'Total net migration 0-15'!K7","v":-296},{"$f":"'Total net migration 16-64'!K7","v":2079},{"$f":"'Total net migration 65+'!K7","v":-119},{"$f":"'Total in-migration'!K7","v":14040},{"$f":"'Total out-migration'!K7","v":12380},{"$f":"'Within Scotland net migration'!K7","v":-200},{"$f":"'Within Scotland in-migration'!K7","v":7420},{"$f":"'Within Scotland out-migration'!K7","v":7610},{"$f":"'Rest of UK net migration'!K7","v":560},{"$f":"'Rest of UK in-migration'!K7","v":2990},{"$f":"'Rest of UK out-migration'!K7","v":2430},{"$f":"'International net migration'!K7","v":1300},{"$f":"'International in-migration'!K7","v":3640},{"$f":"'International out-migration'!K7","v":2330},{"$f":"NINo!K7","v":4930},{"$f":"'Births to non-UK mothers'!K7","v":940},{"$f":"'Pupils'' ethnic group (TS)'!L7","v":2412},{"$f":"'Pupils with English as an add.'!I7","v":2132},{"$f":"'Pop born outside UK'!K7","v":42000},{"$f":"'Non-British Population'!K7","v":38000},{"$f":"Citizenships!K7","v":857}]
[4,"Aberdeenshire",null,{"$f":"'Total net migration'!K8","v":1660},{"$f":"'Total net migration 0-15'!K8","v":745},{"$f":"'Total net migration 16-64'!K8","v":1039},{"$f":"'Total net migration 65+'!K8","v":-120},{"$f":"'Total in-migration'!K8","v":9550},{"$f":"'Total out-migration'!K8","v":7890},{"$f":"'Within Scotland net migration'!K8","v":1180},{"$f":"'Within Scotland in-migration'!K8","v":6670},{"$f":"'Within Scotland out-migration'!K8","v":5480},{"$f":"'Rest of UK net migration'!K8","v":370},{"$f":"'Rest of UK in-migration'!K8","v":1910},{"$f":"'Rest of UK out-migration'!K8","v":1540},{"$f":"'International net migration'!K8","v":120},{"$f":"'International in-migration'!K8","v":980},{"$f":"'International out-migration'!K8","v":860},{"$f":"NINo!K8","v":1610},{"$f":"'Births to non-UK mothers'!K8","v":364},{"$f":"'Pupils'' ethnic group (TS)'!L8","v":811},{"$f":"'Pupils with English as an add.'!I8","v":1216},{"$f":"'Pop born outside UK'!K8","v":11000},{"$f":"'Non-British Population'!K8","v":7000},{"$f":"Citizenships!K8","v":220}]
[5,"Angus",null,{"$f":"'Total net migration'!K9","v":110},{"$f":"'Total net migration 0-15'!K9","v":67},{"$f":"'Total net migration 16-64'!K9","v":-36},{"$f":"'Total net migration 65+'!K9","v":82},{"$f":"'Total in-migration'!K9","v":3950},{"$f":"'Total out-migration'!K9","v":3830},{"$f":"'Within Scotland net migration'!K9","v":160},{"$f":"'Within Scotland in-migration'!K9","v":2930},{"$f":"'Within Scotland out-migration'!K9","v":2770},{"$f":"'Rest of UK net migration'!K9","v":40},{"$f":"'Rest of UK in-migration'!K9","v":740},{"$f":"'Rest of UK out-migration'!K9","v":700},{"$f":"'International net migration'!K9","v":-90},{"$f":"'International in-migration'!K9","v":280},{"$f":"'International out-migration'!K9","v":370},{"$f":"NINo!K9","v":1240},{"$f":"'Births to non-UK mothers'!K9","v":133},{"$f":"'Pupils'' ethnic group (TS)'!L9","v":322},{"$f":"'Pupils with English as an add.'!I9","v":379},{"$f":"'Pop born outside UK'!K9","v":6000},{"$f":"'Non-British Population'!K9","v":5000},{"$f":"Citizenships!K9","v":43}]
[6,"Argyll and Bute",null,{"$f":"'Total net migration'!K10","v":-20},{"$f":"'Total net migration 0-15'!K10","v":99},{"$f":"'Total net migration 16-64'!K10","v":-76},{"$f":"'Total net migration 65+'!K10","v":-46},{"$f":"'Total in-migration'!K10","v":3930},{"$f":"'Total out-migration'!K10","v":3950},{"$f":"'Within Scotland net migration'!K10","v":-200},{"$f":"'Within Scotland in-migration'!K10","v":2310},{"$f":"'Within Scotland out-migration'!K10","v":2510},{"$f":"'Rest of UK net migration'!K10","v":380},{"$f":"'Rest of UK in-migration'!K10","v":1380},{"$f":"'Rest of UK out-migration'!K10","v":1000},{"$f":"'International net migration'!K10","v":-210},{"$f":"'International in-migration'!K10","v":240},{"$f":"'International out-migration'!K10","v":450},{"$f":"NINo!K10","v":460},{"$f":"'Births to non-UK mothers'!K10","v":70},{"$f":"'Pupils'' ethnic group (TS)'!L10","v":219},{"$f":"'Pupils with English as an add.'!I10","v":145},{"$f":"'Pop born outside UK'!K10","v":4000},{"$f":"'Non-British Population'!K10","v":2000},{"$f":"Citizenships!K10","v":36}]
[7,"City of Edinburgh",null,{"$f":"'Total net migration'!K11","v":3000},{"$f":"'Total net migration 0-15'!K11","v":-151},{"$f":"'Total net migration 16-64'!K11","v":3149},{"$f":"'Total net migration 65+'!K11","v":0},{"$f":"'Total in-migration'!K11","v":27830},{"$f":"'Total out-migration'!K11","v":24840},{"$f":"'Within Scotland net migration'!K11","v":-610},{"$f":"'Within Scotland in-migration'!K11","v":11500},{"$f":"'Within Scotland out-migration'!K11","v":12110},{"$f":"'Rest of UK net migration'!K11","v":1660},{"$f":"'Rest of UK in-migration'!K11","v":9080},{"$f":"'Rest of UK out-migration'!K11","v":7420},{"$f":"'International net migration'!K11","v":1950},{"$f":"'International in-migration'!K11","v":7250},{"$f":"'International out-migration'!K11","v":5300},{"$f":"NINo!K11","v":11360},{"$f":"'Births to non-UK mothers'!K11","v":1699},{"$f":"'Pupils'' ethnic group (TS)'!L11","v":6082},{"$f":"'Pupils with English as an add.'!I11","v":4861},{"$f":"'Pop born outside UK'!K11","v":67000},{"$f":"'Non-British Population'!K11","v":52000},{"$f":"Citizenships!K11","v":1054}]
[8,"Clackmannanshire",null,{"$f":"'Total net migration'!K12","v":-60},{"$f":"'Total net migration 0-15'!K12","v":45},{"$f":"'Total net migration 16-64'!K12","v":-119},{"$f":"'Total net migration 65+'!K12","v":15},{"$f":"'Total in-migration'!K12","v":1600},{"$f":"'Total out-migration'!K12","v":1660},{"$f":"'Within Scotland net migration'!K12","v":-90},{"$f":"'Within Scotland in-migration'!K12","v":1180},{"$f":"'Within Scotland out-migration'!K12","v":1270},{"$f":"'Rest of UK net migration'!K12","v":60},{"$f":"'Rest of UK in-migration'!K12","v":350},{"$f":"'Rest of UK out-migration'!K12","v":290},{"$f":"'International net migration'!K12","v":-30},{"$f":"'International in-migration'!K12","v":70},{"$f":"'International out-migration'!K12","v":110},{"$f":"NINo!K12","v":140},{"$f":"'Births to non-UK mothers'!K12","v":42},{"$f":"'Pupils'' ethnic group (TS)'!L12","v":200},{"$f":"'Pupils with English as an add.'!I12","v":139},{"$f":"'Pop born outside UK'!K12","v":2000},{"$f":"'Non-British Population'!K12","v":2000},{"$f":"Citizenships!K12","v":18}]
[9,"Dumfries and Galloway",null,{"$f":"'Total net migration'!K13","v":-10},{"$f":"'Total net migration 0-15'!K13","v":9},{"$f":"'Total net migration 16-64'!K13","v":19},{"$f":"'Total net migration 65+'!K13","v":-34},{"$f":"'Total in-migration'!K13","v":3980},{"$f":"'Total out-migration'!K13","v":3990},{"$f":"'Within Scotland net migration'!K13","v":-190},{"$f":"'Within Scotland in-migration'!K13","v":1730},{"$f":"'Within Scotland out-migration'!K13","v":1930},{"$f":"'Rest of UK net migration'!K13","v":520},{"$f":"'Rest of UK in-migration'!K13","v":2050},{"$f":"'Rest of UK out-migration'!K13","v":1520},{"$f":"'International net migration'!K13","v":-340},{"$f":"'International in-migration'!K13","v":200},{"$f":"'International out-migration'!K13","v":540},{"$f":"NINo!K13","v":280},{"$f":"'Births to non-UK mothers'!K13","v":98},{"$f":"'Pupils'' ethnic group (TS)'!L13","v":399},{"$f":"'Pupils with English as an add.'!I13","v":298},{"$f":"'Pop born outside UK'!K13","v":4000},{"$f":"'Non-British Population'!K13","v":2000},{"$f":"Citizenships!K13","v":42}]
[10,"Dundee City",null,{"$f":"'Total net migration'!K14","v":310},{"$f":"'Total net migration 0-15'!K14","v":-37},{"$f":"'Total net migration 16-64'!K14","v":395},{"$f":"'Total net migration 65+'!K14","v":-49},{"$f":"'Total in-migration'!K14","v":7070},{"$f":"'Total out-migration'!K14","v":6760},{"$f":"'Within Scotland net migration'!K14","v":-250},{"$f":"'Within Scotland in-migration'!K14","v":4170},{"$f":"'Within Scotland out-migration'!K14","v":4420},{"$f":"'Rest of UK net migration'!K14","v":240},{"$f":"'Rest of UK in-migration'!K14","v":1530},{"$f":"'Rest of UK out-migration'!K14","v":1290},{"$f":"'International net migration'!K14","v":320},{"$f":"'International in-migration'!K14","v":1370},{"$f":"'International out-migration'!K14","v":1050},{"$f":"NINo!K14","v":1300},{"$f":"'Births to non-UK mothers'!K14","v":238},{"$f":"'Pupils'' ethnic group (TS)'!L14","v":1440},{"$f":"'Pupils with English as an add.'!I14","v":959},{"$f":"'Pop born outside UK'!K14","v":15000},{"$f":"'Non-British Population'!K14","v":14000},{"$f":"Citizenships!K14","v":192}]
[11,"East Ayrshire",null,{"$f":"'Total net migration'!K15","v":-120},{"$f":"'Total net migration 0-15'!K15","v":-4},{"$f":"'Total net migration 16-64'!K15","v":-132},{"$f":"'Total net migration 65+'!K15","v":16},{"$f":"'Total in-migration'!K15","v":3110},{"$f":"'Total out-migration'!K15","v":3230},{"$f":"'Within Scotland net migration'!K15","v":-40},{"$f":"'Within Scotland in-migration'!K15","v":2370},{"$f":"'Within Scotland out-migration'!K15","v":2400},{"$f":"'Rest of UK net migration'!K15","v":80},{"$f":"'Rest of UK in-migration'!K15","v":660},{"$f":"'Rest of UK out-migration'!K15","v":590},{"$f":"'International net migration'!K15","v":-160},{"$f":"'International in-migration'!K15","v":80},{"$f":"'International out-migration'!K15","v":240},{"$f":"NINo!K15","v":80},{"$f":"'Births to non-UK mothers'!K15","v":45},{"$f":"'Pupils'' ethnic group (TS)'!L15","v":332},{"$f":"'Pupils with English as an add.'!I15","v":126},{"$f":"'Pop born outside UK'!K15","v":2000},{"$f":"'Non-British Population'!K15","v":1000},{"$f":"Citizenships!K15","v":28}]
[12,"East Dunbartonshire",null,{"$f":"'Total net migration'!K16","v":90},{"$f":"'Total net migration 0-15'!K16","v":251},{"$f":"'Total net migration 16-64'!K16","v":-177},{"$f":"'Total net migration 65+'!K16","v":18},{"$f":"'Total in-migration'!K16","v":3510},{"$f":"'Total out-migration'!K16","v":3420},{"$f":"'Within Scotland net migration'!K16","v":290},{"$f":"'Within Scotland in-migration'!K16","v":2980},{"$f":"'Within Scotland out-migration'!K16","v":2700},{"$f":"'Rest of UK net migration'!K16","v":-70},{"$f":"'Rest of UK in-migration'!K16","v":450},{"$f":"'Rest of UK out-migration'!K16","v":520},{"$f":"'International net migration'!K16","v":-120},{"$f":"'International in-migration'!K16","v":80},{"$f":"'International out-migration'!K16","v":200},{"$f":"NINo!K16","v":90},{"$f":"'Births to non-UK mothers'!K16","v":73},{"$f":"'Pupils'' ethnic group (TS)'!L16","v":1148},{"$f":"'Pupils with English as an add.'!I16","v":377},{"$f":"'Pop born outside UK'!K16","v":5000},{"$f":"'Non-British Population'!K16","v":3000},{"$f":"Citizenships!K16","v":74}]
[13,"East Lothian",null,{"$f":"'Total net migration'!K17","v":520},{"$f":"'Total net migration 0-15'!K17","v":154},{"$f":"'Total net migration 16-64'!K17","v":313},{"$f":"'Total net migration 65+'!K17","v":54},{"$f":"'Total in-migration'!K17","v":3780},{"$f":"'Total out-migration'!K17","v":3250},{"$f":"'Within Scotland net migration'!K17","v":500},{"$f":"'Within Scotland in-migration'!K17","v":2820},{"$f":"'Within Scotland out-migration'!K17","v":2320},{"$f":"'Rest of UK net migration'!K17","v":80},{"$f":"'Rest of UK in-migration'!K17","v":700},{"$f":"'Rest of UK out-migration'!K17","v":630},{"$f":"'International net migration'!K17","v":-50},{"$f":"'International in-migration'!K17","v":250},{"$f":"'International out-migration'!K17","v":300},{"$f":"NINo!K17","v":370},{"$f":"'Births to non-UK mothers'!K17","v":115},{"$f":"'Pupils'' ethnic group (TS)'!L17","v":330},{"$f":"'Pupils with English as an add.'!I17","v":221},{"$f":"'Pop born outside UK'!K17","v":6000},{"$f":"'Non-British Population'!K17","v":4000},{"$f":"Citizenships!K17","v":49}]
[14,"East Renfrewshire",null,{"$f":"'Total net migration'!K18","v":540},{"$f":"'Total net migration 0-15'!K18","v":584},{"$f":"'Total net migration 16-64'!K18","v":-24},{"$f":"'Total net migration 65+'!K18","v":-21},{"$f":"'Total in-migration'!K18","v":3670},{"$f":"'Total out-migration'!K18","v":3130},{"$f":"'Within Scotland net migration'!K18","v":700},{"$f":"'Within Scotland in-migration'!K18","v":3160},{"$f":"'Within Scotland out-migration'!K18","v":2460},{"$f":"'Rest of UK net migration'!K18","v":-50},{"$f":"'Rest of UK in-migration'!K18","v":420},{"$f":"'Rest of UK out-migration'!K18","v":470},{"$f":"'International net migration'!K18","v":-110},{"$f":"'International in-migration'!K18","v":90},{"$f":"'International out-migration'!K18","v":200},{"$f":"NINo!K18","v":100},{"$f":"'Births to non-UK mothers'!K18","v":87},{"$f":"'Pupils'' ethnic group (TS)'!L18","v":2407},{"$f":"'Pupils with English as an add.'!I18","v":818},{"$f":"'Pop born outside UK'!K18","v":3000},{"$f":"'Non-British Population'!K18","v":1000},{"$f":"Citizenships!K18","v":82}]
[15,"Falkirk",null,{"$f":"'Total net migration'!K19","v":380},{"$f":"'Total net migration 0-15'!K19","v":70},{"$f":"'Total net migration 16-64'!K19","v":226},{"$f":"'Total net migration 65+'!K19","v":79},{"$f":"'Total in-migration'!K19","v":4080},{"$f":"'Total out-migration'!K19","v":3700},{"$f":"'Within Scotland net migration'!K19","v":400},{"$f":"'Within Scotland in-migration'!K19","v":3170},{"$f":"'Within Scotland out-migration'!K19","v":2770},{"$f":"'Rest of UK net migration'!K19","v":110},{"$f":"'Rest of UK in-migration'!K19","v":670},{"$f":"'Rest of UK out-migration'!K19","v":560},{"$f":"'International net migration'!K19","v":-130},{"$f":"'International in-migration'!K19","v":240},{"$f":"'International out-migration'!K19","v":360},{"$f":"NINo!K19","v":380},{"$f":"'Births to non-UK mothers'!K19","v":149},{"$f":"'Pupils'' ethnic group (TS)'!L19","v":678},{"$f":"'Pupils with English as an add.'!I19","v":497},{"$f":"'Pop born outside UK'!K19","v":7000},{"$f":"'Non-British Population'!K19","v":5000},{"$f":"Citizenships!K19","v":76}]
[16,"Fife",null,{"$f":"'Total net migration'!K20","v":300},{"$f":"'Total net migration 0-15'!K20","v":169},{"$f":"'Total net migration 16-64'!K20","v":121},{"$f":"'Total net migration 65+'!K20","v":14},{"$f":"'Total in-migration'!K20","v":10460},{"$f":"'Total out-migration'!K20","v":10160},{"$f":"'Within Scotland net migration'!K20","v":-120},{"$f":"'Within Scotland in-migration'!K20","v":5730},{"$f":"'Within Scotland out-migration'!K20","v":5850},{"$f":"'Rest of UK net migration'!K20","v":480},{"$f":"'Rest of UK in-migration'!K20","v":3220},{"$f":"'Rest of UK out-migration'!K20","v":2740},{"$f":"'International net migration'!K20","v":-50},{"$f":"'International in-migration'!K20","v":1510},{"$f":"'International out-migration'!K20","v":1560},{"$f":"NINo!K20","v":1970},{"$f":"'Births to non-UK mothers'!K20","v":407},{"$f":"'Pupils'' ethnic group (TS)'!L20","v":1477},{"$f":"'Pupils with English as an add.'!I20","v":903},{"$f":"'Pop born outside UK'!K20","v":20000},{"$f":"'Non-British Population'!K20","v":15000},{"$f":"Citizenships!K20","v":177}]
[17,"Glasgow City",null,{"$f":"'Total net migration'!K21","v":440},{"$f":"'Total net migration 0-15'!K21","v":-923},{"$f":"'Total net migration 16-64'!K21","v":1679},{"$f":"'Total net migration 65+'!K21","v":-317},{"$f":"'Total in-migration'!K21","v":28010},{"$f":"'Total out-migration'!K21","v":27570},{"$f":"'Within Scotland net migration'!K21","v":-1800},{"$f":"'Within Scotland in-migration'!K21","v":15000},{"$f":"'Within Scotland out-migration'!K21","v":16800},{"$f":"'Rest of UK net migration'!K21","v":180},{"$f":"'Rest of UK in-migration'!K21","v":5920},{"$f":"'Rest of UK out-migration'!K21","v":5750},{"$f":"'International net migration'!K21","v":2070},{"$f":"'International in-migration'!K21","v":7090},{"$f":"'International out-migration'!K21","v":5020},{"$f":"NINo!K21","v":6820},{"$f":"'Births to non-UK mothers'!K21","v":1986},{"$f":"'Pupils'' ethnic group (TS)'!L21","v":11772},{"$f":"'Pupils with English as an add.'!I21","v":10445},{"$f":"'Pop born outside UK'!K21","v":66000},{"$f":"'Non-British Population'!K21","v":48000},{"$f":"Citizenships!K21","v":1518}]
[18,"Highland",null,{"$f":"'Total net migration'!K22","v":90},{"$f":"'Total net migration 0-15'!K22","v":166},{"$f":"'Total net migration 16-64'!K22","v":-30},{"$f":"'Total net migration 65+'!K22","v":-43},{"$f":"'Total in-migration'!K22","v":7080},{"$f":"'Total out-migration'!K22","v":6990},{"$f":"'Within Scotland net migration'!K22","v":-430},{"$f":"'Within Scotland in-migration'!K22","v":3970},{"$f":"'Within Scotland out-migration'!K22","v":4400},{"$f":"'Rest of UK net migration'!K22","v":760},{"$f":"'Rest of UK in-migration'!K22","v":2490},{"$f":"'Rest of UK out-migration'!K22","v":1720},{"$f":"'International net migration'!K22","v":-240},{"$f":"'International in-migration'!K22","v":620},{"$f":"'International out-migration'!K22","v":860},{"$f":"NINo!K22","v":1290},{"$f":"'Births to non-UK mothers'!K22","v":316},{"$f":"'Pupils'' ethnic group (TS)'!L22","v":714},{"$f":"'Pupils with English as an add.'!I22","v":867},{"$f":"'Pop born outside UK'!K22","v":11000},{"$f":"'Non-British Population'!K22","v":8000},{"$f":"Citizenships!K22","v":183}]
[19,"Inverclyde",null,{"$f":"'Total net migration'!K23","v":-160},{"$f":"'Total net migration 0-15'!K23","v":36},{"$f":"'Total net migration 16-64'!K23","v":-195},{"$f":"'Total net migration 65+'!K23","v":-1},{"$f":"'Total in-migration'!K23","v":1400},{"$f":"'Total out-migration'!K23","v":1560},{"$f":"'Within Scotland net migration'!K23","v":-150},{"$f":"'Within Scotland in-migration'!K23","v":980},{"$f":"'Within Scotland out-migration'!K23","v":1140},{"$f":"'Rest of UK net migration'!K23","v":50},{"$f":"'Rest of UK in-migration'!K23","v":350},{"$f":"'Rest of UK out-migration'!K23","v":300},{"$f":"'International net migration'!K23","v":-60},{"$f":"'International in-migration'!K23","v":70},{"$f":"'International out-migration'!K23","v":130},{"$f":"NINo!K23","v":80},{"$f":"'Births to non-UK mothers'!K23","v":33},{"$f":"'Pupils'' ethnic group (TS)'!L23","v":184},{"$f":"'Pupils with English as an add.'!I23","v":53},{"$f":"'Pop born outside UK'!K23","v":2000},{"$f":"'Non-British Population'!K23","v":2000},{"$f":"Citizenships!K23","v":31}]
[20,"Midlothian",null,{"$f":"'Total net migration'!K24","v":580},{"$f":"'Total net migration 0-15'!K24","v":147},{"$f":"'Total net migration 16-64'!K24","v":443},{"$f":"'Total net migration 65+'!K24","v":-14},{"$f":"'Total in-migration'!K24","v":2990},{"$f":"'Total out-migration'!K24","v":2410},{"$f":"'Within Scotland net migration'!K24","v":570},{"$f":"'Within Scotland in-migration'!K24","v":2460},{"$f":"'Within Scotland out-migration'!K24","v":1900},{"$f":"'Rest of UK net migration'!K24","v":60},{"$f":"'Rest of UK in-migration'!K24","v":440},{"$f":"'Rest of UK out-migration'!K24","v":380},{"$f":"'International net migration'!K24","v":-50},{"$f":"'International in-migration'!K24","v":90},{"$f":"'International out-migration'!K24","v":130},{"$f":"NINo!K24","v":180},{"$f":"'Births to non-UK mothers'!K24","v":85},{"$f":"'Pupils'' ethnic group (TS)'!L24","v":373},{"$f":"'Pupils with English as an add.'!I24","v":230},{"$f":"'Pop born outside UK'!K24","v":3000},{"$f":"'Non-British Population'!K24","v":2000},{"$f":"Citizenships!K24","v":60}]
[21,"Moray",null,{"$f":"'Total net migration'!K25","v":600},{"$f":"'Total net migration 0-15'!K25","v":163},{"$f":"'Total net migration 16-64'!K25","v":402},{"$f":"'Total net migration 65+'!K25","v":31},{"$f":"'Total in-migration'!K25","v":3530},{"$f":"'Total out-migration'!K25","v":2930},{"$f":"'Within Scotland net migration'!K25","v":130},{"$f":"'Within Scotland in-migration'!K25","v":1820},{"$f":"'Within Scotland out-migration'!K25","v":1690},{"$f":"'Rest of UK net migration'!K25","v":620},{"$f":"'Rest of UK in-migration'!K25","v":1480},{"$f":"'Rest of UK out-migration'!K25","v":870},{"$f":"'International net migration'!K25","v":-150},{"$f":"'International in-migration'!K25","v":230},{"$f":"'International out-migration'!K25","v":370},{"$f":"NINo!K25","v":320},{"$f":"'Births to non-UK mothers'!K25","v":112},{"$f":"'Pupils'' ethnic group (TS)'!L25","v":268},{"$f":"'Pupils with English as an add.'!I25","v":304},{"$f":"'Pop born outside UK'!K25","v":5000},{"$f":"'Non-British Population'!K25","v":3000},{"$f":"Citizenships!K25","v":35}]
[22,"Na h-Eileanan Siar",null,{"$f":"'Total net migration'!K26","v":-20},{"$f":"'Total net migration 0-15'!K26","v":-11},{"$f":"'Total net migration 16-64'!K26","v":-20},{"$f":"'Total net migration 65+'!K26","v":12},{"$f":"'Total in-migration'!K26","v":860},{"$f":"'Total out-migration'!K26","v":880},{"$f":"'Within Scotland net migration'!K26","v":-70},{"$f":"'Within Scotland in-migration'!K26","v":500},{"$f":"'Within Scotland out-migration'!K26","v":570},{"$f":"'Rest of UK net migration'!K26","v":110},{"$f":"'Rest of UK in-migration'!K26","v":330},{"$f":"'Rest of UK out-migration'!K26","v":220},{"$f":"'International net migration'!K26","v":-60},{"$f":"'International in-migration'!K26","v":30},{"$f":"'International out-migration'!K26","v":90},{"$f":"NINo!K26","v":30},{"$f":"'Births to non-UK mothers'!K26","v":21},{"$f":"'Pupils'' ethnic group (TS)'!L26","v":57},{"$f":"'Pupils with English as an add.'!I26","v":47},{"$f":"'Pop born outside UK'!K26","v":1000},{"$f":"'Non-British Population'!K26","v":"[low]"},{"$f":"Citizenships!K26","v":19}]
[23,"North Ayrshire",null,{"$f":"'Total net migration'!K27","v":-310},{"$f":"'Total net migration 0-15'!K27","v":-13},{"$f":"'Total net migration 16-64'!K27","v":-333},{"$f":"'Total net migration 65+'!K27","v":38},{"$f":"'Total in-migration'!K27","v":3500},{"$f":"'Total out-migration'!K27","v":3800},{"$f":"'Within Scotland net migration'!K27","v":-200},{"$f":"'Within Scotland in-migration'!K27","v":2570},{"$f":"'Within Scotland out-migration'!K27","v":2770},{"$f":"'Rest of UK net migration'!K27","v":130},{"$f":"'Rest of UK in-migration'!K27","v":810},{"$f":"'Rest of UK out-migration'!K27","v":690},{"$f":"'International net migration'!K27","v":-240},{"$f":"'International in-migration'!K27","v":110},{"$f":"'International out-migration'!K27","v":350},{"$f":"NINo!K27","v":130},{"$f":"'Births to non-UK mothers'!K27","v":61},{"$f":"'Pupils'' ethnic group (TS)'!L27","v":296},{"$f":"'Pupils with English as an add.'!I27","v":108},{"$f":"'Pop born outside UK'!K27","v":4000},{"$f":"'Non-British Population'!K27","v":2000},{"$f":"Citizenships!K27","v":31}]
[24,"North Lanarkshire",null,{"$f":"'Total net migration'!K28","v":-390},{"$f":"'Total net migration 0-15'!K28","v":109},{"$f":"'Total net migration 16-64'!K28","v":-407},{"$f":"'Total net migration 65+'!K28","v":-87},{"$f":"'Total in-migration'!K28","v":6640},{"$f":"'Total out-migration'!K28","v":7030},{"$f":"'Within Scotland net migration'!K28","v":-180},{"$f":"'Within Scotland in-migration'!K28","v":5110},{"$f":"'Within Scotland out-migration'!K28","v":5290},{"$f":"'Rest of UK net migration'!K28","v":140},{"$f":"'Rest of UK in-migration'!K28","v":1120},{"$f":"'Rest of UK out-migration'!K28","v":980},{"$f":"'International net migration'!K28","v":-340},{"$f":"'International in-migration'!K28","v":410},{"$f":"'International out-migration'!K28","v":750},{"$f":"NINo!K28","v":590},{"$f":"'Births to non-UK mothers'!K28","v":265},{"$f":"'Pupils'' ethnic group (TS)'!L28","v":1697},{"$f":"'Pupils with English as an add.'!I28","v":1000},{"$f":"'Pop born outside UK'!K28","v":7000},{"$f":"'Non-British Population'!K28","v":6000},{"$f":"Citizenships!K28","v":140}]
[25,"Orkney Islands",null,{"$f":"'Total net migration'!K29","v":80},{"$f":"'Total net migration 0-15'!K29","v":35},{"$f":"'Total net migration 16-64'!K29","v":39},{"$f":"'Total net migration 65+'!K29","v":6},{"$f":"'Total in-migration'!K29","v":760},{"$f":"'Total out-migration'!K29","v":680},{"$f":"'Within Scotland net migration'!K29","v":20},{"$f":"'Within Scotland in-migration'!K29","v":430},{"$f":"'Within Scotland out-migration'!K29","v":410},{"$f":"'Rest of UK net migration'!K29","v":90},{"$f":"'Rest of UK in-migration'!K29","v":280},{"$f":"'Rest of UK out-migration'!K29","v":200},{"$f":"'International net migration'!K29","v":-30},{"$f":"'International in-migration'!K29","v":50},{"$f":"'International out-migration'!K29","v":80},{"$f":"NINo!K29","v":70},{"$f":"'Births to non-UK mothers'!K29","v":7},{"$f":"'Pupils'' ethnic group (TS)'!L29","v":38},{"$f":"'Pupils with English as an add.'!I29","v":15},{"$f":"'Pop born outside UK'!K29","v":"[low]"},{"$f":"'Non-British Population'!K29","v":"[c]"},{"$f":"Citizenships!K29","v":7}]
[26,"Perth and Kinross",null,{"$f":"'Total net migration'!K30","v":380},{"$f":"'Total net migration 0-15'!K30","v":244},{"$f":"'Total net migration 16-64'!K30","v":81},{"$f":"'Total net migration 65+'!K30","v":52},{"$f":"'Total in-migration'!K30","v":5980},{"$f":"'Total out-migration'!K30","v":5600},{"$f":"'Within Scotland net migration'!K30","v":180},{"$f":"'Within Scotland in-migration'!K30","v":3900},{"$f":"'Within Scotland out-migration'!K30","v":3730},{"$f":"'Rest of UK net migration'!K30","v":210},{"$f":"'Rest of UK in-migration'!K30","v":1230},{"$f":"'Rest of UK out-migration'!K30","v":1020},{"$f":"'International net migration'!K30","v":-10},{"$f":"'International in-migration'!K30","v":840},{"$f":"'International out-migration'!K30","v":850},{"$f":"NINo!K30","v":2350},{"$f":"'Births to non-UK mothers'!K30","v":211},{"$f":"'Pupils'' ethnic group (TS)'!L30","v":542},{"$f":"'Pupils with English as an add.'!I30","v":578},{"$f":"'Pop born outside UK'!K30","v":11000},{"$f":"'Non-British Population'!K30","v":7000},{"$f":"Citizenships!K30","v":86}]
[27,"Renfrewshire",null,{"$f":"'Total net migration'!K31","v":-340},{"$f":"'Total net migration 0-15'!K31","v":-25},{"$f":"'Total net migration 16-64'!K31","v":-321},{"$f":"'Total net migration 65+'!K31","v":3},{"$f":"'Total in-migration'!K31","v":4410},{"$f":"'Total out-migration'!K31","v":4750},{"$f":"'Within Scotland net migration'!K31","v":-140},{"$f":"'Within Scotland in-migration'!K31","v":3330},{"$f":"'Within Scotland out-migration'!K31","v":3470},{"$f":"'Rest of UK net migration'!K31","v":10},{"$f":"'Rest of UK in-migration'!K31","v":750},{"$f":"'Rest of UK out-migration'!K31","v":740},{"$f":"'International net migration'!K31","v":-210},{"$f":"'International in-migration'!K31","v":330},{"$f":"'International out-migration'!K31","v":540},{"$f":"NINo!K31","v":510},{"$f":"'Births to non-UK mothers'!K31","v":176},{"$f":"'Pupils'' ethnic group (TS)'!L31","v":850},{"$f":"'Pupils with English as an add.'!I31","v":416},{"$f":"'Pop born outside UK'!K31","v":9000},{"$f":"'Non-British Population'!K31","v":7000},{"$f":"Citizenships!K31","v":128}]
[28,"Scottish Borders",null,{"$f":"'Total net migration'!K32","v":310},{"$f":"'Total net migration 0-15'!K32","v":101},{"$f":"'Total net migration 16-64'!K32","v":175},{"$f":"'Total net migration 65+'!K32","v":32},{"$f":"'Total in-migration'!K32","v":3970},{"$f":"'Total out-migration'!K32","v":3670},{"$f":"'Within Scotland net migration'!K32","v":-10},{"$f":"'Within Scotland in-migration'!K32","v":2150},{"$f":"'Within Scotland out-migration'!K32","v":2160},{"$f":"'Rest of UK net migration'!K32","v":490},{"$f":"'Rest of UK in-migration'!K32","v":1570},{"$f":"'Rest of UK out-migration'!K32","v":1080},{"$f":"'International net migration'!K32","v":-170},{"$f":"'International in-migration'!K32","v":250},{"$f":"'International out-migration'!K32","v":420},{"$f":"NINo!K32","v":340},{"$f":"'Births to non-UK mothers'!K32","v":130},{"$f":"'Pupils'' ethnic group (TS)'!L32","v":305},{"$f":"'Pupils with English as an add.'!I32","v":357},{"$f":"'Pop born outside UK'!K32","v":6000},{"$f":"'Non-British Population'!K32","v":4000},{"$f":"Citizenships!K32","v":51}]
[29,"Shetland Islands",null,{"$f":"'Total net migration'!K33","v":-90},{"$f":"'Total net migration 0-15'!K33","v":-43},{"$f":"'Total net migration 16-64'!K33","v":-23},{"$f":"'Total net migration 65+'!K33","v":-23},{"$f":"'Total in-migration'!K33","v":650},{"$f":"'Total out-migration'!K33","v":740},{"$f":"'Within Scotland net migration'!K33","v":-90},{"$f":"'Within Scotland in-migration'!K33","v":350},{"$f":"'Within Scotland out-migration'!K33","v":440},{"$f":"'Rest of UK net migration'!K33","v":30},{"$f":"'Rest of UK in-migration'!K33","v":240},{"$f":"'Rest of UK out-migration'!K33","v":210},{"$f":"'International net migration'!K33","v":-30},{"$f":"'International in-migration'!K33","v":60},{"$f":"'International out-migration'!K33","v":90},{"$f":"NINo!K33","v":190},{"$f":"'Births to non-UK mothers'!K33","v":22},{"$f":"'Pupils'' ethnic group (TS)'!L33","v":84},{"$f":"'Pupils with English as an add.'!I33","v":29},{"$f":"'Pop born outside UK'!K33","v":1000},{"$f":"'Non-British Population'!K33","v":"[low]"},{"$f":"Citizenships!K33","v":18}]
[30,"South Ayrshire",null,{"$f":"'Total net migration'!K34","v":410},{"$f":"'Total net migration 0-15'!K34","v":128},{"$f":"'Total net migration 16-64'!K34","v":148},{"$f":"'Total net migration 65+'!K34","v":129},{"$f":"'Total in-migration'!K34","v":3730},{"$f":"'Total out-migration'!K34","v":3320},{"$f":"'Within Scotland net migration'!K34","v":330},{"$f":"'Within Scotland in-migration'!K34","v":2680},{"$f":"'Within Scotland out-migration'!K34","v":2350},{"$f":"'Rest of UK net migration'!K34","v":270},{"$f":"'Rest of UK in-migration'!K34","v":880},{"$f":"'Rest of UK out-migration'!K34","v":610},{"$f":"'International net migration'!K34","v":-190},{"$f":"'International in-migration'!K34","v":170},{"$f":"'International out-migration'!K34","v":360},{"$f":"NINo!K34","v":220},{"$f":"'Births to non-UK mothers'!K34","v":58},{"$f":"'Pupils'' ethnic group (TS)'!L34","v":295},{"$f":"'Pupils with English as an add.'!I34","v":148},{"$f":"'Pop born outside UK'!K34","v":3000},{"$f":"'Non-British Population'!K34","v":2000},{"$f":"Citizenships!K34","v":40}]
[31,"South Lanarkshire",null,{"$f":"'Total net migration'!K35","v":580},{"$f":"'Total net migration 0-15'!K35","v":97},{"$f":"'Total net migration 16-64'!K35","v":304},{"$f":"'Total net migration 65+'!K35","v":178},{"$f":"'Total in-migration'!K35","v":8210},{"$f":"'Total out-migration'!K35","v":7630},{"$f":"'Within Scotland net migration'!K35","v":950},{"$f":"'Within Scotland in-migration'!K35","v":6550},{"$f":"'Within Scotland out-migration'!K35","v":5600},{"$f":"'Rest of UK net migration'!K35","v":60},{"$f":"'Rest of UK in-migration'!K35","v":1350},{"$f":"'Rest of UK out-migration'!K35","v":1290},{"$f":"'International net migration'!K35","v":-420},{"$f":"'International in-migration'!K35","v":310},{"$f":"'International out-migration'!K35","v":730},{"$f":"NINo!K35","v":500},{"$f":"'Births to non-UK mothers'!K35","v":227},{"$f":"'Pupils'' ethnic group (TS)'!L35","v":1524},{"$f":"'Pupils with English as an add.'!I35","v":581},{"$f":"'Pop born outside UK'!K35","v":11000},{"$f":"'Non-British Population'!K35","v":7000},{"$f":"Citizenships!K35","v":198}]
[32,"Stirling",null,{"$f":"'Total net migration'!K36","v":250},{"$f":"'Total net migration 0-15'!K36","v":116},{"$f":"'Total net migration 16-64'!K36","v":226},{"$f":"'Total net migration 65+'!K36","v":-89},{"$f":"'Total in-migration'!K36","v":5030},{"$f":"'Total out-migration'!K36","v":4780},{"$f":"'Within Scotland net migration'!K36","v":110},{"$f":"'Within Scotland in-migration'!K36","v":3340},{"$f":"'Within Scotland out-migration'!K36","v":3230},{"$f":"'Rest of UK net migration'!K36","v":200},{"$f":"'Rest of UK in-migration'!K36","v":1010},{"$f":"'Rest of UK out-migration'!K36","v":810},{"$f":"'International net migration'!K36","v":-50},{"$f":"'International in-migration'!K36","v":690},{"$f":"'International out-migration'!K36","v":740},{"$f":"NINo!K36","v":590},{"$f":"'Births to non-UK mothers'!K36","v":84},{"$f":"'Pupils'' ethnic group (TS)'!L36","v":451},{"$f":"'Pupils with English as an add.'!I36","v":244},{"$f":"'Pop born outside UK'!K36","v":6000},{"$f":"'Non-British Population'!K36","v":4000},{"$f":"Citizenships!K36","v":48}]
[33,"West Dunbartonshire",null,{"$f":"'Total net migration'!K37","v":-420},{"$f":"'Total net migration 0-15'!K37","v":-118},{"$f":"'Total net migration 16-64'!K37","v":-257},{"$f":"'Total net migration 65+'!K37","v":-49},{"$f":"'Total in-migration'!K37","v":2170},{"$f":"'Total out-migration'!K37","v":2590},{"$f":"'Within Scotland net migration'!K37","v":-370},{"$f":"'Within Scotland in-migration'!K37","v":1650},{"$f":"'Within Scotland out-migration'!K37","v":2020},{"$f":"'Rest of UK net migration'!K37","v":40},{"$f":"'Rest of UK in-migration'!K37","v":420},{"$f":"'Rest of UK out-migration'!K37","v":370},{"$f":"'International net migration'!K37","v":-100},{"$f":"'International in-migration'!K37","v":100},{"$f":"'International out-migration'!K37","v":200},{"$f":"NINo!K37","v":140},{"$f":"'Births to non-UK mothers'!K37","v":68},{"$f":"'Pupils'' ethnic group (TS)'!L37","v":290},{"$f":"'Pupils with English as an add.'!I37","v":169},{"$f":"'Pop born outside UK'!K37","v":3000},{"$f":"'Non-British Population'!K37","v":2000},{"$f":"Citizenships!K37","v":50}]
[34,"West Lothian",null,{"$f":"'Total net migration'!K38","v":-390},{"$f":"'Total net migration 0-15'!K38","v":-37},{"$f":"'Total net migration 16-64'!K38","v":-421},{"$f":"'Total net migration 65+'!K38","v":71},{"$f":"'Total in-migration'!K38","v":4590},{"$f":"'Total out-migration'!K38","v":4970},{"$f":"'Within Scotland net migration'!K38","v":-370},{"$f":"'Within Scotland in-migration'!K38","v":3210},{"$f":"'Within Scotland out-migration'!K38","v":3580},{"$f":"'Rest of UK net migration'!K38","v":0},{"$f":"'Rest of UK in-migration'!K38","v":880},{"$f":"'Rest of UK out-migration'!K38","v":880},{"$f":"'International net migration'!K38","v":-20},{"$f":"'International in-migration'!K38","v":500},{"$f":"'International out-migration'!K38","v":520},{"$f":"NINo!K38","v":810},{"$f":"'Births to non-UK mothers'!K38","v":311},{"$f":"'Pupils'' ethnic group (TS)'!L38","v":1076},{"$f":"'Pupils with English as an add.'!I38","v":851},{"$f":"'Pop born outside UK'!K38","v":11000},{"$f":"'Non-British Population'!K38","v":8000},{"$f":"Citizenships!K38","v":125}]
[]
[35,"Not specified"]
[36,"Scotland",null,{"$f":"'Total net migration'!K41","v":10000},{"$f":"'Total net migration 0-15'!K6","v":1877},{"$f":"'Total net migration 16-64'!K41","v":8267},{"$f":"'Total net migration 65+'!K41","v":-182},{"$f":"'Total in-migration'!K41","v":75900},{"$f":"'Total out-migration'!K41","v":65900},{"$f":"'Within Scotland net migration'!K41","v":"[z]"},{"$f":"'Within Scotland in-migration'!K41","v":"[z]"},{"$f":"'Within Scotland out-migration'!K41","v":"[z]"},{"$f":"'Rest of UK net migration'!K41","v":7900},{"$f":"'Rest of UK in-migration'!K41","v":47700},{"$f":"'Rest of UK out-migration'!K41","v":39800},{"$f":"'International net migration'!K41","v":2100},{"$f":"'International in-migration'!K41","v":28200},{"$f":"'International out-migration'!K41","v":26100},null,{"$f":"'Births to non-UK mothers'!K41","v":8633}]
[37,"Ayrshire and Arran",null,{"$f":"'Total net migration'!K42","v":-20},{"$f":"'Total net migration 0-15'!K42","v":111},{"$f":"'Total net migration 16-64'!K42","v":-317},{"$f":"'Total net migration 65+'!K42","v":183},{"$f":"'Total in-migration'!K42","v":7820},{"$f":"'Total out-migration'!K42","v":7840},{"$f":"'Within Scotland net migration'!K42","v":100},{"$f":"'Within Scotland in-migration'!K42","v":5110},{"$f":"'Within Scotland out-migration'!K42","v":5010},{"$f":"'Rest of UK net migration'!K42","v":470},{"$f":"'Rest of UK in-migration'!K42","v":2350},{"$f":"'Rest of UK out-migration'!K42","v":1880},{"$f":"'International net migration'!K42","v":-590},{"$f":"'International in-migration'!K42","v":360},{"$f":"'International out-migration'!K42","v":950},null,{"$f":"'Births to non-UK mothers'!K42","v":164}]
[38,"Borders",null,{"$f":"'Total net migration'!K43","v":310},{"$f":"'Total net migration 0-15'!K43","v":101},{"$f":"'Total net migration 16-64'!K43","v":175},{"$f":"'Total net migration 65+'!K43","v":32},{"$f":"'Total in-migration'!K43","v":3970},{"$f":"'Total out-migration'!K43","v":3670},{"$f":"'Within Scotland net migration'!K43","v":-10},{"$f":"'Within Scotland in-migration'!K43","v":2150},{"$f":"'Within Scotland out-migration'!K43","v":2160},{"$f":"'Rest of UK net migration'!K43","v":490},{"$f":"'Rest of UK in-migration'!K43","v":1570},{"$f":"'Rest of UK out-migration'!K43","v":1080},{"$f":"'International net migration'!K43","v":-170},{"$f":"'International in-migration'!K43","v":250},{"$f":"'International out-migration'!K43","v":420},null,{"$f":"'Births to non-UK mothers'!K43","v":130}]
[39,"Dumfries and Galloway",null,{"$f":"'Total net migration'!K44","v":-10},{"$f":"'Total net migration 0-15'!K44","v":9},{"$f":"'Total net migration 16-64'!K44","v":19},{"$f":"'Total net migration 65+'!K44","v":-34},{"$f":"'Total in-migration'!K44","v":3980},{"$f":"'Total out-migration'!K44","v":3990},{"$f":"'Within Scotland net migration'!K44","v":-190},{"$f":"'Within Scotland in-migration'!K44","v":1730},{"$f":"'Within Scotland out-migration'!K44","v":1930},{"$f":"'Rest of UK net migration'!K44","v":520},{"$f":"'Rest of UK in-migration'!K44","v":2050},{"$f":"'Rest of UK out-migration'!K44","v":1520},{"$f":"'International net migration'!K44","v":-340},{"$f":"'International in-migration'!K44","v":200},{"$f":"'International out-migration'!K44","v":540},null,{"$f":"'Births to non-UK mothers'!K44","v":98}]
[40,"Fife",null,{"$f":"'Total net migration'!K45","v":300},{"$f":"'Total net migration 0-15'!K45","v":169},{"$f":"'Total net migration 16-64'!K45","v":121},{"$f":"'Total net migration 65+'!K45","v":14},{"$f":"'Total in-migration'!K45","v":10460},{"$f":"'Total out-migration'!K45","v":10160},{"$f":"'Within Scotland net migration'!K45","v":-120},{"$f":"'Within Scotland in-migration'!K45","v":5730},{"$f":"'Within Scotland out-migration'!K45","v":5850},{"$f":"'Rest of UK net migration'!K45","v":480},{"$f":"'Rest of UK in-migration'!K45","v":3220},{"$f":"'Rest of UK out-migration'!K45","v":2740},{"$f":"'International net migration'!K45","v":-50},{"$f":"'International in-migration'!K45","v":1510},{"$f":"'International out-migration'!K45","v":1560},null,{"$f":"'Births to non-UK mothers'!K45","v":407}]
[41,"Forth Valley",null,{"$f":"'Total net migration'!K46","v":570},{"$f":"'Total net migration 0-15'!K46","v":231},{"$f":"'Total net migration 16-64'!K46","v":333},{"$f":"'Total net migration 65+'!K46","v":5},{"$f":"'Total in-migration'!K46","v":9190},{"$f":"'Total out-migration'!K46","v":8620},{"$f":"'Within Scotland net migration'!K46","v":420},{"$f":"'Within Scotland in-migration'!K46","v":6170},{"$f":"'Within Scotland out-migration'!K46","v":5750},{"$f":"'Rest of UK net migration'!K46","v":370},{"$f":"'Rest of UK in-migration'!K46","v":2030},{"$f":"'Rest of UK out-migration'!K46","v":1660},{"$f":"'International net migration'!K46","v":-220},{"$f":"'International in-migration'!K46","v":990},{"$f":"'International out-migration'!K46","v":1210},null,{"$f":"'Births to non-UK mothers'!K46","v":275}]
[42,"Grampian",null,{"$f":"'Total net migration'!K47","v":3920},{"$f":"'Total net migration 0-15'!K47","v":612},{"$f":"'Total net migration 16-64'!K47","v":3520},{"$f":"'Total net migration 65+'!K47","v":-208},{"$f":"'Total in-migration'!K47","v":19500},{"$f":"'Total out-migration'!K47","v":15580},{"$f":"'Within Scotland net migration'!K47","v":1120},{"$f":"'Within Scotland in-migration'!K47","v":8280},{"$f":"'Within Scotland out-migration'!K47","v":7170},{"$f":"'Rest of UK net migration'!K47","v":1540},{"$f":"'Rest of UK in-migration'!K47","v":6380},{"$f":"'Rest of UK out-migration'!K47","v":4840},{"$f":"'International net migration'!K47","v":1270},{"$f":"'International in-migration'!K47","v":4840},{"$f":"'International out-migration'!K47","v":3570},null,{"$f":"'Births to non-UK mothers'!K47","v":1416}]
[43,"Greater Glasgow and Clyde",null,{"$f":"'Total net migration'!K48","v":140},{"$f":"'Total net migration 0-15'!K48","v":-195},{"$f":"'Total net migration 16-64'!K48","v":705},{"$f":"'Total net migration 65+'!K48","v":-367},{"$f":"'Total in-migration'!K48","v":31620},{"$f":"'Total out-migration'!K48","v":31480},{"$f":"'Within Scotland net migration'!K48","v":-1480},{"$f":"'Within Scotland in-migration'!K48","v":15560},{"$f":"'Within Scotland out-migration'!K48","v":17040},{"$f":"'Rest of UK net migration'!K48","v":150},{"$f":"'Rest of UK in-migration'!K48","v":8300},{"$f":"'Rest of UK out-migration'!K48","v":8150},{"$f":"'International net migration'!K48","v":1480},{"$f":"'International in-migration'!K48","v":7760},{"$f":"'International out-migration'!K48","v":6280},null,{"$f":"'Births to non-UK mothers'!K48","v":2423}]
[44,"Highland",null,{"$f":"'Total net migration'!K49","v":70},{"$f":"'Total net migration 0-15'!K49","v":265},{"$f":"'Total net migration 16-64'!K49","v":-106},{"$f":"'Total net migration 65+'!K49","v":-89},{"$f":"'Total in-migration'!K49","v":10660},{"$f":"'Total out-migration'!K49","v":10590},{"$f":"'Within Scotland net migration'!K49","v":-620},{"$f":"'Within Scotland in-migration'!K49","v":5940},{"$f":"'Within Scotland out-migration'!K49","v":6560},{"$f":"'Rest of UK net migration'!K49","v":1150},{"$f":"'Rest of UK in-migration'!K49","v":3870},{"$f":"'Rest of UK out-migration'!K49","v":2720},{"$f":"'International net migration'!K49","v":-450},{"$f":"'International in-migration'!K49","v":850},{"$f":"'International out-migration'!K49","v":1310},null,{"$f":"'Births to non-UK mothers'!K49","v":386}]
[45,"Lanarkshire",null,{"$f":"'Total net migration'!K50","v":190},{"$f":"'Total net migration 0-15'!K50","v":206},{"$f":"'Total net migration 16-64'!K50","v":-103},{"$f":"'Total net migration 65+'!K50","v":91},{"$f":"'Total in-migration'!K50","v":12520},{"$f":"'Total out-migration'!K50","v":12330},{"$f":"'Within Scotland net migration'!K50","v":770},{"$f":"'Within Scotland in-migration'!K50","v":9330},{"$f":"'Within Scotland out-migration'!K50","v":8570},{"$f":"'Rest of UK net migration'!K50","v":190},{"$f":"'Rest of UK in-migration'!K50","v":2470},{"$f":"'Rest of UK out-migration'!K50","v":2280},{"$f":"'International net migration'!K50","v":-770},{"$f":"'International in-migration'!K50","v":720},{"$f":"'International out-migration'!K50","v":1480},null,{"$f":"'Births to non-UK mothers'!K50","v":492}]
[46,"Lothian",null,{"$f":"'Total net migration'!K51","v":3710},{"$f":"'Total net migration 0-15'!K51","v":113},{"$f":"'Total net migration 16-64'!K51","v":3484},{"$f":"'Total net migration 65+'!K51","v":111},{"$f":"'Total in-migration'!K51","v":31520},{"$f":"'Total out-migration'!K51","v":27810},{"$f":"'Within Scotland net migration'!K51","v":80},{"$f":"'Within Scotland in-migration'!K51","v":12320},{"$f":"'Within Scotland out-migration'!K51","v":12250},{"$f":"'Rest of UK net migration'!K51","v":1790},{"$f":"'Rest of UK in-migration'!K51","v":11100},{"$f":"'Rest of UK out-migration'!K51","v":9310},{"$f":"'International net migration'!K51","v":1840},{"$f":"'International in-migration'!K51","v":8090},{"$f":"'International out-migration'!K51","v":6250},null,{"$f":"'Births to non-UK mothers'!K51","v":2210}]
[47,"Orkney",null,{"$f":"'Total net migration'!K52","v":80},{"$f":"'Total net migration 0-15'!K52","v":35},{"$f":"'Total net migration 16-64'!K52","v":39},{"$f":"'Total net migration 65+'!K52","v":6},{"$f":"'Total in-migration'!K52","v":760},{"$f":"'Total out-migration'!K52","v":680},{"$f":"'Within Scotland net migration'!K52","v":20},{"$f":"'Within Scotland in-migration'!K52","v":430},{"$f":"'Within Scotland out-migration'!K52","v":410},{"$f":"'Rest of UK net migration'!K52","v":90},{"$f":"'Rest of UK in-migration'!K52","v":280},{"$f":"'Rest of UK out-migration'!K52","v":200},{"$f":"'International net migration'!K52","v":-30},{"$f":"'International in-migration'!K52","v":50},{"$f":"'International out-migration'!K52","v":80},null,{"$f":"'Births to non-UK mothers'!K52","v":7}]
[48,"Shetland",null,{"$f":"'Total net migration'!K53","v":-90},{"$f":"'Total net migration 0-15'!K53","v":-43},{"$f":"'Total net migration 16-64'!K53","v":-23},{"$f":"'Total net migration 65+'!K53","v":-23},{"$f":"'Total in-migration'!K53","v":650},{"$f":"'Total out-migration'!K53","v":740},{"$f":"'Within Scotland net migration'!K53","v":-90},{"$f":"'Within Scotland in-migration'!K53","v":350},{"$f":"'Within Scotland out-migration'!K53","v":440},{"$f":"'Rest of UK net migration'!K53","v":30},{"$f":"'Rest of UK in-migration'!K53","v":240},{"$f":"'Rest of UK out-migration'!K53","v":210},{"$f":"'International net migration'!K53","v":-30},{"$f":"'International in-migration'!K53","v":60},{"$f":"'International out-migration'!K53","v":90},null,{"$f":"'Births to non-UK mothers'!K53","v":22}]
[49,"Tayside",null,{"$f":"'Total net migration'!K54","v":800},{"$f":"'Total net migration 0-15'!K54","v":274},{"$f":"'Total net migration 16-64'!K54","v":440},{"$f":"'Total net migration 65+'!K54","v":85},{"$f":"'Total in-migration'!K54","v":13470},{"$f":"'Total out-migration'!K54","v":12670},{"$f":"'Within Scotland net migration'!K54","v":90},{"$f":"'Within Scotland in-migration'!K54","v":7480},{"$f":"'Within Scotland out-migration'!K54","v":7390},{"$f":"'Rest of UK net migration'!K54","v":480},{"$f":"'Rest of UK in-migration'!K54","v":3490},{"$f":"'Rest of UK out-migration'!K54","v":3010},{"$f":"'International net migration'!K54","v":220},{"$f":"'International in-migration'!K54","v":2490},{"$f":"'International out-migration'!K54","v":2270},null,{"$f":"'Births to non-UK mothers'!K54","v":582}]
[50,"Western Isles",null,{"$f":"'Total net migration'!K55","v":-20},{"$f":"'Total net migration 0-15'!K55","v":-11},{"$f":"'Total net migration 16-64'!K55","v":-20},{"$f":"'Total net migration 65+'!K55","v":12},{"$f":"'Total in-migration'!K55","v":860},{"$f":"'Total out-migration'!K55","v":880},{"$f":"'Within Scotland net migration'!K55","v":-70},{"$f":"'Within Scotland in-migration'!K55","v":500},{"$f":"'Within Scotland out-migration'!K55","v":570},{"$f":"'Rest of UK net migration'!K55","v":110},{"$f":"'Rest of UK in-migration'!K55","v":330},{"$f":"'Rest of UK out-migration'!K55","v":220},{"$f":"'International net migration'!K55","v":-60},{"$f":"'International in-migration'!K55","v":30},{"$f":"'International out-migration'!K55","v":90},null,{"$f":"'Births to non-UK mothers'!K55","v":21}]

{"sheet":"2013 Rate","index":43,"n_rows":53,"n_cols":28,"rows_kept":53,"cut":false,"hidden":true,"merged":[]}
[null,2013,"RATE"]
[null,null,"Not specified ",{"$f":"'Comparing Indicators'!$U8","v":"Total net migration"},{"$f":"'Comparing Indicators'!$U9","v":"Total net migration for ages 0-15"},{"$f":"'Comparing Indicators'!$U10","v":"Total net migration for ages 16-64"},{"$f":"'Comparing Indicators'!$U11","v":"Total net migration for people aged 65+"},{"$f":"'Comparing Indicators'!$U12","v":"Total in-migration"},{"$f":"'Comparing Indicators'!$U13","v":"Total out-migration"},{"$f":"'Comparing Indicators'!$U14","v":"Within Scotland net migration"},{"$f":"'Comparing Indicators'!$U15","v":"Within Scotland in-migration"},{"$f":"'Comparing Indicators'!$U16","v":"Within Scotland out-migration"},{"$f":"'Comparing Indicators'!$U17","v":"Rest of UK net migration"},{"$f":"'Comparing Indicators'!$U18","v":"Rest of UK in-migration"},{"$f":"'Comparing Indicators'!$U19","v":"Rest of UK out-migration"},{"$f":"'Comparing Indicators'!$U20","v":"International net migration"},{"$f":"'Comparing Indicators'!$U21","v":"International in-migration"},{"$f":"'Comparing Indicators'!$U22","v":"International out-migration"},{"$f":"'Comparing Indicators'!$U23","v":"NINo Allocation"},{"$f":"'Comparing Indicators'!$U24","v":"Births to non-UK mothers"},{"$f":"'Comparing Indicators'!$U25","v":"Pupils from a minority ethnic group"},{"$f":"'Comparing Indicators'!$U26","v":"Pupils with English as an additional language"},{"$f":"'Comparing Indicators'!$U27","v":"Population born outside the UK"},{"$f":"'Comparing Indicators'!$U28","v":"Population with non-British nationality"},{"$f":"'Comparing Indicators'!$U29","v":"Citizenships"},null,null,"Mid-year population estimate"]
[1,"Not specified"]
[2,"Scotland",null,{"$f":"('2013'!D4/'2013 Rate'!$AB4)*1000","v":1.8769825628319912},{"$f":"('2013'!E4/'2013 Rate'!$AB4)*1000","v":0.35230962704356478},{"$f":"('2013'!F4/'2013 Rate'!$AB4)*1000","v":1.5517014846932071},{"$f":"('2013'!G4/'2013 Rate'!$AB4)*1000","v":-3.4161082643542243E-2},{"$f":"('2013'!H4/'2013 Rate'!$AB4)*1000","v":14.246297651894814},{"$f":"('2013'!I4/'2013 Rate'!$AB4)*1000","v":12.369315089062821},{"$f":"'Within Scotland net migration'!K6","v":"[z]"},{"$f":"'Within Scotland in-migration'!K6","v":"[z]"},{"$f":"'Within Scotland out-migration'!K6","v":"[z]"},{"$f":"('2013'!M4/'2013 Rate'!$AB4)*1000","v":1.4828162246372731},{"$f":"('2013'!N4/'2013 Rate'!$AB4)*1000","v":8.9532068247085981},{"$f":"('2013'!O4/'2013 Rate'!$AB4)*1000","v":7.4703906000713252},{"$f":"('2013'!P4/'2013 Rate'!$AB4)*1000","v":0.39416633819471814},{"$f":"('2013'!Q4/'2013 Rate'!$AB4)*1000","v":5.2930908271862158},{"$f":"('2013'!R4/'2013 Rate'!$AB4)*1000","v":4.8989244889914971},{"$f":"('2013'!S4/'2013 Rate'!$AB4)*1000","v":7.4084501754978689},null,null,null,null,null,{"$f":"('2013'!Y4/'2013 Rate'!$AB4)*1000","v":1.0728832329147662},null,"Scotland",5327700]
[3,"Aberdeen City",null,{"$f":"('2013'!D5/'2013 Rate'!$AB5)*1000","v":7.3105209847183685},{"$f":"('2013'!E5/'2013 Rate'!$AB5)*1000","v":-1.3035627779979744},{"$f":"('2013'!F5/'2013 Rate'!$AB5)*1000","v":9.1557669441141503},{"$f":"('2013'!G5/'2013 Rate'!$AB5)*1000","v":-0.52406746818161798},{"$f":"('2013'!H5/'2013 Rate'!$AB5)*1000","v":61.831153388822827},{"$f":"('2013'!I5/'2013 Rate'!$AB5)*1000","v":54.520632404104468},{"$f":"('2013'!J5/'2013 Rate'!$AB5)*1000","v":-0.88078566080944198},{"$f":"('2013'!K5/'2013 Rate'!$AB5)*1000","v":32.677148016030301},{"$f":"('2013'!L5/'2013 Rate'!$AB5)*1000","v":33.513894393799269},{"$f":"('2013'!M5/'2013 Rate'!$AB5)*1000","v":2.4661998502664377},{"$f":"('2013'!N5/'2013 Rate'!$AB5)*1000","v":13.167745629101159},{"$f":"('2013'!O5/'2013 Rate'!$AB5)*1000","v":10.701545778834721},{"$f":"('2013'!P5/'2013 Rate'!$AB5)*1000","v":5.7251067952613734},{"$f":"('2013'!Q5/'2013 Rate'!$AB5)*1000","v":16.030299026731843},{"$f":"('2013'!R5/'2013 Rate'!$AB5)*1000","v":10.26115294843},{"$f":"('2013'!S5/'2013 Rate'!$AB5)*1000","v":21.711366538952745},null,null,null,null,null,{"$f":"('2013'!Y5/'2013 Rate'!$AB5)*1000","v":3.774166556568459},null,"Aberdeen City",227070]
[4,"Aberdeenshire",null,{"$f":"('2013'!D6/'2013 Rate'!$AB6)*1000","v":6.4398494782170159},{"$f":"('2013'!E6/'2013 Rate'!$AB6)*1000","v":2.8901734104046239},{"$f":"('2013'!F6/'2013 Rate'!$AB6)*1000","v":4.0307250649804089},{"$f":"('2013'!G6/'2013 Rate'!$AB6)*1000","v":-0.46553128758195295},{"$f":"('2013'!H6/'2013 Rate'!$AB6)*1000","v":37.048531636730424},{"$f":"('2013'!I6/'2013 Rate'!$AB6)*1000","v":30.608682158513403},{"$f":"('2013'!J6/'2013 Rate'!$AB6)*1000","v":4.5777243278892037},{"$f":"('2013'!K6/'2013 Rate'!$AB6)*1000","v":25.875780734763548},{"$f":"('2013'!L6/'2013 Rate'!$AB6)*1000","v":21.259262132909182},{"$f":"('2013'!M6/'2013 Rate'!$AB6)*1000","v":1.4353881367110215},{"$f":"('2013'!N6/'2013 Rate'!$AB6)*1000","v":7.4097063273460835},{"$f":"('2013'!O6/'2013 Rate'!$AB6)*1000","v":5.9743181906350626},{"$f":"('2013'!P6/'2013 Rate'!$AB6)*1000","v":0.46553128758195295},{"$f":"('2013'!Q6/'2013 Rate'!$AB6)*1000","v":3.8018388485859487},{"$f":"('2013'!R6/'2013 Rate'!$AB6)*1000","v":3.3363075610039958},{"$f":"('2013'!S6/'2013 Rate'!$AB6)*1000","v":6.2458781083912012},null,null,null,null,null,{"$f":"('2013'!Y6/'2013 Rate'!$AB6)*1000","v":0.85347402723358035},null,"Aberdeenshire",257770]
[5,"Angus",null,{"$f":"('2013'!D7/'2013 Rate'!$AB7)*1000","v":0.94591108435807036},{"$f":"('2013'!E7/'2013 Rate'!$AB7)*1000","v":0.57614584229082466},{"$f":"('2013'!F7/'2013 Rate'!$AB7)*1000","v":-0.30957090033536849},{"$f":"('2013'!G7/'2013 Rate'!$AB7)*1000","v":0.70513371743056152},{"$f":"('2013'!H7/'2013 Rate'!$AB7)*1000","v":33.966807120130703},{"$f":"('2013'!I7/'2013 Rate'!$AB7)*1000","v":32.934904119012813},{"$f":"('2013'!J7/'2013 Rate'!$AB7)*1000","v":1.3758706681571931},{"$f":"('2013'!K7/'2013 Rate'!$AB7)*1000","v":25.195631610628599},{"$f":"('2013'!L7/'2013 Rate'!$AB7)*1000","v":23.819760942471408},{"$f":"('2013'!M7/'2013 Rate'!$AB7)*1000","v":0.34396766703929826},{"$f":"('2013'!N7/'2013 Rate'!$AB7)*1000","v":6.3634018402270183},{"$f":"('2013'!O7/'2013 Rate'!$AB7)*1000","v":6.0194341731877197},{"$f":"('2013'!P7/'2013 Rate'!$AB7)*1000","v":-0.77392725083842118},{"$f":"('2013'!Q7/'2013 Rate'!$AB7)*1000","v":2.4077736692750884},{"$f":"('2013'!R7/'2013 Rate'!$AB7)*1000","v":3.1817009201135091},{"$f":"('2013'!S7/'2013 Rate'!$AB7)*1000","v":10.662997678218249},null,null,null,null,null,{"$f":"('2013'!Y7/'2013 Rate'!$AB7)*1000","v":0.3697652420672457},null,"Angus",116290]
[6,"Argyll and Bute",null,{"$f":"('2013'!D8/'2013 Rate'!$AB8)*1000","v":-0.22714366837024419},{"$f":"('2013'!E8/'2013 Rate'!$AB8)*1000","v":1.1243611584327087},{"$f":"('2013'!F8/'2013 Rate'!$AB8)*1000","v":-0.86314593980692789},{"$f":"('2013'!G8/'2013 Rate'!$AB8)*1000","v":-0.52243043725156157},{"$f":"('2013'!H8/'2013 Rate'!$AB8)*1000","v":44.633730834752981},{"$f":"('2013'!I8/'2013 Rate'!$AB8)*1000","v":44.860874503123227},{"$f":"('2013'!J8/'2013 Rate'!$AB8)*1000","v":-2.2714366837024418},{"$f":"('2013'!K8/'2013 Rate'!$AB8)*1000","v":26.235093696763204},{"$f":"('2013'!L8/'2013 Rate'!$AB8)*1000","v":28.506530380465644},{"$f":"('2013'!M8/'2013 Rate'!$AB8)*1000","v":4.3157296990346392},{"$f":"('2013'!N8/'2013 Rate'!$AB8)*1000","v":15.672913117546848},{"$f":"('2013'!O8/'2013 Rate'!$AB8)*1000","v":11.357183418512209},{"$f":"('2013'!P8/'2013 Rate'!$AB8)*1000","v":-2.385008517887564},{"$f":"('2013'!Q8/'2013 Rate'!$AB8)*1000","v":2.7257240204429301},{"$f":"('2013'!R8/'2013 Rate'!$AB8)*1000","v":5.1107325383304936},{"$f":"('2013'!S8/'2013 Rate'!$AB8)*1000","v":5.2243043725156166},null,null,null,null,null,{"$f":"('2013'!Y8/'2013 Rate'!$AB8)*1000","v":0.40885860306643951},null,"Argyll & Bute",88050]
[7,"City of Edinburgh",null,{"$f":"('2013'!D9/'2013 Rate'!$AB9)*1000","v":6.1543511262462562},{"$f":"('2013'!E9/'2013 Rate'!$AB9)*1000","v":-0.30976900668772822},{"$f":"('2013'!F9/'2013 Rate'!$AB9)*1000","v":6.4600172321831533},{"$f":"('2013'!G9/'2013 Rate'!$AB9)*1000","v":0},{"$f":"('2013'!H9/'2013 Rate'!$AB9)*1000","v":57.091863947811099},{"$f":"('2013'!I9/'2013 Rate'!$AB9)*1000","v":50.958027325319001},{"$f":"('2013'!J9/'2013 Rate'!$AB9)*1000","v":-1.2513847290034052},{"$f":"('2013'!K9/'2013 Rate'!$AB9)*1000","v":23.591679317277315},{"$f":"('2013'!L9/'2013 Rate'!$AB9)*1000","v":24.84306404628072},{"$f":"('2013'!M9/'2013 Rate'!$AB9)*1000","v":3.4054076231895949},{"$f":"('2013'!N9/'2013 Rate'!$AB9)*1000","v":18.627169408772001},{"$f":"('2013'!O9/'2013 Rate'!$AB9)*1000","v":15.221761785582407},{"$f":"('2013'!P9/'2013 Rate'!$AB9)*1000","v":4.0003282320600668},{"$f":"('2013'!Q9/'2013 Rate'!$AB9)*1000","v":14.873015221761786},{"$f":"('2013'!R9/'2013 Rate'!$AB9)*1000","v":10.87268698970172},{"$f":"('2013'!S9/'2013 Rate'!$AB9)*1000","v":23.304476264719156},null,null,null,null,null,{"$f":"('2013'!Y9/'2013 Rate'!$AB9)*1000","v":2.1622286956878516},null,"City of Edinburgh",487460]
[8,"Clackmannanshire",null,{"$f":"('2013'!D10/'2013 Rate'!$AB10)*1000","v":-1.1700468018720749},{"$f":"('2013'!E10/'2013 Rate'!$AB10)*1000","v":0.87753510140405622},{"$f":"('2013'!F10/'2013 Rate'!$AB10)*1000","v":-2.3205928237129485},{"$f":"('2013'!G10/'2013 Rate'!$AB10)*1000","v":0.29251170046801872},{"$f":"('2013'!H10/'2013 Rate'!$AB10)*1000","v":31.201248049921997},{"$f":"('2013'!I10/'2013 Rate'!$AB10)*1000","v":32.371294851794076},{"$f":"('2013'!J10/'2013 Rate'!$AB10)*1000","v":-1.7550702028081124},{"$f":"('2013'!K10/'2013 Rate'!$AB10)*1000","v":23.010920436817472},{"$f":"('2013'!L10/'2013 Rate'!$AB10)*1000","v":24.765990639625588},{"$f":"('2013'!M10/'2013 Rate'!$AB10)*1000","v":1.1700468018720749},{"$f":"('2013'!N10/'2013 Rate'!$AB10)*1000","v":6.8252730109204371},{"$f":"('2013'!O10/'2013 Rate'!$AB10)*1000","v":5.6552262090483625},{"$f":"('2013'!P10/'2013 Rate'!$AB10)*1000","v":-0.58502340093603744},{"$f":"('2013'!Q10/'2013 Rate'!$AB10)*1000","v":1.3650546021840875},{"$f":"('2013'!R10/'2013 Rate'!$AB10)*1000","v":2.1450858034321372},{"$f":"('2013'!S10/'2013 Rate'!$AB10)*1000","v":2.7301092043681749},null,null,null,null,null,{"$f":"('2013'!Y10/'2013 Rate'!$AB10)*1000","v":0.35101404056162244},null,"Clackmannanshire",51280]
[9,"Dumfries and Galloway",null,{"$f":"('2013'!D11/'2013 Rate'!$AB11)*1000","v":-6.6542454085706693E-2},{"$f":"('2013'!E11/'2013 Rate'!$AB11)*1000","v":5.9888208677136019E-2},{"$f":"('2013'!F11/'2013 Rate'!$AB11)*1000","v":0.1264306627628427},{"$f":"('2013'!G11/'2013 Rate'!$AB11)*1000","v":-0.22624434389140272},{"$f":"('2013'!H11/'2013 Rate'!$AB11)*1000","v":26.483896726111258},{"$f":"('2013'!I11/'2013 Rate'!$AB11)*1000","v":26.550439180196967},{"$f":"('2013'!J11/'2013 Rate'!$AB11)*1000","v":-1.2643066276284269},{"$f":"('2013'!K11/'2013 Rate'!$AB11)*1000","v":11.511844556827256},{"$f":"('2013'!L11/'2013 Rate'!$AB11)*1000","v":12.842693638541389},{"$f":"('2013'!M11/'2013 Rate'!$AB11)*1000","v":3.4602076124567476},{"$f":"('2013'!N11/'2013 Rate'!$AB11)*1000","v":13.641203087569869},{"$f":"('2013'!O11/'2013 Rate'!$AB11)*1000","v":10.114453021027416},{"$f":"('2013'!P11/'2013 Rate'!$AB11)*1000","v":-2.2624434389140275},{"$f":"('2013'!Q11/'2013 Rate'!$AB11)*1000","v":1.3308490817141336},{"$f":"('2013'!R11/'2013 Rate'!$AB11)*1000","v":3.593292520628161},{"$f":"('2013'!S11/'2013 Rate'!$AB11)*1000","v":1.8631887143997872},null,null,null,null,null,{"$f":"('2013'!Y11/'2013 Rate'!$AB11)*1000","v":0.27947830715996808},null,"Dumfries & Galloway",150280]
[10,"Dundee City",null,{"$f":"('2013'!D12/'2013 Rate'!$AB12)*1000","v":2.0931802835921678},{"$f":"('2013'!E12/'2013 Rate'!$AB12)*1000","v":-0.24983119513841998},{"$f":"('2013'!F12/'2013 Rate'!$AB12)*1000","v":2.6671168129642133},{"$f":"('2013'!G12/'2013 Rate'!$AB12)*1000","v":-0.3308575286968265},{"$f":"('2013'!H12/'2013 Rate'!$AB12)*1000","v":47.738014854827824},{"$f":"('2013'!I12/'2013 Rate'!$AB12)*1000","v":45.644834571235648},{"$f":"('2013'!J12/'2013 Rate'!$AB12)*1000","v":-1.6880486158001351},{"$f":"('2013'!K12/'2013 Rate'!$AB12)*1000","v":28.156650911546254},{"$f":"('2013'!L12/'2013 Rate'!$AB12)*1000","v":29.844699527346389},{"$f":"('2013'!M12/'2013 Rate'!$AB12)*1000","v":1.6205266711681297},{"$f":"('2013'!N12/'2013 Rate'!$AB12)*1000","v":10.330857528696827},{"$f":"('2013'!O12/'2013 Rate'!$AB12)*1000","v":8.710330857528696},{"$f":"('2013'!P12/'2013 Rate'!$AB12)*1000","v":2.1607022282241726},{"$f":"('2013'!Q12/'2013 Rate'!$AB12)*1000","v":9.2505064145847395},{"$f":"('2013'!R12/'2013 Rate'!$AB12)*1000","v":7.0898041863605679},{"$f":"('2013'!S12/'2013 Rate'!$AB12)*1000","v":8.7778528021607016},null,null,null,null,null,{"$f":"('2013'!Y12/'2013 Rate'!$AB12)*1000","v":1.2964213369345039},null,"Dundee City",148100]
[11,"East Ayrshire",null,{"$f":"('2013'!D13/'2013 Rate'!$AB13)*1000","v":-0.98015192354814995},{"$f":"('2013'!E13/'2013 Rate'!$AB13)*1000","v":-3.2671730784938333E-2},{"$f":"('2013'!F13/'2013 Rate'!$AB13)*1000","v":-1.0781671159029651},{"$f":"('2013'!G13/'2013 Rate'!$AB13)*1000","v":0.13068692313975333},{"$f":"('2013'!H13/'2013 Rate'!$AB13)*1000","v":25.402270685289551},{"$f":"('2013'!I13/'2013 Rate'!$AB13)*1000","v":26.3824226088377},{"$f":"('2013'!J13/'2013 Rate'!$AB13)*1000","v":-0.3267173078493833},{"$f":"('2013'!K13/'2013 Rate'!$AB13)*1000","v":19.358000490075963},{"$f":"('2013'!L13/'2013 Rate'!$AB13)*1000","v":19.603038470963},{"$f":"('2013'!M13/'2013 Rate'!$AB13)*1000","v":0.6534346156987666},{"$f":"('2013'!N13/'2013 Rate'!$AB13)*1000","v":5.3908355795148255},{"$f":"('2013'!O13/'2013 Rate'!$AB13)*1000","v":4.8190802907784036},{"$f":"('2013'!P13/'2013 Rate'!$AB13)*1000","v":-1.3068692313975332},{"$f":"('2013'!Q13/'2013 Rate'!$AB13)*1000","v":0.6534346156987666},{"$f":"('2013'!R13/'2013 Rate'!$AB13)*1000","v":1.9603038470962999},{"$f":"('2013'!S13/'2013 Rate'!$AB13)*1000","v":0.6534346156987666},null,null,null,null,null,{"$f":"('2013'!Y13/'2013 Rate'!$AB13)*1000","v":0.22870211549456831},null,"East Ayrshire",122430]
[12,"East Dunbartonshire",null,{"$f":"('2013'!D14/'2013 Rate'!$AB14)*1000","v":0.85034013605442171},{"$f":"('2013'!E14/'2013 Rate'!$AB14)*1000","v":2.371504157218443},{"$f":"('2013'!F14/'2013 Rate'!$AB14)*1000","v":-1.6723356009070294},{"$f":"('2013'!G14/'2013 Rate'!$AB14)*1000","v":0.17006802721088435},{"$f":"('2013'!H14/'2013 Rate'!$AB14)*1000","v":33.163265306122454},{"$f":"('2013'!I14/'2013 Rate'!$AB14)*1000","v":32.312925170068027},{"$f":"('2013'!J14/'2013 Rate'!$AB14)*1000","v":2.7399848828420255},{"$f":"('2013'!K14/'2013 Rate'!$AB14)*1000","v":28.1557067271353},{"$f":"('2013'!L14/'2013 Rate'!$AB14)*1000","v":25.510204081632654},{"$f":"('2013'!M14/'2013 Rate'!$AB14)*1000","v":-0.66137566137566139},{"$f":"('2013'!N14/'2013 Rate'!$AB14)*1000","v":4.2517006802721093},{"$f":"('2013'!O14/'2013 Rate'!$AB14)*1000","v":4.9130763416477707},{"$f":"('2013'!P14/'2013 Rate'!$AB14)*1000","v":-1.1337868480725624},{"$f":"('2013'!Q14/'2013 Rate'!$AB14)*1000","v":0.75585789871504161},{"$f":"('2013'!R14/'2013 Rate'!$AB14)*1000","v":1.8896447467876041},{"$f":"('2013'!S14/'2013 Rate'!$AB14)*1000","v":0.85034013605442171},null,null,null,null,null,{"$f":"('2013'!Y14/'2013 Rate'!$AB14)*1000","v":0.6991685563114135},null,"East Dunbartonshire",105840]
[13,"East Lothian",null,{"$f":"('2013'!D15/'2013 Rate'!$AB15)*1000","v":5.1287109182365125},{"$f":"('2013'!E15/'2013 Rate'!$AB15)*1000","v":1.518887464246967},{"$f":"('2013'!F15/'2013 Rate'!$AB15)*1000","v":3.0870894565539011},{"$f":"('2013'!G15/'2013 Rate'!$AB15)*1000","v":0.53259690304763785},{"$f":"('2013'!H15/'2013 Rate'!$AB15)*1000","v":37.281783213334649},{"$f":"('2013'!I15/'2013 Rate'!$AB15)*1000","v":32.054443238978202},{"$f":"('2013'!J15/'2013 Rate'!$AB15)*1000","v":4.9314528059966465},{"$f":"('2013'!K15/'2013 Rate'!$AB15)*1000","v":27.813393825821088},{"$f":"('2013'!L15/'2013 Rate'!$AB15)*1000","v":22.881941019824438},{"$f":"('2013'!M15/'2013 Rate'!$AB15)*1000","v":0.78903244895946345},{"$f":"('2013'!N15/'2013 Rate'!$AB15)*1000","v":6.9040339283953056},{"$f":"('2013'!O15/'2013 Rate'!$AB15)*1000","v":6.2136305355557742},{"$f":"('2013'!P15/'2013 Rate'!$AB15)*1000","v":-0.49314528059966467},{"$f":"('2013'!Q15/'2013 Rate'!$AB15)*1000","v":2.4657264029983232},{"$f":"('2013'!R15/'2013 Rate'!$AB15)*1000","v":2.9588716835979882},{"$f":"('2013'!S15/'2013 Rate'!$AB15)*1000","v":3.6492750764375188},null,null,null,null,null,{"$f":"('2013'!Y15/'2013 Rate'!$AB15)*1000","v":0.48328237498767135},null,"East Lothian",101390]
[14,"East Renfrewshire",null,{"$f":"('2013'!D16/'2013 Rate'!$AB16)*1000","v":5.8997050147492622},{"$f":"('2013'!E16/'2013 Rate'!$AB16)*1000","v":6.3804217196547581},{"$f":"('2013'!F16/'2013 Rate'!$AB16)*1000","v":-0.26220911176663386},{"$f":"('2013'!G16/'2013 Rate'!$AB16)*1000","v":-0.22943297279580466},{"$f":"('2013'!H16/'2013 Rate'!$AB16)*1000","v":40.096143340981101},{"$f":"('2013'!I16/'2013 Rate'!$AB16)*1000","v":34.196438326231835},{"$f":"('2013'!J16/'2013 Rate'!$AB16)*1000","v":7.6477657598601549},{"$f":"('2013'!K16/'2013 Rate'!$AB16)*1000","v":34.524199715940135},{"$f":"('2013'!L16/'2013 Rate'!$AB16)*1000","v":26.876433956079975},{"$f":"('2013'!M16/'2013 Rate'!$AB16)*1000","v":-0.54626898284715397},{"$f":"('2013'!N16/'2013 Rate'!$AB16)*1000","v":4.5886594559160931},{"$f":"('2013'!O16/'2013 Rate'!$AB16)*1000","v":5.1349284387632466},{"$f":"('2013'!P16/'2013 Rate'!$AB16)*1000","v":-1.2017917622637386},{"$f":"('2013'!Q16/'2013 Rate'!$AB16)*1000","v":0.98328416912487715},{"$f":"('2013'!R16/'2013 Rate'!$AB16)*1000","v":2.1850759313886159},{"$f":"('2013'!S16/'2013 Rate'!$AB16)*1000","v":1.0925379656943079},null,null,null,null,null,{"$f":"('2013'!Y16/'2013 Rate'!$AB16)*1000","v":0.89588113186933249},null,"East Renfrewshire",91530]
[15,"Falkirk",null,{"$f":"('2013'!D17/'2013 Rate'!$AB17)*1000","v":2.4179180453041487},{"$f":"('2013'!E17/'2013 Rate'!$AB17)*1000","v":0.44540595571392211},{"$f":"('2013'!F17/'2013 Rate'!$AB17)*1000","v":1.4380249427335199},{"$f":"('2013'!G17/'2013 Rate'!$AB17)*1000","v":0.50267243573428355},{"$f":"('2013'!H17/'2013 Rate'!$AB17)*1000","v":25.960804275897175},{"$f":"('2013'!I17/'2013 Rate'!$AB17)*1000","v":23.542886230593027},{"$f":"('2013'!J17/'2013 Rate'!$AB17)*1000","v":2.5451768897938409},{"$f":"('2013'!K17/'2013 Rate'!$AB17)*1000","v":20.170526851616188},{"$f":"('2013'!L17/'2013 Rate'!$AB17)*1000","v":17.625349961822344},{"$f":"('2013'!M17/'2013 Rate'!$AB17)*1000","v":0.69992364469330615},{"$f":"('2013'!N17/'2013 Rate'!$AB17)*1000","v":4.2631712904046832},{"$f":"('2013'!O17/'2013 Rate'!$AB17)*1000","v":3.5632476457113769},{"$f":"('2013'!P17/'2013 Rate'!$AB17)*1000","v":-0.82718248918299819},{"$f":"('2013'!Q17/'2013 Rate'!$AB17)*1000","v":1.5271061338763043},{"$f":"('2013'!R17/'2013 Rate'!$AB17)*1000","v":2.2906592008144568},{"$f":"('2013'!S17/'2013 Rate'!$AB17)*1000","v":2.4179180453041487},null,null,null,null,null,{"$f":"('2013'!Y17/'2013 Rate'!$AB17)*1000","v":0.4835836090608297},null,"Falkirk",157160]
[16,"Fife",null,{"$f":"('2013'!D18/'2013 Rate'!$AB18)*1000","v":0.81766148814390849},{"$f":"('2013'!E18/'2013 Rate'!$AB18)*1000","v":0.46061597165440171},{"$f":"('2013'!F18/'2013 Rate'!$AB18)*1000","v":0.32979013355137637},{"$f":"('2013'!G18/'2013 Rate'!$AB18)*1000","v":3.8157536113382393E-2},{"$f":"('2013'!H18/'2013 Rate'!$AB18)*1000","v":28.509130553284272},{"$f":"('2013'!I18/'2013 Rate'!$AB18)*1000","v":27.691469065140364},{"$f":"('2013'!J18/'2013 Rate'!$AB18)*1000","v":-0.32706459525756337},{"$f":"('2013'!K18/'2013 Rate'!$AB18)*1000","v":15.617334423548652},{"$f":"('2013'!L18/'2013 Rate'!$AB18)*1000","v":15.944399018806214},{"$f":"('2013'!M18/'2013 Rate'!$AB18)*1000","v":1.3082583810302535},{"$f":"('2013'!N18/'2013 Rate'!$AB18)*1000","v":8.77623330607795},{"$f":"('2013'!O18/'2013 Rate'!$AB18)*1000","v":7.467974925047697},{"$f":"('2013'!P18/'2013 Rate'!$AB18)*1000","v":-0.1362769146906514},{"$f":"('2013'!Q18/'2013 Rate'!$AB18)*1000","v":4.1155628236576725},{"$f":"('2013'!R18/'2013 Rate'!$AB18)*1000","v":4.2518397383483242},{"$f":"('2013'!S18/'2013 Rate'!$AB18)*1000","v":5.3693104388116657},null,null,null,null,null,{"$f":"('2013'!Y18/'2013 Rate'!$AB18)*1000","v":0.482420278004906},null,"Fife",366900]
[17,"Glasgow City",null,{"$f":"('2013'!D19/'2013 Rate'!$AB19)*1000","v":0.73761147991685105},{"$f":"('2013'!E19/'2013 Rate'!$AB19)*1000","v":-1.5473077180983035},{"$f":"('2013'!F19/'2013 Rate'!$AB19)*1000","v":2.8146583517736206},{"$f":"('2013'!G19/'2013 Rate'!$AB19)*1000","v":-0.53141554348554954},{"$f":"('2013'!H19/'2013 Rate'!$AB19)*1000","v":46.955676255615906},{"$f":"('2013'!I19/'2013 Rate'!$AB19)*1000","v":46.218064775699055},{"$f":"('2013'!J19/'2013 Rate'!$AB19)*1000","v":-3.0175015087507542},{"$f":"('2013'!K19/'2013 Rate'!$AB19)*1000","v":25.145845906256284},{"$f":"('2013'!L19/'2013 Rate'!$AB19)*1000","v":28.163347415007042},{"$f":"('2013'!M19/'2013 Rate'!$AB19)*1000","v":0.30175015087507545},{"$f":"('2013'!N19/'2013 Rate'!$AB19)*1000","v":9.9242271843358143},{"$f":"('2013'!O19/'2013 Rate'!$AB19)*1000","v":9.6392409307315781},{"$f":"('2013'!P19/'2013 Rate'!$AB19)*1000","v":3.4701267350633676},{"$f":"('2013'!Q19/'2013 Rate'!$AB19)*1000","v":11.885603165023806},{"$f":"('2013'!R19/'2013 Rate'!$AB19)*1000","v":8.415476429960437},{"$f":"('2013'!S19/'2013 Rate'!$AB19)*1000","v":11.432977938711192},null,null,null,null,null,{"$f":"('2013'!Y19/'2013 Rate'!$AB19)*1000","v":2.5447596057131361},null,"Glasgow City",596520]
[18,"Highland",null,{"$f":"('2013'!D20/'2013 Rate'!$AB20)*1000","v":0.38638217490233118},{"$f":"('2013'!E20/'2013 Rate'!$AB20)*1000","v":0.71266045593096639},{"$f":"('2013'!F20/'2013 Rate'!$AB20)*1000","v":-0.12879405830077706},{"$f":"('2013'!G20/'2013 Rate'!$AB20)*1000","v":-0.18460481689778047},{"$f":"('2013'!H20/'2013 Rate'!$AB20)*1000","v":30.395397758983385},{"$f":"('2013'!I20/'2013 Rate'!$AB20)*1000","v":30.009015584081055},{"$f":"('2013'!J20/'2013 Rate'!$AB20)*1000","v":-1.8460481689778045},{"$f":"('2013'!K20/'2013 Rate'!$AB20)*1000","v":17.043747048469498},{"$f":"('2013'!L20/'2013 Rate'!$AB20)*1000","v":18.889795217447301},{"$f":"('2013'!M20/'2013 Rate'!$AB20)*1000","v":3.2627828102863519},{"$f":"('2013'!N20/'2013 Rate'!$AB20)*1000","v":10.689906838964497},{"$f":"('2013'!O20/'2013 Rate'!$AB20)*1000","v":7.3841926759112182},{"$f":"('2013'!P20/'2013 Rate'!$AB20)*1000","v":-1.0303524664062165},{"$f":"('2013'!Q20/'2013 Rate'!$AB20)*1000","v":2.6617438715493922},{"$f":"('2013'!R20/'2013 Rate'!$AB20)*1000","v":3.6920963379556091},{"$f":"('2013'!S20/'2013 Rate'!$AB20)*1000","v":5.5381445069334134},null,null,null,null,null,{"$f":"('2013'!Y20/'2013 Rate'!$AB20)*1000","v":0.78564375563474009},null,"Highland",232930]
[19,"Inverclyde",null,{"$f":"('2013'!D21/'2013 Rate'!$AB21)*1000","v":-1.9915359721184964},{"$f":"('2013'!E21/'2013 Rate'!$AB21)*1000","v":0.44809559372666169},{"$f":"('2013'!F21/'2013 Rate'!$AB21)*1000","v":-2.4271844660194173},{"$f":"('2013'!G21/'2013 Rate'!$AB21)*1000","v":-1.2447099825740602E-2},{"$f":"('2013'!H21/'2013 Rate'!$AB21)*1000","v":17.425939756036843},{"$f":"('2013'!I21/'2013 Rate'!$AB21)*1000","v":19.417475728155338},{"$f":"('2013'!J21/'2013 Rate'!$AB21)*1000","v":-1.8670649738610905},{"$f":"('2013'!K21/'2013 Rate'!$AB21)*1000","v":12.19815782922579},{"$f":"('2013'!L21/'2013 Rate'!$AB21)*1000","v":14.189693801344287},{"$f":"('2013'!M21/'2013 Rate'!$AB21)*1000","v":0.62235499128703009},{"$f":"('2013'!N21/'2013 Rate'!$AB21)*1000","v":4.3564849390092109},{"$f":"('2013'!O21/'2013 Rate'!$AB21)*1000","v":3.734129947722181},{"$f":"('2013'!P21/'2013 Rate'!$AB21)*1000","v":-0.74682598954443624},{"$f":"('2013'!Q21/'2013 Rate'!$AB21)*1000","v":0.87129698780184217},{"$f":"('2013'!R21/'2013 Rate'!$AB21)*1000","v":1.6181229773462784},{"$f":"('2013'!S21/'2013 Rate'!$AB21)*1000","v":0.99576798605924821},null,null,null,null,null,{"$f":"('2013'!Y21/'2013 Rate'!$AB21)*1000","v":0.38586009459795867},null,"Inverclyde",80340]
[20,"Midlothian",null,{"$f":"('2013'!D22/'2013 Rate'!$AB22)*1000","v":6.8468893873214496},{"$f":"('2013'!E22/'2013 Rate'!$AB22)*1000","v":1.7353323102349192},{"$f":"('2013'!F22/'2013 Rate'!$AB22)*1000","v":5.2296068941093141},{"$f":"('2013'!G22/'2013 Rate'!$AB22)*1000","v":-0.16526974383189708},{"$f":"('2013'!H22/'2013 Rate'!$AB22)*1000","v":35.296895289812298},{"$f":"('2013'!I22/'2013 Rate'!$AB22)*1000","v":28.450005902490851},{"$f":"('2013'!J22/'2013 Rate'!$AB22)*1000","v":6.7288395702986659},{"$f":"('2013'!K22/'2013 Rate'!$AB22)*1000","v":29.040254987604769},{"$f":"('2013'!L22/'2013 Rate'!$AB22)*1000","v":22.429465234328884},{"$f":"('2013'!M22/'2013 Rate'!$AB22)*1000","v":0.70829890213670166},{"$f":"('2013'!N22/'2013 Rate'!$AB22)*1000","v":5.1941919490024793},{"$f":"('2013'!O22/'2013 Rate'!$AB22)*1000","v":4.4858930468657769},{"$f":"('2013'!P22/'2013 Rate'!$AB22)*1000","v":-0.59024908511391805},{"$f":"('2013'!Q22/'2013 Rate'!$AB22)*1000","v":1.0624483532050526},{"$f":"('2013'!R22/'2013 Rate'!$AB22)*1000","v":1.5346476212961868},{"$f":"('2013'!S22/'2013 Rate'!$AB22)*1000","v":2.1248967064101052},null,null,null,null,null,{"$f":"('2013'!Y22/'2013 Rate'!$AB22)*1000","v":0.70829890213670166},null,"Midlothian",84710]
[21,"Moray",null,{"$f":"('2013'!D23/'2013 Rate'!$AB23)*1000","v":6.3586265366680799},{"$f":"('2013'!E23/'2013 Rate'!$AB23)*1000","v":1.7274268757948283},{"$f":"('2013'!F23/'2013 Rate'!$AB23)*1000","v":4.2602797795676128},{"$f":"('2013'!G23/'2013 Rate'!$AB23)*1000","v":0.3285290377278508},{"$f":"('2013'!H23/'2013 Rate'!$AB23)*1000","v":37.409919457397201},{"$f":"('2013'!I23/'2013 Rate'!$AB23)*1000","v":31.051292920729122},{"$f":"('2013'!J23/'2013 Rate'!$AB23)*1000","v":1.377702416278084},{"$f":"('2013'!K23/'2013 Rate'!$AB23)*1000","v":19.287833827893174},{"$f":"('2013'!L23/'2013 Rate'!$AB23)*1000","v":17.91013141161509},{"$f":"('2013'!M23/'2013 Rate'!$AB23)*1000","v":6.5705807545570156},{"$f":"('2013'!N23/'2013 Rate'!$AB23)*1000","v":15.684612123781264},{"$f":"('2013'!O23/'2013 Rate'!$AB23)*1000","v":9.2200084781687153},{"$f":"('2013'!P23/'2013 Rate'!$AB23)*1000","v":-1.58965663416702},{"$f":"('2013'!Q23/'2013 Rate'!$AB23)*1000","v":2.4374735057227639},{"$f":"('2013'!R23/'2013 Rate'!$AB23)*1000","v":3.921153030945316},{"$f":"('2013'!S23/'2013 Rate'!$AB23)*1000","v":3.3912674862229757},null,null,null,null,null,{"$f":"('2013'!Y23/'2013 Rate'!$AB23)*1000","v":0.37091988130563802},null,"Moray",94360]
[22,"Na h-Eileanan Siar",null,{"$f":"('2013'!D24/'2013 Rate'!$AB24)*1000","v":-0.72992700729927007},{"$f":"('2013'!E24/'2013 Rate'!$AB24)*1000","v":-0.40145985401459849},{"$f":"('2013'!F24/'2013 Rate'!$AB24)*1000","v":-0.72992700729927007},{"$f":"('2013'!G24/'2013 Rate'!$AB24)*1000","v":0.43795620437956201},{"$f":"('2013'!H24/'2013 Rate'!$AB24)*1000","v":31.386861313868614},{"$f":"('2013'!I24/'2013 Rate'!$AB24)*1000","v":32.116788321167881},{"$f":"('2013'!J24/'2013 Rate'!$AB24)*1000","v":-2.5547445255474455},{"$f":"('2013'!K24/'2013 Rate'!$AB24)*1000","v":18.248175182481749},{"$f":"('2013'!L24/'2013 Rate'!$AB24)*1000","v":20.802919708029197},{"$f":"('2013'!M24/'2013 Rate'!$AB24)*1000","v":4.0145985401459852},{"$f":"('2013'!N24/'2013 Rate'!$AB24)*1000","v":12.043795620437956},{"$f":"('2013'!O24/'2013 Rate'!$AB24)*1000","v":8.0291970802919703},{"$f":"('2013'!P24/'2013 Rate'!$AB24)*1000","v":-2.1897810218978102},{"$f":"('2013'!Q24/'2013 Rate'!$AB24)*1000","v":1.0948905109489051},{"$f":"('2013'!R24/'2013 Rate'!$AB24)*1000","v":3.2846715328467155},{"$f":"('2013'!S24/'2013 Rate'!$AB24)*1000","v":1.0948905109489051},null,null,null,null,null,{"$f":"('2013'!Y24/'2013 Rate'!$AB24)*1000","v":0.6934306569343065},null,"Na h-Eileanan Siar",27400]
[23,"North Ayrshire",null,{"$f":"('2013'!D25/'2013 Rate'!$AB25)*1000","v":-2.2637651526215858},{"$f":"('2013'!E25/'2013 Rate'!$AB25)*1000","v":-9.4932087045421359E-2},{"$f":"('2013'!F25/'2013 Rate'!$AB25)*1000","v":-2.4317219220096393},{"$f":"('2013'!G25/'2013 Rate'!$AB25)*1000","v":0.27749379290200088},{"$f":"('2013'!H25/'2013 Rate'!$AB25)*1000","v":25.558638819921132},{"$f":"('2013'!I25/'2013 Rate'!$AB25)*1000","v":27.749379290200086},{"$f":"('2013'!J25/'2013 Rate'!$AB25)*1000","v":-1.4604936468526362},{"$f":"('2013'!K25/'2013 Rate'!$AB25)*1000","v":18.767343362056376},{"$f":"('2013'!L25/'2013 Rate'!$AB25)*1000","v":20.22783700890901},{"$f":"('2013'!M25/'2013 Rate'!$AB25)*1000","v":0.94932087045421354},{"$f":"('2013'!N25/'2013 Rate'!$AB25)*1000","v":5.9149992697531761},{"$f":"('2013'!O25/'2013 Rate'!$AB25)*1000","v":5.0387030816415947},{"$f":"('2013'!P25/'2013 Rate'!$AB25)*1000","v":-1.7525923762231634},{"$f":"('2013'!Q25/'2013 Rate'!$AB25)*1000","v":0.8032715057689499},{"$f":"('2013'!R25/'2013 Rate'!$AB25)*1000","v":2.5558638819921131},{"$f":"('2013'!S25/'2013 Rate'!$AB25)*1000","v":0.94932087045421354},null,null,null,null,null,{"$f":"('2013'!Y25/'2013 Rate'!$AB25)*1000","v":0.2263765152621586},null,"North Ayrshire",136940]
[24,"North Lanarkshire",null,{"$f":"('2013'!D26/'2013 Rate'!$AB26)*1000","v":-1.1545976671206111},{"$f":"('2013'!E26/'2013 Rate'!$AB26)*1000","v":0.32269524542601691},{"$f":"('2013'!F26/'2013 Rate'!$AB26)*1000","v":-1.2049262833797147},{"$f":"('2013'!G26/'2013 Rate'!$AB26)*1000","v":-0.25756409497305938},{"$f":"('2013'!H26/'2013 Rate'!$AB26)*1000","v":19.657765409438095},{"$f":"('2013'!I26/'2013 Rate'!$AB26)*1000","v":20.812363076558707},{"$f":"('2013'!J26/'2013 Rate'!$AB26)*1000","v":-0.53289123097874358},{"$f":"('2013'!K26/'2013 Rate'!$AB26)*1000","v":15.128189946118775},{"$f":"('2013'!L26/'2013 Rate'!$AB26)*1000","v":15.661081177097518},{"$f":"('2013'!M26/'2013 Rate'!$AB26)*1000","v":0.41447095742791162},{"$f":"('2013'!N26/'2013 Rate'!$AB26)*1000","v":3.315767659423293},{"$f":"('2013'!O26/'2013 Rate'!$AB26)*1000","v":2.9012967019953817},{"$f":"('2013'!P26/'2013 Rate'!$AB26)*1000","v":-1.0065723251820713},{"$f":"('2013'!Q26/'2013 Rate'!$AB26)*1000","v":1.2138078038960269},{"$f":"('2013'!R26/'2013 Rate'!$AB26)*1000","v":2.220380129078098},{"$f":"('2013'!S26/'2013 Rate'!$AB26)*1000","v":1.7466990348747706},null,null,null,null,null,{"$f":"('2013'!Y26/'2013 Rate'!$AB26)*1000","v":0.41447095742791162},null,"North Lanarkshire",337780]
[25,"Orkney Islands",null,{"$f":"('2013'!D27/'2013 Rate'!$AB27)*1000","v":3.7105751391465676},{"$f":"('2013'!E27/'2013 Rate'!$AB27)*1000","v":1.6233766233766236},{"$f":"('2013'!F27/'2013 Rate'!$AB27)*1000","v":1.8089053803339519},{"$f":"('2013'!G27/'2013 Rate'!$AB27)*1000","v":0.2782931354359926},{"$f":"('2013'!H27/'2013 Rate'!$AB27)*1000","v":35.250463821892389},{"$f":"('2013'!I27/'2013 Rate'!$AB27)*1000","v":31.539888682745826},{"$f":"('2013'!J27/'2013 Rate'!$AB27)*1000","v":0.92764378478664189},{"$f":"('2013'!K27/'2013 Rate'!$AB27)*1000","v":19.944341372912803},{"$f":"('2013'!L27/'2013 Rate'!$AB27)*1000","v":19.016697588126156},{"$f":"('2013'!M27/'2013 Rate'!$AB27)*1000","v":4.1743970315398888},{"$f":"('2013'!N27/'2013 Rate'!$AB27)*1000","v":12.987012987012989},{"$f":"('2013'!O27/'2013 Rate'!$AB27)*1000","v":9.2764378478664202},{"$f":"('2013'!P27/'2013 Rate'!$AB27)*1000","v":-1.3914656771799629},{"$f":"('2013'!Q27/'2013 Rate'!$AB27)*1000","v":2.3191094619666051},{"$f":"('2013'!R27/'2013 Rate'!$AB27)*1000","v":3.7105751391465676},{"$f":"('2013'!S27/'2013 Rate'!$AB27)*1000","v":3.2467532467532472},null,null,null,null,null,{"$f":"('2013'!Y27/'2013 Rate'!$AB27)*1000","v":0.32467532467532467},null,"Orkney Islands",21560]
[26,"Perth and Kinross",null,{"$f":"('2013'!D28/'2013 Rate'!$AB28)*1000","v":2.5715639168978814},{"$f":"('2013'!E28/'2013 Rate'!$AB28)*1000","v":1.6512147255870608},{"$f":"('2013'!F28/'2013 Rate'!$AB28)*1000","v":0.54814915070718007},{"$f":"('2013'!G28/'2013 Rate'!$AB28)*1000","v":0.35189822020707856},{"$f":"('2013'!H28/'2013 Rate'!$AB28)*1000","v":40.468295323814033},{"$f":"('2013'!I28/'2013 Rate'!$AB28)*1000","v":37.896731406916153},{"$f":"('2013'!J28/'2013 Rate'!$AB28)*1000","v":1.2181092237937334},{"$f":"('2013'!K28/'2013 Rate'!$AB28)*1000","v":26.392366515530892},{"$f":"('2013'!L28/'2013 Rate'!$AB28)*1000","v":25.241930026392367},{"$f":"('2013'!M28/'2013 Rate'!$AB28)*1000","v":1.4211274277593557},{"$f":"('2013'!N28/'2013 Rate'!$AB28)*1000","v":8.3237463625905139},{"$f":"('2013'!O28/'2013 Rate'!$AB28)*1000","v":6.902618934831156},{"$f":"('2013'!P28/'2013 Rate'!$AB28)*1000","v":-6.7672734655207428E-2},{"$f":"('2013'!Q28/'2013 Rate'!$AB28)*1000","v":5.684509711037423},{"$f":"('2013'!R28/'2013 Rate'!$AB28)*1000","v":5.7521824456926298},{"$f":"('2013'!S28/'2013 Rate'!$AB28)*1000","v":15.903092643973743},null,null,null,null,null,{"$f":"('2013'!Y28/'2013 Rate'!$AB28)*1000","v":0.58198551803478382},null,"Perth & Kinross",147770]
[27,"Renfrewshire",null,{"$f":"('2013'!D29/'2013 Rate'!$AB29)*1000","v":-1.9552590718270171},{"$f":"('2013'!E29/'2013 Rate'!$AB29)*1000","v":-0.14376904939904536},{"$f":"('2013'!F29/'2013 Rate'!$AB29)*1000","v":-1.8459945942837426},{"$f":"('2013'!G29/'2013 Rate'!$AB29)*1000","v":1.7252285927885445E-2},{"$f":"('2013'!H29/'2013 Rate'!$AB29)*1000","v":25.360860313991601},{"$f":"('2013'!I29/'2013 Rate'!$AB29)*1000","v":27.31611938581862},{"$f":"('2013'!J29/'2013 Rate'!$AB29)*1000","v":-0.80510667663465407},{"$f":"('2013'!K29/'2013 Rate'!$AB29)*1000","v":19.150037379952845},{"$f":"('2013'!L29/'2013 Rate'!$AB29)*1000","v":19.955144056587496},{"$f":"('2013'!M29/'2013 Rate'!$AB29)*1000","v":5.7507619759618149E-2},{"$f":"('2013'!N29/'2013 Rate'!$AB29)*1000","v":4.3130714819713614},{"$f":"('2013'!O29/'2013 Rate'!$AB29)*1000","v":4.2555638622117433},{"$f":"('2013'!P29/'2013 Rate'!$AB29)*1000","v":-1.2076600149519812},{"$f":"('2013'!Q29/'2013 Rate'!$AB29)*1000","v":1.897751452067399},{"$f":"('2013'!R29/'2013 Rate'!$AB29)*1000","v":3.1054114670193798},{"$f":"('2013'!S29/'2013 Rate'!$AB29)*1000","v":2.9328886077405256},null,null,null,null,null,{"$f":"('2013'!Y29/'2013 Rate'!$AB29)*1000","v":0.73609753292311231},null,"Renfrewshire",173890]
[28,"Scottish Borders",null,{"$f":"('2013'!D30/'2013 Rate'!$AB30)*1000","v":2.7221636810677907},{"$f":"('2013'!E30/'2013 Rate'!$AB30)*1000","v":0.88689848963821571},{"$f":"('2013'!F30/'2013 Rate'!$AB30)*1000","v":1.5367053038285916},{"$f":"('2013'!G30/'2013 Rate'!$AB30)*1000","v":0.28099754127151388},{"$f":"('2013'!H30/'2013 Rate'!$AB30)*1000","v":34.861257463997191},{"$f":"('2013'!I30/'2013 Rate'!$AB30)*1000","v":32.22690551457675},{"$f":"('2013'!J30/'2013 Rate'!$AB30)*1000","v":-8.7811731647348082E-2},{"$f":"('2013'!K30/'2013 Rate'!$AB30)*1000","v":18.879522304179837},{"$f":"('2013'!L30/'2013 Rate'!$AB30)*1000","v":18.967334035827186},{"$f":"('2013'!M30/'2013 Rate'!$AB30)*1000","v":4.3027748507200565},{"$f":"('2013'!N30/'2013 Rate'!$AB30)*1000","v":13.786441868633649},{"$f":"('2013'!O30/'2013 Rate'!$AB30)*1000","v":9.4836670179135929},{"$f":"('2013'!P30/'2013 Rate'!$AB30)*1000","v":-1.4927994380049174},{"$f":"('2013'!Q30/'2013 Rate'!$AB30)*1000","v":2.1952932911837024},{"$f":"('2013'!R30/'2013 Rate'!$AB30)*1000","v":3.6880927291886199},{"$f":"('2013'!S30/'2013 Rate'!$AB30)*1000","v":2.9855988760098349},null,null,null,null,null,{"$f":"('2013'!Y30/'2013 Rate'!$AB30)*1000","v":0.44783983140147521},null,"Scottish Borders",113880]
[29,"Shetland Islands",null,{"$f":"('2013'!D31/'2013 Rate'!$AB31)*1000","v":-3.8793103448275863},{"$f":"('2013'!E31/'2013 Rate'!$AB31)*1000","v":-1.853448275862069},{"$f":"('2013'!F31/'2013 Rate'!$AB31)*1000","v":-0.99137931034482762},{"$f":"('2013'!G31/'2013 Rate'!$AB31)*1000","v":-0.99137931034482762},{"$f":"('2013'!H31/'2013 Rate'!$AB31)*1000","v":28.017241379310345},{"$f":"('2013'!I31/'2013 Rate'!$AB31)*1000","v":31.896551724137932},{"$f":"('2013'!J31/'2013 Rate'!$AB31)*1000","v":-3.8793103448275863},{"$f":"('2013'!K31/'2013 Rate'!$AB31)*1000","v":15.086206896551724},{"$f":"('2013'!L31/'2013 Rate'!$AB31)*1000","v":18.96551724137931},{"$f":"('2013'!M31/'2013 Rate'!$AB31)*1000","v":1.2931034482758621},{"$f":"('2013'!N31/'2013 Rate'!$AB31)*1000","v":10.344827586206897},{"$f":"('2013'!O31/'2013 Rate'!$AB31)*1000","v":9.0517241379310356},{"$f":"('2013'!P31/'2013 Rate'!$AB31)*1000","v":-1.2931034482758621},{"$f":"('2013'!Q31/'2013 Rate'!$AB31)*1000","v":2.5862068965517242},{"$f":"('2013'!R31/'2013 Rate'!$AB31)*1000","v":3.8793103448275863},{"$f":"('2013'!S31/'2013 Rate'!$AB31)*1000","v":8.1896551724137936},null,null,null,null,null,{"$f":"('2013'!Y31/'2013 Rate'!$AB31)*1000","v":0.77586206896551724},null,"Shetland Islands",23200]
[30,"South Ayrshire",null,{"$f":"('2013'!D32/'2013 Rate'!$AB32)*1000","v":3.6324975635687076},{"$f":"('2013'!E32/'2013 Rate'!$AB32)*1000","v":1.1340480198458405},{"$f":"('2013'!F32/'2013 Rate'!$AB32)*1000","v":1.3112430229467529},{"$f":"('2013'!G32/'2013 Rate'!$AB32)*1000","v":1.1429077700008861},{"$f":"('2013'!H32/'2013 Rate'!$AB32)*1000","v":33.046868078320188},{"$f":"('2013'!I32/'2013 Rate'!$AB32)*1000","v":29.414370514751482},{"$f":"('2013'!J32/'2013 Rate'!$AB32)*1000","v":2.9237175511650575},{"$f":"('2013'!K32/'2013 Rate'!$AB32)*1000","v":23.744130415522282},{"$f":"('2013'!L32/'2013 Rate'!$AB32)*1000","v":20.820412864357223},{"$f":"('2013'!M32/'2013 Rate'!$AB32)*1000","v":2.3921325418623192},{"$f":"('2013'!N32/'2013 Rate'!$AB32)*1000","v":7.796580136440153},{"$f":"('2013'!O32/'2013 Rate'!$AB32)*1000","v":5.4044475945778325},{"$f":"('2013'!P32/'2013 Rate'!$AB32)*1000","v":-1.6833525294586693},{"$f":"('2013'!Q32/'2013 Rate'!$AB32)*1000","v":1.5061575263577569},{"$f":"('2013'!R32/'2013 Rate'!$AB32)*1000","v":3.189510055816426},{"$f":"('2013'!S32/'2013 Rate'!$AB32)*1000","v":1.9491450341100383},null,null,null,null,null,{"$f":"('2013'!Y32/'2013 Rate'!$AB32)*1000","v":0.35439000620182515},null,"South Ayrshire",112870]
[31,"South Lanarkshire",null,{"$f":"('2013'!D33/'2013 Rate'!$AB33)*1000","v":1.8423811187700518},{"$f":"('2013'!E33/'2013 Rate'!$AB33)*1000","v":0.30812235951843969},{"$f":"('2013'!F33/'2013 Rate'!$AB33)*1000","v":0.96566182776913068},{"$f":"('2013'!G33/'2013 Rate'!$AB33)*1000","v":0.56542041231218831},{"$f":"('2013'!H33/'2013 Rate'!$AB33)*1000","v":26.079222388107112},{"$f":"('2013'!I33/'2013 Rate'!$AB33)*1000","v":24.236841269337063},{"$f":"('2013'!J33/'2013 Rate'!$AB33)*1000","v":3.0176932117785333},{"$f":"('2013'!K33/'2013 Rate'!$AB33)*1000","v":20.806200565420411},{"$f":"('2013'!L33/'2013 Rate'!$AB33)*1000","v":17.788507353641879},{"$f":"('2013'!M33/'2013 Rate'!$AB33)*1000","v":0.19059115021759157},{"$f":"('2013'!N33/'2013 Rate'!$AB33)*1000","v":4.28830087989581},{"$f":"('2013'!O33/'2013 Rate'!$AB33)*1000","v":4.0977097296782183},{"$f":"('2013'!P33/'2013 Rate'!$AB33)*1000","v":-1.3341380515231409},{"$f":"('2013'!Q33/'2013 Rate'!$AB33)*1000","v":0.98472094279088973},{"$f":"('2013'!R33/'2013 Rate'!$AB33)*1000","v":2.3188589943140308},{"$f":"('2013'!S33/'2013 Rate'!$AB33)*1000","v":1.5882595851465964},null,null,null,null,null,{"$f":"('2013'!Y33/'2013 Rate'!$AB33)*1000","v":0.62895079571805224},null,"South Lanarkshire",314810]
[32,"Stirling",null,{"$f":"('2013'!D34/'2013 Rate'!$AB34)*1000","v":2.7403266469363148},{"$f":"('2013'!E34/'2013 Rate'!$AB34)*1000","v":1.2715115641784502},{"$f":"('2013'!F34/'2013 Rate'!$AB34)*1000","v":2.4772552888304284},{"$f":"('2013'!G34/'2013 Rate'!$AB34)*1000","v":-0.97555628630932811},{"$f":"('2013'!H34/'2013 Rate'!$AB34)*1000","v":55.135372136358654},{"$f":"('2013'!I34/'2013 Rate'!$AB34)*1000","v":52.395045489422337},{"$f":"('2013'!J34/'2013 Rate'!$AB34)*1000","v":1.2057437246519787},{"$f":"('2013'!K34/'2013 Rate'!$AB34)*1000","v":36.610764003069164},{"$f":"('2013'!L34/'2013 Rate'!$AB34)*1000","v":35.40502027841719},{"$f":"('2013'!M34/'2013 Rate'!$AB34)*1000","v":2.1922613175490517},{"$f":"('2013'!N34/'2013 Rate'!$AB34)*1000","v":11.070919653622711},{"$f":"('2013'!O34/'2013 Rate'!$AB34)*1000","v":8.8786583360736593},{"$f":"('2013'!P34/'2013 Rate'!$AB34)*1000","v":-0.54806532938726293},{"$f":"('2013'!Q34/'2013 Rate'!$AB34)*1000","v":7.5633015455442294},{"$f":"('2013'!R34/'2013 Rate'!$AB34)*1000","v":8.1113668749314911},{"$f":"('2013'!S34/'2013 Rate'!$AB34)*1000","v":6.4671708867697033},null,null,null,null,null,{"$f":"('2013'!Y34/'2013 Rate'!$AB34)*1000","v":0.52614271621177244},null,"Stirling",91230]
[33,"West Dunbartonshire",null,{"$f":"('2013'!D35/'2013 Rate'!$AB35)*1000","v":-4.6770601336302891},{"$f":"('2013'!E35/'2013 Rate'!$AB35)*1000","v":-1.3140311804008908},{"$f":"('2013'!F35/'2013 Rate'!$AB35)*1000","v":-2.8619153674832964},{"$f":"('2013'!G35/'2013 Rate'!$AB35)*1000","v":-0.54565701559020041},{"$f":"('2013'!H35/'2013 Rate'!$AB35)*1000","v":24.164810690423163},{"$f":"('2013'!I35/'2013 Rate'!$AB35)*1000","v":28.841870824053451},{"$f":"('2013'!J35/'2013 Rate'!$AB35)*1000","v":-4.1202672605790651},{"$f":"('2013'!K35/'2013 Rate'!$AB35)*1000","v":18.374164810690424},{"$f":"('2013'!L35/'2013 Rate'!$AB35)*1000","v":22.49443207126949},{"$f":"('2013'!M35/'2013 Rate'!$AB35)*1000","v":0.44543429844097998},{"$f":"('2013'!N35/'2013 Rate'!$AB35)*1000","v":4.6770601336302891},{"$f":"('2013'!O35/'2013 Rate'!$AB35)*1000","v":4.1202672605790651},{"$f":"('2013'!P35/'2013 Rate'!$AB35)*1000","v":-1.1135857461024499},{"$f":"('2013'!Q35/'2013 Rate'!$AB35)*1000","v":1.1135857461024499},{"$f":"('2013'!R35/'2013 Rate'!$AB35)*1000","v":2.2271714922048997},{"$f":"('2013'!S35/'2013 Rate'!$AB35)*1000","v":1.5590200445434299},null,null,null,null,null,{"$f":"('2013'!Y35/'2013 Rate'!$AB35)*1000","v":0.55679287305122493},null,"West Dunbartonshire",89800]
[34,"West Lothian",null,{"$f":"('2013'!D36/'2013 Rate'!$AB36)*1000","v":-2.2138964577656677},{"$f":"('2013'!E36/'2013 Rate'!$AB36)*1000","v":-0.21003633060853771},{"$f":"('2013'!F36/'2013 Rate'!$AB36)*1000","v":-2.3898728428701181},{"$f":"('2013'!G36/'2013 Rate'!$AB36)*1000","v":0.40304268846503177},{"$f":"('2013'!H36/'2013 Rate'!$AB36)*1000","v":26.055858310626704},{"$f":"('2013'!I36/'2013 Rate'!$AB36)*1000","v":28.212988192552224},{"$f":"('2013'!J36/'2013 Rate'!$AB36)*1000","v":-2.1003633060853768},{"$f":"('2013'!K36/'2013 Rate'!$AB36)*1000","v":18.222070844686648},{"$f":"('2013'!L36/'2013 Rate'!$AB36)*1000","v":20.322434150772025},{"$f":"('2013'!M36/'2013 Rate'!$AB36)*1000","v":0},{"$f":"('2013'!N36/'2013 Rate'!$AB36)*1000","v":4.995458673932788},{"$f":"('2013'!O36/'2013 Rate'!$AB36)*1000","v":4.995458673932788},{"$f":"('2013'!P36/'2013 Rate'!$AB36)*1000","v":-0.11353315168029064},{"$f":"('2013'!Q36/'2013 Rate'!$AB36)*1000","v":2.8383287920072662},{"$f":"('2013'!R36/'2013 Rate'!$AB36)*1000","v":2.9518619436875566},{"$f":"('2013'!S36/'2013 Rate'!$AB36)*1000","v":4.5980926430517712},null,null,null,null,null,{"$f":"('2013'!Y36/'2013 Rate'!$AB36)*1000","v":0.70958219800181654},null,"West Lothian",176160]
[]
[35,"Not specified"]
[36,"Scotland",null,{"$f":"('2013'!D39/'2013 Rate'!$AB39)*1000","v":1.8769825628319912},{"$f":"('2013'!E39/'2013 Rate'!$AB39)*1000","v":0.35230962704356478},{"$f":"('2013'!F39/'2013 Rate'!$AB39)*1000","v":1.5517014846932071},{"$f":"('2013'!G39/'2013 Rate'!$AB39)*1000","v":-3.4161082643542243E-2},{"$f":"('2013'!H39/'2013 Rate'!$AB39)*1000","v":14.246297651894814},{"$f":"('2013'!I39/'2013 Rate'!$AB39)*1000","v":12.369315089062821},{"$f":"'Within Scotland net migration'!K41","v":"[z]"},{"$f":"'Within Scotland in-migration'!K41","v":"[z]"},{"$f":"'Within Scotland out-migration'!K41","v":"[z]"},{"$f":"('2013'!M39/'2013 Rate'!$AB39)*1000","v":1.4828162246372731},{"$f":"('2013'!N39/'2013 Rate'!$AB39)*1000","v":8.9532068247085981},{"$f":"('2013'!O39/'2013 Rate'!$AB39)*1000","v":7.4703906000713252},{"$f":"('2013'!P39/'2013 Rate'!$AB39)*1000","v":0.39416633819471814},{"$f":"('2013'!Q39/'2013 Rate'!$AB39)*1000","v":5.2930908271862158},{"$f":"('2013'!R39/'2013 Rate'!$AB39)*1000","v":4.8989244889914971},null,null,null,null,null,null,null,null,"SCOTLAND",{"$f":"AB4","v":5327700}]
[37,"Ayrshire and Arran",null,{"$f":"('2013'!D40/'2013 Rate'!$AB40)*1000","v":-5.3728777133032452E-2},{"$f":"('2013'!E40/'2013 Rate'!$AB40)*1000","v":0.29819471308833012},{"$f":"('2013'!F40/'2013 Rate'!$AB40)*1000","v":-0.85160111755856438},{"$f":"('2013'!G40/'2013 Rate'!$AB40)*1000","v":0.49161831076724699},{"$f":"('2013'!H40/'2013 Rate'!$AB40)*1000","v":21.007951859015687},{"$f":"('2013'!I40/'2013 Rate'!$AB40)*1000","v":21.061680636148719},{"$f":"('2013'!J40/'2013 Rate'!$AB40)*1000","v":0.26864388566516223},{"$f":"('2013'!K40/'2013 Rate'!$AB40)*1000","v":13.727702557489792},{"$f":"('2013'!L40/'2013 Rate'!$AB40)*1000","v":13.45905867182463},{"$f":"('2013'!M40/'2013 Rate'!$AB40)*1000","v":1.2626262626262628},{"$f":"('2013'!N40/'2013 Rate'!$AB40)*1000","v":6.3131313131313131},{"$f":"('2013'!O40/'2013 Rate'!$AB40)*1000","v":5.0505050505050511},{"$f":"('2013'!P40/'2013 Rate'!$AB40)*1000","v":-1.5849989254244574},{"$f":"('2013'!Q40/'2013 Rate'!$AB40)*1000","v":0.96711798839458418},{"$f":"('2013'!R40/'2013 Rate'!$AB40)*1000","v":2.5521169138190416},null,null,null,null,null,null,null,null,"Ayrshire & Arran",{"$f":"AB13+AB25+AB32","v":372240}]
[38,"Borders",null,{"$f":"('2013'!D41/'2013 Rate'!$AB41)*1000","v":2.7221636810677907},{"$f":"('2013'!E41/'2013 Rate'!$AB41)*1000","v":0.88689848963821571},{"$f":"('2013'!F41/'2013 Rate'!$AB41)*1000","v":1.5367053038285916},{"$f":"('2013'!G41/'2013 Rate'!$AB41)*1000","v":0.28099754127151388},{"$f":"('2013'!H41/'2013 Rate'!$AB41)*1000","v":34.861257463997191},{"$f":"('2013'!I41/'2013 Rate'!$AB41)*1000","v":32.22690551457675},{"$f":"('2013'!J41/'2013 Rate'!$AB41)*1000","v":-8.7811731647348082E-2},{"$f":"('2013'!K41/'2013 Rate'!$AB41)*1000","v":18.879522304179837},{"$f":"('2013'!L41/'2013 Rate'!$AB41)*1000","v":18.967334035827186},{"$f":"('2013'!M41/'2013 Rate'!$AB41)*1000","v":4.3027748507200565},{"$f":"('2013'!N41/'2013 Rate'!$AB41)*1000","v":13.786441868633649},{"$f":"('2013'!O41/'2013 Rate'!$AB41)*1000","v":9.4836670179135929},{"$f":"('2013'!P41/'2013 Rate'!$AB41)*1000","v":-1.4927994380049174},{"$f":"('2013'!Q41/'2013 Rate'!$AB41)*1000","v":2.1952932911837024},{"$f":"('2013'!R41/'2013 Rate'!$AB41)*1000","v":3.6880927291886199},null,null,null,null,null,null,null,null,"Borders",{"$f":"AB30","v":113880}]
[39,"Dumfries and Galloway",null,{"$f":"('2013'!D42/'2013 Rate'!$AB42)*1000","v":-6.6542454085706693E-2},{"$f":"('2013'!E42/'2013 Rate'!$AB42)*1000","v":5.9888208677136019E-2},{"$f":"('2013'!F42/'2013 Rate'!$AB42)*1000","v":0.1264306627628427},{"$f":"('2013'!G42/'2013 Rate'!$AB42)*1000","v":-0.22624434389140272},{"$f":"('2013'!H42/'2013 Rate'!$AB42)*1000","v":26.483896726111258},{"$f":"('2013'!I42/'2013 Rate'!$AB42)*1000","v":26.550439180196967},{"$f":"('2013'!J42/'2013 Rate'!$AB42)*1000","v":-1.2643066276284269},{"$f":"('2013'!K42/'2013 Rate'!$AB42)*1000","v":11.511844556827256},{"$f":"('2013'!L42/'2013 Rate'!$AB42)*1000","v":12.842693638541389},{"$f":"('2013'!M42/'2013 Rate'!$AB42)*1000","v":3.4602076124567476},{"$f":"('2013'!N42/'2013 Rate'!$AB42)*1000","v":13.641203087569869},{"$f":"('2013'!O42/'2013 Rate'!$AB42)*1000","v":10.114453021027416},{"$f":"('2013'!P42/'2013 Rate'!$AB42)*1000","v":-2.2624434389140275},{"$f":"('2013'!Q42/'2013 Rate'!$AB42)*1000","v":1.3308490817141336},{"$f":"('2013'!R42/'2013 Rate'!$AB42)*1000","v":3.593292520628161},null,null,null,null,null,null,null,null,"Dumfries & Galloway",{"$f":"AB11","v":150280}]
[40,"Fife",null,{"$f":"('2013'!D43/'2013 Rate'!$AB43)*1000","v":0.81766148814390849},{"$f":"('2013'!E43/'2013 Rate'!$AB43)*1000","v":0.46061597165440171},{"$f":"('2013'!F43/'2013 Rate'!$AB43)*1000","v":0.32979013355137637},{"$f":"('2013'!G43/'2013 Rate'!$AB43)*1000","v":3.8157536113382393E-2},{"$f":"('2013'!H43/'2013 Rate'!$AB43)*1000","v":28.509130553284272},{"$f":"('2013'!I43/'2013 Rate'!$AB43)*1000","v":27.691469065140364},{"$f":"('2013'!J43/'2013 Rate'!$AB43)*1000","v":-0.32706459525756337},{"$f":"('2013'!K43/'2013 Rate'!$AB43)*1000","v":15.617334423548652},{"$f":"('2013'!L43/'2013 Rate'!$AB43)*1000","v":15.944399018806214},{"$f":"('2013'!M43/'2013 Rate'!$AB43)*1000","v":1.3082583810302535},{"$f":"('2013'!N43/'2013 Rate'!$AB43)*1000","v":8.77623330607795},{"$f":"('2013'!O43/'2013 Rate'!$AB43)*1000","v":7.467974925047697},{"$f":"('2013'!P43/'2013 Rate'!$AB43)*1000","v":-0.1362769146906514},{"$f":"('2013'!Q43/'2013 Rate'!$AB43)*1000","v":4.1155628236576725},{"$f":"('2013'!R43/'2013 Rate'!$AB43)*1000","v":4.2518397383483242},null,null,null,null,null,null,null,null,"Fife",{"$f":"AB18","v":366900}]
[41,"Forth Valley",null,{"$f":"('2013'!D44/'2013 Rate'!$AB44)*1000","v":1.9020923015316848},{"$f":"('2013'!E44/'2013 Rate'!$AB44)*1000","v":0.77084793272599861},{"$f":"('2013'!F44/'2013 Rate'!$AB44)*1000","v":1.111222344579037},{"$f":"('2013'!G44/'2013 Rate'!$AB44)*1000","v":1.6685020188874428E-2},{"$f":"('2013'!H44/'2013 Rate'!$AB44)*1000","v":30.667067107151201},{"$f":"('2013'!I44/'2013 Rate'!$AB44)*1000","v":28.764974805619513},{"$f":"('2013'!J44/'2013 Rate'!$AB44)*1000","v":1.4015416958654519},{"$f":"('2013'!K44/'2013 Rate'!$AB44)*1000","v":20.589314913071043},{"$f":"('2013'!L44/'2013 Rate'!$AB44)*1000","v":19.187773217205592},{"$f":"('2013'!M44/'2013 Rate'!$AB44)*1000","v":1.2346914939767075},{"$f":"('2013'!N44/'2013 Rate'!$AB44)*1000","v":6.774118196683018},{"$f":"('2013'!O44/'2013 Rate'!$AB44)*1000","v":5.5394267027063098},{"$f":"('2013'!P44/'2013 Rate'!$AB44)*1000","v":-0.73414088831047486},{"$f":"('2013'!Q44/'2013 Rate'!$AB44)*1000","v":3.3036339973971369},{"$f":"('2013'!R44/'2013 Rate'!$AB44)*1000","v":4.0377748857076119},null,null,null,null,null,null,null,null,"Forth Valley",{"$f":"AB10+AB17+AB34","v":299670}]
[42,"Grampian",null,{"$f":"('2013'!D45/'2013 Rate'!$AB45)*1000","v":6.7679558011049723},{"$f":"('2013'!E45/'2013 Rate'!$AB45)*1000","v":1.0566298342541438},{"$f":"('2013'!F45/'2013 Rate'!$AB45)*1000","v":6.0773480662983426},{"$f":"('2013'!G45/'2013 Rate'!$AB45)*1000","v":-0.35911602209944754},{"$f":"('2013'!H45/'2013 Rate'!$AB45)*1000","v":33.667127071823202},{"$f":"('2013'!I45/'2013 Rate'!$AB45)*1000","v":26.899171270718231},{"$f":"('2013'!J45/'2013 Rate'!$AB45)*1000","v":1.9337016574585637},{"$f":"('2013'!K45/'2013 Rate'!$AB45)*1000","v":14.295580110497237},{"$f":"('2013'!L45/'2013 Rate'!$AB45)*1000","v":12.37914364640884},{"$f":"('2013'!M45/'2013 Rate'!$AB45)*1000","v":2.6588397790055245},{"$f":"('2013'!N45/'2013 Rate'!$AB45)*1000","v":11.015193370165747},{"$f":"('2013'!O45/'2013 Rate'!$AB45)*1000","v":8.3563535911602216},{"$f":"('2013'!P45/'2013 Rate'!$AB45)*1000","v":2.1926795580110494},{"$f":"('2013'!Q45/'2013 Rate'!$AB45)*1000","v":8.3563535911602216},{"$f":"('2013'!R45/'2013 Rate'!$AB45)*1000","v":6.1636740331491708},null,null,null,null,null,null,null,null,"Grampian",{"$f":"AB5+AB6+AB23","v":579200}]
[43,"Greater Glasgow and Clyde",null,{"$f":"('2013'!D46/'2013 Rate'!$AB46)*1000","v":0.12303149606299213},{"$f":"('2013'!E46/'2013 Rate'!$AB46)*1000","v":-0.17136529808773904},{"$f":"('2013'!F46/'2013 Rate'!$AB46)*1000","v":0.61955146231721037},{"$f":"('2013'!G46/'2013 Rate'!$AB46)*1000","v":-0.32251827896512936},{"$f":"('2013'!H46/'2013 Rate'!$AB46)*1000","v":27.78754218222722},{"$f":"('2013'!I46/'2013 Rate'!$AB46)*1000","v":27.664510686164231},{"$f":"('2013'!J46/'2013 Rate'!$AB46)*1000","v":-1.3006186726659168},{"$f":"('2013'!K46/'2013 Rate'!$AB46)*1000","v":13.674071991001124},{"$f":"('2013'!L46/'2013 Rate'!$AB46)*1000","v":14.974690663667042},{"$f":"('2013'!M46/'2013 Rate'!$AB46)*1000","v":0.13181946006749157},{"$f":"('2013'!N46/'2013 Rate'!$AB46)*1000","v":7.2940101237345329},{"$f":"('2013'!O46/'2013 Rate'!$AB46)*1000","v":7.162190663667042},{"$f":"('2013'!P46/'2013 Rate'!$AB46)*1000","v":1.3006186726659168},{"$f":"('2013'!Q46/'2013 Rate'!$AB46)*1000","v":6.8194600674915637},{"$f":"('2013'!R46/'2013 Rate'!$AB46)*1000","v":5.518841394825647},null,null,null,null,null,null,null,null,"Greater Glasgow & Clyde",{"$f":"AB16+AB21+AB29+AB35+AB14+AB19","v":1137920}]
[44,"Highland",null,{"$f":"('2013'!D47/'2013 Rate'!$AB47)*1000","v":0.2180821234967911},{"$f":"('2013'!E47/'2013 Rate'!$AB47)*1000","v":0.82559661038070908},{"$f":"('2013'!F47/'2013 Rate'!$AB47)*1000","v":-0.33023864415228366},{"$f":"('2013'!G47/'2013 Rate'!$AB47)*1000","v":-0.27727584273163436},{"$f":"('2013'!H47/'2013 Rate'!$AB47)*1000","v":33.210791949654187},{"$f":"('2013'!I47/'2013 Rate'!$AB47)*1000","v":32.992709826157395},{"$f":"('2013'!J47/'2013 Rate'!$AB47)*1000","v":-1.9315845224001496},{"$f":"('2013'!K47/'2013 Rate'!$AB47)*1000","v":18.505825908156272},{"$f":"('2013'!L47/'2013 Rate'!$AB47)*1000","v":20.437410430556419},{"$f":"('2013'!M47/'2013 Rate'!$AB47)*1000","v":3.5827777431615675},{"$f":"('2013'!N47/'2013 Rate'!$AB47)*1000","v":12.05682597046545},{"$f":"('2013'!O47/'2013 Rate'!$AB47)*1000","v":8.4740482273038822},{"$f":"('2013'!P47/'2013 Rate'!$AB47)*1000","v":-1.4019565081936569},{"$f":"('2013'!Q47/'2013 Rate'!$AB47)*1000","v":2.6481400710324632},{"$f":"('2013'!R47/'2013 Rate'!$AB47)*1000","v":4.08125116829709},null,null,null,null,null,null,null,null,"Highland",{"$f":"AB20+AB8","v":320980}]
[45,"Lanarkshire",null,{"$f":"('2013'!D48/'2013 Rate'!$AB48)*1000","v":0.29114758117654271},{"$f":"('2013'!E48/'2013 Rate'!$AB48)*1000","v":0.3156652722229884},{"$f":"('2013'!F48/'2013 Rate'!$AB48)*1000","v":-0.1578326361114942},{"$f":"('2013'!G48/'2013 Rate'!$AB48)*1000","v":0.13944436782665992},{"$f":"('2013'!H48/'2013 Rate'!$AB48)*1000","v":19.185093243843763},{"$f":"('2013'!I48/'2013 Rate'!$AB48)*1000","v":18.893945662667218},{"$f":"('2013'!J48/'2013 Rate'!$AB48)*1000","v":1.1799138816101995},{"$f":"('2013'!K48/'2013 Rate'!$AB48)*1000","v":14.29687859145865},{"$f":"('2013'!L48/'2013 Rate'!$AB48)*1000","v":13.132288266752479},{"$f":"('2013'!M48/'2013 Rate'!$AB48)*1000","v":0.29114758117654271},{"$f":"('2013'!N48/'2013 Rate'!$AB48)*1000","v":3.7849185552950551},{"$f":"('2013'!O48/'2013 Rate'!$AB48)*1000","v":3.4937709741185121},{"$f":"('2013'!P48/'2013 Rate'!$AB48)*1000","v":-1.1799138816101995},{"$f":"('2013'!Q48/'2013 Rate'!$AB48)*1000","v":1.1032960970900567},{"$f":"('2013'!R48/'2013 Rate'!$AB48)*1000","v":2.2678864217962276},null,null,null,null,null,null,null,null,"Lanarkshire",{"$f":"AB26+AB33","v":652590}]
[46,"Lothian",null,{"$f":"('2013'!D49/'2013 Rate'!$AB49)*1000","v":4.3661441415995856},{"$f":"('2013'!E49/'2013 Rate'!$AB49)*1000","v":0.13298498328861272},{"$f":"('2013'!F49/'2013 Rate'!$AB49)*1000","v":4.1001741750223601},{"$f":"('2013'!G49/'2013 Rate'!$AB49)*1000","v":0.13063126677023021},{"$f":"('2013'!H49/'2013 Rate'!$AB49)*1000","v":37.094572329708605},{"$f":"('2013'!I49/'2013 Rate'!$AB49)*1000","v":32.728428188109028},{"$f":"('2013'!J49/'2013 Rate'!$AB49)*1000","v":9.4148660735301037E-2},{"$f":"('2013'!K49/'2013 Rate'!$AB49)*1000","v":14.498893753236361},{"$f":"('2013'!L49/'2013 Rate'!$AB49)*1000","v":14.416513675092972},{"$f":"('2013'!M49/'2013 Rate'!$AB49)*1000","v":2.1065762839523607},{"$f":"('2013'!N49/'2013 Rate'!$AB49)*1000","v":13.063126677023019},{"$f":"('2013'!O49/'2013 Rate'!$AB49)*1000","v":10.956550393070659},{"$f":"('2013'!P49/'2013 Rate'!$AB49)*1000","v":2.1654191969119236},{"$f":"('2013'!Q49/'2013 Rate'!$AB49)*1000","v":9.520783316857317},{"$f":"('2013'!R49/'2013 Rate'!$AB49)*1000","v":7.3553641199453939},null,null,null,null,null,null,null,null,"Lothian",{"$f":"AB15+AB9+AB22+AB36","v":849720}]
[47,"Orkney",null,{"$f":"('2013'!D50/'2013 Rate'!$AB50)*1000","v":3.7105751391465676},{"$f":"('2013'!E50/'2013 Rate'!$AB50)*1000","v":1.6233766233766236},{"$f":"('2013'!F50/'2013 Rate'!$AB50)*1000","v":1.8089053803339519},{"$f":"('2013'!G50/'2013 Rate'!$AB50)*1000","v":0.2782931354359926},{"$f":"('2013'!H50/'2013 Rate'!$AB50)*1000","v":35.250463821892389},{"$f":"('2013'!I50/'2013 Rate'!$AB50)*1000","v":31.539888682745826},{"$f":"('2013'!J50/'2013 Rate'!$AB50)*1000","v":0.92764378478664189},{"$f":"('2013'!K50/'2013 Rate'!$AB50)*1000","v":19.944341372912803},{"$f":"('2013'!L50/'2013 Rate'!$AB50)*1000","v":19.016697588126156},{"$f":"('2013'!M50/'2013 Rate'!$AB50)*1000","v":4.1743970315398888},{"$f":"('2013'!N50/'2013 Rate'!$AB50)*1000","v":12.987012987012989},{"$f":"('2013'!O50/'2013 Rate'!$AB50)*1000","v":9.2764378478664202},{"$f":"('2013'!P50/'2013 Rate'!$AB50)*1000","v":-1.3914656771799629},{"$f":"('2013'!Q50/'2013 Rate'!$AB50)*1000","v":2.3191094619666051},{"$f":"('2013'!R50/'2013 Rate'!$AB50)*1000","v":3.7105751391465676},null,null,null,null,null,null,null,null,"Orkney",{"$f":"AB27","v":21560}]
[48,"Shetland",null,{"$f":"('2013'!D51/'2013 Rate'!$AB51)*1000","v":-3.8793103448275863},{"$f":"('2013'!E51/'2013 Rate'!$AB51)*1000","v":-1.853448275862069},{"$f":"('2013'!F51/'2013 Rate'!$AB51)*1000","v":-0.99137931034482762},{"$f":"('2013'!G51/'2013 Rate'!$AB51)*1000","v":-0.99137931034482762},{"$f":"('2013'!H51/'2013 Rate'!$AB51)*1000","v":28.017241379310345},{"$f":"('2013'!I51/'2013 Rate'!$AB51)*1000","v":31.896551724137932},{"$f":"('2013'!J51/'2013 Rate'!$AB51)*1000","v":-3.8793103448275863},{"$f":"('2013'!K51/'2013 Rate'!$AB51)*1000","v":15.086206896551724},{"$f":"('2013'!L51/'2013 Rate'!$AB51)*1000","v":18.96551724137931},{"$f":"('2013'!M51/'2013 Rate'!$AB51)*1000","v":1.2931034482758621},{"$f":"('2013'!N51/'2013 Rate'!$AB51)*1000","v":10.344827586206897},{"$f":"('2013'!O51/'2013 Rate'!$AB51)*1000","v":9.0517241379310356},{"$f":"('2013'!P51/'2013 Rate'!$AB51)*1000","v":-1.2931034482758621},{"$f":"('2013'!Q51/'2013 Rate'!$AB51)*1000","v":2.5862068965517242},{"$f":"('2013'!R51/'2013 Rate'!$AB51)*1000","v":3.8793103448275863},null,null,null,null,null,null,null,null,"Shetland",{"$f":"AB31","v":23200}]
[49,"Tayside",null,{"$f":"('2013'!D52/'2013 Rate'!$AB52)*1000","v":1.9409937888198758},{"$f":"('2013'!E52/'2013 Rate'!$AB52)*1000","v":0.66479037267080743},{"$f":"('2013'!F52/'2013 Rate'!$AB52)*1000","v":1.0675465838509317},{"$f":"('2013'!G52/'2013 Rate'!$AB52)*1000","v":0.20623059006211181},{"$f":"('2013'!H52/'2013 Rate'!$AB52)*1000","v":32.681482919254655},{"$f":"('2013'!I52/'2013 Rate'!$AB52)*1000","v":30.740489130434785},{"$f":"('2013'!J52/'2013 Rate'!$AB52)*1000","v":0.21836180124223603},{"$f":"('2013'!K52/'2013 Rate'!$AB52)*1000","v":18.148291925465841},{"$f":"('2013'!L52/'2013 Rate'!$AB52)*1000","v":17.929930124223603},{"$f":"('2013'!M52/'2013 Rate'!$AB52)*1000","v":1.1645962732919255},{"$f":"('2013'!N52/'2013 Rate'!$AB52)*1000","v":8.4675854037267086},{"$f":"('2013'!O52/'2013 Rate'!$AB52)*1000","v":7.3029891304347831},{"$f":"('2013'!P52/'2013 Rate'!$AB52)*1000","v":0.53377329192546585},{"$f":"('2013'!Q52/'2013 Rate'!$AB52)*1000","v":6.0413431677018634},{"$f":"('2013'!R52/'2013 Rate'!$AB52)*1000","v":5.5075698757763982},null,null,null,null,null,null,null,null,"Tayside",{"$f":"AB28+AB7+AB12","v":412160}]
[50,"Western Isles",null,{"$f":"('2013'!D53/'2013 Rate'!$AB53)*1000","v":-0.72992700729927007},{"$f":"('2013'!E53/'2013 Rate'!$AB53)*1000","v":-0.40145985401459849},{"$f":"('2013'!F53/'2013 Rate'!$AB53)*1000","v":-0.72992700729927007},{"$f":"('2013'!G53/'2013 Rate'!$AB53)*1000","v":0.43795620437956201},{"$f":"('2013'!H53/'2013 Rate'!$AB53)*1000","v":31.386861313868614},{"$f":"('2013'!I53/'2013 Rate'!$AB53)*1000","v":32.116788321167881},{"$f":"('2013'!J53/'2013 Rate'!$AB53)*1000","v":-2.5547445255474455},{"$f":"('2013'!K53/'2013 Rate'!$AB53)*1000","v":18.248175182481749},{"$f":"('2013'!L53/'2013 Rate'!$AB53)*1000","v":20.802919708029197},{"$f":"('2013'!M53/'2013 Rate'!$AB53)*1000","v":4.0145985401459852},{"$f":"('2013'!N53/'2013 Rate'!$AB53)*1000","v":12.043795620437956},{"$f":"('2013'!O53/'2013 Rate'!$AB53)*1000","v":8.0291970802919703},{"$f":"('2013'!P53/'2013 Rate'!$AB53)*1000","v":-2.1897810218978102},{"$f":"('2013'!Q53/'2013 Rate'!$AB53)*1000","v":1.0948905109489051},{"$f":"('2013'!R53/'2013 Rate'!$AB53)*1000","v":3.2846715328467155},null,null,null,null,null,null,null,null,"Western Isles",{"$f":"AB24","v":27400}]

{"sheet":"2014","index":44,"n_rows":53,"n_cols":25,"rows_kept":53,"cut":false,"hidden":true,"merged":[]}
[null,2014]
[null,null,"Not specified ",{"$f":"'Comparing Indicators'!$U8","v":"Total net migration"},{"$f":"'Comparing Indicators'!$U9","v":"Total net migration for ages 0-15"},{"$f":"'Comparing Indicators'!$U10","v":"Total net migration for ages 16-64"},{"$f":"'Comparing Indicators'!$U11","v":"Total net migration for people aged 65+"},{"$f":"'Comparing Indicators'!$U12","v":"Total in-migration"},{"$f":"'Comparing Indicators'!$U13","v":"Total out-migration"},{"$f":"'Comparing Indicators'!$U14","v":"Within Scotland net migration"},{"$f":"'Comparing Indicators'!$U15","v":"Within Scotland in-migration"},{"$f":"'Comparing Indicators'!$U16","v":"Within Scotland out-migration"},{"$f":"'Comparing Indicators'!$U17","v":"Rest of UK net migration"},{"$f":"'Comparing Indicators'!$U18","v":"Rest of UK in-migration"},{"$f":"'Comparing Indicators'!$U19","v":"Rest of UK out-migration"},{"$f":"'Comparing Indicators'!$U20","v":"International net migration"},{"$f":"'Comparing Indicators'!$U21","v":"International in-migration"},{"$f":"'Comparing Indicators'!$U22","v":"International out-migration"},{"$f":"'Comparing Indicators'!$U23","v":"NINo Allocation"},{"$f":"'Comparing Indicators'!$U24","v":"Births to non-UK mothers"},{"$f":"'Comparing Indicators'!$U25","v":"Pupils from a minority ethnic group"},{"$f":"'Comparing Indicators'!$U26","v":"Pupils with English as an additional language"},{"$f":"'Comparing Indicators'!$U27","v":"Population born outside the UK"},{"$f":"'Comparing Indicators'!$U28","v":"Population with non-British nationality"},{"$f":"'Comparing Indicators'!$U29","v":"Citizenships"}]
[1,"Not specified"]
[2,"Scotland",null,{"$f":"'Total net migration'!L6","v":17600},{"$f":"'Total net migration 0-15'!L6","v":3092},{"$f":"'Total net migration 16-64'!L6","v":14470},{"$f":"'Total net migration 65+'!L6","v":23},{"$f":"'Total in-migration'!L6","v":82400},{"$f":"'Total out-migration'!L6","v":64900},{"$f":"'Within Scotland net migration'!L6","v":"[z]"},{"$f":"'Within Scotland in-migration'!L6","v":"[z]"},{"$f":"'Within Scotland out-migration'!L6","v":"[z]"},{"$f":"'Rest of UK net migration'!L6","v":9600},{"$f":"'Rest of UK in-migration'!L6","v":49200},{"$f":"'Rest of UK out-migration'!L6","v":39700},{"$f":"'International net migration'!L6","v":8000},{"$f":"'International in-migration'!L6","v":33200},{"$f":"'International out-migration'!L6","v":25200},{"$f":"NINo!L6","v":43600},{"$f":"'Births to non-UK mothers'!L6","v":9178},{"$f":"'Pupils'' ethnic group (TS)'!M6","v":41940},{"$f":"'Pupils with English as an add.'!J6","v":32509},{"$f":"'Pop born outside UK'!L6","v":381000},{"$f":"'Non-British Population'!L6","v":282000},{"$f":"Citizenships!L6","v":3956}]
[3,"Aberdeen City",null,{"$f":"'Total net migration'!L7","v":1410},{"$f":"'Total net migration 0-15'!L7","v":-303},{"$f":"'Total net migration 16-64'!L7","v":1928},{"$f":"'Total net migration 65+'!L7","v":-213},{"$f":"'Total in-migration'!L7","v":14210},{"$f":"'Total out-migration'!L7","v":12790},{"$f":"'Within Scotland net migration'!L7","v":-1140},{"$f":"'Within Scotland in-migration'!L7","v":7040},{"$f":"'Within Scotland out-migration'!L7","v":8180},{"$f":"'Rest of UK net migration'!L7","v":590},{"$f":"'Rest of UK in-migration'!L7","v":2960},{"$f":"'Rest of UK out-migration'!L7","v":2370},{"$f":"'International net migration'!L7","v":1970},{"$f":"'International in-migration'!L7","v":4200},{"$f":"'International out-migration'!L7","v":2240},{"$f":"NINo!L7","v":5460},{"$f":"'Births to non-UK mothers'!L7","v":986},{"$f":"'Pupils'' ethnic group (TS)'!M7","v":2655},{"$f":"'Pupils with English as an add.'!J7","v":2444},{"$f":"'Pop born outside UK'!L7","v":42000},{"$f":"'Non-British Population'!L7","v":39000},{"$f":"Citizenships!L7","v":720}]
[4,"Aberdeenshire",null,{"$f":"'Total net migration'!L8","v":2040},{"$f":"'Total net migration 0-15'!L8","v":835},{"$f":"'Total net migration 16-64'!L8","v":1374},{"$f":"'Total net migration 65+'!L8","v":-168},{"$f":"'Total in-migration'!L8","v":10340},{"$f":"'Total out-migration'!L8","v":8300},{"$f":"'Within Scotland net migration'!L8","v":1640},{"$f":"'Within Scotland in-migration'!L8","v":7230},{"$f":"'Within Scotland out-migration'!L8","v":5590},{"$f":"'Rest of UK net migration'!L8","v":280},{"$f":"'Rest of UK in-migration'!L8","v":2050},{"$f":"'Rest of UK out-migration'!L8","v":1770},{"$f":"'International net migration'!L8","v":120},{"$f":"'International in-migration'!L8","v":1060},{"$f":"'International out-migration'!L8","v":940},{"$f":"NINo!L8","v":1680},{"$f":"'Births to non-UK mothers'!L8","v":450},{"$f":"'Pupils'' ethnic group (TS)'!M8","v":946},{"$f":"'Pupils with English as an add.'!J8","v":1356},{"$f":"'Pop born outside UK'!L8","v":13000},{"$f":"'Non-British Population'!L8","v":10000},{"$f":"Citizenships!L8","v":194}]
[5,"Angus",null,{"$f":"'Total net migration'!L9","v":650},{"$f":"'Total net migration 0-15'!L9","v":181},{"$f":"'Total net migration 16-64'!L9","v":394},{"$f":"'Total net migration 65+'!L9","v":70},{"$f":"'Total in-migration'!L9","v":4230},{"$f":"'Total out-migration'!L9","v":3590},{"$f":"'Within Scotland net migration'!L9","v":430},{"$f":"'Within Scotland in-migration'!L9","v":3130},{"$f":"'Within Scotland out-migration'!L9","v":2710},{"$f":"'Rest of UK net migration'!L9","v":190},{"$f":"'Rest of UK in-migration'!L9","v":760},{"$f":"'Rest of UK out-migration'!L9","v":570},{"$f":"'International net migration'!L9","v":30},{"$f":"'International in-migration'!L9","v":340},{"$f":"'International out-migration'!L9","v":310},{"$f":"NINo!L9","v":1220},{"$f":"'Births to non-UK mothers'!L9","v":135},{"$f":"'Pupils'' ethnic group (TS)'!M9","v":359},{"$f":"'Pupils with English as an add.'!J9","v":431},{"$f":"'Pop born outside UK'!L9","v":5000},{"$f":"'Non-British Population'!L9","v":5000},{"$f":"Citizenships!L9","v":27}]
[6,"Argyll and Bute",null,{"$f":"'Total net migration'!L10","v":-280},{"$f":"'Total net migration 0-15'!L10","v":55},{"$f":"'Total net migration 16-64'!L10","v":-269},{"$f":"'Total net migration 65+'!L10","v":-61},{"$f":"'Total in-migration'!L10","v":3790},{"$f":"'Total out-migration'!L10","v":4060},{"$f":"'Within Scotland net migration'!L10","v":-440},{"$f":"'Within Scotland in-migration'!L10","v":2170},{"$f":"'Within Scotland out-migration'!L10","v":2610},{"$f":"'Rest of UK net migration'!L10","v":400},{"$f":"'Rest of UK in-migration'!L10","v":1380},{"$f":"'Rest of UK out-migration'!L10","v":980},{"$f":"'International net migration'!L10","v":-230},{"$f":"'International in-migration'!L10","v":240},{"$f":"'International out-migration'!L10","v":470},{"$f":"NINo!L10","v":460},{"$f":"'Births to non-UK mothers'!L10","v":81},{"$f":"'Pupils'' ethnic group (TS)'!M10","v":233},{"$f":"'Pupils with English as an add.'!J10","v":164},{"$f":"'Pop born outside UK'!L10","v":4000},{"$f":"'Non-British Population'!L10","v":2000},{"$f":"Citizenships!L10","v":27}]
[7,"City of Edinburgh",null,{"$f":"'Total net migration'!L11","v":3300},{"$f":"'Total net migration 0-15'!L11","v":-364},{"$f":"'Total net migration 16-64'!L11","v":3621},{"$f":"'Total net migration 65+'!L11","v":39},{"$f":"'Total in-migration'!L11","v":29440},{"$f":"'Total out-migration'!L11","v":26140},{"$f":"'Within Scotland net migration'!L11","v":-1710},{"$f":"'Within Scotland in-migration'!L11","v":11530},{"$f":"'Within Scotland out-migration'!L11","v":13240},{"$f":"'Rest of UK net migration'!L11","v":1730},{"$f":"'Rest of UK in-migration'!L11","v":9440},{"$f":"'Rest of UK out-migration'!L11","v":7710},{"$f":"'International net migration'!L11","v":3270},{"$f":"'International in-migration'!L11","v":8460},{"$f":"'International out-migration'!L11","v":5190},{"$f":"NINo!L11","v":11340},{"$f":"'Births to non-UK mothers'!L11","v":1880},{"$f":"'Pupils'' ethnic group (TS)'!M11","v":6538},{"$f":"'Pupils with English as an add.'!J11","v":5227},{"$f":"'Pop born outside UK'!L11","v":65000},{"$f":"'Non-British Population'!L11","v":51000},{"$f":"Citizenships!L11","v":766}]
[8,"Clackmannanshire",null,{"$f":"'Total net migration'!L12","v":-80},{"$f":"'Total net migration 0-15'!L12","v":-24},{"$f":"'Total net migration 16-64'!L12","v":-73},{"$f":"'Total net migration 65+'!L12","v":15},{"$f":"'Total in-migration'!L12","v":1730},{"$f":"'Total out-migration'!L12","v":1820},{"$f":"'Within Scotland net migration'!L12","v":-60},{"$f":"'Within Scotland in-migration'!L12","v":1280},{"$f":"'Within Scotland out-migration'!L12","v":1340},{"$f":"'Rest of UK net migration'!L12","v":0},{"$f":"'Rest of UK in-migration'!L12","v":330},{"$f":"'Rest of UK out-migration'!L12","v":330},{"$f":"'International net migration'!L12","v":-30},{"$f":"'International in-migration'!L12","v":130},{"$f":"'International out-migration'!L12","v":150},{"$f":"NINo!L12","v":90},{"$f":"'Births to non-UK mothers'!L12","v":49},{"$f":"'Pupils'' ethnic group (TS)'!M12","v":212},{"$f":"'Pupils with English as an add.'!J12","v":156},{"$f":"'Pop born outside UK'!L12","v":3000},{"$f":"'Non-British Population'!L12","v":2000},{"$f":"Citizenships!L12","v":13}]
[9,"Dumfries and Galloway",null,{"$f":"'Total net migration'!L13","v":330},{"$f":"'Total net migration 0-15'!L13","v":169},{"$f":"'Total net migration 16-64'!L13","v":105},{"$f":"'Total net migration 65+'!L13","v":60},{"$f":"'Total in-migration'!L13","v":4050},{"$f":"'Total out-migration'!L13","v":3710},{"$f":"'Within Scotland net migration'!L13","v":-110},{"$f":"'Within Scotland in-migration'!L13","v":1730},{"$f":"'Within Scotland out-migration'!L13","v":1840},{"$f":"'Rest of UK net migration'!L13","v":710},{"$f":"'Rest of UK in-migration'!L13","v":2110},{"$f":"'Rest of UK out-migration'!L13","v":1400},{"$f":"'International net migration'!L13","v":-270},{"$f":"'International in-migration'!L13","v":210},{"$f":"'International out-migration'!L13","v":480},{"$f":"NINo!L13","v":310},{"$f":"'Births to non-UK mothers'!L13","v":91},{"$f":"'Pupils'' ethnic group (TS)'!M13","v":408},{"$f":"'Pupils with English as an add.'!J13","v":331},{"$f":"'Pop born outside UK'!L13","v":5000},{"$f":"'Non-British Population'!L13","v":3000},{"$f":"Citizenships!L13","v":25}]
[10,"Dundee City",null,{"$f":"'Total net migration'!L14","v":-10},{"$f":"'Total net migration 0-15'!L14","v":-79},{"$f":"'Total net migration 16-64'!L14","v":154},{"$f":"'Total net migration 65+'!L14","v":-87},{"$f":"'Total in-migration'!L14","v":6860},{"$f":"'Total out-migration'!L14","v":6870},{"$f":"'Within Scotland net migration'!L14","v":-310},{"$f":"'Within Scotland in-migration'!L14","v":4200},{"$f":"'Within Scotland out-migration'!L14","v":4510},{"$f":"'Rest of UK net migration'!L14","v":40},{"$f":"'Rest of UK in-migration'!L14","v":1380},{"$f":"'Rest of UK out-migration'!L14","v":1340},{"$f":"'International net migration'!L14","v":260},{"$f":"'International in-migration'!L14","v":1280},{"$f":"'International out-migration'!L14","v":1020},{"$f":"NINo!L14","v":1240},{"$f":"'Births to non-UK mothers'!L14","v":310},{"$f":"'Pupils'' ethnic group (TS)'!M14","v":1532},{"$f":"'Pupils with English as an add.'!J14","v":1096},{"$f":"'Pop born outside UK'!L14","v":18000},{"$f":"'Non-British Population'!L14","v":17000},{"$f":"Citizenships!L14","v":121}]
[11,"East Ayrshire",null,{"$f":"'Total net migration'!L15","v":-90},{"$f":"'Total net migration 0-15'!L15","v":16},{"$f":"'Total net migration 16-64'!L15","v":-76},{"$f":"'Total net migration 65+'!L15","v":-30},{"$f":"'Total in-migration'!L15","v":3250},{"$f":"'Total out-migration'!L15","v":3340},{"$f":"'Within Scotland net migration'!L15","v":40},{"$f":"'Within Scotland in-migration'!L15","v":2490},{"$f":"'Within Scotland out-migration'!L15","v":2440},{"$f":"'Rest of UK net migration'!L15","v":40},{"$f":"'Rest of UK in-migration'!L15","v":670},{"$f":"'Rest of UK out-migration'!L15","v":630},{"$f":"'International net migration'!L15","v":-170},{"$f":"'International in-migration'!L15","v":90},{"$f":"'International out-migration'!L15","v":270},{"$f":"NINo!L15","v":90},{"$f":"'Births to non-UK mothers'!L15","v":44},{"$f":"'Pupils'' ethnic group (TS)'!M15","v":362},{"$f":"'Pupils with English as an add.'!J15","v":158},{"$f":"'Pop born outside UK'!L15","v":3000},{"$f":"'Non-British Population'!L15","v":2000},{"$f":"Citizenships!L15","v":15}]
[12,"East Dunbartonshire",null,{"$f":"'Total net migration'!L16","v":910},{"$f":"'Total net migration 0-15'!L16","v":496},{"$f":"'Total net migration 16-64'!L16","v":339},{"$f":"'Total net migration 65+'!L16","v":74},{"$f":"'Total in-migration'!L16","v":4050},{"$f":"'Total out-migration'!L16","v":3140},{"$f":"'Within Scotland net migration'!L16","v":1060},{"$f":"'Within Scotland in-migration'!L16","v":3490},{"$f":"'Within Scotland out-migration'!L16","v":2430},{"$f":"'Rest of UK net migration'!L16","v":-50},{"$f":"'Rest of UK in-migration'!L16","v":460},{"$f":"'Rest of UK out-migration'!L16","v":500},{"$f":"'International net migration'!L16","v":-110},{"$f":"'International in-migration'!L16","v":100},{"$f":"'International out-migration'!L16","v":210},{"$f":"NINo!L16","v":110},{"$f":"'Births to non-UK mothers'!L16","v":87},{"$f":"'Pupils'' ethnic group (TS)'!M16","v":1241},{"$f":"'Pupils with English as an add.'!J16","v":400},{"$f":"'Pop born outside UK'!L16","v":6000},{"$f":"'Non-British Population'!L16","v":2000},{"$f":"Citizenships!L16","v":54}]
[13,"East Lothian",null,{"$f":"'Total net migration'!L17","v":710},{"$f":"'Total net migration 0-15'!L17","v":249},{"$f":"'Total net migration 16-64'!L17","v":374},{"$f":"'Total net migration 65+'!L17","v":89},{"$f":"'Total in-migration'!L17","v":4140},{"$f":"'Total out-migration'!L17","v":3420},{"$f":"'Within Scotland net migration'!L17","v":560},{"$f":"'Within Scotland in-migration'!L17","v":3060},{"$f":"'Within Scotland out-migration'!L17","v":2500},{"$f":"'Rest of UK net migration'!L17","v":120},{"$f":"'Rest of UK in-migration'!L17","v":740},{"$f":"'Rest of UK out-migration'!L17","v":620},{"$f":"'International net migration'!L17","v":30},{"$f":"'International in-migration'!L17","v":340},{"$f":"'International out-migration'!L17","v":310},{"$f":"NINo!L17","v":450},{"$f":"'Births to non-UK mothers'!L17","v":126},{"$f":"'Pupils'' ethnic group (TS)'!M17","v":375},{"$f":"'Pupils with English as an add.'!J17","v":263},{"$f":"'Pop born outside UK'!L17","v":5000},{"$f":"'Non-British Population'!L17","v":4000},{"$f":"Citizenships!L17","v":27}]
[14,"East Renfrewshire",null,{"$f":"'Total net migration'!L18","v":890},{"$f":"'Total net migration 0-15'!L18","v":635},{"$f":"'Total net migration 16-64'!L18","v":230},{"$f":"'Total net migration 65+'!L18","v":25},{"$f":"'Total in-migration'!L18","v":3820},{"$f":"'Total out-migration'!L18","v":2930},{"$f":"'Within Scotland net migration'!L18","v":940},{"$f":"'Within Scotland in-migration'!L18","v":3290},{"$f":"'Within Scotland out-migration'!L18","v":2350},{"$f":"'Rest of UK net migration'!L18","v":10},{"$f":"'Rest of UK in-migration'!L18","v":410},{"$f":"'Rest of UK out-migration'!L18","v":400},{"$f":"'International net migration'!L18","v":-50},{"$f":"'International in-migration'!L18","v":130},{"$f":"'International out-migration'!L18","v":180},{"$f":"NINo!L18","v":120},{"$f":"'Births to non-UK mothers'!L18","v":78},{"$f":"'Pupils'' ethnic group (TS)'!M18","v":2621},{"$f":"'Pupils with English as an add.'!J18","v":831},{"$f":"'Pop born outside UK'!L18","v":4000},{"$f":"'Non-British Population'!L18","v":2000},{"$f":"Citizenships!L18","v":61}]
[15,"Falkirk",null,{"$f":"'Total net migration'!L19","v":420},{"$f":"'Total net migration 0-15'!L19","v":82},{"$f":"'Total net migration 16-64'!L19","v":318},{"$f":"'Total net migration 65+'!L19","v":15},{"$f":"'Total in-migration'!L19","v":4170},{"$f":"'Total out-migration'!L19","v":3760},{"$f":"'Within Scotland net migration'!L19","v":170},{"$f":"'Within Scotland in-migration'!L19","v":3060},{"$f":"'Within Scotland out-migration'!L19","v":2880},{"$f":"'Rest of UK net migration'!L19","v":230},{"$f":"'Rest of UK in-migration'!L19","v":790},{"$f":"'Rest of UK out-migration'!L19","v":560},{"$f":"'International net migration'!L19","v":20},{"$f":"'International in-migration'!L19","v":330},{"$f":"'International out-migration'!L19","v":310},{"$f":"NINo!L19","v":410},{"$f":"'Births to non-UK mothers'!L19","v":164},{"$f":"'Pupils'' ethnic group (TS)'!M19","v":724},{"$f":"'Pupils with English as an add.'!J19","v":581},{"$f":"'Pop born outside UK'!L19","v":7000},{"$f":"'Non-British Population'!L19","v":5000},{"$f":"Citizenships!L19","v":48}]
[16,"Fife",null,{"$f":"'Total net migration'!L20","v":650},{"$f":"'Total net migration 0-15'!L20","v":101},{"$f":"'Total net migration 16-64'!L20","v":363},{"$f":"'Total net migration 65+'!L20","v":186},{"$f":"'Total in-migration'!L20","v":10890},{"$f":"'Total out-migration'!L20","v":10240},{"$f":"'Within Scotland net migration'!L20","v":-90},{"$f":"'Within Scotland in-migration'!L20","v":6040},{"$f":"'Within Scotland out-migration'!L20","v":6120},{"$f":"'Rest of UK net migration'!L20","v":630},{"$f":"'Rest of UK in-migration'!L20","v":3230},{"$f":"'Rest of UK out-migration'!L20","v":2600},{"$f":"'International net migration'!L20","v":110},{"$f":"'International in-migration'!L20","v":1630},{"$f":"'International out-migration'!L20","v":1520},{"$f":"NINo!L20","v":2450},{"$f":"'Births to non-UK mothers'!L20","v":408},{"$f":"'Pupils'' ethnic group (TS)'!M20","v":1568},{"$f":"'Pupils with English as an add.'!J20","v":1004},{"$f":"'Pop born outside UK'!L20","v":18000},{"$f":"'Non-British Population'!L20","v":12000},{"$f":"Citizenships!L20","v":145}]
[17,"Glasgow City",null,{"$f":"'Total net migration'!L21","v":2050},{"$f":"'Total net migration 0-15'!L21","v":-1001},{"$f":"'Total net migration 16-64'!L21","v":3303},{"$f":"'Total net migration 65+'!L21","v":-255},{"$f":"'Total in-migration'!L21","v":30310},{"$f":"'Total out-migration'!L21","v":28270},{"$f":"'Within Scotland net migration'!L21","v":-2680},{"$f":"'Within Scotland in-migration'!L21","v":14980},{"$f":"'Within Scotland out-migration'!L21","v":17660},{"$f":"'Rest of UK net migration'!L21","v":730},{"$f":"'Rest of UK in-migration'!L21","v":6440},{"$f":"'Rest of UK out-migration'!L21","v":5700},{"$f":"'International net migration'!L21","v":4000},{"$f":"'International in-migration'!L21","v":8900},{"$f":"'International out-migration'!L21","v":4900},{"$f":"NINo!L21","v":8400},{"$f":"'Births to non-UK mothers'!L21","v":2037},{"$f":"'Pupils'' ethnic group (TS)'!M21","v":12552},{"$f":"'Pupils with English as an add.'!J21","v":11190},{"$f":"'Pop born outside UK'!L21","v":80000},{"$f":"'Non-British Population'!L21","v":55000},{"$f":"Citizenships!L21","v":915}]
[18,"Highland",null,{"$f":"'Total net migration'!L22","v":240},{"$f":"'Total net migration 0-15'!L22","v":111},{"$f":"'Total net migration 16-64'!L22","v":172},{"$f":"'Total net migration 65+'!L22","v":-44},{"$f":"'Total in-migration'!L22","v":7240},{"$f":"'Total out-migration'!L22","v":7000},{"$f":"'Within Scotland net migration'!L22","v":-410},{"$f":"'Within Scotland in-migration'!L22","v":4060},{"$f":"'Within Scotland out-migration'!L22","v":4470},{"$f":"'Rest of UK net migration'!L22","v":740},{"$f":"'Rest of UK in-migration'!L22","v":2470},{"$f":"'Rest of UK out-migration'!L22","v":1730},{"$f":"'International net migration'!L22","v":-90},{"$f":"'International in-migration'!L22","v":720},{"$f":"'International out-migration'!L22","v":810},{"$f":"NINo!L22","v":1600},{"$f":"'Births to non-UK mothers'!L22","v":337},{"$f":"'Pupils'' ethnic group (TS)'!M22","v":738},{"$f":"'Pupils with English as an add.'!J22","v":976},{"$f":"'Pop born outside UK'!L22","v":15000},{"$f":"'Non-British Population'!L22","v":8000},{"$f":"Citizenships!L22","v":75}]
[19,"Inverclyde",null,{"$f":"'Total net migration'!L23","v":-270},{"$f":"'Total net migration 0-15'!L23","v":-3},{"$f":"'Total net migration 16-64'!L23","v":-236},{"$f":"'Total net migration 65+'!L23","v":-31},{"$f":"'Total in-migration'!L23","v":1380},{"$f":"'Total out-migration'!L23","v":1650},{"$f":"'Within Scotland net migration'!L23","v":-290},{"$f":"'Within Scotland in-migration'!L23","v":940},{"$f":"'Within Scotland out-migration'!L23","v":1230},{"$f":"'Rest of UK net migration'!L23","v":80},{"$f":"'Rest of UK in-migration'!L23","v":370},{"$f":"'Rest of UK out-migration'!L23","v":290},{"$f":"'International net migration'!L23","v":-60},{"$f":"'International in-migration'!L23","v":70},{"$f":"'International out-migration'!L23","v":130},{"$f":"NINo!L23","v":90},{"$f":"'Births to non-UK mothers'!L23","v":28},{"$f":"'Pupils'' ethnic group (TS)'!M23","v":189},{"$f":"'Pupils with English as an add.'!J23","v":44},{"$f":"'Pop born outside UK'!L23","v":2000},{"$f":"'Non-British Population'!L23","v":1000},{"$f":"Citizenships!L23","v":17}]
[20,"Midlothian",null,{"$f":"'Total net migration'!L24","v":1020},{"$f":"'Total net migration 0-15'!L24","v":275},{"$f":"'Total net migration 16-64'!L24","v":753},{"$f":"'Total net migration 65+'!L24","v":-8},{"$f":"'Total in-migration'!L24","v":3530},{"$f":"'Total out-migration'!L24","v":2510},{"$f":"'Within Scotland net migration'!L24","v":950},{"$f":"'Within Scotland in-migration'!L24","v":2870},{"$f":"'Within Scotland out-migration'!L24","v":1920},{"$f":"'Rest of UK net migration'!L24","v":110},{"$f":"'Rest of UK in-migration'!L24","v":510},{"$f":"'Rest of UK out-migration'!L24","v":400},{"$f":"'International net migration'!L24","v":-40},{"$f":"'International in-migration'!L24","v":150},{"$f":"'International out-migration'!L24","v":190},{"$f":"NINo!L24","v":260},{"$f":"'Births to non-UK mothers'!L24","v":99},{"$f":"'Pupils'' ethnic group (TS)'!M24","v":406},{"$f":"'Pupils with English as an add.'!J24","v":266},{"$f":"'Pop born outside UK'!L24","v":4000},{"$f":"'Non-British Population'!L24","v":3000},{"$f":"Citizenships!L24","v":50}]
[21,"Moray",null,{"$f":"'Total net migration'!L25","v":470},{"$f":"'Total net migration 0-15'!L25","v":162},{"$f":"'Total net migration 16-64'!L25","v":198},{"$f":"'Total net migration 65+'!L25","v":107},{"$f":"'Total in-migration'!L25","v":3480},{"$f":"'Total out-migration'!L25","v":3010},{"$f":"'Within Scotland net migration'!L25","v":180},{"$f":"'Within Scotland in-migration'!L25","v":1900},{"$f":"'Within Scotland out-migration'!L25","v":1720},{"$f":"'Rest of UK net migration'!L25","v":330},{"$f":"'Rest of UK in-migration'!L25","v":1300},{"$f":"'Rest of UK out-migration'!L25","v":970},{"$f":"'International net migration'!L25","v":-40},{"$f":"'International in-migration'!L25","v":280},{"$f":"'International out-migration'!L25","v":320},{"$f":"NINo!L25","v":310},{"$f":"'Births to non-UK mothers'!L25","v":107},{"$f":"'Pupils'' ethnic group (TS)'!M25","v":291},{"$f":"'Pupils with English as an add.'!J25","v":381},{"$f":"'Pop born outside UK'!L25","v":4000},{"$f":"'Non-British Population'!L25","v":2000},{"$f":"Citizenships!L25","v":29}]
[22,"Na h-Eileanan Siar",null,{"$f":"'Total net migration'!L26","v":-90},{"$f":"'Total net migration 0-15'!L26","v":0},{"$f":"'Total net migration 16-64'!L26","v":-90},{"$f":"'Total net migration 65+'!L26","v":2},{"$f":"'Total in-migration'!L26","v":820},{"$f":"'Total out-migration'!L26","v":910},{"$f":"'Within Scotland net migration'!L26","v":-60},{"$f":"'Within Scotland in-migration'!L26","v":560},{"$f":"'Within Scotland out-migration'!L26","v":620},{"$f":"'Rest of UK net migration'!L26","v":20},{"$f":"'Rest of UK in-migration'!L26","v":230},{"$f":"'Rest of UK out-migration'!L26","v":210},{"$f":"'International net migration'!L26","v":-50},{"$f":"'International in-migration'!L26","v":30},{"$f":"'International out-migration'!L26","v":80},{"$f":"NINo!L26","v":60},{"$f":"'Births to non-UK mothers'!L26","v":17},{"$f":"'Pupils'' ethnic group (TS)'!M26","v":62},{"$f":"'Pupils with English as an add.'!J26","v":54},{"$f":"'Pop born outside UK'!L26","v":1000},{"$f":"'Non-British Population'!L26","v":"[c]"},{"$f":"Citizenships!L26","v":9}]
[23,"North Ayrshire",null,{"$f":"'Total net migration'!L27","v":-140},{"$f":"'Total net migration 0-15'!L27","v":91},{"$f":"'Total net migration 16-64'!L27","v":-271},{"$f":"'Total net migration 65+'!L27","v":43},{"$f":"'Total in-migration'!L27","v":3550},{"$f":"'Total out-migration'!L27","v":3690},{"$f":"'Within Scotland net migration'!L27","v":-210},{"$f":"'Within Scotland in-migration'!L27","v":2540},{"$f":"'Within Scotland out-migration'!L27","v":2750},{"$f":"'Rest of UK net migration'!L27","v":240},{"$f":"'Rest of UK in-migration'!L27","v":880},{"$f":"'Rest of UK out-migration'!L27","v":640},{"$f":"'International net migration'!L27","v":-170},{"$f":"'International in-migration'!L27","v":140},{"$f":"'International out-migration'!L27","v":300},{"$f":"NINo!L27","v":130},{"$f":"'Births to non-UK mothers'!L27","v":56},{"$f":"'Pupils'' ethnic group (TS)'!M27","v":327},{"$f":"'Pupils with English as an add.'!J27","v":117},{"$f":"'Pop born outside UK'!L27","v":3000},{"$f":"'Non-British Population'!L27","v":2000},{"$f":"Citizenships!L27","v":21}]
[24,"North Lanarkshire",null,{"$f":"'Total net migration'!L28","v":-90},{"$f":"'Total net migration 0-15'!L28","v":81},{"$f":"'Total net migration 16-64'!L28","v":-138},{"$f":"'Total net migration 65+'!L28","v":-29},{"$f":"'Total in-migration'!L28","v":6920},{"$f":"'Total out-migration'!L28","v":7010},{"$f":"'Within Scotland net migration'!L28","v":-180},{"$f":"'Within Scotland in-migration'!L28","v":5180},{"$f":"'Within Scotland out-migration'!L28","v":5370},{"$f":"'Rest of UK net migration'!L28","v":260},{"$f":"'Rest of UK in-migration'!L28","v":1250},{"$f":"'Rest of UK out-migration'!L28","v":990},{"$f":"'International net migration'!L28","v":-170},{"$f":"'International in-migration'!L28","v":490},{"$f":"'International out-migration'!L28","v":660},{"$f":"NINo!L28","v":790},{"$f":"'Births to non-UK mothers'!L28","v":273},{"$f":"'Pupils'' ethnic group (TS)'!M28","v":1795},{"$f":"'Pupils with English as an add.'!J28","v":1121},{"$f":"'Pop born outside UK'!L28","v":11000},{"$f":"'Non-British Population'!L28","v":9000},{"$f":"Citizenships!L28","v":80}]
[25,"Orkney Islands",null,{"$f":"'Total net migration'!L29","v":70},{"$f":"'Total net migration 0-15'!L29","v":44},{"$f":"'Total net migration 16-64'!L29","v":14},{"$f":"'Total net migration 65+'!L29","v":9},{"$f":"'Total in-migration'!L29","v":750},{"$f":"'Total out-migration'!L29","v":680},{"$f":"'Within Scotland net migration'!L29","v":-40},{"$f":"'Within Scotland in-migration'!L29","v":380},{"$f":"'Within Scotland out-migration'!L29","v":420},{"$f":"'Rest of UK net migration'!L29","v":120},{"$f":"'Rest of UK in-migration'!L29","v":320},{"$f":"'Rest of UK out-migration'!L29","v":190},{"$f":"'International net migration'!L29","v":-20},{"$f":"'International in-migration'!L29","v":50},{"$f":"'International out-migration'!L29","v":70},{"$f":"NINo!L29","v":50},{"$f":"'Births to non-UK mothers'!L29","v":11},{"$f":"'Pupils'' ethnic group (TS)'!M29","v":42},{"$f":"'Pupils with English as an add.'!J29","v":14},{"$f":"'Pop born outside UK'!L29","v":"[low]"},{"$f":"'Non-British Population'!L29","v":"[c]"},{"$f":"Citizenships!L29","v":5}]
[26,"Perth and Kinross",null,{"$f":"'Total net migration'!L30","v":1410},{"$f":"'Total net migration 0-15'!L30","v":424},{"$f":"'Total net migration 16-64'!L30","v":945},{"$f":"'Total net migration 65+'!L30","v":38},{"$f":"'Total in-migration'!L30","v":6760},{"$f":"'Total out-migration'!L30","v":5350},{"$f":"'Within Scotland net migration'!L30","v":610},{"$f":"'Within Scotland in-migration'!L30","v":4140},{"$f":"'Within Scotland out-migration'!L30","v":3530},{"$f":"'Rest of UK net migration'!L30","v":330},{"$f":"'Rest of UK in-migration'!L30","v":1380},{"$f":"'Rest of UK out-migration'!L30","v":1050},{"$f":"'International net migration'!L30","v":470},{"$f":"'International in-migration'!L30","v":1240},{"$f":"'International out-migration'!L30","v":770},{"$f":"NINo!L30","v":2460},{"$f":"'Births to non-UK mothers'!L30","v":233},{"$f":"'Pupils'' ethnic group (TS)'!M30","v":572},{"$f":"'Pupils with English as an add.'!J30","v":630},{"$f":"'Pop born outside UK'!L30","v":11000},{"$f":"'Non-British Population'!L30","v":8000},{"$f":"Citizenships!L30","v":54}]
[27,"Renfrewshire",null,{"$f":"'Total net migration'!L31","v":370},{"$f":"'Total net migration 0-15'!L31","v":52},{"$f":"'Total net migration 16-64'!L31","v":254},{"$f":"'Total net migration 65+'!L31","v":66},{"$f":"'Total in-migration'!L31","v":5030},{"$f":"'Total out-migration'!L31","v":4660},{"$f":"'Within Scotland net migration'!L31","v":380},{"$f":"'Within Scotland in-migration'!L31","v":3900},{"$f":"'Within Scotland out-migration'!L31","v":3510},{"$f":"'Rest of UK net migration'!L31","v":0},{"$f":"'Rest of UK in-migration'!L31","v":700},{"$f":"'Rest of UK out-migration'!L31","v":700},{"$f":"'International net migration'!L31","v":-10},{"$f":"'International in-migration'!L31","v":430},{"$f":"'International out-migration'!L31","v":440},{"$f":"NINo!L31","v":670},{"$f":"'Births to non-UK mothers'!L31","v":186},{"$f":"'Pupils'' ethnic group (TS)'!M31","v":891},{"$f":"'Pupils with English as an add.'!J31","v":480},{"$f":"'Pop born outside UK'!L31","v":11000},{"$f":"'Non-British Population'!L31","v":9000},{"$f":"Citizenships!L31","v":75}]
[28,"Scottish Borders",null,{"$f":"'Total net migration'!L32","v":280},{"$f":"'Total net migration 0-15'!L32","v":172},{"$f":"'Total net migration 16-64'!L32","v":173},{"$f":"'Total net migration 65+'!L32","v":-65},{"$f":"'Total in-migration'!L32","v":4200},{"$f":"'Total out-migration'!L32","v":3920},{"$f":"'Within Scotland net migration'!L32","v":70},{"$f":"'Within Scotland in-migration'!L32","v":2320},{"$f":"'Within Scotland out-migration'!L32","v":2250},{"$f":"'Rest of UK net migration'!L32","v":390},{"$f":"'Rest of UK in-migration'!L32","v":1600},{"$f":"'Rest of UK out-migration'!L32","v":1210},{"$f":"'International net migration'!L32","v":-170},{"$f":"'International in-migration'!L32","v":280},{"$f":"'International out-migration'!L32","v":460},{"$f":"NINo!L32","v":360},{"$f":"'Births to non-UK mothers'!L32","v":121},{"$f":"'Pupils'' ethnic group (TS)'!M32","v":322},{"$f":"'Pupils with English as an add.'!J32","v":394},{"$f":"'Pop born outside UK'!L32","v":6000},{"$f":"'Non-British Population'!L32","v":5000},{"$f":"Citizenships!L32","v":27}]
[29,"Shetland Islands",null,{"$f":"'Total net migration'!L33","v":-10},{"$f":"'Total net migration 0-15'!L33","v":4},{"$f":"'Total net migration 16-64'!L33","v":-1},{"$f":"'Total net migration 65+'!L33","v":-8},{"$f":"'Total in-migration'!L33","v":670},{"$f":"'Total out-migration'!L33","v":680},{"$f":"'Within Scotland net migration'!L33","v":-30},{"$f":"'Within Scotland in-migration'!L33","v":360},{"$f":"'Within Scotland out-migration'!L33","v":390},{"$f":"'Rest of UK net migration'!L33","v":60},{"$f":"'Rest of UK in-migration'!L33","v":270},{"$f":"'Rest of UK out-migration'!L33","v":200},{"$f":"'International net migration'!L33","v":-40},{"$f":"'International in-migration'!L33","v":50},{"$f":"'International out-migration'!L33","v":90},{"$f":"NINo!L33","v":540},{"$f":"'Births to non-UK mothers'!L33","v":28},{"$f":"'Pupils'' ethnic group (TS)'!M33","v":88},{"$f":"'Pupils with English as an add.'!J33","v":49},{"$f":"'Pop born outside UK'!L33","v":1000},{"$f":"'Non-British Population'!L33","v":"[low]"},{"$f":"Citizenships!L33","v":9}]
[30,"South Ayrshire",null,{"$f":"'Total net migration'!L34","v":100},{"$f":"'Total net migration 0-15'!L34","v":86},{"$f":"'Total net migration 16-64'!L34","v":-86},{"$f":"'Total net migration 65+'!L34","v":103},{"$f":"'Total in-migration'!L34","v":3430},{"$f":"'Total out-migration'!L34","v":3330},{"$f":"'Within Scotland net migration'!L34","v":100},{"$f":"'Within Scotland in-migration'!L34","v":2480},{"$f":"'Within Scotland out-migration'!L34","v":2380},{"$f":"'Rest of UK net migration'!L34","v":170},{"$f":"'Rest of UK in-migration'!L34","v":790},{"$f":"'Rest of UK out-migration'!L34","v":620},{"$f":"'International net migration'!L34","v":-170},{"$f":"'International in-migration'!L34","v":170},{"$f":"'International out-migration'!L34","v":330},{"$f":"NINo!L34","v":240},{"$f":"'Births to non-UK mothers'!L34","v":59},{"$f":"'Pupils'' ethnic group (TS)'!M34","v":287},{"$f":"'Pupils with English as an add.'!J34","v":174},{"$f":"'Pop born outside UK'!L34","v":4000},{"$f":"'Non-British Population'!L34","v":2000},{"$f":"Citizenships!L34","v":35}]
[31,"South Lanarkshire",null,{"$f":"'Total net migration'!L35","v":510},{"$f":"'Total net migration 0-15'!L35","v":146},{"$f":"'Total net migration 16-64'!L35","v":318},{"$f":"'Total net migration 65+'!L35","v":47},{"$f":"'Total in-migration'!L35","v":8290},{"$f":"'Total out-migration'!L35","v":7780},{"$f":"'Within Scotland net migration'!L35","v":540},{"$f":"'Within Scotland in-migration'!L35","v":6410},{"$f":"'Within Scotland out-migration'!L35","v":5880},{"$f":"'Rest of UK net migration'!L35","v":350},{"$f":"'Rest of UK in-migration'!L35","v":1510},{"$f":"'Rest of UK out-migration'!L35","v":1160},{"$f":"'International net migration'!L35","v":-370},{"$f":"'International in-migration'!L35","v":370},{"$f":"'International out-migration'!L35","v":740},{"$f":"NINo!L35","v":640},{"$f":"'Births to non-UK mothers'!L35","v":239},{"$f":"'Pupils'' ethnic group (TS)'!M35","v":1595},{"$f":"'Pupils with English as an add.'!J35","v":660},{"$f":"'Pop born outside UK'!L35","v":9000},{"$f":"'Non-British Population'!L35","v":6000},{"$f":"Citizenships!L35","v":138}]
[32,"Stirling",null,{"$f":"'Total net migration'!L36","v":470},{"$f":"'Total net migration 0-15'!L36","v":230},{"$f":"'Total net migration 16-64'!L36","v":235},{"$f":"'Total net migration 65+'!L36","v":2},{"$f":"'Total in-migration'!L36","v":5130},{"$f":"'Total out-migration'!L36","v":4670},{"$f":"'Within Scotland net migration'!L36","v":60},{"$f":"'Within Scotland in-migration'!L36","v":3320},{"$f":"'Within Scotland out-migration'!L36","v":3250},{"$f":"'Rest of UK net migration'!L36","v":450},{"$f":"'Rest of UK in-migration'!L36","v":1200},{"$f":"'Rest of UK out-migration'!L36","v":750},{"$f":"'International net migration'!L36","v":-40},{"$f":"'International in-migration'!L36","v":610},{"$f":"'International out-migration'!L36","v":660},{"$f":"NINo!L36","v":580},{"$f":"'Births to non-UK mothers'!L36","v":109},{"$f":"'Pupils'' ethnic group (TS)'!M36","v":443},{"$f":"'Pupils with English as an add.'!J36","v":264},{"$f":"'Pop born outside UK'!L36","v":7000},{"$f":"'Non-British Population'!L36","v":6000},{"$f":"Citizenships!L36","v":46}]
[33,"West Dunbartonshire",null,{"$f":"'Total net migration'!L37","v":-100},{"$f":"'Total net migration 0-15'!L37","v":-27},{"$f":"'Total net migration 16-64'!L37","v":-51},{"$f":"'Total net migration 65+'!L37","v":-20},{"$f":"'Total in-migration'!L37","v":2260},{"$f":"'Total out-migration'!L37","v":2350},{"$f":"'Within Scotland net migration'!L37","v":-130},{"$f":"'Within Scotland in-migration'!L37","v":1760},{"$f":"'Within Scotland out-migration'!L37","v":1890},{"$f":"'Rest of UK net migration'!L37","v":70},{"$f":"'Rest of UK in-migration'!L37","v":380},{"$f":"'Rest of UK out-migration'!L37","v":320},{"$f":"'International net migration'!L37","v":-30},{"$f":"'International in-migration'!L37","v":120},{"$f":"'International out-migration'!L37","v":150},{"$f":"NINo!L37","v":170},{"$f":"'Births to non-UK mothers'!L37","v":51},{"$f":"'Pupils'' ethnic group (TS)'!M37","v":309},{"$f":"'Pupils with English as an add.'!J37","v":201},{"$f":"'Pop born outside UK'!L37","v":3000},{"$f":"'Non-British Population'!L37","v":2000},{"$f":"Citizenships!L37","v":23}]
[34,"West Lothian",null,{"$f":"'Total net migration'!L38","v":440},{"$f":"'Total net migration 0-15'!L38","v":196},{"$f":"'Total net migration 16-64'!L38","v":196},{"$f":"'Total net migration 65+'!L38","v":52},{"$f":"'Total in-migration'!L38","v":5230},{"$f":"'Total out-migration'!L38","v":4790},{"$f":"'Within Scotland net migration'!L38","v":160},{"$f":"'Within Scotland in-migration'!L38","v":3700},{"$f":"'Within Scotland out-migration'!L38","v":3540},{"$f":"'Rest of UK net migration'!L38","v":220},{"$f":"'Rest of UK in-migration'!L38","v":970},{"$f":"'Rest of UK out-migration'!L38","v":750},{"$f":"'International net migration'!L38","v":60},{"$f":"'International in-migration'!L38","v":560},{"$f":"'International out-migration'!L38","v":500},{"$f":"NINo!L38","v":850},{"$f":"'Births to non-UK mothers'!L38","v":298},{"$f":"'Pupils'' ethnic group (TS)'!M38","v":1166},{"$f":"'Pupils with English as an add.'!J38","v":1033},{"$f":"'Pop born outside UK'!L38","v":10000},{"$f":"'Non-British Population'!L38","v":8000},{"$f":"Citizenships!L38","v":105}]
[]
[35,"Not specified"]
[36,"Scotland",null,{"$f":"'Total net migration'!L6","v":17600},{"$f":"'Total net migration 0-15'!L6","v":3092},{"$f":"'Total net migration 16-64'!L6","v":14470},{"$f":"'Total net migration 65+'!L6","v":23},{"$f":"'Total in-migration'!L6","v":82400},{"$f":"'Total out-migration'!L6","v":64900},{"$f":"'Within Scotland net migration'!L41","v":"[z]"},{"$f":"'Within Scotland in-migration'!L41","v":"[z]"},{"$f":"'Within Scotland out-migration'!L41","v":"[z]"},{"$f":"'Rest of UK net migration'!L41","v":9600},{"$f":"'Rest of UK in-migration'!L41","v":49200},{"$f":"'Rest of UK out-migration'!L41","v":39700},{"$f":"'International net migration'!L41","v":8000},{"$f":"'International in-migration'!L41","v":33200},{"$f":"'International out-migration'!L41","v":25200},null,{"$f":"'Births to non-UK mothers'!L41","v":9178}]
[37,"Ayrshire and Arran",null,{"$f":"'Total net migration'!L42","v":-120},{"$f":"'Total net migration 0-15'!L42","v":193},{"$f":"'Total net migration 16-64'!L42","v":-433},{"$f":"'Total net migration 65+'!L42","v":116},{"$f":"'Total in-migration'!L42","v":7780},{"$f":"'Total out-migration'!L42","v":7900},{"$f":"'Within Scotland net migration'!L42","v":-70},{"$f":"'Within Scotland in-migration'!L42","v":5050},{"$f":"'Within Scotland out-migration'!L42","v":5120},{"$f":"'Rest of UK net migration'!L42","v":450},{"$f":"'Rest of UK in-migration'!L42","v":2330},{"$f":"'Rest of UK out-migration'!L42","v":1880},{"$f":"'International net migration'!L42","v":-510},{"$f":"'International in-migration'!L42","v":400},{"$f":"'International out-migration'!L42","v":900},null,{"$f":"'Births to non-UK mothers'!L42","v":159}]
[38,"Borders",null,{"$f":"'Total net migration'!L43","v":280},{"$f":"'Total net migration 0-15'!L43","v":172},{"$f":"'Total net migration 16-64'!L43","v":173},{"$f":"'Total net migration 65+'!L43","v":-65},{"$f":"'Total in-migration'!L43","v":4200},{"$f":"'Total out-migration'!L43","v":3920},{"$f":"'Within Scotland net migration'!L43","v":70},{"$f":"'Within Scotland in-migration'!L43","v":2320},{"$f":"'Within Scotland out-migration'!L43","v":2250},{"$f":"'Rest of UK net migration'!L43","v":390},{"$f":"'Rest of UK in-migration'!L43","v":1600},{"$f":"'Rest of UK out-migration'!L43","v":1210},{"$f":"'International net migration'!L43","v":-170},{"$f":"'International in-migration'!L43","v":280},{"$f":"'International out-migration'!L43","v":460},null,{"$f":"'Births to non-UK mothers'!L43","v":121}]
[39,"Dumfries and Galloway",null,{"$f":"'Total net migration'!L44","v":330},{"$f":"'Total net migration 0-15'!L44","v":169},{"$f":"'Total net migration 16-64'!L44","v":105},{"$f":"'Total net migration 65+'!L44","v":60},{"$f":"'Total in-migration'!L44","v":4050},{"$f":"'Total out-migration'!L44","v":3710},{"$f":"'Within Scotland net migration'!L44","v":-110},{"$f":"'Within Scotland in-migration'!L44","v":1730},{"$f":"'Within Scotland out-migration'!L44","v":1840},{"$f":"'Rest of UK net migration'!L44","v":710},{"$f":"'Rest of UK in-migration'!L44","v":2110},{"$f":"'Rest of UK out-migration'!L44","v":1400},{"$f":"'International net migration'!L44","v":-270},{"$f":"'International in-migration'!L44","v":210},{"$f":"'International out-migration'!L44","v":480},null,{"$f":"'Births to non-UK mothers'!L44","v":91}]
[40,"Fife",null,{"$f":"'Total net migration'!L45","v":650},{"$f":"'Total net migration 0-15'!L45","v":101},{"$f":"'Total net migration 16-64'!L45","v":363},{"$f":"'Total net migration 65+'!L45","v":186},{"$f":"'Total in-migration'!L45","v":10890},{"$f":"'Total out-migration'!L45","v":10240},{"$f":"'Within Scotland net migration'!L45","v":-90},{"$f":"'Within Scotland in-migration'!L45","v":6040},{"$f":"'Within Scotland out-migration'!L45","v":6120},{"$f":"'Rest of UK net migration'!L45","v":630},{"$f":"'Rest of UK in-migration'!L45","v":3230},{"$f":"'Rest of UK out-migration'!L45","v":2600},{"$f":"'International net migration'!L45","v":110},{"$f":"'International in-migration'!L45","v":1630},{"$f":"'International out-migration'!L45","v":1520},null,{"$f":"'Births to non-UK mothers'!L45","v":408}]
[41,"Forth Valley",null,{"$f":"'Total net migration'!L46","v":800},{"$f":"'Total net migration 0-15'!L46","v":288},{"$f":"'Total net migration 16-64'!L46","v":480},{"$f":"'Total net migration 65+'!L46","v":32},{"$f":"'Total in-migration'!L46","v":9450},{"$f":"'Total out-migration'!L46","v":8650},{"$f":"'Within Scotland net migration'!L46","v":180},{"$f":"'Within Scotland in-migration'!L46","v":6060},{"$f":"'Within Scotland out-migration'!L46","v":5880},{"$f":"'Rest of UK net migration'!L46","v":680},{"$f":"'Rest of UK in-migration'!L46","v":2320},{"$f":"'Rest of UK out-migration'!L46","v":1640},{"$f":"'International net migration'!L46","v":-60},{"$f":"'International in-migration'!L46","v":1070},{"$f":"'International out-migration'!L46","v":1120},null,{"$f":"'Births to non-UK mothers'!L46","v":322}]
[42,"Grampian",null,{"$f":"'Total net migration'!L47","v":3920},{"$f":"'Total net migration 0-15'!L47","v":694},{"$f":"'Total net migration 16-64'!L47","v":3500},{"$f":"'Total net migration 65+'!L47","v":-274},{"$f":"'Total in-migration'!L47","v":20220},{"$f":"'Total out-migration'!L47","v":16300},{"$f":"'Within Scotland net migration'!L47","v":690},{"$f":"'Within Scotland in-migration'!L47","v":8370},{"$f":"'Within Scotland out-migration'!L47","v":7680},{"$f":"'Rest of UK net migration'!L47","v":1190},{"$f":"'Rest of UK in-migration'!L47","v":6300},{"$f":"'Rest of UK out-migration'!L47","v":5120},{"$f":"'International net migration'!L47","v":2050},{"$f":"'International in-migration'!L47","v":5550},{"$f":"'International out-migration'!L47","v":3500},null,{"$f":"'Births to non-UK mothers'!L47","v":1543}]
[43,"Greater Glasgow and Clyde",null,{"$f":"'Total net migration'!L48","v":3850},{"$f":"'Total net migration 0-15'!L48","v":152},{"$f":"'Total net migration 16-64'!L48","v":3839},{"$f":"'Total net migration 65+'!L48","v":-141},{"$f":"'Total in-migration'!L48","v":34840},{"$f":"'Total out-migration'!L48","v":30990},{"$f":"'Within Scotland net migration'!L48","v":-720},{"$f":"'Within Scotland in-migration'!L48","v":16350},{"$f":"'Within Scotland out-migration'!L48","v":17070},{"$f":"'Rest of UK net migration'!L48","v":840},{"$f":"'Rest of UK in-migration'!L48","v":8750},{"$f":"'Rest of UK out-migration'!L48","v":7910},{"$f":"'International net migration'!L48","v":3730},{"$f":"'International in-migration'!L48","v":9740},{"$f":"'International out-migration'!L48","v":6010},null,{"$f":"'Births to non-UK mothers'!L48","v":2467}]
[44,"Highland",null,{"$f":"'Total net migration'!L49","v":-40},{"$f":"'Total net migration 0-15'!L49","v":166},{"$f":"'Total net migration 16-64'!L49","v":-97},{"$f":"'Total net migration 65+'!L49","v":-105},{"$f":"'Total in-migration'!L49","v":10690},{"$f":"'Total out-migration'!L49","v":10720},{"$f":"'Within Scotland net migration'!L49","v":-850},{"$f":"'Within Scotland in-migration'!L49","v":5880},{"$f":"'Within Scotland out-migration'!L49","v":6740},{"$f":"'Rest of UK net migration'!L49","v":1140},{"$f":"'Rest of UK in-migration'!L49","v":3850},{"$f":"'Rest of UK out-migration'!L49","v":2710},{"$f":"'International net migration'!L49","v":-320},{"$f":"'International in-migration'!L49","v":960},{"$f":"'International out-migration'!L49","v":1280},null,{"$f":"'Births to non-UK mothers'!L49","v":418}]
[45,"Lanarkshire",null,{"$f":"'Total net migration'!L50","v":430},{"$f":"'Total net migration 0-15'!L50","v":227},{"$f":"'Total net migration 16-64'!L50","v":180},{"$f":"'Total net migration 65+'!L50","v":18},{"$f":"'Total in-migration'!L50","v":12930},{"$f":"'Total out-migration'!L50","v":12510},{"$f":"'Within Scotland net migration'!L50","v":360},{"$f":"'Within Scotland in-migration'!L50","v":9310},{"$f":"'Within Scotland out-migration'!L50","v":8960},{"$f":"'Rest of UK net migration'!L50","v":610},{"$f":"'Rest of UK in-migration'!L50","v":2760},{"$f":"'Rest of UK out-migration'!L50","v":2150},{"$f":"'International net migration'!L50","v":-540},{"$f":"'International in-migration'!L50","v":860},{"$f":"'International out-migration'!L50","v":1400},null,{"$f":"'Births to non-UK mothers'!L50","v":512}]
[46,"Lothian",null,{"$f":"'Total net migration'!L51","v":5470},{"$f":"'Total net migration 0-15'!L51","v":356},{"$f":"'Total net migration 16-64'!L51","v":4944},{"$f":"'Total net migration 65+'!L51","v":172},{"$f":"'Total in-migration'!L51","v":33970},{"$f":"'Total out-migration'!L51","v":28490},{"$f":"'Within Scotland net migration'!L51","v":-50},{"$f":"'Within Scotland in-migration'!L51","v":12790},{"$f":"'Within Scotland out-migration'!L51","v":12840},{"$f":"'Rest of UK net migration'!L51","v":2190},{"$f":"'Rest of UK in-migration'!L51","v":11660},{"$f":"'Rest of UK out-migration'!L51","v":9470},{"$f":"'International net migration'!L51","v":3330},{"$f":"'International in-migration'!L51","v":9510},{"$f":"'International out-migration'!L51","v":6190},null,{"$f":"'Births to non-UK mothers'!L51","v":2403}]
[47,"Orkney",null,{"$f":"'Total net migration'!L52","v":70},{"$f":"'Total net migration 0-15'!L52","v":44},{"$f":"'Total net migration 16-64'!L52","v":14},{"$f":"'Total net migration 65+'!L52","v":9},{"$f":"'Total in-migration'!L52","v":750},{"$f":"'Total out-migration'!L52","v":680},{"$f":"'Within Scotland net migration'!L52","v":-40},{"$f":"'Within Scotland in-migration'!L52","v":380},{"$f":"'Within Scotland out-migration'!L52","v":420},{"$f":"'Rest of UK net migration'!L52","v":120},{"$f":"'Rest of UK in-migration'!L52","v":320},{"$f":"'Rest of UK out-migration'!L52","v":190},{"$f":"'International net migration'!L52","v":-20},{"$f":"'International in-migration'!L52","v":50},{"$f":"'International out-migration'!L52","v":70},null,{"$f":"'Births to non-UK mothers'!L52","v":11}]
[48,"Shetland",null,{"$f":"'Total net migration'!L53","v":-10},{"$f":"'Total net migration 0-15'!L53","v":4},{"$f":"'Total net migration 16-64'!L53","v":-1},{"$f":"'Total net migration 65+'!L53","v":-8},{"$f":"'Total in-migration'!L53","v":670},{"$f":"'Total out-migration'!L53","v":680},{"$f":"'Within Scotland net migration'!L53","v":-30},{"$f":"'Within Scotland in-migration'!L53","v":360},{"$f":"'Within Scotland out-migration'!L53","v":390},{"$f":"'Rest of UK net migration'!L53","v":60},{"$f":"'Rest of UK in-migration'!L53","v":270},{"$f":"'Rest of UK out-migration'!L53","v":200},{"$f":"'International net migration'!L53","v":-40},{"$f":"'International in-migration'!L53","v":50},{"$f":"'International out-migration'!L53","v":90},null,{"$f":"'Births to non-UK mothers'!L53","v":28}]
[49,"Tayside",null,{"$f":"'Total net migration'!L54","v":2040},{"$f":"'Total net migration 0-15'!L54","v":526},{"$f":"'Total net migration 16-64'!L54","v":1493},{"$f":"'Total net migration 65+'!L54","v":21},{"$f":"'Total in-migration'!L54","v":14430},{"$f":"'Total out-migration'!L54","v":12390},{"$f":"'Within Scotland net migration'!L54","v":730},{"$f":"'Within Scotland in-migration'!L54","v":8060},{"$f":"'Within Scotland out-migration'!L54","v":7330},{"$f":"'Rest of UK net migration'!L54","v":560},{"$f":"'Rest of UK in-migration'!L54","v":3520},{"$f":"'Rest of UK out-migration'!L54","v":2960},{"$f":"'International net migration'!L54","v":750},{"$f":"'International in-migration'!L54","v":2860},{"$f":"'International out-migration'!L54","v":2110},null,{"$f":"'Births to non-UK mothers'!L54","v":678}]
[50,"Western Isles",null,{"$f":"'Total net migration'!L55","v":-90},{"$f":"'Total net migration 0-15'!L55","v":0},{"$f":"'Total net migration 16-64'!L55","v":-90},{"$f":"'Total net migration 65+'!L55","v":2},{"$f":"'Total in-migration'!L55","v":820},{"$f":"'Total out-migration'!L55","v":910},{"$f":"'Within Scotland net migration'!L55","v":-60},{"$f":"'Within Scotland in-migration'!L55","v":560},{"$f":"'Within Scotland out-migration'!L55","v":620},{"$f":"'Rest of UK net migration'!L55","v":20},{"$f":"'Rest of UK in-migration'!L55","v":230},{"$f":"'Rest of UK out-migration'!L55","v":210},{"$f":"'International net migration'!L55","v":-50},{"$f":"'International in-migration'!L55","v":30},{"$f":"'International out-migration'!L55","v":80},null,{"$f":"'Births to non-UK mothers'!L55","v":17}]

{"sheet":"2014 Rate","index":45,"n_rows":53,"n_cols":27,"rows_kept":53,"cut":false,"hidden":true,"merged":[]}
[null,2014,"RATE"]
[null,null,"Not specified ",{"$f":"'Comparing Indicators'!$U8","v":"Total net migration"},{"$f":"'Comparing Indicators'!$U9","v":"Total net migration for ages 0-15"},{"$f":"'Comparing Indicators'!$U10","v":"Total net migration for ages 16-64"},{"$f":"'Comparing Indicators'!$U11","v":"Total net migration for people aged 65+"},{"$f":"'Comparing Indicators'!$U12","v":"Total in-migration"},{"$f":"'Comparing Indicators'!$U13","v":"Total out-migration"},{"$f":"'Comparing Indicators'!$U14","v":"Within Scotland net migration"},{"$f":"'Comparing Indicators'!$U15","v":"Within Scotland in-migration"},{"$f":"'Comparing Indicators'!$U16","v":"Within Scotland out-migration"},{"$f":"'Comparing Indicators'!$U17","v":"Rest of UK net migration"},{"$f":"'Comparing Indicators'!$U18","v":"Rest of UK in-migration"},{"$f":"'Comparing Indicators'!$U19","v":"Rest of UK out-migration"},{"$f":"'Comparing Indicators'!$U20","v":"International net migration"},{"$f":"'Comparing Indicators'!$U21","v":"International in-migration"},{"$f":"'Comparing Indicators'!$U22","v":"International out-migration"},{"$f":"'Comparing Indicators'!$U23","v":"NINo Allocation"},{"$f":"'Comparing Indicators'!$U24","v":"Births to non-UK mothers"},{"$f":"'Comparing Indicators'!$U25","v":"Pupils from a minority ethnic group"},{"$f":"'Comparing Indicators'!$U26","v":"Pupils with English as an additional language"},{"$f":"'Comparing Indicators'!$U27","v":"Population born outside the UK"},{"$f":"'Comparing Indicators'!$U28","v":"Population with non-British nationality"},{"$f":"'Comparing Indicators'!$U29","v":"Citizenships"},null,"Mid-year population estimate"]
[1,"Not specified"]
[2,"Scotland",null,{"$f":"('2014'!D4/'2014 Rate'!$AA4)*1000","v":3.2911960505647393},{"$f":"('2014'!E4/'2014 Rate'!$AA4)*1000","v":0.57820330615603266},{"$f":"('2014'!F4/'2014 Rate'!$AA4)*1000","v":2.7058867529358968},{"$f":"('2014'!G4/'2014 Rate'!$AA4)*1000","v":4.3009948388061936E-3},{"$f":"('2014'!H4/'2014 Rate'!$AA4)*1000","v":15.408781509462189},{"$f":"('2014'!I4/'2014 Rate'!$AA4)*1000","v":12.136285436457475},{"$f":"'Within Scotland net migration'!L6","v":"[z]"},{"$f":"'Within Scotland in-migration'!L6","v":"[z]"},{"$f":"'Within Scotland out-migration'!L6","v":"[z]"},{"$f":"('2014'!M4/'2014 Rate'!$AA4)*1000","v":1.795197845762585},{"$f":"('2014'!N4/'2014 Rate'!$AA4)*1000","v":9.2003889595332478},{"$f":"('2014'!O4/'2014 Rate'!$AA4)*1000","v":7.4238910913306908},{"$f":"('2014'!P4/'2014 Rate'!$AA4)*1000","v":1.4959982048021543},{"$f":"('2014'!Q4/'2014 Rate'!$AA4)*1000","v":6.2083925499289405},{"$f":"('2014'!R4/'2014 Rate'!$AA4)*1000","v":4.7123943451267856},{"$f":"('2014'!S4/'2014 Rate'!$AA4)*1000","v":8.1531902161717422},null,null,null,null,null,{"$f":"('2014'!Y4/'2014 Rate'!$AA4)*1000","v":0.73977111227466519},"Scotland",5347600]
[3,"Aberdeen City",null,{"$f":"('2014'!D5/'2014 Rate'!$AA5)*1000","v":6.1593569806045778},{"$f":"('2014'!E5/'2014 Rate'!$AA5)*1000","v":-1.3236065000873667},{"$f":"('2014'!F5/'2014 Rate'!$AA5)*1000","v":8.4221562117770397},{"$f":"('2014'!G5/'2014 Rate'!$AA5)*1000","v":-0.93045605451686175},{"$f":"('2014'!H5/'2014 Rate'!$AA5)*1000","v":62.074087017298623},{"$f":"('2014'!I5/'2014 Rate'!$AA5)*1000","v":55.871046653852872},{"$f":"('2014'!J5/'2014 Rate'!$AA5)*1000","v":-4.9799056438930629},{"$f":"('2014'!K5/'2014 Rate'!$AA5)*1000","v":30.753101520181723},{"$f":"('2014'!L5/'2014 Rate'!$AA5)*1000","v":35.733007164074785},{"$f":"('2014'!M5/'2014 Rate'!$AA5)*1000","v":2.5773195876288661},{"$f":"('2014'!N5/'2014 Rate'!$AA5)*1000","v":12.930281320985497},{"$f":"('2014'!O5/'2014 Rate'!$AA5)*1000","v":10.352961733356631},{"$f":"('2014'!P5/'2014 Rate'!$AA5)*1000","v":8.6056264197099424},{"$f":"('2014'!Q5/'2014 Rate'!$AA5)*1000","v":18.347020793290231},{"$f":"('2014'!R5/'2014 Rate'!$AA5)*1000","v":9.7850777564214582},{"$f":"('2014'!S5/'2014 Rate'!$AA5)*1000","v":23.851127031277304},null,null,null,null,null,{"$f":"('2014'!Y5/'2014 Rate'!$AA5)*1000","v":3.1452035645640395},"Aberdeen City",228920]
[4,"Aberdeenshire",null,{"$f":"('2014'!D6/'2014 Rate'!$AA6)*1000","v":7.8301923003109044},{"$f":"('2014'!E6/'2014 Rate'!$AA6)*1000","v":3.2050051817449048},{"$f":"('2014'!F6/'2014 Rate'!$AA6)*1000","v":5.2738648140329323},{"$f":"('2014'!G6/'2014 Rate'!$AA6)*1000","v":-0.64483936590795687},{"$f":"('2014'!H6/'2014 Rate'!$AA6)*1000","v":39.688327639811149},{"$f":"('2014'!I6/'2014 Rate'!$AA6)*1000","v":31.858135339500251},{"$f":"('2014'!J6/'2014 Rate'!$AA6)*1000","v":6.2948604767205314},{"$f":"('2014'!K6/'2014 Rate'!$AA6)*1000","v":27.751122711396},{"$f":"('2014'!L6/'2014 Rate'!$AA6)*1000","v":21.456262234675471},{"$f":"('2014'!M6/'2014 Rate'!$AA6)*1000","v":1.0747322765132614},{"$f":"('2014'!N6/'2014 Rate'!$AA6)*1000","v":7.8685755959006647},{"$f":"('2014'!O6/'2014 Rate'!$AA6)*1000","v":6.7938433193874026},{"$f":"('2014'!P6/'2014 Rate'!$AA6)*1000","v":0.46059954707711204},{"$f":"('2014'!Q6/'2014 Rate'!$AA6)*1000","v":4.0686293325144893},{"$f":"('2014'!R6/'2014 Rate'!$AA6)*1000","v":3.6080297854373775},{"$f":"('2014'!S6/'2014 Rate'!$AA6)*1000","v":6.448393659079569},null,null,null,null,null,{"$f":"('2014'!Y6/'2014 Rate'!$AA6)*1000","v":0.74463593444133114},"Aberdeenshire",260530]
[5,"Angus",null,{"$f":"('2014'!D7/'2014 Rate'!$AA7)*1000","v":5.5679287305122491},{"$f":"('2014'!E7/'2014 Rate'!$AA7)*1000","v":1.5504540003426419},{"$f":"('2014'!F7/'2014 Rate'!$AA7)*1000","v":3.3750214151105022},{"$f":"('2014'!G7/'2014 Rate'!$AA7)*1000","v":0.59962309405516534},{"$f":"('2014'!H7/'2014 Rate'!$AA7)*1000","v":36.234366969333564},{"$f":"('2014'!I7/'2014 Rate'!$AA7)*1000","v":30.752098680829192},{"$f":"('2014'!J7/'2014 Rate'!$AA7)*1000","v":3.6833990063388726},{"$f":"('2014'!K7/'2014 Rate'!$AA7)*1000","v":26.811718348466677},{"$f":"('2014'!L7/'2014 Rate'!$AA7)*1000","v":23.213979784135685},{"$f":"('2014'!M7/'2014 Rate'!$AA7)*1000","v":1.6275483981497345},{"$f":"('2014'!N7/'2014 Rate'!$AA7)*1000","v":6.510193592598938},{"$f":"('2014'!O7/'2014 Rate'!$AA7)*1000","v":4.8826451944492026},{"$f":"('2014'!P7/'2014 Rate'!$AA7)*1000","v":0.25698132602364226},{"$f":"('2014'!Q7/'2014 Rate'!$AA7)*1000","v":2.9124550282679458},{"$f":"('2014'!R7/'2014 Rate'!$AA7)*1000","v":2.6554737022443038},{"$f":"('2014'!S7/'2014 Rate'!$AA7)*1000","v":10.450573924961452},null,null,null,null,null,{"$f":"('2014'!Y7/'2014 Rate'!$AA7)*1000","v":0.23128319342127807},"Angus",116740]
[6,"Argyll and Bute",null,{"$f":"('2014'!D8/'2014 Rate'!$AA8)*1000","v":-3.1945236737022245},{"$f":"('2014'!E8/'2014 Rate'!$AA8)*1000","v":0.62749572162007983},{"$f":"('2014'!F8/'2014 Rate'!$AA8)*1000","v":-3.069024529378209},{"$f":"('2014'!G8/'2014 Rate'!$AA8)*1000","v":-0.69594980034227039},{"$f":"('2014'!H8/'2014 Rate'!$AA8)*1000","v":43.240159726183684},{"$f":"('2014'!I8/'2014 Rate'!$AA8)*1000","v":46.320593268682259},{"$f":"('2014'!J8/'2014 Rate'!$AA8)*1000","v":-5.0199657729606386},{"$f":"('2014'!K8/'2014 Rate'!$AA8)*1000","v":24.75755847119224},{"$f":"('2014'!L8/'2014 Rate'!$AA8)*1000","v":29.777524244152882},{"$f":"('2014'!M8/'2014 Rate'!$AA8)*1000","v":4.5636052481460352},{"$f":"('2014'!N8/'2014 Rate'!$AA8)*1000","v":15.744438106103823},{"$f":"('2014'!O8/'2014 Rate'!$AA8)*1000","v":11.180832857957787},{"$f":"('2014'!P8/'2014 Rate'!$AA8)*1000","v":-2.6240730176839704},{"$f":"('2014'!Q8/'2014 Rate'!$AA8)*1000","v":2.738163148887621},{"$f":"('2014'!R8/'2014 Rate'!$AA8)*1000","v":5.3622361665715914},{"$f":"('2014'!S8/'2014 Rate'!$AA8)*1000","v":5.2481460353679408},null,null,null,null,null,{"$f":"('2014'!Y8/'2014 Rate'!$AA8)*1000","v":0.3080433542498574},"Argyll & Bute",87650]
[7,"City of Edinburgh",null,{"$f":"('2014'!D9/'2014 Rate'!$AA9)*1000","v":6.6990113883193603},{"$f":"('2014'!E9/'2014 Rate'!$AA9)*1000","v":-0.73892125616613558},{"$f":"('2014'!F9/'2014 Rate'!$AA9)*1000","v":7.3506424960922434},{"$f":"('2014'!G9/'2014 Rate'!$AA9)*1000","v":7.9170134589228808E-2},{"$f":"('2014'!H9/'2014 Rate'!$AA9)*1000","v":59.763301597612717},{"$f":"('2014'!I9/'2014 Rate'!$AA9)*1000","v":53.064290209293354},{"$f":"('2014'!J9/'2014 Rate'!$AA9)*1000","v":-3.4713059012200325},{"$f":"('2014'!K9/'2014 Rate'!$AA9)*1000","v":23.405939790097644},{"$f":"('2014'!L9/'2014 Rate'!$AA9)*1000","v":26.877245691317675},{"$f":"('2014'!M9/'2014 Rate'!$AA9)*1000","v":3.5119059702401496},{"$f":"('2014'!N9/'2014 Rate'!$AA9)*1000","v":19.163232577495378},{"$f":"('2014'!O9/'2014 Rate'!$AA9)*1000","v":15.651326607255232},{"$f":"('2014'!P9/'2014 Rate'!$AA9)*1000","v":6.6381112847891837},{"$f":"('2014'!Q9/'2014 Rate'!$AA9)*1000","v":17.173829195509629},{"$f":"('2014'!R9/'2014 Rate'!$AA9)*1000","v":10.535717910720448},{"$f":"('2014'!S9/'2014 Rate'!$AA9)*1000","v":23.02023913440653},null,null,null,null,null,{"$f":"('2014'!Y9/'2014 Rate'!$AA9)*1000","v":1.5549826434704939},"City of Edinburgh",492610]
[8,"Clackmannanshire",null,{"$f":"('2014'!D10/'2014 Rate'!$AA10)*1000","v":-1.5628052353975386},{"$f":"('2014'!E10/'2014 Rate'!$AA10)*1000","v":-0.46884157061926157},{"$f":"('2014'!F10/'2014 Rate'!$AA10)*1000","v":-1.4260597773002541},{"$f":"('2014'!G10/'2014 Rate'!$AA10)*1000","v":0.29302598163703852},{"$f":"('2014'!H10/'2014 Rate'!$AA10)*1000","v":33.79566321547177},{"$f":"('2014'!I10/'2014 Rate'!$AA10)*1000","v":35.553819105294004},{"$f":"('2014'!J10/'2014 Rate'!$AA10)*1000","v":-1.1721039265481541},{"$f":"('2014'!K10/'2014 Rate'!$AA10)*1000","v":25.004883766360617},{"$f":"('2014'!L10/'2014 Rate'!$AA10)*1000","v":26.176987692908771},{"$f":"('2014'!M10/'2014 Rate'!$AA10)*1000","v":0},{"$f":"('2014'!N10/'2014 Rate'!$AA10)*1000","v":6.4465715960148469},{"$f":"('2014'!O10/'2014 Rate'!$AA10)*1000","v":6.4465715960148469},{"$f":"('2014'!P10/'2014 Rate'!$AA10)*1000","v":-0.58605196327407705},{"$f":"('2014'!Q10/'2014 Rate'!$AA10)*1000","v":2.5395585075210003},{"$f":"('2014'!R10/'2014 Rate'!$AA10)*1000","v":2.9302598163703846},{"$f":"('2014'!S10/'2014 Rate'!$AA10)*1000","v":1.7581558898222309},null,null,null,null,null,{"$f":"('2014'!Y10/'2014 Rate'!$AA10)*1000","v":0.25395585075209998},"Clackmannanshire",51190]
[9,"Dumfries and Galloway",null,{"$f":"('2014'!D11/'2014 Rate'!$AA11)*1000","v":2.2005868231528405},{"$f":"('2014'!E11/'2014 Rate'!$AA11)*1000","v":1.1269671912510002},{"$f":"('2014'!F11/'2014 Rate'!$AA11)*1000","v":0.70018671645772201},{"$f":"('2014'!G11/'2014 Rate'!$AA11)*1000","v":0.40010669511869834},{"$f":"('2014'!H11/'2014 Rate'!$AA11)*1000","v":27.007201920512138},{"$f":"('2014'!I11/'2014 Rate'!$AA11)*1000","v":24.739930648172844},{"$f":"('2014'!J11/'2014 Rate'!$AA11)*1000","v":-0.7335289410509469},{"$f":"('2014'!K11/'2014 Rate'!$AA11)*1000","v":11.536409709255802},{"$f":"('2014'!L11/'2014 Rate'!$AA11)*1000","v":12.269938650306749},{"$f":"('2014'!M11/'2014 Rate'!$AA11)*1000","v":4.7345958922379303},{"$f":"('2014'!N11/'2014 Rate'!$AA11)*1000","v":14.07041877834089},{"$f":"('2014'!O11/'2014 Rate'!$AA11)*1000","v":9.3358228861029602},{"$f":"('2014'!P11/'2014 Rate'!$AA11)*1000","v":-1.8004801280341425},{"$f":"('2014'!Q11/'2014 Rate'!$AA11)*1000","v":1.400373432915444},{"$f":"('2014'!R11/'2014 Rate'!$AA11)*1000","v":3.2008535609495867},{"$f":"('2014'!S11/'2014 Rate'!$AA11)*1000","v":2.0672179247799414},null,null,null,null,null,{"$f":"('2014'!Y11/'2014 Rate'!$AA11)*1000","v":0.16671112296612431},"Dumfries & Galloway",149960]
[10,"Dundee City",null,{"$f":"('2014'!D12/'2014 Rate'!$AA12)*1000","v":-6.7508269763045969E-2},{"$f":"('2014'!E12/'2014 Rate'!$AA12)*1000","v":-0.53331533112806317},{"$f":"('2014'!F12/'2014 Rate'!$AA12)*1000","v":1.039627354350908},{"$f":"('2014'!G12/'2014 Rate'!$AA12)*1000","v":-0.58732194693849993},{"$f":"('2014'!H12/'2014 Rate'!$AA12)*1000","v":46.310673057449534},{"$f":"('2014'!I12/'2014 Rate'!$AA12)*1000","v":46.37818132721258},{"$f":"('2014'!J12/'2014 Rate'!$AA12)*1000","v":-2.0927563626544252},{"$f":"('2014'!K12/'2014 Rate'!$AA12)*1000","v":28.353473300479308},{"$f":"('2014'!L12/'2014 Rate'!$AA12)*1000","v":30.446229663133735},{"$f":"('2014'!M12/'2014 Rate'!$AA12)*1000","v":0.27003307905218388},{"$f":"('2014'!N12/'2014 Rate'!$AA12)*1000","v":9.3161412273003439},{"$f":"('2014'!O12/'2014 Rate'!$AA12)*1000","v":9.0461081482481607},{"$f":"('2014'!P12/'2014 Rate'!$AA12)*1000","v":1.7552150138391953},{"$f":"('2014'!Q12/'2014 Rate'!$AA12)*1000","v":8.6410585296698841},{"$f":"('2014'!R12/'2014 Rate'!$AA12)*1000","v":6.8858435158306888},{"$f":"('2014'!S12/'2014 Rate'!$AA12)*1000","v":8.3710254506177009},null,null,null,null,null,{"$f":"('2014'!Y12/'2014 Rate'!$AA12)*1000","v":0.81685006413285632},"Dundee City",148130]
[11,"East Ayrshire",null,{"$f":"('2014'!D13/'2014 Rate'!$AA13)*1000","v":-0.73691967575534267},{"$f":"('2014'!E13/'2014 Rate'!$AA13)*1000","v":0.13100794235650537},{"$f":"('2014'!F13/'2014 Rate'!$AA13)*1000","v":-0.62228772619340045},{"$f":"('2014'!G13/'2014 Rate'!$AA13)*1000","v":-0.24563989191844754},{"$f":"('2014'!H13/'2014 Rate'!$AA13)*1000","v":26.610988291165153},{"$f":"('2014'!I13/'2014 Rate'!$AA13)*1000","v":27.347907966920495},{"$f":"('2014'!J13/'2014 Rate'!$AA13)*1000","v":0.32751985589126342},{"$f":"('2014'!K13/'2014 Rate'!$AA13)*1000","v":20.388111029231144},{"$f":"('2014'!L13/'2014 Rate'!$AA13)*1000","v":19.97871120936707},{"$f":"('2014'!M13/'2014 Rate'!$AA13)*1000","v":0.32751985589126342},{"$f":"('2014'!N13/'2014 Rate'!$AA13)*1000","v":5.485957586178662},{"$f":"('2014'!O13/'2014 Rate'!$AA13)*1000","v":5.1584377302873987},{"$f":"('2014'!P13/'2014 Rate'!$AA13)*1000","v":-1.3919593875378695},{"$f":"('2014'!Q13/'2014 Rate'!$AA13)*1000","v":0.73691967575534267},{"$f":"('2014'!R13/'2014 Rate'!$AA13)*1000","v":2.210759027266028},{"$f":"('2014'!S13/'2014 Rate'!$AA13)*1000","v":0.73691967575534267},null,null,null,null,null,{"$f":"('2014'!Y13/'2014 Rate'!$AA13)*1000","v":0.12281994595922377},"East Ayrshire",122130]
[12,"East Dunbartonshire",null,{"$f":"('2014'!D14/'2014 Rate'!$AA14)*1000","v":8.5277855871052388},{"$f":"('2014'!E14/'2014 Rate'!$AA14)*1000","v":4.6481117046199989},{"$f":"('2014'!F14/'2014 Rate'!$AA14)*1000","v":3.1768344110205229},{"$f":"('2014'!G14/'2014 Rate'!$AA14)*1000","v":0.69346827851185455},{"$f":"('2014'!H14/'2014 Rate'!$AA14)*1000","v":37.953331459094741},{"$f":"('2014'!I14/'2014 Rate'!$AA14)*1000","v":29.425545871989506},{"$f":"('2014'!J14/'2014 Rate'!$AA14)*1000","v":9.9334645300346729},{"$f":"('2014'!K14/'2014 Rate'!$AA14)*1000","v":32.705463405491521},{"$f":"('2014'!L14/'2014 Rate'!$AA14)*1000","v":22.771998875456845},{"$f":"('2014'!M14/'2014 Rate'!$AA14)*1000","v":-0.46855964764314495},{"$f":"('2014'!N14/'2014 Rate'!$AA14)*1000","v":4.3107487583169339},{"$f":"('2014'!O14/'2014 Rate'!$AA14)*1000","v":4.6855964764314502},{"$f":"('2014'!P14/'2014 Rate'!$AA14)*1000","v":-1.030831224814919},{"$f":"('2014'!Q14/'2014 Rate'!$AA14)*1000","v":0.9371192952862899},{"$f":"('2014'!R14/'2014 Rate'!$AA14)*1000","v":1.9679505201012091},{"$f":"('2014'!S14/'2014 Rate'!$AA14)*1000","v":1.030831224814919},null,null,null,null,null,{"$f":"('2014'!Y14/'2014 Rate'!$AA14)*1000","v":0.50604441945459655},"East Dunbartonshire",106710]
[13,"East Lothian",null,{"$f":"('2014'!D15/'2014 Rate'!$AA15)*1000","v":6.954647859731609},{"$f":"('2014'!E15/'2014 Rate'!$AA15)*1000","v":2.4390243902439024},{"$f":"('2014'!F15/'2014 Rate'!$AA15)*1000","v":3.6634342247036931},{"$f":"('2014'!G15/'2014 Rate'!$AA15)*1000","v":0.87177980213537076},{"$f":"('2014'!H15/'2014 Rate'!$AA15)*1000","v":40.552453717308254},{"$f":"('2014'!I15/'2014 Rate'!$AA15)*1000","v":33.499853070819867},{"$f":"('2014'!J15/'2014 Rate'!$AA15)*1000","v":5.4853560583798613},{"$f":"('2014'!K15/'2014 Rate'!$AA15)*1000","v":29.973552747575667},{"$f":"('2014'!L15/'2014 Rate'!$AA15)*1000","v":24.48819668919581},{"$f":"('2014'!M15/'2014 Rate'!$AA15)*1000","v":1.1754334410813989},{"$f":"('2014'!N15/'2014 Rate'!$AA15)*1000","v":7.2485062200019597},{"$f":"('2014'!O15/'2014 Rate'!$AA15)*1000","v":6.0730727789205607},{"$f":"('2014'!P15/'2014 Rate'!$AA15)*1000","v":0.29385836027034973},{"$f":"('2014'!Q15/'2014 Rate'!$AA15)*1000","v":3.3303947497306301},{"$f":"('2014'!R15/'2014 Rate'!$AA15)*1000","v":3.0365363894602804},{"$f":"('2014'!S15/'2014 Rate'!$AA15)*1000","v":4.407875404055245},null,null,null,null,null,{"$f":"('2014'!Y15/'2014 Rate'!$AA15)*1000","v":0.26447252424331474},"East Lothian",102090]
[14,"East Renfrewshire",null,{"$f":"('2014'!D16/'2014 Rate'!$AA16)*1000","v":9.6309923168488272},{"$f":"('2014'!E16/'2014 Rate'!$AA16)*1000","v":6.87155069797641},{"$f":"('2014'!F16/'2014 Rate'!$AA16)*1000","v":2.4889081268261011},{"$f":"('2014'!G16/'2014 Rate'!$AA16)*1000","v":0.27053349204631538},{"$f":"('2014'!H16/'2014 Rate'!$AA16)*1000","v":41.337517584676988},{"$f":"('2014'!I16/'2014 Rate'!$AA16)*1000","v":31.706525267828155},{"$f":"('2014'!J16/'2014 Rate'!$AA16)*1000","v":10.172059300941456},{"$f":"('2014'!K16/'2014 Rate'!$AA16)*1000","v":35.602207553295102},{"$f":"('2014'!L16/'2014 Rate'!$AA16)*1000","v":25.430148252353643},{"$f":"('2014'!M16/'2014 Rate'!$AA16)*1000","v":0.10821339681852614},{"$f":"('2014'!N16/'2014 Rate'!$AA16)*1000","v":4.4367492695595709},{"$f":"('2014'!O16/'2014 Rate'!$AA16)*1000","v":4.3285358727410461},{"$f":"('2014'!P16/'2014 Rate'!$AA16)*1000","v":-0.54106698409263076},{"$f":"('2014'!Q16/'2014 Rate'!$AA16)*1000","v":1.4067741586408398},{"$f":"('2014'!R16/'2014 Rate'!$AA16)*1000","v":1.9478411427334705},{"$f":"('2014'!S16/'2014 Rate'!$AA16)*1000","v":1.2985607618223136},null,null,null,null,null,{"$f":"('2014'!Y16/'2014 Rate'!$AA16)*1000","v":0.66010172059300942},"East Renfrewshire",92410]
[15,"Falkirk",null,{"$f":"('2014'!D17/'2014 Rate'!$AA17)*1000","v":2.6634536115162661},{"$f":"('2014'!E17/'2014 Rate'!$AA17)*1000","v":0.52000760986746153},{"$f":"('2014'!F17/'2014 Rate'!$AA17)*1000","v":2.0166148772908872},{"$f":"('2014'!G17/'2014 Rate'!$AA17)*1000","v":9.5123343268438076E-2},{"$f":"('2014'!H17/'2014 Rate'!$AA17)*1000","v":26.444289428625783},{"$f":"('2014'!I17/'2014 Rate'!$AA17)*1000","v":23.844251379288476},{"$f":"('2014'!J17/'2014 Rate'!$AA17)*1000","v":1.0780645570422982},{"$f":"('2014'!K17/'2014 Rate'!$AA17)*1000","v":19.405162026761367},{"$f":"('2014'!L17/'2014 Rate'!$AA17)*1000","v":18.263681907540111},{"$f":"('2014'!M17/'2014 Rate'!$AA17)*1000","v":1.4585579301160505},{"$f":"('2014'!N17/'2014 Rate'!$AA17)*1000","v":5.009829412137738},{"$f":"('2014'!O17/'2014 Rate'!$AA17)*1000","v":3.5512714820216882},{"$f":"('2014'!P17/'2014 Rate'!$AA17)*1000","v":0.12683112435791744},{"$f":"('2014'!Q17/'2014 Rate'!$AA17)*1000","v":2.0927135519056375},{"$f":"('2014'!R17/'2014 Rate'!$AA17)*1000","v":1.9658824275477202},{"$f":"('2014'!S17/'2014 Rate'!$AA17)*1000","v":2.6000380493373076},null,null,null,null,null,{"$f":"('2014'!Y17/'2014 Rate'!$AA17)*1000","v":0.30439469845900186},"Falkirk",157690]
[16,"Fife",null,{"$f":"('2014'!D18/'2014 Rate'!$AA18)*1000","v":1.7699115044247788},{"$f":"('2014'!E18/'2014 Rate'!$AA18)*1000","v":0.27501701837985021},{"$f":"('2014'!F18/'2014 Rate'!$AA18)*1000","v":0.98842750170183791},{"$f":"('2014'!G18/'2014 Rate'!$AA18)*1000","v":0.50646698434309056},{"$f":"('2014'!H18/'2014 Rate'!$AA18)*1000","v":29.652825051055139},{"$f":"('2014'!I18/'2014 Rate'!$AA18)*1000","v":27.882913546630363},{"$f":"('2014'!J18/'2014 Rate'!$AA18)*1000","v":-0.24506466984343092},{"$f":"('2014'!K18/'2014 Rate'!$AA18)*1000","v":16.44656228727025},{"$f":"('2014'!L18/'2014 Rate'!$AA18)*1000","v":16.6643975493533},{"$f":"('2014'!M18/'2014 Rate'!$AA18)*1000","v":1.7154526889040165},{"$f":"('2014'!N18/'2014 Rate'!$AA18)*1000","v":8.795098706603131},{"$f":"('2014'!O18/'2014 Rate'!$AA18)*1000","v":7.0796460176991154},{"$f":"('2014'!P18/'2014 Rate'!$AA18)*1000","v":0.29952348536419332},{"$f":"('2014'!Q18/'2014 Rate'!$AA18)*1000","v":4.4383934649421377},{"$f":"('2014'!R18/'2014 Rate'!$AA18)*1000","v":4.1388699795779438},{"$f":"('2014'!S18/'2014 Rate'!$AA18)*1000","v":6.6712049012933967},null,null,null,null,null,{"$f":"('2014'!Y18/'2014 Rate'!$AA18)*1000","v":0.39482641252552753},"Fife",367250]
[17,"Glasgow City",null,{"$f":"('2014'!D19/'2014 Rate'!$AA19)*1000","v":3.4187178974051098},{"$f":"('2014'!E19/'2014 Rate'!$AA19)*1000","v":-1.6693349342939099},{"$f":"('2014'!F19/'2014 Rate'!$AA19)*1000","v":5.5083049829897943},{"$f":"('2014'!G19/'2014 Rate'!$AA19)*1000","v":-0.42525515309185508},{"$f":"('2014'!H19/'2014 Rate'!$AA19)*1000","v":50.546994863584821},{"$f":"('2014'!I19/'2014 Rate'!$AA19)*1000","v":47.144953638849977},{"$f":"('2014'!J19/'2014 Rate'!$AA19)*1000","v":-4.4693482756320453},{"$f":"('2014'!K19/'2014 Rate'!$AA19)*1000","v":24.981655660062703},{"$f":"('2014'!L19/'2014 Rate'!$AA19)*1000","v":29.45100393569475},{"$f":"('2014'!M19/'2014 Rate'!$AA19)*1000","v":1.2173971049296246},{"$f":"('2014'!N19/'2014 Rate'!$AA19)*1000","v":10.739777199653124},{"$f":"('2014'!O19/'2014 Rate'!$AA19)*1000","v":9.5057034220532319},{"$f":"('2014'!P19/'2014 Rate'!$AA19)*1000","v":6.6706690681075314},{"$f":"('2014'!Q19/'2014 Rate'!$AA19)*1000","v":14.842238676539258},{"$f":"('2014'!R19/'2014 Rate'!$AA19)*1000","v":8.1715696084317244},{"$f":"('2014'!S19/'2014 Rate'!$AA19)*1000","v":14.008405043025816},null,null,null,null,null,{"$f":"('2014'!Y19/'2014 Rate'!$AA19)*1000","v":1.5259155493295977},"Glasgow City",599640]
[18,"Highland",null,{"$f":"('2014'!D20/'2014 Rate'!$AA20)*1000","v":1.0296893770379267},{"$f":"('2014'!E20/'2014 Rate'!$AA20)*1000","v":0.47623133688004121},{"$f":"('2014'!F20/'2014 Rate'!$AA20)*1000","v":0.73794405354384751},{"$f":"('2014'!G20/'2014 Rate'!$AA20)*1000","v":-0.1887763857902866},{"$f":"('2014'!H20/'2014 Rate'!$AA20)*1000","v":31.062296207310794},{"$f":"('2014'!I20/'2014 Rate'!$AA20)*1000","v":30.032606830272869},{"$f":"('2014'!J20/'2014 Rate'!$AA20)*1000","v":-1.759052685773125},{"$f":"('2014'!K20/'2014 Rate'!$AA20)*1000","v":17.418911961558262},{"$f":"('2014'!L20/'2014 Rate'!$AA20)*1000","v":19.17796464733139},{"$f":"('2014'!M20/'2014 Rate'!$AA20)*1000","v":3.1748755792002745},{"$f":"('2014'!N20/'2014 Rate'!$AA20)*1000","v":10.597219838681998},{"$f":"('2014'!O20/'2014 Rate'!$AA20)*1000","v":7.422344259481723},{"$f":"('2014'!P20/'2014 Rate'!$AA20)*1000","v":-0.38613351638922261},{"$f":"('2014'!Q20/'2014 Rate'!$AA20)*1000","v":3.0890681311137809},{"$f":"('2014'!R20/'2014 Rate'!$AA20)*1000","v":3.4752016475030034},{"$f":"('2014'!S20/'2014 Rate'!$AA20)*1000","v":6.8645958469195119},null,null,null,null,null,{"$f":"('2014'!Y20/'2014 Rate'!$AA20)*1000","v":0.32177793032435215},"Highland",233080]
[19,"Inverclyde",null,{"$f":"('2014'!D21/'2014 Rate'!$AA21)*1000","v":-3.3796470146451369},{"$f":"('2014'!E21/'2014 Rate'!$AA21)*1000","v":-3.7551633496057078E-2},{"$f":"('2014'!F21/'2014 Rate'!$AA21)*1000","v":-2.9540618350231571},{"$f":"('2014'!G21/'2014 Rate'!$AA21)*1000","v":-0.38803354612592317},{"$f":"('2014'!H21/'2014 Rate'!$AA21)*1000","v":17.273751408186257},{"$f":"('2014'!I21/'2014 Rate'!$AA21)*1000","v":20.653398422831394},{"$f":"('2014'!J21/'2014 Rate'!$AA21)*1000","v":-3.6299912379521846},{"$f":"('2014'!K21/'2014 Rate'!$AA21)*1000","v":11.766178495431218},{"$f":"('2014'!L21/'2014 Rate'!$AA21)*1000","v":15.396169733383402},{"$f":"('2014'!M21/'2014 Rate'!$AA21)*1000","v":1.0013768932281888},{"$f":"('2014'!N21/'2014 Rate'!$AA21)*1000","v":4.6313681311803734},{"$f":"('2014'!O21/'2014 Rate'!$AA21)*1000","v":3.6299912379521846},{"$f":"('2014'!P21/'2014 Rate'!$AA21)*1000","v":-0.75103266992114159},{"$f":"('2014'!Q21/'2014 Rate'!$AA21)*1000","v":0.87620478157466508},{"$f":"('2014'!R21/'2014 Rate'!$AA21)*1000","v":1.6272374514958068},{"$f":"('2014'!S21/'2014 Rate'!$AA21)*1000","v":1.1265490048817124},null,null,null,null,null,{"$f":"('2014'!Y21/'2014 Rate'!$AA21)*1000","v":0.21279258981099011},"Inverclyde",79890]
[20,"Midlothian",null,{"$f":"('2014'!D22/'2014 Rate'!$AA22)*1000","v":11.830201809324983},{"$f":"('2014'!E22/'2014 Rate'!$AA22)*1000","v":3.1895151936905592},{"$f":"('2014'!F22/'2014 Rate'!$AA22)*1000","v":8.7334725121781496},{"$f":"('2014'!G22/'2014 Rate'!$AA22)*1000","v":-9.2785896543725349E-2},{"$f":"('2014'!H22/'2014 Rate'!$AA22)*1000","v":40.941776849918817},{"$f":"('2014'!I22/'2014 Rate'!$AA22)*1000","v":29.111575040593831},{"$f":"('2014'!J22/'2014 Rate'!$AA22)*1000","v":11.018325214567385},{"$f":"('2014'!K22/'2014 Rate'!$AA22)*1000","v":33.28694038506147},{"$f":"('2014'!L22/'2014 Rate'!$AA22)*1000","v":22.268615170494087},{"$f":"('2014'!M22/'2014 Rate'!$AA22)*1000","v":1.2758060774762237},{"$f":"('2014'!N22/'2014 Rate'!$AA22)*1000","v":5.9151009046624914},{"$f":"('2014'!O22/'2014 Rate'!$AA22)*1000","v":4.6392948271862675},{"$f":"('2014'!P22/'2014 Rate'!$AA22)*1000","v":-0.46392948271862677},{"$f":"('2014'!Q22/'2014 Rate'!$AA22)*1000","v":1.7397355601948503},{"$f":"('2014'!R22/'2014 Rate'!$AA22)*1000","v":2.2036650429134772},{"$f":"('2014'!S22/'2014 Rate'!$AA22)*1000","v":3.015541637671074},null,null,null,null,null,{"$f":"('2014'!Y22/'2014 Rate'!$AA22)*1000","v":0.57991185339828344},"Midlothian",86220]
[21,"Moray",null,{"$f":"('2014'!D23/'2014 Rate'!$AA23)*1000","v":4.9593753297456997},{"$f":"('2014'!E23/'2014 Rate'!$AA23)*1000","v":1.7094017094017093},{"$f":"('2014'!F23/'2014 Rate'!$AA23)*1000","v":2.0892687559354228},{"$f":"('2014'!G23/'2014 Rate'!$AA23)*1000","v":1.1290492771974254},{"$f":"('2014'!H23/'2014 Rate'!$AA23)*1000","v":36.720481164925609},{"$f":"('2014'!I23/'2014 Rate'!$AA23)*1000","v":31.761105835179908},{"$f":"('2014'!J23/'2014 Rate'!$AA23)*1000","v":1.8993352326685662},{"$f":"('2014'!K23/'2014 Rate'!$AA23)*1000","v":20.048538567057086},{"$f":"('2014'!L23/'2014 Rate'!$AA23)*1000","v":18.14920333438852},{"$f":"('2014'!M23/'2014 Rate'!$AA23)*1000","v":3.4821145932257043},{"$f":"('2014'!N23/'2014 Rate'!$AA23)*1000","v":13.717421124828531},{"$f":"('2014'!O23/'2014 Rate'!$AA23)*1000","v":10.235306531602827},{"$f":"('2014'!P23/'2014 Rate'!$AA23)*1000","v":-0.42207449614857023},{"$f":"('2014'!Q23/'2014 Rate'!$AA23)*1000","v":2.9545214730399918},{"$f":"('2014'!R23/'2014 Rate'!$AA23)*1000","v":3.3765959691885619},{"$f":"('2014'!S23/'2014 Rate'!$AA23)*1000","v":3.2710773451514195},null,null,null,null,null,{"$f":"('2014'!Y23/'2014 Rate'!$AA23)*1000","v":0.30600400970771341},"Moray",94770]
[22,"Na h-Eileanan Siar",null,{"$f":"('2014'!D24/'2014 Rate'!$AA24)*1000","v":-3.3027522935779818},{"$f":"('2014'!E24/'2014 Rate'!$AA24)*1000","v":0},{"$f":"('2014'!F24/'2014 Rate'!$AA24)*1000","v":-3.3027522935779818},{"$f":"('2014'!G24/'2014 Rate'!$AA24)*1000","v":7.3394495412844027E-2},{"$f":"('2014'!H24/'2014 Rate'!$AA24)*1000","v":30.091743119266056},{"$f":"('2014'!I24/'2014 Rate'!$AA24)*1000","v":33.394495412844037},{"$f":"('2014'!J24/'2014 Rate'!$AA24)*1000","v":-2.2018348623853212},{"$f":"('2014'!K24/'2014 Rate'!$AA24)*1000","v":20.550458715596328},{"$f":"('2014'!L24/'2014 Rate'!$AA24)*1000","v":22.752293577981654},{"$f":"('2014'!M24/'2014 Rate'!$AA24)*1000","v":0.73394495412844041},{"$f":"('2014'!N24/'2014 Rate'!$AA24)*1000","v":8.4403669724770634},{"$f":"('2014'!O24/'2014 Rate'!$AA24)*1000","v":7.7064220183486238},{"$f":"('2014'!P24/'2014 Rate'!$AA24)*1000","v":-1.834862385321101},{"$f":"('2014'!Q24/'2014 Rate'!$AA24)*1000","v":1.1009174311926606},{"$f":"('2014'!R24/'2014 Rate'!$AA24)*1000","v":2.9357798165137616},{"$f":"('2014'!S24/'2014 Rate'!$AA24)*1000","v":2.2018348623853212},null,null,null,null,null,{"$f":"('2014'!Y24/'2014 Rate'!$AA24)*1000","v":0.33027522935779813},"Na h-Eileanan Siar",27250]
[23,"North Ayrshire",null,{"$f":"('2014'!D25/'2014 Rate'!$AA25)*1000","v":-1.0257913247362251},{"$f":"('2014'!E25/'2014 Rate'!$AA25)*1000","v":0.66676436107854631},{"$f":"('2014'!F25/'2014 Rate'!$AA25)*1000","v":-1.9856389214536929},{"$f":"('2014'!G25/'2014 Rate'!$AA25)*1000","v":0.31506447831184053},{"$f":"('2014'!H25/'2014 Rate'!$AA25)*1000","v":26.011137162954277},{"$f":"('2014'!I25/'2014 Rate'!$AA25)*1000","v":27.036928487690503},{"$f":"('2014'!J25/'2014 Rate'!$AA25)*1000","v":-1.5386869871043376},{"$f":"('2014'!K25/'2014 Rate'!$AA25)*1000","v":18.610785463071512},{"$f":"('2014'!L25/'2014 Rate'!$AA25)*1000","v":20.14947245017585},{"$f":"('2014'!M25/'2014 Rate'!$AA25)*1000","v":1.7584994138335288},{"$f":"('2014'!N25/'2014 Rate'!$AA25)*1000","v":6.4478311840562723},{"$f":"('2014'!O25/'2014 Rate'!$AA25)*1000","v":4.6893317702227426},{"$f":"('2014'!P25/'2014 Rate'!$AA25)*1000","v":-1.2456037514654161},{"$f":"('2014'!Q25/'2014 Rate'!$AA25)*1000","v":1.0257913247362251},{"$f":"('2014'!R25/'2014 Rate'!$AA25)*1000","v":2.1981242672919108},{"$f":"('2014'!S25/'2014 Rate'!$AA25)*1000","v":0.95252051582649466},null,null,null,null,null,{"$f":"('2014'!Y25/'2014 Rate'!$AA25)*1000","v":0.15386869871043377},"North Ayrshire",136480]
[24,"North Lanarkshire",null,{"$f":"('2014'!D26/'2014 Rate'!$AA26)*1000","v":-0.2662721893491124},{"$f":"('2014'!E26/'2014 Rate'!$AA26)*1000","v":0.23964497041420119},{"$f":"('2014'!F26/'2014 Rate'!$AA26)*1000","v":-0.40828402366863908},{"$f":"('2014'!G26/'2014 Rate'!$AA26)*1000","v":-8.5798816568047331E-2},{"$f":"('2014'!H26/'2014 Rate'!$AA26)*1000","v":20.473372781065088},{"$f":"('2014'!I26/'2014 Rate'!$AA26)*1000","v":20.739644970414201},{"$f":"('2014'!J26/'2014 Rate'!$AA26)*1000","v":-0.5325443786982248},{"$f":"('2014'!K26/'2014 Rate'!$AA26)*1000","v":15.325443786982248},{"$f":"('2014'!L26/'2014 Rate'!$AA26)*1000","v":15.88757396449704},{"$f":"('2014'!M26/'2014 Rate'!$AA26)*1000","v":0.76923076923076927},{"$f":"('2014'!N26/'2014 Rate'!$AA26)*1000","v":3.6982248520710059},{"$f":"('2014'!O26/'2014 Rate'!$AA26)*1000","v":2.9289940828402368},{"$f":"('2014'!P26/'2014 Rate'!$AA26)*1000","v":-0.50295857988165671},{"$f":"('2014'!Q26/'2014 Rate'!$AA26)*1000","v":1.4497041420118344},{"$f":"('2014'!R26/'2014 Rate'!$AA26)*1000","v":1.9526627218934911},{"$f":"('2014'!S26/'2014 Rate'!$AA26)*1000","v":2.3372781065088759},null,null,null,null,null,{"$f":"('2014'!Y26/'2014 Rate'!$AA26)*1000","v":0.23668639053254437},"North Lanarkshire",338000]
[25,"Orkney Islands",null,{"$f":"('2014'!D27/'2014 Rate'!$AA27)*1000","v":3.243744207599629},{"$f":"('2014'!E27/'2014 Rate'!$AA27)*1000","v":2.0389249304911954},{"$f":"('2014'!F27/'2014 Rate'!$AA27)*1000","v":0.64874884151992585},{"$f":"('2014'!G27/'2014 Rate'!$AA27)*1000","v":0.41705282669138088},{"$f":"('2014'!H27/'2014 Rate'!$AA27)*1000","v":34.754402224281741},{"$f":"('2014'!I27/'2014 Rate'!$AA27)*1000","v":31.510658016682111},{"$f":"('2014'!J27/'2014 Rate'!$AA27)*1000","v":-1.8535681186283597},{"$f":"('2014'!K27/'2014 Rate'!$AA27)*1000","v":17.608897126969417},{"$f":"('2014'!L27/'2014 Rate'!$AA27)*1000","v":19.462465245597777},{"$f":"('2014'!M27/'2014 Rate'!$AA27)*1000","v":5.5607043558850791},{"$f":"('2014'!N27/'2014 Rate'!$AA27)*1000","v":14.828544949026877},{"$f":"('2014'!O27/'2014 Rate'!$AA27)*1000","v":8.8044485634847085},{"$f":"('2014'!P27/'2014 Rate'!$AA27)*1000","v":-0.92678405931417984},{"$f":"('2014'!Q27/'2014 Rate'!$AA27)*1000","v":2.3169601482854492},{"$f":"('2014'!R27/'2014 Rate'!$AA27)*1000","v":3.243744207599629},{"$f":"('2014'!S27/'2014 Rate'!$AA27)*1000","v":2.3169601482854492},null,null,null,null,null,{"$f":"('2014'!Y27/'2014 Rate'!$AA27)*1000","v":0.23169601482854496},"Orkney Islands",21580]
[26,"Perth and Kinross",null,{"$f":"('2014'!D28/'2014 Rate'!$AA28)*1000","v":9.4675350835963208},{"$f":"('2014'!E28/'2014 Rate'!$AA28)*1000","v":2.8469750889679717},{"$f":"('2014'!F28/'2014 Rate'!$AA28)*1000","v":6.3452628751762568},{"$f":"('2014'!G28/'2014 Rate'!$AA28)*1000","v":0.25515342778486533},{"$f":"('2014'!H28/'2014 Rate'!$AA28)*1000","v":45.390451890149734},{"$f":"('2014'!I28/'2014 Rate'!$AA28)*1000","v":35.922916806553417},{"$f":"('2014'!J28/'2014 Rate'!$AA28)*1000","v":4.0958839723359972},{"$f":"('2014'!K28/'2014 Rate'!$AA28)*1000","v":27.798294500772176},{"$f":"('2014'!L28/'2014 Rate'!$AA28)*1000","v":23.702410528436175},{"$f":"('2014'!M28/'2014 Rate'!$AA28)*1000","v":2.2158060833948832},{"$f":"('2014'!N28/'2014 Rate'!$AA28)*1000","v":9.2660981669240581},{"$f":"('2014'!O28/'2014 Rate'!$AA28)*1000","v":7.0502920835291745},{"$f":"('2014'!P28/'2014 Rate'!$AA28)*1000","v":3.15584502786544},{"$f":"('2014'!Q28/'2014 Rate'!$AA28)*1000","v":8.3260592224535017},{"$f":"('2014'!R28/'2014 Rate'!$AA28)*1000","v":5.1702141945880609},{"$f":"('2014'!S28/'2014 Rate'!$AA28)*1000","v":16.517827167125496},null,null,null,null,null,{"$f":"('2014'!Y28/'2014 Rate'!$AA28)*1000","v":0.36258645001007184},"Perth & Kinross",148930]
[27,"Renfrewshire",null,{"$f":"('2014'!D29/'2014 Rate'!$AA29)*1000","v":2.1236296848992713},{"$f":"('2014'!E29/'2014 Rate'!$AA29)*1000","v":0.29845606382368134},{"$f":"('2014'!F29/'2014 Rate'!$AA29)*1000","v":1.457843080984905},{"$f":"('2014'!G29/'2014 Rate'!$AA29)*1000","v":0.3788096194685186},{"$f":"('2014'!H29/'2014 Rate'!$AA29)*1000","v":28.869884635252252},{"$f":"('2014'!I29/'2014 Rate'!$AA29)*1000","v":26.746254950352981},{"$f":"('2014'!J29/'2014 Rate'!$AA29)*1000","v":2.1810250817884405},{"$f":"('2014'!K29/'2014 Rate'!$AA29)*1000","v":22.384204786776099},{"$f":"('2014'!L29/'2014 Rate'!$AA29)*1000","v":20.145784308098492},{"$f":"('2014'!M29/'2014 Rate'!$AA29)*1000","v":0},{"$f":"('2014'!N29/'2014 Rate'!$AA29)*1000","v":4.0176777822418641},{"$f":"('2014'!O29/'2014 Rate'!$AA29)*1000","v":4.0176777822418641},{"$f":"('2014'!P29/'2014 Rate'!$AA29)*1000","v":-5.7395396889169489E-2},{"$f":"('2014'!Q29/'2014 Rate'!$AA29)*1000","v":2.4680020662342881},{"$f":"('2014'!R29/'2014 Rate'!$AA29)*1000","v":2.5253974631234577},{"$f":"('2014'!S29/'2014 Rate'!$AA29)*1000","v":3.8454915915743557},null,null,null,null,null,{"$f":"('2014'!Y29/'2014 Rate'!$AA29)*1000","v":0.43046547666877116},"Renfrewshire",174230]
[28,"Scottish Borders",null,{"$f":"('2014'!D30/'2014 Rate'!$AA30)*1000","v":2.4552788495264819},{"$f":"('2014'!E30/'2014 Rate'!$AA30)*1000","v":1.5082427218519818},{"$f":"('2014'!F30/'2014 Rate'!$AA30)*1000","v":1.5170115748860049},{"$f":"('2014'!G30/'2014 Rate'!$AA30)*1000","v":-0.56997544721150473},{"$f":"('2014'!H30/'2014 Rate'!$AA30)*1000","v":36.829182742897231},{"$f":"('2014'!I30/'2014 Rate'!$AA30)*1000","v":34.373903893370752},{"$f":"('2014'!J30/'2014 Rate'!$AA30)*1000","v":0.61381971238162047},{"$f":"('2014'!K30/'2014 Rate'!$AA30)*1000","v":20.343739038933705},{"$f":"('2014'!L30/'2014 Rate'!$AA30)*1000","v":19.729919326552086},{"$f":"('2014'!M30/'2014 Rate'!$AA30)*1000","v":3.4198526832690281},{"$f":"('2014'!N30/'2014 Rate'!$AA30)*1000","v":14.030164854437039},{"$f":"('2014'!O30/'2014 Rate'!$AA30)*1000","v":10.61031217116801},{"$f":"('2014'!P30/'2014 Rate'!$AA30)*1000","v":-1.4907050157839354},{"$f":"('2014'!Q30/'2014 Rate'!$AA30)*1000","v":2.4552788495264819},{"$f":"('2014'!R30/'2014 Rate'!$AA30)*1000","v":4.0336723956506484},{"$f":"('2014'!S30/'2014 Rate'!$AA30)*1000","v":3.1567870922483339},null,null,null,null,null,{"$f":"('2014'!Y30/'2014 Rate'!$AA30)*1000","v":0.23675903191862505},"Scottish Borders",114040]
[29,"Shetland Islands",null,{"$f":"('2014'!D31/'2014 Rate'!$AA31)*1000","v":-0.4306632213608958},{"$f":"('2014'!E31/'2014 Rate'!$AA31)*1000","v":0.1722652885443583},{"$f":"('2014'!F31/'2014 Rate'!$AA31)*1000","v":-4.3066322136089574E-2},{"$f":"('2014'!G31/'2014 Rate'!$AA31)*1000","v":-0.34453057708871659},{"$f":"('2014'!H31/'2014 Rate'!$AA31)*1000","v":28.85443583118002},{"$f":"('2014'!I31/'2014 Rate'!$AA31)*1000","v":29.285099052540914},{"$f":"('2014'!J31/'2014 Rate'!$AA31)*1000","v":-1.2919896640826873},{"$f":"('2014'!K31/'2014 Rate'!$AA31)*1000","v":15.503875968992247},{"$f":"('2014'!L31/'2014 Rate'!$AA31)*1000","v":16.795865633074936},{"$f":"('2014'!M31/'2014 Rate'!$AA31)*1000","v":2.5839793281653747},{"$f":"('2014'!N31/'2014 Rate'!$AA31)*1000","v":11.627906976744185},{"$f":"('2014'!O31/'2014 Rate'!$AA31)*1000","v":8.6132644272179171},{"$f":"('2014'!P31/'2014 Rate'!$AA31)*1000","v":-1.7226528854435832},{"$f":"('2014'!Q31/'2014 Rate'!$AA31)*1000","v":2.1533161068044793},{"$f":"('2014'!R31/'2014 Rate'!$AA31)*1000","v":3.8759689922480618},{"$f":"('2014'!S31/'2014 Rate'!$AA31)*1000","v":23.255813953488371},null,null,null,null,null,{"$f":"('2014'!Y31/'2014 Rate'!$AA31)*1000","v":0.38759689922480622},"Shetland Islands",23220]
[30,"South Ayrshire",null,{"$f":"('2014'!D32/'2014 Rate'!$AA32)*1000","v":0.88865191504487695},{"$f":"('2014'!E32/'2014 Rate'!$AA32)*1000","v":0.76424064693859417},{"$f":"('2014'!F32/'2014 Rate'!$AA32)*1000","v":-0.76424064693859417},{"$f":"('2014'!G32/'2014 Rate'!$AA32)*1000","v":0.91531147249622324},{"$f":"('2014'!H32/'2014 Rate'!$AA32)*1000","v":30.480760686039279},{"$f":"('2014'!I32/'2014 Rate'!$AA32)*1000","v":29.592108770994404},{"$f":"('2014'!J32/'2014 Rate'!$AA32)*1000","v":0.88865191504487695},{"$f":"('2014'!K32/'2014 Rate'!$AA32)*1000","v":22.03856749311295},{"$f":"('2014'!L32/'2014 Rate'!$AA32)*1000","v":21.149915578068072},{"$f":"('2014'!M32/'2014 Rate'!$AA32)*1000","v":1.5107082555762907},{"$f":"('2014'!N32/'2014 Rate'!$AA32)*1000","v":7.0203501288545276},{"$f":"('2014'!O32/'2014 Rate'!$AA32)*1000","v":5.5096418732782375},{"$f":"('2014'!P32/'2014 Rate'!$AA32)*1000","v":-1.5107082555762907},{"$f":"('2014'!Q32/'2014 Rate'!$AA32)*1000","v":1.5107082555762907},{"$f":"('2014'!R32/'2014 Rate'!$AA32)*1000","v":2.9325513196480939},{"$f":"('2014'!S32/'2014 Rate'!$AA32)*1000","v":2.1327645961077044},null,null,null,null,null,{"$f":"('2014'!Y32/'2014 Rate'!$AA32)*1000","v":0.31102817026570695},"South Ayrshire",112530]
[31,"South Lanarkshire",null,{"$f":"('2014'!D33/'2014 Rate'!$AA33)*1000","v":1.6175071360608944},{"$f":"('2014'!E33/'2014 Rate'!$AA33)*1000","v":0.46305106248017763},{"$f":"('2014'!F33/'2014 Rate'!$AA33)*1000","v":1.0085632730732634},{"$f":"('2014'!G33/'2014 Rate'!$AA33)*1000","v":0.14906438312718048},{"$f":"('2014'!H33/'2014 Rate'!$AA33)*1000","v":26.292419917538851},{"$f":"('2014'!I33/'2014 Rate'!$AA33)*1000","v":24.674912781477961},{"$f":"('2014'!J33/'2014 Rate'!$AA33)*1000","v":1.7126546146527115},{"$f":"('2014'!K33/'2014 Rate'!$AA33)*1000","v":20.329844592451632},{"$f":"('2014'!L33/'2014 Rate'!$AA33)*1000","v":18.648905803996193},{"$f":"('2014'!M33/'2014 Rate'!$AA33)*1000","v":1.1100539169045354},{"$f":"('2014'!N33/'2014 Rate'!$AA33)*1000","v":4.7890897557881384},{"$f":"('2014'!O33/'2014 Rate'!$AA33)*1000","v":3.6790358388836029},{"$f":"('2014'!P33/'2014 Rate'!$AA33)*1000","v":-1.1734855692990802},{"$f":"('2014'!Q33/'2014 Rate'!$AA33)*1000","v":1.1734855692990802},{"$f":"('2014'!R33/'2014 Rate'!$AA33)*1000","v":2.3469711385981604},{"$f":"('2014'!S33/'2014 Rate'!$AA33)*1000","v":2.029812876625436},null,null,null,null,null,{"$f":"('2014'!Y33/'2014 Rate'!$AA33)*1000","v":0.43767840152235971},"South Lanarkshire",315300]
[32,"Stirling",null,{"$f":"('2014'!D34/'2014 Rate'!$AA34)*1000","v":5.13548951048951},{"$f":"('2014'!E34/'2014 Rate'!$AA34)*1000","v":2.5131118881118879},{"$f":"('2014'!F34/'2014 Rate'!$AA34)*1000","v":2.567744755244755},{"$f":"('2014'!G34/'2014 Rate'!$AA34)*1000","v":2.1853146853146852E-2},{"$f":"('2014'!H34/'2014 Rate'!$AA34)*1000","v":56.05332167832168},{"$f":"('2014'!I34/'2014 Rate'!$AA34)*1000","v":51.027097902097907},{"$f":"('2014'!J34/'2014 Rate'!$AA34)*1000","v":0.65559440559440563},{"$f":"('2014'!K34/'2014 Rate'!$AA34)*1000","v":36.276223776223773},{"$f":"('2014'!L34/'2014 Rate'!$AA34)*1000","v":35.51136363636364},{"$f":"('2014'!M34/'2014 Rate'!$AA34)*1000","v":4.9169580419580416},{"$f":"('2014'!N34/'2014 Rate'!$AA34)*1000","v":13.111888111888112},{"$f":"('2014'!O34/'2014 Rate'!$AA34)*1000","v":8.19493006993007},{"$f":"('2014'!P34/'2014 Rate'!$AA34)*1000","v":-0.43706293706293708},{"$f":"('2014'!Q34/'2014 Rate'!$AA34)*1000","v":6.66520979020979},{"$f":"('2014'!R34/'2014 Rate'!$AA34)*1000","v":7.2115384615384617},{"$f":"('2014'!S34/'2014 Rate'!$AA34)*1000","v":6.3374125874125866},null,null,null,null,null,{"$f":"('2014'!Y34/'2014 Rate'!$AA34)*1000","v":0.5026223776223776},"Stirling",91520]
[33,"West Dunbartonshire",null,{"$f":"('2014'!D35/'2014 Rate'!$AA35)*1000","v":-1.1147029316687103},{"$f":"('2014'!E35/'2014 Rate'!$AA35)*1000","v":-0.30096979155055176},{"$f":"('2014'!F35/'2014 Rate'!$AA35)*1000","v":-0.56849849515104223},{"$f":"('2014'!G35/'2014 Rate'!$AA35)*1000","v":-0.22294058633374206},{"$f":"('2014'!H35/'2014 Rate'!$AA35)*1000","v":25.192286255712851},{"$f":"('2014'!I35/'2014 Rate'!$AA35)*1000","v":26.195518894214693},{"$f":"('2014'!J35/'2014 Rate'!$AA35)*1000","v":-1.4491138111693234},{"$f":"('2014'!K35/'2014 Rate'!$AA35)*1000","v":19.6187715973693},{"$f":"('2014'!L35/'2014 Rate'!$AA35)*1000","v":21.067885408538626},{"$f":"('2014'!M35/'2014 Rate'!$AA35)*1000","v":0.78029205216809727},{"$f":"('2014'!N35/'2014 Rate'!$AA35)*1000","v":4.2358711403410991},{"$f":"('2014'!O35/'2014 Rate'!$AA35)*1000","v":3.5670493813398729},{"$f":"('2014'!P35/'2014 Rate'!$AA35)*1000","v":-0.33441087950061305},{"$f":"('2014'!Q35/'2014 Rate'!$AA35)*1000","v":1.3376435180024522},{"$f":"('2014'!R35/'2014 Rate'!$AA35)*1000","v":1.6720543975030655},{"$f":"('2014'!S35/'2014 Rate'!$AA35)*1000","v":1.8949949838368074},null,null,null,null,null,{"$f":"('2014'!Y35/'2014 Rate'!$AA35)*1000","v":0.25638167428380337},"West Dunbartonshire",89710]
[34,"West Lothian",null,{"$f":"('2014'!D36/'2014 Rate'!$AA36)*1000","v":2.4830699774266365},{"$f":"('2014'!E36/'2014 Rate'!$AA36)*1000","v":1.1060948081264108},{"$f":"('2014'!F36/'2014 Rate'!$AA36)*1000","v":1.1060948081264108},{"$f":"('2014'!G36/'2014 Rate'!$AA36)*1000","v":0.29345372460496616},{"$f":"('2014'!H36/'2014 Rate'!$AA36)*1000","v":29.514672686230249},{"$f":"('2014'!I36/'2014 Rate'!$AA36)*1000","v":27.031602708803611},{"$f":"('2014'!J36/'2014 Rate'!$AA36)*1000","v":0.90293453724604966},{"$f":"('2014'!K36/'2014 Rate'!$AA36)*1000","v":20.880361173814901},{"$f":"('2014'!L36/'2014 Rate'!$AA36)*1000","v":19.97742663656885},{"$f":"('2014'!M36/'2014 Rate'!$AA36)*1000","v":1.2415349887133182},{"$f":"('2014'!N36/'2014 Rate'!$AA36)*1000","v":5.4740406320541757},{"$f":"('2014'!O36/'2014 Rate'!$AA36)*1000","v":4.2325056433408585},{"$f":"('2014'!P36/'2014 Rate'!$AA36)*1000","v":0.33860045146726864},{"$f":"('2014'!Q36/'2014 Rate'!$AA36)*1000","v":3.1602708803611739},{"$f":"('2014'!R36/'2014 Rate'!$AA36)*1000","v":2.8216704288939054},{"$f":"('2014'!S36/'2014 Rate'!$AA36)*1000","v":4.7968397291196387},null,null,null,null,null,{"$f":"('2014'!Y36/'2014 Rate'!$AA36)*1000","v":0.59255079006772005},"West Lothian",177200]
[]
[35,"Not specified"]
[36,"Scotland",null,{"$f":"('2014'!D39/'2014 Rate'!$AA39)*1000","v":3.2911960505647393},{"$f":"('2014'!E39/'2014 Rate'!$AA39)*1000","v":0.57820330615603266},{"$f":"('2014'!F39/'2014 Rate'!$AA39)*1000","v":2.7058867529358968},{"$f":"('2014'!G39/'2014 Rate'!$AA39)*1000","v":4.3009948388061936E-3},{"$f":"('2014'!H39/'2014 Rate'!$AA39)*1000","v":15.408781509462189},{"$f":"('2014'!I39/'2014 Rate'!$AA39)*1000","v":12.136285436457475},{"$f":"'Within Scotland net migration'!L41","v":"[z]"},{"$f":"'Within Scotland in-migration'!L41","v":"[z]"},{"$f":"'Within Scotland out-migration'!L41","v":"[z]"},{"$f":"('2014'!M39/'2014 Rate'!$AA39)*1000","v":1.795197845762585},{"$f":"('2014'!N39/'2014 Rate'!$AA39)*1000","v":9.2003889595332478},{"$f":"('2014'!O39/'2014 Rate'!$AA39)*1000","v":7.4238910913306908},{"$f":"('2014'!P39/'2014 Rate'!$AA39)*1000","v":1.4959982048021543},{"$f":"('2014'!Q39/'2014 Rate'!$AA39)*1000","v":6.2083925499289405},{"$f":"('2014'!R39/'2014 Rate'!$AA39)*1000","v":4.7123943451267856},null,null,null,null,null,null,null,"SCOTLAND",{"$f":"AA4","v":5347600}]
[37,"Ayrshire and Arran",null,{"$f":"('2014'!D40/'2014 Rate'!$AA40)*1000","v":-0.32332812415799972},{"$f":"('2014'!E40/'2014 Rate'!$AA40)*1000","v":0.52001939968744948},{"$f":"('2014'!F40/'2014 Rate'!$AA40)*1000","v":-1.1666756480034488},{"$f":"('2014'!G40/'2014 Rate'!$AA40)*1000","v":0.3125505200193997},{"$f":"('2014'!H40/'2014 Rate'!$AA40)*1000","v":20.96244004957698},{"$f":"('2014'!I40/'2014 Rate'!$AA40)*1000","v":21.285768173734979},{"$f":"('2014'!J40/'2014 Rate'!$AA40)*1000","v":-0.18860807242549982},{"$f":"('2014'!K40/'2014 Rate'!$AA40)*1000","v":13.606725224982485},{"$f":"('2014'!L40/'2014 Rate'!$AA40)*1000","v":13.795333297407987},{"$f":"('2014'!M40/'2014 Rate'!$AA40)*1000","v":1.2124804655924988},{"$f":"('2014'!N40/'2014 Rate'!$AA40)*1000","v":6.2779544107344938},{"$f":"('2014'!O40/'2014 Rate'!$AA40)*1000","v":5.0654739451419948},{"$f":"('2014'!P40/'2014 Rate'!$AA40)*1000","v":-1.3741445276714985},{"$f":"('2014'!Q40/'2014 Rate'!$AA40)*1000","v":1.0777604138599988},{"$f":"('2014'!R40/'2014 Rate'!$AA40)*1000","v":2.4249609311849976},null,null,null,null,null,null,null,"Ayrshire & Arran",{"$f":"AA13+AA25+AA32","v":371140}]
[38,"Borders",null,{"$f":"('2014'!D41/'2014 Rate'!$AA41)*1000","v":2.4552788495264819},{"$f":"('2014'!E41/'2014 Rate'!$AA41)*1000","v":1.5082427218519818},{"$f":"('2014'!F41/'2014 Rate'!$AA41)*1000","v":1.5170115748860049},{"$f":"('2014'!G41/'2014 Rate'!$AA41)*1000","v":-0.56997544721150473},{"$f":"('2014'!H41/'2014 Rate'!$AA41)*1000","v":36.829182742897231},{"$f":"('2014'!I41/'2014 Rate'!$AA41)*1000","v":34.373903893370752},{"$f":"('2014'!J41/'2014 Rate'!$AA41)*1000","v":0.61381971238162047},{"$f":"('2014'!K41/'2014 Rate'!$AA41)*1000","v":20.343739038933705},{"$f":"('2014'!L41/'2014 Rate'!$AA41)*1000","v":19.729919326552086},{"$f":"('2014'!M41/'2014 Rate'!$AA41)*1000","v":3.4198526832690281},{"$f":"('2014'!N41/'2014 Rate'!$AA41)*1000","v":14.030164854437039},{"$f":"('2014'!O41/'2014 Rate'!$AA41)*1000","v":10.61031217116801},{"$f":"('2014'!P41/'2014 Rate'!$AA41)*1000","v":-1.4907050157839354},{"$f":"('2014'!Q41/'2014 Rate'!$AA41)*1000","v":2.4552788495264819},{"$f":"('2014'!R41/'2014 Rate'!$AA41)*1000","v":4.0336723956506484},null,null,null,null,null,null,null,"Borders",{"$f":"AA30","v":114040}]
[39,"Dumfries and Galloway",null,{"$f":"('2014'!D42/'2014 Rate'!$AA42)*1000","v":2.2005868231528405},{"$f":"('2014'!E42/'2014 Rate'!$AA42)*1000","v":1.1269671912510002},{"$f":"('2014'!F42/'2014 Rate'!$AA42)*1000","v":0.70018671645772201},{"$f":"('2014'!G42/'2014 Rate'!$AA42)*1000","v":0.40010669511869834},{"$f":"('2014'!H42/'2014 Rate'!$AA42)*1000","v":27.007201920512138},{"$f":"('2014'!I42/'2014 Rate'!$AA42)*1000","v":24.739930648172844},{"$f":"('2014'!J42/'2014 Rate'!$AA42)*1000","v":-0.7335289410509469},{"$f":"('2014'!K42/'2014 Rate'!$AA42)*1000","v":11.536409709255802},{"$f":"('2014'!L42/'2014 Rate'!$AA42)*1000","v":12.269938650306749},{"$f":"('2014'!M42/'2014 Rate'!$AA42)*1000","v":4.7345958922379303},{"$f":"('2014'!N42/'2014 Rate'!$AA42)*1000","v":14.07041877834089},{"$f":"('2014'!O42/'2014 Rate'!$AA42)*1000","v":9.3358228861029602},{"$f":"('2014'!P42/'2014 Rate'!$AA42)*1000","v":-1.8004801280341425},{"$f":"('2014'!Q42/'2014 Rate'!$AA42)*1000","v":1.400373432915444},{"$f":"('2014'!R42/'2014 Rate'!$AA42)*1000","v":3.2008535609495867},null,null,null,null,null,null,null,"Dumfries & Galloway",{"$f":"AA11","v":149960}]
[40,"Fife",null,{"$f":"('2014'!D43/'2014 Rate'!$AA43)*1000","v":1.7699115044247788},{"$f":"('2014'!E43/'2014 Rate'!$AA43)*1000","v":0.27501701837985021},{"$f":"('2014'!F43/'2014 Rate'!$AA43)*1000","v":0.98842750170183791},{"$f":"('2014'!G43/'2014 Rate'!$AA43)*1000","v":0.50646698434309056},{"$f":"('2014'!H43/'2014 Rate'!$AA43)*1000","v":29.652825051055139},{"$f":"('2014'!I43/'2014 Rate'!$AA43)*1000","v":27.882913546630363},{"$f":"('2014'!J43/'2014 Rate'!$AA43)*1000","v":-0.24506466984343092},{"$f":"('2014'!K43/'2014 Rate'!$AA43)*1000","v":16.44656228727025},{"$f":"('2014'!L43/'2014 Rate'!$AA43)*1000","v":16.6643975493533},{"$f":"('2014'!M43/'2014 Rate'!$AA43)*1000","v":1.7154526889040165},{"$f":"('2014'!N43/'2014 Rate'!$AA43)*1000","v":8.795098706603131},{"$f":"('2014'!O43/'2014 Rate'!$AA43)*1000","v":7.0796460176991154},{"$f":"('2014'!P43/'2014 Rate'!$AA43)*1000","v":0.29952348536419332},{"$f":"('2014'!Q43/'2014 Rate'!$AA43)*1000","v":4.4383934649421377},{"$f":"('2014'!R43/'2014 Rate'!$AA43)*1000","v":4.1388699795779438},null,null,null,null,null,null,null,"Fife",{"$f":"AA18","v":367250}]
[41,"Forth Valley",null,{"$f":"('2014'!D44/'2014 Rate'!$AA44)*1000","v":2.6631158455392812},{"$f":"('2014'!E44/'2014 Rate'!$AA44)*1000","v":0.95872170439414117},{"$f":"('2014'!F44/'2014 Rate'!$AA44)*1000","v":1.5978695073235687},{"$f":"('2014'!G44/'2014 Rate'!$AA44)*1000","v":0.10652463382157124},{"$f":"('2014'!H44/'2014 Rate'!$AA44)*1000","v":31.458055925432756},{"$f":"('2014'!I44/'2014 Rate'!$AA44)*1000","v":28.794940079893475},{"$f":"('2014'!J44/'2014 Rate'!$AA44)*1000","v":0.5992010652463382},{"$f":"('2014'!K44/'2014 Rate'!$AA44)*1000","v":20.173102529960055},{"$f":"('2014'!L44/'2014 Rate'!$AA44)*1000","v":19.573901464713718},{"$f":"('2014'!M44/'2014 Rate'!$AA44)*1000","v":2.2636484687083889},{"$f":"('2014'!N44/'2014 Rate'!$AA44)*1000","v":7.7230359520639151},{"$f":"('2014'!O44/'2014 Rate'!$AA44)*1000","v":5.4593874833555258},{"$f":"('2014'!P44/'2014 Rate'!$AA44)*1000","v":-0.19973368841544609},{"$f":"('2014'!Q44/'2014 Rate'!$AA44)*1000","v":3.5619174434087886},{"$f":"('2014'!R44/'2014 Rate'!$AA44)*1000","v":3.7283621837549932},null,null,null,null,null,null,null,"Forth Valley",{"$f":"AA10+AA17+AA34","v":300400}]
[42,"Grampian",null,{"$f":"('2014'!D45/'2014 Rate'!$AA45)*1000","v":6.7098011023244668},{"$f":"('2014'!E45/'2014 Rate'!$AA45)*1000","v":1.1879086645441785},{"$f":"('2014'!F45/'2014 Rate'!$AA45)*1000","v":5.9908938413611308},{"$f":"('2014'!G45/'2014 Rate'!$AA45)*1000","v":-0.4690014035808428},{"$f":"('2014'!H45/'2014 Rate'!$AA45)*1000","v":34.610249563520597},{"$f":"('2014'!I45/'2014 Rate'!$AA45)*1000","v":27.900448461196124},{"$f":"('2014'!J45/'2014 Rate'!$AA45)*1000","v":1.1810619287254802},{"$f":"('2014'!K45/'2014 Rate'!$AA45)*1000","v":14.326794700626476},{"$f":"('2014'!L45/'2014 Rate'!$AA45)*1000","v":13.145732771900997},{"$f":"('2014'!M45/'2014 Rate'!$AA45)*1000","v":2.0369039060627849},{"$f":"('2014'!N45/'2014 Rate'!$AA45)*1000","v":10.783608914450037},{"$f":"('2014'!O45/'2014 Rate'!$AA45)*1000","v":8.7638218479339969},{"$f":"('2014'!P45/'2014 Rate'!$AA45)*1000","v":3.5089521070829481},{"$f":"('2014'!Q45/'2014 Rate'!$AA45)*1000","v":9.4998459484440794},{"$f":"('2014'!R45/'2014 Rate'!$AA45)*1000","v":5.9908938413611308},null,null,null,null,null,null,null,"Grampian",{"$f":"AA5+AA6+AA23","v":584220}]
[43,"Greater Glasgow and Clyde",null,{"$f":"('2014'!D46/'2014 Rate'!$AA46)*1000","v":3.369537629420877},{"$f":"('2014'!E46/'2014 Rate'!$AA46)*1000","v":0.13303109601869437},{"$f":"('2014'!F46/'2014 Rate'!$AA46)*1000","v":3.3599103790511031},{"$f":"('2014'!G46/'2014 Rate'!$AA46)*1000","v":-0.12340384564892044},{"$f":"('2014'!H46/'2014 Rate'!$AA46)*1000","v":30.492127534811264},{"$f":"('2014'!I46/'2014 Rate'!$AA46)*1000","v":27.122589905390388},{"$f":"('2014'!J46/'2014 Rate'!$AA46)*1000","v":-0.63014729693065752},{"$f":"('2014'!K46/'2014 Rate'!$AA46)*1000","v":14.30959486780035},{"$f":"('2014'!L46/'2014 Rate'!$AA46)*1000","v":14.939742164731005},{"$f":"('2014'!M46/'2014 Rate'!$AA46)*1000","v":0.73517184641910049},{"$f":"('2014'!N46/'2014 Rate'!$AA46)*1000","v":7.6580400668656301},{"$f":"('2014'!O46/'2014 Rate'!$AA46)*1000","v":6.9228682204465297},{"$f":"('2014'!P46/'2014 Rate'!$AA46)*1000","v":3.264513079932434},{"$f":"('2014'!Q46/'2014 Rate'!$AA46)*1000","v":8.5244926001452832},{"$f":"('2014'!R46/'2014 Rate'!$AA46)*1000","v":5.2599795202128501},null,null,null,null,null,null,null,"Greater Glasgow & Clyde",{"$f":"AA16+AA21+AA29+AA35+AA14+AA19","v":1142590}]
[44,"Highland",null,{"$f":"('2014'!D47/'2014 Rate'!$AA47)*1000","v":-0.12471549278209086},{"$f":"('2014'!E47/'2014 Rate'!$AA47)*1000","v":0.51756929504567706},{"$f":"('2014'!F47/'2014 Rate'!$AA47)*1000","v":-0.30243506999657033},{"$f":"('2014'!G47/'2014 Rate'!$AA47)*1000","v":-0.32737816855298846},{"$f":"('2014'!H47/'2014 Rate'!$AA47)*1000","v":33.330215446013781},{"$f":"('2014'!I47/'2014 Rate'!$AA47)*1000","v":33.423752065600354},{"$f":"('2014'!J47/'2014 Rate'!$AA47)*1000","v":-2.6502042216194304},{"$f":"('2014'!K47/'2014 Rate'!$AA47)*1000","v":18.333177438967354},{"$f":"('2014'!L47/'2014 Rate'!$AA47)*1000","v":21.014560533782308},{"$f":"('2014'!M47/'2014 Rate'!$AA47)*1000","v":3.5543915442895897},{"$f":"('2014'!N47/'2014 Rate'!$AA47)*1000","v":12.003866180276246},{"$f":"('2014'!O47/'2014 Rate'!$AA47)*1000","v":8.4494746359866557},{"$f":"('2014'!P47/'2014 Rate'!$AA47)*1000","v":-0.99772394225672689},{"$f":"('2014'!Q47/'2014 Rate'!$AA47)*1000","v":2.9931718267701806},{"$f":"('2014'!R47/'2014 Rate'!$AA47)*1000","v":3.9908957690269076},null,null,null,null,null,null,null,"Highland",{"$f":"AA20+AA8","v":320730}]
[45,"Lanarkshire",null,{"$f":"('2014'!D48/'2014 Rate'!$AA48)*1000","v":0.6581968467778968},{"$f":"('2014'!E48/'2014 Rate'!$AA48)*1000","v":0.3474667074850758},{"$f":"('2014'!F48/'2014 Rate'!$AA48)*1000","v":0.27552426144191028},{"$f":"('2014'!G48/'2014 Rate'!$AA48)*1000","v":2.7552426144191032E-2},{"$f":"('2014'!H48/'2014 Rate'!$AA48)*1000","v":19.791826113577223},{"$f":"('2014'!I48/'2014 Rate'!$AA48)*1000","v":19.148936170212767},{"$f":"('2014'!J48/'2014 Rate'!$AA48)*1000","v":0.55104852288382056},{"$f":"('2014'!K48/'2014 Rate'!$AA48)*1000","v":14.250727077912138},{"$f":"('2014'!L48/'2014 Rate'!$AA48)*1000","v":13.714985458441758},{"$f":"('2014'!M48/'2014 Rate'!$AA48)*1000","v":0.93372110821980714},{"$f":"('2014'!N48/'2014 Rate'!$AA48)*1000","v":4.2247053421092913},{"$f":"('2014'!O48/'2014 Rate'!$AA48)*1000","v":3.2909842338894841},{"$f":"('2014'!P48/'2014 Rate'!$AA48)*1000","v":-0.82657278432573089},{"$f":"('2014'!Q48/'2014 Rate'!$AA48)*1000","v":1.3163936935557936},{"$f":"('2014'!R48/'2014 Rate'!$AA48)*1000","v":2.1429664778815249},null,null,null,null,null,null,null,"Lanarkshire",{"$f":"AA26+AA33","v":653300}]
[46,"Lothian",null,{"$f":"('2014'!D49/'2014 Rate'!$AA49)*1000","v":6.3743998508367126},{"$f":"('2014'!E49/'2014 Rate'!$AA49)*1000","v":0.41486039248589945},{"$f":"('2014'!F49/'2014 Rate'!$AA49)*1000","v":5.7614319675569847},{"$f":"('2014'!G49/'2014 Rate'!$AA49)*1000","v":0.20043816715610868},{"$f":"('2014'!H49/'2014 Rate'!$AA49)*1000","v":39.586538013331463},{"$f":"('2014'!I49/'2014 Rate'!$AA49)*1000","v":33.200484780683354},{"$f":"('2014'!J49/'2014 Rate'!$AA49)*1000","v":-5.8266909057008348E-2},{"$f":"('2014'!K49/'2014 Rate'!$AA49)*1000","v":14.904675336782734},{"$f":"('2014'!L49/'2014 Rate'!$AA49)*1000","v":14.962942245839743},{"$f":"('2014'!M49/'2014 Rate'!$AA49)*1000","v":2.5520906166969657},{"$f":"('2014'!N49/'2014 Rate'!$AA49)*1000","v":13.587843192094347},{"$f":"('2014'!O49/'2014 Rate'!$AA49)*1000","v":11.03575257539738},{"$f":"('2014'!P49/'2014 Rate'!$AA49)*1000","v":3.8805761431967558},{"$f":"('2014'!Q49/'2014 Rate'!$AA49)*1000","v":11.082366102642988},{"$f":"('2014'!R49/'2014 Rate'!$AA49)*1000","v":7.2134433412576335},null,null,null,null,null,null,null,"Lothian",{"$f":"AA15+AA9+AA22+AA36","v":858120}]
[47,"Orkney",null,{"$f":"('2014'!D50/'2014 Rate'!$AA50)*1000","v":3.243744207599629},{"$f":"('2014'!E50/'2014 Rate'!$AA50)*1000","v":2.0389249304911954},{"$f":"('2014'!F50/'2014 Rate'!$AA50)*1000","v":0.64874884151992585},{"$f":"('2014'!G50/'2014 Rate'!$AA50)*1000","v":0.41705282669138088},{"$f":"('2014'!H50/'2014 Rate'!$AA50)*1000","v":34.754402224281741},{"$f":"('2014'!I50/'2014 Rate'!$AA50)*1000","v":31.510658016682111},{"$f":"('2014'!J50/'2014 Rate'!$AA50)*1000","v":-1.8535681186283597},{"$f":"('2014'!K50/'2014 Rate'!$AA50)*1000","v":17.608897126969417},{"$f":"('2014'!L50/'2014 Rate'!$AA50)*1000","v":19.462465245597777},{"$f":"('2014'!M50/'2014 Rate'!$AA50)*1000","v":5.5607043558850791},{"$f":"('2014'!N50/'2014 Rate'!$AA50)*1000","v":14.828544949026877},{"$f":"('2014'!O50/'2014 Rate'!$AA50)*1000","v":8.8044485634847085},{"$f":"('2014'!P50/'2014 Rate'!$AA50)*1000","v":-0.92678405931417984},{"$f":"('2014'!Q50/'2014 Rate'!$AA50)*1000","v":2.3169601482854492},{"$f":"('2014'!R50/'2014 Rate'!$AA50)*1000","v":3.243744207599629},null,null,null,null,null,null,null,"Orkney",{"$f":"AA27","v":21580}]
[48,"Shetland",null,{"$f":"('2014'!D51/'2014 Rate'!$AA51)*1000","v":-0.4306632213608958},{"$f":"('2014'!E51/'2014 Rate'!$AA51)*1000","v":0.1722652885443583},{"$f":"('2014'!F51/'2014 Rate'!$AA51)*1000","v":-4.3066322136089574E-2},{"$f":"('2014'!G51/'2014 Rate'!$AA51)*1000","v":-0.34453057708871659},{"$f":"('2014'!H51/'2014 Rate'!$AA51)*1000","v":28.85443583118002},{"$f":"('2014'!I51/'2014 Rate'!$AA51)*1000","v":29.285099052540914},{"$f":"('2014'!J51/'2014 Rate'!$AA51)*1000","v":-1.2919896640826873},{"$f":"('2014'!K51/'2014 Rate'!$AA51)*1000","v":15.503875968992247},{"$f":"('2014'!L51/'2014 Rate'!$AA51)*1000","v":16.795865633074936},{"$f":"('2014'!M51/'2014 Rate'!$AA51)*1000","v":2.5839793281653747},{"$f":"('2014'!N51/'2014 Rate'!$AA51)*1000","v":11.627906976744185},{"$f":"('2014'!O51/'2014 Rate'!$AA51)*1000","v":8.6132644272179171},{"$f":"('2014'!P51/'2014 Rate'!$AA51)*1000","v":-1.7226528854435832},{"$f":"('2014'!Q51/'2014 Rate'!$AA51)*1000","v":2.1533161068044793},{"$f":"('2014'!R51/'2014 Rate'!$AA51)*1000","v":3.8759689922480618},null,null,null,null,null,null,null,"Shetland",{"$f":"AA31","v":23220}]
[49,"Tayside",null,{"$f":"('2014'!D52/'2014 Rate'!$AA52)*1000","v":4.9299178347027546},{"$f":"('2014'!E52/'2014 Rate'!$AA52)*1000","v":1.2711454809086515},{"$f":"('2014'!F52/'2014 Rate'!$AA52)*1000","v":3.6080231996133398},{"$f":"('2014'!G52/'2014 Rate'!$AA52)*1000","v":5.0749154180763652E-2},{"$f":"('2014'!H52/'2014 Rate'!$AA52)*1000","v":34.87191880135331},{"$f":"('2014'!I52/'2014 Rate'!$AA52)*1000","v":29.942000966650554},{"$f":"('2014'!J52/'2014 Rate'!$AA52)*1000","v":1.764137264378927},{"$f":"('2014'!K52/'2014 Rate'!$AA52)*1000","v":19.478008699855003},{"$f":"('2014'!L52/'2014 Rate'!$AA52)*1000","v":17.713871435476076},{"$f":"('2014'!M52/'2014 Rate'!$AA52)*1000","v":1.3533107781536975},{"$f":"('2014'!N52/'2014 Rate'!$AA52)*1000","v":8.5065248912518108},{"$f":"('2014'!O52/'2014 Rate'!$AA52)*1000","v":7.1532141130981151},{"$f":"('2014'!P52/'2014 Rate'!$AA52)*1000","v":1.8124697921701305},{"$f":"('2014'!Q52/'2014 Rate'!$AA52)*1000","v":6.9115514741420974},{"$f":"('2014'!R52/'2014 Rate'!$AA52)*1000","v":5.0990816819719669},null,null,null,null,null,null,null,"Tayside",{"$f":"AA28+AA7+AA12","v":413800}]
[50,"Western Isles",null,{"$f":"('2014'!D53/'2014 Rate'!$AA53)*1000","v":-3.3027522935779818},{"$f":"('2014'!E53/'2014 Rate'!$AA53)*1000","v":0},{"$f":"('2014'!F53/'2014 Rate'!$AA53)*1000","v":-3.3027522935779818},{"$f":"('2014'!G53/'2014 Rate'!$AA53)*1000","v":7.3394495412844027E-2},{"$f":"('2014'!H53/'2014 Rate'!$AA53)*1000","v":30.091743119266056},{"$f":"('2014'!I53/'2014 Rate'!$AA53)*1000","v":33.394495412844037},{"$f":"('2014'!J53/'2014 Rate'!$AA53)*1000","v":-2.2018348623853212},{"$f":"('2014'!K53/'2014 Rate'!$AA53)*1000","v":20.550458715596328},{"$f":"('2014'!L53/'2014 Rate'!$AA53)*1000","v":22.752293577981654},{"$f":"('2014'!M53/'2014 Rate'!$AA53)*1000","v":0.73394495412844041},{"$f":"('2014'!N53/'2014 Rate'!$AA53)*1000","v":8.4403669724770634},{"$f":"('2014'!O53/'2014 Rate'!$AA53)*1000","v":7.7064220183486238},{"$f":"('2014'!P53/'2014 Rate'!$AA53)*1000","v":-1.834862385321101},{"$f":"('2014'!Q53/'2014 Rate'!$AA53)*1000","v":1.1009174311926606},{"$f":"('2014'!R53/'2014 Rate'!$AA53)*1000","v":2.9357798165137616},null,null,null,null,null,null,null,"Western Isles",{"$f":"AA24","v":27250}]

{"sheet":"2015","index":46,"n_rows":53,"n_cols":25,"rows_kept":53,"cut":false,"hidden":true,"merged":[]}
[null,2015]
[null,null,"Not specified ",{"$f":"'Comparing Indicators'!$U8","v":"Total net migration"},{"$f":"'Comparing Indicators'!$U9","v":"Total net migration for ages 0-15"},{"$f":"'Comparing Indicators'!$U10","v":"Total net migration for ages 16-64"},{"$f":"'Comparing Indicators'!$U11","v":"Total net migration for people aged 65+"},{"$f":"'Comparing Indicators'!$U12","v":"Total in-migration"},{"$f":"'Comparing Indicators'!$U13","v":"Total out-migration"},{"$f":"'Comparing Indicators'!$U14","v":"Within Scotland net migration"},{"$f":"'Comparing Indicators'!$U15","v":"Within Scotland in-migration"},{"$f":"'Comparing Indicators'!$U16","v":"Within Scotland out-migration"},{"$f":"'Comparing Indicators'!$U17","v":"Rest of UK net migration"},{"$f":"'Comparing Indicators'!$U18","v":"Rest of UK in-migration"},{"$f":"'Comparing Indicators'!$U19","v":"Rest of UK out-migration"},{"$f":"'Comparing Indicators'!$U20","v":"International net migration"},{"$f":"'Comparing Indicators'!$U21","v":"International in-migration"},{"$f":"'Comparing Indicators'!$U22","v":"International out-migration"},{"$f":"'Comparing Indicators'!$U23","v":"NINo Allocation"},{"$f":"'Comparing Indicators'!$U24","v":"Births to non-UK mothers"},{"$f":"'Comparing Indicators'!$U25","v":"Pupils from a minority ethnic group"},{"$f":"'Comparing Indicators'!$U26","v":"Pupils with English as an additional language"},{"$f":"'Comparing Indicators'!$U27","v":"Population born outside the UK"},{"$f":"'Comparing Indicators'!$U28","v":"Population with non-British nationality"},{"$f":"'Comparing Indicators'!$U29","v":"Citizenships"}]
[1,"Not specified"]
[2,"Scotland",null,{"$f":"'Total net migration'!M6","v":28000},{"$f":"'Total net migration 0-15'!M6","v":4093},{"$f":"'Total net migration 16-64'!M6","v":23858},{"$f":"'Total net migration 65+'!M6","v":17},{"$f":"'Total in-migration'!M6","v":85000},{"$f":"'Total out-migration'!M6","v":57000},{"$f":"'Within Scotland net migration'!M6","v":"[z]"},{"$f":"'Within Scotland in-migration'!M6","v":"[z]"},{"$f":"'Within Scotland out-migration'!M6","v":"[z]"},{"$f":"'Rest of UK net migration'!M6","v":8400},{"$f":"'Rest of UK in-migration'!M6","v":47200},{"$f":"'Rest of UK out-migration'!M6","v":38800},{"$f":"'International net migration'!M6","v":19600},{"$f":"'International in-migration'!M6","v":37800},{"$f":"'International out-migration'!M6","v":18200},{"$f":"NINo!M6","v":46570},{"$f":"'Births to non-UK mothers'!M6","v":8997},{"$f":"'Pupils'' ethnic group (TS)'!N6","v":44440},{"$f":"'Pupils with English as an add.'!K6","v":35441},{"$f":"'Pop born outside UK'!M6","v":393000},{"$f":"'Non-British Population'!M6","v":295000},{"$f":"Citizenships!M6","v":3542}]
[3,"Aberdeen City",null,{"$f":"'Total net migration'!M7","v":1090},{"$f":"'Total net migration 0-15'!M7","v":-337},{"$f":"'Total net migration 16-64'!M7","v":1625},{"$f":"'Total net migration 65+'!M7","v":-203},{"$f":"'Total in-migration'!M7","v":14060},{"$f":"'Total out-migration'!M7","v":12980},{"$f":"'Within Scotland net migration'!M7","v":-2220},{"$f":"'Within Scotland in-migration'!M7","v":6810},{"$f":"'Within Scotland out-migration'!M7","v":9030},{"$f":"'Rest of UK net migration'!M7","v":120},{"$f":"'Rest of UK in-migration'!M7","v":2660},{"$f":"'Rest of UK out-migration'!M7","v":2550},{"$f":"'International net migration'!M7","v":3190},{"$f":"'International in-migration'!M7","v":4590},{"$f":"'International out-migration'!M7","v":1400},{"$f":"NINo!M7","v":5210},{"$f":"'Births to non-UK mothers'!M7","v":992},{"$f":"'Pupils'' ethnic group (TS)'!N7","v":2858},{"$f":"'Pupils with English as an add.'!K7","v":3054},{"$f":"'Pop born outside UK'!M7","v":39000},{"$f":"'Non-British Population'!M7","v":36000},{"$f":"Citizenships!M7","v":629}]
[4,"Aberdeenshire",null,{"$f":"'Total net migration'!M8","v":990},{"$f":"'Total net migration 0-15'!M8","v":463},{"$f":"'Total net migration 16-64'!M8","v":719},{"$f":"'Total net migration 65+'!M8","v":-196},{"$f":"'Total in-migration'!M8","v":9490},{"$f":"'Total out-migration'!M8","v":8500},{"$f":"'Within Scotland net migration'!M8","v":950},{"$f":"'Within Scotland in-migration'!M8","v":6870},{"$f":"'Within Scotland out-migration'!M8","v":5920},{"$f":"'Rest of UK net migration'!M8","v":-220},{"$f":"'Rest of UK in-migration'!M8","v":1540},{"$f":"'Rest of UK out-migration'!M8","v":1760},{"$f":"'International net migration'!M8","v":260},{"$f":"'International in-migration'!M8","v":1080},{"$f":"'International out-migration'!M8","v":820},{"$f":"NINo!M8","v":1730},{"$f":"'Births to non-UK mothers'!M8","v":434},{"$f":"'Pupils'' ethnic group (TS)'!N8","v":994},{"$f":"'Pupils with English as an add.'!K8","v":1566},{"$f":"'Pop born outside UK'!M8","v":13000},{"$f":"'Non-British Population'!M8","v":9000},{"$f":"Citizenships!M8","v":211}]
[5,"Angus",null,{"$f":"'Total net migration'!M9","v":540},{"$f":"'Total net migration 0-15'!M9","v":194},{"$f":"'Total net migration 16-64'!M9","v":307},{"$f":"'Total net migration 65+'!M9","v":36},{"$f":"'Total in-migration'!M9","v":4310},{"$f":"'Total out-migration'!M9","v":3770},{"$f":"'Within Scotland net migration'!M9","v":440},{"$f":"'Within Scotland in-migration'!M9","v":3280},{"$f":"'Within Scotland out-migration'!M9","v":2840},{"$f":"'Rest of UK net migration'!M9","v":110},{"$f":"'Rest of UK in-migration'!M9","v":730},{"$f":"'Rest of UK out-migration'!M9","v":630},{"$f":"'International net migration'!M9","v":-10},{"$f":"'International in-migration'!M9","v":290},{"$f":"'International out-migration'!M9","v":300},{"$f":"NINo!M9","v":1310},{"$f":"'Births to non-UK mothers'!M9","v":115},{"$f":"'Pupils'' ethnic group (TS)'!N9","v":366},{"$f":"'Pupils with English as an add.'!K9","v":476},{"$f":"'Pop born outside UK'!M9","v":6000},{"$f":"'Non-British Population'!M9","v":5000},{"$f":"Citizenships!M9","v":18}]
[6,"Argyll and Bute",null,{"$f":"'Total net migration'!M10","v":-230},{"$f":"'Total net migration 0-15'!M10","v":26},{"$f":"'Total net migration 16-64'!M10","v":-198},{"$f":"'Total net migration 65+'!M10","v":-61},{"$f":"'Total in-migration'!M10","v":3910},{"$f":"'Total out-migration'!M10","v":4150},{"$f":"'Within Scotland net migration'!M10","v":-440},{"$f":"'Within Scotland in-migration'!M10","v":2270},{"$f":"'Within Scotland out-migration'!M10","v":2720},{"$f":"'Rest of UK net migration'!M10","v":300},{"$f":"'Rest of UK in-migration'!M10","v":1340},{"$f":"'Rest of UK out-migration'!M10","v":1050},{"$f":"'International net migration'!M10","v":-90},{"$f":"'International in-migration'!M10","v":300},{"$f":"'International out-migration'!M10","v":380},{"$f":"NINo!M10","v":570},{"$f":"'Births to non-UK mothers'!M10","v":87},{"$f":"'Pupils'' ethnic group (TS)'!N10","v":255},{"$f":"'Pupils with English as an add.'!K10","v":175},{"$f":"'Pop born outside UK'!M10","v":3000},{"$f":"'Non-British Population'!M10","v":2000},{"$f":"Citizenships!M10","v":22}]
[7,"City of Edinburgh",null,{"$f":"'Total net migration'!M11","v":6260},{"$f":"'Total net migration 0-15'!M11","v":-258},{"$f":"'Total net migration 16-64'!M11","v":6593},{"$f":"'Total net migration 65+'!M11","v":-74},{"$f":"'Total in-migration'!M11","v":31440},{"$f":"'Total out-migration'!M11","v":25180},{"$f":"'Within Scotland net migration'!M11","v":-1930},{"$f":"'Within Scotland in-migration'!M11","v":12290},{"$f":"'Within Scotland out-migration'!M11","v":14210},{"$f":"'Rest of UK net migration'!M11","v":2140},{"$f":"'Rest of UK in-migration'!M11","v":9500},{"$f":"'Rest of UK out-migration'!M11","v":7360},{"$f":"'International net migration'!M11","v":6050},{"$f":"'International in-migration'!M11","v":9650},{"$f":"'International out-migration'!M11","v":3600},{"$f":"NINo!M11","v":11930},{"$f":"'Births to non-UK mothers'!M11","v":1820},{"$f":"'Pupils'' ethnic group (TS)'!N11","v":6887},{"$f":"'Pupils with English as an add.'!K11","v":5685},{"$f":"'Pop born outside UK'!M11","v":77000},{"$f":"'Non-British Population'!M11","v":60000},{"$f":"Citizenships!M11","v":760}]
[8,"Clackmannanshire",null,{"$f":"'Total net migration'!M12","v":140},{"$f":"'Total net migration 0-15'!M12","v":8},{"$f":"'Total net migration 16-64'!M12","v":51},{"$f":"'Total net migration 65+'!M12","v":83},{"$f":"'Total in-migration'!M12","v":1860},{"$f":"'Total out-migration'!M12","v":1720},{"$f":"'Within Scotland net migration'!M12","v":70},{"$f":"'Within Scotland in-migration'!M12","v":1460},{"$f":"'Within Scotland out-migration'!M12","v":1390},{"$f":"'Rest of UK net migration'!M12","v":80},{"$f":"'Rest of UK in-migration'!M12","v":300},{"$f":"'Rest of UK out-migration'!M12","v":220},{"$f":"'International net migration'!M12","v":0},{"$f":"'International in-migration'!M12","v":100},{"$f":"'International out-migration'!M12","v":100},{"$f":"NINo!M12","v":110},{"$f":"'Births to non-UK mothers'!M12","v":40},{"$f":"'Pupils'' ethnic group (TS)'!N12","v":203},{"$f":"'Pupils with English as an add.'!K12","v":167},{"$f":"'Pop born outside UK'!M12","v":3000},{"$f":"'Non-British Population'!M12","v":2000},{"$f":"Citizenships!M12","v":12}]
[9,"Dumfries and Galloway",null,{"$f":"'Total net migration'!M13","v":330},{"$f":"'Total net migration 0-15'!M13","v":74},{"$f":"'Total net migration 16-64'!M13","v":206},{"$f":"'Total net migration 65+'!M13","v":50},{"$f":"'Total in-migration'!M13","v":3930},{"$f":"'Total out-migration'!M13","v":3600},{"$f":"'Within Scotland net migration'!M13","v":-100},{"$f":"'Within Scotland in-migration'!M13","v":1730},{"$f":"'Within Scotland out-migration'!M13","v":1840},{"$f":"'Rest of UK net migration'!M13","v":510},{"$f":"'Rest of UK in-migration'!M13","v":1910},{"$f":"'Rest of UK out-migration'!M13","v":1410},{"$f":"'International net migration'!M13","v":-70},{"$f":"'International in-migration'!M13","v":280},{"$f":"'International out-migration'!M13","v":350},{"$f":"NINo!M13","v":340},{"$f":"'Births to non-UK mothers'!M13","v":87},{"$f":"'Pupils'' ethnic group (TS)'!N13","v":411},{"$f":"'Pupils with English as an add.'!K13","v":341},{"$f":"'Pop born outside UK'!M13","v":5000},{"$f":"'Non-British Population'!M13","v":2000},{"$f":"Citizenships!M13","v":29}]
[10,"Dundee City",null,{"$f":"'Total net migration'!M14","v":210},{"$f":"'Total net migration 0-15'!M14","v":-145},{"$f":"'Total net migration 16-64'!M14","v":410},{"$f":"'Total net migration 65+'!M14","v":-56},{"$f":"'Total in-migration'!M14","v":7020},{"$f":"'Total out-migration'!M14","v":6810},{"$f":"'Within Scotland net migration'!M14","v":-520},{"$f":"'Within Scotland in-migration'!M14","v":4250},{"$f":"'Within Scotland out-migration'!M14","v":4770},{"$f":"'Rest of UK net migration'!M14","v":50},{"$f":"'Rest of UK in-migration'!M14","v":1380},{"$f":"'Rest of UK out-migration'!M14","v":1330},{"$f":"'International net migration'!M14","v":670},{"$f":"'International in-migration'!M14","v":1390},{"$f":"'International out-migration'!M14","v":720},{"$f":"NINo!M14","v":1340},{"$f":"'Births to non-UK mothers'!M14","v":267},{"$f":"'Pupils'' ethnic group (TS)'!N14","v":1595},{"$f":"'Pupils with English as an add.'!K14","v":1137},{"$f":"'Pop born outside UK'!M14","v":17000},{"$f":"'Non-British Population'!M14","v":14000},{"$f":"Citizenships!M14","v":124}]
[11,"East Ayrshire",null,{"$f":"'Total net migration'!M15","v":60},{"$f":"'Total net migration 0-15'!M15","v":71},{"$f":"'Total net migration 16-64'!M15","v":10},{"$f":"'Total net migration 65+'!M15","v":-19},{"$f":"'Total in-migration'!M15","v":3350},{"$f":"'Total out-migration'!M15","v":3290},{"$f":"'Within Scotland net migration'!M15","v":-20},{"$f":"'Within Scotland in-migration'!M15","v":2610},{"$f":"'Within Scotland out-migration'!M15","v":2620},{"$f":"'Rest of UK net migration'!M15","v":170},{"$f":"'Rest of UK in-migration'!M15","v":660},{"$f":"'Rest of UK out-migration'!M15","v":490},{"$f":"'International net migration'!M15","v":-90},{"$f":"'International in-migration'!M15","v":90},{"$f":"'International out-migration'!M15","v":180},{"$f":"NINo!M15","v":90},{"$f":"'Births to non-UK mothers'!M15","v":56},{"$f":"'Pupils'' ethnic group (TS)'!N15","v":382},{"$f":"'Pupils with English as an add.'!K15","v":169},{"$f":"'Pop born outside UK'!M15","v":2000},{"$f":"'Non-British Population'!M15","v":2000},{"$f":"Citizenships!M15","v":16}]
[12,"East Dunbartonshire",null,{"$f":"'Total net migration'!M16","v":550},{"$f":"'Total net migration 0-15'!M16","v":513},{"$f":"'Total net migration 16-64'!M16","v":60},{"$f":"'Total net migration 65+'!M16","v":-24},{"$f":"'Total in-migration'!M16","v":4200},{"$f":"'Total out-migration'!M16","v":3650},{"$f":"'Within Scotland net migration'!M16","v":610},{"$f":"'Within Scotland in-migration'!M16","v":3620},{"$f":"'Within Scotland out-migration'!M16","v":3010},{"$f":"'Rest of UK net migration'!M16","v":60},{"$f":"'Rest of UK in-migration'!M16","v":480},{"$f":"'Rest of UK out-migration'!M16","v":420},{"$f":"'International net migration'!M16","v":-110},{"$f":"'International in-migration'!M16","v":110},{"$f":"'International out-migration'!M16","v":220},{"$f":"NINo!M16","v":110},{"$f":"'Births to non-UK mothers'!M16","v":86},{"$f":"'Pupils'' ethnic group (TS)'!N16","v":1293},{"$f":"'Pupils with English as an add.'!K16","v":406},{"$f":"'Pop born outside UK'!M16","v":5000},{"$f":"'Non-British Population'!M16","v":2000},{"$f":"Citizenships!M16","v":52}]
[13,"East Lothian",null,{"$f":"'Total net migration'!M17","v":960},{"$f":"'Total net migration 0-15'!M17","v":222},{"$f":"'Total net migration 16-64'!M17","v":606},{"$f":"'Total net migration 65+'!M17","v":133},{"$f":"'Total in-migration'!M17","v":4340},{"$f":"'Total out-migration'!M17","v":3380},{"$f":"'Within Scotland net migration'!M17","v":680},{"$f":"'Within Scotland in-migration'!M17","v":3230},{"$f":"'Within Scotland out-migration'!M17","v":2550},{"$f":"'Rest of UK net migration'!M17","v":120},{"$f":"'Rest of UK in-migration'!M17","v":690},{"$f":"'Rest of UK out-migration'!M17","v":570},{"$f":"'International net migration'!M17","v":160},{"$f":"'International in-migration'!M17","v":410},{"$f":"'International out-migration'!M17","v":260},{"$f":"NINo!M17","v":510},{"$f":"'Births to non-UK mothers'!M17","v":125},{"$f":"'Pupils'' ethnic group (TS)'!N17","v":393},{"$f":"'Pupils with English as an add.'!K17","v":283},{"$f":"'Pop born outside UK'!M17","v":5000},{"$f":"'Non-British Population'!M17","v":3000},{"$f":"Citizenships!M17","v":32}]
[14,"East Renfrewshire",null,{"$f":"'Total net migration'!M18","v":630},{"$f":"'Total net migration 0-15'!M18","v":567},{"$f":"'Total net migration 16-64'!M18","v":-74},{"$f":"'Total net migration 65+'!M18","v":134},{"$f":"'Total in-migration'!M18","v":3940},{"$f":"'Total out-migration'!M18","v":3320},{"$f":"'Within Scotland net migration'!M18","v":710},{"$f":"'Within Scotland in-migration'!M18","v":3420},{"$f":"'Within Scotland out-migration'!M18","v":2710},{"$f":"'Rest of UK net migration'!M18","v":0},{"$f":"'Rest of UK in-migration'!M18","v":400},{"$f":"'Rest of UK out-migration'!M18","v":400},{"$f":"'International net migration'!M18","v":-80},{"$f":"'International in-migration'!M18","v":130},{"$f":"'International out-migration'!M18","v":210},{"$f":"NINo!M18","v":140},{"$f":"'Births to non-UK mothers'!M18","v":92},{"$f":"'Pupils'' ethnic group (TS)'!N18","v":2795},{"$f":"'Pupils with English as an add.'!K18","v":837},{"$f":"'Pop born outside UK'!M18","v":6000},{"$f":"'Non-British Population'!M18","v":4000},{"$f":"Citizenships!M18","v":44}]
[15,"Falkirk",null,{"$f":"'Total net migration'!M19","v":730},{"$f":"'Total net migration 0-15'!M19","v":129},{"$f":"'Total net migration 16-64'!M19","v":571},{"$f":"'Total net migration 65+'!M19","v":34},{"$f":"'Total in-migration'!M19","v":4480},{"$f":"'Total out-migration'!M19","v":3740},{"$f":"'Within Scotland net migration'!M19","v":390},{"$f":"'Within Scotland in-migration'!M19","v":3370},{"$f":"'Within Scotland out-migration'!M19","v":2980},{"$f":"'Rest of UK net migration'!M19","v":220},{"$f":"'Rest of UK in-migration'!M19","v":730},{"$f":"'Rest of UK out-migration'!M19","v":520},{"$f":"'International net migration'!M19","v":130},{"$f":"'International in-migration'!M19","v":380},{"$f":"'International out-migration'!M19","v":250},{"$f":"NINo!M19","v":540},{"$f":"'Births to non-UK mothers'!M19","v":171},{"$f":"'Pupils'' ethnic group (TS)'!N19","v":752},{"$f":"'Pupils with English as an add.'!K19","v":648},{"$f":"'Pop born outside UK'!M19","v":8000},{"$f":"'Non-British Population'!M19","v":6000},{"$f":"Citizenships!M19","v":46}]
[16,"Fife",null,{"$f":"'Total net migration'!M20","v":1230},{"$f":"'Total net migration 0-15'!M20","v":279},{"$f":"'Total net migration 16-64'!M20","v":901},{"$f":"'Total net migration 65+'!M20","v":48},{"$f":"'Total in-migration'!M20","v":11290},{"$f":"'Total out-migration'!M20","v":10060},{"$f":"'Within Scotland net migration'!M20","v":-70},{"$f":"'Within Scotland in-migration'!M20","v":6390},{"$f":"'Within Scotland out-migration'!M20","v":6460},{"$f":"'Rest of UK net migration'!M20","v":470},{"$f":"'Rest of UK in-migration'!M20","v":2980},{"$f":"'Rest of UK out-migration'!M20","v":2510},{"$f":"'International net migration'!M20","v":830},{"$f":"'International in-migration'!M20","v":1920},{"$f":"'International out-migration'!M20","v":1090},{"$f":"NINo!M20","v":2620},{"$f":"'Births to non-UK mothers'!M20","v":443},{"$f":"'Pupils'' ethnic group (TS)'!N20","v":1731},{"$f":"'Pupils with English as an add.'!K20","v":1150},{"$f":"'Pop born outside UK'!M20","v":20000},{"$f":"'Non-British Population'!M20","v":14000},{"$f":"Citizenships!M20","v":130}]
[17,"Glasgow City",null,{"$f":"'Total net migration'!M21","v":5840},{"$f":"'Total net migration 0-15'!M21","v":-698},{"$f":"'Total net migration 16-64'!M21","v":6790},{"$f":"'Total net migration 65+'!M21","v":-252},{"$f":"'Total in-migration'!M21","v":33300},{"$f":"'Total out-migration'!M21","v":27460},{"$f":"'Within Scotland net migration'!M21","v":-2420},{"$f":"'Within Scotland in-migration'!M21","v":16290},{"$f":"'Within Scotland out-migration'!M21","v":18710},{"$f":"'Rest of UK net migration'!M21","v":1180},{"$f":"'Rest of UK in-migration'!M21","v":6600},{"$f":"'Rest of UK out-migration'!M21","v":5420},{"$f":"'International net migration'!M21","v":7080},{"$f":"'International in-migration'!M21","v":10410},{"$f":"'International out-migration'!M21","v":3330},{"$f":"NINo!M21","v":9310},{"$f":"'Births to non-UK mothers'!M21","v":1952},{"$f":"'Pupils'' ethnic group (TS)'!N21","v":13161},{"$f":"'Pupils with English as an add.'!K21","v":11483},{"$f":"'Pop born outside UK'!M21","v":83000},{"$f":"'Non-British Population'!M21","v":67000},{"$f":"Citizenships!M21","v":723}]
[18,"Highland",null,{"$f":"'Total net migration'!M22","v":1120},{"$f":"'Total net migration 0-15'!M22","v":339},{"$f":"'Total net migration 16-64'!M22","v":819},{"$f":"'Total net migration 65+'!M22","v":-43},{"$f":"'Total in-migration'!M22","v":7720},{"$f":"'Total out-migration'!M22","v":6610},{"$f":"'Within Scotland net migration'!M22","v":-30},{"$f":"'Within Scotland in-migration'!M22","v":4330},{"$f":"'Within Scotland out-migration'!M22","v":4360},{"$f":"'Rest of UK net migration'!M22","v":810},{"$f":"'Rest of UK in-migration'!M22","v":2470},{"$f":"'Rest of UK out-migration'!M22","v":1660},{"$f":"'International net migration'!M22","v":330},{"$f":"'International in-migration'!M22","v":920},{"$f":"'International out-migration'!M22","v":590},{"$f":"NINo!M22","v":1680},{"$f":"'Births to non-UK mothers'!M22","v":314},{"$f":"'Pupils'' ethnic group (TS)'!N22","v":829},{"$f":"'Pupils with English as an add.'!K22","v":1225},{"$f":"'Pop born outside UK'!M22","v":10000},{"$f":"'Non-British Population'!M22","v":6000},{"$f":"Citizenships!M22","v":78}]
[19,"Inverclyde",null,{"$f":"'Total net migration'!M23","v":-140},{"$f":"'Total net migration 0-15'!M23","v":6},{"$f":"'Total net migration 16-64'!M23","v":-148},{"$f":"'Total net migration 65+'!M23","v":6},{"$f":"'Total in-migration'!M23","v":1460},{"$f":"'Total out-migration'!M23","v":1590},{"$f":"'Within Scotland net migration'!M23","v":-250},{"$f":"'Within Scotland in-migration'!M23","v":1000},{"$f":"'Within Scotland out-migration'!M23","v":1260},{"$f":"'Rest of UK net migration'!M23","v":100},{"$f":"'Rest of UK in-migration'!M23","v":350},{"$f":"'Rest of UK out-migration'!M23","v":250},{"$f":"'International net migration'!M23","v":10},{"$f":"'International in-migration'!M23","v":100},{"$f":"'International out-migration'!M23","v":90},{"$f":"NINo!M23","v":100},{"$f":"'Births to non-UK mothers'!M23","v":30},{"$f":"'Pupils'' ethnic group (TS)'!N23","v":192},{"$f":"'Pupils with English as an add.'!K23","v":29},{"$f":"'Pop born outside UK'!M23","v":2000},{"$f":"'Non-British Population'!M23","v":1000},{"$f":"Citizenships!M23","v":4}]
[20,"Midlothian",null,{"$f":"'Total net migration'!M24","v":990},{"$f":"'Total net migration 0-15'!M24","v":250},{"$f":"'Total net migration 16-64'!M24","v":689},{"$f":"'Total net migration 65+'!M24","v":48},{"$f":"'Total in-migration'!M24","v":3650},{"$f":"'Total out-migration'!M24","v":2660},{"$f":"'Within Scotland net migration'!M24","v":1030},{"$f":"'Within Scotland in-migration'!M24","v":3070},{"$f":"'Within Scotland out-migration'!M24","v":2040},{"$f":"'Rest of UK net migration'!M24","v":-30},{"$f":"'Rest of UK in-migration'!M24","v":400},{"$f":"'Rest of UK out-migration'!M24","v":430},{"$f":"'International net migration'!M24","v":-20},{"$f":"'International in-migration'!M24","v":170},{"$f":"'International out-migration'!M24","v":190},{"$f":"NINo!M24","v":240},{"$f":"'Births to non-UK mothers'!M24","v":114},{"$f":"'Pupils'' ethnic group (TS)'!N24","v":462},{"$f":"'Pupils with English as an add.'!K24","v":307},{"$f":"'Pop born outside UK'!M24","v":4000},{"$f":"'Non-British Population'!M24","v":3000},{"$f":"Citizenships!M24","v":49}]
[21,"Moray",null,{"$f":"'Total net migration'!M25","v":410},{"$f":"'Total net migration 0-15'!M25","v":126},{"$f":"'Total net migration 16-64'!M25","v":249},{"$f":"'Total net migration 65+'!M25","v":35},{"$f":"'Total in-migration'!M25","v":3680},{"$f":"'Total out-migration'!M25","v":3270},{"$f":"'Within Scotland net migration'!M25","v":270},{"$f":"'Within Scotland in-migration'!M25","v":2090},{"$f":"'Within Scotland out-migration'!M25","v":1820},{"$f":"'Rest of UK net migration'!M25","v":260},{"$f":"'Rest of UK in-migration'!M25","v":1260},{"$f":"'Rest of UK out-migration'!M25","v":1000},{"$f":"'International net migration'!M25","v":-120},{"$f":"'International in-migration'!M25","v":330},{"$f":"'International out-migration'!M25","v":450},{"$f":"NINo!M25","v":310},{"$f":"'Births to non-UK mothers'!M25","v":98},{"$f":"'Pupils'' ethnic group (TS)'!N25","v":318},{"$f":"'Pupils with English as an add.'!K25","v":415},{"$f":"'Pop born outside UK'!M25","v":4000},{"$f":"'Non-British Population'!M25","v":3000},{"$f":"Citizenships!M25","v":36}]
[22,"Na h-Eileanan Siar",null,{"$f":"'Total net migration'!M26","v":-10},{"$f":"'Total net migration 0-15'!M26","v":22},{"$f":"'Total net migration 16-64'!M26","v":-18},{"$f":"'Total net migration 65+'!M26","v":-9},{"$f":"'Total in-migration'!M26","v":880},{"$f":"'Total out-migration'!M26","v":890},{"$f":"'Within Scotland net migration'!M26","v":-50},{"$f":"'Within Scotland in-migration'!M26","v":600},{"$f":"'Within Scotland out-migration'!M26","v":650},{"$f":"'Rest of UK net migration'!M26","v":40},{"$f":"'Rest of UK in-migration'!M26","v":220},{"$f":"'Rest of UK out-migration'!M26","v":180},{"$f":"'International net migration'!M26","v":0},{"$f":"'International in-migration'!M26","v":60},{"$f":"'International out-migration'!M26","v":50},{"$f":"NINo!M26","v":70},{"$f":"'Births to non-UK mothers'!M26","v":8},{"$f":"'Pupils'' ethnic group (TS)'!N26","v":65},{"$f":"'Pupils with English as an add.'!K26","v":53},{"$f":"'Pop born outside UK'!M26","v":"[low]"},{"$f":"'Non-British Population'!M26","v":"[c]"},{"$f":"Citizenships!M26","v":5}]
[23,"North Ayrshire",null,{"$f":"'Total net migration'!M27","v":60},{"$f":"'Total net migration 0-15'!M27","v":101},{"$f":"'Total net migration 16-64'!M27","v":-41},{"$f":"'Total net migration 65+'!M27","v":0},{"$f":"'Total in-migration'!M27","v":3730},{"$f":"'Total out-migration'!M27","v":3670},{"$f":"'Within Scotland net migration'!M27","v":-70},{"$f":"'Within Scotland in-migration'!M27","v":2820},{"$f":"'Within Scotland out-migration'!M27","v":2890},{"$f":"'Rest of UK net migration'!M27","v":180},{"$f":"'Rest of UK in-migration'!M27","v":750},{"$f":"'Rest of UK out-migration'!M27","v":580},{"$f":"'International net migration'!M27","v":-40},{"$f":"'International in-migration'!M27","v":160},{"$f":"'International out-migration'!M27","v":200},{"$f":"NINo!M27","v":180},{"$f":"'Births to non-UK mothers'!M27","v":62},{"$f":"'Pupils'' ethnic group (TS)'!N27","v":331},{"$f":"'Pupils with English as an add.'!K27","v":121},{"$f":"'Pop born outside UK'!M27","v":2000},{"$f":"'Non-British Population'!M27","v":1000},{"$f":"Citizenships!M27","v":23}]
[24,"North Lanarkshire",null,{"$f":"'Total net migration'!M28","v":140},{"$f":"'Total net migration 0-15'!M28","v":107},{"$f":"'Total net migration 16-64'!M28","v":-29},{"$f":"'Total net migration 65+'!M28","v":62},{"$f":"'Total in-migration'!M28","v":7580},{"$f":"'Total out-migration'!M28","v":7440},{"$f":"'Within Scotland net migration'!M28","v":-150},{"$f":"'Within Scotland in-migration'!M28","v":5780},{"$f":"'Within Scotland out-migration'!M28","v":5930},{"$f":"'Rest of UK net migration'!M28","v":130},{"$f":"'Rest of UK in-migration'!M28","v":1180},{"$f":"'Rest of UK out-migration'!M28","v":1050},{"$f":"'International net migration'!M28","v":170},{"$f":"'International in-migration'!M28","v":620},{"$f":"'International out-migration'!M28","v":460},{"$f":"NINo!M28","v":1030},{"$f":"'Births to non-UK mothers'!M28","v":237},{"$f":"'Pupils'' ethnic group (TS)'!N28","v":1928},{"$f":"'Pupils with English as an add.'!K28","v":1271},{"$f":"'Pop born outside UK'!M28","v":14000},{"$f":"'Non-British Population'!M28","v":9000},{"$f":"Citizenships!M28","v":67}]
[25,"Orkney Islands",null,{"$f":"'Total net migration'!M29","v":100},{"$f":"'Total net migration 0-15'!M29","v":35},{"$f":"'Total net migration 16-64'!M29","v":63},{"$f":"'Total net migration 65+'!M29","v":2},{"$f":"'Total in-migration'!M29","v":710},{"$f":"'Total out-migration'!M29","v":610},{"$f":"'Within Scotland net migration'!M29","v":-40},{"$f":"'Within Scotland in-migration'!M29","v":390},{"$f":"'Within Scotland out-migration'!M29","v":420},{"$f":"'Rest of UK net migration'!M29","v":130},{"$f":"'Rest of UK in-migration'!M29","v":270},{"$f":"'Rest of UK out-migration'!M29","v":140},{"$f":"'International net migration'!M29","v":0},{"$f":"'International in-migration'!M29","v":50},{"$f":"'International out-migration'!M29","v":50},{"$f":"NINo!M29","v":60},{"$f":"'Births to non-UK mothers'!M29","v":9},{"$f":"'Pupils'' ethnic group (TS)'!N29","v":38},{"$f":"'Pupils with English as an add.'!K29","v":20},{"$f":"'Pop born outside UK'!M29","v":"[low]"},{"$f":"'Non-British Population'!M29","v":"[c]"},{"$f":"Citizenships!M29","v":2}]
[26,"Perth and Kinross",null,{"$f":"'Total net migration'!M30","v":1260},{"$f":"'Total net migration 0-15'!M30","v":500},{"$f":"'Total net migration 16-64'!M30","v":649},{"$f":"'Total net migration 65+'!M30","v":114},{"$f":"'Total in-migration'!M30","v":6510},{"$f":"'Total out-migration'!M30","v":5250},{"$f":"'Within Scotland net migration'!M30","v":470},{"$f":"'Within Scotland in-migration'!M30","v":4210},{"$f":"'Within Scotland out-migration'!M30","v":3740},{"$f":"'Rest of UK net migration'!M30","v":330},{"$f":"'Rest of UK in-migration'!M30","v":1360},{"$f":"'Rest of UK out-migration'!M30","v":1020},{"$f":"'International net migration'!M30","v":460},{"$f":"'International in-migration'!M30","v":950},{"$f":"'International out-migration'!M30","v":490},{"$f":"NINo!M30","v":2730},{"$f":"'Births to non-UK mothers'!M30","v":233},{"$f":"'Pupils'' ethnic group (TS)'!N30","v":622},{"$f":"'Pupils with English as an add.'!K30","v":740},{"$f":"'Pop born outside UK'!M30","v":14000},{"$f":"'Non-British Population'!M30","v":10000},{"$f":"Citizenships!M30","v":53}]
[27,"Renfrewshire",null,{"$f":"'Total net migration'!M31","v":590},{"$f":"'Total net migration 0-15'!M31","v":98},{"$f":"'Total net migration 16-64'!M31","v":459},{"$f":"'Total net migration 65+'!M31","v":34},{"$f":"'Total in-migration'!M31","v":5410},{"$f":"'Total out-migration'!M31","v":4820},{"$f":"'Within Scotland net migration'!M31","v":200},{"$f":"'Within Scotland in-migration'!M31","v":4080},{"$f":"'Within Scotland out-migration'!M31","v":3870},{"$f":"'Rest of UK net migration'!M31","v":110},{"$f":"'Rest of UK in-migration'!M31","v":790},{"$f":"'Rest of UK out-migration'!M31","v":680},{"$f":"'International net migration'!M31","v":280},{"$f":"'International in-migration'!M31","v":550},{"$f":"'International out-migration'!M31","v":270},{"$f":"NINo!M31","v":750},{"$f":"'Births to non-UK mothers'!M31","v":185},{"$f":"'Pupils'' ethnic group (TS)'!N31","v":979},{"$f":"'Pupils with English as an add.'!K31","v":563},{"$f":"'Pop born outside UK'!M31","v":9000},{"$f":"'Non-British Population'!M31","v":8000},{"$f":"Citizenships!M31","v":86}]
[28,"Scottish Borders",null,{"$f":"'Total net migration'!M32","v":440},{"$f":"'Total net migration 0-15'!M32","v":130},{"$f":"'Total net migration 16-64'!M32","v":282},{"$f":"'Total net migration 65+'!M32","v":23},{"$f":"'Total in-migration'!M32","v":4130},{"$f":"'Total out-migration'!M32","v":3700},{"$f":"'Within Scotland net migration'!M32","v":90},{"$f":"'Within Scotland in-migration'!M32","v":2290},{"$f":"'Within Scotland out-migration'!M32","v":2200},{"$f":"'Rest of UK net migration'!M32","v":390},{"$f":"'Rest of UK in-migration'!M32","v":1580},{"$f":"'Rest of UK out-migration'!M32","v":1190},{"$f":"'International net migration'!M32","v":-50},{"$f":"'International in-migration'!M32","v":260},{"$f":"'International out-migration'!M32","v":310},{"$f":"NINo!M32","v":450},{"$f":"'Births to non-UK mothers'!M32","v":121},{"$f":"'Pupils'' ethnic group (TS)'!N32","v":330},{"$f":"'Pupils with English as an add.'!K32","v":411},{"$f":"'Pop born outside UK'!M32","v":6000},{"$f":"'Non-British Population'!M32","v":4000},{"$f":"Citizenships!M32","v":28}]
[29,"Shetland Islands",null,{"$f":"'Total net migration'!M33","v":-40},{"$f":"'Total net migration 0-15'!M33","v":-7},{"$f":"'Total net migration 16-64'!M33","v":4},{"$f":"'Total net migration 65+'!M33","v":-33},{"$f":"'Total in-migration'!M33","v":710},{"$f":"'Total out-migration'!M33","v":740},{"$f":"'Within Scotland net migration'!M33","v":-100},{"$f":"'Within Scotland in-migration'!M33","v":390},{"$f":"'Within Scotland out-migration'!M33","v":490},{"$f":"'Rest of UK net migration'!M33","v":30},{"$f":"'Rest of UK in-migration'!M33","v":220},{"$f":"'Rest of UK out-migration'!M33","v":190},{"$f":"'International net migration'!M33","v":30},{"$f":"'International in-migration'!M33","v":90},{"$f":"'International out-migration'!M33","v":60},{"$f":"NINo!M33","v":300},{"$f":"'Births to non-UK mothers'!M33","v":24},{"$f":"'Pupils'' ethnic group (TS)'!N33","v":101},{"$f":"'Pupils with English as an add.'!K33","v":57},{"$f":"'Pop born outside UK'!M33","v":"[low]"},{"$f":"'Non-British Population'!M33","v":"[low]"},{"$f":"Citizenships!M33","v":9}]
[30,"South Ayrshire",null,{"$f":"'Total net migration'!M34","v":310},{"$f":"'Total net migration 0-15'!M34","v":183},{"$f":"'Total net migration 16-64'!M34","v":28},{"$f":"'Total net migration 65+'!M34","v":100},{"$f":"'Total in-migration'!M34","v":3750},{"$f":"'Total out-migration'!M34","v":3440},{"$f":"'Within Scotland net migration'!M34","v":110},{"$f":"'Within Scotland in-migration'!M34","v":2680},{"$f":"'Within Scotland out-migration'!M34","v":2570},{"$f":"'Rest of UK net migration'!M34","v":190},{"$f":"'Rest of UK in-migration'!M34","v":810},{"$f":"'Rest of UK out-migration'!M34","v":630},{"$f":"'International net migration'!M34","v":10},{"$f":"'International in-migration'!M34","v":250},{"$f":"'International out-migration'!M34","v":240},{"$f":"NINo!M34","v":280},{"$f":"'Births to non-UK mothers'!M34","v":78},{"$f":"'Pupils'' ethnic group (TS)'!N34","v":318},{"$f":"'Pupils with English as an add.'!K34","v":177},{"$f":"'Pop born outside UK'!M34","v":4000},{"$f":"'Non-British Population'!M34","v":2000},{"$f":"Citizenships!M34","v":26}]
[31,"South Lanarkshire",null,{"$f":"'Total net migration'!M35","v":1030},{"$f":"'Total net migration 0-15'!M35","v":388},{"$f":"'Total net migration 16-64'!M35","v":616},{"$f":"'Total net migration 65+'!M35","v":30},{"$f":"'Total in-migration'!M35","v":9170},{"$f":"'Total out-migration'!M35","v":8140},{"$f":"'Within Scotland net migration'!M35","v":1230},{"$f":"'Within Scotland in-migration'!M35","v":7460},{"$f":"'Within Scotland out-migration'!M35","v":6230},{"$f":"'Rest of UK net migration'!M35","v":-30},{"$f":"'Rest of UK in-migration'!M35","v":1260},{"$f":"'Rest of UK out-migration'!M35","v":1290},{"$f":"'International net migration'!M35","v":-160},{"$f":"'International in-migration'!M35","v":450},{"$f":"'International out-migration'!M35","v":620},{"$f":"NINo!M35","v":710},{"$f":"'Births to non-UK mothers'!M35","v":221},{"$f":"'Pupils'' ethnic group (TS)'!N35","v":1698},{"$f":"'Pupils with English as an add.'!K35","v":711},{"$f":"'Pop born outside UK'!M35","v":11000},{"$f":"'Non-British Population'!M35","v":7000},{"$f":"Citizenships!M35","v":110}]
[32,"Stirling",null,{"$f":"'Total net migration'!M36","v":1410},{"$f":"'Total net migration 0-15'!M36","v":357},{"$f":"'Total net migration 16-64'!M36","v":1092},{"$f":"'Total net migration 65+'!M36","v":-37},{"$f":"'Total in-migration'!M36","v":5940},{"$f":"'Total out-migration'!M36","v":4530},{"$f":"'Within Scotland net migration'!M36","v":410},{"$f":"'Within Scotland in-migration'!M36","v":3790},{"$f":"'Within Scotland out-migration'!M36","v":3380},{"$f":"'Rest of UK net migration'!M36","v":360},{"$f":"'Rest of UK in-migration'!M36","v":1110},{"$f":"'Rest of UK out-migration'!M36","v":750},{"$f":"'International net migration'!M36","v":640},{"$f":"'International in-migration'!M36","v":1030},{"$f":"'International out-migration'!M36","v":400},{"$f":"NINo!M36","v":750},{"$f":"'Births to non-UK mothers'!M36","v":104},{"$f":"'Pupils'' ethnic group (TS)'!N36","v":464},{"$f":"'Pupils with English as an add.'!K36","v":304},{"$f":"'Pop born outside UK'!M36","v":8000},{"$f":"'Non-British Population'!M36","v":7000},{"$f":"Citizenships!M36","v":27}]
[33,"West Dunbartonshire",null,{"$f":"'Total net migration'!M37","v":80},{"$f":"'Total net migration 0-15'!M37","v":60},{"$f":"'Total net migration 16-64'!M37","v":30},{"$f":"'Total net migration 65+'!M37","v":-11},{"$f":"'Total in-migration'!M37","v":2550},{"$f":"'Total out-migration'!M37","v":2470},{"$f":"'Within Scotland net migration'!M37","v":90},{"$f":"'Within Scotland in-migration'!M37","v":2080},{"$f":"'Within Scotland out-migration'!M37","v":1990},{"$f":"'Rest of UK net migration'!M37","v":20},{"$f":"'Rest of UK in-migration'!M37","v":350},{"$f":"'Rest of UK out-migration'!M37","v":330},{"$f":"'International net migration'!M37","v":-30},{"$f":"'International in-migration'!M37","v":120},{"$f":"'International out-migration'!M37","v":150},{"$f":"NINo!M37","v":190},{"$f":"'Births to non-UK mothers'!M37","v":72},{"$f":"'Pupils'' ethnic group (TS)'!N37","v":328},{"$f":"'Pupils with English as an add.'!K37","v":213},{"$f":"'Pop born outside UK'!M37","v":2000},{"$f":"'Non-British Population'!M37","v":1000},{"$f":"Citizenships!M37","v":11}]
[34,"West Lothian",null,{"$f":"'Total net migration'!M38","v":890},{"$f":"'Total net migration 0-15'!M38","v":290},{"$f":"'Total net migration 16-64'!M38","v":537},{"$f":"'Total net migration 65+'!M38","v":63},{"$f":"'Total in-migration'!M38","v":5720},{"$f":"'Total out-migration'!M38","v":4830},{"$f":"'Within Scotland net migration'!M38","v":630},{"$f":"'Within Scotland in-migration'!M38","v":4310},{"$f":"'Within Scotland out-migration'!M38","v":3680},{"$f":"'Rest of UK net migration'!M38","v":60},{"$f":"'Rest of UK in-migration'!M38","v":860},{"$f":"'Rest of UK out-migration'!M38","v":790},{"$f":"'International net migration'!M38","v":200},{"$f":"'International in-migration'!M38","v":560},{"$f":"'International out-migration'!M38","v":370},{"$f":"NINo!M38","v":880},{"$f":"'Births to non-UK mothers'!M38","v":320},{"$f":"'Pupils'' ethnic group (TS)'!N38","v":1269},{"$f":"'Pupils with English as an add.'!K38","v":1211},{"$f":"'Pop born outside UK'!M38","v":10000},{"$f":"'Non-British Population'!M38","v":8000},{"$f":"Citizenships!M38","v":80}]
[]
[35,"Not specified"]
[36,"Scotland",null,{"$f":"'Total net migration'!M41","v":28000},{"$f":"'Total net migration 0-15'!M41","v":4093},{"$f":"'Total net migration 16-64'!M41","v":23858},{"$f":"'Total net migration 65+'!M41","v":17},{"$f":"'Total in-migration'!M41","v":85000},{"$f":"'Total out-migration'!M41","v":57000},{"$f":"'Within Scotland net migration'!M41","v":"[z]"},{"$f":"'Within Scotland in-migration'!M41","v":"[z]"},{"$f":"'Within Scotland out-migration'!M41","v":"[z]"},{"$f":"'Rest of UK net migration'!M41","v":8400},{"$f":"'Rest of UK in-migration'!M41","v":47200},{"$f":"'Rest of UK out-migration'!M41","v":38800},{"$f":"'International net migration'!M41","v":19600},{"$f":"'International in-migration'!M41","v":37800},{"$f":"'International out-migration'!M41","v":18200},null,{"$f":"'Births to non-UK mothers'!M41","v":8997}]
[37,"Ayrshire and Arran",null,{"$f":"'Total net migration'!M42","v":430},{"$f":"'Total net migration 0-15'!M42","v":355},{"$f":"'Total net migration 16-64'!M42","v":-3},{"$f":"'Total net migration 65+'!M42","v":81},{"$f":"'Total in-migration'!M42","v":8020},{"$f":"'Total out-migration'!M42","v":7590},{"$f":"'Within Scotland net migration'!M42","v":20},{"$f":"'Within Scotland in-migration'!M42","v":5300},{"$f":"'Within Scotland out-migration'!M42","v":5280},{"$f":"'Rest of UK net migration'!M42","v":530},{"$f":"'Rest of UK in-migration'!M42","v":2220},{"$f":"'Rest of UK out-migration'!M42","v":1690},{"$f":"'International net migration'!M42","v":-120},{"$f":"'International in-migration'!M42","v":500},{"$f":"'International out-migration'!M42","v":620},null,{"$f":"'Births to non-UK mothers'!M42","v":196}]
[38,"Borders",null,{"$f":"'Total net migration'!M43","v":440},{"$f":"'Total net migration 0-15'!M43","v":130},{"$f":"'Total net migration 16-64'!M43","v":282},{"$f":"'Total net migration 65+'!M43","v":23},{"$f":"'Total in-migration'!M43","v":4130},{"$f":"'Total out-migration'!M43","v":3700},{"$f":"'Within Scotland net migration'!M43","v":90},{"$f":"'Within Scotland in-migration'!M43","v":2290},{"$f":"'Within Scotland out-migration'!M43","v":2200},{"$f":"'Rest of UK net migration'!M43","v":390},{"$f":"'Rest of UK in-migration'!M43","v":1580},{"$f":"'Rest of UK out-migration'!M43","v":1190},{"$f":"'International net migration'!M43","v":-50},{"$f":"'International in-migration'!M43","v":260},{"$f":"'International out-migration'!M43","v":310},null,{"$f":"'Births to non-UK mothers'!M43","v":121}]
[39,"Dumfries and Galloway",null,{"$f":"'Total net migration'!M44","v":330},{"$f":"'Total net migration 0-15'!M44","v":74},{"$f":"'Total net migration 16-64'!M44","v":206},{"$f":"'Total net migration 65+'!M44","v":50},{"$f":"'Total in-migration'!M44","v":3930},{"$f":"'Total out-migration'!M44","v":3600},{"$f":"'Within Scotland net migration'!M44","v":-100},{"$f":"'Within Scotland in-migration'!M44","v":1730},{"$f":"'Within Scotland out-migration'!M44","v":1840},{"$f":"'Rest of UK net migration'!M44","v":510},{"$f":"'Rest of UK in-migration'!M44","v":1910},{"$f":"'Rest of UK out-migration'!M44","v":1410},{"$f":"'International net migration'!M44","v":-70},{"$f":"'International in-migration'!M44","v":280},{"$f":"'International out-migration'!M44","v":350},null,{"$f":"'Births to non-UK mothers'!M44","v":87}]
[40,"Fife",null,{"$f":"'Total net migration'!M45","v":1230},{"$f":"'Total net migration 0-15'!M45","v":279},{"$f":"'Total net migration 16-64'!M45","v":901},{"$f":"'Total net migration 65+'!M45","v":48},{"$f":"'Total in-migration'!M45","v":11290},{"$f":"'Total out-migration'!M45","v":10060},{"$f":"'Within Scotland net migration'!M45","v":-70},{"$f":"'Within Scotland in-migration'!M45","v":6390},{"$f":"'Within Scotland out-migration'!M45","v":6460},{"$f":"'Rest of UK net migration'!M45","v":470},{"$f":"'Rest of UK in-migration'!M45","v":2980},{"$f":"'Rest of UK out-migration'!M45","v":2510},{"$f":"'International net migration'!M45","v":830},{"$f":"'International in-migration'!M45","v":1920},{"$f":"'International out-migration'!M45","v":1090},null,{"$f":"'Births to non-UK mothers'!M45","v":443}]
[41,"Forth Valley",null,{"$f":"'Total net migration'!M46","v":2290},{"$f":"'Total net migration 0-15'!M46","v":494},{"$f":"'Total net migration 16-64'!M46","v":1714},{"$f":"'Total net migration 65+'!M46","v":80},{"$f":"'Total in-migration'!M46","v":10570},{"$f":"'Total out-migration'!M46","v":8280},{"$f":"'Within Scotland net migration'!M46","v":870},{"$f":"'Within Scotland in-migration'!M46","v":6920},{"$f":"'Within Scotland out-migration'!M46","v":6040},{"$f":"'Rest of UK net migration'!M46","v":660},{"$f":"'Rest of UK in-migration'!M46","v":2150},{"$f":"'Rest of UK out-migration'!M46","v":1490},{"$f":"'International net migration'!M46","v":760},{"$f":"'International in-migration'!M46","v":1510},{"$f":"'International out-migration'!M46","v":750},null,{"$f":"'Births to non-UK mothers'!M46","v":315}]
[42,"Grampian",null,{"$f":"'Total net migration'!M47","v":2480},{"$f":"'Total net migration 0-15'!M47","v":252},{"$f":"'Total net migration 16-64'!M47","v":2593},{"$f":"'Total net migration 65+'!M47","v":-364},{"$f":"'Total in-migration'!M47","v":19200},{"$f":"'Total out-migration'!M47","v":16720},{"$f":"'Within Scotland net migration'!M47","v":-1000},{"$f":"'Within Scotland in-migration'!M47","v":7740},{"$f":"'Within Scotland out-migration'!M47","v":8740},{"$f":"'Rest of UK net migration'!M47","v":150},{"$f":"'Rest of UK in-migration'!M47","v":5460},{"$f":"'Rest of UK out-migration'!M47","v":5310},{"$f":"'International net migration'!M47","v":3320},{"$f":"'International in-migration'!M47","v":6000},{"$f":"'International out-migration'!M47","v":2680},null,{"$f":"'Births to non-UK mothers'!M47","v":1524}]
[43,"Greater Glasgow and Clyde",null,{"$f":"'Total net migration'!M48","v":7550},{"$f":"'Total net migration 0-15'!M48","v":546},{"$f":"'Total net migration 16-64'!M48","v":7117},{"$f":"'Total net migration 65+'!M48","v":-113},{"$f":"'Total in-migration'!M48","v":37640},{"$f":"'Total out-migration'!M48","v":30090},{"$f":"'Within Scotland net migration'!M48","v":-1060},{"$f":"'Within Scotland in-migration'!M48","v":17270},{"$f":"'Within Scotland out-migration'!M48","v":18330},{"$f":"'Rest of UK net migration'!M48","v":1470},{"$f":"'Rest of UK in-migration'!M48","v":8970},{"$f":"'Rest of UK out-migration'!M48","v":7500},{"$f":"'International net migration'!M48","v":7140},{"$f":"'International in-migration'!M48","v":11410},{"$f":"'International out-migration'!M48","v":4270},null,{"$f":"'Births to non-UK mothers'!M48","v":2417}]
[44,"Highland",null,{"$f":"'Total net migration'!M49","v":880},{"$f":"'Total net migration 0-15'!M49","v":365},{"$f":"'Total net migration 16-64'!M49","v":621},{"$f":"'Total net migration 65+'!M49","v":-104},{"$f":"'Total in-migration'!M49","v":11310},{"$f":"'Total out-migration'!M49","v":10430},{"$f":"'Within Scotland net migration'!M49","v":-470},{"$f":"'Within Scotland in-migration'!M49","v":6280},{"$f":"'Within Scotland out-migration'!M49","v":6750},{"$f":"'Rest of UK net migration'!M49","v":1110},{"$f":"'Rest of UK in-migration'!M49","v":3820},{"$f":"'Rest of UK out-migration'!M49","v":2710},{"$f":"'International net migration'!M49","v":240},{"$f":"'International in-migration'!M49","v":1220},{"$f":"'International out-migration'!M49","v":970},null,{"$f":"'Births to non-UK mothers'!M49","v":401}]
[45,"Lanarkshire",null,{"$f":"'Total net migration'!M50","v":1170},{"$f":"'Total net migration 0-15'!M50","v":495},{"$f":"'Total net migration 16-64'!M50","v":587},{"$f":"'Total net migration 65+'!M50","v":92},{"$f":"'Total in-migration'!M50","v":14150},{"$f":"'Total out-migration'!M50","v":12980},{"$f":"'Within Scotland net migration'!M50","v":1080},{"$f":"'Within Scotland in-migration'!M50","v":10640},{"$f":"'Within Scotland out-migration'!M50","v":9560},{"$f":"'Rest of UK net migration'!M50","v":90},{"$f":"'Rest of UK in-migration'!M50","v":2440},{"$f":"'Rest of UK out-migration'!M50","v":2340},{"$f":"'International net migration'!M50","v":0},{"$f":"'International in-migration'!M50","v":1080},{"$f":"'International out-migration'!M50","v":1070},null,{"$f":"'Births to non-UK mothers'!M50","v":458}]
[46,"Lothian",null,{"$f":"'Total net migration'!M51","v":9100},{"$f":"'Total net migration 0-15'!M51","v":504},{"$f":"'Total net migration 16-64'!M51","v":8425},{"$f":"'Total net migration 65+'!M51","v":170},{"$f":"'Total in-migration'!M51","v":35910},{"$f":"'Total out-migration'!M51","v":26810},{"$f":"'Within Scotland net migration'!M51","v":420},{"$f":"'Within Scotland in-migration'!M51","v":13660},{"$f":"'Within Scotland out-migration'!M51","v":13240},{"$f":"'Rest of UK net migration'!M51","v":2290},{"$f":"'Rest of UK in-migration'!M51","v":11450},{"$f":"'Rest of UK out-migration'!M51","v":9160},{"$f":"'International net migration'!M51","v":6380},{"$f":"'International in-migration'!M51","v":10790},{"$f":"'International out-migration'!M51","v":4410},null,{"$f":"'Births to non-UK mothers'!M51","v":2379}]
[47,"Orkney",null,{"$f":"'Total net migration'!M52","v":100},{"$f":"'Total net migration 0-15'!M52","v":35},{"$f":"'Total net migration 16-64'!M52","v":63},{"$f":"'Total net migration 65+'!M52","v":2},{"$f":"'Total in-migration'!M52","v":710},{"$f":"'Total out-migration'!M52","v":610},{"$f":"'Within Scotland net migration'!M52","v":-40},{"$f":"'Within Scotland in-migration'!M52","v":390},{"$f":"'Within Scotland out-migration'!M52","v":420},{"$f":"'Rest of UK net migration'!M52","v":130},{"$f":"'Rest of UK in-migration'!M52","v":270},{"$f":"'Rest of UK out-migration'!M52","v":140},{"$f":"'International net migration'!M52","v":0},{"$f":"'International in-migration'!M52","v":50},{"$f":"'International out-migration'!M52","v":50},null,{"$f":"'Births to non-UK mothers'!M52","v":9}]
[48,"Shetland",null,{"$f":"'Total net migration'!M53","v":-40},{"$f":"'Total net migration 0-15'!M53","v":-7},{"$f":"'Total net migration 16-64'!M53","v":4},{"$f":"'Total net migration 65+'!M53","v":-33},{"$f":"'Total in-migration'!M53","v":710},{"$f":"'Total out-migration'!M53","v":740},{"$f":"'Within Scotland net migration'!M53","v":-100},{"$f":"'Within Scotland in-migration'!M53","v":390},{"$f":"'Within Scotland out-migration'!M53","v":490},{"$f":"'Rest of UK net migration'!M53","v":30},{"$f":"'Rest of UK in-migration'!M53","v":220},{"$f":"'Rest of UK out-migration'!M53","v":190},{"$f":"'International net migration'!M53","v":30},{"$f":"'International in-migration'!M53","v":90},{"$f":"'International out-migration'!M53","v":60},null,{"$f":"'Births to non-UK mothers'!M53","v":24}]
[49,"Tayside",null,{"$f":"'Total net migration'!M54","v":2010},{"$f":"'Total net migration 0-15'!M54","v":549},{"$f":"'Total net migration 16-64'!M54","v":1366},{"$f":"'Total net migration 65+'!M54","v":94},{"$f":"'Total in-migration'!M54","v":14310},{"$f":"'Total out-migration'!M54","v":12310},{"$f":"'Within Scotland net migration'!M54","v":390},{"$f":"'Within Scotland in-migration'!M54","v":8220},{"$f":"'Within Scotland out-migration'!M54","v":7830},{"$f":"'Rest of UK net migration'!M54","v":490},{"$f":"'Rest of UK in-migration'!M54","v":3470},{"$f":"'Rest of UK out-migration'!M54","v":2980},{"$f":"'International net migration'!M54","v":1120},{"$f":"'International in-migration'!M54","v":2630},{"$f":"'International out-migration'!M54","v":1500},null,{"$f":"'Births to non-UK mothers'!M54","v":615}]
[50,"Western Isles",null,{"$f":"'Total net migration'!M55","v":-10},{"$f":"'Total net migration 0-15'!M55","v":22},{"$f":"'Total net migration 16-64'!M55","v":-18},{"$f":"'Total net migration 65+'!M55","v":-9},{"$f":"'Total in-migration'!M55","v":880},{"$f":"'Total out-migration'!M55","v":890},{"$f":"'Within Scotland net migration'!M55","v":-50},{"$f":"'Within Scotland in-migration'!M55","v":600},{"$f":"'Within Scotland out-migration'!M55","v":650},{"$f":"'Rest of UK net migration'!M55","v":40},{"$f":"'Rest of UK in-migration'!M55","v":220},{"$f":"'Rest of UK out-migration'!M55","v":180},{"$f":"'International net migration'!M55","v":0},{"$f":"'International in-migration'!M55","v":60},{"$f":"'International out-migration'!M55","v":50},null,{"$f":"'Births to non-UK mothers'!M55","v":8}]

{"sheet":"2015 Rate","index":47,"n_rows":53,"n_cols":27,"rows_kept":53,"cut":false,"hidden":true,"merged":[]}
[null,2015,"RATE"]
[null,null,"Not specified ",{"$f":"'Comparing Indicators'!$U8","v":"Total net migration"},{"$f":"'Comparing Indicators'!$U9","v":"Total net migration for ages 0-15"},{"$f":"'Comparing Indicators'!$U10","v":"Total net migration for ages 16-64"},{"$f":"'Comparing Indicators'!$U11","v":"Total net migration for people aged 65+"},{"$f":"'Comparing Indicators'!$U12","v":"Total in-migration"},{"$f":"'Comparing Indicators'!$U13","v":"Total out-migration"},{"$f":"'Comparing Indicators'!$U14","v":"Within Scotland net migration"},{"$f":"'Comparing Indicators'!$U15","v":"Within Scotland in-migration"},{"$f":"'Comparing Indicators'!$U16","v":"Within Scotland out-migration"},{"$f":"'Comparing Indicators'!$U17","v":"Rest of UK net migration"},{"$f":"'Comparing Indicators'!$U18","v":"Rest of UK in-migration"},{"$f":"'Comparing Indicators'!$U19","v":"Rest of UK out-migration"},{"$f":"'Comparing Indicators'!$U20","v":"International net migration"},{"$f":"'Comparing Indicators'!$U21","v":"International in-migration"},{"$f":"'Comparing Indicators'!$U22","v":"International out-migration"},{"$f":"'Comparing Indicators'!$U23","v":"NINo Allocation"},{"$f":"'Comparing Indicators'!$U24","v":"Births to non-UK mothers"},{"$f":"'Comparing Indicators'!$U25","v":"Pupils from a minority ethnic group"},{"$f":"'Comparing Indicators'!$U26","v":"Pupils with English as an additional language"},{"$f":"'Comparing Indicators'!$U27","v":"Population born outside the UK"},{"$f":"'Comparing Indicators'!$U28","v":"Population with non-British nationality"},{"$f":"'Comparing Indicators'!$U29","v":"Citizenships"},null,"Mid-year population estimate"]
[1,"Not specified"]
[2,"Scotland",null,{"$f":"('2015'!D4/'2015 Rate'!$AA4)*1000","v":5.2112413921459151},{"$f":"('2015'!E4/'2015 Rate'!$AA4)*1000","v":0.76177182207332961},{"$f":"('2015'!F4/'2015 Rate'!$AA4)*1000","v":4.4403498976363291},{"$f":"('2015'!G4/'2015 Rate'!$AA4)*1000","v":3.1639679880885912E-3},{"$f":"('2015'!H4/'2015 Rate'!$AA4)*1000","v":15.819839940442955},{"$f":"('2015'!I4/'2015 Rate'!$AA4)*1000","v":10.60859854829704},{"$f":"'Within Scotland net migration'!M6","v":"[z]"},{"$f":"'Within Scotland in-migration'!M6","v":"[z]"},{"$f":"'Within Scotland out-migration'!M6","v":"[z]"},{"$f":"('2015'!M4/'2015 Rate'!$AA4)*1000","v":1.5633724176437742},{"$f":"('2015'!N4/'2015 Rate'!$AA4)*1000","v":8.7846640610459712},{"$f":"('2015'!O4/'2015 Rate'!$AA4)*1000","v":7.2212916434021963},{"$f":"('2015'!P4/'2015 Rate'!$AA4)*1000","v":3.6478689745021402},{"$f":"('2015'!Q4/'2015 Rate'!$AA4)*1000","v":7.0351758793969852},{"$f":"('2015'!R4/'2015 Rate'!$AA4)*1000","v":3.3873069048948445},{"$f":"('2015'!S4/'2015 Rate'!$AA4)*1000","v":8.6674111297226872},null,null,null,null,null,{"$f":"('2015'!Y4/'2015 Rate'!$AA4)*1000","v":0.65922203610645824},"Scotland",5373000]
[3,"Aberdeen City",null,{"$f":"('2015'!D5/'2015 Rate'!$AA5)*1000","v":4.7319296722378992},{"$f":"('2015'!E5/'2015 Rate'!$AA5)*1000","v":-1.4629911004992402},{"$f":"('2015'!F5/'2015 Rate'!$AA5)*1000","v":7.0544823095289777},{"$f":"('2015'!G5/'2015 Rate'!$AA5)*1000","v":-0.88126763620577386},{"$f":"('2015'!H5/'2015 Rate'!$AA5)*1000","v":61.037551551986105},{"$f":"('2015'!I5/'2015 Rate'!$AA5)*1000","v":56.349034078576082},{"$f":"('2015'!J5/'2015 Rate'!$AA5)*1000","v":-9.6375081397872808},{"$f":"('2015'!K5/'2015 Rate'!$AA5)*1000","v":29.563707401779901},{"$f":"('2015'!L5/'2015 Rate'!$AA5)*1000","v":39.20121554156718},{"$f":"('2015'!M5/'2015 Rate'!$AA5)*1000","v":0.52094638593444764},{"$f":"('2015'!N5/'2015 Rate'!$AA5)*1000","v":11.547644888213588},{"$f":"('2015'!O5/'2015 Rate'!$AA5)*1000","v":11.07011070110701},{"$f":"('2015'!P5/'2015 Rate'!$AA5)*1000","v":13.848491426090732},{"$f":"('2015'!Q5/'2015 Rate'!$AA5)*1000","v":19.926199261992622},{"$f":"('2015'!R5/'2015 Rate'!$AA5)*1000","v":6.0777078359018883},{"$f":"('2015'!S5/'2015 Rate'!$AA5)*1000","v":22.617755589320598},null,null,null,null,null,{"$f":"('2015'!Y5/'2015 Rate'!$AA5)*1000","v":2.7306273062730626},"Aberdeen City",230350]
[4,"Aberdeenshire",null,{"$f":"('2015'!D6/'2015 Rate'!$AA6)*1000","v":3.7792029317453046},{"$f":"('2015'!E6/'2015 Rate'!$AA6)*1000","v":1.7674454115132081},{"$f":"('2015'!F6/'2015 Rate'!$AA6)*1000","v":2.7446938463887616},{"$f":"('2015'!G6/'2015 Rate'!$AA6)*1000","v":-0.74820583295159571},{"$f":"('2015'!H6/'2015 Rate'!$AA6)*1000","v":36.226904870972668},{"$f":"('2015'!I6/'2015 Rate'!$AA6)*1000","v":32.447701939227365},{"$f":"('2015'!J6/'2015 Rate'!$AA6)*1000","v":3.6265078637959993},{"$f":"('2015'!K6/'2015 Rate'!$AA6)*1000","v":26.225377920293177},{"$f":"('2015'!L6/'2015 Rate'!$AA6)*1000","v":22.598870056497177},{"$f":"('2015'!M6/'2015 Rate'!$AA6)*1000","v":-0.83982287372117881},{"$f":"('2015'!N6/'2015 Rate'!$AA6)*1000","v":5.8787601160482517},{"$f":"('2015'!O6/'2015 Rate'!$AA6)*1000","v":6.7185829897694305},{"$f":"('2015'!P6/'2015 Rate'!$AA6)*1000","v":0.99251794167048402},{"$f":"('2015'!Q6/'2015 Rate'!$AA6)*1000","v":4.1227668346312418},{"$f":"('2015'!R6/'2015 Rate'!$AA6)*1000","v":3.1302488929607573},{"$f":"('2015'!S6/'2015 Rate'!$AA6)*1000","v":6.6040616888074517},null,null,null,null,null,{"$f":"('2015'!Y6/'2015 Rate'!$AA6)*1000","v":0.80546648343258509},"Aberdeenshire",261960]
[5,"Angus",null,{"$f":"('2015'!D7/'2015 Rate'!$AA7)*1000","v":4.619332763045338},{"$f":"('2015'!E7/'2015 Rate'!$AA7)*1000","v":1.6595380667236954},{"$f":"('2015'!F7/'2015 Rate'!$AA7)*1000","v":2.6261762189905906},{"$f":"('2015'!G7/'2015 Rate'!$AA7)*1000","v":0.30795551753635586},{"$f":"('2015'!H7/'2015 Rate'!$AA7)*1000","v":36.869118905047053},{"$f":"('2015'!I7/'2015 Rate'!$AA7)*1000","v":32.24978614200171},{"$f":"('2015'!J7/'2015 Rate'!$AA7)*1000","v":3.7639007698887941},{"$f":"('2015'!K7/'2015 Rate'!$AA7)*1000","v":28.058169375534646},{"$f":"('2015'!L7/'2015 Rate'!$AA7)*1000","v":24.294268605645851},{"$f":"('2015'!M7/'2015 Rate'!$AA7)*1000","v":0.94097519247219852},{"$f":"('2015'!N7/'2015 Rate'!$AA7)*1000","v":6.2446535500427718},{"$f":"('2015'!O7/'2015 Rate'!$AA7)*1000","v":5.3892215568862278},{"$f":"('2015'!P7/'2015 Rate'!$AA7)*1000","v":-8.5543199315654406E-2},{"$f":"('2015'!Q7/'2015 Rate'!$AA7)*1000","v":2.4807527801539777},{"$f":"('2015'!R7/'2015 Rate'!$AA7)*1000","v":2.5662959794696323},{"$f":"('2015'!S7/'2015 Rate'!$AA7)*1000","v":11.206159110350727},null,null,null,null,null,{"$f":"('2015'!Y7/'2015 Rate'!$AA7)*1000","v":0.15397775876817793},"Angus",116900]
[6,"Argyll and Bute",null,{"$f":"('2015'!D8/'2015 Rate'!$AA8)*1000","v":-2.6470249741051908},{"$f":"('2015'!E8/'2015 Rate'!$AA8)*1000","v":0.29922891011623892},{"$f":"('2015'!F8/'2015 Rate'!$AA8)*1000","v":-2.2787432385775115},{"$f":"('2015'!G8/'2015 Rate'!$AA8)*1000","v":-0.70203705834963748},{"$f":"('2015'!H8/'2015 Rate'!$AA8)*1000","v":44.999424559788238},{"$f":"('2015'!I8/'2015 Rate'!$AA8)*1000","v":47.761537576245829},{"$f":"('2015'!J8/'2015 Rate'!$AA8)*1000","v":-5.0638738635055818},{"$f":"('2015'!K8/'2015 Rate'!$AA8)*1000","v":26.124985613994706},{"$f":"('2015'!L8/'2015 Rate'!$AA8)*1000","v":31.303947519852688},{"$f":"('2015'!M8/'2015 Rate'!$AA8)*1000","v":3.4526412705719878},{"$f":"('2015'!N8/'2015 Rate'!$AA8)*1000","v":15.421797675221544},{"$f":"('2015'!O8/'2015 Rate'!$AA8)*1000","v":12.084244447001957},{"$f":"('2015'!P8/'2015 Rate'!$AA8)*1000","v":-1.0357923811715963},{"$f":"('2015'!Q8/'2015 Rate'!$AA8)*1000","v":3.4526412705719878},{"$f":"('2015'!R8/'2015 Rate'!$AA8)*1000","v":4.3733456093911842},{"$f":"('2015'!S8/'2015 Rate'!$AA8)*1000","v":6.5600184140867759},null,null,null,null,null,{"$f":"('2015'!Y8/'2015 Rate'!$AA8)*1000","v":0.25319369317527907},"Argyll & Bute",86890]
[7,"City of Edinburgh",null,{"$f":"('2015'!D9/'2015 Rate'!$AA9)*1000","v":12.549868687476193},{"$f":"('2015'!E9/'2015 Rate'!$AA9)*1000","v":-0.51723100980333192},{"$f":"('2015'!F9/'2015 Rate'!$AA9)*1000","v":13.217457548966541},{"$f":"('2015'!G9/'2015 Rate'!$AA9)*1000","v":-0.14835308033118824},{"$f":"('2015'!H9/'2015 Rate'!$AA9)*1000","v":63.030011427196733},{"$f":"('2015'!I9/'2015 Rate'!$AA9)*1000","v":50.480142739720534},{"$f":"('2015'!J9/'2015 Rate'!$AA9)*1000","v":-3.8692087167458551},{"$f":"('2015'!K9/'2015 Rate'!$AA9)*1000","v":24.638639963112208},{"$f":"('2015'!L9/'2015 Rate'!$AA9)*1000","v":28.487800966299794},{"$f":"('2015'!M9/'2015 Rate'!$AA9)*1000","v":4.2902107014694968},{"$f":"('2015'!N9/'2015 Rate'!$AA9)*1000","v":19.045327880355245},{"$f":"('2015'!O9/'2015 Rate'!$AA9)*1000","v":14.755117178885747},{"$f":"('2015'!P9/'2015 Rate'!$AA9)*1000","v":12.128866702752552},{"$f":"('2015'!Q9/'2015 Rate'!$AA9)*1000","v":19.346043583729276},{"$f":"('2015'!R9/'2015 Rate'!$AA9)*1000","v":7.2171768809767247},{"$f":"('2015'!S9/'2015 Rate'!$AA9)*1000","v":23.916922275014535},null,null,null,null,null,{"$f":"('2015'!Y9/'2015 Rate'!$AA9)*1000","v":1.5236262304284196},"City of Edinburgh",498810]
[8,"Clackmannanshire",null,{"$f":"('2015'!D10/'2015 Rate'!$AA10)*1000","v":2.7258566978193146},{"$f":"('2015'!E10/'2015 Rate'!$AA10)*1000","v":0.15576323987538943},{"$f":"('2015'!F10/'2015 Rate'!$AA10)*1000","v":0.9929906542056075},{"$f":"('2015'!G10/'2015 Rate'!$AA10)*1000","v":1.6160436137071652},{"$f":"('2015'!H10/'2015 Rate'!$AA10)*1000","v":36.214953271028037},{"$f":"('2015'!I10/'2015 Rate'!$AA10)*1000","v":33.48909657320872},{"$f":"('2015'!J10/'2015 Rate'!$AA10)*1000","v":1.3629283489096573},{"$f":"('2015'!K10/'2015 Rate'!$AA10)*1000","v":28.426791277258566},{"$f":"('2015'!L10/'2015 Rate'!$AA10)*1000","v":27.063862928348911},{"$f":"('2015'!M10/'2015 Rate'!$AA10)*1000","v":1.557632398753894},{"$f":"('2015'!N10/'2015 Rate'!$AA10)*1000","v":5.8411214953271022},{"$f":"('2015'!O10/'2015 Rate'!$AA10)*1000","v":4.2834890965732084},{"$f":"('2015'!P10/'2015 Rate'!$AA10)*1000","v":0},{"$f":"('2015'!Q10/'2015 Rate'!$AA10)*1000","v":1.9470404984423677},{"$f":"('2015'!R10/'2015 Rate'!$AA10)*1000","v":1.9470404984423677},{"$f":"('2015'!S10/'2015 Rate'!$AA10)*1000","v":2.1417445482866042},null,null,null,null,null,{"$f":"('2015'!Y10/'2015 Rate'!$AA10)*1000","v":0.23364485981308411},"Clackmannanshire",51360]
[9,"Dumfries and Galloway",null,{"$f":"('2015'!D11/'2015 Rate'!$AA11)*1000","v":2.2048506714772502},{"$f":"('2015'!E11/'2015 Rate'!$AA11)*1000","v":0.49442105966459543},{"$f":"('2015'!F11/'2015 Rate'!$AA11)*1000","v":1.3763613282554954},{"$f":"('2015'!G11/'2015 Rate'!$AA11)*1000","v":0.33406828355715906},{"$f":"('2015'!H11/'2015 Rate'!$AA11)*1000","v":26.257767087592704},{"$f":"('2015'!I11/'2015 Rate'!$AA11)*1000","v":24.052916416115455},{"$f":"('2015'!J11/'2015 Rate'!$AA11)*1000","v":-0.66813656711431813},{"$f":"('2015'!K11/'2015 Rate'!$AA11)*1000","v":11.558762611077704},{"$f":"('2015'!L11/'2015 Rate'!$AA11)*1000","v":12.293712834903454},{"$f":"('2015'!M11/'2015 Rate'!$AA11)*1000","v":3.4074964922830229},{"$f":"('2015'!N11/'2015 Rate'!$AA11)*1000","v":12.761408431883478},{"$f":"('2015'!O11/'2015 Rate'!$AA11)*1000","v":9.4207255963118861},{"$f":"('2015'!P11/'2015 Rate'!$AA11)*1000","v":-0.46769559698002272},{"$f":"('2015'!Q11/'2015 Rate'!$AA11)*1000","v":1.8707823879200909},{"$f":"('2015'!R11/'2015 Rate'!$AA11)*1000","v":2.3384779849001136},{"$f":"('2015'!S11/'2015 Rate'!$AA11)*1000","v":2.2716643281886815},null,null,null,null,null,{"$f":"('2015'!Y11/'2015 Rate'!$AA11)*1000","v":0.19375960446315227},"Dumfries & Galloway",149670]
[10,"Dundee City",null,{"$f":"('2015'!D12/'2015 Rate'!$AA12)*1000","v":1.4169084407259969},{"$f":"('2015'!E12/'2015 Rate'!$AA12)*1000","v":-0.97834154240604543},{"$f":"('2015'!F12/'2015 Rate'!$AA12)*1000","v":2.766345050941232},{"$f":"('2015'!G12/'2015 Rate'!$AA12)*1000","v":-0.37784225086026585},{"$f":"('2015'!H12/'2015 Rate'!$AA12)*1000","v":47.365225018554753},{"$f":"('2015'!I12/'2015 Rate'!$AA12)*1000","v":45.948316577828756},{"$f":"('2015'!J12/'2015 Rate'!$AA12)*1000","v":-3.5085351865596111},{"$f":"('2015'!K12/'2015 Rate'!$AA12)*1000","v":28.675527967073748},{"$f":"('2015'!L12/'2015 Rate'!$AA12)*1000","v":32.184063153633353},{"$f":"('2015'!M12/'2015 Rate'!$AA12)*1000","v":0.33735915255380877},{"$f":"('2015'!N12/'2015 Rate'!$AA12)*1000","v":9.3111126104851216},{"$f":"('2015'!O12/'2015 Rate'!$AA12)*1000","v":8.9737534579313145},{"$f":"('2015'!P12/'2015 Rate'!$AA12)*1000","v":4.5206126442210381},{"$f":"('2015'!Q12/'2015 Rate'!$AA12)*1000","v":9.3785844409958852},{"$f":"('2015'!R12/'2015 Rate'!$AA12)*1000","v":4.857971796774847},{"$f":"('2015'!S12/'2015 Rate'!$AA12)*1000","v":9.0412252884420763},null,null,null,null,null,{"$f":"('2015'!Y12/'2015 Rate'!$AA12)*1000","v":0.83665069833344574},"Dundee City",148210]
[11,"East Ayrshire",null,{"$f":"('2015'!D13/'2015 Rate'!$AA13)*1000","v":0.49156152711781093},{"$f":"('2015'!E13/'2015 Rate'!$AA13)*1000","v":0.58168114042274288},{"$f":"('2015'!F13/'2015 Rate'!$AA13)*1000","v":8.1926921186301821E-2},{"$f":"('2015'!G13/'2015 Rate'!$AA13)*1000","v":-0.15566115025397345},{"$f":"('2015'!H13/'2015 Rate'!$AA13)*1000","v":27.445518597411109},{"$f":"('2015'!I13/'2015 Rate'!$AA13)*1000","v":26.953957070293299},{"$f":"('2015'!J13/'2015 Rate'!$AA13)*1000","v":-0.16385384237260364},{"$f":"('2015'!K13/'2015 Rate'!$AA13)*1000","v":21.382926429624774},{"$f":"('2015'!L13/'2015 Rate'!$AA13)*1000","v":21.464853350811076},{"$f":"('2015'!M13/'2015 Rate'!$AA13)*1000","v":1.392757660167131},{"$f":"('2015'!N13/'2015 Rate'!$AA13)*1000","v":5.4071767982959207},{"$f":"('2015'!O13/'2015 Rate'!$AA13)*1000","v":4.0144191381287886},{"$f":"('2015'!P13/'2015 Rate'!$AA13)*1000","v":-0.73734229067671642},{"$f":"('2015'!Q13/'2015 Rate'!$AA13)*1000","v":0.73734229067671642},{"$f":"('2015'!R13/'2015 Rate'!$AA13)*1000","v":1.4746845813534328},{"$f":"('2015'!S13/'2015 Rate'!$AA13)*1000","v":0.73734229067671642},null,null,null,null,null,{"$f":"('2015'!Y13/'2015 Rate'!$AA13)*1000","v":0.13108307389808291},"East Ayrshire",122060]
[12,"East Dunbartonshire",null,{"$f":"('2015'!D14/'2015 Rate'!$AA14)*1000","v":5.1421091997008226},{"$f":"('2015'!E14/'2015 Rate'!$AA14)*1000","v":4.7961854899027676},{"$f":"('2015'!F14/'2015 Rate'!$AA14)*1000","v":0.56095736724008971},{"$f":"('2015'!G14/'2015 Rate'!$AA14)*1000","v":-0.22438294689603591},{"$f":"('2015'!H14/'2015 Rate'!$AA14)*1000","v":39.267015706806284},{"$f":"('2015'!I14/'2015 Rate'!$AA14)*1000","v":34.124906507105457},{"$f":"('2015'!J14/'2015 Rate'!$AA14)*1000","v":5.7030665669409126},{"$f":"('2015'!K14/'2015 Rate'!$AA14)*1000","v":33.844427823485418},{"$f":"('2015'!L14/'2015 Rate'!$AA14)*1000","v":28.141361256544503},{"$f":"('2015'!M14/'2015 Rate'!$AA14)*1000","v":0.56095736724008971},{"$f":"('2015'!N14/'2015 Rate'!$AA14)*1000","v":4.4876589379207177},{"$f":"('2015'!O14/'2015 Rate'!$AA14)*1000","v":3.9267015706806281},{"$f":"('2015'!P14/'2015 Rate'!$AA14)*1000","v":-1.0284218399401646},{"$f":"('2015'!Q14/'2015 Rate'!$AA14)*1000","v":1.0284218399401646},{"$f":"('2015'!R14/'2015 Rate'!$AA14)*1000","v":2.0568436798803291},{"$f":"('2015'!S14/'2015 Rate'!$AA14)*1000","v":1.0284218399401646},null,null,null,null,null,{"$f":"('2015'!Y14/'2015 Rate'!$AA14)*1000","v":0.48616305160807782},"East Dunbartonshire",106960]
[13,"East Lothian",null,{"$f":"('2015'!D15/'2015 Rate'!$AA15)*1000","v":9.3158660844250374},{"$f":"('2015'!E15/'2015 Rate'!$AA15)*1000","v":2.1542940320232895},{"$f":"('2015'!F15/'2015 Rate'!$AA15)*1000","v":5.880640465793304},{"$f":"('2015'!G15/'2015 Rate'!$AA15)*1000","v":1.2906356137797186},{"$f":"('2015'!H15/'2015 Rate'!$AA15)*1000","v":42.115477923338183},{"$f":"('2015'!I15/'2015 Rate'!$AA15)*1000","v":32.799611838913144},{"$f":"('2015'!J15/'2015 Rate'!$AA15)*1000","v":6.5987384764677337},{"$f":"('2015'!K15/'2015 Rate'!$AA15)*1000","v":31.344007763221736},{"$f":"('2015'!L15/'2015 Rate'!$AA15)*1000","v":24.745269286754002},{"$f":"('2015'!M15/'2015 Rate'!$AA15)*1000","v":1.1644832605531297},{"$f":"('2015'!N15/'2015 Rate'!$AA15)*1000","v":6.6957787481804951},{"$f":"('2015'!O15/'2015 Rate'!$AA15)*1000","v":5.5312954876273652},{"$f":"('2015'!P15/'2015 Rate'!$AA15)*1000","v":1.5526443474041727},{"$f":"('2015'!Q15/'2015 Rate'!$AA15)*1000","v":3.9786511402231932},{"$f":"('2015'!R15/'2015 Rate'!$AA15)*1000","v":2.5230470645317804},{"$f":"('2015'!S15/'2015 Rate'!$AA15)*1000","v":4.9490538573508012},null,null,null,null,null,{"$f":"('2015'!Y15/'2015 Rate'!$AA15)*1000","v":0.31052886948083458},"East Lothian",103050]
[14,"East Renfrewshire",null,{"$f":"('2015'!D16/'2015 Rate'!$AA16)*1000","v":6.7785668173014848},{"$f":"('2015'!E16/'2015 Rate'!$AA16)*1000","v":6.1007101355713358},{"$f":"('2015'!F16/'2015 Rate'!$AA16)*1000","v":-0.79621261028620616},{"$f":"('2015'!G16/'2015 Rate'!$AA16)*1000","v":1.4417904024101571},{"$f":"('2015'!H16/'2015 Rate'!$AA16)*1000","v":42.392941682806111},{"$f":"('2015'!I16/'2015 Rate'!$AA16)*1000","v":35.721971164191949},{"$f":"('2015'!J16/'2015 Rate'!$AA16)*1000","v":7.6393372068000858},{"$f":"('2015'!K16/'2015 Rate'!$AA16)*1000","v":36.797934151065206},{"$f":"('2015'!L16/'2015 Rate'!$AA16)*1000","v":29.158596944265117},{"$f":"('2015'!M16/'2015 Rate'!$AA16)*1000","v":0},{"$f":"('2015'!N16/'2015 Rate'!$AA16)*1000","v":4.3038519474930057},{"$f":"('2015'!O16/'2015 Rate'!$AA16)*1000","v":4.3038519474930057},{"$f":"('2015'!P16/'2015 Rate'!$AA16)*1000","v":-0.8607703894986013},{"$f":"('2015'!Q16/'2015 Rate'!$AA16)*1000","v":1.398751882935227},{"$f":"('2015'!R16/'2015 Rate'!$AA16)*1000","v":2.2595222724338284},{"$f":"('2015'!S16/'2015 Rate'!$AA16)*1000","v":1.5063481816225521},null,null,null,null,null,{"$f":"('2015'!Y16/'2015 Rate'!$AA16)*1000","v":0.47342371422423069},"East Renfrewshire",92940]
[15,"Falkirk",null,{"$f":"('2015'!D17/'2015 Rate'!$AA17)*1000","v":4.6068408431149814},{"$f":"('2015'!E17/'2015 Rate'!$AA17)*1000","v":0.81408557364634615},{"$f":"('2015'!F17/'2015 Rate'!$AA17)*1000","v":3.6034330430392529},{"$f":"('2015'!G17/'2015 Rate'!$AA17)*1000","v":0.21456518995330051},{"$f":"('2015'!H17/'2015 Rate'!$AA17)*1000","v":28.272119146787833},{"$f":"('2015'!I17/'2015 Rate'!$AA17)*1000","v":23.602170894863058},{"$f":"('2015'!J17/'2015 Rate'!$AA17)*1000","v":2.4611889435819765},{"$f":"('2015'!K17/'2015 Rate'!$AA17)*1000","v":21.267196768900668},{"$f":"('2015'!L17/'2015 Rate'!$AA17)*1000","v":18.806007825318691},{"$f":"('2015'!M17/'2015 Rate'!$AA17)*1000","v":1.3883629938154738},{"$f":"('2015'!N17/'2015 Rate'!$AA17)*1000","v":4.6068408431149814},{"$f":"('2015'!O17/'2015 Rate'!$AA17)*1000","v":3.2815852581093021},{"$f":"('2015'!P17/'2015 Rate'!$AA17)*1000","v":0.82039631452732553},{"$f":"('2015'!Q17/'2015 Rate'!$AA17)*1000","v":2.398081534772182},{"$f":"('2015'!R17/'2015 Rate'!$AA17)*1000","v":1.5776852202448568},{"$f":"('2015'!S17/'2015 Rate'!$AA17)*1000","v":3.4078000757288907},null,null,null,null,null,{"$f":"('2015'!Y17/'2015 Rate'!$AA17)*1000","v":0.29029408052505368},"Falkirk",158460]
[16,"Fife",null,{"$f":"('2015'!D18/'2015 Rate'!$AA18)*1000","v":3.341664855466203},{"$f":"('2015'!E18/'2015 Rate'!$AA18)*1000","v":0.75798739404477289},{"$f":"('2015'!F18/'2015 Rate'!$AA18)*1000","v":2.4478374266463816},{"$f":"('2015'!G18/'2015 Rate'!$AA18)*1000","v":0.13040643338404695},{"$f":"('2015'!H18/'2015 Rate'!$AA18)*1000","v":30.672679852206045},{"$f":"('2015'!I18/'2015 Rate'!$AA18)*1000","v":27.331014996739842},{"$f":"('2015'!J18/'2015 Rate'!$AA18)*1000","v":-0.19017604868506846},{"$f":"('2015'!K18/'2015 Rate'!$AA18)*1000","v":17.360356444251252},{"$f":"('2015'!L18/'2015 Rate'!$AA18)*1000","v":17.550532492936316},{"$f":"('2015'!M18/'2015 Rate'!$AA18)*1000","v":1.2768963268854596},{"$f":"('2015'!N18/'2015 Rate'!$AA18)*1000","v":8.0960660725929152},{"$f":"('2015'!O18/'2015 Rate'!$AA18)*1000","v":6.8191697457074545},{"$f":"('2015'!P18/'2015 Rate'!$AA18)*1000","v":2.2549445772658117},{"$f":"('2015'!Q18/'2015 Rate'!$AA18)*1000","v":5.2162573353618784},{"$f":"('2015'!R18/'2015 Rate'!$AA18)*1000","v":2.9613127580960663},{"$f":"('2015'!S18/'2015 Rate'!$AA18)*1000","v":7.118017822212563},null,null,null,null,null,{"$f":"('2015'!Y18/'2015 Rate'!$AA18)*1000","v":0.35318409041512716},"Fife",368080]
[17,"Glasgow City",null,{"$f":"('2015'!D19/'2015 Rate'!$AA19)*1000","v":9.6315598509087295},{"$f":"('2015'!E19/'2015 Rate'!$AA19)*1000","v":-1.1511693109476531},{"$f":"('2015'!F19/'2015 Rate'!$AA19)*1000","v":11.198337566381896},{"$f":"('2015'!G19/'2015 Rate'!$AA19)*1000","v":-0.41560840452551379},{"$f":"('2015'!H19/'2015 Rate'!$AA19)*1000","v":54.919682026585747},{"$f":"('2015'!I19/'2015 Rate'!$AA19)*1000","v":45.288122175677017},{"$f":"('2015'!J19/'2015 Rate'!$AA19)*1000","v":-3.9911600752053302},{"$f":"('2015'!K19/'2015 Rate'!$AA19)*1000","v":26.866114721113568},{"$f":"('2015'!L19/'2015 Rate'!$AA19)*1000","v":30.857274796318897},{"$f":"('2015'!M19/'2015 Rate'!$AA19)*1000","v":1.946102846587723},{"$f":"('2015'!N19/'2015 Rate'!$AA19)*1000","v":10.884982023287264},{"$f":"('2015'!O19/'2015 Rate'!$AA19)*1000","v":8.9388791766995404},{"$f":"('2015'!P19/'2015 Rate'!$AA19)*1000","v":11.67661707952634},{"$f":"('2015'!Q19/'2015 Rate'!$AA19)*1000","v":17.168585282184914},{"$f":"('2015'!R19/'2015 Rate'!$AA19)*1000","v":5.4919682026585743},{"$f":"('2015'!S19/'2015 Rate'!$AA19)*1000","v":15.354421611637035},null,null,null,null,null,{"$f":"('2015'!Y19/'2015 Rate'!$AA19)*1000","v":1.1924003034601049},"Glasgow City",606340]
[18,"Highland",null,{"$f":"('2015'!D20/'2015 Rate'!$AA20)*1000","v":4.7840758617743795},{"$f":"('2015'!E20/'2015 Rate'!$AA20)*1000","v":1.448037247447781},{"$f":"('2015'!F20/'2015 Rate'!$AA20)*1000","v":3.4983554739225151},{"$f":"('2015'!G20/'2015 Rate'!$AA20)*1000","v":-0.18367434112169492},{"$f":"('2015'!H20/'2015 Rate'!$AA20)*1000","v":32.975951475801971},{"$f":"('2015'!I20/'2015 Rate'!$AA20)*1000","v":28.234590577079153},{"$f":"('2015'!J20/'2015 Rate'!$AA20)*1000","v":-0.12814488915467087},{"$f":"('2015'!K20/'2015 Rate'!$AA20)*1000","v":18.495579001324163},{"$f":"('2015'!L20/'2015 Rate'!$AA20)*1000","v":18.623723890478836},{"$f":"('2015'!M20/'2015 Rate'!$AA20)*1000","v":3.4599120071761136},{"$f":"('2015'!N20/'2015 Rate'!$AA20)*1000","v":10.550595873734569},{"$f":"('2015'!O20/'2015 Rate'!$AA20)*1000","v":7.0906838665584555},{"$f":"('2015'!P20/'2015 Rate'!$AA20)*1000","v":1.4095937807013796},{"$f":"('2015'!Q20/'2015 Rate'!$AA20)*1000","v":3.92977660074324},{"$f":"('2015'!R20/'2015 Rate'!$AA20)*1000","v":2.5201828200418603},{"$f":"('2015'!S20/'2015 Rate'!$AA20)*1000","v":7.1761137926615692},null,null,null,null,null,{"$f":"('2015'!Y20/'2015 Rate'!$AA20)*1000","v":0.33317671180214425},"Highland",234110]
[19,"Inverclyde",null,{"$f":"('2015'!D21/'2015 Rate'!$AA21)*1000","v":-1.7610062893081759},{"$f":"('2015'!E21/'2015 Rate'!$AA21)*1000","v":7.5471698113207558E-2},{"$f":"('2015'!F21/'2015 Rate'!$AA21)*1000","v":-1.8616352201257862},{"$f":"('2015'!G21/'2015 Rate'!$AA21)*1000","v":7.5471698113207558E-2},{"$f":"('2015'!H21/'2015 Rate'!$AA21)*1000","v":18.364779874213838},{"$f":"('2015'!I21/'2015 Rate'!$AA21)*1000","v":20},{"$f":"('2015'!J21/'2015 Rate'!$AA21)*1000","v":-3.1446540880503147},{"$f":"('2015'!K21/'2015 Rate'!$AA21)*1000","v":12.578616352201259},{"$f":"('2015'!L21/'2015 Rate'!$AA21)*1000","v":15.849056603773583},{"$f":"('2015'!M21/'2015 Rate'!$AA21)*1000","v":1.2578616352201257},{"$f":"('2015'!N21/'2015 Rate'!$AA21)*1000","v":4.4025157232704402},{"$f":"('2015'!O21/'2015 Rate'!$AA21)*1000","v":3.1446540880503147},{"$f":"('2015'!P21/'2015 Rate'!$AA21)*1000","v":0.12578616352201258},{"$f":"('2015'!Q21/'2015 Rate'!$AA21)*1000","v":1.2578616352201257},{"$f":"('2015'!R21/'2015 Rate'!$AA21)*1000","v":1.1320754716981132},{"$f":"('2015'!S21/'2015 Rate'!$AA21)*1000","v":1.2578616352201257},null,null,null,null,null,{"$f":"('2015'!Y21/'2015 Rate'!$AA21)*1000","v":5.0314465408805034E-2},"Inverclyde",79500]
[20,"Midlothian",null,{"$f":"('2015'!D22/'2015 Rate'!$AA22)*1000","v":11.32852729145211},{"$f":"('2015'!E22/'2015 Rate'!$AA22)*1000","v":2.8607392150131594},{"$f":"('2015'!F22/'2015 Rate'!$AA22)*1000","v":7.884197276576268},{"$f":"('2015'!G22/'2015 Rate'!$AA22)*1000","v":0.5492619292825266},{"$f":"('2015'!H22/'2015 Rate'!$AA22)*1000","v":41.766792539192124},{"$f":"('2015'!I22/'2015 Rate'!$AA22)*1000","v":30.438265247740016},{"$f":"('2015'!J22/'2015 Rate'!$AA22)*1000","v":11.786245565854216},{"$f":"('2015'!K22/'2015 Rate'!$AA22)*1000","v":35.129877560361592},{"$f":"('2015'!L22/'2015 Rate'!$AA22)*1000","v":23.34363199450738},{"$f":"('2015'!M22/'2015 Rate'!$AA22)*1000","v":-0.34328870580157916},{"$f":"('2015'!N22/'2015 Rate'!$AA22)*1000","v":4.5771827440210551},{"$f":"('2015'!O22/'2015 Rate'!$AA22)*1000","v":4.9204714498226343},{"$f":"('2015'!P22/'2015 Rate'!$AA22)*1000","v":-0.22885913720105275},{"$f":"('2015'!Q22/'2015 Rate'!$AA22)*1000","v":1.9453026662089483},{"$f":"('2015'!R22/'2015 Rate'!$AA22)*1000","v":2.1741618034100014},{"$f":"('2015'!S22/'2015 Rate'!$AA22)*1000","v":2.7463096464126333},null,null,null,null,null,{"$f":"('2015'!Y22/'2015 Rate'!$AA22)*1000","v":0.56070488614257918},"Midlothian",87390]
[21,"Moray",null,{"$f":"('2015'!D23/'2015 Rate'!$AA23)*1000","v":4.2927442152654169},{"$f":"('2015'!E23/'2015 Rate'!$AA23)*1000","v":1.3192335881059576},{"$f":"('2015'!F23/'2015 Rate'!$AA23)*1000","v":2.6070568526855826},{"$f":"('2015'!G23/'2015 Rate'!$AA23)*1000","v":0.36645377447387711},{"$f":"('2015'!H23/'2015 Rate'!$AA23)*1000","v":38.529996858967642},{"$f":"('2015'!I23/'2015 Rate'!$AA23)*1000","v":34.237252643702234},{"$f":"('2015'!J23/'2015 Rate'!$AA23)*1000","v":2.8269291173699092},{"$f":"('2015'!K23/'2015 Rate'!$AA23)*1000","v":21.882525390011516},{"$f":"('2015'!L23/'2015 Rate'!$AA23)*1000","v":19.055596272641608},{"$f":"('2015'!M23/'2015 Rate'!$AA23)*1000","v":2.7222280389488014},{"$f":"('2015'!N23/'2015 Rate'!$AA23)*1000","v":13.192335881059575},{"$f":"('2015'!O23/'2015 Rate'!$AA23)*1000","v":10.470107842110774},{"$f":"('2015'!P23/'2015 Rate'!$AA23)*1000","v":-1.2564129410532929},{"$f":"('2015'!Q23/'2015 Rate'!$AA23)*1000","v":3.4551355878965553},{"$f":"('2015'!R23/'2015 Rate'!$AA23)*1000","v":4.711548528949848},{"$f":"('2015'!S23/'2015 Rate'!$AA23)*1000","v":3.2457334310543402},null,null,null,null,null,{"$f":"('2015'!Y23/'2015 Rate'!$AA23)*1000","v":0.37692388231598783},"Moray",95510]
[22,"Na h-Eileanan Siar",null,{"$f":"('2015'!D24/'2015 Rate'!$AA24)*1000","v":-0.36941263391207979},{"$f":"('2015'!E24/'2015 Rate'!$AA24)*1000","v":0.8127077946065755},{"$f":"('2015'!F24/'2015 Rate'!$AA24)*1000","v":-0.66494274104174367},{"$f":"('2015'!G24/'2015 Rate'!$AA24)*1000","v":-0.33247137052087183},{"$f":"('2015'!H24/'2015 Rate'!$AA24)*1000","v":32.508311784263022},{"$f":"('2015'!I24/'2015 Rate'!$AA24)*1000","v":32.877724418175106},{"$f":"('2015'!J24/'2015 Rate'!$AA24)*1000","v":-1.847063169560399},{"$f":"('2015'!K24/'2015 Rate'!$AA24)*1000","v":22.164758034724787},{"$f":"('2015'!L24/'2015 Rate'!$AA24)*1000","v":24.011821204285184},{"$f":"('2015'!M24/'2015 Rate'!$AA24)*1000","v":1.4776505356483192},{"$f":"('2015'!N24/'2015 Rate'!$AA24)*1000","v":8.1270779460657554},{"$f":"('2015'!O24/'2015 Rate'!$AA24)*1000","v":6.6494274104174362},{"$f":"('2015'!P24/'2015 Rate'!$AA24)*1000","v":0},{"$f":"('2015'!Q24/'2015 Rate'!$AA24)*1000","v":2.2164758034724787},{"$f":"('2015'!R24/'2015 Rate'!$AA24)*1000","v":1.847063169560399},{"$f":"('2015'!S24/'2015 Rate'!$AA24)*1000","v":2.5858884373845585},null,null,null,null,null,{"$f":"('2015'!Y24/'2015 Rate'!$AA24)*1000","v":0.1847063169560399},"Na h-Eileanan Siar",27070]
[23,"North Ayrshire",null,{"$f":"('2015'!D25/'2015 Rate'!$AA25)*1000","v":0.44075516050833763},{"$f":"('2015'!E25/'2015 Rate'!$AA25)*1000","v":0.74193785352236841},{"$f":"('2015'!F25/'2015 Rate'!$AA25)*1000","v":-0.30118269301403072},{"$f":"('2015'!G25/'2015 Rate'!$AA25)*1000","v":0},{"$f":"('2015'!H25/'2015 Rate'!$AA25)*1000","v":27.400279144934988},{"$f":"('2015'!I25/'2015 Rate'!$AA25)*1000","v":26.959523984426649},{"$f":"('2015'!J25/'2015 Rate'!$AA25)*1000","v":-0.51421435392639392},{"$f":"('2015'!K25/'2015 Rate'!$AA25)*1000","v":20.715492543891866},{"$f":"('2015'!L25/'2015 Rate'!$AA25)*1000","v":21.229706897818261},{"$f":"('2015'!M25/'2015 Rate'!$AA25)*1000","v":1.3222654815250128},{"$f":"('2015'!N25/'2015 Rate'!$AA25)*1000","v":5.5094395063542203},{"$f":"('2015'!O25/'2015 Rate'!$AA25)*1000","v":4.2606332182472642},{"$f":"('2015'!P25/'2015 Rate'!$AA25)*1000","v":-0.2938367736722251},{"$f":"('2015'!Q25/'2015 Rate'!$AA25)*1000","v":1.1753470946889004},{"$f":"('2015'!R25/'2015 Rate'!$AA25)*1000","v":1.4691838683611254},{"$f":"('2015'!S25/'2015 Rate'!$AA25)*1000","v":1.3222654815250128},null,null,null,null,null,{"$f":"('2015'!Y25/'2015 Rate'!$AA25)*1000","v":0.16895614486152943},"North Ayrshire",136130]
[24,"North Lanarkshire",null,{"$f":"('2015'!D26/'2015 Rate'!$AA26)*1000","v":0.4138828120380772},{"$f":"('2015'!E26/'2015 Rate'!$AA26)*1000","v":0.31632472062910189},{"$f":"('2015'!F26/'2015 Rate'!$AA26)*1000","v":-8.5732868207887419E-2},{"$f":"('2015'!G26/'2015 Rate'!$AA26)*1000","v":0.18329095961686276},{"$f":"('2015'!H26/'2015 Rate'!$AA26)*1000","v":22.408797966061609},{"$f":"('2015'!I26/'2015 Rate'!$AA26)*1000","v":21.994915154023534},{"$f":"('2015'!J26/'2015 Rate'!$AA26)*1000","v":-0.443445870040797},{"$f":"('2015'!K26/'2015 Rate'!$AA26)*1000","v":17.087447525572045},{"$f":"('2015'!L26/'2015 Rate'!$AA26)*1000","v":17.530893395612843},{"$f":"('2015'!M26/'2015 Rate'!$AA26)*1000","v":0.3843197540353574},{"$f":"('2015'!N26/'2015 Rate'!$AA26)*1000","v":3.4884408443209369},{"$f":"('2015'!O26/'2015 Rate'!$AA26)*1000","v":3.1041210902855791},{"$f":"('2015'!P26/'2015 Rate'!$AA26)*1000","v":0.50257198604623654},{"$f":"('2015'!Q26/'2015 Rate'!$AA26)*1000","v":1.8329095961686277},{"$f":"('2015'!R26/'2015 Rate'!$AA26)*1000","v":1.3599006681251109},{"$f":"('2015'!S26/'2015 Rate'!$AA26)*1000","v":3.0449949742801397},null,null,null,null,null,{"$f":"('2015'!Y26/'2015 Rate'!$AA26)*1000","v":0.19807248861822266},"North Lanarkshire",338260]
[25,"Orkney Islands",null,{"$f":"('2015'!D27/'2015 Rate'!$AA27)*1000","v":4.6146746654360866},{"$f":"('2015'!E27/'2015 Rate'!$AA27)*1000","v":1.6151361329026304},{"$f":"('2015'!F27/'2015 Rate'!$AA27)*1000","v":2.9072450392247347},{"$f":"('2015'!G27/'2015 Rate'!$AA27)*1000","v":9.2293493308721733E-2},{"$f":"('2015'!H27/'2015 Rate'!$AA27)*1000","v":32.764190124596212},{"$f":"('2015'!I27/'2015 Rate'!$AA27)*1000","v":28.149515459160131},{"$f":"('2015'!J27/'2015 Rate'!$AA27)*1000","v":-1.8458698661744346},{"$f":"('2015'!K27/'2015 Rate'!$AA27)*1000","v":17.99723119520074},{"$f":"('2015'!L27/'2015 Rate'!$AA27)*1000","v":19.381633594831566},{"$f":"('2015'!M27/'2015 Rate'!$AA27)*1000","v":5.9990770650669134},{"$f":"('2015'!N27/'2015 Rate'!$AA27)*1000","v":12.459621596677433},{"$f":"('2015'!O27/'2015 Rate'!$AA27)*1000","v":6.4605445316105214},{"$f":"('2015'!P27/'2015 Rate'!$AA27)*1000","v":0},{"$f":"('2015'!Q27/'2015 Rate'!$AA27)*1000","v":2.3073373327180433},{"$f":"('2015'!R27/'2015 Rate'!$AA27)*1000","v":2.3073373327180433},{"$f":"('2015'!S27/'2015 Rate'!$AA27)*1000","v":2.7688047992616522},null,null,null,null,null,{"$f":"('2015'!Y27/'2015 Rate'!$AA27)*1000","v":9.2293493308721733E-2},"Orkney Islands",21670]
[26,"Perth and Kinross",null,{"$f":"('2015'!D28/'2015 Rate'!$AA28)*1000","v":8.4039218301874197},{"$f":"('2015'!E28/'2015 Rate'!$AA28)*1000","v":3.3348896151537386},{"$f":"('2015'!F28/'2015 Rate'!$AA28)*1000","v":4.3286867204695518},{"$f":"('2015'!G28/'2015 Rate'!$AA28)*1000","v":0.7603548322550524},{"$f":"('2015'!H28/'2015 Rate'!$AA28)*1000","v":43.420262789301674},{"$f":"('2015'!I28/'2015 Rate'!$AA28)*1000","v":35.016340959114252},{"$f":"('2015'!J28/'2015 Rate'!$AA28)*1000","v":3.134796238244514},{"$f":"('2015'!K28/'2015 Rate'!$AA28)*1000","v":28.079770559594479},{"$f":"('2015'!L28/'2015 Rate'!$AA28)*1000","v":24.944974321349964},{"$f":"('2015'!M28/'2015 Rate'!$AA28)*1000","v":2.2010271460014672},{"$f":"('2015'!N28/'2015 Rate'!$AA28)*1000","v":9.0708997532181694},{"$f":"('2015'!O28/'2015 Rate'!$AA28)*1000","v":6.8031748149136266},{"$f":"('2015'!P28/'2015 Rate'!$AA28)*1000","v":3.0680984459414393},{"$f":"('2015'!Q28/'2015 Rate'!$AA28)*1000","v":6.3362902687921032},{"$f":"('2015'!R28/'2015 Rate'!$AA28)*1000","v":3.2681918228506635},{"$f":"('2015'!S28/'2015 Rate'!$AA28)*1000","v":18.208497298739413},null,null,null,null,null,{"$f":"('2015'!Y28/'2015 Rate'!$AA28)*1000","v":0.35349829920629627},"Perth & Kinross",149930]
[27,"Renfrewshire",null,{"$f":"('2015'!D29/'2015 Rate'!$AA29)*1000","v":3.3799266727772683},{"$f":"('2015'!E29/'2015 Rate'!$AA29)*1000","v":0.56141154903758017},{"$f":"('2015'!F29/'2015 Rate'!$AA29)*1000","v":2.629468377635197},{"$f":"('2015'!G29/'2015 Rate'!$AA29)*1000","v":0.19477543538038497},{"$f":"('2015'!H29/'2015 Rate'!$AA29)*1000","v":30.992208982584785},{"$f":"('2015'!I29/'2015 Rate'!$AA29)*1000","v":27.612282309807515},{"$f":"('2015'!J29/'2015 Rate'!$AA29)*1000","v":1.1457378551787352},{"$f":"('2015'!K29/'2015 Rate'!$AA29)*1000","v":23.373052245646196},{"$f":"('2015'!L29/'2015 Rate'!$AA29)*1000","v":22.170027497708524},{"$f":"('2015'!M29/'2015 Rate'!$AA29)*1000","v":0.63015582034830431},{"$f":"('2015'!N29/'2015 Rate'!$AA29)*1000","v":4.5256645279560042},{"$f":"('2015'!O29/'2015 Rate'!$AA29)*1000","v":3.8955087076076991},{"$f":"('2015'!P29/'2015 Rate'!$AA29)*1000","v":1.6040329972502292},{"$f":"('2015'!Q29/'2015 Rate'!$AA29)*1000","v":3.1507791017415219},{"$f":"('2015'!R29/'2015 Rate'!$AA29)*1000","v":1.5467461044912925},{"$f":"('2015'!S29/'2015 Rate'!$AA29)*1000","v":4.2965169569202564},null,null,null,null,null,{"$f":"('2015'!Y29/'2015 Rate'!$AA29)*1000","v":0.49266727772685609},"Renfrewshire",174560]
[28,"Scottish Borders",null,{"$f":"('2015'!D30/'2015 Rate'!$AA30)*1000","v":3.8586336928878366},{"$f":"('2015'!E30/'2015 Rate'!$AA30)*1000","v":1.14005086380777},{"$f":"('2015'!F30/'2015 Rate'!$AA30)*1000","v":2.4730334122599316},{"$f":"('2015'!G30/'2015 Rate'!$AA30)*1000","v":0.20170130667368236},{"$f":"('2015'!H30/'2015 Rate'!$AA30)*1000","v":36.218538980969917},{"$f":"('2015'!I30/'2015 Rate'!$AA30)*1000","v":32.447601508374987},{"$f":"('2015'!J30/'2015 Rate'!$AA30)*1000","v":0.78926598263614833},{"$f":"('2015'!K30/'2015 Rate'!$AA30)*1000","v":20.082434447075332},{"$f":"('2015'!L30/'2015 Rate'!$AA30)*1000","v":19.29316846443918},{"$f":"('2015'!M30/'2015 Rate'!$AA30)*1000","v":3.4201525914233097},{"$f":"('2015'!N30/'2015 Rate'!$AA30)*1000","v":13.856002806279049},{"$f":"('2015'!O30/'2015 Rate'!$AA30)*1000","v":10.435850214855739},{"$f":"('2015'!P30/'2015 Rate'!$AA30)*1000","v":-0.4384811014645269},{"$f":"('2015'!Q30/'2015 Rate'!$AA30)*1000","v":2.28010172761554},{"$f":"('2015'!R30/'2015 Rate'!$AA30)*1000","v":2.7185828290800664},{"$f":"('2015'!S30/'2015 Rate'!$AA30)*1000","v":3.9463299131807421},null,null,null,null,null,{"$f":"('2015'!Y30/'2015 Rate'!$AA30)*1000","v":0.24554941682013506},"Scottish Borders",114030]
[29,"Shetland Islands",null,{"$f":"('2015'!D31/'2015 Rate'!$AA31)*1000","v":-1.7241379310344827},{"$f":"('2015'!E31/'2015 Rate'!$AA31)*1000","v":-0.30172413793103448},{"$f":"('2015'!F31/'2015 Rate'!$AA31)*1000","v":0.17241379310344826},{"$f":"('2015'!G31/'2015 Rate'!$AA31)*1000","v":-1.4224137931034484},{"$f":"('2015'!H31/'2015 Rate'!$AA31)*1000","v":30.603448275862068},{"$f":"('2015'!I31/'2015 Rate'!$AA31)*1000","v":31.896551724137932},{"$f":"('2015'!J31/'2015 Rate'!$AA31)*1000","v":-4.3103448275862064},{"$f":"('2015'!K31/'2015 Rate'!$AA31)*1000","v":16.810344827586206},{"$f":"('2015'!L31/'2015 Rate'!$AA31)*1000","v":21.120689655172413},{"$f":"('2015'!M31/'2015 Rate'!$AA31)*1000","v":1.2931034482758621},{"$f":"('2015'!N31/'2015 Rate'!$AA31)*1000","v":9.4827586206896548},{"$f":"('2015'!O31/'2015 Rate'!$AA31)*1000","v":8.1896551724137936},{"$f":"('2015'!P31/'2015 Rate'!$AA31)*1000","v":1.2931034482758621},{"$f":"('2015'!Q31/'2015 Rate'!$AA31)*1000","v":3.8793103448275863},{"$f":"('2015'!R31/'2015 Rate'!$AA31)*1000","v":2.5862068965517242},{"$f":"('2015'!S31/'2015 Rate'!$AA31)*1000","v":12.931034482758621},null,null,null,null,null,{"$f":"('2015'!Y31/'2015 Rate'!$AA31)*1000","v":0.38793103448275862},"Shetland Islands",23200]
[30,"South Ayrshire",null,{"$f":"('2015'!D32/'2015 Rate'!$AA32)*1000","v":2.7580071174377228},{"$f":"('2015'!E32/'2015 Rate'!$AA32)*1000","v":1.6281138790035588},{"$f":"('2015'!F32/'2015 Rate'!$AA32)*1000","v":0.24911032028469751},{"$f":"('2015'!G32/'2015 Rate'!$AA32)*1000","v":0.88967971530249101},{"$f":"('2015'!H32/'2015 Rate'!$AA32)*1000","v":33.362989323843415},{"$f":"('2015'!I32/'2015 Rate'!$AA32)*1000","v":30.604982206405694},{"$f":"('2015'!J32/'2015 Rate'!$AA32)*1000","v":0.97864768683274028},{"$f":"('2015'!K32/'2015 Rate'!$AA32)*1000","v":23.843416370106759},{"$f":"('2015'!L32/'2015 Rate'!$AA32)*1000","v":22.864768683274022},{"$f":"('2015'!M32/'2015 Rate'!$AA32)*1000","v":1.6903914590747331},{"$f":"('2015'!N32/'2015 Rate'!$AA32)*1000","v":7.2064056939501775},{"$f":"('2015'!O32/'2015 Rate'!$AA32)*1000","v":5.604982206405694},{"$f":"('2015'!P32/'2015 Rate'!$AA32)*1000","v":8.8967971530249115E-2},{"$f":"('2015'!Q32/'2015 Rate'!$AA32)*1000","v":2.2241992882562278},{"$f":"('2015'!R32/'2015 Rate'!$AA32)*1000","v":2.1352313167259789},{"$f":"('2015'!S32/'2015 Rate'!$AA32)*1000","v":2.4911032028469751},null,null,null,null,null,{"$f":"('2015'!Y32/'2015 Rate'!$AA32)*1000","v":0.23131672597864769},"South Ayrshire",112400]
[31,"South Lanarkshire",null,{"$f":"('2015'!D33/'2015 Rate'!$AA33)*1000","v":3.2571229801094139},{"$f":"('2015'!E33/'2015 Rate'!$AA33)*1000","v":1.2269550643518958},{"$f":"('2015'!F33/'2015 Rate'!$AA33)*1000","v":1.9479492774246592},{"$f":"('2015'!G33/'2015 Rate'!$AA33)*1000","v":9.4867659614837299E-2},{"$f":"('2015'!H33/'2015 Rate'!$AA33)*1000","v":28.997881288935268},{"$f":"('2015'!I33/'2015 Rate'!$AA33)*1000","v":25.740758308825857},{"$f":"('2015'!J33/'2015 Rate'!$AA33)*1000","v":3.8895740442083295},{"$f":"('2015'!K33/'2015 Rate'!$AA33)*1000","v":23.590424690889542},{"$f":"('2015'!L33/'2015 Rate'!$AA33)*1000","v":19.700850646681214},{"$f":"('2015'!M33/'2015 Rate'!$AA33)*1000","v":-9.4867659614837299E-2},{"$f":"('2015'!N33/'2015 Rate'!$AA33)*1000","v":3.9844417038231663},{"$f":"('2015'!O33/'2015 Rate'!$AA33)*1000","v":4.0793093634380044},{"$f":"('2015'!P33/'2015 Rate'!$AA33)*1000","v":-0.50596085127913237},{"$f":"('2015'!Q33/'2015 Rate'!$AA33)*1000","v":1.4230148942225596},{"$f":"('2015'!R33/'2015 Rate'!$AA33)*1000","v":1.9605982987066375},{"$f":"('2015'!S33/'2015 Rate'!$AA33)*1000","v":2.2452012775511498},null,null,null,null,null,{"$f":"('2015'!Y33/'2015 Rate'!$AA33)*1000","v":0.34784808525440347},"South Lanarkshire",316230]
[32,"Stirling",null,{"$f":"('2015'!D34/'2015 Rate'!$AA34)*1000","v":15.189055262307443},{"$f":"('2015'!E34/'2015 Rate'!$AA34)*1000","v":3.845739523860821},{"$f":"('2015'!F34/'2015 Rate'!$AA34)*1000","v":11.763438543574274},{"$f":"('2015'!G34/'2015 Rate'!$AA34)*1000","v":-0.39857804589033718},{"$f":"('2015'!H34/'2015 Rate'!$AA34)*1000","v":63.987934934827102},{"$f":"('2015'!I34/'2015 Rate'!$AA34)*1000","v":48.798879672519661},{"$f":"('2015'!J34/'2015 Rate'!$AA34)*1000","v":4.4166756436496826},{"$f":"('2015'!K34/'2015 Rate'!$AA34)*1000","v":40.82731875471292},{"$f":"('2015'!L34/'2015 Rate'!$AA34)*1000","v":36.410643111063237},{"$f":"('2015'!M34/'2015 Rate'!$AA34)*1000","v":3.8780566627167943},{"$f":"('2015'!N34/'2015 Rate'!$AA34)*1000","v":11.957341376710117},{"$f":"('2015'!O34/'2015 Rate'!$AA34)*1000","v":8.0792847139933226},{"$f":"('2015'!P34/'2015 Rate'!$AA34)*1000","v":6.8943229559409671},{"$f":"('2015'!Q34/'2015 Rate'!$AA34)*1000","v":11.095551007217495},{"$f":"('2015'!R34/'2015 Rate'!$AA34)*1000","v":4.3089518474631046},{"$f":"('2015'!S34/'2015 Rate'!$AA34)*1000","v":8.0792847139933226},null,null,null,null,null,{"$f":"('2015'!Y34/'2015 Rate'!$AA34)*1000","v":0.29085424970375956},"Stirling",92830]
[33,"West Dunbartonshire",null,{"$f":"('2015'!D35/'2015 Rate'!$AA35)*1000","v":0.89295680321464455},{"$f":"('2015'!E35/'2015 Rate'!$AA35)*1000","v":0.66971760241098344},{"$f":"('2015'!F35/'2015 Rate'!$AA35)*1000","v":0.33485880120549172},{"$f":"('2015'!G35/'2015 Rate'!$AA35)*1000","v":-0.12278156044201363},{"$f":"('2015'!H35/'2015 Rate'!$AA35)*1000","v":28.462998102466791},{"$f":"('2015'!I35/'2015 Rate'!$AA35)*1000","v":27.570041299252146},{"$f":"('2015'!J35/'2015 Rate'!$AA35)*1000","v":1.004576403616475},{"$f":"('2015'!K35/'2015 Rate'!$AA35)*1000","v":23.21687688358076},{"$f":"('2015'!L35/'2015 Rate'!$AA35)*1000","v":22.212300479964281},{"$f":"('2015'!M35/'2015 Rate'!$AA35)*1000","v":0.22323920080366114},{"$f":"('2015'!N35/'2015 Rate'!$AA35)*1000","v":3.9066860140640696},{"$f":"('2015'!O35/'2015 Rate'!$AA35)*1000","v":3.6834468132604088},{"$f":"('2015'!P35/'2015 Rate'!$AA35)*1000","v":-0.33485880120549172},{"$f":"('2015'!Q35/'2015 Rate'!$AA35)*1000","v":1.3394352048219669},{"$f":"('2015'!R35/'2015 Rate'!$AA35)*1000","v":1.6742940060274585},{"$f":"('2015'!S35/'2015 Rate'!$AA35)*1000","v":2.1207724076347803},null,null,null,null,null,{"$f":"('2015'!Y35/'2015 Rate'!$AA35)*1000","v":0.12278156044201363},"West Dunbartonshire",89590]
[34,"West Lothian",null,{"$f":"('2015'!D36/'2015 Rate'!$AA36)*1000","v":4.9845981517782132},{"$f":"('2015'!E36/'2015 Rate'!$AA36)*1000","v":1.6241949033884067},{"$f":"('2015'!F36/'2015 Rate'!$AA36)*1000","v":3.0075609073088772},{"$f":"('2015'!G36/'2015 Rate'!$AA36)*1000","v":0.35284234108092971},{"$f":"('2015'!H36/'2015 Rate'!$AA36)*1000","v":32.03584430131616},{"$f":"('2015'!I36/'2015 Rate'!$AA36)*1000","v":27.051246149537945},{"$f":"('2015'!J36/'2015 Rate'!$AA36)*1000","v":3.5284234108092973},{"$f":"('2015'!K36/'2015 Rate'!$AA36)*1000","v":24.138896667600111},{"$f":"('2015'!L36/'2015 Rate'!$AA36)*1000","v":20.610473256790815},{"$f":"('2015'!M36/'2015 Rate'!$AA36)*1000","v":0.33604032483898066},{"$f":"('2015'!N36/'2015 Rate'!$AA36)*1000","v":4.8165779893587235},{"$f":"('2015'!O36/'2015 Rate'!$AA36)*1000","v":4.4245309437132461},{"$f":"('2015'!P36/'2015 Rate'!$AA36)*1000","v":1.1201344161299356},{"$f":"('2015'!Q36/'2015 Rate'!$AA36)*1000","v":3.1363763651638195},{"$f":"('2015'!R36/'2015 Rate'!$AA36)*1000","v":2.0722486698403806},{"$f":"('2015'!S36/'2015 Rate'!$AA36)*1000","v":4.928591430971716},null,null,null,null,null,{"$f":"('2015'!Y36/'2015 Rate'!$AA36)*1000","v":0.4480537664519742},"West Lothian",178550]
[]
[35,"Not specified"]
[36,"Scotland",null,{"$f":"('2015'!D39/'2015 Rate'!$AA39)*1000","v":5.2112413921459151},{"$f":"('2015'!E39/'2015 Rate'!$AA39)*1000","v":0.76177182207332961},{"$f":"('2015'!F39/'2015 Rate'!$AA39)*1000","v":4.4403498976363291},{"$f":"('2015'!G39/'2015 Rate'!$AA39)*1000","v":3.1639679880885912E-3},{"$f":"('2015'!H39/'2015 Rate'!$AA39)*1000","v":15.819839940442955},{"$f":"('2015'!I39/'2015 Rate'!$AA39)*1000","v":10.60859854829704},{"$f":"'Within Scotland net migration'!M41","v":"[z]"},{"$f":"'Within Scotland in-migration'!M41","v":"[z]"},{"$f":"'Within Scotland out-migration'!M41","v":"[z]"},{"$f":"('2015'!M39/'2015 Rate'!$AA39)*1000","v":1.5633724176437742},{"$f":"('2015'!N39/'2015 Rate'!$AA39)*1000","v":8.7846640610459712},{"$f":"('2015'!O39/'2015 Rate'!$AA39)*1000","v":7.2212916434021963},{"$f":"('2015'!P39/'2015 Rate'!$AA39)*1000","v":3.6478689745021402},{"$f":"('2015'!Q39/'2015 Rate'!$AA39)*1000","v":7.0351758793969852},{"$f":"('2015'!R39/'2015 Rate'!$AA39)*1000","v":3.3873069048948445},null,null,null,null,null,null,null,"SCOTLAND",{"$f":"AA4","v":5373000}]
[37,"Ayrshire and Arran",null,{"$f":"('2015'!D40/'2015 Rate'!$AA40)*1000","v":1.1603119350225317},{"$f":"('2015'!E40/'2015 Rate'!$AA40)*1000","v":0.95793194635581091},{"$f":"('2015'!F40/'2015 Rate'!$AA40)*1000","v":-8.0951995466688256E-3},{"$f":"('2015'!G40/'2015 Rate'!$AA40)*1000","v":0.2185703877600583},{"$f":"('2015'!H40/'2015 Rate'!$AA40)*1000","v":21.641166788094658},{"$f":"('2015'!I40/'2015 Rate'!$AA40)*1000","v":20.480854853072127},{"$f":"('2015'!J40/'2015 Rate'!$AA40)*1000","v":5.3967996977792171E-2},{"$f":"('2015'!K40/'2015 Rate'!$AA40)*1000","v":14.301519199114924},{"$f":"('2015'!L40/'2015 Rate'!$AA40)*1000","v":14.247551202137132},{"$f":"('2015'!M40/'2015 Rate'!$AA40)*1000","v":1.4301519199114925},{"$f":"('2015'!N40/'2015 Rate'!$AA40)*1000","v":5.9904476645349307},{"$f":"('2015'!O40/'2015 Rate'!$AA40)*1000","v":4.5602957446234385},{"$f":"('2015'!P40/'2015 Rate'!$AA40)*1000","v":-0.32380798186675303},{"$f":"('2015'!Q40/'2015 Rate'!$AA40)*1000","v":1.3491999244448043},{"$f":"('2015'!R40/'2015 Rate'!$AA40)*1000","v":1.6730079063115573},null,null,null,null,null,null,null,"Ayrshire & Arran",{"$f":"AA13+AA25+AA32","v":370590}]
[38,"Borders",null,{"$f":"('2015'!D41/'2015 Rate'!$AA41)*1000","v":3.8586336928878366},{"$f":"('2015'!E41/'2015 Rate'!$AA41)*1000","v":1.14005086380777},{"$f":"('2015'!F41/'2015 Rate'!$AA41)*1000","v":2.4730334122599316},{"$f":"('2015'!G41/'2015 Rate'!$AA41)*1000","v":0.20170130667368236},{"$f":"('2015'!H41/'2015 Rate'!$AA41)*1000","v":36.218538980969917},{"$f":"('2015'!I41/'2015 Rate'!$AA41)*1000","v":32.447601508374987},{"$f":"('2015'!J41/'2015 Rate'!$AA41)*1000","v":0.78926598263614833},{"$f":"('2015'!K41/'2015 Rate'!$AA41)*1000","v":20.082434447075332},{"$f":"('2015'!L41/'2015 Rate'!$AA41)*1000","v":19.29316846443918},{"$f":"('2015'!M41/'2015 Rate'!$AA41)*1000","v":3.4201525914233097},{"$f":"('2015'!N41/'2015 Rate'!$AA41)*1000","v":13.856002806279049},{"$f":"('2015'!O41/'2015 Rate'!$AA41)*1000","v":10.435850214855739},{"$f":"('2015'!P41/'2015 Rate'!$AA41)*1000","v":-0.4384811014645269},{"$f":"('2015'!Q41/'2015 Rate'!$AA41)*1000","v":2.28010172761554},{"$f":"('2015'!R41/'2015 Rate'!$AA41)*1000","v":2.7185828290800664},null,null,null,null,null,null,null,"Borders",{"$f":"AA30","v":114030}]
[39,"Dumfries and Galloway",null,{"$f":"('2015'!D42/'2015 Rate'!$AA42)*1000","v":2.2048506714772502},{"$f":"('2015'!E42/'2015 Rate'!$AA42)*1000","v":0.49442105966459543},{"$f":"('2015'!F42/'2015 Rate'!$AA42)*1000","v":1.3763613282554954},{"$f":"('2015'!G42/'2015 Rate'!$AA42)*1000","v":0.33406828355715906},{"$f":"('2015'!H42/'2015 Rate'!$AA42)*1000","v":26.257767087592704},{"$f":"('2015'!I42/'2015 Rate'!$AA42)*1000","v":24.052916416115455},{"$f":"('2015'!J42/'2015 Rate'!$AA42)*1000","v":-0.66813656711431813},{"$f":"('2015'!K42/'2015 Rate'!$AA42)*1000","v":11.558762611077704},{"$f":"('2015'!L42/'2015 Rate'!$AA42)*1000","v":12.293712834903454},{"$f":"('2015'!M42/'2015 Rate'!$AA42)*1000","v":3.4074964922830229},{"$f":"('2015'!N42/'2015 Rate'!$AA42)*1000","v":12.761408431883478},{"$f":"('2015'!O42/'2015 Rate'!$AA42)*1000","v":9.4207255963118861},{"$f":"('2015'!P42/'2015 Rate'!$AA42)*1000","v":-0.46769559698002272},{"$f":"('2015'!Q42/'2015 Rate'!$AA42)*1000","v":1.8707823879200909},{"$f":"('2015'!R42/'2015 Rate'!$AA42)*1000","v":2.3384779849001136},null,null,null,null,null,null,null,"Dumfries & Galloway",{"$f":"AA11","v":149670}]
[40,"Fife",null,{"$f":"('2015'!D43/'2015 Rate'!$AA43)*1000","v":3.341664855466203},{"$f":"('2015'!E43/'2015 Rate'!$AA43)*1000","v":0.75798739404477289},{"$f":"('2015'!F43/'2015 Rate'!$AA43)*1000","v":2.4478374266463816},{"$f":"('2015'!G43/'2015 Rate'!$AA43)*1000","v":0.13040643338404695},{"$f":"('2015'!H43/'2015 Rate'!$AA43)*1000","v":30.672679852206045},{"$f":"('2015'!I43/'2015 Rate'!$AA43)*1000","v":27.331014996739842},{"$f":"('2015'!J43/'2015 Rate'!$AA43)*1000","v":-0.19017604868506846},{"$f":"('2015'!K43/'2015 Rate'!$AA43)*1000","v":17.360356444251252},{"$f":"('2015'!L43/'2015 Rate'!$AA43)*1000","v":17.550532492936316},{"$f":"('2015'!M43/'2015 Rate'!$AA43)*1000","v":1.2768963268854596},{"$f":"('2015'!N43/'2015 Rate'!$AA43)*1000","v":8.0960660725929152},{"$f":"('2015'!O43/'2015 Rate'!$AA43)*1000","v":6.8191697457074545},{"$f":"('2015'!P43/'2015 Rate'!$AA43)*1000","v":2.2549445772658117},{"$f":"('2015'!Q43/'2015 Rate'!$AA43)*1000","v":5.2162573353618784},{"$f":"('2015'!R43/'2015 Rate'!$AA43)*1000","v":2.9613127580960663},null,null,null,null,null,null,null,"Fife",{"$f":"AA18","v":368080}]
[41,"Forth Valley",null,{"$f":"('2015'!D44/'2015 Rate'!$AA44)*1000","v":7.5664959524202873},{"$f":"('2015'!E44/'2015 Rate'!$AA44)*1000","v":1.6322484718321493},{"$f":"('2015'!F44/'2015 Rate'!$AA44)*1000","v":5.6633074508508177},{"$f":"('2015'!G44/'2015 Rate'!$AA44)*1000","v":0.26433173632909301},{"$f":"('2015'!H44/'2015 Rate'!$AA44)*1000","v":34.924830662481412},{"$f":"('2015'!I44/'2015 Rate'!$AA44)*1000","v":27.358334710061126},{"$f":"('2015'!J44/'2015 Rate'!$AA44)*1000","v":2.8746076325788863},{"$f":"('2015'!K44/'2015 Rate'!$AA44)*1000","v":22.864695192466549},{"$f":"('2015'!L44/'2015 Rate'!$AA44)*1000","v":19.957046092846522},{"$f":"('2015'!M44/'2015 Rate'!$AA44)*1000","v":2.1807368247150172},{"$f":"('2015'!N44/'2015 Rate'!$AA44)*1000","v":7.1039154138443745},{"$f":"('2015'!O44/'2015 Rate'!$AA44)*1000","v":4.9231785891293578},{"$f":"('2015'!P44/'2015 Rate'!$AA44)*1000","v":2.5111514951263834},{"$f":"('2015'!Q44/'2015 Rate'!$AA44)*1000","v":4.9892615232116304},{"$f":"('2015'!R44/'2015 Rate'!$AA44)*1000","v":2.4781100280852471},null,null,null,null,null,null,null,"Forth Valley",{"$f":"AA10+AA17+AA34","v":302650}]
[42,"Grampian",null,{"$f":"('2015'!D45/'2015 Rate'!$AA45)*1000","v":4.2189785988908168},{"$f":"('2015'!E45/'2015 Rate'!$AA45)*1000","v":0.42870266408084107},{"$f":"('2015'!F45/'2015 Rate'!$AA45)*1000","v":4.4112143173080192},{"$f":"('2015'!G45/'2015 Rate'!$AA45)*1000","v":-0.61923718145010376},{"$f":"('2015'!H45/'2015 Rate'!$AA45)*1000","v":32.663060120445039},{"$f":"('2015'!I45/'2015 Rate'!$AA45)*1000","v":28.444081521554217},{"$f":"('2015'!J45/'2015 Rate'!$AA45)*1000","v":-1.7012010479398456},{"$f":"('2015'!K45/'2015 Rate'!$AA45)*1000","v":13.167296111054403},{"$f":"('2015'!L45/'2015 Rate'!$AA45)*1000","v":14.86849715899425},{"$f":"('2015'!M45/'2015 Rate'!$AA45)*1000","v":0.25518015719097686},{"$f":"('2015'!N45/'2015 Rate'!$AA45)*1000","v":9.2885577217515571},{"$f":"('2015'!O45/'2015 Rate'!$AA45)*1000","v":9.0333775645605794},{"$f":"('2015'!P45/'2015 Rate'!$AA45)*1000","v":5.6479874791602871},{"$f":"('2015'!Q45/'2015 Rate'!$AA45)*1000","v":10.207206287639075},{"$f":"('2015'!R45/'2015 Rate'!$AA45)*1000","v":4.5592188084787857},null,null,null,null,null,null,null,"Grampian",{"$f":"AA5+AA6+AA23","v":587820}]
[43,"Greater Glasgow and Clyde",null,{"$f":"('2015'!D46/'2015 Rate'!$AA46)*1000","v":6.56584542869318},{"$f":"('2015'!E46/'2015 Rate'!$AA46)*1000","v":0.47482802702867233},{"$f":"('2015'!F46/'2015 Rate'!$AA46)*1000","v":6.1892876709946165},{"$f":"('2015'!G46/'2015 Rate'!$AA46)*1000","v":-9.827026933010985E-2},{"$f":"('2015'!H46/'2015 Rate'!$AA46)*1000","v":32.73356581933924},{"$f":"('2015'!I46/'2015 Rate'!$AA46)*1000","v":26.167720390646064},{"$f":"('2015'!J46/'2015 Rate'!$AA46)*1000","v":-0.92182730522049938},{"$f":"('2015'!K46/'2015 Rate'!$AA46)*1000","v":15.018827887884926},{"$f":"('2015'!L46/'2015 Rate'!$AA46)*1000","v":15.940655193105428},{"$f":"('2015'!M46/'2015 Rate'!$AA46)*1000","v":1.2783831496925793},{"$f":"('2015'!N46/'2015 Rate'!$AA46)*1000","v":7.8007461583281881},{"$f":"('2015'!O46/'2015 Rate'!$AA46)*1000","v":6.5223630086356081},{"$f":"('2015'!P46/'2015 Rate'!$AA46)*1000","v":6.2092895842210991},{"$f":"('2015'!Q46/'2015 Rate'!$AA46)*1000","v":9.92268825713764},{"$f":"('2015'!R46/'2015 Rate'!$AA46)*1000","v":3.71339867291654},null,null,null,null,null,null,null,"Greater Glasgow & Clyde",{"$f":"AA16+AA21+AA29+AA35+AA14+AA19","v":1149890}]
[44,"Highland",null,{"$f":"('2015'!D47/'2015 Rate'!$AA47)*1000","v":2.7414330218068539},{"$f":"('2015'!E47/'2015 Rate'!$AA47)*1000","v":1.1370716510903425},{"$f":"('2015'!F47/'2015 Rate'!$AA47)*1000","v":1.9345794392523363},{"$f":"('2015'!G47/'2015 Rate'!$AA47)*1000","v":-0.32398753894080995},{"$f":"('2015'!H47/'2015 Rate'!$AA47)*1000","v":35.233644859813083},{"$f":"('2015'!I47/'2015 Rate'!$AA47)*1000","v":32.492211838006234},{"$f":"('2015'!J47/'2015 Rate'!$AA47)*1000","v":-1.4641744548286604},{"$f":"('2015'!K47/'2015 Rate'!$AA47)*1000","v":19.563862928348911},{"$f":"('2015'!L47/'2015 Rate'!$AA47)*1000","v":21.028037383177569},{"$f":"('2015'!M47/'2015 Rate'!$AA47)*1000","v":3.4579439252336446},{"$f":"('2015'!N47/'2015 Rate'!$AA47)*1000","v":11.900311526479751},{"$f":"('2015'!O47/'2015 Rate'!$AA47)*1000","v":8.4423676012461062},{"$f":"('2015'!P47/'2015 Rate'!$AA47)*1000","v":0.74766355140186913},{"$f":"('2015'!Q47/'2015 Rate'!$AA47)*1000","v":3.8006230529595015},{"$f":"('2015'!R47/'2015 Rate'!$AA47)*1000","v":3.0218068535825546},null,null,null,null,null,null,null,"Highland",{"$f":"AA20+AA8","v":321000}]
[45,"Lanarkshire",null,{"$f":"('2015'!D48/'2015 Rate'!$AA48)*1000","v":1.7876514538037249},{"$f":"('2015'!E48/'2015 Rate'!$AA48)*1000","v":0.7563140766092683},{"$f":"('2015'!F48/'2015 Rate'!$AA48)*1000","v":0.89688154135280906},{"$f":"('2015'!G48/'2015 Rate'!$AA48)*1000","v":0.14056746474354076},{"$f":"('2015'!H48/'2015 Rate'!$AA48)*1000","v":21.619887240446761},{"$f":"('2015'!I48/'2015 Rate'!$AA48)*1000","v":19.832235786643036},{"$f":"('2015'!J48/'2015 Rate'!$AA48)*1000","v":1.6501398035111308},{"$f":"('2015'!K48/'2015 Rate'!$AA48)*1000","v":16.256932879035585},{"$f":"('2015'!L48/'2015 Rate'!$AA48)*1000","v":14.606793075524454},{"$f":"('2015'!M48/'2015 Rate'!$AA48)*1000","v":0.13751165029259424},{"$f":"('2015'!N48/'2015 Rate'!$AA48)*1000","v":3.7280936301547771},{"$f":"('2015'!O48/'2015 Rate'!$AA48)*1000","v":3.5753029076074498},{"$f":"('2015'!P48/'2015 Rate'!$AA48)*1000","v":0},{"$f":"('2015'!Q48/'2015 Rate'!$AA48)*1000","v":1.6501398035111308},{"$f":"('2015'!R48/'2015 Rate'!$AA48)*1000","v":1.6348607312563981},null,null,null,null,null,null,null,"Lanarkshire",{"$f":"AA26+AA33","v":654490}]
[46,"Lothian",null,{"$f":"('2015'!D49/'2015 Rate'!$AA49)*1000","v":10.486287162940769},{"$f":"('2015'!E49/'2015 Rate'!$AA49)*1000","v":0.58077898133210415},{"$f":"('2015'!F49/'2015 Rate'!$AA49)*1000","v":9.7084581700852741},{"$f":"('2015'!G49/'2015 Rate'!$AA49)*1000","v":0.19589767227471766},{"$f":"('2015'!H49/'2015 Rate'!$AA49)*1000","v":41.380502419912425},{"$f":"('2015'!I49/'2015 Rate'!$AA49)*1000","v":30.894215256971652},{"$f":"('2015'!J49/'2015 Rate'!$AA49)*1000","v":0.48398248444342018},{"$f":"('2015'!K49/'2015 Rate'!$AA49)*1000","v":15.740954136897905},{"$f":"('2015'!L49/'2015 Rate'!$AA49)*1000","v":15.256971652454482},{"$f":"('2015'!M49/'2015 Rate'!$AA49)*1000","v":2.6388568794653144},{"$f":"('2015'!N49/'2015 Rate'!$AA49)*1000","v":13.194284397326573},{"$f":"('2015'!O49/'2015 Rate'!$AA49)*1000","v":10.555427517861258},{"$f":"('2015'!P49/'2015 Rate'!$AA49)*1000","v":7.3519244065452876},{"$f":"('2015'!Q49/'2015 Rate'!$AA49)*1000","v":12.433740493201199},{"$f":"('2015'!R49/'2015 Rate'!$AA49)*1000","v":5.0818160866559117},null,null,null,null,null,null,null,"Lothian",{"$f":"AA15+AA9+AA22+AA36","v":867800}]
[47,"Orkney",null,{"$f":"('2015'!D50/'2015 Rate'!$AA50)*1000","v":4.6146746654360866},{"$f":"('2015'!E50/'2015 Rate'!$AA50)*1000","v":1.6151361329026304},{"$f":"('2015'!F50/'2015 Rate'!$AA50)*1000","v":2.9072450392247347},{"$f":"('2015'!G50/'2015 Rate'!$AA50)*1000","v":9.2293493308721733E-2},{"$f":"('2015'!H50/'2015 Rate'!$AA50)*1000","v":32.764190124596212},{"$f":"('2015'!I50/'2015 Rate'!$AA50)*1000","v":28.149515459160131},{"$f":"('2015'!J50/'2015 Rate'!$AA50)*1000","v":-1.8458698661744346},{"$f":"('2015'!K50/'2015 Rate'!$AA50)*1000","v":17.99723119520074},{"$f":"('2015'!L50/'2015 Rate'!$AA50)*1000","v":19.381633594831566},{"$f":"('2015'!M50/'2015 Rate'!$AA50)*1000","v":5.9990770650669134},{"$f":"('2015'!N50/'2015 Rate'!$AA50)*1000","v":12.459621596677433},{"$f":"('2015'!O50/'2015 Rate'!$AA50)*1000","v":6.4605445316105214},{"$f":"('2015'!P50/'2015 Rate'!$AA50)*1000","v":0},{"$f":"('2015'!Q50/'2015 Rate'!$AA50)*1000","v":2.3073373327180433},{"$f":"('2015'!R50/'2015 Rate'!$AA50)*1000","v":2.3073373327180433},null,null,null,null,null,null,null,"Orkney",{"$f":"AA27","v":21670}]
[48,"Shetland",null,{"$f":"('2015'!D51/'2015 Rate'!$AA51)*1000","v":-1.7241379310344827},{"$f":"('2015'!E51/'2015 Rate'!$AA51)*1000","v":-0.30172413793103448},{"$f":"('2015'!F51/'2015 Rate'!$AA51)*1000","v":0.17241379310344826},{"$f":"('2015'!G51/'2015 Rate'!$AA51)*1000","v":-1.4224137931034484},{"$f":"('2015'!H51/'2015 Rate'!$AA51)*1000","v":30.603448275862068},{"$f":"('2015'!I51/'2015 Rate'!$AA51)*1000","v":31.896551724137932},{"$f":"('2015'!J51/'2015 Rate'!$AA51)*1000","v":-4.3103448275862064},{"$f":"('2015'!K51/'2015 Rate'!$AA51)*1000","v":16.810344827586206},{"$f":"('2015'!L51/'2015 Rate'!$AA51)*1000","v":21.120689655172413},{"$f":"('2015'!M51/'2015 Rate'!$AA51)*1000","v":1.2931034482758621},{"$f":"('2015'!N51/'2015 Rate'!$AA51)*1000","v":9.4827586206896548},{"$f":"('2015'!O51/'2015 Rate'!$AA51)*1000","v":8.1896551724137936},{"$f":"('2015'!P51/'2015 Rate'!$AA51)*1000","v":1.2931034482758621},{"$f":"('2015'!Q51/'2015 Rate'!$AA51)*1000","v":3.8793103448275863},{"$f":"('2015'!R51/'2015 Rate'!$AA51)*1000","v":2.5862068965517242},null,null,null,null,null,null,null,"Shetland",{"$f":"AA31","v":23200}]
[49,"Tayside",null,{"$f":"('2015'!D52/'2015 Rate'!$AA52)*1000","v":4.8429067077872014},{"$f":"('2015'!E52/'2015 Rate'!$AA52)*1000","v":1.3227640709329223},{"$f":"('2015'!F52/'2015 Rate'!$AA52)*1000","v":3.2912490362374709},{"$f":"('2015'!G52/'2015 Rate'!$AA52)*1000","v":0.22648419429452582},{"$f":"('2015'!H52/'2015 Rate'!$AA52)*1000","v":34.478604471858134},{"$f":"('2015'!I52/'2015 Rate'!$AA52)*1000","v":29.659791827293756},{"$f":"('2015'!J52/'2015 Rate'!$AA52)*1000","v":0.93966846569005391},{"$f":"('2015'!K52/'2015 Rate'!$AA52)*1000","v":19.805319969159598},{"$f":"('2015'!L52/'2015 Rate'!$AA52)*1000","v":18.865651503469543},{"$f":"('2015'!M52/'2015 Rate'!$AA52)*1000","v":1.1806090979182728},{"$f":"('2015'!N52/'2015 Rate'!$AA52)*1000","v":8.3606399383191974},{"$f":"('2015'!O52/'2015 Rate'!$AA52)*1000","v":7.1800308404009252},{"$f":"('2015'!P52/'2015 Rate'!$AA52)*1000","v":2.6985350809560522},{"$f":"('2015'!Q52/'2015 Rate'!$AA52)*1000","v":6.3367386276021591},{"$f":"('2015'!R52/'2015 Rate'!$AA52)*1000","v":3.6141094834232845},null,null,null,null,null,null,null,"Tayside",{"$f":"AA28+AA7+AA12","v":415040}]
[50,"Western Isles",null,{"$f":"('2015'!D53/'2015 Rate'!$AA53)*1000","v":-0.36941263391207979},{"$f":"('2015'!E53/'2015 Rate'!$AA53)*1000","v":0.8127077946065755},{"$f":"('2015'!F53/'2015 Rate'!$AA53)*1000","v":-0.66494274104174367},{"$f":"('2015'!G53/'2015 Rate'!$AA53)*1000","v":-0.33247137052087183},{"$f":"('2015'!H53/'2015 Rate'!$AA53)*1000","v":32.508311784263022},{"$f":"('2015'!I53/'2015 Rate'!$AA53)*1000","v":32.877724418175106},{"$f":"('2015'!J53/'2015 Rate'!$AA53)*1000","v":-1.847063169560399},{"$f":"('2015'!K53/'2015 Rate'!$AA53)*1000","v":22.164758034724787},{"$f":"('2015'!L53/'2015 Rate'!$AA53)*1000","v":24.011821204285184},{"$f":"('2015'!M53/'2015 Rate'!$AA53)*1000","v":1.4776505356483192},{"$f":"('2015'!N53/'2015 Rate'!$AA53)*1000","v":8.1270779460657554},{"$f":"('2015'!O53/'2015 Rate'!$AA53)*1000","v":6.6494274104174362},{"$f":"('2015'!P53/'2015 Rate'!$AA53)*1000","v":0},{"$f":"('2015'!Q53/'2015 Rate'!$AA53)*1000","v":2.2164758034724787},{"$f":"('2015'!R53/'2015 Rate'!$AA53)*1000","v":1.847063169560399},null,null,null,null,null,null,null,"Western Isles",{"$f":"AA24","v":27070}]

{"sheet":"2016","index":48,"n_rows":53,"n_cols":25,"rows_kept":53,"cut":false,"hidden":true,"merged":[]}
[null,2016]
[null,null,"Not specified ",{"$f":"'Comparing Indicators'!$U8","v":"Total net migration"},{"$f":"'Comparing Indicators'!$U9","v":"Total net migration for ages 0-15"},{"$f":"'Comparing Indicators'!$U10","v":"Total net migration for ages 16-64"},{"$f":"'Comparing Indicators'!$U11","v":"Total net migration for people aged 65+"},{"$f":"'Comparing Indicators'!$U12","v":"Total in-migration"},{"$f":"'Comparing Indicators'!$U13","v":"Total out-migration"},{"$f":"'Comparing Indicators'!$U14","v":"Within Scotland net migration"},{"$f":"'Comparing Indicators'!$U15","v":"Within Scotland in-migration"},{"$f":"'Comparing Indicators'!$U16","v":"Within Scotland out-migration"},{"$f":"'Comparing Indicators'!$U17","v":"Rest of UK net migration"},{"$f":"'Comparing Indicators'!$U18","v":"Rest of UK in-migration"},{"$f":"'Comparing Indicators'!$U19","v":"Rest of UK out-migration"},{"$f":"'Comparing Indicators'!$U20","v":"International net migration"},{"$f":"'Comparing Indicators'!$U21","v":"International in-migration"},{"$f":"'Comparing Indicators'!$U22","v":"International out-migration"},{"$f":"'Comparing Indicators'!$U23","v":"NINo Allocation"},{"$f":"'Comparing Indicators'!$U24","v":"Births to non-UK mothers"},{"$f":"'Comparing Indicators'!$U25","v":"Pupils from a minority ethnic group"},{"$f":"'Comparing Indicators'!$U26","v":"Pupils with English as an additional language"},{"$f":"'Comparing Indicators'!$U27","v":"Population born outside the UK"},{"$f":"'Comparing Indicators'!$U28","v":"Population with non-British nationality"},{"$f":"'Comparing Indicators'!$U29","v":"Citizenships"}]
[1,"Not specified"]
[2,"Scotland",null,{"$f":"'Total net migration'!N6","v":31700},{"$f":"'Total net migration 0-15'!N6","v":5201},{"$f":"'Total net migration 16-64'!N6","v":26475},{"$f":"'Total net migration 65+'!N6","v":17},{"$f":"'Total in-migration'!N6","v":86700},{"$f":"'Total out-migration'!N6","v":55000},{"$f":"'Within Scotland net migration'!N6","v":"[z]"},{"$f":"'Within Scotland in-migration'!N6","v":"[z]"},{"$f":"'Within Scotland out-migration'!N6","v":"[z]"},{"$f":"'Rest of UK net migration'!N6","v":8800},{"$f":"'Rest of UK in-migration'!N6","v":46300},{"$f":"'Rest of UK out-migration'!N6","v":37500},{"$f":"'International net migration'!N6","v":22900},{"$f":"'International in-migration'!N6","v":40400},{"$f":"'International out-migration'!N6","v":17500},{"$f":"NINo!N6","v":45200},{"$f":"'Births to non-UK mothers'!N6","v":9291},{"$f":"'Pupils'' ethnic group (TS)'!O6","v":47906},{"$f":"'Pupils with English as an add.'!L6","v":39331},{"$f":"'Pop born outside UK'!N6","v":457000},{"$f":"'Non-British Population'!N6","v":337000},{"$f":"Citizenships!N6","v":4462}]
[3,"Aberdeen City",null,{"$f":"'Total net migration'!N7","v":-970},{"$f":"'Total net migration 0-15'!N7","v":-318},{"$f":"'Total net migration 16-64'!N7","v":-531},{"$f":"'Total net migration 65+'!N7","v":-120},{"$f":"'Total in-migration'!N7","v":12310},{"$f":"'Total out-migration'!N7","v":13270},{"$f":"'Within Scotland net migration'!N7","v":-2660},{"$f":"'Within Scotland in-migration'!N7","v":6180},{"$f":"'Within Scotland out-migration'!N7","v":8840},{"$f":"'Rest of UK net migration'!N7","v":-780},{"$f":"'Rest of UK in-migration'!N7","v":1970},{"$f":"'Rest of UK out-migration'!N7","v":2750},{"$f":"'International net migration'!N7","v":2470},{"$f":"'International in-migration'!N7","v":4160},{"$f":"'International out-migration'!N7","v":1680},{"$f":"NINo!N7","v":4140},{"$f":"'Births to non-UK mothers'!N7","v":988},{"$f":"'Pupils'' ethnic group (TS)'!O7","v":3014},{"$f":"'Pupils with English as an add.'!L7","v":3459},{"$f":"'Pop born outside UK'!N7","v":48000},{"$f":"'Non-British Population'!N7","v":43000},{"$f":"Citizenships!N7","v":650}]
[4,"Aberdeenshire",null,{"$f":"'Total net migration'!N8","v":-350},{"$f":"'Total net migration 0-15'!N8","v":120},{"$f":"'Total net migration 16-64'!N8","v":-358},{"$f":"'Total net migration 65+'!N8","v":-116},{"$f":"'Total in-migration'!N8","v":8160},{"$f":"'Total out-migration'!N8","v":8510},{"$f":"'Within Scotland net migration'!N8","v":-70},{"$f":"'Within Scotland in-migration'!N8","v":5940},{"$f":"'Within Scotland out-migration'!N8","v":6000},{"$f":"'Rest of UK net migration'!N8","v":-600},{"$f":"'Rest of UK in-migration'!N8","v":1240},{"$f":"'Rest of UK out-migration'!N8","v":1850},{"$f":"'International net migration'!N8","v":320},{"$f":"'International in-migration'!N8","v":980},{"$f":"'International out-migration'!N8","v":660},{"$f":"NINo!N8","v":1450},{"$f":"'Births to non-UK mothers'!N8","v":454},{"$f":"'Pupils'' ethnic group (TS)'!O8","v":1100},{"$f":"'Pupils with English as an add.'!L8","v":1671},{"$f":"'Pop born outside UK'!N8","v":23000},{"$f":"'Non-British Population'!N8","v":16000},{"$f":"Citizenships!N8","v":193}]
[5,"Angus",null,{"$f":"'Total net migration'!N9","v":70},{"$f":"'Total net migration 0-15'!N9","v":59},{"$f":"'Total net migration 16-64'!N9","v":18},{"$f":"'Total net migration 65+'!N9","v":-9},{"$f":"'Total in-migration'!N9","v":3910},{"$f":"'Total out-migration'!N9","v":3840},{"$f":"'Within Scotland net migration'!N9","v":70},{"$f":"'Within Scotland in-migration'!N9","v":2940},{"$f":"'Within Scotland out-migration'!N9","v":2880},{"$f":"'Rest of UK net migration'!N9","v":-70},{"$f":"'Rest of UK in-migration'!N9","v":620},{"$f":"'Rest of UK out-migration'!N9","v":690},{"$f":"'International net migration'!N9","v":70},{"$f":"'International in-migration'!N9","v":350},{"$f":"'International out-migration'!N9","v":270},{"$f":"NINo!N9","v":1180},{"$f":"'Births to non-UK mothers'!N9","v":139},{"$f":"'Pupils'' ethnic group (TS)'!O9","v":402},{"$f":"'Pupils with English as an add.'!L9","v":527},{"$f":"'Pop born outside UK'!N9","v":6000},{"$f":"'Non-British Population'!N9","v":4000},{"$f":"Citizenships!N9","v":30}]
[6,"Argyll and Bute",null,{"$f":"'Total net migration'!N10","v":230},{"$f":"'Total net migration 0-15'!N10","v":131},{"$f":"'Total net migration 16-64'!N10","v":278},{"$f":"'Total net migration 65+'!N10","v":-175},{"$f":"'Total in-migration'!N10","v":4110},{"$f":"'Total out-migration'!N10","v":3880},{"$f":"'Within Scotland net migration'!N10","v":-280},{"$f":"'Within Scotland in-migration'!N10","v":2390},{"$f":"'Within Scotland out-migration'!N10","v":2670},{"$f":"'Rest of UK net migration'!N10","v":480},{"$f":"'Rest of UK in-migration'!N10","v":1370},{"$f":"'Rest of UK out-migration'!N10","v":890},{"$f":"'International net migration'!N10","v":40},{"$f":"'International in-migration'!N10","v":350},{"$f":"'International out-migration'!N10","v":310},{"$f":"NINo!N10","v":560},{"$f":"'Births to non-UK mothers'!N10","v":87},{"$f":"'Pupils'' ethnic group (TS)'!O10","v":288},{"$f":"'Pupils with English as an add.'!L10","v":214},{"$f":"'Pop born outside UK'!N10","v":5000},{"$f":"'Non-British Population'!N10","v":3000},{"$f":"Citizenships!N10","v":30}]
[7,"City of Edinburgh",null,{"$f":"'Total net migration'!N11","v":7660},{"$f":"'Total net migration 0-15'!N11","v":226},{"$f":"'Total net migration 16-64'!N11","v":7365},{"$f":"'Total net migration 65+'!N11","v":68},{"$f":"'Total in-migration'!N11","v":32390},{"$f":"'Total out-migration'!N11","v":24730},{"$f":"'Within Scotland net migration'!N11","v":-1480},{"$f":"'Within Scotland in-migration'!N11","v":12290},{"$f":"'Within Scotland out-migration'!N11","v":13770},{"$f":"'Rest of UK net migration'!N11","v":2350},{"$f":"'Rest of UK in-migration'!N11","v":9630},{"$f":"'Rest of UK out-migration'!N11","v":7280},{"$f":"'International net migration'!N11","v":6790},{"$f":"'International in-migration'!N11","v":10470},{"$f":"'International out-migration'!N11","v":3680},{"$f":"NINo!N11","v":12000},{"$f":"'Births to non-UK mothers'!N11","v":1836},{"$f":"'Pupils'' ethnic group (TS)'!O11","v":7474},{"$f":"'Pupils with English as an add.'!L11","v":6096},{"$f":"'Pop born outside UK'!N11","v":90000},{"$f":"'Non-British Population'!N11","v":69000},{"$f":"Citizenships!N11","v":952}]
[8,"Clackmannanshire",null,{"$f":"'Total net migration'!N12","v":10},{"$f":"'Total net migration 0-15'!N12","v":70},{"$f":"'Total net migration 16-64'!N12","v":-53},{"$f":"'Total net migration 65+'!N12","v":-5},{"$f":"'Total in-migration'!N12","v":1760},{"$f":"'Total out-migration'!N12","v":1750},{"$f":"'Within Scotland net migration'!N12","v":-110},{"$f":"'Within Scotland in-migration'!N12","v":1310},{"$f":"'Within Scotland out-migration'!N12","v":1420},{"$f":"'Rest of UK net migration'!N12","v":60},{"$f":"'Rest of UK in-migration'!N12","v":290},{"$f":"'Rest of UK out-migration'!N12","v":230},{"$f":"'International net migration'!N12","v":60},{"$f":"'International in-migration'!N12","v":160},{"$f":"'International out-migration'!N12","v":90},{"$f":"NINo!N12","v":140},{"$f":"'Births to non-UK mothers'!N12","v":41},{"$f":"'Pupils'' ethnic group (TS)'!O12","v":217},{"$f":"'Pupils with English as an add.'!L12","v":179},{"$f":"'Pop born outside UK'!N12","v":4000},{"$f":"'Non-British Population'!N12","v":2000},{"$f":"Citizenships!N12","v":10}]
[9,"Dumfries and Galloway",null,{"$f":"'Total net migration'!N13","v":390},{"$f":"'Total net migration 0-15'!N13","v":164},{"$f":"'Total net migration 16-64'!N13","v":229},{"$f":"'Total net migration 65+'!N13","v":1},{"$f":"'Total in-migration'!N13","v":3880},{"$f":"'Total out-migration'!N13","v":3490},{"$f":"'Within Scotland net migration'!N13","v":-180},{"$f":"'Within Scotland in-migration'!N13","v":1680},{"$f":"'Within Scotland out-migration'!N13","v":1860},{"$f":"'Rest of UK net migration'!N13","v":560},{"$f":"'Rest of UK in-migration'!N13","v":1870},{"$f":"'Rest of UK out-migration'!N13","v":1310},{"$f":"'International net migration'!N13","v":10},{"$f":"'International in-migration'!N13","v":340},{"$f":"'International out-migration'!N13","v":330},{"$f":"NINo!N13","v":380},{"$f":"'Births to non-UK mothers'!N13","v":96},{"$f":"'Pupils'' ethnic group (TS)'!O13","v":422},{"$f":"'Pupils with English as an add.'!L13","v":395},{"$f":"'Pop born outside UK'!N13","v":6000},{"$f":"'Non-British Population'!N13","v":3000},{"$f":"Citizenships!N13","v":41}]
[10,"Dundee City",null,{"$f":"'Total net migration'!N14","v":180},{"$f":"'Total net migration 0-15'!N14","v":-62},{"$f":"'Total net migration 16-64'!N14","v":244},{"$f":"'Total net migration 65+'!N14","v":-5},{"$f":"'Total in-migration'!N14","v":6870},{"$f":"'Total out-migration'!N14","v":6700},{"$f":"'Within Scotland net migration'!N14","v":-610},{"$f":"'Within Scotland in-migration'!N14","v":4170},{"$f":"'Within Scotland out-migration'!N14","v":4780},{"$f":"'Rest of UK net migration'!N14","v":-20},{"$f":"'Rest of UK in-migration'!N14","v":1260},{"$f":"'Rest of UK out-migration'!N14","v":1280},{"$f":"'International net migration'!N14","v":800},{"$f":"'International in-migration'!N14","v":1440},{"$f":"'International out-migration'!N14","v":640},{"$f":"NINo!N14","v":1340},{"$f":"'Births to non-UK mothers'!N14","v":307},{"$f":"'Pupils'' ethnic group (TS)'!O14","v":1684},{"$f":"'Pupils with English as an add.'!L14","v":1195},{"$f":"'Pop born outside UK'!N14","v":12000},{"$f":"'Non-British Population'!N14","v":10000},{"$f":"Citizenships!N14","v":128}]
[11,"East Ayrshire",null,{"$f":"'Total net migration'!N15","v":150},{"$f":"'Total net migration 0-15'!N15","v":101},{"$f":"'Total net migration 16-64'!N15","v":17},{"$f":"'Total net migration 65+'!N15","v":33},{"$f":"'Total in-migration'!N15","v":3390},{"$f":"'Total out-migration'!N15","v":3240},{"$f":"'Within Scotland net migration'!N15","v":60},{"$f":"'Within Scotland in-migration'!N15","v":2670},{"$f":"'Within Scotland out-migration'!N15","v":2610},{"$f":"'Rest of UK net migration'!N15","v":130},{"$f":"'Rest of UK in-migration'!N15","v":600},{"$f":"'Rest of UK out-migration'!N15","v":480},{"$f":"'International net migration'!N15","v":-40},{"$f":"'International in-migration'!N15","v":110},{"$f":"'International out-migration'!N15","v":150},{"$f":"NINo!N15","v":160},{"$f":"'Births to non-UK mothers'!N15","v":57},{"$f":"'Pupils'' ethnic group (TS)'!O15","v":411},{"$f":"'Pupils with English as an add.'!L15","v":172},{"$f":"'Pop born outside UK'!N15","v":4000},{"$f":"'Non-British Population'!N15","v":3000},{"$f":"Citizenships!N15","v":16}]
[12,"East Dunbartonshire",null,{"$f":"'Total net migration'!N16","v":710},{"$f":"'Total net migration 0-15'!N16","v":538},{"$f":"'Total net migration 16-64'!N16","v":170},{"$f":"'Total net migration 65+'!N16","v":-2},{"$f":"'Total in-migration'!N16","v":4200},{"$f":"'Total out-migration'!N16","v":3490},{"$f":"'Within Scotland net migration'!N16","v":590},{"$f":"'Within Scotland in-migration'!N16","v":3540},{"$f":"'Within Scotland out-migration'!N16","v":2950},{"$f":"'Rest of UK net migration'!N16","v":70},{"$f":"'Rest of UK in-migration'!N16","v":480},{"$f":"'Rest of UK out-migration'!N16","v":400},{"$f":"'International net migration'!N16","v":50},{"$f":"'International in-migration'!N16","v":190},{"$f":"'International out-migration'!N16","v":140},{"$f":"NINo!N16","v":170},{"$f":"'Births to non-UK mothers'!N16","v":66},{"$f":"'Pupils'' ethnic group (TS)'!O16","v":1367},{"$f":"'Pupils with English as an add.'!L16","v":437},{"$f":"'Pop born outside UK'!N16","v":5000},{"$f":"'Non-British Population'!N16","v":2000},{"$f":"Citizenships!N16","v":54}]
[13,"East Lothian",null,{"$f":"'Total net migration'!N17","v":960},{"$f":"'Total net migration 0-15'!N17","v":169},{"$f":"'Total net migration 16-64'!N17","v":667},{"$f":"'Total net migration 65+'!N17","v":124},{"$f":"'Total in-migration'!N17","v":4010},{"$f":"'Total out-migration'!N17","v":3050},{"$f":"'Within Scotland net migration'!N17","v":500},{"$f":"'Within Scotland in-migration'!N17","v":2870},{"$f":"'Within Scotland out-migration'!N17","v":2370},{"$f":"'Rest of UK net migration'!N17","v":170},{"$f":"'Rest of UK in-migration'!N17","v":680},{"$f":"'Rest of UK out-migration'!N17","v":510},{"$f":"'International net migration'!N17","v":290},{"$f":"'International in-migration'!N17","v":460},{"$f":"'International out-migration'!N17","v":170},{"$f":"NINo!N17","v":550},{"$f":"'Births to non-UK mothers'!N17","v":129},{"$f":"'Pupils'' ethnic group (TS)'!O17","v":423},{"$f":"'Pupils with English as an add.'!L17","v":344},{"$f":"'Pop born outside UK'!N17","v":5000},{"$f":"'Non-British Population'!N17","v":3000},{"$f":"Citizenships!N17","v":39}]
[14,"East Renfrewshire",null,{"$f":"'Total net migration'!N18","v":820},{"$f":"'Total net migration 0-15'!N18","v":626},{"$f":"'Total net migration 16-64'!N18","v":159},{"$f":"'Total net migration 65+'!N18","v":34},{"$f":"'Total in-migration'!N18","v":4080},{"$f":"'Total out-migration'!N18","v":3260},{"$f":"'Within Scotland net migration'!N18","v":730},{"$f":"'Within Scotland in-migration'!N18","v":3480},{"$f":"'Within Scotland out-migration'!N18","v":2760},{"$f":"'Rest of UK net migration'!N18","v":40},{"$f":"'Rest of UK in-migration'!N18","v":420},{"$f":"'Rest of UK out-migration'!N18","v":370},{"$f":"'International net migration'!N18","v":50},{"$f":"'International in-migration'!N18","v":180},{"$f":"'International out-migration'!N18","v":130},{"$f":"NINo!N18","v":170},{"$f":"'Births to non-UK mothers'!N18","v":108},{"$f":"'Pupils'' ethnic group (TS)'!O18","v":2997},{"$f":"'Pupils with English as an add.'!L18","v":886},{"$f":"'Pop born outside UK'!N18","v":7000},{"$f":"'Non-British Population'!N18","v":4000},{"$f":"Citizenships!N18","v":87}]
[15,"Falkirk",null,{"$f":"'Total net migration'!N19","v":940},{"$f":"'Total net migration 0-15'!N19","v":166},{"$f":"'Total net migration 16-64'!N19","v":744},{"$f":"'Total net migration 65+'!N19","v":30},{"$f":"'Total in-migration'!N19","v":4550},{"$f":"'Total out-migration'!N19","v":3610},{"$f":"'Within Scotland net migration'!N19","v":590},{"$f":"'Within Scotland in-migration'!N19","v":3470},{"$f":"'Within Scotland out-migration'!N19","v":2880},{"$f":"'Rest of UK net migration'!N19","v":200},{"$f":"'Rest of UK in-migration'!N19","v":700},{"$f":"'Rest of UK out-migration'!N19","v":500},{"$f":"'International net migration'!N19","v":160},{"$f":"'International in-migration'!N19","v":380},{"$f":"'International out-migration'!N19","v":230},{"$f":"NINo!N19","v":460},{"$f":"'Births to non-UK mothers'!N19","v":173},{"$f":"'Pupils'' ethnic group (TS)'!O19","v":805},{"$f":"'Pupils with English as an add.'!L19","v":730},{"$f":"'Pop born outside UK'!N19","v":9000},{"$f":"'Non-British Population'!N19","v":6000},{"$f":"Citizenships!N19","v":66}]
[16,"Fife",null,{"$f":"'Total net migration'!N20","v":1610},{"$f":"'Total net migration 0-15'!N20","v":338},{"$f":"'Total net migration 16-64'!N20","v":1182},{"$f":"'Total net migration 65+'!N20","v":88},{"$f":"'Total in-migration'!N20","v":11400},{"$f":"'Total out-migration'!N20","v":9800},{"$f":"'Within Scotland net migration'!N20","v":120},{"$f":"'Within Scotland in-migration'!N20","v":6480},{"$f":"'Within Scotland out-migration'!N20","v":6360},{"$f":"'Rest of UK net migration'!N20","v":440},{"$f":"'Rest of UK in-migration'!N20","v":2870},{"$f":"'Rest of UK out-migration'!N20","v":2430},{"$f":"'International net migration'!N20","v":1040},{"$f":"'International in-migration'!N20","v":2050},{"$f":"'International out-migration'!N20","v":1010},{"$f":"NINo!N20","v":2330},{"$f":"'Births to non-UK mothers'!N20","v":485},{"$f":"'Pupils'' ethnic group (TS)'!O20","v":1884},{"$f":"'Pupils with English as an add.'!L20","v":1336},{"$f":"'Pop born outside UK'!N20","v":30000},{"$f":"'Non-British Population'!N20","v":21000},{"$f":"Citizenships!N20","v":160}]
[17,"Glasgow City",null,{"$f":"'Total net migration'!N21","v":7960},{"$f":"'Total net migration 0-15'!N21","v":-351},{"$f":"'Total net migration 16-64'!N21","v":8515},{"$f":"'Total net migration 65+'!N21","v":-201},{"$f":"'Total in-migration'!N21","v":34970},{"$f":"'Total out-migration'!N21","v":27000},{"$f":"'Within Scotland net migration'!N21","v":-1820},{"$f":"'Within Scotland in-migration'!N21","v":16770},{"$f":"'Within Scotland out-migration'!N21","v":18590},{"$f":"'Rest of UK net migration'!N21","v":1850},{"$f":"'Rest of UK in-migration'!N21","v":6730},{"$f":"'Rest of UK out-migration'!N21","v":4890},{"$f":"'International net migration'!N21","v":7940},{"$f":"'International in-migration'!N21","v":11460},{"$f":"'International out-migration'!N21","v":3530},{"$f":"NINo!N21","v":8940},{"$f":"'Births to non-UK mothers'!N21","v":1939},{"$f":"'Pupils'' ethnic group (TS)'!O21","v":14117},{"$f":"'Pupils with English as an add.'!L21","v":12743},{"$f":"'Pop born outside UK'!N21","v":91000},{"$f":"'Non-British Population'!N21","v":69000},{"$f":"Citizenships!N21","v":1078}]
[18,"Highland",null,{"$f":"'Total net migration'!N22","v":1200},{"$f":"'Total net migration 0-15'!N22","v":312},{"$f":"'Total net migration 16-64'!N22","v":1016},{"$f":"'Total net migration 65+'!N22","v":-132},{"$f":"'Total in-migration'!N22","v":7640},{"$f":"'Total out-migration'!N22","v":6440},{"$f":"'Within Scotland net migration'!N22","v":-40},{"$f":"'Within Scotland in-migration'!N22","v":4180},{"$f":"'Within Scotland out-migration'!N22","v":4220},{"$f":"'Rest of UK net migration'!N22","v":890},{"$f":"'Rest of UK in-migration'!N22","v":2540},{"$f":"'Rest of UK out-migration'!N22","v":1650},{"$f":"'International net migration'!N22","v":350},{"$f":"'International in-migration'!N22","v":920},{"$f":"'International out-migration'!N22","v":570},{"$f":"NINo!N22","v":1730},{"$f":"'Births to non-UK mothers'!N22","v":322},{"$f":"'Pupils'' ethnic group (TS)'!O22","v":917},{"$f":"'Pupils with English as an add.'!L22","v":1352},{"$f":"'Pop born outside UK'!N22","v":13000},{"$f":"'Non-British Population'!N22","v":8000},{"$f":"Citizenships!N22","v":101}]
[19,"Inverclyde",null,{"$f":"'Total net migration'!N23","v":-60},{"$f":"'Total net migration 0-15'!N23","v":53},{"$f":"'Total net migration 16-64'!N23","v":-153},{"$f":"'Total net migration 65+'!N23","v":44},{"$f":"'Total in-migration'!N23","v":1530},{"$f":"'Total out-migration'!N23","v":1590},{"$f":"'Within Scotland net migration'!N23","v":-140},{"$f":"'Within Scotland in-migration'!N23","v":1090},{"$f":"'Within Scotland out-migration'!N23","v":1230},{"$f":"'Rest of UK net migration'!N23","v":50},{"$f":"'Rest of UK in-migration'!N23","v":310},{"$f":"'Rest of UK out-migration'!N23","v":260},{"$f":"'International net migration'!N23","v":40},{"$f":"'International in-migration'!N23","v":130},{"$f":"'International out-migration'!N23","v":90},{"$f":"NINo!N23","v":180},{"$f":"'Births to non-UK mothers'!N23","v":35},{"$f":"'Pupils'' ethnic group (TS)'!O23","v":202},{"$f":"'Pupils with English as an add.'!L23","v":59},{"$f":"'Pop born outside UK'!N23","v":2000},{"$f":"'Non-British Population'!N23","v":1000},{"$f":"Citizenships!N23","v":19}]
[20,"Midlothian",null,{"$f":"'Total net migration'!N24","v":1010},{"$f":"'Total net migration 0-15'!N24","v":210},{"$f":"'Total net migration 16-64'!N24","v":783},{"$f":"'Total net migration 65+'!N24","v":15},{"$f":"'Total in-migration'!N24","v":3630},{"$f":"'Total out-migration'!N24","v":2620},{"$f":"'Within Scotland net migration'!N24","v":860},{"$f":"'Within Scotland in-migration'!N24","v":3020},{"$f":"'Within Scotland out-migration'!N24","v":2160},{"$f":"'Rest of UK net migration'!N24","v":70},{"$f":"'Rest of UK in-migration'!N24","v":410},{"$f":"'Rest of UK out-migration'!N24","v":340},{"$f":"'International net migration'!N24","v":90},{"$f":"'International in-migration'!N24","v":210},{"$f":"'International out-migration'!N24","v":120},{"$f":"NINo!N24","v":290},{"$f":"'Births to non-UK mothers'!N24","v":128},{"$f":"'Pupils'' ethnic group (TS)'!O24","v":515},{"$f":"'Pupils with English as an add.'!L24","v":353},{"$f":"'Pop born outside UK'!N24","v":4000},{"$f":"'Non-British Population'!N24","v":3000},{"$f":"Citizenships!N24","v":59}]
[21,"Moray",null,{"$f":"'Total net migration'!N25","v":550},{"$f":"'Total net migration 0-15'!N25","v":170},{"$f":"'Total net migration 16-64'!N25","v":343},{"$f":"'Total net migration 65+'!N25","v":40},{"$f":"'Total in-migration'!N25","v":3560},{"$f":"'Total out-migration'!N25","v":3010},{"$f":"'Within Scotland net migration'!N25","v":200},{"$f":"'Within Scotland in-migration'!N25","v":2060},{"$f":"'Within Scotland out-migration'!N25","v":1860},{"$f":"'Rest of UK net migration'!N25","v":280},{"$f":"'Rest of UK in-migration'!N25","v":1180},{"$f":"'Rest of UK out-migration'!N25","v":910},{"$f":"'International net migration'!N25","v":80},{"$f":"'International in-migration'!N25","v":320},{"$f":"'International out-migration'!N25","v":240},{"$f":"NINo!N25","v":260},{"$f":"'Births to non-UK mothers'!N25","v":112},{"$f":"'Pupils'' ethnic group (TS)'!O25","v":342},{"$f":"'Pupils with English as an add.'!L25","v":471},{"$f":"'Pop born outside UK'!N25","v":5000},{"$f":"'Non-British Population'!N25","v":4000},{"$f":"Citizenships!N25","v":37}]
[22,"Na h-Eileanan Siar",null,{"$f":"'Total net migration'!N26","v":-70},{"$f":"'Total net migration 0-15'!N26","v":8},{"$f":"'Total net migration 16-64'!N26","v":-65},{"$f":"'Total net migration 65+'!N26","v":-10},{"$f":"'Total in-migration'!N26","v":840},{"$f":"'Total out-migration'!N26","v":900},{"$f":"'Within Scotland net migration'!N26","v":-120},{"$f":"'Within Scotland in-migration'!N26","v":530},{"$f":"'Within Scotland out-migration'!N26","v":650},{"$f":"'Rest of UK net migration'!N26","v":30},{"$f":"'Rest of UK in-migration'!N26","v":230},{"$f":"'Rest of UK out-migration'!N26","v":200},{"$f":"'International net migration'!N26","v":20},{"$f":"'International in-migration'!N26","v":70},{"$f":"'International out-migration'!N26","v":50},{"$f":"NINo!N26","v":60},{"$f":"'Births to non-UK mothers'!N26","v":26},{"$f":"'Pupils'' ethnic group (TS)'!O26","v":67},{"$f":"'Pupils with English as an add.'!L26","v":62},{"$f":"'Pop born outside UK'!N26","v":1000},{"$f":"'Non-British Population'!N26","v":"[low]"},{"$f":"Citizenships!N26","v":6}]
[23,"North Ayrshire",null,{"$f":"'Total net migration'!N27","v":70},{"$f":"'Total net migration 0-15'!N27","v":131},{"$f":"'Total net migration 16-64'!N27","v":21},{"$f":"'Total net migration 65+'!N27","v":-87},{"$f":"'Total in-migration'!N27","v":3740},{"$f":"'Total out-migration'!N27","v":3680},{"$f":"'Within Scotland net migration'!N27","v":-110},{"$f":"'Within Scotland in-migration'!N27","v":2750},{"$f":"'Within Scotland out-migration'!N27","v":2860},{"$f":"'Rest of UK net migration'!N27","v":210},{"$f":"'Rest of UK in-migration'!N27","v":810},{"$f":"'Rest of UK out-migration'!N27","v":590},{"$f":"'International net migration'!N27","v":-40},{"$f":"'International in-migration'!N27","v":180},{"$f":"'International out-migration'!N27","v":220},{"$f":"NINo!N27","v":210},{"$f":"'Births to non-UK mothers'!N27","v":49},{"$f":"'Pupils'' ethnic group (TS)'!O27","v":390},{"$f":"'Pupils with English as an add.'!L27","v":155},{"$f":"'Pop born outside UK'!N27","v":4000},{"$f":"'Non-British Population'!N27","v":2000},{"$f":"Citizenships!N27","v":27}]
[24,"North Lanarkshire",null,{"$f":"'Total net migration'!N28","v":980},{"$f":"'Total net migration 0-15'!N28","v":367},{"$f":"'Total net migration 16-64'!N28","v":726},{"$f":"'Total net migration 65+'!N28","v":-111},{"$f":"'Total in-migration'!N28","v":8060},{"$f":"'Total out-migration'!N28","v":7080},{"$f":"'Within Scotland net migration'!N28","v":550},{"$f":"'Within Scotland in-migration'!N28","v":6160},{"$f":"'Within Scotland out-migration'!N28","v":5610},{"$f":"'Rest of UK net migration'!N28","v":170},{"$f":"'Rest of UK in-migration'!N28","v":1170},{"$f":"'Rest of UK out-migration'!N28","v":1000},{"$f":"'International net migration'!N28","v":270},{"$f":"'International in-migration'!N28","v":740},{"$f":"'International out-migration'!N28","v":470},{"$f":"NINo!N28","v":1300},{"$f":"'Births to non-UK mothers'!N28","v":288},{"$f":"'Pupils'' ethnic group (TS)'!O28","v":2051},{"$f":"'Pupils with English as an add.'!L28","v":1428},{"$f":"'Pop born outside UK'!N28","v":15000},{"$f":"'Non-British Population'!N28","v":9000},{"$f":"Citizenships!N28","v":103}]
[25,"Orkney Islands",null,{"$f":"'Total net migration'!N29","v":220},{"$f":"'Total net migration 0-15'!N29","v":74},{"$f":"'Total net migration 16-64'!N29","v":127},{"$f":"'Total net migration 65+'!N29","v":22},{"$f":"'Total in-migration'!N29","v":860},{"$f":"'Total out-migration'!N29","v":640},{"$f":"'Within Scotland net migration'!N29","v":-20},{"$f":"'Within Scotland in-migration'!N29","v":420},{"$f":"'Within Scotland out-migration'!N29","v":440},{"$f":"'Rest of UK net migration'!N29","v":240},{"$f":"'Rest of UK in-migration'!N29","v":390},{"$f":"'Rest of UK out-migration'!N29","v":150},{"$f":"'International net migration'!N29","v":0},{"$f":"'International in-migration'!N29","v":50},{"$f":"'International out-migration'!N29","v":50},{"$f":"NINo!N29","v":60},{"$f":"'Births to non-UK mothers'!N29","v":13},{"$f":"'Pupils'' ethnic group (TS)'!O29","v":39},{"$f":"'Pupils with English as an add.'!L29","v":22},{"$f":"'Pop born outside UK'!N29","v":1000},{"$f":"'Non-British Population'!N29","v":"[low]"},{"$f":"Citizenships!N29","v":8}]
[26,"Perth and Kinross",null,{"$f":"'Total net migration'!N30","v":1060},{"$f":"'Total net migration 0-15'!N30","v":335},{"$f":"'Total net migration 16-64'!N30","v":631},{"$f":"'Total net migration 65+'!N30","v":96},{"$f":"'Total in-migration'!N30","v":6330},{"$f":"'Total out-migration'!N30","v":5270},{"$f":"'Within Scotland net migration'!N30","v":400},{"$f":"'Within Scotland in-migration'!N30","v":4240},{"$f":"'Within Scotland out-migration'!N30","v":3840},{"$f":"'Rest of UK net migration'!N30","v":240},{"$f":"'Rest of UK in-migration'!N30","v":1150},{"$f":"'Rest of UK out-migration'!N30","v":910},{"$f":"'International net migration'!N30","v":420},{"$f":"'International in-migration'!N30","v":940},{"$f":"'International out-migration'!N30","v":520},{"$f":"NINo!N30","v":2670},{"$f":"'Births to non-UK mothers'!N30","v":223},{"$f":"'Pupils'' ethnic group (TS)'!O30","v":696},{"$f":"'Pupils with English as an add.'!L30","v":867},{"$f":"'Pop born outside UK'!N30","v":10000},{"$f":"'Non-British Population'!N30","v":8000},{"$f":"Citizenships!N30","v":63}]
[27,"Renfrewshire",null,{"$f":"'Total net migration'!N31","v":1610},{"$f":"'Total net migration 0-15'!N31","v":294},{"$f":"'Total net migration 16-64'!N31","v":1233},{"$f":"'Total net migration 65+'!N31","v":87},{"$f":"'Total in-migration'!N31","v":6160},{"$f":"'Total out-migration'!N31","v":4550},{"$f":"'Within Scotland net migration'!N31","v":910},{"$f":"'Within Scotland in-migration'!N31","v":4510},{"$f":"'Within Scotland out-migration'!N31","v":3600},{"$f":"'Rest of UK net migration'!N31","v":190},{"$f":"'Rest of UK in-migration'!N31","v":850},{"$f":"'Rest of UK out-migration'!N31","v":660},{"$f":"'International net migration'!N31","v":510},{"$f":"'International in-migration'!N31","v":800},{"$f":"'International out-migration'!N31","v":290},{"$f":"NINo!N31","v":890},{"$f":"'Births to non-UK mothers'!N31","v":224},{"$f":"'Pupils'' ethnic group (TS)'!O31","v":1076},{"$f":"'Pupils with English as an add.'!L31","v":630},{"$f":"'Pop born outside UK'!N31","v":12000},{"$f":"'Non-British Population'!N31","v":10000},{"$f":"Citizenships!N31","v":89}]
[28,"Scottish Borders",null,{"$f":"'Total net migration'!N32","v":690},{"$f":"'Total net migration 0-15'!N32","v":230},{"$f":"'Total net migration 16-64'!N32","v":500},{"$f":"'Total net migration 65+'!N32","v":-40},{"$f":"'Total in-migration'!N32","v":4390},{"$f":"'Total out-migration'!N32","v":3700},{"$f":"'Within Scotland net migration'!N32","v":360},{"$f":"'Within Scotland in-migration'!N32","v":2500},{"$f":"'Within Scotland out-migration'!N32","v":2140},{"$f":"'Rest of UK net migration'!N32","v":330},{"$f":"'Rest of UK in-migration'!N32","v":1580},{"$f":"'Rest of UK out-migration'!N32","v":1250},{"$f":"'International net migration'!N32","v":0},{"$f":"'International in-migration'!N32","v":320},{"$f":"'International out-migration'!N32","v":310},{"$f":"NINo!N32","v":370},{"$f":"'Births to non-UK mothers'!N32","v":128},{"$f":"'Pupils'' ethnic group (TS)'!O32","v":340},{"$f":"'Pupils with English as an add.'!L32","v":446},{"$f":"'Pop born outside UK'!N32","v":6000},{"$f":"'Non-British Population'!N32","v":4000},{"$f":"Citizenships!N32","v":26}]
[29,"Shetland Islands",null,{"$f":"'Total net migration'!N33","v":-20},{"$f":"'Total net migration 0-15'!N33","v":14},{"$f":"'Total net migration 16-64'!N33","v":-30},{"$f":"'Total net migration 65+'!N33","v":1},{"$f":"'Total in-migration'!N33","v":680},{"$f":"'Total out-migration'!N33","v":690},{"$f":"'Within Scotland net migration'!N33","v":-160},{"$f":"'Within Scotland in-migration'!N33","v":320},{"$f":"'Within Scotland out-migration'!N33","v":470},{"$f":"'Rest of UK net migration'!N33","v":100},{"$f":"'Rest of UK in-migration'!N33","v":270},{"$f":"'Rest of UK out-migration'!N33","v":170},{"$f":"'International net migration'!N33","v":40},{"$f":"'International in-migration'!N33","v":90},{"$f":"'International out-migration'!N33","v":50},{"$f":"NINo!N33","v":140},{"$f":"'Births to non-UK mothers'!N33","v":24},{"$f":"'Pupils'' ethnic group (TS)'!O33","v":102},{"$f":"'Pupils with English as an add.'!L33","v":74},{"$f":"'Pop born outside UK'!N33","v":"[low]"},{"$f":"'Non-British Population'!N33","v":"[low]"},{"$f":"Citizenships!N33","v":9}]
[30,"South Ayrshire",null,{"$f":"'Total net migration'!N34","v":550},{"$f":"'Total net migration 0-15'!N34","v":145},{"$f":"'Total net migration 16-64'!N34","v":239},{"$f":"'Total net migration 65+'!N34","v":162},{"$f":"'Total in-migration'!N34","v":3790},{"$f":"'Total out-migration'!N34","v":3240},{"$f":"'Within Scotland net migration'!N34","v":250},{"$f":"'Within Scotland in-migration'!N34","v":2690},{"$f":"'Within Scotland out-migration'!N34","v":2440},{"$f":"'Rest of UK net migration'!N34","v":260},{"$f":"'Rest of UK in-migration'!N34","v":840},{"$f":"'Rest of UK out-migration'!N34","v":580},{"$f":"'International net migration'!N34","v":40},{"$f":"'International in-migration'!N34","v":260},{"$f":"'International out-migration'!N34","v":220},{"$f":"NINo!N34","v":320},{"$f":"'Births to non-UK mothers'!N34","v":53},{"$f":"'Pupils'' ethnic group (TS)'!O34","v":347},{"$f":"'Pupils with English as an add.'!L34","v":209},{"$f":"'Pop born outside UK'!N34","v":4000},{"$f":"'Non-British Population'!N34","v":3000},{"$f":"Citizenships!N34","v":36}]
[31,"South Lanarkshire",null,{"$f":"'Total net migration'!N35","v":1100},{"$f":"'Total net migration 0-15'!N35","v":243},{"$f":"'Total net migration 16-64'!N35","v":744},{"$f":"'Total net migration 65+'!N35","v":110},{"$f":"'Total in-migration'!N35","v":9170},{"$f":"'Total out-migration'!N35","v":8070},{"$f":"'Within Scotland net migration'!N35","v":770},{"$f":"'Within Scotland in-migration'!N35","v":7080},{"$f":"'Within Scotland out-migration'!N35","v":6300},{"$f":"'Rest of UK net migration'!N35","v":190},{"$f":"'Rest of UK in-migration'!N35","v":1450},{"$f":"'Rest of UK out-migration'!N35","v":1260},{"$f":"'International net migration'!N35","v":130},{"$f":"'International in-migration'!N35","v":640},{"$f":"'International out-migration'!N35","v":510},{"$f":"NINo!N35","v":900},{"$f":"'Births to non-UK mothers'!N35","v":264},{"$f":"'Pupils'' ethnic group (TS)'!O35","v":1868},{"$f":"'Pupils with English as an add.'!L35","v":824},{"$f":"'Pop born outside UK'!N35","v":12000},{"$f":"'Non-British Population'!N35","v":7000},{"$f":"Citizenships!N35","v":136}]
[32,"Stirling",null,{"$f":"'Total net migration'!N36","v":1010},{"$f":"'Total net migration 0-15'!N36","v":277},{"$f":"'Total net migration 16-64'!N36","v":743},{"$f":"'Total net migration 65+'!N36","v":-8},{"$f":"'Total in-migration'!N36","v":5550},{"$f":"'Total out-migration'!N36","v":4530},{"$f":"'Within Scotland net migration'!N36","v":210},{"$f":"'Within Scotland in-migration'!N36","v":3600},{"$f":"'Within Scotland out-migration'!N36","v":3390},{"$f":"'Rest of UK net migration'!N36","v":360},{"$f":"'Rest of UK in-migration'!N36","v":1120},{"$f":"'Rest of UK out-migration'!N36","v":760},{"$f":"'International net migration'!N36","v":440},{"$f":"'International in-migration'!N36","v":820},{"$f":"'International out-migration'!N36","v":380},{"$f":"NINo!N36","v":710},{"$f":"'Births to non-UK mothers'!N36","v":107},{"$f":"'Pupils'' ethnic group (TS)'!O36","v":488},{"$f":"'Pupils with English as an add.'!L36","v":315},{"$f":"'Pop born outside UK'!N36","v":6000},{"$f":"'Non-British Population'!N36","v":4000},{"$f":"Citizenships!N36","v":41}]
[33,"West Dunbartonshire",null,{"$f":"'Total net migration'!N37","v":290},{"$f":"'Total net migration 0-15'!N37","v":63},{"$f":"'Total net migration 16-64'!N37","v":213},{"$f":"'Total net migration 65+'!N37","v":12},{"$f":"'Total in-migration'!N37","v":2560},{"$f":"'Total out-migration'!N37","v":2270},{"$f":"'Within Scotland net migration'!N37","v":120},{"$f":"'Within Scotland in-migration'!N37","v":1990},{"$f":"'Within Scotland out-migration'!N37","v":1870},{"$f":"'Rest of UK net migration'!N37","v":80},{"$f":"'Rest of UK in-migration'!N37","v":370},{"$f":"'Rest of UK out-migration'!N37","v":290},{"$f":"'International net migration'!N37","v":90},{"$f":"'International in-migration'!N37","v":190},{"$f":"'International out-migration'!N37","v":110},{"$f":"NINo!N37","v":150},{"$f":"'Births to non-UK mothers'!N37","v":61},{"$f":"'Pupils'' ethnic group (TS)'!O37","v":370},{"$f":"'Pupils with English as an add.'!L37","v":266},{"$f":"'Pop born outside UK'!N37","v":4000},{"$f":"'Non-British Population'!N37","v":2000},{"$f":"Citizenships!N37","v":31}]
[34,"West Lothian",null,{"$f":"'Total net migration'!N38","v":1130},{"$f":"'Total net migration 0-15'!N38","v":298},{"$f":"'Total net migration 16-64'!N38","v":758},{"$f":"'Total net migration 65+'!N38","v":71},{"$f":"'Total in-migration'!N38","v":5660},{"$f":"'Total out-migration'!N38","v":4540},{"$f":"'Within Scotland net migration'!N38","v":510},{"$f":"'Within Scotland in-migration'!N38","v":4100},{"$f":"'Within Scotland out-migration'!N38","v":3580},{"$f":"'Rest of UK net migration'!N38","v":240},{"$f":"'Rest of UK in-migration'!N38","v":910},{"$f":"'Rest of UK out-migration'!N38","v":670},{"$f":"'International net migration'!N38","v":370},{"$f":"'International in-migration'!N38","v":660},{"$f":"'International out-migration'!N38","v":280},{"$f":"NINo!N38","v":980},{"$f":"'Births to non-UK mothers'!N38","v":329},{"$f":"'Pupils'' ethnic group (TS)'!O38","v":1399},{"$f":"'Pupils with English as an add.'!L38","v":1414},{"$f":"'Pop born outside UK'!N38","v":15000},{"$f":"'Non-British Population'!N38","v":12000},{"$f":"Citizenships!N38","v":137}]
[]
[35,"Not specified"]
[36,"Scotland",null,{"$f":"'Total net migration'!N41","v":31700},{"$f":"'Total net migration 0-15'!N41","v":5201},{"$f":"'Total net migration 16-64'!N41","v":26475},{"$f":"'Total net migration 65+'!N41","v":17},{"$f":"'Total in-migration'!N41","v":86700},{"$f":"'Total out-migration'!N41","v":55000},{"$f":"'Within Scotland net migration'!N41","v":"[z]"},{"$f":"'Within Scotland in-migration'!N41","v":"[z]"},{"$f":"'Within Scotland out-migration'!N41","v":"[z]"},{"$f":"'Rest of UK net migration'!N41","v":8800},{"$f":"'Rest of UK in-migration'!N41","v":46300},{"$f":"'Rest of UK out-migration'!N41","v":37500},{"$f":"'International net migration'!N41","v":22900},{"$f":"'International in-migration'!N41","v":40400},{"$f":"'International out-migration'!N41","v":17500},null,{"$f":"'Births to non-UK mothers'!N41","v":9291}]
[37,"Ayrshire and Arran",null,{"$f":"'Total net migration'!N42","v":760},{"$f":"'Total net migration 0-15'!N42","v":377},{"$f":"'Total net migration 16-64'!N42","v":277},{"$f":"'Total net migration 65+'!N42","v":108},{"$f":"'Total in-migration'!N42","v":8170},{"$f":"'Total out-migration'!N42","v":7410},{"$f":"'Within Scotland net migration'!N42","v":200},{"$f":"'Within Scotland in-migration'!N42","v":5370},{"$f":"'Within Scotland out-migration'!N42","v":5160},{"$f":"'Rest of UK net migration'!N42","v":600},{"$f":"'Rest of UK in-migration'!N42","v":2250},{"$f":"'Rest of UK out-migration'!N42","v":1650},{"$f":"'International net migration'!N42","v":-40},{"$f":"'International in-migration'!N42","v":550},{"$f":"'International out-migration'!N42","v":590},null,{"$f":"'Births to non-UK mothers'!N42","v":159}]
[38,"Borders",null,{"$f":"'Total net migration'!N43","v":690},{"$f":"'Total net migration 0-15'!N43","v":230},{"$f":"'Total net migration 16-64'!N43","v":500},{"$f":"'Total net migration 65+'!N43","v":-40},{"$f":"'Total in-migration'!N43","v":4390},{"$f":"'Total out-migration'!N43","v":3700},{"$f":"'Within Scotland net migration'!N43","v":360},{"$f":"'Within Scotland in-migration'!N43","v":2500},{"$f":"'Within Scotland out-migration'!N43","v":2140},{"$f":"'Rest of UK net migration'!N43","v":330},{"$f":"'Rest of UK in-migration'!N43","v":1580},{"$f":"'Rest of UK out-migration'!N43","v":1250},{"$f":"'International net migration'!N43","v":0},{"$f":"'International in-migration'!N43","v":320},{"$f":"'International out-migration'!N43","v":310},null,{"$f":"'Births to non-UK mothers'!N43","v":128}]
[39,"Dumfries and Galloway",null,{"$f":"'Total net migration'!N44","v":390},{"$f":"'Total net migration 0-15'!N44","v":164},{"$f":"'Total net migration 16-64'!N44","v":229},{"$f":"'Total net migration 65+'!N44","v":1},{"$f":"'Total in-migration'!N44","v":3880},{"$f":"'Total out-migration'!N44","v":3490},{"$f":"'Within Scotland net migration'!N44","v":-180},{"$f":"'Within Scotland in-migration'!N44","v":1680},{"$f":"'Within Scotland out-migration'!N44","v":1860},{"$f":"'Rest of UK net migration'!N44","v":560},{"$f":"'Rest of UK in-migration'!N44","v":1870},{"$f":"'Rest of UK out-migration'!N44","v":1310},{"$f":"'International net migration'!N44","v":10},{"$f":"'International in-migration'!N44","v":340},{"$f":"'International out-migration'!N44","v":330},null,{"$f":"'Births to non-UK mothers'!N44","v":96}]
[40,"Fife",null,{"$f":"'Total net migration'!N45","v":1610},{"$f":"'Total net migration 0-15'!N45","v":338},{"$f":"'Total net migration 16-64'!N45","v":1182},{"$f":"'Total net migration 65+'!N45","v":88},{"$f":"'Total in-migration'!N45","v":11400},{"$f":"'Total out-migration'!N45","v":9800},{"$f":"'Within Scotland net migration'!N45","v":120},{"$f":"'Within Scotland in-migration'!N45","v":6480},{"$f":"'Within Scotland out-migration'!N45","v":6360},{"$f":"'Rest of UK net migration'!N45","v":440},{"$f":"'Rest of UK in-migration'!N45","v":2870},{"$f":"'Rest of UK out-migration'!N45","v":2430},{"$f":"'International net migration'!N45","v":1040},{"$f":"'International in-migration'!N45","v":2050},{"$f":"'International out-migration'!N45","v":1010},null,{"$f":"'Births to non-UK mothers'!N45","v":485}]
[41,"Forth Valley",null,{"$f":"'Total net migration'!N46","v":1960},{"$f":"'Total net migration 0-15'!N46","v":513},{"$f":"'Total net migration 16-64'!N46","v":1434},{"$f":"'Total net migration 65+'!N46","v":17},{"$f":"'Total in-migration'!N46","v":10250},{"$f":"'Total out-migration'!N46","v":8290},{"$f":"'Within Scotland net migration'!N46","v":690},{"$f":"'Within Scotland in-migration'!N46","v":6780},{"$f":"'Within Scotland out-migration'!N46","v":6100},{"$f":"'Rest of UK net migration'!N46","v":620},{"$f":"'Rest of UK in-migration'!N46","v":2110},{"$f":"'Rest of UK out-migration'!N46","v":1490},{"$f":"'International net migration'!N46","v":660},{"$f":"'International in-migration'!N46","v":1360},{"$f":"'International out-migration'!N46","v":700},null,{"$f":"'Births to non-UK mothers'!N46","v":321}]
[42,"Grampian",null,{"$f":"'Total net migration'!N47","v":-770},{"$f":"'Total net migration 0-15'!N47","v":-28},{"$f":"'Total net migration 16-64'!N47","v":-546},{"$f":"'Total net migration 65+'!N47","v":-196},{"$f":"'Total in-migration'!N47","v":16800},{"$f":"'Total out-migration'!N47","v":17570},{"$f":"'Within Scotland net migration'!N47","v":-2540},{"$f":"'Within Scotland in-migration'!N47","v":6940},{"$f":"'Within Scotland out-migration'!N47","v":9480},{"$f":"'Rest of UK net migration'!N47","v":-1110},{"$f":"'Rest of UK in-migration'!N47","v":4400},{"$f":"'Rest of UK out-migration'!N47","v":5500},{"$f":"'International net migration'!N47","v":2870},{"$f":"'International in-migration'!N47","v":5460},{"$f":"'International out-migration'!N47","v":2590},null,{"$f":"'Births to non-UK mothers'!N47","v":1554}]
[43,"Greater Glasgow and Clyde",null,{"$f":"'Total net migration'!N48","v":11330},{"$f":"'Total net migration 0-15'!N48","v":1223},{"$f":"'Total net migration 16-64'!N48","v":10137},{"$f":"'Total net migration 65+'!N48","v":-26},{"$f":"'Total in-migration'!N48","v":40460},{"$f":"'Total out-migration'!N48","v":29120},{"$f":"'Within Scotland net migration'!N48","v":380},{"$f":"'Within Scotland in-migration'!N48","v":18360},{"$f":"'Within Scotland out-migration'!N48","v":17970},{"$f":"'Rest of UK net migration'!N48","v":2280},{"$f":"'Rest of UK in-migration'!N48","v":9150},{"$f":"'Rest of UK out-migration'!N48","v":6870},{"$f":"'International net migration'!N48","v":8670},{"$f":"'International in-migration'!N48","v":12960},{"$f":"'International out-migration'!N48","v":4280},null,{"$f":"'Births to non-UK mothers'!N48","v":2433}]
[44,"Highland",null,{"$f":"'Total net migration'!N49","v":1430},{"$f":"'Total net migration 0-15'!N49","v":443},{"$f":"'Total net migration 16-64'!N49","v":1294},{"$f":"'Total net migration 65+'!N49","v":-307},{"$f":"'Total in-migration'!N49","v":11430},{"$f":"'Total out-migration'!N49","v":10000},{"$f":"'Within Scotland net migration'!N49","v":-320},{"$f":"'Within Scotland in-migration'!N49","v":6250},{"$f":"'Within Scotland out-migration'!N49","v":6570},{"$f":"'Rest of UK net migration'!N49","v":1360},{"$f":"'Rest of UK in-migration'!N49","v":3910},{"$f":"'Rest of UK out-migration'!N49","v":2540},{"$f":"'International net migration'!N49","v":390},{"$f":"'International in-migration'!N49","v":1270},{"$f":"'International out-migration'!N49","v":880},null,{"$f":"'Births to non-UK mothers'!N49","v":409}]
[45,"Lanarkshire",null,{"$f":"'Total net migration'!N50","v":2080},{"$f":"'Total net migration 0-15'!N50","v":610},{"$f":"'Total net migration 16-64'!N50","v":1470},{"$f":"'Total net migration 65+'!N50","v":-1},{"$f":"'Total in-migration'!N50","v":14710},{"$f":"'Total out-migration'!N50","v":12630},{"$f":"'Within Scotland net migration'!N50","v":1320},{"$f":"'Within Scotland in-migration'!N50","v":10720},{"$f":"'Within Scotland out-migration'!N50","v":9390},{"$f":"'Rest of UK net migration'!N50","v":360},{"$f":"'Rest of UK in-migration'!N50","v":2620},{"$f":"'Rest of UK out-migration'!N50","v":2260},{"$f":"'International net migration'!N50","v":400},{"$f":"'International in-migration'!N50","v":1380},{"$f":"'International out-migration'!N50","v":980},null,{"$f":"'Births to non-UK mothers'!N50","v":552}]
[46,"Lothian",null,{"$f":"'Total net migration'!N51","v":10750},{"$f":"'Total net migration 0-15'!N51","v":903},{"$f":"'Total net migration 16-64'!N51","v":9573},{"$f":"'Total net migration 65+'!N51","v":278},{"$f":"'Total in-migration'!N51","v":37060},{"$f":"'Total out-migration'!N51","v":26310},{"$f":"'Within Scotland net migration'!N51","v":390},{"$f":"'Within Scotland in-migration'!N51","v":13640},{"$f":"'Within Scotland out-migration'!N51","v":13260},{"$f":"'Rest of UK net migration'!N51","v":2830},{"$f":"'Rest of UK in-migration'!N51","v":11630},{"$f":"'Rest of UK out-migration'!N51","v":8800},{"$f":"'International net migration'!N51","v":7540},{"$f":"'International in-migration'!N51","v":11790},{"$f":"'International out-migration'!N51","v":4250},null,{"$f":"'Births to non-UK mothers'!N51","v":2422}]
[47,"Orkney",null,{"$f":"'Total net migration'!N52","v":220},{"$f":"'Total net migration 0-15'!N52","v":74},{"$f":"'Total net migration 16-64'!N52","v":127},{"$f":"'Total net migration 65+'!N52","v":22},{"$f":"'Total in-migration'!N52","v":860},{"$f":"'Total out-migration'!N52","v":640},{"$f":"'Within Scotland net migration'!N52","v":-20},{"$f":"'Within Scotland in-migration'!N52","v":420},{"$f":"'Within Scotland out-migration'!N52","v":440},{"$f":"'Rest of UK net migration'!N52","v":240},{"$f":"'Rest of UK in-migration'!N52","v":390},{"$f":"'Rest of UK out-migration'!N52","v":150},{"$f":"'International net migration'!N52","v":0},{"$f":"'International in-migration'!N52","v":50},{"$f":"'International out-migration'!N52","v":50},null,{"$f":"'Births to non-UK mothers'!N52","v":13}]
[48,"Shetland",null,{"$f":"'Total net migration'!N53","v":-20},{"$f":"'Total net migration 0-15'!N53","v":14},{"$f":"'Total net migration 16-64'!N53","v":-30},{"$f":"'Total net migration 65+'!N53","v":1},{"$f":"'Total in-migration'!N53","v":680},{"$f":"'Total out-migration'!N53","v":690},{"$f":"'Within Scotland net migration'!N53","v":-160},{"$f":"'Within Scotland in-migration'!N53","v":320},{"$f":"'Within Scotland out-migration'!N53","v":470},{"$f":"'Rest of UK net migration'!N53","v":100},{"$f":"'Rest of UK in-migration'!N53","v":270},{"$f":"'Rest of UK out-migration'!N53","v":170},{"$f":"'International net migration'!N53","v":40},{"$f":"'International in-migration'!N53","v":90},{"$f":"'International out-migration'!N53","v":50},null,{"$f":"'Births to non-UK mothers'!N53","v":24}]
[49,"Tayside",null,{"$f":"'Total net migration'!N54","v":1310},{"$f":"'Total net migration 0-15'!N54","v":332},{"$f":"'Total net migration 16-64'!N54","v":893},{"$f":"'Total net migration 65+'!N54","v":82},{"$f":"'Total in-migration'!N54","v":13810},{"$f":"'Total out-migration'!N54","v":12510},{"$f":"'Within Scotland net migration'!N54","v":-140},{"$f":"'Within Scotland in-migration'!N54","v":8050},{"$f":"'Within Scotland out-migration'!N54","v":8190},{"$f":"'Rest of UK net migration'!N54","v":150},{"$f":"'Rest of UK in-migration'!N54","v":3040},{"$f":"'Rest of UK out-migration'!N54","v":2890},{"$f":"'International net migration'!N54","v":1300},{"$f":"'International in-migration'!N54","v":2720},{"$f":"'International out-migration'!N54","v":1430},null,{"$f":"'Births to non-UK mothers'!N54","v":669}]
[50,"Western Isles",null,{"$f":"'Total net migration'!N55","v":-70},{"$f":"'Total net migration 0-15'!N55","v":8},{"$f":"'Total net migration 16-64'!N55","v":-65},{"$f":"'Total net migration 65+'!N55","v":-10},{"$f":"'Total in-migration'!N55","v":840},{"$f":"'Total out-migration'!N55","v":900},{"$f":"'Within Scotland net migration'!N55","v":-120},{"$f":"'Within Scotland in-migration'!N55","v":530},{"$f":"'Within Scotland out-migration'!N55","v":650},{"$f":"'Rest of UK net migration'!N55","v":30},{"$f":"'Rest of UK in-migration'!N55","v":230},{"$f":"'Rest of UK out-migration'!N55","v":200},{"$f":"'International net migration'!N55","v":20},{"$f":"'International in-migration'!N55","v":70},{"$f":"'International out-migration'!N55","v":50},null,{"$f":"'Births to non-UK mothers'!N55","v":26}]

{"sheet":"2016 Rate","index":49,"n_rows":53,"n_cols":27,"rows_kept":53,"cut":false,"hidden":true,"merged":[]}
[null,2016,"RATE"]
[null,null,"Not specified ",{"$f":"'Comparing Indicators'!$U8","v":"Total net migration"},{"$f":"'Comparing Indicators'!$U9","v":"Total net migration for ages 0-15"},{"$f":"'Comparing Indicators'!$U10","v":"Total net migration for ages 16-64"},{"$f":"'Comparing Indicators'!$U11","v":"Total net migration for people aged 65+"},{"$f":"'Comparing Indicators'!$U12","v":"Total in-migration"},{"$f":"'Comparing Indicators'!$U13","v":"Total out-migration"},{"$f":"'Comparing Indicators'!$U14","v":"Within Scotland net migration"},{"$f":"'Comparing Indicators'!$U15","v":"Within Scotland in-migration"},{"$f":"'Comparing Indicators'!$U16","v":"Within Scotland out-migration"},{"$f":"'Comparing Indicators'!$U17","v":"Rest of UK net migration"},{"$f":"'Comparing Indicators'!$U18","v":"Rest of UK in-migration"},{"$f":"'Comparing Indicators'!$U19","v":"Rest of UK out-migration"},{"$f":"'Comparing Indicators'!$U20","v":"International net migration"},{"$f":"'Comparing Indicators'!$U21","v":"International in-migration"},{"$f":"'Comparing Indicators'!$U22","v":"International out-migration"},{"$f":"'Comparing Indicators'!$U23","v":"NINo Allocation"},{"$f":"'Comparing Indicators'!$U24","v":"Births to non-UK mothers"},{"$f":"'Comparing Indicators'!$U25","v":"Pupils from a minority ethnic group"},{"$f":"'Comparing Indicators'!$U26","v":"Pupils with English as an additional language"},{"$f":"'Comparing Indicators'!$U27","v":"Population born outside the UK"},{"$f":"'Comparing Indicators'!$U28","v":"Population with non-British nationality"},{"$f":"'Comparing Indicators'!$U29","v":"Citizenships"},null,"Mid-year population estimate"]
[1,"Not specified"]
[2,"Scotland",null,{"$f":"('2016'!D4/'2016 Rate'!$AA4)*1000","v":5.8652654171369365},{"$f":"('2016'!E4/'2016 Rate'!$AA4)*1000","v":0.96231058153088977},{"$f":"('2016'!F4/'2016 Rate'!$AA4)*1000","v":4.8985142561104222},{"$f":"('2016'!G4/'2016 Rate'!$AA4)*1000","v":3.1454104760671267E-3},{"$f":"('2016'!H4/'2016 Rate'!$AA4)*1000","v":16.041593427942349},{"$f":"('2016'!I4/'2016 Rate'!$AA4)*1000","v":10.17632801080541},{"$f":"'Within Scotland net migration'!N6","v":"[z]"},{"$f":"'Within Scotland in-migration'!N6","v":"[z]"},{"$f":"'Within Scotland out-migration'!N6","v":"[z]"},{"$f":"('2016'!M4/'2016 Rate'!$AA4)*1000","v":1.6282124817288655},{"$f":"('2016'!N4/'2016 Rate'!$AA4)*1000","v":8.5666179436416456},{"$f":"('2016'!O4/'2016 Rate'!$AA4)*1000","v":6.9384054619127795},{"$f":"('2016'!P4/'2016 Rate'!$AA4)*1000","v":4.2370529354080713},{"$f":"('2016'!Q4/'2016 Rate'!$AA4)*1000","v":7.4749754843007015},{"$f":"('2016'!R4/'2016 Rate'!$AA4)*1000","v":3.2379225488926302},{"$f":"('2016'!S4/'2016 Rate'!$AA4)*1000","v":8.3630913834255374},null,null,null,null,null,{"$f":"('2016'!Y4/'2016 Rate'!$AA4)*1000","v":0.82557773789479527},"Scotland",5404700]
[3,"Aberdeen City",null,{"$f":"('2016'!D5/'2016 Rate'!$AA5)*1000","v":-4.2203271841280889},{"$f":"('2016'!E5/'2016 Rate'!$AA5)*1000","v":-1.3835711799512704},{"$f":"('2016'!F5/'2016 Rate'!$AA5)*1000","v":-2.310302819352593},{"$f":"('2016'!G5/'2016 Rate'!$AA5)*1000","v":-0.52210233205708323},{"$f":"('2016'!H5/'2016 Rate'!$AA5)*1000","v":53.558997563522446},{"$f":"('2016'!I5/'2016 Rate'!$AA5)*1000","v":57.735816219979114},{"$f":"('2016'!J5/'2016 Rate'!$AA5)*1000","v":-11.573268360598677},{"$f":"('2016'!K5/'2016 Rate'!$AA5)*1000","v":26.888270100939785},{"$f":"('2016'!L5/'2016 Rate'!$AA5)*1000","v":38.461538461538467},{"$f":"('2016'!M5/'2016 Rate'!$AA5)*1000","v":-3.3936651583710407},{"$f":"('2016'!N5/'2016 Rate'!$AA5)*1000","v":8.5711799512704498},{"$f":"('2016'!O5/'2016 Rate'!$AA5)*1000","v":11.964845109641491},{"$f":"('2016'!P5/'2016 Rate'!$AA5)*1000","v":10.746606334841628},{"$f":"('2016'!Q5/'2016 Rate'!$AA5)*1000","v":18.09954751131222},{"$f":"('2016'!R5/'2016 Rate'!$AA5)*1000","v":7.3094326487991648},{"$f":"('2016'!S5/'2016 Rate'!$AA5)*1000","v":18.012530455969369},null,null,null,null,null,{"$f":"('2016'!Y5/'2016 Rate'!$AA5)*1000","v":2.8280542986425337},"Aberdeen City",229840]
[4,"Aberdeenshire",null,{"$f":"('2016'!D6/'2016 Rate'!$AA6)*1000","v":-1.3349097982379192},{"$f":"('2016'!E6/'2016 Rate'!$AA6)*1000","v":0.45768335939585797},{"$f":"('2016'!F6/'2016 Rate'!$AA6)*1000","v":-1.3654220221976427},{"$f":"('2016'!G6/'2016 Rate'!$AA6)*1000","v":-0.44242724741599604},{"$f":"('2016'!H6/'2016 Rate'!$AA6)*1000","v":31.122468438918343},{"$f":"('2016'!I6/'2016 Rate'!$AA6)*1000","v":32.457378237156263},{"$f":"('2016'!J6/'2016 Rate'!$AA6)*1000","v":-0.26698195964758381},{"$f":"('2016'!K6/'2016 Rate'!$AA6)*1000","v":22.655326290094969},{"$f":"('2016'!L6/'2016 Rate'!$AA6)*1000","v":22.884167969792898},{"$f":"('2016'!M6/'2016 Rate'!$AA6)*1000","v":-2.2884167969792899},{"$f":"('2016'!N6/'2016 Rate'!$AA6)*1000","v":4.7293947137571992},{"$f":"('2016'!O6/'2016 Rate'!$AA6)*1000","v":7.0559517906861435},{"$f":"('2016'!P6/'2016 Rate'!$AA6)*1000","v":1.2204889583889547},{"$f":"('2016'!Q6/'2016 Rate'!$AA6)*1000","v":3.737747435066173},{"$f":"('2016'!R6/'2016 Rate'!$AA6)*1000","v":2.5172584766772186},{"$f":"('2016'!S6/'2016 Rate'!$AA6)*1000","v":5.5303405926999503},null,null,null,null,null,{"$f":"('2016'!Y6/'2016 Rate'!$AA6)*1000","v":0.73610740302833821},"Aberdeenshire",262190]
[5,"Angus",null,{"$f":"('2016'!D7/'2016 Rate'!$AA7)*1000","v":0.60075523515276352},{"$f":"('2016'!E7/'2016 Rate'!$AA7)*1000","v":0.50635084105732919},{"$f":"('2016'!F7/'2016 Rate'!$AA7)*1000","v":0.15447991761071059},{"$f":"('2016'!G7/'2016 Rate'!$AA7)*1000","v":-7.7239958805355294E-2},{"$f":"('2016'!H7/'2016 Rate'!$AA7)*1000","v":33.556470992104359},{"$f":"('2016'!I7/'2016 Rate'!$AA7)*1000","v":32.955715756951598},{"$f":"('2016'!J7/'2016 Rate'!$AA7)*1000","v":0.60075523515276352},{"$f":"('2016'!K7/'2016 Rate'!$AA7)*1000","v":25.231719876416065},{"$f":"('2016'!L7/'2016 Rate'!$AA7)*1000","v":24.716786817713697},{"$f":"('2016'!M7/'2016 Rate'!$AA7)*1000","v":-0.60075523515276352},{"$f":"('2016'!N7/'2016 Rate'!$AA7)*1000","v":5.3209749399244766},{"$f":"('2016'!O7/'2016 Rate'!$AA7)*1000","v":5.92173017507724},{"$f":"('2016'!P7/'2016 Rate'!$AA7)*1000","v":0.60075523515276352},{"$f":"('2016'!Q7/'2016 Rate'!$AA7)*1000","v":3.0037761757638171},{"$f":"('2016'!R7/'2016 Rate'!$AA7)*1000","v":2.3171987641606591},{"$f":"('2016'!S7/'2016 Rate'!$AA7)*1000","v":10.127016821146583},null,null,null,null,null,{"$f":"('2016'!Y7/'2016 Rate'!$AA7)*1000","v":0.25746652935118436},"Angus",116520]
[6,"Argyll and Bute",null,{"$f":"('2016'!D8/'2016 Rate'!$AA8)*1000","v":2.6397337312062437},{"$f":"('2016'!E8/'2016 Rate'!$AA8)*1000","v":1.5035005164696431},{"$f":"('2016'!F8/'2016 Rate'!$AA8)*1000","v":3.1906346838058073},{"$f":"('2016'!G8/'2016 Rate'!$AA8)*1000","v":-2.0084930563525769},{"$f":"('2016'!H8/'2016 Rate'!$AA8)*1000","v":47.170894066337652},{"$f":"('2016'!I8/'2016 Rate'!$AA8)*1000","v":44.531160335131418},{"$f":"('2016'!J8/'2016 Rate'!$AA8)*1000","v":-3.2135888901641225},{"$f":"('2016'!K8/'2016 Rate'!$AA8)*1000","v":27.430276598186619},{"$f":"('2016'!L8/'2016 Rate'!$AA8)*1000","v":30.643865488350741},{"$f":"('2016'!M8/'2016 Rate'!$AA8)*1000","v":5.5090095259956389},{"$f":"('2016'!N8/'2016 Rate'!$AA8)*1000","v":15.723631355445887},{"$f":"('2016'!O8/'2016 Rate'!$AA8)*1000","v":10.214621829450246},{"$f":"('2016'!P8/'2016 Rate'!$AA8)*1000","v":0.4590841271663032},{"$f":"('2016'!Q8/'2016 Rate'!$AA8)*1000","v":4.0169861127051538},{"$f":"('2016'!R8/'2016 Rate'!$AA8)*1000","v":3.5579019855388498},{"$f":"('2016'!S8/'2016 Rate'!$AA8)*1000","v":6.427177780328245},null,null,null,null,null,{"$f":"('2016'!Y8/'2016 Rate'!$AA8)*1000","v":0.34431309537472743},"Argyll & Bute",87130]
[7,"City of Edinburgh",null,{"$f":"('2016'!D9/'2016 Rate'!$AA9)*1000","v":15.10341700021689},{"$f":"('2016'!E9/'2016 Rate'!$AA9)*1000","v":0.44560995327010666},{"$f":"('2016'!F9/'2016 Rate'!$AA9)*1000","v":14.521757990417415},{"$f":"('2016'!G9/'2016 Rate'!$AA9)*1000","v":0.13407733107242148},{"$f":"('2016'!H9/'2016 Rate'!$AA9)*1000","v":63.864187550525465},{"$f":"('2016'!I9/'2016 Rate'!$AA9)*1000","v":48.760770550308578},{"$f":"('2016'!J9/'2016 Rate'!$AA9)*1000","v":-2.9181536762821145},{"$f":"('2016'!K9/'2016 Rate'!$AA9)*1000","v":24.232505865883233},{"$f":"('2016'!L9/'2016 Rate'!$AA9)*1000","v":27.150659542165346},{"$f":"('2016'!M9/'2016 Rate'!$AA9)*1000","v":4.6335548238263309},{"$f":"('2016'!N9/'2016 Rate'!$AA9)*1000","v":18.987716150403219},{"$f":"('2016'!O9/'2016 Rate'!$AA9)*1000","v":14.354161326576888},{"$f":"('2016'!P9/'2016 Rate'!$AA9)*1000","v":13.388015852672673},{"$f":"('2016'!Q9/'2016 Rate'!$AA9)*1000","v":20.643965534239012},{"$f":"('2016'!R9/'2016 Rate'!$AA9)*1000","v":7.2559496815663387},{"$f":"('2016'!S9/'2016 Rate'!$AA9)*1000","v":23.660705483368496},null,null,null,null,null,{"$f":"('2016'!Y9/'2016 Rate'!$AA9)*1000","v":1.8770826350139005},"City of Edinburgh",507170]
[8,"Clackmannanshire",null,{"$f":"('2016'!D10/'2016 Rate'!$AA10)*1000","v":0.19474196689386564},{"$f":"('2016'!E10/'2016 Rate'!$AA10)*1000","v":1.3631937682570594},{"$f":"('2016'!F10/'2016 Rate'!$AA10)*1000","v":-1.0321324245374879},{"$f":"('2016'!G10/'2016 Rate'!$AA10)*1000","v":-9.7370983446932818E-2},{"$f":"('2016'!H10/'2016 Rate'!$AA10)*1000","v":34.274586173320351},{"$f":"('2016'!I10/'2016 Rate'!$AA10)*1000","v":34.079844206426486},{"$f":"('2016'!J10/'2016 Rate'!$AA10)*1000","v":-2.1421616358325219},{"$f":"('2016'!K10/'2016 Rate'!$AA10)*1000","v":25.511197663096397},{"$f":"('2016'!L10/'2016 Rate'!$AA10)*1000","v":27.653359298928919},{"$f":"('2016'!M10/'2016 Rate'!$AA10)*1000","v":1.1684518013631937},{"$f":"('2016'!N10/'2016 Rate'!$AA10)*1000","v":5.6475170399221035},{"$f":"('2016'!O10/'2016 Rate'!$AA10)*1000","v":4.4790652385589098},{"$f":"('2016'!P10/'2016 Rate'!$AA10)*1000","v":1.1684518013631937},{"$f":"('2016'!Q10/'2016 Rate'!$AA10)*1000","v":3.1158714703018502},{"$f":"('2016'!R10/'2016 Rate'!$AA10)*1000","v":1.7526777020447906},{"$f":"('2016'!S10/'2016 Rate'!$AA10)*1000","v":2.7263875365141188},null,null,null,null,null,{"$f":"('2016'!Y10/'2016 Rate'!$AA10)*1000","v":0.19474196689386564},"Clackmannanshire",51350]
[9,"Dumfries and Galloway",null,{"$f":"('2016'!D11/'2016 Rate'!$AA11)*1000","v":2.6083467094703052},{"$f":"('2016'!E11/'2016 Rate'!$AA11)*1000","v":1.0968432316746923},{"$f":"('2016'!F11/'2016 Rate'!$AA11)*1000","v":1.5315676832530765},{"$f":"('2016'!G11/'2016 Rate'!$AA11)*1000","v":6.6880684858212948E-3},{"$f":"('2016'!H11/'2016 Rate'!$AA11)*1000","v":25.949705724986622},{"$f":"('2016'!I11/'2016 Rate'!$AA11)*1000","v":23.341359015516321},{"$f":"('2016'!J11/'2016 Rate'!$AA11)*1000","v":-1.203852327447833},{"$f":"('2016'!K11/'2016 Rate'!$AA11)*1000","v":11.235955056179774},{"$f":"('2016'!L11/'2016 Rate'!$AA11)*1000","v":12.439807383627608},{"$f":"('2016'!M11/'2016 Rate'!$AA11)*1000","v":3.7453183520599249},{"$f":"('2016'!N11/'2016 Rate'!$AA11)*1000","v":12.506688068485822},{"$f":"('2016'!O11/'2016 Rate'!$AA11)*1000","v":8.7613697164258966},{"$f":"('2016'!P11/'2016 Rate'!$AA11)*1000","v":6.6880684858212941E-2},{"$f":"('2016'!Q11/'2016 Rate'!$AA11)*1000","v":2.2739432851792403},{"$f":"('2016'!R11/'2016 Rate'!$AA11)*1000","v":2.2070626003210272},{"$f":"('2016'!S11/'2016 Rate'!$AA11)*1000","v":2.5414660246120917},null,null,null,null,null,{"$f":"('2016'!Y11/'2016 Rate'!$AA11)*1000","v":0.27421080791867308},"Dumfries & Galloway",149520]
[10,"Dundee City",null,{"$f":"('2016'!D12/'2016 Rate'!$AA12)*1000","v":1.2140014837795912},{"$f":"('2016'!E12/'2016 Rate'!$AA12)*1000","v":-0.41815606663519256},{"$f":"('2016'!F12/'2016 Rate'!$AA12)*1000","v":1.6456464557901127},{"$f":"('2016'!G12/'2016 Rate'!$AA12)*1000","v":-3.3722263438321978E-2},{"$f":"('2016'!H12/'2016 Rate'!$AA12)*1000","v":46.334389964254399},{"$f":"('2016'!I12/'2016 Rate'!$AA12)*1000","v":45.187833007351458},{"$f":"('2016'!J12/'2016 Rate'!$AA12)*1000","v":-4.1141161394752812},{"$f":"('2016'!K12/'2016 Rate'!$AA12)*1000","v":28.124367707560531},{"$f":"('2016'!L12/'2016 Rate'!$AA12)*1000","v":32.238483847035816},{"$f":"('2016'!M12/'2016 Rate'!$AA12)*1000","v":-0.13488905375328791},{"$f":"('2016'!N12/'2016 Rate'!$AA12)*1000","v":8.498010386457139},{"$f":"('2016'!O12/'2016 Rate'!$AA12)*1000","v":8.6328994402104264},{"$f":"('2016'!P12/'2016 Rate'!$AA12)*1000","v":5.395562150131517},{"$f":"('2016'!Q12/'2016 Rate'!$AA12)*1000","v":9.7120118702367293},{"$f":"('2016'!R12/'2016 Rate'!$AA12)*1000","v":4.3164497201052132},{"$f":"('2016'!S12/'2016 Rate'!$AA12)*1000","v":9.0375666014702905},null,null,null,null,null,{"$f":"('2016'!Y12/'2016 Rate'!$AA12)*1000","v":0.86328994402104275},"Dundee City",148270]
[11,"East Ayrshire",null,{"$f":"('2016'!D13/'2016 Rate'!$AA13)*1000","v":1.2274959083469721},{"$f":"('2016'!E13/'2016 Rate'!$AA13)*1000","v":0.82651391162029464},{"$f":"('2016'!F13/'2016 Rate'!$AA13)*1000","v":0.13911620294599017},{"$f":"('2016'!G13/'2016 Rate'!$AA13)*1000","v":0.27004909983633385},{"$f":"('2016'!H13/'2016 Rate'!$AA13)*1000","v":27.74140752864157},{"$f":"('2016'!I13/'2016 Rate'!$AA13)*1000","v":26.513911620294596},{"$f":"('2016'!J13/'2016 Rate'!$AA13)*1000","v":0.49099836333878882},{"$f":"('2016'!K13/'2016 Rate'!$AA13)*1000","v":21.849427168576106},{"$f":"('2016'!L13/'2016 Rate'!$AA13)*1000","v":21.358428805237317},{"$f":"('2016'!M13/'2016 Rate'!$AA13)*1000","v":1.0638297872340425},{"$f":"('2016'!N13/'2016 Rate'!$AA13)*1000","v":4.9099836333878883},{"$f":"('2016'!O13/'2016 Rate'!$AA13)*1000","v":3.9279869067103106},{"$f":"('2016'!P13/'2016 Rate'!$AA13)*1000","v":-0.32733224222585927},{"$f":"('2016'!Q13/'2016 Rate'!$AA13)*1000","v":0.90016366612111298},{"$f":"('2016'!R13/'2016 Rate'!$AA13)*1000","v":1.2274959083469721},{"$f":"('2016'!S13/'2016 Rate'!$AA13)*1000","v":1.3093289689034371},null,null,null,null,null,{"$f":"('2016'!Y13/'2016 Rate'!$AA13)*1000","v":0.13093289689034371},"East Ayrshire",122200]
[12,"East Dunbartonshire",null,{"$f":"('2016'!D14/'2016 Rate'!$AA14)*1000","v":6.6021945322670632},{"$f":"('2016'!E14/'2016 Rate'!$AA14)*1000","v":5.0027896596615209},{"$f":"('2016'!F14/'2016 Rate'!$AA14)*1000","v":1.5808071415287335},{"$f":"('2016'!G14/'2016 Rate'!$AA14)*1000","v":-1.8597731076808632E-2},{"$f":"('2016'!H14/'2016 Rate'!$AA14)*1000","v":39.055235261298122},{"$f":"('2016'!I14/'2016 Rate'!$AA14)*1000","v":32.453040729031059},{"$f":"('2016'!J14/'2016 Rate'!$AA14)*1000","v":5.4863306676585459},{"$f":"('2016'!K14/'2016 Rate'!$AA14)*1000","v":32.917984005951269},{"$f":"('2016'!L14/'2016 Rate'!$AA14)*1000","v":27.431653338292726},{"$f":"('2016'!M14/'2016 Rate'!$AA14)*1000","v":0.65092058768830208},{"$f":"('2016'!N14/'2016 Rate'!$AA14)*1000","v":4.4634554584340709},{"$f":"('2016'!O14/'2016 Rate'!$AA14)*1000","v":3.719546215361726},{"$f":"('2016'!P14/'2016 Rate'!$AA14)*1000","v":0.46494327692021575},{"$f":"('2016'!Q14/'2016 Rate'!$AA14)*1000","v":1.7667844522968197},{"$f":"('2016'!R14/'2016 Rate'!$AA14)*1000","v":1.3018411753766042},{"$f":"('2016'!S14/'2016 Rate'!$AA14)*1000","v":1.5808071415287335},null,null,null,null,null,{"$f":"('2016'!Y14/'2016 Rate'!$AA14)*1000","v":0.502138739073833},"East Dunbartonshire",107540]
[13,"East Lothian",null,{"$f":"('2016'!D15/'2016 Rate'!$AA15)*1000","v":9.2227879719473531},{"$f":"('2016'!E15/'2016 Rate'!$AA15)*1000","v":1.6235949658948987},{"$f":"('2016'!F15/'2016 Rate'!$AA15)*1000","v":6.4079162263425884},{"$f":"('2016'!G15/'2016 Rate'!$AA15)*1000","v":1.1912767797098665},{"$f":"('2016'!H15/'2016 Rate'!$AA15)*1000","v":38.524353924488423},{"$f":"('2016'!I15/'2016 Rate'!$AA15)*1000","v":29.301565952541068},{"$f":"('2016'!J15/'2016 Rate'!$AA15)*1000","v":4.8035354020559131},{"$f":"('2016'!K15/'2016 Rate'!$AA15)*1000","v":27.572293207800939},{"$f":"('2016'!L15/'2016 Rate'!$AA15)*1000","v":22.768757805745025},{"$f":"('2016'!M15/'2016 Rate'!$AA15)*1000","v":1.6332020366990103},{"$f":"('2016'!N15/'2016 Rate'!$AA15)*1000","v":6.5328081467960413},{"$f":"('2016'!O15/'2016 Rate'!$AA15)*1000","v":4.8996061100970314},{"$f":"('2016'!P15/'2016 Rate'!$AA15)*1000","v":2.7860505331924292},{"$f":"('2016'!Q15/'2016 Rate'!$AA15)*1000","v":4.41925256989144},{"$f":"('2016'!R15/'2016 Rate'!$AA15)*1000","v":1.6332020366990103},{"$f":"('2016'!S15/'2016 Rate'!$AA15)*1000","v":5.2838889422615045},null,null,null,null,null,{"$f":"('2016'!Y15/'2016 Rate'!$AA15)*1000","v":0.37467576136036124},"East Lothian",104090]
[14,"East Renfrewshire",null,{"$f":"('2016'!D16/'2016 Rate'!$AA16)*1000","v":8.7410723803432475},{"$f":"('2016'!E16/'2016 Rate'!$AA16)*1000","v":6.6730625732864297},{"$f":"('2016'!F16/'2016 Rate'!$AA16)*1000","v":1.6949152542372881},{"$f":"('2016'!G16/'2016 Rate'!$AA16)*1000","v":0.36243470845325659},{"$f":"('2016'!H16/'2016 Rate'!$AA16)*1000","v":43.492165014390785},{"$f":"('2016'!I16/'2016 Rate'!$AA16)*1000","v":34.751092634047538},{"$f":"('2016'!J16/'2016 Rate'!$AA16)*1000","v":7.7816863873787439},{"$f":"('2016'!K16/'2016 Rate'!$AA16)*1000","v":37.096258394627441},{"$f":"('2016'!L16/'2016 Rate'!$AA16)*1000","v":29.421170450911415},{"$f":"('2016'!M16/'2016 Rate'!$AA16)*1000","v":0.42639377465089012},{"$f":"('2016'!N16/'2016 Rate'!$AA16)*1000","v":4.4771346338343463},{"$f":"('2016'!O16/'2016 Rate'!$AA16)*1000","v":3.9441424155207336},{"$f":"('2016'!P16/'2016 Rate'!$AA16)*1000","v":0.53299221831361265},{"$f":"('2016'!Q16/'2016 Rate'!$AA16)*1000","v":1.9187719859290053},{"$f":"('2016'!R16/'2016 Rate'!$AA16)*1000","v":1.3857797676153929},{"$f":"('2016'!S16/'2016 Rate'!$AA16)*1000","v":1.812173542266283},null,null,null,null,null,{"$f":"('2016'!Y16/'2016 Rate'!$AA16)*1000","v":0.92740645986568593},"East Renfrewshire",93810]
[15,"Falkirk",null,{"$f":"('2016'!D17/'2016 Rate'!$AA17)*1000","v":5.8978541849667456},{"$f":"('2016'!E17/'2016 Rate'!$AA17)*1000","v":1.0415359518132765},{"$f":"('2016'!F17/'2016 Rate'!$AA17)*1000","v":4.6680888442715522},{"$f":"('2016'!G17/'2016 Rate'!$AA17)*1000","v":0.18822938888191743},{"$f":"('2016'!H17/'2016 Rate'!$AA17)*1000","v":28.548123980424144},{"$f":"('2016'!I17/'2016 Rate'!$AA17)*1000","v":22.650269795457397},{"$f":"('2016'!J17/'2016 Rate'!$AA17)*1000","v":3.701844648011043},{"$f":"('2016'!K17/'2016 Rate'!$AA17)*1000","v":21.771865980675116},{"$f":"('2016'!L17/'2016 Rate'!$AA17)*1000","v":18.070021332664073},{"$f":"('2016'!M17/'2016 Rate'!$AA17)*1000","v":1.2548625925461161},{"$f":"('2016'!N17/'2016 Rate'!$AA17)*1000","v":4.3920190739114071},{"$f":"('2016'!O17/'2016 Rate'!$AA17)*1000","v":3.1371564813652904},{"$f":"('2016'!P17/'2016 Rate'!$AA17)*1000","v":1.003890074036893},{"$f":"('2016'!Q17/'2016 Rate'!$AA17)*1000","v":2.3842389258376211},{"$f":"('2016'!R17/'2016 Rate'!$AA17)*1000","v":1.4430919814280336},{"$f":"('2016'!S17/'2016 Rate'!$AA17)*1000","v":2.8861839628560673},null,null,null,null,null,{"$f":"('2016'!Y17/'2016 Rate'!$AA17)*1000","v":0.41410465554021836},"Falkirk",159380]
[16,"Fife",null,{"$f":"('2016'!D18/'2016 Rate'!$AA18)*1000","v":4.3474738746523371},{"$f":"('2016'!E18/'2016 Rate'!$AA18)*1000","v":0.91269948424378256},{"$f":"('2016'!F18/'2016 Rate'!$AA18)*1000","v":3.1917479005211566},{"$f":"('2016'!G18/'2016 Rate'!$AA18)*1000","v":0.23762590122323335},{"$f":"('2016'!H18/'2016 Rate'!$AA18)*1000","v":30.783355385737046},{"$f":"('2016'!I18/'2016 Rate'!$AA18)*1000","v":26.462884454405529},{"$f":"('2016'!J18/'2016 Rate'!$AA18)*1000","v":0.32403531984986361},{"$f":"('2016'!K18/'2016 Rate'!$AA18)*1000","v":17.497907271892636},{"$f":"('2016'!L18/'2016 Rate'!$AA18)*1000","v":17.17387195204277},{"$f":"('2016'!M18/'2016 Rate'!$AA18)*1000","v":1.1881295061161665},{"$f":"('2016'!N18/'2016 Rate'!$AA18)*1000","v":7.7498447330759053},{"$f":"('2016'!O18/'2016 Rate'!$AA18)*1000","v":6.5617152269597385},{"$f":"('2016'!P18/'2016 Rate'!$AA18)*1000","v":2.8083061053654852},{"$f":"('2016'!Q18/'2016 Rate'!$AA18)*1000","v":5.5356033807685039},{"$f":"('2016'!R18/'2016 Rate'!$AA18)*1000","v":2.7272972754030191},{"$f":"('2016'!S18/'2016 Rate'!$AA18)*1000","v":6.2916857937515189},null,null,null,null,null,{"$f":"('2016'!Y18/'2016 Rate'!$AA18)*1000","v":0.43204709313315148},"Fife",370330]
[17,"Glasgow City",null,{"$f":"('2016'!D19/'2016 Rate'!$AA19)*1000","v":12.941616401385208},{"$f":"('2016'!E19/'2016 Rate'!$AA19)*1000","v":-0.57066675337766437},{"$f":"('2016'!F19/'2016 Rate'!$AA19)*1000","v":13.843952720828524},{"$f":"('2016'!G19/'2016 Rate'!$AA19)*1000","v":-0.32679207244703856},{"$f":"('2016'!H19/'2016 Rate'!$AA19)*1000","v":56.855317280959888},{"$f":"('2016'!I19/'2016 Rate'!$AA19)*1000","v":43.897442567512641},{"$f":"('2016'!J19/'2016 Rate'!$AA19)*1000","v":-2.959012795291593},{"$f":"('2016'!K19/'2016 Rate'!$AA19)*1000","v":27.265189328043963},{"$f":"('2016'!L19/'2016 Rate'!$AA19)*1000","v":30.224202123335555},{"$f":"('2016'!M19/'2016 Rate'!$AA19)*1000","v":3.0077877314777179},{"$f":"('2016'!N19/'2016 Rate'!$AA19)*1000","v":10.941844017754077},{"$f":"('2016'!O19/'2016 Rate'!$AA19)*1000","v":7.9503145983383998},{"$f":"('2016'!P19/'2016 Rate'!$AA19)*1000","v":12.909099777261126},{"$f":"('2016'!Q19/'2016 Rate'!$AA19)*1000","v":18.63202562309981},{"$f":"('2016'!R19/'2016 Rate'!$AA19)*1000","v":5.739184157900727},{"$f":"('2016'!S19/'2016 Rate'!$AA19)*1000","v":14.534930983465296},null,null,null,null,null,{"$f":"('2016'!Y19/'2016 Rate'!$AA19)*1000","v":1.7526460402880975},"Glasgow City",615070]
[18,"Highland",null,{"$f":"('2016'!D20/'2016 Rate'!$AA20)*1000","v":5.1113856114495038},{"$f":"('2016'!E20/'2016 Rate'!$AA20)*1000","v":1.328960258976871},{"$f":"('2016'!F20/'2016 Rate'!$AA20)*1000","v":4.327639817693913},{"$f":"('2016'!G20/'2016 Rate'!$AA20)*1000","v":-0.56225241725944541},{"$f":"('2016'!H20/'2016 Rate'!$AA20)*1000","v":32.542488392895173},{"$f":"('2016'!I20/'2016 Rate'!$AA20)*1000","v":27.43110278144567},{"$f":"('2016'!J20/'2016 Rate'!$AA20)*1000","v":-0.17037952038165011},{"$f":"('2016'!K20/'2016 Rate'!$AA20)*1000","v":17.80465987988244},{"$f":"('2016'!L20/'2016 Rate'!$AA20)*1000","v":17.975039400264087},{"$f":"('2016'!M20/'2016 Rate'!$AA20)*1000","v":3.7909443284917153},{"$f":"('2016'!N20/'2016 Rate'!$AA20)*1000","v":10.819099544234783},{"$f":"('2016'!O20/'2016 Rate'!$AA20)*1000","v":7.0281552157430678},{"$f":"('2016'!P20/'2016 Rate'!$AA20)*1000","v":1.4908208033394386},{"$f":"('2016'!Q20/'2016 Rate'!$AA20)*1000","v":3.9187289687779527},{"$f":"('2016'!R20/'2016 Rate'!$AA20)*1000","v":2.4279081654385144},{"$f":"('2016'!S20/'2016 Rate'!$AA20)*1000","v":7.3689142565063683},null,null,null,null,null,{"$f":"('2016'!Y20/'2016 Rate'!$AA20)*1000","v":0.43020828896366659},"Highland",234770]
[19,"Inverclyde",null,{"$f":"('2016'!D21/'2016 Rate'!$AA21)*1000","v":-0.75795856493178371},{"$f":"('2016'!E21/'2016 Rate'!$AA21)*1000","v":0.66953006568974227},{"$f":"('2016'!F21/'2016 Rate'!$AA21)*1000","v":-1.9327943405760486},{"$f":"('2016'!G21/'2016 Rate'!$AA21)*1000","v":0.55583628094997473},{"$f":"('2016'!H21/'2016 Rate'!$AA21)*1000","v":19.327943405760486},{"$f":"('2016'!I21/'2016 Rate'!$AA21)*1000","v":20.085901970692269},{"$f":"('2016'!J21/'2016 Rate'!$AA21)*1000","v":-1.7685699848408287},{"$f":"('2016'!K21/'2016 Rate'!$AA21)*1000","v":13.769580596260736},{"$f":"('2016'!L21/'2016 Rate'!$AA21)*1000","v":15.538150581101567},{"$f":"('2016'!M21/'2016 Rate'!$AA21)*1000","v":0.63163213744315316},{"$f":"('2016'!N21/'2016 Rate'!$AA21)*1000","v":3.9161192521475492},{"$f":"('2016'!O21/'2016 Rate'!$AA21)*1000","v":3.2844871147043961},{"$f":"('2016'!P21/'2016 Rate'!$AA21)*1000","v":0.50530570995452251},{"$f":"('2016'!Q21/'2016 Rate'!$AA21)*1000","v":1.6422435573521981},{"$f":"('2016'!R21/'2016 Rate'!$AA21)*1000","v":1.1369378473976757},{"$f":"('2016'!S21/'2016 Rate'!$AA21)*1000","v":2.2738756947953513},null,null,null,null,null,{"$f":"('2016'!Y21/'2016 Rate'!$AA21)*1000","v":0.24002021222839817},"Inverclyde",79160]
[20,"Midlothian",null,{"$f":"('2016'!D22/'2016 Rate'!$AA22)*1000","v":11.398262047173006},{"$f":"('2016'!E22/'2016 Rate'!$AA22)*1000","v":2.3699356731745853},{"$f":"('2016'!F22/'2016 Rate'!$AA22)*1000","v":8.8364744385509528},{"$f":"('2016'!G22/'2016 Rate'!$AA22)*1000","v":0.16928111951247035},{"$f":"('2016'!H22/'2016 Rate'!$AA22)*1000","v":40.966030922017829},{"$f":"('2016'!I22/'2016 Rate'!$AA22)*1000","v":29.567768874844827},{"$f":"('2016'!J22/'2016 Rate'!$AA22)*1000","v":9.7054508520483012},{"$f":"('2016'!K22/'2016 Rate'!$AA22)*1000","v":34.081932061844036},{"$f":"('2016'!L22/'2016 Rate'!$AA22)*1000","v":24.376481209795735},{"$f":"('2016'!M22/'2016 Rate'!$AA22)*1000","v":0.7899785577248617},{"$f":"('2016'!N22/'2016 Rate'!$AA22)*1000","v":4.6270172666741907},{"$f":"('2016'!O22/'2016 Rate'!$AA22)*1000","v":3.8370387089493287},{"$f":"('2016'!P22/'2016 Rate'!$AA22)*1000","v":1.0156867170748223},{"$f":"('2016'!Q22/'2016 Rate'!$AA22)*1000","v":2.3699356731745853},{"$f":"('2016'!R22/'2016 Rate'!$AA22)*1000","v":1.3542489560997628},{"$f":"('2016'!S22/'2016 Rate'!$AA22)*1000","v":3.2727683105744272},null,null,null,null,null,{"$f":"('2016'!Y22/'2016 Rate'!$AA22)*1000","v":0.66583907008238341},"Midlothian",88610]
[21,"Moray",null,{"$f":"('2016'!D23/'2016 Rate'!$AA23)*1000","v":5.7249921931924641},{"$f":"('2016'!E23/'2016 Rate'!$AA23)*1000","v":1.7695430415322162},{"$f":"('2016'!F23/'2016 Rate'!$AA23)*1000","v":3.5703133132091183},{"$f":"('2016'!G23/'2016 Rate'!$AA23)*1000","v":0.41636306859581557},{"$f":"('2016'!H23/'2016 Rate'!$AA23)*1000","v":37.056313105027584},{"$f":"('2016'!I23/'2016 Rate'!$AA23)*1000","v":31.331320911835117},{"$f":"('2016'!J23/'2016 Rate'!$AA23)*1000","v":2.0818153429790778},{"$f":"('2016'!K23/'2016 Rate'!$AA23)*1000","v":21.4426980326845},{"$f":"('2016'!L23/'2016 Rate'!$AA23)*1000","v":19.360882689705424},{"$f":"('2016'!M23/'2016 Rate'!$AA23)*1000","v":2.9145414801707088},{"$f":"('2016'!N23/'2016 Rate'!$AA23)*1000","v":12.28271052357656},{"$f":"('2016'!O23/'2016 Rate'!$AA23)*1000","v":9.4722598105548048},{"$f":"('2016'!P23/'2016 Rate'!$AA23)*1000","v":0.83272613719163113},{"$f":"('2016'!Q23/'2016 Rate'!$AA23)*1000","v":3.3309045487665245},{"$f":"('2016'!R23/'2016 Rate'!$AA23)*1000","v":2.4981784115748935},{"$f":"('2016'!S23/'2016 Rate'!$AA23)*1000","v":2.7063599458728014},null,null,null,null,null,{"$f":"('2016'!Y23/'2016 Rate'!$AA23)*1000","v":0.38513583845112936},"Moray",96070]
[22,"Na h-Eileanan Siar",null,{"$f":"('2016'!D24/'2016 Rate'!$AA24)*1000","v":-2.6022304832713754},{"$f":"('2016'!E24/'2016 Rate'!$AA24)*1000","v":0.29739776951672864},{"$f":"('2016'!F24/'2016 Rate'!$AA24)*1000","v":-2.4163568773234201},{"$f":"('2016'!G24/'2016 Rate'!$AA24)*1000","v":-0.37174721189591076},{"$f":"('2016'!H24/'2016 Rate'!$AA24)*1000","v":31.226765799256505},{"$f":"('2016'!I24/'2016 Rate'!$AA24)*1000","v":33.457249070631967},{"$f":"('2016'!J24/'2016 Rate'!$AA24)*1000","v":-4.4609665427509295},{"$f":"('2016'!K24/'2016 Rate'!$AA24)*1000","v":19.702602230483272},{"$f":"('2016'!L24/'2016 Rate'!$AA24)*1000","v":24.163568773234203},{"$f":"('2016'!M24/'2016 Rate'!$AA24)*1000","v":1.1152416356877324},{"$f":"('2016'!N24/'2016 Rate'!$AA24)*1000","v":8.5501858736059475},{"$f":"('2016'!O24/'2016 Rate'!$AA24)*1000","v":7.4349442379182156},{"$f":"('2016'!P24/'2016 Rate'!$AA24)*1000","v":0.74349442379182151},{"$f":"('2016'!Q24/'2016 Rate'!$AA24)*1000","v":2.6022304832713754},{"$f":"('2016'!R24/'2016 Rate'!$AA24)*1000","v":1.8587360594795539},{"$f":"('2016'!S24/'2016 Rate'!$AA24)*1000","v":2.2304832713754648},null,null,null,null,null,{"$f":"('2016'!Y24/'2016 Rate'!$AA24)*1000","v":0.22304832713754646},"Na h-Eileanan Siar",26900]
[23,"North Ayrshire",null,{"$f":"('2016'!D25/'2016 Rate'!$AA25)*1000","v":0.51512252557215399},{"$f":"('2016'!E25/'2016 Rate'!$AA25)*1000","v":0.96401501214217378},{"$f":"('2016'!F25/'2016 Rate'!$AA25)*1000","v":0.15453675767164618},{"$f":"('2016'!G25/'2016 Rate'!$AA25)*1000","v":-0.64022371035396286},{"$f":"('2016'!H25/'2016 Rate'!$AA25)*1000","v":27.522260651997939},{"$f":"('2016'!I25/'2016 Rate'!$AA25)*1000","v":27.080727058650378},{"$f":"('2016'!J25/'2016 Rate'!$AA25)*1000","v":-0.80947825447052768},{"$f":"('2016'!K25/'2016 Rate'!$AA25)*1000","v":20.236956361763188},{"$f":"('2016'!L25/'2016 Rate'!$AA25)*1000","v":21.046434616233718},{"$f":"('2016'!M25/'2016 Rate'!$AA25)*1000","v":1.5453675767164619},{"$f":"('2016'!N25/'2016 Rate'!$AA25)*1000","v":5.9607035101920669},{"$f":"('2016'!O25/'2016 Rate'!$AA25)*1000","v":4.3417470012510115},{"$f":"('2016'!P25/'2016 Rate'!$AA25)*1000","v":-0.29435572889837369},{"$f":"('2016'!Q25/'2016 Rate'!$AA25)*1000","v":1.3246007800426816},{"$f":"('2016'!R25/'2016 Rate'!$AA25)*1000","v":1.6189565089410554},{"$f":"('2016'!S25/'2016 Rate'!$AA25)*1000","v":1.5453675767164619},null,null,null,null,null,{"$f":"('2016'!Y25/'2016 Rate'!$AA25)*1000","v":0.19869011700640224},"North Ayrshire",135890]
[24,"North Lanarkshire",null,{"$f":"('2016'!D26/'2016 Rate'!$AA26)*1000","v":2.8875335160140252},{"$f":"('2016'!E26/'2016 Rate'!$AA26)*1000","v":1.0813518371195379},{"$f":"('2016'!F26/'2016 Rate'!$AA26)*1000","v":2.139131972067533},{"$f":"('2016'!G26/'2016 Rate'!$AA26)*1000","v":-0.32705736763015997},{"$f":"('2016'!H26/'2016 Rate'!$AA26)*1000","v":23.748489937829635},{"$f":"('2016'!I26/'2016 Rate'!$AA26)*1000","v":20.860956421815612},{"$f":"('2016'!J26/'2016 Rate'!$AA26)*1000","v":1.6205545242935855},{"$f":"('2016'!K26/'2016 Rate'!$AA26)*1000","v":18.150210672088161},{"$f":"('2016'!L26/'2016 Rate'!$AA26)*1000","v":16.529656147794572},{"$f":"('2016'!M26/'2016 Rate'!$AA26)*1000","v":0.50089867114529008},{"$f":"('2016'!N26/'2016 Rate'!$AA26)*1000","v":3.4473614425881731},{"$f":"('2016'!O26/'2016 Rate'!$AA26)*1000","v":2.9464627714428828},{"$f":"('2016'!P26/'2016 Rate'!$AA26)*1000","v":0.79554494828957845},{"$f":"('2016'!Q26/'2016 Rate'!$AA26)*1000","v":2.1803824508677332},{"$f":"('2016'!R26/'2016 Rate'!$AA26)*1000","v":1.384837502578155},{"$f":"('2016'!S26/'2016 Rate'!$AA26)*1000","v":3.8304016028757477},null,null,null,null,null,{"$f":"('2016'!Y26/'2016 Rate'!$AA26)*1000","v":0.30348566545861688},"North Lanarkshire",339390]
[25,"Orkney Islands",null,{"$f":"('2016'!D27/'2016 Rate'!$AA27)*1000","v":10.068649885583524},{"$f":"('2016'!E27/'2016 Rate'!$AA27)*1000","v":3.3867276887871851},{"$f":"('2016'!F27/'2016 Rate'!$AA27)*1000","v":5.8123569794050338},{"$f":"('2016'!G27/'2016 Rate'!$AA27)*1000","v":1.0068649885583525},{"$f":"('2016'!H27/'2016 Rate'!$AA27)*1000","v":39.359267734553775},{"$f":"('2016'!I27/'2016 Rate'!$AA27)*1000","v":29.290617848970253},{"$f":"('2016'!J27/'2016 Rate'!$AA27)*1000","v":-0.91533180778032042},{"$f":"('2016'!K27/'2016 Rate'!$AA27)*1000","v":19.221967963386728},{"$f":"('2016'!L27/'2016 Rate'!$AA27)*1000","v":20.137299771167047},{"$f":"('2016'!M27/'2016 Rate'!$AA27)*1000","v":10.983981693363845},{"$f":"('2016'!N27/'2016 Rate'!$AA27)*1000","v":17.848970251716246},{"$f":"('2016'!O27/'2016 Rate'!$AA27)*1000","v":6.864988558352402},{"$f":"('2016'!P27/'2016 Rate'!$AA27)*1000","v":0},{"$f":"('2016'!Q27/'2016 Rate'!$AA27)*1000","v":2.2883295194508011},{"$f":"('2016'!R27/'2016 Rate'!$AA27)*1000","v":2.2883295194508011},{"$f":"('2016'!S27/'2016 Rate'!$AA27)*1000","v":2.7459954233409611},null,null,null,null,null,{"$f":"('2016'!Y27/'2016 Rate'!$AA27)*1000","v":0.36613272311212813},"Orkney Islands",21850]
[26,"Perth and Kinross",null,{"$f":"('2016'!D28/'2016 Rate'!$AA28)*1000","v":7.0347756835678252},{"$f":"('2016'!E28/'2016 Rate'!$AA28)*1000","v":2.2232545792407752},{"$f":"('2016'!F28/'2016 Rate'!$AA28)*1000","v":4.1876825059729228},{"$f":"('2016'!G28/'2016 Rate'!$AA28)*1000","v":0.63711176002123704},{"$f":"('2016'!H28/'2016 Rate'!$AA28)*1000","v":42.009556676400322},{"$f":"('2016'!I28/'2016 Rate'!$AA28)*1000","v":34.974780992832493},{"$f":"('2016'!J28/'2016 Rate'!$AA28)*1000","v":2.6546323334218211},{"$f":"('2016'!K28/'2016 Rate'!$AA28)*1000","v":28.139102734271301},{"$f":"('2016'!L28/'2016 Rate'!$AA28)*1000","v":25.484470400849482},{"$f":"('2016'!M28/'2016 Rate'!$AA28)*1000","v":1.5927794000530926},{"$f":"('2016'!N28/'2016 Rate'!$AA28)*1000","v":7.6320679585877356},{"$f":"('2016'!O28/'2016 Rate'!$AA28)*1000","v":6.0392885585346434},{"$f":"('2016'!P28/'2016 Rate'!$AA28)*1000","v":2.7873639500929119},{"$f":"('2016'!Q28/'2016 Rate'!$AA28)*1000","v":6.2383859835412796},{"$f":"('2016'!R28/'2016 Rate'!$AA28)*1000","v":3.4510220334483677},{"$f":"('2016'!S28/'2016 Rate'!$AA28)*1000","v":17.719670825590654},null,null,null,null,null,{"$f":"('2016'!Y28/'2016 Rate'!$AA28)*1000","v":0.41810459251393683},"Perth & Kinross",150680]
[27,"Renfrewshire",null,{"$f":"('2016'!D29/'2016 Rate'!$AA29)*1000","v":9.1513670209742504},{"$f":"('2016'!E29/'2016 Rate'!$AA29)*1000","v":1.6711191951344286},{"$f":"('2016'!F29/'2016 Rate'!$AA29)*1000","v":7.0084692775535729},{"$f":"('2016'!G29/'2016 Rate'!$AA29)*1000","v":0.49451486386631044},{"$f":"('2016'!H29/'2016 Rate'!$AA29)*1000","v":35.013925993292787},{"$f":"('2016'!I29/'2016 Rate'!$AA29)*1000","v":25.862558972318535},{"$f":"('2016'!J29/'2016 Rate'!$AA29)*1000","v":5.1725117944637073},{"$f":"('2016'!K29/'2016 Rate'!$AA29)*1000","v":25.635195816517932},{"$f":"('2016'!L29/'2016 Rate'!$AA29)*1000","v":20.462684022054226},{"$f":"('2016'!M29/'2016 Rate'!$AA29)*1000","v":1.0799749900528619},{"$f":"('2016'!N29/'2016 Rate'!$AA29)*1000","v":4.8314670607628036},{"$f":"('2016'!O29/'2016 Rate'!$AA29)*1000","v":3.7514920707099413},{"$f":"('2016'!P29/'2016 Rate'!$AA29)*1000","v":2.898880236457682},{"$f":"('2016'!Q29/'2016 Rate'!$AA29)*1000","v":4.5472631160120498},{"$f":"('2016'!R29/'2016 Rate'!$AA29)*1000","v":1.6483828795543682},{"$f":"('2016'!S29/'2016 Rate'!$AA29)*1000","v":5.0588302165634058},null,null,null,null,null,{"$f":"('2016'!Y29/'2016 Rate'!$AA29)*1000","v":0.50588302165634058},"Renfrewshire",175930]
[28,"Scottish Borders",null,{"$f":"('2016'!D30/'2016 Rate'!$AA30)*1000","v":6.0246223696847991},{"$f":"('2016'!E30/'2016 Rate'!$AA30)*1000","v":2.0082074565615993},{"$f":"('2016'!F30/'2016 Rate'!$AA30)*1000","v":4.365668383829564},{"$f":"('2016'!G30/'2016 Rate'!$AA30)*1000","v":-0.34925347070636514},{"$f":"('2016'!H30/'2016 Rate'!$AA30)*1000","v":38.330568410023574},{"$f":"('2016'!I30/'2016 Rate'!$AA30)*1000","v":32.305946040338775},{"$f":"('2016'!J30/'2016 Rate'!$AA30)*1000","v":3.1432812363572862},{"$f":"('2016'!K30/'2016 Rate'!$AA30)*1000","v":21.828341919147821},{"$f":"('2016'!L30/'2016 Rate'!$AA30)*1000","v":18.685060682790535},{"$f":"('2016'!M30/'2016 Rate'!$AA30)*1000","v":2.8813411333275125},{"$f":"('2016'!N30/'2016 Rate'!$AA30)*1000","v":13.795512092901424},{"$f":"('2016'!O30/'2016 Rate'!$AA30)*1000","v":10.91417095957391},{"$f":"('2016'!P30/'2016 Rate'!$AA30)*1000","v":0},{"$f":"('2016'!Q30/'2016 Rate'!$AA30)*1000","v":2.7940277656509211},{"$f":"('2016'!R30/'2016 Rate'!$AA30)*1000","v":2.7067143979743298},{"$f":"('2016'!S30/'2016 Rate'!$AA30)*1000","v":3.2305946040338775},null,null,null,null,null,{"$f":"('2016'!Y30/'2016 Rate'!$AA30)*1000","v":0.22701475595913734},"Scottish Borders",114530]
[29,"Shetland Islands",null,{"$f":"('2016'!D31/'2016 Rate'!$AA31)*1000","v":-0.86206896551724133},{"$f":"('2016'!E31/'2016 Rate'!$AA31)*1000","v":0.60344827586206895},{"$f":"('2016'!F31/'2016 Rate'!$AA31)*1000","v":-1.2931034482758621},{"$f":"('2016'!G31/'2016 Rate'!$AA31)*1000","v":4.3103448275862065E-2},{"$f":"('2016'!H31/'2016 Rate'!$AA31)*1000","v":29.310344827586206},{"$f":"('2016'!I31/'2016 Rate'!$AA31)*1000","v":29.741379310344829},{"$f":"('2016'!J31/'2016 Rate'!$AA31)*1000","v":-6.8965517241379306},{"$f":"('2016'!K31/'2016 Rate'!$AA31)*1000","v":13.793103448275861},{"$f":"('2016'!L31/'2016 Rate'!$AA31)*1000","v":20.258620689655171},{"$f":"('2016'!M31/'2016 Rate'!$AA31)*1000","v":4.3103448275862064},{"$f":"('2016'!N31/'2016 Rate'!$AA31)*1000","v":11.63793103448276},{"$f":"('2016'!O31/'2016 Rate'!$AA31)*1000","v":7.3275862068965516},{"$f":"('2016'!P31/'2016 Rate'!$AA31)*1000","v":1.7241379310344827},{"$f":"('2016'!Q31/'2016 Rate'!$AA31)*1000","v":3.8793103448275863},{"$f":"('2016'!R31/'2016 Rate'!$AA31)*1000","v":2.1551724137931032},{"$f":"('2016'!S31/'2016 Rate'!$AA31)*1000","v":6.0344827586206895},null,null,null,null,null,{"$f":"('2016'!Y31/'2016 Rate'!$AA31)*1000","v":0.38793103448275862},"Shetland Islands",23200]
[30,"South Ayrshire",null,{"$f":"('2016'!D32/'2016 Rate'!$AA32)*1000","v":4.890192940339646},{"$f":"('2016'!E32/'2016 Rate'!$AA32)*1000","v":1.2892326842713613},{"$f":"('2016'!F32/'2016 Rate'!$AA32)*1000","v":2.1250111140748644},{"$f":"('2016'!G32/'2016 Rate'!$AA32)*1000","v":1.4403841024273139},{"$f":"('2016'!H32/'2016 Rate'!$AA32)*1000","v":33.697874988885928},{"$f":"('2016'!I32/'2016 Rate'!$AA32)*1000","v":28.80768204854628},{"$f":"('2016'!J32/'2016 Rate'!$AA32)*1000","v":2.2228149728816571},{"$f":"('2016'!K32/'2016 Rate'!$AA32)*1000","v":23.917489108206631},{"$f":"('2016'!L32/'2016 Rate'!$AA32)*1000","v":21.694674135324973},{"$f":"('2016'!M32/'2016 Rate'!$AA32)*1000","v":2.3117275717969235},{"$f":"('2016'!N32/'2016 Rate'!$AA32)*1000","v":7.468658308882369},{"$f":"('2016'!O32/'2016 Rate'!$AA32)*1000","v":5.1569307370854451},{"$f":"('2016'!P32/'2016 Rate'!$AA32)*1000","v":0.35565039566106516},{"$f":"('2016'!Q32/'2016 Rate'!$AA32)*1000","v":2.3117275717969235},{"$f":"('2016'!R32/'2016 Rate'!$AA32)*1000","v":1.9560771761358586},{"$f":"('2016'!S32/'2016 Rate'!$AA32)*1000","v":2.8452031652885212},null,null,null,null,null,{"$f":"('2016'!Y32/'2016 Rate'!$AA32)*1000","v":0.32008535609495864},"South Ayrshire",112470]
[31,"South Lanarkshire",null,{"$f":"('2016'!D33/'2016 Rate'!$AA33)*1000","v":3.468937243771681},{"$f":"('2016'!E33/'2016 Rate'!$AA33)*1000","v":0.76631977294228948},{"$f":"('2016'!F33/'2016 Rate'!$AA33)*1000","v":2.3462630085146641},{"$f":"('2016'!G33/'2016 Rate'!$AA33)*1000","v":0.34689372437716809},{"$f":"('2016'!H33/'2016 Rate'!$AA33)*1000","v":28.918322295805741},{"$f":"('2016'!I33/'2016 Rate'!$AA33)*1000","v":25.44938505203406},{"$f":"('2016'!J33/'2016 Rate'!$AA33)*1000","v":2.4282560706401766},{"$f":"('2016'!K33/'2016 Rate'!$AA33)*1000","v":22.327341532639547},{"$f":"('2016'!L33/'2016 Rate'!$AA33)*1000","v":19.867549668874172},{"$f":"('2016'!M33/'2016 Rate'!$AA33)*1000","v":0.59918006937874491},{"$f":"('2016'!N33/'2016 Rate'!$AA33)*1000","v":4.5726900031535793},{"$f":"('2016'!O33/'2016 Rate'!$AA33)*1000","v":3.9735099337748343},{"$f":"('2016'!P33/'2016 Rate'!$AA33)*1000","v":0.40996531062756231},{"$f":"('2016'!Q33/'2016 Rate'!$AA33)*1000","v":2.0182907600126141},{"$f":"('2016'!R33/'2016 Rate'!$AA33)*1000","v":1.6083254493850521},{"$f":"('2016'!S33/'2016 Rate'!$AA33)*1000","v":2.838221381267739},null,null,null,null,null,{"$f":"('2016'!Y33/'2016 Rate'!$AA33)*1000","v":0.42888678650268053},"South Lanarkshire",317100]
[32,"Stirling",null,{"$f":"('2016'!D34/'2016 Rate'!$AA34)*1000","v":10.773333333333333},{"$f":"('2016'!E34/'2016 Rate'!$AA34)*1000","v":2.9546666666666668},{"$f":"('2016'!F34/'2016 Rate'!$AA34)*1000","v":7.9253333333333327},{"$f":"('2016'!G34/'2016 Rate'!$AA34)*1000","v":-8.5333333333333344E-2},{"$f":"('2016'!H34/'2016 Rate'!$AA34)*1000","v":59.2},{"$f":"('2016'!I34/'2016 Rate'!$AA34)*1000","v":48.32},{"$f":"('2016'!J34/'2016 Rate'!$AA34)*1000","v":2.2399999999999998},{"$f":"('2016'!K34/'2016 Rate'!$AA34)*1000","v":38.4},{"$f":"('2016'!L34/'2016 Rate'!$AA34)*1000","v":36.159999999999997},{"$f":"('2016'!M34/'2016 Rate'!$AA34)*1000","v":3.8400000000000003},{"$f":"('2016'!N34/'2016 Rate'!$AA34)*1000","v":11.946666666666665},{"$f":"('2016'!O34/'2016 Rate'!$AA34)*1000","v":8.1066666666666674},{"$f":"('2016'!P34/'2016 Rate'!$AA34)*1000","v":4.6933333333333334},{"$f":"('2016'!Q34/'2016 Rate'!$AA34)*1000","v":8.7466666666666661},{"$f":"('2016'!R34/'2016 Rate'!$AA34)*1000","v":4.0533333333333337},{"$f":"('2016'!S34/'2016 Rate'!$AA34)*1000","v":7.5733333333333333},null,null,null,null,null,{"$f":"('2016'!Y34/'2016 Rate'!$AA34)*1000","v":0.43733333333333335},"Stirling",93750]
[33,"West Dunbartonshire",null,{"$f":"('2016'!D35/'2016 Rate'!$AA35)*1000","v":3.2272423770309366},{"$f":"('2016'!E35/'2016 Rate'!$AA35)*1000","v":0.70109058535499669},{"$f":"('2016'!F35/'2016 Rate'!$AA35)*1000","v":2.3703538838192744},{"$f":"('2016'!G35/'2016 Rate'!$AA35)*1000","v":0.13354106387714224},{"$f":"('2016'!H35/'2016 Rate'!$AA35)*1000","v":28.488760293790342},{"$f":"('2016'!I35/'2016 Rate'!$AA35)*1000","v":25.261517916759406},{"$f":"('2016'!J35/'2016 Rate'!$AA35)*1000","v":1.3354106387714222},{"$f":"('2016'!K35/'2016 Rate'!$AA35)*1000","v":22.145559759626085},{"$f":"('2016'!L35/'2016 Rate'!$AA35)*1000","v":20.810149120854664},{"$f":"('2016'!M35/'2016 Rate'!$AA35)*1000","v":0.8902737591809482},{"$f":"('2016'!N35/'2016 Rate'!$AA35)*1000","v":4.1175161362118855},{"$f":"('2016'!O35/'2016 Rate'!$AA35)*1000","v":3.2272423770309366},{"$f":"('2016'!P35/'2016 Rate'!$AA35)*1000","v":1.0015579790785667},{"$f":"('2016'!Q35/'2016 Rate'!$AA35)*1000","v":2.1144001780547517},{"$f":"('2016'!R35/'2016 Rate'!$AA35)*1000","v":1.2241264188738037},{"$f":"('2016'!S35/'2016 Rate'!$AA35)*1000","v":1.6692632984642779},null,null,null,null,null,{"$f":"('2016'!Y35/'2016 Rate'!$AA35)*1000","v":0.34498108168261737},"West Dunbartonshire",89860]
[34,"West Lothian",null,{"$f":"('2016'!D36/'2016 Rate'!$AA36)*1000","v":6.2732470993171594},{"$f":"('2016'!E36/'2016 Rate'!$AA36)*1000","v":1.6543607394659412},{"$f":"('2016'!F36/'2016 Rate'!$AA36)*1000","v":4.2080719480375288},{"$f":"('2016'!G36/'2016 Rate'!$AA36)*1000","v":0.39415977349691889},{"$f":"('2016'!H36/'2016 Rate'!$AA36)*1000","v":31.421750957641699},{"$f":"('2016'!I36/'2016 Rate'!$AA36)*1000","v":25.204019319380446},{"$f":"('2016'!J36/'2016 Rate'!$AA36)*1000","v":2.8312885138511072},{"$f":"('2016'!K36/'2016 Rate'!$AA36)*1000","v":22.761339032920667},{"$f":"('2016'!L36/'2016 Rate'!$AA36)*1000","v":19.874535058013656},{"$f":"('2016'!M36/'2016 Rate'!$AA36)*1000","v":1.3323710653416978},{"$f":"('2016'!N36/'2016 Rate'!$AA36)*1000","v":5.0519069560872705},{"$f":"('2016'!O36/'2016 Rate'!$AA36)*1000","v":3.7195358907455729},{"$f":"('2016'!P36/'2016 Rate'!$AA36)*1000","v":2.0540720590684507},{"$f":"('2016'!Q36/'2016 Rate'!$AA36)*1000","v":3.6640204296896686},{"$f":"('2016'!R36/'2016 Rate'!$AA36)*1000","v":1.554432909565314},{"$f":"('2016'!S36/'2016 Rate'!$AA36)*1000","v":5.440515183478599},null,null,null,null,null,{"$f":"('2016'!Y36/'2016 Rate'!$AA36)*1000","v":0.76056181646588572},"West Lothian",180130]
[]
[35,"Not specified"]
[36,"Scotland",null,{"$f":"('2016'!D39/'2016 Rate'!$AA39)*1000","v":5.8652654171369365},{"$f":"('2016'!E39/'2016 Rate'!$AA39)*1000","v":0.96231058153088977},{"$f":"('2016'!F39/'2016 Rate'!$AA39)*1000","v":4.8985142561104222},{"$f":"('2016'!G39/'2016 Rate'!$AA39)*1000","v":3.1454104760671267E-3},{"$f":"('2016'!H39/'2016 Rate'!$AA39)*1000","v":16.041593427942349},{"$f":"('2016'!I39/'2016 Rate'!$AA39)*1000","v":10.17632801080541},{"$f":"'Within Scotland net migration'!N41","v":"[z]"},{"$f":"'Within Scotland in-migration'!N41","v":"[z]"},{"$f":"'Within Scotland out-migration'!N41","v":"[z]"},{"$f":"('2016'!M39/'2016 Rate'!$AA39)*1000","v":1.6282124817288655},{"$f":"('2016'!N39/'2016 Rate'!$AA39)*1000","v":8.5666179436416456},{"$f":"('2016'!O39/'2016 Rate'!$AA39)*1000","v":6.9384054619127795},{"$f":"('2016'!P39/'2016 Rate'!$AA39)*1000","v":4.2370529354080713},{"$f":"('2016'!Q39/'2016 Rate'!$AA39)*1000","v":7.4749754843007015},{"$f":"('2016'!R39/'2016 Rate'!$AA39)*1000","v":3.2379225488926302},null,null,null,null,null,null,null,"SCOTLAND",{"$f":"AA4","v":5404700}]
[37,"Ayrshire and Arran",null,{"$f":"('2016'!D40/'2016 Rate'!$AA40)*1000","v":2.0509499136442142},{"$f":"('2016'!E40/'2016 Rate'!$AA40)*1000","v":1.0173791018998273},{"$f":"('2016'!F40/'2016 Rate'!$AA40)*1000","v":0.74751727115716748},{"$f":"('2016'!G40/'2016 Rate'!$AA40)*1000","v":0.29145077720207252},{"$f":"('2016'!H40/'2016 Rate'!$AA40)*1000","v":22.0477115716753},{"$f":"('2016'!I40/'2016 Rate'!$AA40)*1000","v":19.99676165803109},{"$f":"('2016'!J40/'2016 Rate'!$AA40)*1000","v":0.53972366148531947},{"$f":"('2016'!K40/'2016 Rate'!$AA40)*1000","v":14.491580310880828},{"$f":"('2016'!L40/'2016 Rate'!$AA40)*1000","v":13.924870466321243},{"$f":"('2016'!M40/'2016 Rate'!$AA40)*1000","v":1.6191709844559585},{"$f":"('2016'!N40/'2016 Rate'!$AA40)*1000","v":6.0718911917098444},{"$f":"('2016'!O40/'2016 Rate'!$AA40)*1000","v":4.4527202072538863},{"$f":"('2016'!P40/'2016 Rate'!$AA40)*1000","v":-0.1079447322970639},{"$f":"('2016'!Q40/'2016 Rate'!$AA40)*1000","v":1.4842400690846287},{"$f":"('2016'!R40/'2016 Rate'!$AA40)*1000","v":1.5921848013816926},null,null,null,null,null,null,null,"Ayrshire & Arran",{"$f":"AA13+AA25+AA32","v":370560}]
[38,"Borders",null,{"$f":"('2016'!D41/'2016 Rate'!$AA41)*1000","v":6.0246223696847991},{"$f":"('2016'!E41/'2016 Rate'!$AA41)*1000","v":2.0082074565615993},{"$f":"('2016'!F41/'2016 Rate'!$AA41)*1000","v":4.365668383829564},{"$f":"('2016'!G41/'2016 Rate'!$AA41)*1000","v":-0.34925347070636514},{"$f":"('2016'!H41/'2016 Rate'!$AA41)*1000","v":38.330568410023574},{"$f":"('2016'!I41/'2016 Rate'!$AA41)*1000","v":32.305946040338775},{"$f":"('2016'!J41/'2016 Rate'!$AA41)*1000","v":3.1432812363572862},{"$f":"('2016'!K41/'2016 Rate'!$AA41)*1000","v":21.828341919147821},{"$f":"('2016'!L41/'2016 Rate'!$AA41)*1000","v":18.685060682790535},{"$f":"('2016'!M41/'2016 Rate'!$AA41)*1000","v":2.8813411333275125},{"$f":"('2016'!N41/'2016 Rate'!$AA41)*1000","v":13.795512092901424},{"$f":"('2016'!O41/'2016 Rate'!$AA41)*1000","v":10.91417095957391},{"$f":"('2016'!P41/'2016 Rate'!$AA41)*1000","v":0},{"$f":"('2016'!Q41/'2016 Rate'!$AA41)*1000","v":2.7940277656509211},{"$f":"('2016'!R41/'2016 Rate'!$AA41)*1000","v":2.7067143979743298},null,null,null,null,null,null,null,"Borders",{"$f":"AA30","v":114530}]
[39,"Dumfries and Galloway",null,{"$f":"('2016'!D42/'2016 Rate'!$AA42)*1000","v":2.6083467094703052},{"$f":"('2016'!E42/'2016 Rate'!$AA42)*1000","v":1.0968432316746923},{"$f":"('2016'!F42/'2016 Rate'!$AA42)*1000","v":1.5315676832530765},{"$f":"('2016'!G42/'2016 Rate'!$AA42)*1000","v":6.6880684858212948E-3},{"$f":"('2016'!H42/'2016 Rate'!$AA42)*1000","v":25.949705724986622},{"$f":"('2016'!I42/'2016 Rate'!$AA42)*1000","v":23.341359015516321},{"$f":"('2016'!J42/'2016 Rate'!$AA42)*1000","v":-1.203852327447833},{"$f":"('2016'!K42/'2016 Rate'!$AA42)*1000","v":11.235955056179774},{"$f":"('2016'!L42/'2016 Rate'!$AA42)*1000","v":12.439807383627608},{"$f":"('2016'!M42/'2016 Rate'!$AA42)*1000","v":3.7453183520599249},{"$f":"('2016'!N42/'2016 Rate'!$AA42)*1000","v":12.506688068485822},{"$f":"('2016'!O42/'2016 Rate'!$AA42)*1000","v":8.7613697164258966},{"$f":"('2016'!P42/'2016 Rate'!$AA42)*1000","v":6.6880684858212941E-2},{"$f":"('2016'!Q42/'2016 Rate'!$AA42)*1000","v":2.2739432851792403},{"$f":"('2016'!R42/'2016 Rate'!$AA42)*1000","v":2.2070626003210272},null,null,null,null,null,null,null,"Dumfries & Galloway",{"$f":"AA11","v":149520}]
[40,"Fife",null,{"$f":"('2016'!D43/'2016 Rate'!$AA43)*1000","v":4.3474738746523371},{"$f":"('2016'!E43/'2016 Rate'!$AA43)*1000","v":0.91269948424378256},{"$f":"('2016'!F43/'2016 Rate'!$AA43)*1000","v":3.1917479005211566},{"$f":"('2016'!G43/'2016 Rate'!$AA43)*1000","v":0.23762590122323335},{"$f":"('2016'!H43/'2016 Rate'!$AA43)*1000","v":30.783355385737046},{"$f":"('2016'!I43/'2016 Rate'!$AA43)*1000","v":26.462884454405529},{"$f":"('2016'!J43/'2016 Rate'!$AA43)*1000","v":0.32403531984986361},{"$f":"('2016'!K43/'2016 Rate'!$AA43)*1000","v":17.497907271892636},{"$f":"('2016'!L43/'2016 Rate'!$AA43)*1000","v":17.17387195204277},{"$f":"('2016'!M43/'2016 Rate'!$AA43)*1000","v":1.1881295061161665},{"$f":"('2016'!N43/'2016 Rate'!$AA43)*1000","v":7.7498447330759053},{"$f":"('2016'!O43/'2016 Rate'!$AA43)*1000","v":6.5617152269597385},{"$f":"('2016'!P43/'2016 Rate'!$AA43)*1000","v":2.8083061053654852},{"$f":"('2016'!Q43/'2016 Rate'!$AA43)*1000","v":5.5356033807685039},{"$f":"('2016'!R43/'2016 Rate'!$AA43)*1000","v":2.7272972754030191},null,null,null,null,null,null,null,"Fife",{"$f":"AA18","v":370330}]
[41,"Forth Valley",null,{"$f":"('2016'!D44/'2016 Rate'!$AA44)*1000","v":6.4372044140830269},{"$f":"('2016'!E44/'2016 Rate'!$AA44)*1000","v":1.6848397267472413},{"$f":"('2016'!F44/'2016 Rate'!$AA44)*1000","v":4.7096689437729893},{"$f":"('2016'!G44/'2016 Rate'!$AA44)*1000","v":5.5832895428271155E-2},{"$f":"('2016'!H44/'2016 Rate'!$AA44)*1000","v":33.663951655281132},{"$f":"('2016'!I44/'2016 Rate'!$AA44)*1000","v":27.226747241198108},{"$f":"('2016'!J44/'2016 Rate'!$AA44)*1000","v":2.2661586967945353},{"$f":"('2016'!K44/'2016 Rate'!$AA44)*1000","v":22.267472411981082},{"$f":"('2016'!L44/'2016 Rate'!$AA44)*1000","v":20.034156594850234},{"$f":"('2016'!M44/'2016 Rate'!$AA44)*1000","v":2.0362585391487125},{"$f":"('2016'!N44/'2016 Rate'!$AA44)*1000","v":6.9298476090383607},{"$f":"('2016'!O44/'2016 Rate'!$AA44)*1000","v":4.8935890698896483},{"$f":"('2016'!P44/'2016 Rate'!$AA44)*1000","v":2.1676300578034682},{"$f":"('2016'!Q44/'2016 Rate'!$AA44)*1000","v":4.4666316342616925},{"$f":"('2016'!R44/'2016 Rate'!$AA44)*1000","v":2.2990015764582239},null,null,null,null,null,null,null,"Forth Valley",{"$f":"AA10+AA17+AA34","v":304480}]
[42,"Grampian",null,{"$f":"('2016'!D45/'2016 Rate'!$AA45)*1000","v":-1.3093011392620302},{"$f":"('2016'!E45/'2016 Rate'!$AA45)*1000","v":-4.7610950518619286E-2},{"$f":"('2016'!F45/'2016 Rate'!$AA45)*1000","v":-0.928413535113076},{"$f":"('2016'!G45/'2016 Rate'!$AA45)*1000","v":-0.33327665363033498},{"$f":"('2016'!H45/'2016 Rate'!$AA45)*1000","v":28.566570311171571},{"$f":"('2016'!I45/'2016 Rate'!$AA45)*1000","v":29.8758714504336},{"$f":"('2016'!J45/'2016 Rate'!$AA45)*1000","v":-4.3189933684747492},{"$f":"('2016'!K45/'2016 Rate'!$AA45)*1000","v":11.80071416425778},{"$f":"('2016'!L45/'2016 Rate'!$AA45)*1000","v":16.11970753273253},{"$f":"('2016'!M45/'2016 Rate'!$AA45)*1000","v":-1.8874341098452645},{"$f":"('2016'!N45/'2016 Rate'!$AA45)*1000","v":7.4817207957830307},{"$f":"('2016'!O45/'2016 Rate'!$AA45)*1000","v":9.3521509947287864},{"$f":"('2016'!P45/'2016 Rate'!$AA45)*1000","v":4.8801224281584767},{"$f":"('2016'!Q45/'2016 Rate'!$AA45)*1000","v":9.2841353511307609},{"$f":"('2016'!R45/'2016 Rate'!$AA45)*1000","v":4.4040129229722833},null,null,null,null,null,null,null,"Grampian",{"$f":"AA5+AA6+AA23","v":588100}]
[43,"Greater Glasgow and Clyde",null,{"$f":"('2016'!D46/'2016 Rate'!$AA46)*1000","v":9.7557195381316895},{"$f":"('2016'!E46/'2016 Rate'!$AA46)*1000","v":1.0530666368168629},{"$f":"('2016'!F46/'2016 Rate'!$AA46)*1000","v":8.7284844623160591},{"$f":"('2016'!G46/'2016 Rate'!$AA46)*1000","v":-2.2387352867733797E-2},{"$f":"('2016'!H46/'2016 Rate'!$AA46)*1000","v":34.838165270327288},{"$f":"('2016'!I46/'2016 Rate'!$AA46)*1000","v":25.073835211861855},{"$f":"('2016'!J46/'2016 Rate'!$AA46)*1000","v":0.32719977268226319},{"$f":"('2016'!K46/'2016 Rate'!$AA46)*1000","v":15.808915332753557},{"$f":"('2016'!L46/'2016 Rate'!$AA46)*1000","v":15.47310503973755},{"$f":"('2016'!M46/'2016 Rate'!$AA46)*1000","v":1.9631986360935791},{"$f":"('2016'!N46/'2016 Rate'!$AA46)*1000","v":7.878626105375548},{"$f":"('2016'!O46/'2016 Rate'!$AA46)*1000","v":5.9154274692819682},{"$f":"('2016'!P46/'2016 Rate'!$AA46)*1000","v":7.4653211293558472},{"$f":"('2016'!Q46/'2016 Rate'!$AA46)*1000","v":11.159234352531925},{"$f":"('2016'!R46/'2016 Rate'!$AA46)*1000","v":3.6853027028423324},null,null,null,null,null,null,null,"Greater Glasgow & Clyde",{"$f":"AA16+AA21+AA29+AA35+AA14+AA19","v":1161370}]
[44,"Highland",null,{"$f":"('2016'!D47/'2016 Rate'!$AA47)*1000","v":4.4423734078906492},{"$f":"('2016'!E47/'2016 Rate'!$AA47)*1000","v":1.3762037899968935},{"$f":"('2016'!F47/'2016 Rate'!$AA47)*1000","v":4.0198819509164334},{"$f":"('2016'!G47/'2016 Rate'!$AA47)*1000","v":-0.95371233302267777},{"$f":"('2016'!H47/'2016 Rate'!$AA47)*1000","v":35.507921714818266},{"$f":"('2016'!I47/'2016 Rate'!$AA47)*1000","v":31.065548306927617},{"$f":"('2016'!J47/'2016 Rate'!$AA47)*1000","v":-0.99409754582168386},{"$f":"('2016'!K47/'2016 Rate'!$AA47)*1000","v":19.41596769182976},{"$f":"('2016'!L47/'2016 Rate'!$AA47)*1000","v":20.410065237651445},{"$f":"('2016'!M47/'2016 Rate'!$AA47)*1000","v":4.2249145697421557},{"$f":"('2016'!N47/'2016 Rate'!$AA47)*1000","v":12.1466293880087},{"$f":"('2016'!O47/'2016 Rate'!$AA47)*1000","v":7.8906492699596154},{"$f":"('2016'!P47/'2016 Rate'!$AA47)*1000","v":1.2115563839701771},{"$f":"('2016'!Q47/'2016 Rate'!$AA47)*1000","v":3.9453246349798077},{"$f":"('2016'!R47/'2016 Rate'!$AA47)*1000","v":2.7337682510096304},null,null,null,null,null,null,null,"Highland",{"$f":"AA20+AA8","v":321900}]
[45,"Lanarkshire",null,{"$f":"('2016'!D48/'2016 Rate'!$AA48)*1000","v":3.1683650931468872},{"$f":"('2016'!E48/'2016 Rate'!$AA48)*1000","v":0.92918399366326976},{"$f":"('2016'!F48/'2016 Rate'!$AA48)*1000","v":2.2391810994836172},{"$f":"('2016'!G48/'2016 Rate'!$AA48)*1000","v":-1.5232524486283113E-3},{"$f":"('2016'!H48/'2016 Rate'!$AA48)*1000","v":22.407043519322457},{"$f":"('2016'!I48/'2016 Rate'!$AA48)*1000","v":19.238678426175568},{"$f":"('2016'!J48/'2016 Rate'!$AA48)*1000","v":2.0106932321893707},{"$f":"('2016'!K48/'2016 Rate'!$AA48)*1000","v":16.329266249295497},{"$f":"('2016'!L48/'2016 Rate'!$AA48)*1000","v":14.303340492619842},{"$f":"('2016'!M48/'2016 Rate'!$AA48)*1000","v":0.54837088150619195},{"$f":"('2016'!N48/'2016 Rate'!$AA48)*1000","v":3.9909214154061754},{"$f":"('2016'!O48/'2016 Rate'!$AA48)*1000","v":3.4425505338999831},{"$f":"('2016'!P48/'2016 Rate'!$AA48)*1000","v":0.60930097945132444},{"$f":"('2016'!Q48/'2016 Rate'!$AA48)*1000","v":2.1020883791070695},{"$f":"('2016'!R48/'2016 Rate'!$AA48)*1000","v":1.4927873996557448},null,null,null,null,null,null,null,"Lanarkshire",{"$f":"AA26+AA33","v":656490}]
[46,"Lothian",null,{"$f":"('2016'!D49/'2016 Rate'!$AA49)*1000","v":12.215909090909092},{"$f":"('2016'!E49/'2016 Rate'!$AA49)*1000","v":1.0261363636363636},{"$f":"('2016'!F49/'2016 Rate'!$AA49)*1000","v":10.878409090909091},{"$f":"('2016'!G49/'2016 Rate'!$AA49)*1000","v":0.31590909090909092},{"$f":"('2016'!H49/'2016 Rate'!$AA49)*1000","v":42.113636363636367},{"$f":"('2016'!I49/'2016 Rate'!$AA49)*1000","v":29.897727272727273},{"$f":"('2016'!J49/'2016 Rate'!$AA49)*1000","v":0.44318181818181823},{"$f":"('2016'!K49/'2016 Rate'!$AA49)*1000","v":15.5},{"$f":"('2016'!L49/'2016 Rate'!$AA49)*1000","v":15.068181818181817},{"$f":"('2016'!M49/'2016 Rate'!$AA49)*1000","v":3.2159090909090908},{"$f":"('2016'!N49/'2016 Rate'!$AA49)*1000","v":13.21590909090909},{"$f":"('2016'!O49/'2016 Rate'!$AA49)*1000","v":10},{"$f":"('2016'!P49/'2016 Rate'!$AA49)*1000","v":8.5681818181818183},{"$f":"('2016'!Q49/'2016 Rate'!$AA49)*1000","v":13.397727272727273},{"$f":"('2016'!R49/'2016 Rate'!$AA49)*1000","v":4.8295454545454541},null,null,null,null,null,null,null,"Lothian",{"$f":"AA15+AA9+AA22+AA36","v":880000}]
[47,"Orkney",null,{"$f":"('2016'!D50/'2016 Rate'!$AA50)*1000","v":10.068649885583524},{"$f":"('2016'!E50/'2016 Rate'!$AA50)*1000","v":3.3867276887871851},{"$f":"('2016'!F50/'2016 Rate'!$AA50)*1000","v":5.8123569794050338},{"$f":"('2016'!G50/'2016 Rate'!$AA50)*1000","v":1.0068649885583525},{"$f":"('2016'!H50/'2016 Rate'!$AA50)*1000","v":39.359267734553775},{"$f":"('2016'!I50/'2016 Rate'!$AA50)*1000","v":29.290617848970253},{"$f":"('2016'!J50/'2016 Rate'!$AA50)*1000","v":-0.91533180778032042},{"$f":"('2016'!K50/'2016 Rate'!$AA50)*1000","v":19.221967963386728},{"$f":"('2016'!L50/'2016 Rate'!$AA50)*1000","v":20.137299771167047},{"$f":"('2016'!M50/'2016 Rate'!$AA50)*1000","v":10.983981693363845},{"$f":"('2016'!N50/'2016 Rate'!$AA50)*1000","v":17.848970251716246},{"$f":"('2016'!O50/'2016 Rate'!$AA50)*1000","v":6.864988558352402},{"$f":"('2016'!P50/'2016 Rate'!$AA50)*1000","v":0},{"$f":"('2016'!Q50/'2016 Rate'!$AA50)*1000","v":2.2883295194508011},{"$f":"('2016'!R50/'2016 Rate'!$AA50)*1000","v":2.2883295194508011},null,null,null,null,null,null,null,"Orkney",{"$f":"AA27","v":21850}]
[48,"Shetland",null,{"$f":"('2016'!D51/'2016 Rate'!$AA51)*1000","v":-0.86206896551724133},{"$f":"('2016'!E51/'2016 Rate'!$AA51)*1000","v":0.60344827586206895},{"$f":"('2016'!F51/'2016 Rate'!$AA51)*1000","v":-1.2931034482758621},{"$f":"('2016'!G51/'2016 Rate'!$AA51)*1000","v":4.3103448275862065E-2},{"$f":"('2016'!H51/'2016 Rate'!$AA51)*1000","v":29.310344827586206},{"$f":"('2016'!I51/'2016 Rate'!$AA51)*1000","v":29.741379310344829},{"$f":"('2016'!J51/'2016 Rate'!$AA51)*1000","v":-6.8965517241379306},{"$f":"('2016'!K51/'2016 Rate'!$AA51)*1000","v":13.793103448275861},{"$f":"('2016'!L51/'2016 Rate'!$AA51)*1000","v":20.258620689655171},{"$f":"('2016'!M51/'2016 Rate'!$AA51)*1000","v":4.3103448275862064},{"$f":"('2016'!N51/'2016 Rate'!$AA51)*1000","v":11.63793103448276},{"$f":"('2016'!O51/'2016 Rate'!$AA51)*1000","v":7.3275862068965516},{"$f":"('2016'!P51/'2016 Rate'!$AA51)*1000","v":1.7241379310344827},{"$f":"('2016'!Q51/'2016 Rate'!$AA51)*1000","v":3.8793103448275863},{"$f":"('2016'!R51/'2016 Rate'!$AA51)*1000","v":2.1551724137931032},null,null,null,null,null,null,null,"Shetland",{"$f":"AA31","v":23200}]
[49,"Tayside",null,{"$f":"('2016'!D52/'2016 Rate'!$AA52)*1000","v":3.1530555756131609},{"$f":"('2016'!E52/'2016 Rate'!$AA52)*1000","v":0.79909500084241947},{"$f":"('2016'!F52/'2016 Rate'!$AA52)*1000","v":2.1493729992538571},{"$f":"('2016'!G52/'2016 Rate'!$AA52)*1000","v":0.19736683755746504},{"$f":"('2016'!H52/'2016 Rate'!$AA52)*1000","v":33.239463739860881},{"$f":"('2016'!I52/'2016 Rate'!$AA52)*1000","v":30.110477290779116},{"$f":"('2016'!J52/'2016 Rate'!$AA52)*1000","v":-0.33696777143957446},{"$f":"('2016'!K52/'2016 Rate'!$AA52)*1000","v":19.375646857775532},{"$f":"('2016'!L52/'2016 Rate'!$AA52)*1000","v":19.712614629215107},{"$f":"('2016'!M52/'2016 Rate'!$AA52)*1000","v":0.3610368979709726},{"$f":"('2016'!N52/'2016 Rate'!$AA52)*1000","v":7.3170144655450455},{"$f":"('2016'!O52/'2016 Rate'!$AA52)*1000","v":6.9559775675740729},{"$f":"('2016'!P52/'2016 Rate'!$AA52)*1000","v":3.1289864490817627},{"$f":"('2016'!Q52/'2016 Rate'!$AA52)*1000","v":6.546802416540304},{"$f":"('2016'!R52/'2016 Rate'!$AA52)*1000","v":3.441885093989939},null,null,null,null,null,null,null,"Tayside",{"$f":"AA28+AA7+AA12","v":415470}]
[50,"Western Isles",null,{"$f":"('2016'!D53/'2016 Rate'!$AA53)*1000","v":-2.6022304832713754},{"$f":"('2016'!E53/'2016 Rate'!$AA53)*1000","v":0.29739776951672864},{"$f":"('2016'!F53/'2016 Rate'!$AA53)*1000","v":-2.4163568773234201},{"$f":"('2016'!G53/'2016 Rate'!$AA53)*1000","v":-0.37174721189591076},{"$f":"('2016'!H53/'2016 Rate'!$AA53)*1000","v":31.226765799256505},{"$f":"('2016'!I53/'2016 Rate'!$AA53)*1000","v":33.457249070631967},{"$f":"('2016'!J53/'2016 Rate'!$AA53)*1000","v":-4.4609665427509295},{"$f":"('2016'!K53/'2016 Rate'!$AA53)*1000","v":19.702602230483272},{"$f":"('2016'!L53/'2016 Rate'!$AA53)*1000","v":24.163568773234203},{"$f":"('2016'!M53/'2016 Rate'!$AA53)*1000","v":1.1152416356877324},{"$f":"('2016'!N53/'2016 Rate'!$AA53)*1000","v":8.5501858736059475},{"$f":"('2016'!O53/'2016 Rate'!$AA53)*1000","v":7.4349442379182156},{"$f":"('2016'!P53/'2016 Rate'!$AA53)*1000","v":0.74349442379182151},{"$f":"('2016'!Q53/'2016 Rate'!$AA53)*1000","v":2.6022304832713754},{"$f":"('2016'!R53/'2016 Rate'!$AA53)*1000","v":1.8587360594795539},null,null,null,null,null,null,null,"Western Isles",{"$f":"AA24","v":26900}]

{"sheet":"2017","index":50,"n_rows":53,"n_cols":25,"rows_kept":53,"cut":false,"hidden":true,"merged":[]}
[null,2017]
[null,null,"Not specified ",{"$f":"'Comparing Indicators'!$U8","v":"Total net migration"},{"$f":"'Comparing Indicators'!$U9","v":"Total net migration for ages 0-15"},{"$f":"'Comparing Indicators'!$U10","v":"Total net migration for ages 16-64"},{"$f":"'Comparing Indicators'!$U11","v":"Total net migration for people aged 65+"},{"$f":"'Comparing Indicators'!$U12","v":"Total in-migration"},{"$f":"'Comparing Indicators'!$U13","v":"Total out-migration"},{"$f":"'Comparing Indicators'!$U14","v":"Within Scotland net migration"},{"$f":"'Comparing Indicators'!$U15","v":"Within Scotland in-migration"},{"$f":"'Comparing Indicators'!$U16","v":"Within Scotland out-migration"},{"$f":"'Comparing Indicators'!$U17","v":"Rest of UK net migration"},{"$f":"'Comparing Indicators'!$U18","v":"Rest of UK in-migration"},{"$f":"'Comparing Indicators'!$U19","v":"Rest of UK out-migration"},{"$f":"'Comparing Indicators'!$U20","v":"International net migration"},{"$f":"'Comparing Indicators'!$U21","v":"International in-migration"},{"$f":"'Comparing Indicators'!$U22","v":"International out-migration"},{"$f":"'Comparing Indicators'!$U23","v":"NINo Allocation"},{"$f":"'Comparing Indicators'!$U24","v":"Births to non-UK mothers"},{"$f":"'Comparing Indicators'!$U25","v":"Pupils from a minority ethnic group"},{"$f":"'Comparing Indicators'!$U26","v":"Pupils with English as an additional language"},{"$f":"'Comparing Indicators'!$U27","v":"Population born outside the UK"},{"$f":"'Comparing Indicators'!$U28","v":"Population with non-British nationality"},{"$f":"'Comparing Indicators'!$U29","v":"Citizenships"}]
[1,"Not specified"]
[2,"Scotland",null,{"$f":"'Total net migration'!O6","v":23900},{"$f":"'Total net migration 0-15'!O6","v":3775},{"$f":"'Total net migration 16-64'!O6","v":19788},{"$f":"'Total net migration 65+'!O6","v":292},{"$f":"'Total in-migration'!O6","v":80500},{"$f":"'Total out-migration'!O6","v":56600},{"$f":"'Within Scotland net migration'!O6","v":"[z]"},{"$f":"'Within Scotland in-migration'!O6","v":"[z]"},{"$f":"'Within Scotland out-migration'!O6","v":"[z]"},{"$f":"'Rest of UK net migration'!O6","v":10500},{"$f":"'Rest of UK in-migration'!O6","v":47600},{"$f":"'Rest of UK out-migration'!O6","v":37100},{"$f":"'International net migration'!O6","v":13400},{"$f":"'International in-migration'!O6","v":32900},{"$f":"'International out-migration'!O6","v":19500},{"$f":"NINo!O6","v":40510},{"$f":"'Births to non-UK mothers'!O6","v":9177},{"$f":"'Pupils'' ethnic group (TS)'!P6","v":51260},{"$f":"'Pupils with English as an add.'!M6","v":41524},{"$f":"'Pop born outside UK'!O6","v":477000},{"$f":"'Non-British Population'!O6","v":378000},{"$f":"Citizenships!O6","v":3282}]
[3,"Aberdeen City",null,{"$f":"'Total net migration'!O7","v":-1420},{"$f":"'Total net migration 0-15'!O7","v":-362},{"$f":"'Total net migration 16-64'!O7","v":-1024},{"$f":"'Total net migration 65+'!O7","v":-30},{"$f":"'Total in-migration'!O7","v":11330},{"$f":"'Total out-migration'!O7","v":12750},{"$f":"'Within Scotland net migration'!O7","v":-2220},{"$f":"'Within Scotland in-migration'!O7","v":6070},{"$f":"'Within Scotland out-migration'!O7","v":8300},{"$f":"'Rest of UK net migration'!O7","v":-690},{"$f":"'Rest of UK in-migration'!O7","v":2080},{"$f":"'Rest of UK out-migration'!O7","v":2760},{"$f":"'International net migration'!O7","v":1490},{"$f":"'International in-migration'!O7","v":3180},{"$f":"'International out-migration'!O7","v":1690},{"$f":"NINo!O7","v":3230},{"$f":"'Births to non-UK mothers'!O7","v":884},{"$f":"'Pupils'' ethnic group (TS)'!P7","v":3334},{"$f":"'Pupils with English as an add.'!M7","v":3805},{"$f":"'Pop born outside UK'!O7","v":55000},{"$f":"'Non-British Population'!O7","v":48000},{"$f":"Citizenships!O7","v":400}]
[4,"Aberdeenshire",null,{"$f":"'Total net migration'!O8","v":-690},{"$f":"'Total net migration 0-15'!O8","v":171},{"$f":"'Total net migration 16-64'!O8","v":-846},{"$f":"'Total net migration 65+'!O8","v":-13},{"$f":"'Total in-migration'!O8","v":7220},{"$f":"'Total out-migration'!O8","v":7910},{"$f":"'Within Scotland net migration'!O8","v":-490},{"$f":"'Within Scotland in-migration'!O8","v":5260},{"$f":"'Within Scotland out-migration'!O8","v":5750},{"$f":"'Rest of UK net migration'!O8","v":-410},{"$f":"'Rest of UK in-migration'!O8","v":1200},{"$f":"'Rest of UK out-migration'!O8","v":1610},{"$f":"'International net migration'!O8","v":210},{"$f":"'International in-migration'!O8","v":760},{"$f":"'International out-migration'!O8","v":550},{"$f":"NINo!O8","v":1180},{"$f":"'Births to non-UK mothers'!O8","v":395},{"$f":"'Pupils'' ethnic group (TS)'!P8","v":1202},{"$f":"'Pupils with English as an add.'!M8","v":1719},{"$f":"'Pop born outside UK'!O8","v":21000},{"$f":"'Non-British Population'!O8","v":16000},{"$f":"Citizenships!O8","v":125}]
[5,"Angus",null,{"$f":"'Total net migration'!O9","v":140},{"$f":"'Total net migration 0-15'!O9","v":115},{"$f":"'Total net migration 16-64'!O9","v":-34},{"$f":"'Total net migration 65+'!O9","v":63},{"$f":"'Total in-migration'!O9","v":3790},{"$f":"'Total out-migration'!O9","v":3640},{"$f":"'Within Scotland net migration'!O9","v":90},{"$f":"'Within Scotland in-migration'!O9","v":2880},{"$f":"'Within Scotland out-migration'!O9","v":2790},{"$f":"'Rest of UK net migration'!O9","v":10},{"$f":"'Rest of UK in-migration'!O9","v":610},{"$f":"'Rest of UK out-migration'!O9","v":600},{"$f":"'International net migration'!O9","v":50},{"$f":"'International in-migration'!O9","v":300},{"$f":"'International out-migration'!O9","v":250},{"$f":"NINo!O9","v":1080},{"$f":"'Births to non-UK mothers'!O9","v":121},{"$f":"'Pupils'' ethnic group (TS)'!P9","v":439},{"$f":"'Pupils with English as an add.'!M9","v":563},{"$f":"'Pop born outside UK'!O9","v":7000},{"$f":"'Non-British Population'!O9","v":5000},{"$f":"Citizenships!O9","v":32}]
[6,"Argyll and Bute",null,{"$f":"'Total net migration'!O10","v":140},{"$f":"'Total net migration 0-15'!O10","v":117},{"$f":"'Total net migration 16-64'!O10","v":103},{"$f":"'Total net migration 65+'!O10","v":-83},{"$f":"'Total in-migration'!O10","v":4180},{"$f":"'Total out-migration'!O10","v":4040},{"$f":"'Within Scotland net migration'!O10","v":-430},{"$f":"'Within Scotland in-migration'!O10","v":2370},{"$f":"'Within Scotland out-migration'!O10","v":2800},{"$f":"'Rest of UK net migration'!O10","v":610},{"$f":"'Rest of UK in-migration'!O10","v":1510},{"$f":"'Rest of UK out-migration'!O10","v":910},{"$f":"'International net migration'!O10","v":-40},{"$f":"'International in-migration'!O10","v":300},{"$f":"'International out-migration'!O10","v":330},{"$f":"NINo!O10","v":490},{"$f":"'Births to non-UK mothers'!O10","v":95},{"$f":"'Pupils'' ethnic group (TS)'!P10","v":297},{"$f":"'Pupils with English as an add.'!M10","v":203},{"$f":"'Pop born outside UK'!O10","v":4000},{"$f":"'Non-British Population'!O10","v":2000},{"$f":"Citizenships!O10","v":23}]
[7,"City of Edinburgh",null,{"$f":"'Total net migration'!O11","v":5090},{"$f":"'Total net migration 0-15'!O11","v":-338},{"$f":"'Total net migration 16-64'!O11","v":5466},{"$f":"'Total net migration 65+'!O11","v":-40},{"$f":"'Total in-migration'!O11","v":30210},{"$f":"'Total out-migration'!O11","v":25120},{"$f":"'Within Scotland net migration'!O11","v":-2380},{"$f":"'Within Scotland in-migration'!O11","v":11610},{"$f":"'Within Scotland out-migration'!O11","v":13990},{"$f":"'Rest of UK net migration'!O11","v":2960},{"$f":"'Rest of UK in-migration'!O11","v":10060},{"$f":"'Rest of UK out-migration'!O11","v":7100},{"$f":"'International net migration'!O11","v":4510},{"$f":"'International in-migration'!O11","v":8540},{"$f":"'International out-migration'!O11","v":4030},{"$f":"NINo!O11","v":10200},{"$f":"'Births to non-UK mothers'!O11","v":1836},{"$f":"'Pupils'' ethnic group (TS)'!P11","v":8101},{"$f":"'Pupils with English as an add.'!M11","v":5914},{"$f":"'Pop born outside UK'!O11","v":102000},{"$f":"'Non-British Population'!O11","v":85000},{"$f":"Citizenships!O11","v":786}]
[8,"Clackmannanshire",null,{"$f":"'Total net migration'!O12","v":120},{"$f":"'Total net migration 0-15'!O12","v":46},{"$f":"'Total net migration 16-64'!O12","v":89},{"$f":"'Total net migration 65+'!O12","v":-14},{"$f":"'Total in-migration'!O12","v":1880},{"$f":"'Total out-migration'!O12","v":1750},{"$f":"'Within Scotland net migration'!O12","v":90},{"$f":"'Within Scotland in-migration'!O12","v":1440},{"$f":"'Within Scotland out-migration'!O12","v":1350},{"$f":"'Rest of UK net migration'!O12","v":-10},{"$f":"'Rest of UK in-migration'!O12","v":270},{"$f":"'Rest of UK out-migration'!O12","v":270},{"$f":"'International net migration'!O12","v":40},{"$f":"'International in-migration'!O12","v":170},{"$f":"'International out-migration'!O12","v":130},{"$f":"NINo!O12","v":120},{"$f":"'Births to non-UK mothers'!O12","v":47},{"$f":"'Pupils'' ethnic group (TS)'!P12","v":229},{"$f":"'Pupils with English as an add.'!M12","v":199},{"$f":"'Pop born outside UK'!O12","v":3000},{"$f":"'Non-British Population'!O12","v":1000},{"$f":"Citizenships!O12","v":7}]
[9,"Dumfries and Galloway",null,{"$f":"'Total net migration'!O13","v":320},{"$f":"'Total net migration 0-15'!O13","v":124},{"$f":"'Total net migration 16-64'!O13","v":192},{"$f":"'Total net migration 65+'!O13","v":6},{"$f":"'Total in-migration'!O13","v":4010},{"$f":"'Total out-migration'!O13","v":3680},{"$f":"'Within Scotland net migration'!O13","v":-250},{"$f":"'Within Scotland in-migration'!O13","v":1640},{"$f":"'Within Scotland out-migration'!O13","v":1890},{"$f":"'Rest of UK net migration'!O13","v":680},{"$f":"'Rest of UK in-migration'!O13","v":2130},{"$f":"'Rest of UK out-migration'!O13","v":1440},{"$f":"'International net migration'!O13","v":-120},{"$f":"'International in-migration'!O13","v":240},{"$f":"'International out-migration'!O13","v":360},{"$f":"NINo!O13","v":470},{"$f":"'Births to non-UK mothers'!O13","v":99},{"$f":"'Pupils'' ethnic group (TS)'!P13","v":439},{"$f":"'Pupils with English as an add.'!M13","v":410},{"$f":"'Pop born outside UK'!O13","v":7000},{"$f":"'Non-British Population'!O13","v":4000},{"$f":"Citizenships!O13","v":23}]
[10,"Dundee City",null,{"$f":"'Total net migration'!O14","v":590},{"$f":"'Total net migration 0-15'!O14","v":-82},{"$f":"'Total net migration 16-64'!O14","v":726},{"$f":"'Total net migration 65+'!O14","v":-56},{"$f":"'Total in-migration'!O14","v":6970},{"$f":"'Total out-migration'!O14","v":6380},{"$f":"'Within Scotland net migration'!O14","v":-60},{"$f":"'Within Scotland in-migration'!O14","v":4410},{"$f":"'Within Scotland out-migration'!O14","v":4470},{"$f":"'Rest of UK net migration'!O14","v":250},{"$f":"'Rest of UK in-migration'!O14","v":1380},{"$f":"'Rest of UK out-migration'!O14","v":1130},{"$f":"'International net migration'!O14","v":400},{"$f":"'International in-migration'!O14","v":1180},{"$f":"'International out-migration'!O14","v":790},{"$f":"NINo!O14","v":1120},{"$f":"'Births to non-UK mothers'!O14","v":271},{"$f":"'Pupils'' ethnic group (TS)'!P14","v":1844},{"$f":"'Pupils with English as an add.'!M14","v":1292},{"$f":"'Pop born outside UK'!O14","v":15000},{"$f":"'Non-British Population'!O14","v":14000},{"$f":"Citizenships!O14","v":88}]
[11,"East Ayrshire",null,{"$f":"'Total net migration'!O15","v":20},{"$f":"'Total net migration 0-15'!O15","v":-11},{"$f":"'Total net migration 16-64'!O15","v":32},{"$f":"'Total net migration 65+'!O15","v":-3},{"$f":"'Total in-migration'!O15","v":3350},{"$f":"'Total out-migration'!O15","v":3330},{"$f":"'Within Scotland net migration'!O15","v":-60},{"$f":"'Within Scotland in-migration'!O15","v":2590},{"$f":"'Within Scotland out-migration'!O15","v":2650},{"$f":"'Rest of UK net migration'!O15","v":170},{"$f":"'Rest of UK in-migration'!O15","v":660},{"$f":"'Rest of UK out-migration'!O15","v":490},{"$f":"'International net migration'!O15","v":-90},{"$f":"'International in-migration'!O15","v":110},{"$f":"'International out-migration'!O15","v":190},{"$f":"NINo!O15","v":190},{"$f":"'Births to non-UK mothers'!O15","v":57},{"$f":"'Pupils'' ethnic group (TS)'!P15","v":434},{"$f":"'Pupils with English as an add.'!M15","v":168},{"$f":"'Pop born outside UK'!O15","v":4000},{"$f":"'Non-British Population'!O15","v":2000},{"$f":"Citizenships!O15","v":11}]
[12,"East Dunbartonshire",null,{"$f":"'Total net migration'!O16","v":690},{"$f":"'Total net migration 0-15'!O16","v":485},{"$f":"'Total net migration 16-64'!O16","v":215},{"$f":"'Total net migration 65+'!O16","v":-12},{"$f":"'Total in-migration'!O16","v":4050},{"$f":"'Total out-migration'!O16","v":3360},{"$f":"'Within Scotland net migration'!O16","v":650},{"$f":"'Within Scotland in-migration'!O16","v":3450},{"$f":"'Within Scotland out-migration'!O16","v":2790},{"$f":"'Rest of UK net migration'!O16","v":50},{"$f":"'Rest of UK in-migration'!O16","v":470},{"$f":"'Rest of UK out-migration'!O16","v":420},{"$f":"'International net migration'!O16","v":-10},{"$f":"'International in-migration'!O16","v":140},{"$f":"'International out-migration'!O16","v":160},{"$f":"NINo!O16","v":130},{"$f":"'Births to non-UK mothers'!O16","v":98},{"$f":"'Pupils'' ethnic group (TS)'!P16","v":1487},{"$f":"'Pupils with English as an add.'!M16","v":515},{"$f":"'Pop born outside UK'!O16","v":6000},{"$f":"'Non-British Population'!O16","v":3000},{"$f":"Citizenships!O16","v":33}]
[13,"East Lothian",null,{"$f":"'Total net migration'!O17","v":800},{"$f":"'Total net migration 0-15'!O17","v":195},{"$f":"'Total net migration 16-64'!O17","v":468},{"$f":"'Total net migration 65+'!O17","v":137},{"$f":"'Total in-migration'!O17","v":4160},{"$f":"'Total out-migration'!O17","v":3360},{"$f":"'Within Scotland net migration'!O17","v":550},{"$f":"'Within Scotland in-migration'!O17","v":3030},{"$f":"'Within Scotland out-migration'!O17","v":2480},{"$f":"'Rest of UK net migration'!O17","v":150},{"$f":"'Rest of UK in-migration'!O17","v":790},{"$f":"'Rest of UK out-migration'!O17","v":630},{"$f":"'International net migration'!O17","v":100},{"$f":"'International in-migration'!O17","v":350},{"$f":"'International out-migration'!O17","v":240},{"$f":"NINo!O17","v":560},{"$f":"'Births to non-UK mothers'!O17","v":125},{"$f":"'Pupils'' ethnic group (TS)'!P17","v":428},{"$f":"'Pupils with English as an add.'!M17","v":376},{"$f":"'Pop born outside UK'!O17","v":6000},{"$f":"'Non-British Population'!O17","v":4000},{"$f":"Citizenships!O17","v":34}]
[14,"East Renfrewshire",null,{"$f":"'Total net migration'!O18","v":960},{"$f":"'Total net migration 0-15'!O18","v":659},{"$f":"'Total net migration 16-64'!O18","v":241},{"$f":"'Total net migration 65+'!O18","v":58},{"$f":"'Total in-migration'!O18","v":4020},{"$f":"'Total out-migration'!O18","v":3060},{"$f":"'Within Scotland net migration'!O18","v":910},{"$f":"'Within Scotland in-migration'!O18","v":3450},{"$f":"'Within Scotland out-migration'!O18","v":2540},{"$f":"'Rest of UK net migration'!O18","v":60},{"$f":"'Rest of UK in-migration'!O18","v":440},{"$f":"'Rest of UK out-migration'!O18","v":390},{"$f":"'International net migration'!O18","v":-10},{"$f":"'International in-migration'!O18","v":130},{"$f":"'International out-migration'!O18","v":140},{"$f":"NINo!O18","v":100},{"$f":"'Births to non-UK mothers'!O18","v":100},{"$f":"'Pupils'' ethnic group (TS)'!P18","v":3202},{"$f":"'Pupils with English as an add.'!M18","v":961},{"$f":"'Pop born outside UK'!O18","v":7000},{"$f":"'Non-British Population'!O18","v":4000},{"$f":"Citizenships!O18","v":56}]
[15,"Falkirk",null,{"$f":"'Total net migration'!O19","v":900},{"$f":"'Total net migration 0-15'!O19","v":72},{"$f":"'Total net migration 16-64'!O19","v":781},{"$f":"'Total net migration 65+'!O19","v":48},{"$f":"'Total in-migration'!O19","v":4640},{"$f":"'Total out-migration'!O19","v":3740},{"$f":"'Within Scotland net migration'!O19","v":630},{"$f":"'Within Scotland in-migration'!O19","v":3530},{"$f":"'Within Scotland out-migration'!O19","v":2900},{"$f":"'Rest of UK net migration'!O19","v":170},{"$f":"'Rest of UK in-migration'!O19","v":730},{"$f":"'Rest of UK out-migration'!O19","v":560},{"$f":"'International net migration'!O19","v":100},{"$f":"'International in-migration'!O19","v":380},{"$f":"'International out-migration'!O19","v":280},{"$f":"NINo!O19","v":470},{"$f":"'Births to non-UK mothers'!O19","v":160},{"$f":"'Pupils'' ethnic group (TS)'!P19","v":871},{"$f":"'Pupils with English as an add.'!M19","v":768},{"$f":"'Pop born outside UK'!O19","v":8000},{"$f":"'Non-British Population'!O19","v":6000},{"$f":"Citizenships!O19","v":54}]
[16,"Fife",null,{"$f":"'Total net migration'!O20","v":1520},{"$f":"'Total net migration 0-15'!O20","v":295},{"$f":"'Total net migration 16-64'!O20","v":1176},{"$f":"'Total net migration 65+'!O20","v":53},{"$f":"'Total in-migration'!O20","v":11170},{"$f":"'Total out-migration'!O20","v":9640},{"$f":"'Within Scotland net migration'!O20","v":200},{"$f":"'Within Scotland in-migration'!O20","v":6440},{"$f":"'Within Scotland out-migration'!O20","v":6250},{"$f":"'Rest of UK net migration'!O20","v":660},{"$f":"'Rest of UK in-migration'!O20","v":3040},{"$f":"'Rest of UK out-migration'!O20","v":2390},{"$f":"'International net migration'!O20","v":670},{"$f":"'International in-migration'!O20","v":1680},{"$f":"'International out-migration'!O20","v":1010},{"$f":"NINo!O20","v":1980},{"$f":"'Births to non-UK mothers'!O20","v":443},{"$f":"'Pupils'' ethnic group (TS)'!P20","v":2022},{"$f":"'Pupils with English as an add.'!M20","v":1543},{"$f":"'Pop born outside UK'!O20","v":19000},{"$f":"'Non-British Population'!O20","v":10000},{"$f":"Citizenships!O20","v":119}]
[17,"Glasgow City",null,{"$f":"'Total net migration'!O21","v":5390},{"$f":"'Total net migration 0-15'!O21","v":-533},{"$f":"'Total net migration 16-64'!O21","v":6086},{"$f":"'Total net migration 65+'!O21","v":-163},{"$f":"'Total in-migration'!O21","v":33180},{"$f":"'Total out-migration'!O21","v":27790},{"$f":"'Within Scotland net migration'!O21","v":-1830},{"$f":"'Within Scotland in-migration'!O21","v":16650},{"$f":"'Within Scotland out-migration'!O21","v":18480},{"$f":"'Rest of UK net migration'!O21","v":1830},{"$f":"'Rest of UK in-migration'!O21","v":6820},{"$f":"'Rest of UK out-migration'!O21","v":5000},{"$f":"'International net migration'!O21","v":5390},{"$f":"'International in-migration'!O21","v":9710},{"$f":"'International out-migration'!O21","v":4310},{"$f":"NINo!O21","v":9440},{"$f":"'Births to non-UK mothers'!O21","v":2074},{"$f":"'Pupils'' ethnic group (TS)'!P21","v":14945},{"$f":"'Pupils with English as an add.'!M21","v":13489},{"$f":"'Pop born outside UK'!O21","v":91000},{"$f":"'Non-British Population'!O21","v":76000},{"$f":"Citizenships!O21","v":750}]
[18,"Highland",null,{"$f":"'Total net migration'!O22","v":810},{"$f":"'Total net migration 0-15'!O22","v":100},{"$f":"'Total net migration 16-64'!O22","v":856},{"$f":"'Total net migration 65+'!O22","v":-143},{"$f":"'Total in-migration'!O22","v":7300},{"$f":"'Total out-migration'!O22","v":6490},{"$f":"'Within Scotland net migration'!O22","v":-210},{"$f":"'Within Scotland in-migration'!O22","v":4020},{"$f":"'Within Scotland out-migration'!O22","v":4230},{"$f":"'Rest of UK net migration'!O22","v":930},{"$f":"'Rest of UK in-migration'!O22","v":2550},{"$f":"'Rest of UK out-migration'!O22","v":1620},{"$f":"'International net migration'!O22","v":90},{"$f":"'International in-migration'!O22","v":730},{"$f":"'International out-migration'!O22","v":640},{"$f":"NINo!O22","v":1610},{"$f":"'Births to non-UK mothers'!O22","v":274},{"$f":"'Pupils'' ethnic group (TS)'!P22","v":929},{"$f":"'Pupils with English as an add.'!M22","v":1320},{"$f":"'Pop born outside UK'!O22","v":14000},{"$f":"'Non-British Population'!O22","v":11000},{"$f":"Citizenships!O22","v":88}]
[19,"Inverclyde",null,{"$f":"'Total net migration'!O23","v":10},{"$f":"'Total net migration 0-15'!O23","v":-3},{"$f":"'Total net migration 16-64'!O23","v":-36},{"$f":"'Total net migration 65+'!O23","v":49},{"$f":"'Total in-migration'!O23","v":1520},{"$f":"'Total out-migration'!O23","v":1510},{"$f":"'Within Scotland net migration'!O23","v":-50},{"$f":"'Within Scotland in-migration'!O23","v":1120},{"$f":"'Within Scotland out-migration'!O23","v":1170},{"$f":"'Rest of UK net migration'!O23","v":60},{"$f":"'Rest of UK in-migration'!O23","v":300},{"$f":"'Rest of UK out-migration'!O23","v":250},{"$f":"'International net migration'!O23","v":0},{"$f":"'International in-migration'!O23","v":100},{"$f":"'International out-migration'!O23","v":100},{"$f":"NINo!O23","v":190},{"$f":"'Births to non-UK mothers'!O23","v":27},{"$f":"'Pupils'' ethnic group (TS)'!P23","v":211},{"$f":"'Pupils with English as an add.'!M23","v":57},{"$f":"'Pop born outside UK'!O23","v":1000},{"$f":"'Non-British Population'!O23","v":1000},{"$f":"Citizenships!O23","v":9}]
[20,"Midlothian",null,{"$f":"'Total net migration'!O24","v":1270},{"$f":"'Total net migration 0-15'!O24","v":259},{"$f":"'Total net migration 16-64'!O24","v":994},{"$f":"'Total net migration 65+'!O24","v":18},{"$f":"'Total in-migration'!O24","v":3780},{"$f":"'Total out-migration'!O24","v":2510},{"$f":"'Within Scotland net migration'!O24","v":1120},{"$f":"'Within Scotland in-migration'!O24","v":3190},{"$f":"'Within Scotland out-migration'!O24","v":2070},{"$f":"'Rest of UK net migration'!O24","v":110},{"$f":"'Rest of UK in-migration'!O24","v":430},{"$f":"'Rest of UK out-migration'!O24","v":330},{"$f":"'International net migration'!O24","v":50},{"$f":"'International in-migration'!O24","v":160},{"$f":"'International out-migration'!O24","v":110},{"$f":"NINo!O24","v":220},{"$f":"'Births to non-UK mothers'!O24","v":136},{"$f":"'Pupils'' ethnic group (TS)'!P24","v":594},{"$f":"'Pupils with English as an add.'!M24","v":417},{"$f":"'Pop born outside UK'!O24","v":6000},{"$f":"'Non-British Population'!O24","v":5000},{"$f":"Citizenships!O24","v":56}]
[21,"Moray",null,{"$f":"'Total net migration'!O25","v":0},{"$f":"'Total net migration 0-15'!O25","v":74},{"$f":"'Total net migration 16-64'!O25","v":-105},{"$f":"'Total net migration 65+'!O25","v":34},{"$f":"'Total in-migration'!O25","v":3140},{"$f":"'Total out-migration'!O25","v":3140},{"$f":"'Within Scotland net migration'!O25","v":-60},{"$f":"'Within Scotland in-migration'!O25","v":1800},{"$f":"'Within Scotland out-migration'!O25","v":1860},{"$f":"'Rest of UK net migration'!O25","v":160},{"$f":"'Rest of UK in-migration'!O25","v":1140},{"$f":"'Rest of UK out-migration'!O25","v":970},{"$f":"'International net migration'!O25","v":-100},{"$f":"'International in-migration'!O25","v":200},{"$f":"'International out-migration'!O25","v":300},{"$f":"NINo!O25","v":230},{"$f":"'Births to non-UK mothers'!O25","v":109},{"$f":"'Pupils'' ethnic group (TS)'!P25","v":333},{"$f":"'Pupils with English as an add.'!M25","v":447},{"$f":"'Pop born outside UK'!O25","v":4000},{"$f":"'Non-British Population'!O25","v":4000},{"$f":"Citizenships!O25","v":19}]
[22,"Na h-Eileanan Siar",null,{"$f":"'Total net migration'!O26","v":160},{"$f":"'Total net migration 0-15'!O26","v":86},{"$f":"'Total net migration 16-64'!O26","v":53},{"$f":"'Total net migration 65+'!O26","v":16},{"$f":"'Total in-migration'!O26","v":990},{"$f":"'Total out-migration'!O26","v":830},{"$f":"'Within Scotland net migration'!O26","v":0},{"$f":"'Within Scotland in-migration'!O26","v":590},{"$f":"'Within Scotland out-migration'!O26","v":590},{"$f":"'Rest of UK net migration'!O26","v":150},{"$f":"'Rest of UK in-migration'!O26","v":340},{"$f":"'Rest of UK out-migration'!O26","v":190},{"$f":"'International net migration'!O26","v":10},{"$f":"'International in-migration'!O26","v":60},{"$f":"'International out-migration'!O26","v":50},{"$f":"NINo!O26","v":80},{"$f":"'Births to non-UK mothers'!O26","v":19},{"$f":"'Pupils'' ethnic group (TS)'!P26","v":68},{"$f":"'Pupils with English as an add.'!M26","v":57},{"$f":"'Pop born outside UK'!O26","v":1000},{"$f":"'Non-British Population'!O26","v":"[low]"},{"$f":"Citizenships!O26","v":7}]
[23,"North Ayrshire",null,{"$f":"'Total net migration'!O27","v":350},{"$f":"'Total net migration 0-15'!O27","v":119},{"$f":"'Total net migration 16-64'!O27","v":147},{"$f":"'Total net migration 65+'!O27","v":86},{"$f":"'Total in-migration'!O27","v":3810},{"$f":"'Total out-migration'!O27","v":3450},{"$f":"'Within Scotland net migration'!O27","v":110},{"$f":"'Within Scotland in-migration'!O27","v":2800},{"$f":"'Within Scotland out-migration'!O27","v":2690},{"$f":"'Rest of UK net migration'!O27","v":290},{"$f":"'Rest of UK in-migration'!O27","v":830},{"$f":"'Rest of UK out-migration'!O27","v":530},{"$f":"'International net migration'!O27","v":-50},{"$f":"'International in-migration'!O27","v":180},{"$f":"'International out-migration'!O27","v":230},{"$f":"NINo!O27","v":190},{"$f":"'Births to non-UK mothers'!O27","v":56},{"$f":"'Pupils'' ethnic group (TS)'!P27","v":408},{"$f":"'Pupils with English as an add.'!M27","v":169},{"$f":"'Pop born outside UK'!O27","v":4000},{"$f":"'Non-British Population'!O27","v":2000},{"$f":"Citizenships!O27","v":22}]
[24,"North Lanarkshire",null,{"$f":"'Total net migration'!O28","v":730},{"$f":"'Total net migration 0-15'!O28","v":151},{"$f":"'Total net migration 16-64'!O28","v":592},{"$f":"'Total net migration 65+'!O28","v":-9},{"$f":"'Total in-migration'!O28","v":7690},{"$f":"'Total out-migration'!O28","v":6960},{"$f":"'Within Scotland net migration'!O28","v":570},{"$f":"'Within Scotland in-migration'!O28","v":6020},{"$f":"'Within Scotland out-migration'!O28","v":5460},{"$f":"'Rest of UK net migration'!O28","v":120},{"$f":"'Rest of UK in-migration'!O28","v":1090},{"$f":"'Rest of UK out-migration'!O28","v":970},{"$f":"'International net migration'!O28","v":50},{"$f":"'International in-migration'!O28","v":580},{"$f":"'International out-migration'!O28","v":530},{"$f":"NINo!O28","v":990},{"$f":"'Births to non-UK mothers'!O28","v":284},{"$f":"'Pupils'' ethnic group (TS)'!P28","v":2153},{"$f":"'Pupils with English as an add.'!M28","v":1555},{"$f":"'Pop born outside UK'!O28","v":15000},{"$f":"'Non-British Population'!O28","v":13000},{"$f":"Citizenships!O28","v":62}]
[25,"Orkney Islands",null,{"$f":"'Total net migration'!O29","v":200},{"$f":"'Total net migration 0-15'!O29","v":46},{"$f":"'Total net migration 16-64'!O29","v":121},{"$f":"'Total net migration 65+'!O29","v":37},{"$f":"'Total in-migration'!O29","v":780},{"$f":"'Total out-migration'!O29","v":580},{"$f":"'Within Scotland net migration'!O29","v":40},{"$f":"'Within Scotland in-migration'!O29","v":410},{"$f":"'Within Scotland out-migration'!O29","v":370},{"$f":"'Rest of UK net migration'!O29","v":160},{"$f":"'Rest of UK in-migration'!O29","v":330},{"$f":"'Rest of UK out-migration'!O29","v":170},{"$f":"'International net migration'!O29","v":10},{"$f":"'International in-migration'!O29","v":50},{"$f":"'International out-migration'!O29","v":40},{"$f":"NINo!O29","v":50},{"$f":"'Births to non-UK mothers'!O29","v":11},{"$f":"'Pupils'' ethnic group (TS)'!P29","v":47},{"$f":"'Pupils with English as an add.'!M29","v":29},{"$f":"'Pop born outside UK'!O29","v":1000},{"$f":"'Non-British Population'!O29","v":"[low]"},{"$f":"Citizenships!O29","v":8}]
[26,"Perth and Kinross",null,{"$f":"'Total net migration'!O30","v":900},{"$f":"'Total net migration 0-15'!O30","v":430},{"$f":"'Total net migration 16-64'!O30","v":364},{"$f":"'Total net migration 65+'!O30","v":104},{"$f":"'Total in-migration'!O30","v":6170},{"$f":"'Total out-migration'!O30","v":5270},{"$f":"'Within Scotland net migration'!O30","v":260},{"$f":"'Within Scotland in-migration'!O30","v":4100},{"$f":"'Within Scotland out-migration'!O30","v":3840},{"$f":"'Rest of UK net migration'!O30","v":490},{"$f":"'Rest of UK in-migration'!O30","v":1370},{"$f":"'Rest of UK out-migration'!O30","v":880},{"$f":"'International net migration'!O30","v":150},{"$f":"'International in-migration'!O30","v":700},{"$f":"'International out-migration'!O30","v":550},{"$f":"NINo!O30","v":2320},{"$f":"'Births to non-UK mothers'!O30","v":233},{"$f":"'Pupils'' ethnic group (TS)'!P30","v":720},{"$f":"'Pupils with English as an add.'!M30","v":861},{"$f":"'Pop born outside UK'!O30","v":12000},{"$f":"'Non-British Population'!O30","v":9000},{"$f":"Citizenships!O30","v":62}]
[27,"Renfrewshire",null,{"$f":"'Total net migration'!O31","v":1160},{"$f":"'Total net migration 0-15'!O31","v":245},{"$f":"'Total net migration 16-64'!O31","v":894},{"$f":"'Total net migration 65+'!O31","v":23},{"$f":"'Total in-migration'!O31","v":5850},{"$f":"'Total out-migration'!O31","v":4690},{"$f":"'Within Scotland net migration'!O31","v":670},{"$f":"'Within Scotland in-migration'!O31","v":4400},{"$f":"'Within Scotland out-migration'!O31","v":3730},{"$f":"'Rest of UK net migration'!O31","v":210},{"$f":"'Rest of UK in-migration'!O31","v":820},{"$f":"'Rest of UK out-migration'!O31","v":610},{"$f":"'International net migration'!O31","v":290},{"$f":"'International in-migration'!O31","v":630},{"$f":"'International out-migration'!O31","v":350},{"$f":"NINo!O31","v":780},{"$f":"'Births to non-UK mothers'!O31","v":232},{"$f":"'Pupils'' ethnic group (TS)'!P31","v":1201},{"$f":"'Pupils with English as an add.'!M31","v":832},{"$f":"'Pop born outside UK'!O31","v":11000},{"$f":"'Non-British Population'!O31","v":8000},{"$f":"Citizenships!O31","v":71}]
[28,"Scottish Borders",null,{"$f":"'Total net migration'!O32","v":820},{"$f":"'Total net migration 0-15'!O32","v":234},{"$f":"'Total net migration 16-64'!O32","v":566},{"$f":"'Total net migration 65+'!O32","v":18},{"$f":"'Total in-migration'!O32","v":4440},{"$f":"'Total out-migration'!O32","v":3620},{"$f":"'Within Scotland net migration'!O32","v":340},{"$f":"'Within Scotland in-migration'!O32","v":2580},{"$f":"'Within Scotland out-migration'!O32","v":2250},{"$f":"'Rest of UK net migration'!O32","v":470},{"$f":"'Rest of UK in-migration'!O32","v":1600},{"$f":"'Rest of UK out-migration'!O32","v":1130},{"$f":"'International net migration'!O32","v":20},{"$f":"'International in-migration'!O32","v":260},{"$f":"'International out-migration'!O32","v":240},{"$f":"NINo!O32","v":320},{"$f":"'Births to non-UK mothers'!O32","v":109},{"$f":"'Pupils'' ethnic group (TS)'!P32","v":361},{"$f":"'Pupils with English as an add.'!M32","v":492},{"$f":"'Pop born outside UK'!O32","v":9000},{"$f":"'Non-British Population'!O32","v":7000},{"$f":"Citizenships!O32","v":26}]
[29,"Shetland Islands",null,{"$f":"'Total net migration'!O33","v":-130},{"$f":"'Total net migration 0-15'!O33","v":3},{"$f":"'Total net migration 16-64'!O33","v":-133},{"$f":"'Total net migration 65+'!O33","v":-3},{"$f":"'Total in-migration'!O33","v":540},{"$f":"'Total out-migration'!O33","v":670},{"$f":"'Within Scotland net migration'!O33","v":-120},{"$f":"'Within Scotland in-migration'!O33","v":290},{"$f":"'Within Scotland out-migration'!O33","v":420},{"$f":"'Rest of UK net migration'!O33","v":10},{"$f":"'Rest of UK in-migration'!O33","v":190},{"$f":"'Rest of UK out-migration'!O33","v":190},{"$f":"'International net migration'!O33","v":-20},{"$f":"'International in-migration'!O33","v":50},{"$f":"'International out-migration'!O33","v":70},{"$f":"NINo!O33","v":110},{"$f":"'Births to non-UK mothers'!O33","v":22},{"$f":"'Pupils'' ethnic group (TS)'!P33","v":100},{"$f":"'Pupils with English as an add.'!M33","v":58},{"$f":"'Pop born outside UK'!O33","v":1000},{"$f":"'Non-British Population'!O33","v":1000},{"$f":"Citizenships!O33","v":7}]
[30,"South Ayrshire",null,{"$f":"'Total net migration'!O34","v":690},{"$f":"'Total net migration 0-15'!O34","v":180},{"$f":"'Total net migration 16-64'!O34","v":372},{"$f":"'Total net migration 65+'!O34","v":138},{"$f":"'Total in-migration'!O34","v":3870},{"$f":"'Total out-migration'!O34","v":3180},{"$f":"'Within Scotland net migration'!O34","v":410},{"$f":"'Within Scotland in-migration'!O34","v":2800},{"$f":"'Within Scotland out-migration'!O34","v":2390},{"$f":"'Rest of UK net migration'!O34","v":280},{"$f":"'Rest of UK in-migration'!O34","v":820},{"$f":"'Rest of UK out-migration'!O34","v":540},{"$f":"'International net migration'!O34","v":0},{"$f":"'International in-migration'!O34","v":250},{"$f":"'International out-migration'!O34","v":250},{"$f":"NINo!O34","v":330},{"$f":"'Births to non-UK mothers'!O34","v":65},{"$f":"'Pupils'' ethnic group (TS)'!P34","v":362},{"$f":"'Pupils with English as an add.'!M34","v":209},{"$f":"'Pop born outside UK'!O34","v":5000},{"$f":"'Non-British Population'!O34","v":4000},{"$f":"Citizenships!O34","v":36}]
[31,"South Lanarkshire",null,{"$f":"'Total net migration'!O35","v":1280},{"$f":"'Total net migration 0-15'!O35","v":390},{"$f":"'Total net migration 16-64'!O35","v":897},{"$f":"'Total net migration 65+'!O35","v":-9},{"$f":"'Total in-migration'!O35","v":9130},{"$f":"'Total out-migration'!O35","v":7850},{"$f":"'Within Scotland net migration'!O35","v":1200},{"$f":"'Within Scotland in-migration'!O35","v":7230},{"$f":"'Within Scotland out-migration'!O35","v":6020},{"$f":"'Rest of UK net migration'!O35","v":100},{"$f":"'Rest of UK in-migration'!O35","v":1380},{"$f":"'Rest of UK out-migration'!O35","v":1290},{"$f":"'International net migration'!O35","v":-20},{"$f":"'International in-migration'!O35","v":520},{"$f":"'International out-migration'!O35","v":540},{"$f":"NINo!O35","v":740},{"$f":"'Births to non-UK mothers'!O35","v":258},{"$f":"'Pupils'' ethnic group (TS)'!P35","v":2024},{"$f":"'Pupils with English as an add.'!M35","v":912},{"$f":"'Pop born outside UK'!O35","v":10000},{"$f":"'Non-British Population'!O35","v":8000},{"$f":"Citizenships!O35","v":111}]
[32,"Stirling",null,{"$f":"'Total net migration'!O36","v":340},{"$f":"'Total net migration 0-15'!O36","v":227},{"$f":"'Total net migration 16-64'!O36","v":130},{"$f":"'Total net migration 65+'!O36","v":-22},{"$f":"'Total in-migration'!O36","v":5080},{"$f":"'Total out-migration'!O36","v":4740},{"$f":"'Within Scotland net migration'!O36","v":40},{"$f":"'Within Scotland in-migration'!O36","v":3420},{"$f":"'Within Scotland out-migration'!O36","v":3390},{"$f":"'Rest of UK net migration'!O36","v":300},{"$f":"'Rest of UK in-migration'!O36","v":1050},{"$f":"'Rest of UK out-migration'!O36","v":750},{"$f":"'International net migration'!O36","v":0},{"$f":"'International in-migration'!O36","v":600},{"$f":"'International out-migration'!O36","v":610},{"$f":"NINo!O36","v":700},{"$f":"'Births to non-UK mothers'!O36","v":109},{"$f":"'Pupils'' ethnic group (TS)'!P36","v":498},{"$f":"'Pupils with English as an add.'!M36","v":339},{"$f":"'Pop born outside UK'!O36","v":7000},{"$f":"'Non-British Population'!O36","v":5000},{"$f":"Citizenships!O36","v":32}]
[33,"West Dunbartonshire",null,{"$f":"'Total net migration'!O37","v":-100},{"$f":"'Total net migration 0-15'!O37","v":-1},{"$f":"'Total net migration 16-64'!O37","v":-70},{"$f":"'Total net migration 65+'!O37","v":-25},{"$f":"'Total in-migration'!O37","v":2330},{"$f":"'Total out-migration'!O37","v":2420},{"$f":"'Within Scotland net migration'!O37","v":-210},{"$f":"'Within Scotland in-migration'!O37","v":1830},{"$f":"'Within Scotland out-migration'!O37","v":2040},{"$f":"'Rest of UK net migration'!O37","v":90},{"$f":"'Rest of UK in-migration'!O37","v":360},{"$f":"'Rest of UK out-migration'!O37","v":270},{"$f":"'International net migration'!O37","v":30},{"$f":"'International in-migration'!O37","v":140},{"$f":"'International out-migration'!O37","v":110},{"$f":"NINo!O37","v":130},{"$f":"'Births to non-UK mothers'!O37","v":66},{"$f":"'Pupils'' ethnic group (TS)'!P37","v":391},{"$f":"'Pupils with English as an add.'!M37","v":294},{"$f":"'Pop born outside UK'!O37","v":4000},{"$f":"'Non-British Population'!O37","v":3000},{"$f":"Citizenships!O37","v":23}]
[34,"West Lothian",null,{"$f":"'Total net migration'!O38","v":790},{"$f":"'Total net migration 0-15'!O38","v":282},{"$f":"'Total net migration 16-64'!O38","v":475},{"$f":"'Total net migration 65+'!O38","v":29},{"$f":"'Total in-migration'!O38","v":5330},{"$f":"'Total out-migration'!O38","v":4540},{"$f":"'Within Scotland net migration'!O38","v":510},{"$f":"'Within Scotland in-migration'!O38","v":4000},{"$f":"'Within Scotland out-migration'!O38","v":3490},{"$f":"'Rest of UK net migration'!O38","v":70},{"$f":"'Rest of UK in-migration'!O38","v":810},{"$f":"'Rest of UK out-migration'!O38","v":740},{"$f":"'International net migration'!O38","v":210},{"$f":"'International in-migration'!O38","v":520},{"$f":"'International out-migration'!O38","v":320},{"$f":"NINo!O38","v":780},{"$f":"'Births to non-UK mothers'!O38","v":362},{"$f":"'Pupils'' ethnic group (TS)'!P38","v":1486},{"$f":"'Pupils with English as an add.'!M38","v":1539},{"$f":"'Pop born outside UK'!O38","v":17000},{"$f":"'Non-British Population'!O38","v":16000},{"$f":"Citizenships!O38","v":102}]
[]
[35,"Not specified"]
[36,"Scotland",null,{"$f":"'Total net migration'!O41","v":23900},{"$f":"'Total net migration 0-15'!O41","v":3775},{"$f":"'Total net migration 16-64'!O41","v":19788},{"$f":"'Total net migration 65+'!O41","v":292},{"$f":"'Total in-migration'!O41","v":80500},{"$f":"'Total out-migration'!O41","v":56600},{"$f":"'Within Scotland net migration'!O41","v":"[z]"},{"$f":"'Within Scotland in-migration'!O41","v":"[z]"},{"$f":"'Within Scotland out-migration'!O41","v":"[z]"},{"$f":"'Rest of UK net migration'!O41","v":10500},{"$f":"'Rest of UK in-migration'!O41","v":47600},{"$f":"'Rest of UK out-migration'!O41","v":37100},{"$f":"'International net migration'!O41","v":13400},{"$f":"'International in-migration'!O41","v":32900},{"$f":"'International out-migration'!O41","v":19500},null,{"$f":"'Births to non-UK mothers'!O41","v":9177}]
[37,"Ayrshire and Arran",null,{"$f":"'Total net migration'!O42","v":1060},{"$f":"'Total net migration 0-15'!O42","v":288},{"$f":"'Total net migration 16-64'!O42","v":551},{"$f":"'Total net migration 65+'!O42","v":221},{"$f":"'Total in-migration'!O42","v":8300},{"$f":"'Total out-migration'!O42","v":7240},{"$f":"'Within Scotland net migration'!O42","v":450},{"$f":"'Within Scotland in-migration'!O42","v":5470},{"$f":"'Within Scotland out-migration'!O42","v":5010},{"$f":"'Rest of UK net migration'!O42","v":740},{"$f":"'Rest of UK in-migration'!O42","v":2300},{"$f":"'Rest of UK out-migration'!O42","v":1560},{"$f":"'International net migration'!O42","v":-130},{"$f":"'International in-migration'!O42","v":540},{"$f":"'International out-migration'!O42","v":670},null,{"$f":"'Births to non-UK mothers'!O42","v":178}]
[38,"Borders",null,{"$f":"'Total net migration'!O43","v":820},{"$f":"'Total net migration 0-15'!O43","v":234},{"$f":"'Total net migration 16-64'!O43","v":566},{"$f":"'Total net migration 65+'!O43","v":18},{"$f":"'Total in-migration'!O43","v":4440},{"$f":"'Total out-migration'!O43","v":3620},{"$f":"'Within Scotland net migration'!O43","v":340},{"$f":"'Within Scotland in-migration'!O43","v":2580},{"$f":"'Within Scotland out-migration'!O43","v":2250},{"$f":"'Rest of UK net migration'!O43","v":470},{"$f":"'Rest of UK in-migration'!O43","v":1600},{"$f":"'Rest of UK out-migration'!O43","v":1130},{"$f":"'International net migration'!O43","v":20},{"$f":"'International in-migration'!O43","v":260},{"$f":"'International out-migration'!O43","v":240},null,{"$f":"'Births to non-UK mothers'!O43","v":109}]
[39,"Dumfries and Galloway",null,{"$f":"'Total net migration'!O44","v":320},{"$f":"'Total net migration 0-15'!O44","v":124},{"$f":"'Total net migration 16-64'!O44","v":192},{"$f":"'Total net migration 65+'!O44","v":6},{"$f":"'Total in-migration'!O44","v":4010},{"$f":"'Total out-migration'!O44","v":3680},{"$f":"'Within Scotland net migration'!O44","v":-250},{"$f":"'Within Scotland in-migration'!O44","v":1640},{"$f":"'Within Scotland out-migration'!O44","v":1890},{"$f":"'Rest of UK net migration'!O44","v":680},{"$f":"'Rest of UK in-migration'!O44","v":2130},{"$f":"'Rest of UK out-migration'!O44","v":1440},{"$f":"'International net migration'!O44","v":-120},{"$f":"'International in-migration'!O44","v":240},{"$f":"'International out-migration'!O44","v":360},null,{"$f":"'Births to non-UK mothers'!O44","v":99}]
[40,"Fife",null,{"$f":"'Total net migration'!O45","v":1520},{"$f":"'Total net migration 0-15'!O45","v":295},{"$f":"'Total net migration 16-64'!O45","v":1176},{"$f":"'Total net migration 65+'!O45","v":53},{"$f":"'Total in-migration'!O45","v":11170},{"$f":"'Total out-migration'!O45","v":9640},{"$f":"'Within Scotland net migration'!O45","v":200},{"$f":"'Within Scotland in-migration'!O45","v":6440},{"$f":"'Within Scotland out-migration'!O45","v":6250},{"$f":"'Rest of UK net migration'!O45","v":660},{"$f":"'Rest of UK in-migration'!O45","v":3040},{"$f":"'Rest of UK out-migration'!O45","v":2390},{"$f":"'International net migration'!O45","v":670},{"$f":"'International in-migration'!O45","v":1680},{"$f":"'International out-migration'!O45","v":1010},null,{"$f":"'Births to non-UK mothers'!O45","v":443}]
[41,"Forth Valley",null,{"$f":"'Total net migration'!O46","v":1360},{"$f":"'Total net migration 0-15'!O46","v":345},{"$f":"'Total net migration 16-64'!O46","v":1000},{"$f":"'Total net migration 65+'!O46","v":12},{"$f":"'Total in-migration'!O46","v":9950},{"$f":"'Total out-migration'!O46","v":8590},{"$f":"'Within Scotland net migration'!O46","v":760},{"$f":"'Within Scotland in-migration'!O46","v":6750},{"$f":"'Within Scotland out-migration'!O46","v":5990},{"$f":"'Rest of UK net migration'!O46","v":460},{"$f":"'Rest of UK in-migration'!O46","v":2040},{"$f":"'Rest of UK out-migration'!O46","v":1580},{"$f":"'International net migration'!O46","v":140},{"$f":"'International in-migration'!O46","v":1160},{"$f":"'International out-migration'!O46","v":1020},null,{"$f":"'Births to non-UK mothers'!O46","v":316}]
[42,"Grampian",null,{"$f":"'Total net migration'!O47","v":-2100},{"$f":"'Total net migration 0-15'!O47","v":-117},{"$f":"'Total net migration 16-64'!O47","v":-1975},{"$f":"'Total net migration 65+'!O47","v":-9},{"$f":"'Total in-migration'!O47","v":15210},{"$f":"'Total out-migration'!O47","v":17310},{"$f":"'Within Scotland net migration'!O47","v":-2770},{"$f":"'Within Scotland in-migration'!O47","v":6660},{"$f":"'Within Scotland out-migration'!O47","v":9430},{"$f":"'Rest of UK net migration'!O47","v":-930},{"$f":"'Rest of UK in-migration'!O47","v":4420},{"$f":"'Rest of UK out-migration'!O47","v":5350},{"$f":"'International net migration'!O47","v":1600},{"$f":"'International in-migration'!O47","v":4140},{"$f":"'International out-migration'!O47","v":2540},null,{"$f":"'Births to non-UK mothers'!O47","v":1388}]
[43,"Greater Glasgow and Clyde",null,{"$f":"'Total net migration'!O48","v":8110},{"$f":"'Total net migration 0-15'!O48","v":852},{"$f":"'Total net migration 16-64'!O48","v":7330},{"$f":"'Total net migration 65+'!O48","v":-70},{"$f":"'Total in-migration'!O48","v":38200},{"$f":"'Total out-migration'!O48","v":30090},{"$f":"'Within Scotland net migration'!O48","v":140},{"$f":"'Within Scotland in-migration'!O48","v":18140},{"$f":"'Within Scotland out-migration'!O48","v":18000},{"$f":"'Rest of UK net migration'!O48","v":2290},{"$f":"'Rest of UK in-migration'!O48","v":9220},{"$f":"'Rest of UK out-migration'!O48","v":6940},{"$f":"'International net migration'!O48","v":5690},{"$f":"'International in-migration'!O48","v":10840},{"$f":"'International out-migration'!O48","v":5150},null,{"$f":"'Births to non-UK mothers'!O48","v":2597}]
[44,"Highland",null,{"$f":"'Total net migration'!O49","v":950},{"$f":"'Total net migration 0-15'!O49","v":217},{"$f":"'Total net migration 16-64'!O49","v":959},{"$f":"'Total net migration 65+'!O49","v":-226},{"$f":"'Total in-migration'!O49","v":11160},{"$f":"'Total out-migration'!O49","v":10210},{"$f":"'Within Scotland net migration'!O49","v":-640},{"$f":"'Within Scotland in-migration'!O49","v":6070},{"$f":"'Within Scotland out-migration'!O49","v":6710},{"$f":"'Rest of UK net migration'!O49","v":1540},{"$f":"'Rest of UK in-migration'!O49","v":4060},{"$f":"'Rest of UK out-migration'!O49","v":2530},{"$f":"'International net migration'!O49","v":50},{"$f":"'International in-migration'!O49","v":1030},{"$f":"'International out-migration'!O49","v":970},null,{"$f":"'Births to non-UK mothers'!O49","v":369}]
[45,"Lanarkshire",null,{"$f":"'Total net migration'!O50","v":2010},{"$f":"'Total net migration 0-15'!O50","v":541},{"$f":"'Total net migration 16-64'!O50","v":1489},{"$f":"'Total net migration 65+'!O50","v":-18},{"$f":"'Total in-migration'!O50","v":14420},{"$f":"'Total out-migration'!O50","v":12410},{"$f":"'Within Scotland net migration'!O50","v":1770},{"$f":"'Within Scotland in-migration'!O50","v":10840},{"$f":"'Within Scotland out-migration'!O50","v":9080},{"$f":"'Rest of UK net migration'!O50","v":210},{"$f":"'Rest of UK in-migration'!O50","v":2470},{"$f":"'Rest of UK out-migration'!O50","v":2250},{"$f":"'International net migration'!O50","v":30},{"$f":"'International in-migration'!O50","v":1110},{"$f":"'International out-migration'!O50","v":1080},null,{"$f":"'Births to non-UK mothers'!O50","v":542}]
[46,"Lothian",null,{"$f":"'Total net migration'!O51","v":7950},{"$f":"'Total net migration 0-15'!O51","v":398},{"$f":"'Total net migration 16-64'!O51","v":7403},{"$f":"'Total net migration 65+'!O51","v":144},{"$f":"'Total in-migration'!O51","v":34830},{"$f":"'Total out-migration'!O51","v":26890},{"$f":"'Within Scotland net migration'!O51","v":-200},{"$f":"'Within Scotland in-migration'!O51","v":13190},{"$f":"'Within Scotland out-migration'!O51","v":13390},{"$f":"'Rest of UK net migration'!O51","v":3280},{"$f":"'Rest of UK in-migration'!O51","v":12080},{"$f":"'Rest of UK out-migration'!O51","v":8800},{"$f":"'International net migration'!O51","v":4860},{"$f":"'International in-migration'!O51","v":9570},{"$f":"'International out-migration'!O51","v":4700},null,{"$f":"'Births to non-UK mothers'!O51","v":2459}]
[47,"Orkney",null,{"$f":"'Total net migration'!O52","v":200},{"$f":"'Total net migration 0-15'!O52","v":46},{"$f":"'Total net migration 16-64'!O52","v":121},{"$f":"'Total net migration 65+'!O52","v":37},{"$f":"'Total in-migration'!O52","v":780},{"$f":"'Total out-migration'!O52","v":580},{"$f":"'Within Scotland net migration'!O52","v":40},{"$f":"'Within Scotland in-migration'!O52","v":410},{"$f":"'Within Scotland out-migration'!O52","v":370},{"$f":"'Rest of UK net migration'!O52","v":160},{"$f":"'Rest of UK in-migration'!O52","v":330},{"$f":"'Rest of UK out-migration'!O52","v":170},{"$f":"'International net migration'!O52","v":10},{"$f":"'International in-migration'!O52","v":50},{"$f":"'International out-migration'!O52","v":40},null,{"$f":"'Births to non-UK mothers'!O52","v":11}]
[48,"Shetland",null,{"$f":"'Total net migration'!O53","v":-130},{"$f":"'Total net migration 0-15'!O53","v":3},{"$f":"'Total net migration 16-64'!O53","v":-133},{"$f":"'Total net migration 65+'!O53","v":-3},{"$f":"'Total in-migration'!O53","v":540},{"$f":"'Total out-migration'!O53","v":670},{"$f":"'Within Scotland net migration'!O53","v":-120},{"$f":"'Within Scotland in-migration'!O53","v":290},{"$f":"'Within Scotland out-migration'!O53","v":420},{"$f":"'Rest of UK net migration'!O53","v":10},{"$f":"'Rest of UK in-migration'!O53","v":190},{"$f":"'Rest of UK out-migration'!O53","v":190},{"$f":"'International net migration'!O53","v":-20},{"$f":"'International in-migration'!O53","v":50},{"$f":"'International out-migration'!O53","v":70},null,{"$f":"'Births to non-UK mothers'!O53","v":22}]
[49,"Tayside",null,{"$f":"'Total net migration'!O54","v":1630},{"$f":"'Total net migration 0-15'!O54","v":463},{"$f":"'Total net migration 16-64'!O54","v":1056},{"$f":"'Total net migration 65+'!O54","v":111},{"$f":"'Total in-migration'!O54","v":13710},{"$f":"'Total out-migration'!O54","v":12080},{"$f":"'Within Scotland net migration'!O54","v":290},{"$f":"'Within Scotland in-migration'!O54","v":8170},{"$f":"'Within Scotland out-migration'!O54","v":7880},{"$f":"'Rest of UK net migration'!O54","v":750},{"$f":"'Rest of UK in-migration'!O54","v":3360},{"$f":"'Rest of UK out-migration'!O54","v":2610},{"$f":"'International net migration'!O54","v":590},{"$f":"'International in-migration'!O54","v":2190},{"$f":"'International out-migration'!O54","v":1590},null,{"$f":"'Births to non-UK mothers'!O54","v":625}]
[50,"Western Isles",null,{"$f":"'Total net migration'!O55","v":160},{"$f":"'Total net migration 0-15'!O55","v":86},{"$f":"'Total net migration 16-64'!O55","v":53},{"$f":"'Total net migration 65+'!O55","v":16},{"$f":"'Total in-migration'!O55","v":990},{"$f":"'Total out-migration'!O55","v":830},{"$f":"'Within Scotland net migration'!O55","v":0},{"$f":"'Within Scotland in-migration'!O55","v":590},{"$f":"'Within Scotland out-migration'!O55","v":590},{"$f":"'Rest of UK net migration'!O55","v":150},{"$f":"'Rest of UK in-migration'!O55","v":340},{"$f":"'Rest of UK out-migration'!O55","v":190},{"$f":"'International net migration'!O55","v":10},{"$f":"'International in-migration'!O55","v":60},{"$f":"'International out-migration'!O55","v":50},null,{"$f":"'Births to non-UK mothers'!O55","v":19}]

{"sheet":"2017 Rate","index":51,"n_rows":53,"n_cols":27,"rows_kept":53,"cut":false,"hidden":true,"merged":[]}
[null,2017,"RATE"]
[null,null,"Not specified ",{"$f":"'Comparing Indicators'!$U8","v":"Total net migration"},{"$f":"'Comparing Indicators'!$U9","v":"Total net migration for ages 0-15"},{"$f":"'Comparing Indicators'!$U10","v":"Total net migration for ages 16-64"},{"$f":"'Comparing Indicators'!$U11","v":"Total net migration for people aged 65+"},{"$f":"'Comparing Indicators'!$U12","v":"Total in-migration"},{"$f":"'Comparing Indicators'!$U13","v":"Total out-migration"},{"$f":"'Comparing Indicators'!$U14","v":"Within Scotland net migration"},{"$f":"'Comparing Indicators'!$U15","v":"Within Scotland in-migration"},{"$f":"'Comparing Indicators'!$U16","v":"Within Scotland out-migration"},{"$f":"'Comparing Indicators'!$U17","v":"Rest of UK net migration"},{"$f":"'Comparing Indicators'!$U18","v":"Rest of UK in-migration"},{"$f":"'Comparing Indicators'!$U19","v":"Rest of UK out-migration"},{"$f":"'Comparing Indicators'!$U20","v":"International net migration"},{"$f":"'Comparing Indicators'!$U21","v":"International in-migration"},{"$f":"'Comparing Indicators'!$U22","v":"International out-migration"},{"$f":"'Comparing Indicators'!$U23","v":"NINo Allocation"},{"$f":"'Comparing Indicators'!$U24","v":"Births to non-UK mothers"},{"$f":"'Comparing Indicators'!$U25","v":"Pupils from a minority ethnic group"},{"$f":"'Comparing Indicators'!$U26","v":"Pupils with English as an additional language"},{"$f":"'Comparing Indicators'!$U27","v":"Population born outside the UK"},{"$f":"'Comparing Indicators'!$U28","v":"Population with non-British nationality"},{"$f":"'Comparing Indicators'!$U29","v":"Citizenships"},null,"Mid-year population estimate"]
[1,"Not specified"]
[2,"Scotland",null,{"$f":"('2017'!D4/'2017 Rate'!$AA4)*1000","v":4.4056923757557884},{"$f":"('2017'!E4/'2017 Rate'!$AA4)*1000","v":0.69587818905766119},{"$f":"('2017'!F4/'2017 Rate'!$AA4)*1000","v":3.6476920808140392},{"$f":"('2017'!G4/'2017 Rate'!$AA4)*1000","v":5.3826869193334313E-2},{"$f":"('2017'!H4/'2017 Rate'!$AA4)*1000","v":14.839256746792508},{"$f":"('2017'!I4/'2017 Rate'!$AA4)*1000","v":10.43356437103672},{"$f":"'Within Scotland net migration'!O6","v":"[z]"},{"$f":"'Within Scotland in-migration'!O6","v":"[z]"},{"$f":"'Within Scotland out-migration'!O6","v":"[z]"},{"$f":"('2017'!M4/'2017 Rate'!$AA4)*1000","v":1.9355552278425012},{"$f":"('2017'!N4/'2017 Rate'!$AA4)*1000","v":8.7745170328860063},{"$f":"('2017'!O4/'2017 Rate'!$AA4)*1000","v":6.8389618050435041},{"$f":"('2017'!P4/'2017 Rate'!$AA4)*1000","v":2.4701371479132868},{"$f":"('2017'!Q4/'2017 Rate'!$AA4)*1000","v":6.064739713906504},{"$f":"('2017'!R4/'2017 Rate'!$AA4)*1000","v":3.5946025659932164},{"$f":"('2017'!S4/'2017 Rate'!$AA4)*1000","v":7.4675564076094965},null,null,null,null,null,{"$f":"('2017'!Y4/'2017 Rate'!$AA4)*1000","v":0.60499926264562753},"Scotland",5424800]
[3,"Aberdeen City",null,{"$f":"('2017'!D5/'2017 Rate'!$AA5)*1000","v":-6.2062937062937067},{"$f":"('2017'!E5/'2017 Rate'!$AA5)*1000","v":-1.5821678321678323},{"$f":"('2017'!F5/'2017 Rate'!$AA5)*1000","v":-4.4755244755244759},{"$f":"('2017'!G5/'2017 Rate'!$AA5)*1000","v":-0.13111888111888112},{"$f":"('2017'!H5/'2017 Rate'!$AA5)*1000","v":49.519230769230766},{"$f":"('2017'!I5/'2017 Rate'!$AA5)*1000","v":55.725524475524473},{"$f":"('2017'!J5/'2017 Rate'!$AA5)*1000","v":-9.7027972027972034},{"$f":"('2017'!K5/'2017 Rate'!$AA5)*1000","v":26.52972027972028},{"$f":"('2017'!L5/'2017 Rate'!$AA5)*1000","v":36.276223776223773},{"$f":"('2017'!M5/'2017 Rate'!$AA5)*1000","v":-3.0157342657342658},{"$f":"('2017'!N5/'2017 Rate'!$AA5)*1000","v":9.0909090909090899},{"$f":"('2017'!O5/'2017 Rate'!$AA5)*1000","v":12.062937062937063},{"$f":"('2017'!P5/'2017 Rate'!$AA5)*1000","v":6.5122377622377625},{"$f":"('2017'!Q5/'2017 Rate'!$AA5)*1000","v":13.898601398601398},{"$f":"('2017'!R5/'2017 Rate'!$AA5)*1000","v":7.3863636363636358},{"$f":"('2017'!S5/'2017 Rate'!$AA5)*1000","v":14.117132867132867},null,null,null,null,null,{"$f":"('2017'!Y5/'2017 Rate'!$AA5)*1000","v":1.7482517482517483},"Aberdeen City",228800]
[4,"Aberdeenshire",null,{"$f":"('2017'!D6/'2017 Rate'!$AA6)*1000","v":-2.6355996944232238},{"$f":"('2017'!E6/'2017 Rate'!$AA6)*1000","v":0.65317035905271192},{"$f":"('2017'!F6/'2017 Rate'!$AA6)*1000","v":-3.231474407944996},{"$f":"('2017'!G6/'2017 Rate'!$AA6)*1000","v":-4.9656226126814362E-2},{"$f":"('2017'!H6/'2017 Rate'!$AA6)*1000","v":27.578304048892285},{"$f":"('2017'!I6/'2017 Rate'!$AA6)*1000","v":30.213903743315505},{"$f":"('2017'!J6/'2017 Rate'!$AA6)*1000","v":-1.8716577540106951},{"$f":"('2017'!K6/'2017 Rate'!$AA6)*1000","v":20.091673032849503},{"$f":"('2017'!L6/'2017 Rate'!$AA6)*1000","v":21.963330786860197},{"$f":"('2017'!M6/'2017 Rate'!$AA6)*1000","v":-1.5660809778456837},{"$f":"('2017'!N6/'2017 Rate'!$AA6)*1000","v":4.5836516424751723},{"$f":"('2017'!O6/'2017 Rate'!$AA6)*1000","v":6.1497326203208553},{"$f":"('2017'!P6/'2017 Rate'!$AA6)*1000","v":0.80213903743315507},{"$f":"('2017'!Q6/'2017 Rate'!$AA6)*1000","v":2.9029793735676086},{"$f":"('2017'!R6/'2017 Rate'!$AA6)*1000","v":2.1008403361344539},{"$f":"('2017'!S6/'2017 Rate'!$AA6)*1000","v":4.5072574484339194},null,null,null,null,null,{"$f":"('2017'!Y6/'2017 Rate'!$AA6)*1000","v":0.47746371275783045},"Aberdeenshire",261800]
[5,"Angus",null,{"$f":"('2017'!D7/'2017 Rate'!$AA7)*1000","v":1.2039903680770554},{"$f":"('2017'!E7/'2017 Rate'!$AA7)*1000","v":0.98899208806329553},{"$f":"('2017'!F7/'2017 Rate'!$AA7)*1000","v":-0.29239766081871343},{"$f":"('2017'!G7/'2017 Rate'!$AA7)*1000","v":0.54179566563467496},{"$f":"('2017'!H7/'2017 Rate'!$AA7)*1000","v":32.593739250085996},{"$f":"('2017'!I7/'2017 Rate'!$AA7)*1000","v":31.30374957000344},{"$f":"('2017'!J7/'2017 Rate'!$AA7)*1000","v":0.77399380804953566},{"$f":"('2017'!K7/'2017 Rate'!$AA7)*1000","v":24.767801857585141},{"$f":"('2017'!L7/'2017 Rate'!$AA7)*1000","v":23.993808049535602},{"$f":"('2017'!M7/'2017 Rate'!$AA7)*1000","v":8.5999312005503953E-2},{"$f":"('2017'!N7/'2017 Rate'!$AA7)*1000","v":5.2459580323357411},{"$f":"('2017'!O7/'2017 Rate'!$AA7)*1000","v":5.1599587203302377},{"$f":"('2017'!P7/'2017 Rate'!$AA7)*1000","v":0.42999656002751979},{"$f":"('2017'!Q7/'2017 Rate'!$AA7)*1000","v":2.5799793601651189},{"$f":"('2017'!R7/'2017 Rate'!$AA7)*1000","v":2.1499828001375989},{"$f":"('2017'!S7/'2017 Rate'!$AA7)*1000","v":9.2879256965944261},null,null,null,null,null,{"$f":"('2017'!Y7/'2017 Rate'!$AA7)*1000","v":0.27519779841761266},"Angus",116280]
[6,"Argyll and Bute",null,{"$f":"('2017'!D8/'2017 Rate'!$AA8)*1000","v":1.612717428867642},{"$f":"('2017'!E8/'2017 Rate'!$AA8)*1000","v":1.3477709941251006},{"$f":"('2017'!F8/'2017 Rate'!$AA8)*1000","v":1.1864992512383365},{"$f":"('2017'!G8/'2017 Rate'!$AA8)*1000","v":-0.95611104711438777},{"$f":"('2017'!H8/'2017 Rate'!$AA8)*1000","v":48.15113466190531},{"$f":"('2017'!I8/'2017 Rate'!$AA8)*1000","v":46.53841723303767},{"$f":"('2017'!J8/'2017 Rate'!$AA8)*1000","v":-4.953346388664901},{"$f":"('2017'!K8/'2017 Rate'!$AA8)*1000","v":27.301002188687939},{"$f":"('2017'!L8/'2017 Rate'!$AA8)*1000","v":32.254348577352843},{"$f":"('2017'!M8/'2017 Rate'!$AA8)*1000","v":7.0268402257804397},{"$f":"('2017'!N8/'2017 Rate'!$AA8)*1000","v":17.39430941135814},{"$f":"('2017'!O8/'2017 Rate'!$AA8)*1000","v":10.482663287639673},{"$f":"('2017'!P8/'2017 Rate'!$AA8)*1000","v":-0.46077640824789773},{"$f":"('2017'!Q8/'2017 Rate'!$AA8)*1000","v":3.4558230618592329},{"$f":"('2017'!R8/'2017 Rate'!$AA8)*1000","v":3.8014053680451561},{"$f":"('2017'!S8/'2017 Rate'!$AA8)*1000","v":5.6445110010367463},null,null,null,null,null,{"$f":"('2017'!Y8/'2017 Rate'!$AA8)*1000","v":0.2649464347425412},"Argyll & Bute",86810]
[7,"City of Edinburgh",null,{"$f":"('2017'!D9/'2017 Rate'!$AA9)*1000","v":9.9179673038327376},{"$f":"('2017'!E9/'2017 Rate'!$AA9)*1000","v":-0.65859979345686948},{"$f":"('2017'!F9/'2017 Rate'!$AA9)*1000","v":10.650610861051032},{"$f":"('2017'!G9/'2017 Rate'!$AA9)*1000","v":-7.7940803959392832E-2},{"$f":"('2017'!H9/'2017 Rate'!$AA9)*1000","v":58.864792190331443},{"$f":"('2017'!I9/'2017 Rate'!$AA9)*1000","v":48.94682488649871},{"$f":"('2017'!J9/'2017 Rate'!$AA9)*1000","v":-4.6374778355838737},{"$f":"('2017'!K9/'2017 Rate'!$AA9)*1000","v":22.622318349213771},{"$f":"('2017'!L9/'2017 Rate'!$AA9)*1000","v":27.259796184797644},{"$f":"('2017'!M9/'2017 Rate'!$AA9)*1000","v":5.7676194929950704},{"$f":"('2017'!N9/'2017 Rate'!$AA9)*1000","v":19.602112195787299},{"$f":"('2017'!O9/'2017 Rate'!$AA9)*1000","v":13.834492702792229},{"$f":"('2017'!P9/'2017 Rate'!$AA9)*1000","v":8.7878256464215418},{"$f":"('2017'!Q9/'2017 Rate'!$AA9)*1000","v":16.640361645330373},{"$f":"('2017'!R9/'2017 Rate'!$AA9)*1000","v":7.8525359989088281},{"$f":"('2017'!S9/'2017 Rate'!$AA9)*1000","v":19.874905009645175},null,null,null,null,null,{"$f":"('2017'!Y9/'2017 Rate'!$AA9)*1000","v":1.5315367978020695},"City of Edinburgh",513210]
[8,"Clackmannanshire",null,{"$f":"('2017'!D10/'2017 Rate'!$AA10)*1000","v":2.3323615160349855},{"$f":"('2017'!E10/'2017 Rate'!$AA10)*1000","v":0.89407191448007783},{"$f":"('2017'!F10/'2017 Rate'!$AA10)*1000","v":1.7298347910592808},{"$f":"('2017'!G10/'2017 Rate'!$AA10)*1000","v":-0.27210884353741494},{"$f":"('2017'!H10/'2017 Rate'!$AA10)*1000","v":36.540330417881442},{"$f":"('2017'!I10/'2017 Rate'!$AA10)*1000","v":34.013605442176875},{"$f":"('2017'!J10/'2017 Rate'!$AA10)*1000","v":1.749271137026239},{"$f":"('2017'!K10/'2017 Rate'!$AA10)*1000","v":27.988338192419825},{"$f":"('2017'!L10/'2017 Rate'!$AA10)*1000","v":26.239067055393587},{"$f":"('2017'!M10/'2017 Rate'!$AA10)*1000","v":-0.19436345966958213},{"$f":"('2017'!N10/'2017 Rate'!$AA10)*1000","v":5.2478134110787176},{"$f":"('2017'!O10/'2017 Rate'!$AA10)*1000","v":5.2478134110787176},{"$f":"('2017'!P10/'2017 Rate'!$AA10)*1000","v":0.77745383867832851},{"$f":"('2017'!Q10/'2017 Rate'!$AA10)*1000","v":3.3041788143828956},{"$f":"('2017'!R10/'2017 Rate'!$AA10)*1000","v":2.5267249757045676},{"$f":"('2017'!S10/'2017 Rate'!$AA10)*1000","v":2.3323615160349855},null,null,null,null,null,{"$f":"('2017'!Y10/'2017 Rate'!$AA10)*1000","v":0.13605442176870747},"Clackmannanshire",51450]
[9,"Dumfries and Galloway",null,{"$f":"('2017'!D11/'2017 Rate'!$AA11)*1000","v":2.1447721179624666},{"$f":"('2017'!E11/'2017 Rate'!$AA11)*1000","v":0.83109919571045576},{"$f":"('2017'!F11/'2017 Rate'!$AA11)*1000","v":1.2868632707774799},{"$f":"('2017'!G11/'2017 Rate'!$AA11)*1000","v":4.0214477211796246E-2},{"$f":"('2017'!H11/'2017 Rate'!$AA11)*1000","v":26.876675603217159},{"$f":"('2017'!I11/'2017 Rate'!$AA11)*1000","v":24.664879356568367},{"$f":"('2017'!J11/'2017 Rate'!$AA11)*1000","v":-1.6756032171581769},{"$f":"('2017'!K11/'2017 Rate'!$AA11)*1000","v":10.99195710455764},{"$f":"('2017'!L11/'2017 Rate'!$AA11)*1000","v":12.667560321715818},{"$f":"('2017'!M11/'2017 Rate'!$AA11)*1000","v":4.5576407506702408},{"$f":"('2017'!N11/'2017 Rate'!$AA11)*1000","v":14.276139410187668},{"$f":"('2017'!O11/'2017 Rate'!$AA11)*1000","v":9.6514745308311003},{"$f":"('2017'!P11/'2017 Rate'!$AA11)*1000","v":-0.80428954423592491},{"$f":"('2017'!Q11/'2017 Rate'!$AA11)*1000","v":1.6085790884718498},{"$f":"('2017'!R11/'2017 Rate'!$AA11)*1000","v":2.4128686327077751},{"$f":"('2017'!S11/'2017 Rate'!$AA11)*1000","v":3.1501340482573728},null,null,null,null,null,{"$f":"('2017'!Y11/'2017 Rate'!$AA11)*1000","v":0.1541554959785523},"Dumfries & Galloway",149200]
[10,"Dundee City",null,{"$f":"('2017'!D12/'2017 Rate'!$AA12)*1000","v":3.9674534328558937},{"$f":"('2017'!E12/'2017 Rate'!$AA12)*1000","v":-0.55140878219353107},{"$f":"('2017'!F12/'2017 Rate'!$AA12)*1000","v":4.8819850716158966},{"$f":"('2017'!G12/'2017 Rate'!$AA12)*1000","v":-0.37657185125411874},{"$f":"('2017'!H12/'2017 Rate'!$AA12)*1000","v":46.86974648645014},{"$f":"('2017'!I12/'2017 Rate'!$AA12)*1000","v":42.902293053594242},{"$f":"('2017'!J12/'2017 Rate'!$AA12)*1000","v":-0.40346984062941299},{"$f":"('2017'!K12/'2017 Rate'!$AA12)*1000","v":29.655033286261851},{"$f":"('2017'!L12/'2017 Rate'!$AA12)*1000","v":30.058503126891264},{"$f":"('2017'!M12/'2017 Rate'!$AA12)*1000","v":1.6811243359558872},{"$f":"('2017'!N12/'2017 Rate'!$AA12)*1000","v":9.2798063344764987},{"$f":"('2017'!O12/'2017 Rate'!$AA12)*1000","v":7.5986819985206102},{"$f":"('2017'!P12/'2017 Rate'!$AA12)*1000","v":2.6897989375294196},{"$f":"('2017'!Q12/'2017 Rate'!$AA12)*1000","v":7.9349068657117874},{"$f":"('2017'!R12/'2017 Rate'!$AA12)*1000","v":5.3123529016206037},{"$f":"('2017'!S12/'2017 Rate'!$AA12)*1000","v":7.5314370250823748},null,null,null,null,null,{"$f":"('2017'!Y12/'2017 Rate'!$AA12)*1000","v":0.5917557662564723},"Dundee City",148710]
[11,"East Ayrshire",null,{"$f":"('2017'!D13/'2017 Rate'!$AA13)*1000","v":0.16401508938822371},{"$f":"('2017'!E13/'2017 Rate'!$AA13)*1000","v":-9.0208299163523048E-2},{"$f":"('2017'!F13/'2017 Rate'!$AA13)*1000","v":0.26242414302115796},{"$f":"('2017'!G13/'2017 Rate'!$AA13)*1000","v":-2.4602263408233557E-2},{"$f":"('2017'!H13/'2017 Rate'!$AA13)*1000","v":27.472527472527471},{"$f":"('2017'!I13/'2017 Rate'!$AA13)*1000","v":27.308512383139249},{"$f":"('2017'!J13/'2017 Rate'!$AA13)*1000","v":-0.49204526816467109},{"$f":"('2017'!K13/'2017 Rate'!$AA13)*1000","v":21.239954075774971},{"$f":"('2017'!L13/'2017 Rate'!$AA13)*1000","v":21.731999343939641},{"$f":"('2017'!M13/'2017 Rate'!$AA13)*1000","v":1.3941282597999016},{"$f":"('2017'!N13/'2017 Rate'!$AA13)*1000","v":5.4124979498113825},{"$f":"('2017'!O13/'2017 Rate'!$AA13)*1000","v":4.0183696900114807},{"$f":"('2017'!P13/'2017 Rate'!$AA13)*1000","v":-0.73806790224700669},{"$f":"('2017'!Q13/'2017 Rate'!$AA13)*1000","v":0.90208299163523042},{"$f":"('2017'!R13/'2017 Rate'!$AA13)*1000","v":1.5581433491881254},{"$f":"('2017'!S13/'2017 Rate'!$AA13)*1000","v":1.5581433491881254},null,null,null,null,null,{"$f":"('2017'!Y13/'2017 Rate'!$AA13)*1000","v":9.0208299163523048E-2},"East Ayrshire",121940]
[12,"East Dunbartonshire",null,{"$f":"('2017'!D14/'2017 Rate'!$AA14)*1000","v":6.381207805419403},{"$f":"('2017'!E14/'2017 Rate'!$AA14)*1000","v":4.4853417183020436},{"$f":"('2017'!F14/'2017 Rate'!$AA14)*1000","v":1.988347359659669},{"$f":"('2017'!G14/'2017 Rate'!$AA14)*1000","v":-0.11097752705077223},{"$f":"('2017'!H14/'2017 Rate'!$AA14)*1000","v":37.454915379635629},{"$f":"('2017'!I14/'2017 Rate'!$AA14)*1000","v":31.073707574216222},{"$f":"('2017'!J14/'2017 Rate'!$AA14)*1000","v":6.0112827152501618},{"$f":"('2017'!K14/'2017 Rate'!$AA14)*1000","v":31.906039027097016},{"$f":"('2017'!L14/'2017 Rate'!$AA14)*1000","v":25.802275039304543},{"$f":"('2017'!M14/'2017 Rate'!$AA14)*1000","v":0.46240636271155089},{"$f":"('2017'!N14/'2017 Rate'!$AA14)*1000","v":4.3466198094885788},{"$f":"('2017'!O14/'2017 Rate'!$AA14)*1000","v":3.8842134467770277},{"$f":"('2017'!P14/'2017 Rate'!$AA14)*1000","v":-9.2481272542310186E-2},{"$f":"('2017'!Q14/'2017 Rate'!$AA14)*1000","v":1.2947378155923426},{"$f":"('2017'!R14/'2017 Rate'!$AA14)*1000","v":1.479700360676963},{"$f":"('2017'!S14/'2017 Rate'!$AA14)*1000","v":1.2022565430500323},null,null,null,null,null,{"$f":"('2017'!Y14/'2017 Rate'!$AA14)*1000","v":0.3051881993896236},"East Dunbartonshire",108130]
[13,"East Lothian",null,{"$f":"('2017'!D15/'2017 Rate'!$AA15)*1000","v":7.630675314765357},{"$f":"('2017'!E15/'2017 Rate'!$AA15)*1000","v":1.8599771079740557},{"$f":"('2017'!F15/'2017 Rate'!$AA15)*1000","v":4.4639450591377337},{"$f":"('2017'!G15/'2017 Rate'!$AA15)*1000","v":1.3067531476535674},{"$f":"('2017'!H15/'2017 Rate'!$AA15)*1000","v":39.67951163677985},{"$f":"('2017'!I15/'2017 Rate'!$AA15)*1000","v":32.048836322014495},{"$f":"('2017'!J15/'2017 Rate'!$AA15)*1000","v":5.2460892789011835},{"$f":"('2017'!K15/'2017 Rate'!$AA15)*1000","v":28.90118275467379},{"$f":"('2017'!L15/'2017 Rate'!$AA15)*1000","v":23.655093475772606},{"$f":"('2017'!M15/'2017 Rate'!$AA15)*1000","v":1.4307516215185045},{"$f":"('2017'!N15/'2017 Rate'!$AA15)*1000","v":7.5352918733307899},{"$f":"('2017'!O15/'2017 Rate'!$AA15)*1000","v":6.0091568103777186},{"$f":"('2017'!P15/'2017 Rate'!$AA15)*1000","v":0.95383441434566962},{"$f":"('2017'!Q15/'2017 Rate'!$AA15)*1000","v":3.3384204502098438},{"$f":"('2017'!R15/'2017 Rate'!$AA15)*1000","v":2.2892025944296068},{"$f":"('2017'!S15/'2017 Rate'!$AA15)*1000","v":5.3414727203357497},null,null,null,null,null,{"$f":"('2017'!Y15/'2017 Rate'!$AA15)*1000","v":0.32430370087752763},"East Lothian",104840]
[14,"East Renfrewshire",null,{"$f":"('2017'!D16/'2017 Rate'!$AA16)*1000","v":10.130856901646263},{"$f":"('2017'!E16/'2017 Rate'!$AA16)*1000","v":6.9544111439425924},{"$f":"('2017'!F16/'2017 Rate'!$AA16)*1000","v":2.5432672013507807},{"$f":"('2017'!G16/'2017 Rate'!$AA16)*1000","v":0.61207260447446177},{"$f":"('2017'!H16/'2017 Rate'!$AA16)*1000","v":42.422963275643731},{"$f":"('2017'!I16/'2017 Rate'!$AA16)*1000","v":32.292106373997463},{"$f":"('2017'!J16/'2017 Rate'!$AA16)*1000","v":9.6032081046855211},{"$f":"('2017'!K16/'2017 Rate'!$AA16)*1000","v":36.407766990291258},{"$f":"('2017'!L16/'2017 Rate'!$AA16)*1000","v":26.80455888560574},{"$f":"('2017'!M16/'2017 Rate'!$AA16)*1000","v":0.63317855635289144},{"$f":"('2017'!N16/'2017 Rate'!$AA16)*1000","v":4.6433094132545385},{"$f":"('2017'!O16/'2017 Rate'!$AA16)*1000","v":4.1156606162937948},{"$f":"('2017'!P16/'2017 Rate'!$AA16)*1000","v":-0.10552975939214858},{"$f":"('2017'!Q16/'2017 Rate'!$AA16)*1000","v":1.3718868720979316},{"$f":"('2017'!R16/'2017 Rate'!$AA16)*1000","v":1.4774166314900801},{"$f":"('2017'!S16/'2017 Rate'!$AA16)*1000","v":1.0552975939214859},null,null,null,null,null,{"$f":"('2017'!Y16/'2017 Rate'!$AA16)*1000","v":0.59096665259603209},"East Renfrewshire",94760]
[15,"Falkirk",null,{"$f":"('2017'!D17/'2017 Rate'!$AA17)*1000","v":5.620433397864236},{"$f":"('2017'!E17/'2017 Rate'!$AA17)*1000","v":0.44963467182913885},{"$f":"('2017'!F17/'2017 Rate'!$AA17)*1000","v":4.8772872041466311},{"$f":"('2017'!G17/'2017 Rate'!$AA17)*1000","v":0.29975644788609257},{"$f":"('2017'!H17/'2017 Rate'!$AA17)*1000","v":28.976456628988945},{"$f":"('2017'!I17/'2017 Rate'!$AA17)*1000","v":23.356023231124709},{"$f":"('2017'!J17/'2017 Rate'!$AA17)*1000","v":3.9343033785049646},{"$f":"('2017'!K17/'2017 Rate'!$AA17)*1000","v":22.044588771623058},{"$f":"('2017'!L17/'2017 Rate'!$AA17)*1000","v":18.11028539311809},{"$f":"('2017'!M17/'2017 Rate'!$AA17)*1000","v":1.0616374195965779},{"$f":"('2017'!N17/'2017 Rate'!$AA17)*1000","v":4.5587959782676579},{"$f":"('2017'!O17/'2017 Rate'!$AA17)*1000","v":3.4971585586710798},{"$f":"('2017'!P17/'2017 Rate'!$AA17)*1000","v":0.62449259976269278},{"$f":"('2017'!Q17/'2017 Rate'!$AA17)*1000","v":2.3730718790982328},{"$f":"('2017'!R17/'2017 Rate'!$AA17)*1000","v":1.7485792793355399},{"$f":"('2017'!S17/'2017 Rate'!$AA17)*1000","v":2.9351152188846563},null,null,null,null,null,{"$f":"('2017'!Y17/'2017 Rate'!$AA17)*1000","v":0.33722600387185409},"Falkirk",160130]
[16,"Fife",null,{"$f":"('2017'!D18/'2017 Rate'!$AA18)*1000","v":4.0925123179235889},{"$f":"('2017'!E18/'2017 Rate'!$AA18)*1000","v":0.79427048275490697},{"$f":"('2017'!F18/'2017 Rate'!$AA18)*1000","v":3.1663121617619341},{"$f":"('2017'!G18/'2017 Rate'!$AA18)*1000","v":0.14269944266444093},{"$f":"('2017'!H18/'2017 Rate'!$AA18)*1000","v":30.074580652109528},{"$f":"('2017'!I18/'2017 Rate'!$AA18)*1000","v":25.955143911041706},{"$f":"('2017'!J18/'2017 Rate'!$AA18)*1000","v":0.53848846288468266},{"$f":"('2017'!K18/'2017 Rate'!$AA18)*1000","v":17.339328504886783},{"$f":"('2017'!L18/'2017 Rate'!$AA18)*1000","v":16.827764465146334},{"$f":"('2017'!M18/'2017 Rate'!$AA18)*1000","v":1.7770119275194529},{"$f":"('2017'!N18/'2017 Rate'!$AA18)*1000","v":8.1850246358471779},{"$f":"('2017'!O18/'2017 Rate'!$AA18)*1000","v":6.4349371314719583},{"$f":"('2017'!P18/'2017 Rate'!$AA18)*1000","v":1.803936350663687},{"$f":"('2017'!Q18/'2017 Rate'!$AA18)*1000","v":4.5233030882313345},{"$f":"('2017'!R18/'2017 Rate'!$AA18)*1000","v":2.7193667375676474},{"$f":"('2017'!S18/'2017 Rate'!$AA18)*1000","v":5.3310357825583585},null,null,null,null,null,{"$f":"('2017'!Y18/'2017 Rate'!$AA18)*1000","v":0.32040063541638619},"Fife",371410]
[17,"Glasgow City",null,{"$f":"('2017'!D19/'2017 Rate'!$AA19)*1000","v":8.6792695887411018},{"$f":"('2017'!E19/'2017 Rate'!$AA19)*1000","v":-0.85826543428553026},{"$f":"('2017'!F19/'2017 Rate'!$AA19)*1000","v":9.8000064410163912},{"$f":"('2017'!G19/'2017 Rate'!$AA19)*1000","v":-0.26247141798975876},{"$f":"('2017'!H19/'2017 Rate'!$AA19)*1000","v":53.428230974847828},{"$f":"('2017'!I19/'2017 Rate'!$AA19)*1000","v":44.748961386106728},{"$f":"('2017'!J19/'2017 Rate'!$AA19)*1000","v":-2.9467649995169238},{"$f":"('2017'!K19/'2017 Rate'!$AA19)*1000","v":26.810730733309715},{"$f":"('2017'!L19/'2017 Rate'!$AA19)*1000","v":29.757495732826641},{"$f":"('2017'!M19/'2017 Rate'!$AA19)*1000","v":2.9467649995169238},{"$f":"('2017'!N19/'2017 Rate'!$AA19)*1000","v":10.981932949019356},{"$f":"('2017'!O19/'2017 Rate'!$AA19)*1000","v":8.0512704904833985},{"$f":"('2017'!P19/'2017 Rate'!$AA19)*1000","v":8.6792695887411018},{"$f":"('2017'!Q19/'2017 Rate'!$AA19)*1000","v":15.635567292518759},{"$f":"('2017'!R19/'2017 Rate'!$AA19)*1000","v":6.9401951627966891},{"$f":"('2017'!S19/'2017 Rate'!$AA19)*1000","v":15.200798686032655},null,null,null,null,null,{"$f":"('2017'!Y19/'2017 Rate'!$AA19)*1000","v":1.2076905735725099},"Glasgow City",621020]
[18,"Highland",null,{"$f":"('2017'!D20/'2017 Rate'!$AA20)*1000","v":3.4441704226549876},{"$f":"('2017'!E20/'2017 Rate'!$AA20)*1000","v":0.42520622501913424},{"$f":"('2017'!F20/'2017 Rate'!$AA20)*1000","v":3.6397652861637892},{"$f":"('2017'!G20/'2017 Rate'!$AA20)*1000","v":-0.60804490177736203},{"$f":"('2017'!H20/'2017 Rate'!$AA20)*1000","v":31.0400544263968},{"$f":"('2017'!I20/'2017 Rate'!$AA20)*1000","v":27.595884003741812},{"$f":"('2017'!J20/'2017 Rate'!$AA20)*1000","v":-0.89293307254018206},{"$f":"('2017'!K20/'2017 Rate'!$AA20)*1000","v":17.093290245769197},{"$f":"('2017'!L20/'2017 Rate'!$AA20)*1000","v":17.986223318309381},{"$f":"('2017'!M20/'2017 Rate'!$AA20)*1000","v":3.9544178926779487},{"$f":"('2017'!N20/'2017 Rate'!$AA20)*1000","v":10.842758737987923},{"$f":"('2017'!O20/'2017 Rate'!$AA20)*1000","v":6.8883408453099753},{"$f":"('2017'!P20/'2017 Rate'!$AA20)*1000","v":0.38268560251722084},{"$f":"('2017'!Q20/'2017 Rate'!$AA20)*1000","v":3.1040054426396799},{"$f":"('2017'!R20/'2017 Rate'!$AA20)*1000","v":2.7213198401224594},{"$f":"('2017'!S20/'2017 Rate'!$AA20)*1000","v":6.8458202228080616},null,null,null,null,null,{"$f":"('2017'!Y20/'2017 Rate'!$AA20)*1000","v":0.37418147801683815},"Highland",235180]
[19,"Inverclyde",null,{"$f":"('2017'!D21/'2017 Rate'!$AA21)*1000","v":0.12696800406297612},{"$f":"('2017'!E21/'2017 Rate'!$AA21)*1000","v":-3.8090401218892837E-2},{"$f":"('2017'!F21/'2017 Rate'!$AA21)*1000","v":-0.45708481462671408},{"$f":"('2017'!G21/'2017 Rate'!$AA21)*1000","v":0.62214321990858301},{"$f":"('2017'!H21/'2017 Rate'!$AA21)*1000","v":19.299136617572373},{"$f":"('2017'!I21/'2017 Rate'!$AA21)*1000","v":19.172168613509395},{"$f":"('2017'!J21/'2017 Rate'!$AA21)*1000","v":-0.63484002031488063},{"$f":"('2017'!K21/'2017 Rate'!$AA21)*1000","v":14.220416455053327},{"$f":"('2017'!L21/'2017 Rate'!$AA21)*1000","v":14.855256475368208},{"$f":"('2017'!M21/'2017 Rate'!$AA21)*1000","v":0.76180802437785677},{"$f":"('2017'!N21/'2017 Rate'!$AA21)*1000","v":3.809040121889284},{"$f":"('2017'!O21/'2017 Rate'!$AA21)*1000","v":3.1742001015744035},{"$f":"('2017'!P21/'2017 Rate'!$AA21)*1000","v":0},{"$f":"('2017'!Q21/'2017 Rate'!$AA21)*1000","v":1.2696800406297613},{"$f":"('2017'!R21/'2017 Rate'!$AA21)*1000","v":1.2696800406297613},{"$f":"('2017'!S21/'2017 Rate'!$AA21)*1000","v":2.4123920771965466},null,null,null,null,null,{"$f":"('2017'!Y21/'2017 Rate'!$AA21)*1000","v":0.11427120365667852},"Inverclyde",78760]
[20,"Midlothian",null,{"$f":"('2017'!D22/'2017 Rate'!$AA22)*1000","v":14.097014097014098},{"$f":"('2017'!E22/'2017 Rate'!$AA22)*1000","v":2.8749028749028751},{"$f":"('2017'!F22/'2017 Rate'!$AA22)*1000","v":11.033411033411035},{"$f":"('2017'!G22/'2017 Rate'!$AA22)*1000","v":0.19980019980019981},{"$f":"('2017'!H22/'2017 Rate'!$AA22)*1000","v":41.95804195804196},{"$f":"('2017'!I22/'2017 Rate'!$AA22)*1000","v":27.861027861027861},{"$f":"('2017'!J22/'2017 Rate'!$AA22)*1000","v":12.432012432012431},{"$f":"('2017'!K22/'2017 Rate'!$AA22)*1000","v":35.409035409035411},{"$f":"('2017'!L22/'2017 Rate'!$AA22)*1000","v":22.977022977022976},{"$f":"('2017'!M22/'2017 Rate'!$AA22)*1000","v":1.2210012210012211},{"$f":"('2017'!N22/'2017 Rate'!$AA22)*1000","v":4.7730047730047733},{"$f":"('2017'!O22/'2017 Rate'!$AA22)*1000","v":3.6630036630036629},{"$f":"('2017'!P22/'2017 Rate'!$AA22)*1000","v":0.55500055500055501},{"$f":"('2017'!Q22/'2017 Rate'!$AA22)*1000","v":1.7760017760017761},{"$f":"('2017'!R22/'2017 Rate'!$AA22)*1000","v":1.2210012210012211},{"$f":"('2017'!S22/'2017 Rate'!$AA22)*1000","v":2.4420024420024422},null,null,null,null,null,{"$f":"('2017'!Y22/'2017 Rate'!$AA22)*1000","v":0.62160062160062157},"Midlothian",90090]
[21,"Moray",null,{"$f":"('2017'!D23/'2017 Rate'!$AA23)*1000","v":0},{"$f":"('2017'!E23/'2017 Rate'!$AA23)*1000","v":0.77260388390060553},{"$f":"('2017'!F23/'2017 Rate'!$AA23)*1000","v":-1.0962622676968052},{"$f":"('2017'!G23/'2017 Rate'!$AA23)*1000","v":0.35498016287325118},{"$f":"('2017'!H23/'2017 Rate'!$AA23)*1000","v":32.783462100647313},{"$f":"('2017'!I23/'2017 Rate'!$AA23)*1000","v":32.783462100647313},{"$f":"('2017'!J23/'2017 Rate'!$AA23)*1000","v":-0.62643558154103152},{"$f":"('2017'!K23/'2017 Rate'!$AA23)*1000","v":18.793067446230946},{"$f":"('2017'!L23/'2017 Rate'!$AA23)*1000","v":19.419503027771977},{"$f":"('2017'!M23/'2017 Rate'!$AA23)*1000","v":1.6704948841094174},{"$f":"('2017'!N23/'2017 Rate'!$AA23)*1000","v":11.9022760492796},{"$f":"('2017'!O23/'2017 Rate'!$AA23)*1000","v":10.127375234913343},{"$f":"('2017'!P23/'2017 Rate'!$AA23)*1000","v":-1.044059302568386},{"$f":"('2017'!Q23/'2017 Rate'!$AA23)*1000","v":2.0881186051367719},{"$f":"('2017'!R23/'2017 Rate'!$AA23)*1000","v":3.1321779077051572},{"$f":"('2017'!S23/'2017 Rate'!$AA23)*1000","v":2.4013363959072875},null,null,null,null,null,{"$f":"('2017'!Y23/'2017 Rate'!$AA23)*1000","v":0.19837126748799333},"Moray",95780]
[22,"Na h-Eileanan Siar",null,{"$f":"('2017'!D24/'2017 Rate'!$AA24)*1000","v":5.9369202226345079},{"$f":"('2017'!E24/'2017 Rate'!$AA24)*1000","v":3.1910946196660483},{"$f":"('2017'!F24/'2017 Rate'!$AA24)*1000","v":1.966604823747681},{"$f":"('2017'!G24/'2017 Rate'!$AA24)*1000","v":0.59369202226345075},{"$f":"('2017'!H24/'2017 Rate'!$AA24)*1000","v":36.734693877551024},{"$f":"('2017'!I24/'2017 Rate'!$AA24)*1000","v":30.797773654916512},{"$f":"('2017'!J24/'2017 Rate'!$AA24)*1000","v":0},{"$f":"('2017'!K24/'2017 Rate'!$AA24)*1000","v":21.89239332096475},{"$f":"('2017'!L24/'2017 Rate'!$AA24)*1000","v":21.89239332096475},{"$f":"('2017'!M24/'2017 Rate'!$AA24)*1000","v":5.5658627087198518},{"$f":"('2017'!N24/'2017 Rate'!$AA24)*1000","v":12.61595547309833},{"$f":"('2017'!O24/'2017 Rate'!$AA24)*1000","v":7.050092764378479},{"$f":"('2017'!P24/'2017 Rate'!$AA24)*1000","v":0.37105751391465674},{"$f":"('2017'!Q24/'2017 Rate'!$AA24)*1000","v":2.2263450834879408},{"$f":"('2017'!R24/'2017 Rate'!$AA24)*1000","v":1.8552875695732838},{"$f":"('2017'!S24/'2017 Rate'!$AA24)*1000","v":2.968460111317254},null,null,null,null,null,{"$f":"('2017'!Y24/'2017 Rate'!$AA24)*1000","v":0.25974025974025972},"Na h-Eileanan Siar",26950]
[23,"North Ayrshire",null,{"$f":"('2017'!D25/'2017 Rate'!$AA25)*1000","v":2.5775093894984904},{"$f":"('2017'!E25/'2017 Rate'!$AA25)*1000","v":0.87635319242948673},{"$f":"('2017'!F25/'2017 Rate'!$AA25)*1000","v":1.0825539435893659},{"$f":"('2017'!G25/'2017 Rate'!$AA25)*1000","v":0.63333087856248615},{"$f":"('2017'!H25/'2017 Rate'!$AA25)*1000","v":28.058030782826425},{"$f":"('2017'!I25/'2017 Rate'!$AA25)*1000","v":25.40687826791369},{"$f":"('2017'!J25/'2017 Rate'!$AA25)*1000","v":0.81007437955666839},{"$f":"('2017'!K25/'2017 Rate'!$AA25)*1000","v":20.620075115987923},{"$f":"('2017'!L25/'2017 Rate'!$AA25)*1000","v":19.810000736431252},{"$f":"('2017'!M25/'2017 Rate'!$AA25)*1000","v":2.1356506370130348},{"$f":"('2017'!N25/'2017 Rate'!$AA25)*1000","v":6.1123794093821342},{"$f":"('2017'!O25/'2017 Rate'!$AA25)*1000","v":3.9030856469548567},{"$f":"('2017'!P25/'2017 Rate'!$AA25)*1000","v":-0.36821562707121291},{"$f":"('2017'!Q25/'2017 Rate'!$AA25)*1000","v":1.3255762574563665},{"$f":"('2017'!R25/'2017 Rate'!$AA25)*1000","v":1.6937918845275792},{"$f":"('2017'!S25/'2017 Rate'!$AA25)*1000","v":1.399219382870609},null,null,null,null,null,{"$f":"('2017'!Y25/'2017 Rate'!$AA25)*1000","v":0.16201487591133368},"North Ayrshire",135790]
[24,"North Lanarkshire",null,{"$f":"('2017'!D26/'2017 Rate'!$AA26)*1000","v":2.147311448405695},{"$f":"('2017'!E26/'2017 Rate'!$AA26)*1000","v":0.44416990234145193},{"$f":"('2017'!F26/'2017 Rate'!$AA26)*1000","v":1.7413813389810564},{"$f":"('2017'!G26/'2017 Rate'!$AA26)*1000","v":-2.6473702788563359E-2},{"$f":"('2017'!H26/'2017 Rate'!$AA26)*1000","v":22.62030827156136},{"$f":"('2017'!I26/'2017 Rate'!$AA26)*1000","v":20.472996823155665},{"$f":"('2017'!J26/'2017 Rate'!$AA26)*1000","v":1.6766678432756794},{"$f":"('2017'!K26/'2017 Rate'!$AA26)*1000","v":17.707965643016827},{"$f":"('2017'!L26/'2017 Rate'!$AA26)*1000","v":16.060713025061773},{"$f":"('2017'!M26/'2017 Rate'!$AA26)*1000","v":0.35298270384751146},{"$f":"('2017'!N26/'2017 Rate'!$AA26)*1000","v":3.2062595599482293},{"$f":"('2017'!O26/'2017 Rate'!$AA26)*1000","v":2.8532768561007176},{"$f":"('2017'!P26/'2017 Rate'!$AA26)*1000","v":0.14707612660312977},{"$f":"('2017'!Q26/'2017 Rate'!$AA26)*1000","v":1.7060830685963055},{"$f":"('2017'!R26/'2017 Rate'!$AA26)*1000","v":1.5590069419931756},{"$f":"('2017'!S26/'2017 Rate'!$AA26)*1000","v":2.9121073067419698},null,null,null,null,null,{"$f":"('2017'!Y26/'2017 Rate'!$AA26)*1000","v":0.18237439698788091},"North Lanarkshire",339960]
[25,"Orkney Islands",null,{"$f":"('2017'!D27/'2017 Rate'!$AA27)*1000","v":9.0909090909090899},{"$f":"('2017'!E27/'2017 Rate'!$AA27)*1000","v":2.0909090909090908},{"$f":"('2017'!F27/'2017 Rate'!$AA27)*1000","v":5.5},{"$f":"('2017'!G27/'2017 Rate'!$AA27)*1000","v":1.6818181818181819},{"$f":"('2017'!H27/'2017 Rate'!$AA27)*1000","v":35.454545454545453},{"$f":"('2017'!I27/'2017 Rate'!$AA27)*1000","v":26.363636363636363},{"$f":"('2017'!J27/'2017 Rate'!$AA27)*1000","v":1.8181818181818181},{"$f":"('2017'!K27/'2017 Rate'!$AA27)*1000","v":18.636363636363637},{"$f":"('2017'!L27/'2017 Rate'!$AA27)*1000","v":16.81818181818182},{"$f":"('2017'!M27/'2017 Rate'!$AA27)*1000","v":7.2727272727272725},{"$f":"('2017'!N27/'2017 Rate'!$AA27)*1000","v":15},{"$f":"('2017'!O27/'2017 Rate'!$AA27)*1000","v":7.7272727272727275},{"$f":"('2017'!P27/'2017 Rate'!$AA27)*1000","v":0.45454545454545453},{"$f":"('2017'!Q27/'2017 Rate'!$AA27)*1000","v":2.2727272727272725},{"$f":"('2017'!R27/'2017 Rate'!$AA27)*1000","v":1.8181818181818181},{"$f":"('2017'!S27/'2017 Rate'!$AA27)*1000","v":2.2727272727272725},null,null,null,null,null,{"$f":"('2017'!Y27/'2017 Rate'!$AA27)*1000","v":0.36363636363636359},"Orkney Islands",22000]
[26,"Perth and Kinross",null,{"$f":"('2017'!D28/'2017 Rate'!$AA28)*1000","v":5.9563203176704169},{"$f":"('2017'!E28/'2017 Rate'!$AA28)*1000","v":2.8457974851091992},{"$f":"('2017'!F28/'2017 Rate'!$AA28)*1000","v":2.4090006618133684},{"$f":"('2017'!G28/'2017 Rate'!$AA28)*1000","v":0.6882859033752482},{"$f":"('2017'!H28/'2017 Rate'!$AA28)*1000","v":40.833884844473857},{"$f":"('2017'!I28/'2017 Rate'!$AA28)*1000","v":34.87756452680344},{"$f":"('2017'!J28/'2017 Rate'!$AA28)*1000","v":1.7207147584381204},{"$f":"('2017'!K28/'2017 Rate'!$AA28)*1000","v":27.134348113831898},{"$f":"('2017'!L28/'2017 Rate'!$AA28)*1000","v":25.413633355393777},{"$f":"('2017'!M28/'2017 Rate'!$AA28)*1000","v":3.242885506287227},{"$f":"('2017'!N28/'2017 Rate'!$AA28)*1000","v":9.0668431502316338},{"$f":"('2017'!O28/'2017 Rate'!$AA28)*1000","v":5.8239576439444072},{"$f":"('2017'!P28/'2017 Rate'!$AA28)*1000","v":0.99272005294506949},{"$f":"('2017'!Q28/'2017 Rate'!$AA28)*1000","v":4.632693580410324},{"$f":"('2017'!R28/'2017 Rate'!$AA28)*1000","v":3.6399735274652549},{"$f":"('2017'!S28/'2017 Rate'!$AA28)*1000","v":15.354070152217075},null,null,null,null,null,{"$f":"('2017'!Y28/'2017 Rate'!$AA28)*1000","v":0.41032428855062869},"Perth & Kinross",151100]
[27,"Renfrewshire",null,{"$f":"('2017'!D29/'2017 Rate'!$AA29)*1000","v":6.5599728552847374},{"$f":"('2017'!E29/'2017 Rate'!$AA29)*1000","v":1.3855115082282419},{"$f":"('2017'!F29/'2017 Rate'!$AA29)*1000","v":5.0557032177797891},{"$f":"('2017'!G29/'2017 Rate'!$AA29)*1000","v":0.13006842730305945},{"$f":"('2017'!H29/'2017 Rate'!$AA29)*1000","v":33.082621727082511},{"$f":"('2017'!I29/'2017 Rate'!$AA29)*1000","v":26.522648871797774},{"$f":"('2017'!J29/'2017 Rate'!$AA29)*1000","v":3.7889498388282532},{"$f":"('2017'!K29/'2017 Rate'!$AA29)*1000","v":24.882655657976585},{"$f":"('2017'!L29/'2017 Rate'!$AA29)*1000","v":21.093705819148333},{"$f":"('2017'!M29/'2017 Rate'!$AA29)*1000","v":1.1875812927670644},{"$f":"('2017'!N29/'2017 Rate'!$AA29)*1000","v":4.637222190804728},{"$f":"('2017'!O29/'2017 Rate'!$AA29)*1000","v":3.4496408980376634},{"$f":"('2017'!P29/'2017 Rate'!$AA29)*1000","v":1.6399932138211843},{"$f":"('2017'!Q29/'2017 Rate'!$AA29)*1000","v":3.5627438783011933},{"$f":"('2017'!R29/'2017 Rate'!$AA29)*1000","v":1.9793021546117739},{"$f":"('2017'!S29/'2017 Rate'!$AA29)*1000","v":4.4110162302776681},null,null,null,null,null,{"$f":"('2017'!Y29/'2017 Rate'!$AA29)*1000","v":0.40151557993553133},"Renfrewshire",176830]
[28,"Scottish Borders",null,{"$f":"('2017'!D30/'2017 Rate'!$AA30)*1000","v":7.129194922622152},{"$f":"('2017'!E30/'2017 Rate'!$AA30)*1000","v":2.0344287949921753},{"$f":"('2017'!F30/'2017 Rate'!$AA30)*1000","v":4.9208833246391928},{"$f":"('2017'!G30/'2017 Rate'!$AA30)*1000","v":0.15649452269170577},{"$f":"('2017'!H30/'2017 Rate'!$AA30)*1000","v":38.601982263954092},{"$f":"('2017'!I30/'2017 Rate'!$AA30)*1000","v":31.472787341331944},{"$f":"('2017'!J30/'2017 Rate'!$AA30)*1000","v":2.9560076508433317},{"$f":"('2017'!K30/'2017 Rate'!$AA30)*1000","v":22.430881585811164},{"$f":"('2017'!L30/'2017 Rate'!$AA30)*1000","v":19.561815336463226},{"$f":"('2017'!M30/'2017 Rate'!$AA30)*1000","v":4.0862458702834292},{"$f":"('2017'!N30/'2017 Rate'!$AA30)*1000","v":13.910624239262736},{"$f":"('2017'!O30/'2017 Rate'!$AA30)*1000","v":9.8243783689793069},{"$f":"('2017'!P30/'2017 Rate'!$AA30)*1000","v":0.17388280299078421},{"$f":"('2017'!Q30/'2017 Rate'!$AA30)*1000","v":2.2604764388801946},{"$f":"('2017'!R30/'2017 Rate'!$AA30)*1000","v":2.0865936358894106},{"$f":"('2017'!S30/'2017 Rate'!$AA30)*1000","v":2.7821248478525473},null,null,null,null,null,{"$f":"('2017'!Y30/'2017 Rate'!$AA30)*1000","v":0.22604764388801948},"Scottish Borders",115020]
[29,"Shetland Islands",null,{"$f":"('2017'!D31/'2017 Rate'!$AA31)*1000","v":-5.6325823223570195},{"$f":"('2017'!E31/'2017 Rate'!$AA31)*1000","v":0.12998266897746966},{"$f":"('2017'!F31/'2017 Rate'!$AA31)*1000","v":-5.7625649913344885},{"$f":"('2017'!G31/'2017 Rate'!$AA31)*1000","v":-0.12998266897746966},{"$f":"('2017'!H31/'2017 Rate'!$AA31)*1000","v":23.39688041594454},{"$f":"('2017'!I31/'2017 Rate'!$AA31)*1000","v":29.029462738301561},{"$f":"('2017'!J31/'2017 Rate'!$AA31)*1000","v":-5.1993067590987874},{"$f":"('2017'!K31/'2017 Rate'!$AA31)*1000","v":12.564991334488735},{"$f":"('2017'!L31/'2017 Rate'!$AA31)*1000","v":18.197573656845751},{"$f":"('2017'!M31/'2017 Rate'!$AA31)*1000","v":0.43327556325823219},{"$f":"('2017'!N31/'2017 Rate'!$AA31)*1000","v":8.2322357019064132},{"$f":"('2017'!O31/'2017 Rate'!$AA31)*1000","v":8.2322357019064132},{"$f":"('2017'!P31/'2017 Rate'!$AA31)*1000","v":-0.86655112651646438},{"$f":"('2017'!Q31/'2017 Rate'!$AA31)*1000","v":2.1663778162911611},{"$f":"('2017'!R31/'2017 Rate'!$AA31)*1000","v":3.0329289428076258},{"$f":"('2017'!S31/'2017 Rate'!$AA31)*1000","v":4.7660311958405543},null,null,null,null,null,{"$f":"('2017'!Y31/'2017 Rate'!$AA31)*1000","v":0.30329289428076256},"Shetland Islands",23080]
[30,"South Ayrshire",null,{"$f":"('2017'!D32/'2017 Rate'!$AA32)*1000","v":6.1235356762513309},{"$f":"('2017'!E32/'2017 Rate'!$AA32)*1000","v":1.5974440894568689},{"$f":"('2017'!F32/'2017 Rate'!$AA32)*1000","v":3.3013844515441959},{"$f":"('2017'!G32/'2017 Rate'!$AA32)*1000","v":1.2247071352502663},{"$f":"('2017'!H32/'2017 Rate'!$AA32)*1000","v":34.345047923322689},{"$f":"('2017'!I32/'2017 Rate'!$AA32)*1000","v":28.221512247071352},{"$f":"('2017'!J32/'2017 Rate'!$AA32)*1000","v":3.6386226482073125},{"$f":"('2017'!K32/'2017 Rate'!$AA32)*1000","v":24.849130280440185},{"$f":"('2017'!L32/'2017 Rate'!$AA32)*1000","v":21.210507632232869},{"$f":"('2017'!M32/'2017 Rate'!$AA32)*1000","v":2.4849130280440184},{"$f":"('2017'!N32/'2017 Rate'!$AA32)*1000","v":7.277245296414625},{"$f":"('2017'!O32/'2017 Rate'!$AA32)*1000","v":4.7923322683706067},{"$f":"('2017'!P32/'2017 Rate'!$AA32)*1000","v":0},{"$f":"('2017'!Q32/'2017 Rate'!$AA32)*1000","v":2.2186723464678737},{"$f":"('2017'!R32/'2017 Rate'!$AA32)*1000","v":2.2186723464678737},{"$f":"('2017'!S32/'2017 Rate'!$AA32)*1000","v":2.9286474973375936},null,null,null,null,null,{"$f":"('2017'!Y32/'2017 Rate'!$AA32)*1000","v":0.31948881789137379},"South Ayrshire",112680]
[31,"South Lanarkshire",null,{"$f":"('2017'!D33/'2017 Rate'!$AA33)*1000","v":4.0230065688154131},{"$f":"('2017'!E33/'2017 Rate'!$AA33)*1000","v":1.2257598139359462},{"$f":"('2017'!F33/'2017 Rate'!$AA33)*1000","v":2.8192475720526762},{"$f":"('2017'!G33/'2017 Rate'!$AA33)*1000","v":-2.8286764936983375E-2},{"$f":"('2017'!H33/'2017 Rate'!$AA33)*1000","v":28.695351541628689},{"$f":"('2017'!I33/'2017 Rate'!$AA33)*1000","v":24.672344972813278},{"$f":"('2017'!J33/'2017 Rate'!$AA33)*1000","v":3.7715686582644499},{"$f":"('2017'!K33/'2017 Rate'!$AA33)*1000","v":22.723701166043309},{"$f":"('2017'!L33/'2017 Rate'!$AA33)*1000","v":18.920702768959991},{"$f":"('2017'!M33/'2017 Rate'!$AA33)*1000","v":0.31429738818870417},{"$f":"('2017'!N33/'2017 Rate'!$AA33)*1000","v":4.3373039570041172},{"$f":"('2017'!O33/'2017 Rate'!$AA33)*1000","v":4.0544363076342833},{"$f":"('2017'!P33/'2017 Rate'!$AA33)*1000","v":-6.2859477637740829E-2},{"$f":"('2017'!Q33/'2017 Rate'!$AA33)*1000","v":1.6343464185812615},{"$f":"('2017'!R33/'2017 Rate'!$AA33)*1000","v":1.6972058962190024},{"$f":"('2017'!S33/'2017 Rate'!$AA33)*1000","v":2.3258006725964107},null,null,null,null,null,{"$f":"('2017'!Y33/'2017 Rate'!$AA33)*1000","v":0.34887010088946158},"South Lanarkshire",318170]
[32,"Stirling",null,{"$f":"('2017'!D34/'2017 Rate'!$AA34)*1000","v":3.6170212765957448},{"$f":"('2017'!E34/'2017 Rate'!$AA34)*1000","v":2.4148936170212765},{"$f":"('2017'!F34/'2017 Rate'!$AA34)*1000","v":1.3829787234042554},{"$f":"('2017'!G34/'2017 Rate'!$AA34)*1000","v":-0.23404255319148937},{"$f":"('2017'!H34/'2017 Rate'!$AA34)*1000","v":54.042553191489361},{"$f":"('2017'!I34/'2017 Rate'!$AA34)*1000","v":50.425531914893618},{"$f":"('2017'!J34/'2017 Rate'!$AA34)*1000","v":0.42553191489361702},{"$f":"('2017'!K34/'2017 Rate'!$AA34)*1000","v":36.382978723404257},{"$f":"('2017'!L34/'2017 Rate'!$AA34)*1000","v":36.063829787234042},{"$f":"('2017'!M34/'2017 Rate'!$AA34)*1000","v":3.1914893617021276},{"$f":"('2017'!N34/'2017 Rate'!$AA34)*1000","v":11.170212765957448},{"$f":"('2017'!O34/'2017 Rate'!$AA34)*1000","v":7.9787234042553186},{"$f":"('2017'!P34/'2017 Rate'!$AA34)*1000","v":0},{"$f":"('2017'!Q34/'2017 Rate'!$AA34)*1000","v":6.3829787234042552},{"$f":"('2017'!R34/'2017 Rate'!$AA34)*1000","v":6.4893617021276597},{"$f":"('2017'!S34/'2017 Rate'!$AA34)*1000","v":7.4468085106382986},null,null,null,null,null,{"$f":"('2017'!Y34/'2017 Rate'!$AA34)*1000","v":0.34042553191489361},"Stirling",94000]
[33,"West Dunbartonshire",null,{"$f":"('2017'!D35/'2017 Rate'!$AA35)*1000","v":-1.1159468809284678},{"$f":"('2017'!E35/'2017 Rate'!$AA35)*1000","v":-1.1159468809284678E-2},{"$f":"('2017'!F35/'2017 Rate'!$AA35)*1000","v":-0.78116281664992748},{"$f":"('2017'!G35/'2017 Rate'!$AA35)*1000","v":-0.27898672023211696},{"$f":"('2017'!H35/'2017 Rate'!$AA35)*1000","v":26.001562325633301},{"$f":"('2017'!I35/'2017 Rate'!$AA35)*1000","v":27.00591451846892},{"$f":"('2017'!J35/'2017 Rate'!$AA35)*1000","v":-2.3434884499497821},{"$f":"('2017'!K35/'2017 Rate'!$AA35)*1000","v":20.42182792099096},{"$f":"('2017'!L35/'2017 Rate'!$AA35)*1000","v":22.765316370940745},{"$f":"('2017'!M35/'2017 Rate'!$AA35)*1000","v":1.0043521928356209},{"$f":"('2017'!N35/'2017 Rate'!$AA35)*1000","v":4.0174087713424838},{"$f":"('2017'!O35/'2017 Rate'!$AA35)*1000","v":3.013056578506863},{"$f":"('2017'!P35/'2017 Rate'!$AA35)*1000","v":0.33478406427854035},{"$f":"('2017'!Q35/'2017 Rate'!$AA35)*1000","v":1.562325633299855},{"$f":"('2017'!R35/'2017 Rate'!$AA35)*1000","v":1.2275415690213147},{"$f":"('2017'!S35/'2017 Rate'!$AA35)*1000","v":1.4507309452070081},null,null,null,null,null,{"$f":"('2017'!Y35/'2017 Rate'!$AA35)*1000","v":0.25666778261354761},"West Dunbartonshire",89610]
[34,"West Lothian",null,{"$f":"('2017'!D36/'2017 Rate'!$AA36)*1000","v":4.357178313385913},{"$f":"('2017'!E36/'2017 Rate'!$AA36)*1000","v":1.5553471954111744},{"$f":"('2017'!F36/'2017 Rate'!$AA36)*1000","v":2.6198224036181128},{"$f":"('2017'!G36/'2017 Rate'!$AA36)*1000","v":0.15994705201036899},{"$f":"('2017'!H36/'2017 Rate'!$AA36)*1000","v":29.397165076388507},{"$f":"('2017'!I36/'2017 Rate'!$AA36)*1000","v":25.039986763002592},{"$f":"('2017'!J36/'2017 Rate'!$AA36)*1000","v":2.8128619491478681},{"$f":"('2017'!K36/'2017 Rate'!$AA36)*1000","v":22.061662346257791},{"$f":"('2017'!L36/'2017 Rate'!$AA36)*1000","v":19.248800397109921},{"$f":"('2017'!M36/'2017 Rate'!$AA36)*1000","v":0.38607909105951133},{"$f":"('2017'!N36/'2017 Rate'!$AA36)*1000","v":4.4674866251172025},{"$f":"('2017'!O36/'2017 Rate'!$AA36)*1000","v":4.081407534057691},{"$f":"('2017'!P36/'2017 Rate'!$AA36)*1000","v":1.158237273178534},{"$f":"('2017'!Q36/'2017 Rate'!$AA36)*1000","v":2.8680161050135129},{"$f":"('2017'!R36/'2017 Rate'!$AA36)*1000","v":1.7649329877006232},{"$f":"('2017'!S36/'2017 Rate'!$AA36)*1000","v":4.3020241575202691},null,null,null,null,null,{"$f":"('2017'!Y36/'2017 Rate'!$AA36)*1000","v":0.56257238982957369},"West Lothian",181310]
[]
[35,"Not specified"]
[36,"Scotland",null,{"$f":"('2017'!D39/'2017 Rate'!$AA39)*1000","v":4.4056923757557884},{"$f":"('2017'!E39/'2017 Rate'!$AA39)*1000","v":0.69587818905766119},{"$f":"('2017'!F39/'2017 Rate'!$AA39)*1000","v":3.6476920808140392},{"$f":"('2017'!G39/'2017 Rate'!$AA39)*1000","v":5.3826869193334313E-2},{"$f":"('2017'!H39/'2017 Rate'!$AA39)*1000","v":14.839256746792508},{"$f":"('2017'!I39/'2017 Rate'!$AA39)*1000","v":10.43356437103672},{"$f":"'Within Scotland net migration'!O41","v":"[z]"},{"$f":"'Within Scotland in-migration'!O41","v":"[z]"},{"$f":"'Within Scotland out-migration'!O41","v":"[z]"},{"$f":"('2017'!M39/'2017 Rate'!$AA39)*1000","v":1.9355552278425012},{"$f":"('2017'!N39/'2017 Rate'!$AA39)*1000","v":8.7745170328860063},{"$f":"('2017'!O39/'2017 Rate'!$AA39)*1000","v":6.8389618050435041},{"$f":"('2017'!P39/'2017 Rate'!$AA39)*1000","v":2.4701371479132868},{"$f":"('2017'!Q39/'2017 Rate'!$AA39)*1000","v":6.064739713906504},{"$f":"('2017'!R39/'2017 Rate'!$AA39)*1000","v":3.5946025659932164},null,null,null,null,null,null,null,"SCOTLAND",{"$f":"AA4","v":5424800}]
[37,"Ayrshire and Arran",null,{"$f":"('2017'!D40/'2017 Rate'!$AA40)*1000","v":2.861693798763532},{"$f":"('2017'!E40/'2017 Rate'!$AA40)*1000","v":0.77751680570178994},{"$f":"('2017'!F40/'2017 Rate'!$AA40)*1000","v":1.4875408331308551},{"$f":"('2017'!G40/'2017 Rate'!$AA40)*1000","v":0.59663615993088748},{"$f":"('2017'!H40/'2017 Rate'!$AA40)*1000","v":22.407602386544639},{"$f":"('2017'!I40/'2017 Rate'!$AA40)*1000","v":19.545908587781106},{"$f":"('2017'!J40/'2017 Rate'!$AA40)*1000","v":1.2148700089090467},{"$f":"('2017'!K40/'2017 Rate'!$AA40)*1000","v":14.76741988607219},{"$f":"('2017'!L40/'2017 Rate'!$AA40)*1000","v":13.525552765854053},{"$f":"('2017'!M40/'2017 Rate'!$AA40)*1000","v":1.9977862368726549},{"$f":"('2017'!N40/'2017 Rate'!$AA40)*1000","v":6.2093356010906833},{"$f":"('2017'!O40/'2017 Rate'!$AA40)*1000","v":4.2115493642180279},{"$f":"('2017'!P40/'2017 Rate'!$AA40)*1000","v":-0.35096244701816909},{"$f":"('2017'!Q40/'2017 Rate'!$AA40)*1000","v":1.4578440106908559},{"$f":"('2017'!R40/'2017 Rate'!$AA40)*1000","v":1.8088064577090253},null,null,null,null,null,null,null,"Ayrshire & Arran",{"$f":"AA13+AA25+AA32","v":370410}]
[38,"Borders",null,{"$f":"('2017'!D41/'2017 Rate'!$AA41)*1000","v":7.129194922622152},{"$f":"('2017'!E41/'2017 Rate'!$AA41)*1000","v":2.0344287949921753},{"$f":"('2017'!F41/'2017 Rate'!$AA41)*1000","v":4.9208833246391928},{"$f":"('2017'!G41/'2017 Rate'!$AA41)*1000","v":0.15649452269170577},{"$f":"('2017'!H41/'2017 Rate'!$AA41)*1000","v":38.601982263954092},{"$f":"('2017'!I41/'2017 Rate'!$AA41)*1000","v":31.472787341331944},{"$f":"('2017'!J41/'2017 Rate'!$AA41)*1000","v":2.9560076508433317},{"$f":"('2017'!K41/'2017 Rate'!$AA41)*1000","v":22.430881585811164},{"$f":"('2017'!L41/'2017 Rate'!$AA41)*1000","v":19.561815336463226},{"$f":"('2017'!M41/'2017 Rate'!$AA41)*1000","v":4.0862458702834292},{"$f":"('2017'!N41/'2017 Rate'!$AA41)*1000","v":13.910624239262736},{"$f":"('2017'!O41/'2017 Rate'!$AA41)*1000","v":9.8243783689793069},{"$f":"('2017'!P41/'2017 Rate'!$AA41)*1000","v":0.17388280299078421},{"$f":"('2017'!Q41/'2017 Rate'!$AA41)*1000","v":2.2604764388801946},{"$f":"('2017'!R41/'2017 Rate'!$AA41)*1000","v":2.0865936358894106},null,null,null,null,null,null,null,"Borders",{"$f":"AA30","v":115020}]
[39,"Dumfries and Galloway",null,{"$f":"('2017'!D42/'2017 Rate'!$AA42)*1000","v":2.1447721179624666},{"$f":"('2017'!E42/'2017 Rate'!$AA42)*1000","v":0.83109919571045576},{"$f":"('2017'!F42/'2017 Rate'!$AA42)*1000","v":1.2868632707774799},{"$f":"('2017'!G42/'2017 Rate'!$AA42)*1000","v":4.0214477211796246E-2},{"$f":"('2017'!H42/'2017 Rate'!$AA42)*1000","v":26.876675603217159},{"$f":"('2017'!I42/'2017 Rate'!$AA42)*1000","v":24.664879356568367},{"$f":"('2017'!J42/'2017 Rate'!$AA42)*1000","v":-1.6756032171581769},{"$f":"('2017'!K42/'2017 Rate'!$AA42)*1000","v":10.99195710455764},{"$f":"('2017'!L42/'2017 Rate'!$AA42)*1000","v":12.667560321715818},{"$f":"('2017'!M42/'2017 Rate'!$AA42)*1000","v":4.5576407506702408},{"$f":"('2017'!N42/'2017 Rate'!$AA42)*1000","v":14.276139410187668},{"$f":"('2017'!O42/'2017 Rate'!$AA42)*1000","v":9.6514745308311003},{"$f":"('2017'!P42/'2017 Rate'!$AA42)*1000","v":-0.80428954423592491},{"$f":"('2017'!Q42/'2017 Rate'!$AA42)*1000","v":1.6085790884718498},{"$f":"('2017'!R42/'2017 Rate'!$AA42)*1000","v":2.4128686327077751},null,null,null,null,null,null,null,"Dumfries & Galloway",{"$f":"AA11","v":149200}]
[40,"Fife",null,{"$f":"('2017'!D43/'2017 Rate'!$AA43)*1000","v":4.0925123179235889},{"$f":"('2017'!E43/'2017 Rate'!$AA43)*1000","v":0.79427048275490697},{"$f":"('2017'!F43/'2017 Rate'!$AA43)*1000","v":3.1663121617619341},{"$f":"('2017'!G43/'2017 Rate'!$AA43)*1000","v":0.14269944266444093},{"$f":"('2017'!H43/'2017 Rate'!$AA43)*1000","v":30.074580652109528},{"$f":"('2017'!I43/'2017 Rate'!$AA43)*1000","v":25.955143911041706},{"$f":"('2017'!J43/'2017 Rate'!$AA43)*1000","v":0.53848846288468266},{"$f":"('2017'!K43/'2017 Rate'!$AA43)*1000","v":17.339328504886783},{"$f":"('2017'!L43/'2017 Rate'!$AA43)*1000","v":16.827764465146334},{"$f":"('2017'!M43/'2017 Rate'!$AA43)*1000","v":1.7770119275194529},{"$f":"('2017'!N43/'2017 Rate'!$AA43)*1000","v":8.1850246358471779},{"$f":"('2017'!O43/'2017 Rate'!$AA43)*1000","v":6.4349371314719583},{"$f":"('2017'!P43/'2017 Rate'!$AA43)*1000","v":1.803936350663687},{"$f":"('2017'!Q43/'2017 Rate'!$AA43)*1000","v":4.5233030882313345},{"$f":"('2017'!R43/'2017 Rate'!$AA43)*1000","v":2.7193667375676474},null,null,null,null,null,null,null,"Fife",{"$f":"AA18","v":371410}]
[41,"Forth Valley",null,{"$f":"('2017'!D44/'2017 Rate'!$AA44)*1000","v":4.450553046665358},{"$f":"('2017'!E44/'2017 Rate'!$AA44)*1000","v":1.1290005890437855},{"$f":"('2017'!F44/'2017 Rate'!$AA44)*1000","v":3.2724654754892333},{"$f":"('2017'!G44/'2017 Rate'!$AA44)*1000","v":3.9269585705870802E-2},{"$f":"('2017'!H44/'2017 Rate'!$AA44)*1000","v":32.561031481117872},{"$f":"('2017'!I44/'2017 Rate'!$AA44)*1000","v":28.110478434452517},{"$f":"('2017'!J44/'2017 Rate'!$AA44)*1000","v":2.4870737613718172},{"$f":"('2017'!K44/'2017 Rate'!$AA44)*1000","v":22.089141959552325},{"$f":"('2017'!L44/'2017 Rate'!$AA44)*1000","v":19.602068198180511},{"$f":"('2017'!M44/'2017 Rate'!$AA44)*1000","v":1.5053341187250475},{"$f":"('2017'!N44/'2017 Rate'!$AA44)*1000","v":6.6758295699980366},{"$f":"('2017'!O44/'2017 Rate'!$AA44)*1000","v":5.1704954512729895},{"$f":"('2017'!P44/'2017 Rate'!$AA44)*1000","v":0.45814516656849269},{"$f":"('2017'!Q44/'2017 Rate'!$AA44)*1000","v":3.7960599515675111},{"$f":"('2017'!R44/'2017 Rate'!$AA44)*1000","v":3.3379147849990183},null,null,null,null,null,null,null,"Forth Valley",{"$f":"AA10+AA17+AA34","v":305580}]
[42,"Grampian",null,{"$f":"('2017'!D45/'2017 Rate'!$AA45)*1000","v":-3.581295405709608},{"$f":"('2017'!E45/'2017 Rate'!$AA45)*1000","v":-0.19952931546096386},{"$f":"('2017'!F45/'2017 Rate'!$AA45)*1000","v":-3.368123060131655},{"$f":"('2017'!G45/'2017 Rate'!$AA45)*1000","v":-1.5348408881612605E-2},{"$f":"('2017'!H45/'2017 Rate'!$AA45)*1000","v":25.938811009925303},{"$f":"('2017'!I45/'2017 Rate'!$AA45)*1000","v":29.520106415634913},{"$f":"('2017'!J45/'2017 Rate'!$AA45)*1000","v":-4.7238991780074358},{"$f":"('2017'!K45/'2017 Rate'!$AA45)*1000","v":11.35782257239333},{"$f":"('2017'!L45/'2017 Rate'!$AA45)*1000","v":16.081721750400764},{"$f":"('2017'!M45/'2017 Rate'!$AA45)*1000","v":-1.5860022510999694},{"$f":"('2017'!N45/'2017 Rate'!$AA45)*1000","v":7.5377741396364133},{"$f":"('2017'!O45/'2017 Rate'!$AA45)*1000","v":9.1237763907363831},{"$f":"('2017'!P45/'2017 Rate'!$AA45)*1000","v":2.7286060233977967},{"$f":"('2017'!Q45/'2017 Rate'!$AA45)*1000","v":7.0602680855417992},{"$f":"('2017'!R45/'2017 Rate'!$AA45)*1000","v":4.3316620621440016},null,null,null,null,null,null,null,"Grampian",{"$f":"AA5+AA6+AA23","v":586380}]
[43,"Greater Glasgow and Clyde",null,{"$f":"('2017'!D46/'2017 Rate'!$AA46)*1000","v":6.9369007193506178},{"$f":"('2017'!E46/'2017 Rate'!$AA46)*1000","v":0.72875948370983057},{"$f":"('2017'!F46/'2017 Rate'!$AA46)*1000","v":6.2697265441233077},{"$f":"('2017'!G46/'2017 Rate'!$AA46)*1000","v":-5.9874605469117534E-2},{"$f":"('2017'!H46/'2017 Rate'!$AA46)*1000","v":32.67442755600414},{"$f":"('2017'!I46/'2017 Rate'!$AA46)*1000","v":25.737526836653526},{"$f":"('2017'!J46/'2017 Rate'!$AA46)*1000","v":0.11974921093823507},{"$f":"('2017'!K46/'2017 Rate'!$AA46)*1000","v":15.516076331568458},{"$f":"('2017'!L46/'2017 Rate'!$AA46)*1000","v":15.396327120630222},{"$f":"('2017'!M46/'2017 Rate'!$AA46)*1000","v":1.9587549503468451},{"$f":"('2017'!N46/'2017 Rate'!$AA46)*1000","v":7.8863408917894811},{"$f":"('2017'!O46/'2017 Rate'!$AA46)*1000","v":5.936139456509653},{"$f":"('2017'!P46/'2017 Rate'!$AA46)*1000","v":4.8669500731325543},{"$f":"('2017'!Q46/'2017 Rate'!$AA46)*1000","v":9.272010332646202},{"$f":"('2017'!R46/'2017 Rate'!$AA46)*1000","v":4.4050602595136477},null,null,null,null,null,null,null,"Greater Glasgow & Clyde",{"$f":"AA16+AA21+AA29+AA35+AA14+AA19","v":1169110}]
[44,"Highland",null,{"$f":"('2017'!D47/'2017 Rate'!$AA47)*1000","v":2.9504021864033048},{"$f":"('2017'!E47/'2017 Rate'!$AA47)*1000","v":0.67393397310475478},{"$f":"('2017'!F47/'2017 Rate'!$AA47)*1000","v":2.9783533650113356},{"$f":"('2017'!G47/'2017 Rate'!$AA47)*1000","v":-0.70188515171278609},{"$f":"('2017'!H47/'2017 Rate'!$AA47)*1000","v":34.659461473958821},{"$f":"('2017'!I47/'2017 Rate'!$AA47)*1000","v":31.709059287555512},{"$f":"('2017'!J47/'2017 Rate'!$AA47)*1000","v":-1.9876393676822262},{"$f":"('2017'!K47/'2017 Rate'!$AA47)*1000","v":18.851517127861111},{"$f":"('2017'!L47/'2017 Rate'!$AA47)*1000","v":20.839156495543339},{"$f":"('2017'!M47/'2017 Rate'!$AA47)*1000","v":4.782757228485357},{"$f":"('2017'!N47/'2017 Rate'!$AA47)*1000","v":12.609087238734123},{"$f":"('2017'!O47/'2017 Rate'!$AA47)*1000","v":7.8573868753688005},{"$f":"('2017'!P47/'2017 Rate'!$AA47)*1000","v":0.15528432560017391},{"$f":"('2017'!Q47/'2017 Rate'!$AA47)*1000","v":3.1988571073635828},{"$f":"('2017'!R47/'2017 Rate'!$AA47)*1000","v":3.0125159166433741},null,null,null,null,null,null,null,"Highland",{"$f":"AA20+AA8","v":321990}]
[45,"Lanarkshire",null,{"$f":"('2017'!D48/'2017 Rate'!$AA48)*1000","v":3.0541078510324708},{"$f":"('2017'!E48/'2017 Rate'!$AA48)*1000","v":0.82202604348684916},{"$f":"('2017'!F48/'2017 Rate'!$AA48)*1000","v":2.262470940391716},{"$f":"('2017'!G48/'2017 Rate'!$AA48)*1000","v":-2.7350219561484812E-2},{"$f":"('2017'!H48/'2017 Rate'!$AA48)*1000","v":21.910564782033944},{"$f":"('2017'!I48/'2017 Rate'!$AA48)*1000","v":18.856456931001475},{"$f":"('2017'!J48/'2017 Rate'!$AA48)*1000","v":2.68943825687934},{"$f":"('2017'!K48/'2017 Rate'!$AA48)*1000","v":16.470910002583079},{"$f":"('2017'!L48/'2017 Rate'!$AA48)*1000","v":13.796666312126783},{"$f":"('2017'!M48/'2017 Rate'!$AA48)*1000","v":0.31908589488398947},{"$f":"('2017'!N48/'2017 Rate'!$AA48)*1000","v":3.7530579064926379},{"$f":"('2017'!O48/'2017 Rate'!$AA48)*1000","v":3.4187774451856017},{"$f":"('2017'!P48/'2017 Rate'!$AA48)*1000","v":4.558369926914136E-2},{"$f":"('2017'!Q48/'2017 Rate'!$AA48)*1000","v":1.6865968729582301},{"$f":"('2017'!R48/'2017 Rate'!$AA48)*1000","v":1.6410131736890887},null,null,null,null,null,null,null,"Lanarkshire",{"$f":"AA26+AA33","v":658130}]
[46,"Lothian",null,{"$f":"('2017'!D49/'2017 Rate'!$AA49)*1000","v":8.9381078194389794},{"$f":"('2017'!E49/'2017 Rate'!$AA49)*1000","v":0.44746753611782564},{"$f":"('2017'!F49/'2017 Rate'!$AA49)*1000","v":8.3231210298499061},{"$f":"('2017'!G49/'2017 Rate'!$AA49)*1000","v":0.16189780201247964},{"$f":"('2017'!H49/'2017 Rate'!$AA49)*1000","v":39.159030861768507},{"$f":"('2017'!I49/'2017 Rate'!$AA49)*1000","v":30.232165945247061},{"$f":"('2017'!J49/'2017 Rate'!$AA49)*1000","v":-0.22485805835066613},{"$f":"('2017'!K49/'2017 Rate'!$AA49)*1000","v":14.829388948226432},{"$f":"('2017'!L49/'2017 Rate'!$AA49)*1000","v":15.054247006577098},{"$f":"('2017'!M49/'2017 Rate'!$AA49)*1000","v":3.6876721569509248},{"$f":"('2017'!N49/'2017 Rate'!$AA49)*1000","v":13.581426724380234},{"$f":"('2017'!O49/'2017 Rate'!$AA49)*1000","v":9.8937545674293101},{"$f":"('2017'!P49/'2017 Rate'!$AA49)*1000","v":5.4640508179211871},{"$f":"('2017'!Q49/'2017 Rate'!$AA49)*1000","v":10.759458092079376},{"$f":"('2017'!R49/'2017 Rate'!$AA49)*1000","v":5.2841643712406547},null,null,null,null,null,null,null,"Lothian",{"$f":"AA15+AA9+AA22+AA36","v":889450}]
[47,"Orkney",null,{"$f":"('2017'!D50/'2017 Rate'!$AA50)*1000","v":9.0909090909090899},{"$f":"('2017'!E50/'2017 Rate'!$AA50)*1000","v":2.0909090909090908},{"$f":"('2017'!F50/'2017 Rate'!$AA50)*1000","v":5.5},{"$f":"('2017'!G50/'2017 Rate'!$AA50)*1000","v":1.6818181818181819},{"$f":"('2017'!H50/'2017 Rate'!$AA50)*1000","v":35.454545454545453},{"$f":"('2017'!I50/'2017 Rate'!$AA50)*1000","v":26.363636363636363},{"$f":"('2017'!J50/'2017 Rate'!$AA50)*1000","v":1.8181818181818181},{"$f":"('2017'!K50/'2017 Rate'!$AA50)*1000","v":18.636363636363637},{"$f":"('2017'!L50/'2017 Rate'!$AA50)*1000","v":16.81818181818182},{"$f":"('2017'!M50/'2017 Rate'!$AA50)*1000","v":7.2727272727272725},{"$f":"('2017'!N50/'2017 Rate'!$AA50)*1000","v":15},{"$f":"('2017'!O50/'2017 Rate'!$AA50)*1000","v":7.7272727272727275},{"$f":"('2017'!P50/'2017 Rate'!$AA50)*1000","v":0.45454545454545453},{"$f":"('2017'!Q50/'2017 Rate'!$AA50)*1000","v":2.2727272727272725},{"$f":"('2017'!R50/'2017 Rate'!$AA50)*1000","v":1.8181818181818181},null,null,null,null,null,null,null,"Orkney",{"$f":"AA27","v":22000}]
[48,"Shetland",null,{"$f":"('2017'!D51/'2017 Rate'!$AA51)*1000","v":-5.6325823223570195},{"$f":"('2017'!E51/'2017 Rate'!$AA51)*1000","v":0.12998266897746966},{"$f":"('2017'!F51/'2017 Rate'!$AA51)*1000","v":-5.7625649913344885},{"$f":"('2017'!G51/'2017 Rate'!$AA51)*1000","v":-0.12998266897746966},{"$f":"('2017'!H51/'2017 Rate'!$AA51)*1000","v":23.39688041594454},{"$f":"('2017'!I51/'2017 Rate'!$AA51)*1000","v":29.029462738301561},{"$f":"('2017'!J51/'2017 Rate'!$AA51)*1000","v":-5.1993067590987874},{"$f":"('2017'!K51/'2017 Rate'!$AA51)*1000","v":12.564991334488735},{"$f":"('2017'!L51/'2017 Rate'!$AA51)*1000","v":18.197573656845751},{"$f":"('2017'!M51/'2017 Rate'!$AA51)*1000","v":0.43327556325823219},{"$f":"('2017'!N51/'2017 Rate'!$AA51)*1000","v":8.2322357019064132},{"$f":"('2017'!O51/'2017 Rate'!$AA51)*1000","v":8.2322357019064132},{"$f":"('2017'!P51/'2017 Rate'!$AA51)*1000","v":-0.86655112651646438},{"$f":"('2017'!Q51/'2017 Rate'!$AA51)*1000","v":2.1663778162911611},{"$f":"('2017'!R51/'2017 Rate'!$AA51)*1000","v":3.0329289428076258},null,null,null,null,null,null,null,"Shetland",{"$f":"AA31","v":23080}]
[49,"Tayside",null,{"$f":"('2017'!D52/'2017 Rate'!$AA52)*1000","v":3.9174217116489221},{"$f":"('2017'!E52/'2017 Rate'!$AA52)*1000","v":1.1127400322045711},{"$f":"('2017'!F52/'2017 Rate'!$AA52)*1000","v":2.5379124708596694},{"$f":"('2017'!G52/'2017 Rate'!$AA52)*1000","v":0.26676920858468117},{"$f":"('2017'!H52/'2017 Rate'!$AA52)*1000","v":32.949602249513326},{"$f":"('2017'!I52/'2017 Rate'!$AA52)*1000","v":29.032180537864402},{"$f":"('2017'!J52/'2017 Rate'!$AA52)*1000","v":0.69696459900502294},{"$f":"('2017'!K52/'2017 Rate'!$AA52)*1000","v":19.635175082313921},{"$f":"('2017'!L52/'2017 Rate'!$AA52)*1000","v":18.9382104833089},{"$f":"('2017'!M52/'2017 Rate'!$AA52)*1000","v":1.8024946525991974},{"$f":"('2017'!N52/'2017 Rate'!$AA52)*1000","v":8.0751760436444044},{"$f":"('2017'!O52/'2017 Rate'!$AA52)*1000","v":6.2726813910452064},{"$f":"('2017'!P52/'2017 Rate'!$AA52)*1000","v":1.4179624600447018},{"$f":"('2017'!Q52/'2017 Rate'!$AA52)*1000","v":5.2632843855896558},{"$f":"('2017'!R52/'2017 Rate'!$AA52)*1000","v":3.8212886635102983},null,null,null,null,null,null,null,"Tayside",{"$f":"AA28+AA7+AA12","v":416090}]
[50,"Western Isles",null,{"$f":"('2017'!D53/'2017 Rate'!$AA53)*1000","v":5.9369202226345079},{"$f":"('2017'!E53/'2017 Rate'!$AA53)*1000","v":3.1910946196660483},{"$f":"('2017'!F53/'2017 Rate'!$AA53)*1000","v":1.966604823747681},{"$f":"('2017'!G53/'2017 Rate'!$AA53)*1000","v":0.59369202226345075},{"$f":"('2017'!H53/'2017 Rate'!$AA53)*1000","v":36.734693877551024},{"$f":"('2017'!I53/'2017 Rate'!$AA53)*1000","v":30.797773654916512},{"$f":"('2017'!J53/'2017 Rate'!$AA53)*1000","v":0},{"$f":"('2017'!K53/'2017 Rate'!$AA53)*1000","v":21.89239332096475},{"$f":"('2017'!L53/'2017 Rate'!$AA53)*1000","v":21.89239332096475},{"$f":"('2017'!M53/'2017 Rate'!$AA53)*1000","v":5.5658627087198518},{"$f":"('2017'!N53/'2017 Rate'!$AA53)*1000","v":12.61595547309833},{"$f":"('2017'!O53/'2017 Rate'!$AA53)*1000","v":7.050092764378479},{"$f":"('2017'!P53/'2017 Rate'!$AA53)*1000","v":0.37105751391465674},{"$f":"('2017'!Q53/'2017 Rate'!$AA53)*1000","v":2.2263450834879408},{"$f":"('2017'!R53/'2017 Rate'!$AA53)*1000","v":1.8552875695732838},null,null,null,null,null,null,null,"Western Isles",{"$f":"AA24","v":26950}]

{"sheet":"2018","index":52,"n_rows":53,"n_cols":25,"rows_kept":53,"cut":false,"hidden":true,"merged":[]}
[null,2018]
[null,null,"Not specified ",{"$f":"'Comparing Indicators'!$U8","v":"Total net migration"},{"$f":"'Comparing Indicators'!$U9","v":"Total net migration for ages 0-15"},{"$f":"'Comparing Indicators'!$U10","v":"Total net migration for ages 16-64"},{"$f":"'Comparing Indicators'!$U11","v":"Total net migration for people aged 65+"},{"$f":"'Comparing Indicators'!$U12","v":"Total in-migration"},{"$f":"'Comparing Indicators'!$U13","v":"Total out-migration"},{"$f":"'Comparing Indicators'!$U14","v":"Within Scotland net migration"},{"$f":"'Comparing Indicators'!$U15","v":"Within Scotland in-migration"},{"$f":"'Comparing Indicators'!$U16","v":"Within Scotland out-migration"},{"$f":"'Comparing Indicators'!$U17","v":"Rest of UK net migration"},{"$f":"'Comparing Indicators'!$U18","v":"Rest of UK in-migration"},{"$f":"'Comparing Indicators'!$U19","v":"Rest of UK out-migration"},{"$f":"'Comparing Indicators'!$U20","v":"International net migration"},{"$f":"'Comparing Indicators'!$U21","v":"International in-migration"},{"$f":"'Comparing Indicators'!$U22","v":"International out-migration"},{"$f":"'Comparing Indicators'!$U23","v":"NINo Allocation"},{"$f":"'Comparing Indicators'!$U24","v":"Births to non-UK mothers"},{"$f":"'Comparing Indicators'!$U25","v":"Pupils from a minority ethnic group"},{"$f":"'Comparing Indicators'!$U26","v":"Pupils with English as an additional language"},{"$f":"'Comparing Indicators'!$U27","v":"Population born outside the UK"},{"$f":"'Comparing Indicators'!$U28","v":"Population with non-British nationality"},{"$f":"'Comparing Indicators'!$U29","v":"Citizenships"}]
[1,"Not specified"]
[2,"Scotland",null,{"$f":"'Total net migration'!P6","v":20900},{"$f":"'Total net migration 0-15'!P6","v":3298},{"$f":"'Total net migration 16-64'!P6","v":17048},{"$f":"'Total net migration 65+'!P6","v":554},{"$f":"'Total in-migration'!P6","v":80600},{"$f":"'Total out-migration'!P6","v":59700},{"$f":"'Within Scotland net migration'!P6","v":"[z]"},{"$f":"'Within Scotland in-migration'!P6","v":"[z]"},{"$f":"'Within Scotland out-migration'!P6","v":"[z]"},{"$f":"'Rest of UK net migration'!P6","v":10000},{"$f":"'Rest of UK in-migration'!P6","v":47700},{"$f":"'Rest of UK out-migration'!P6","v":37700},{"$f":"'International net migration'!P6","v":10900},{"$f":"'International in-migration'!P6","v":32900},{"$f":"'International out-migration'!P6","v":22000},{"$f":"NINo!P6","v":38010},{"$f":"'Births to non-UK mothers'!P6","v":8863},{"$f":"'Pupils'' ethnic group (TS)'!Q6","v":54297},{"$f":"'Pupils with English as an add.'!N6","v":44311},{"$f":"'Pop born outside UK'!P6","v":469000},{"$f":"'Non-British Population'!P6","v":352000},{"$f":"Citizenships!P6","v":4439}]
[3,"Aberdeen City",null,{"$f":"'Total net migration'!P7","v":-1320},{"$f":"'Total net migration 0-15'!P7","v":-258},{"$f":"'Total net migration 16-64'!P7","v":-958},{"$f":"'Total net migration 65+'!P7","v":-102},{"$f":"'Total in-migration'!P7","v":10680},{"$f":"'Total out-migration'!P7","v":12000},{"$f":"'Within Scotland net migration'!P7","v":-1850},{"$f":"'Within Scotland in-migration'!P7","v":5930},{"$f":"'Within Scotland out-migration'!P7","v":7780},{"$f":"'Rest of UK net migration'!P7","v":-650},{"$f":"'Rest of UK in-migration'!P7","v":1780},{"$f":"'Rest of UK out-migration'!P7","v":2430},{"$f":"'International net migration'!P7","v":1180},{"$f":"'International in-migration'!P7","v":2980},{"$f":"'International out-migration'!P7","v":1800},{"$f":"NINo!P7","v":2940},{"$f":"'Births to non-UK mothers'!P7","v":822},{"$f":"'Pupils'' ethnic group (TS)'!Q7","v":3608},{"$f":"'Pupils with English as an add.'!N7","v":4124},{"$f":"'Pop born outside UK'!P7","v":44000},{"$f":"'Non-British Population'!P7","v":38000},{"$f":"Citizenships!P7","v":590}]
[4,"Aberdeenshire",null,{"$f":"'Total net migration'!P8","v":-600},{"$f":"'Total net migration 0-15'!P8","v":205},{"$f":"'Total net migration 16-64'!P8","v":-813},{"$f":"'Total net migration 65+'!P8","v":8},{"$f":"'Total in-migration'!P8","v":7130},{"$f":"'Total out-migration'!P8","v":7730},{"$f":"'Within Scotland net migration'!P8","v":-310},{"$f":"'Within Scotland in-migration'!P8","v":5300},{"$f":"'Within Scotland out-migration'!P8","v":5610},{"$f":"'Rest of UK net migration'!P8","v":-250},{"$f":"'Rest of UK in-migration'!P8","v":1230},{"$f":"'Rest of UK out-migration'!P8","v":1480},{"$f":"'International net migration'!P8","v":-40},{"$f":"'International in-migration'!P8","v":600},{"$f":"'International out-migration'!P8","v":640},{"$f":"NINo!P8","v":1000},{"$f":"'Births to non-UK mothers'!P8","v":418},{"$f":"'Pupils'' ethnic group (TS)'!Q8","v":1287},{"$f":"'Pupils with English as an add.'!N8","v":1741},{"$f":"'Pop born outside UK'!P8","v":17000},{"$f":"'Non-British Population'!P8","v":12000},{"$f":"Citizenships!P8","v":189}]
[5,"Angus",null,{"$f":"'Total net migration'!P9","v":200},{"$f":"'Total net migration 0-15'!P9","v":145},{"$f":"'Total net migration 16-64'!P9","v":-14},{"$f":"'Total net migration 65+'!P9","v":67},{"$f":"'Total in-migration'!P9","v":3890},{"$f":"'Total out-migration'!P9","v":3690},{"$f":"'Within Scotland net migration'!P9","v":210},{"$f":"'Within Scotland in-migration'!P9","v":3050},{"$f":"'Within Scotland out-migration'!P9","v":2840},{"$f":"'Rest of UK net migration'!P9","v":40},{"$f":"'Rest of UK in-migration'!P9","v":620},{"$f":"'Rest of UK out-migration'!P9","v":590},{"$f":"'International net migration'!P9","v":-50},{"$f":"'International in-migration'!P9","v":220},{"$f":"'International out-migration'!P9","v":270},{"$f":"NINo!P9","v":1090},{"$f":"'Births to non-UK mothers'!P9","v":111},{"$f":"'Pupils'' ethnic group (TS)'!Q9","v":446},{"$f":"'Pupils with English as an add.'!N9","v":572},{"$f":"'Pop born outside UK'!P9","v":8000},{"$f":"'Non-British Population'!P9","v":5000},{"$f":"Citizenships!P9","v":21}]
[6,"Argyll and Bute",null,{"$f":"'Total net migration'!P10","v":-80},{"$f":"'Total net migration 0-15'!P10","v":47},{"$f":"'Total net migration 16-64'!P10","v":3},{"$f":"'Total net migration 65+'!P10","v":-131},{"$f":"'Total in-migration'!P10","v":4130},{"$f":"'Total out-migration'!P10","v":4210},{"$f":"'Within Scotland net migration'!P10","v":-560},{"$f":"'Within Scotland in-migration'!P10","v":2190},{"$f":"'Within Scotland out-migration'!P10","v":2750},{"$f":"'Rest of UK net migration'!P10","v":610},{"$f":"'Rest of UK in-migration'!P10","v":1640},{"$f":"'Rest of UK out-migration'!P10","v":1030},{"$f":"'International net migration'!P10","v":-130},{"$f":"'International in-migration'!P10","v":300},{"$f":"'International out-migration'!P10","v":440},{"$f":"NINo!P10","v":440},{"$f":"'Births to non-UK mothers'!P10","v":72},{"$f":"'Pupils'' ethnic group (TS)'!Q10","v":323},{"$f":"'Pupils with English as an add.'!N10","v":203},{"$f":"'Pop born outside UK'!P10","v":5000},{"$f":"'Non-British Population'!P10","v":2000},{"$f":"Citizenships!P10","v":28}]
[7,"City of Edinburgh",null,{"$f":"'Total net migration'!P11","v":4620},{"$f":"'Total net migration 0-15'!P11","v":-376},{"$f":"'Total net migration 16-64'!P11","v":4974},{"$f":"'Total net migration 65+'!P11","v":23},{"$f":"'Total in-migration'!P11","v":30720},{"$f":"'Total out-migration'!P11","v":26100},{"$f":"'Within Scotland net migration'!P11","v":-2490},{"$f":"'Within Scotland in-migration'!P11","v":11530},{"$f":"'Within Scotland out-migration'!P11","v":14020},{"$f":"'Rest of UK net migration'!P11","v":2810},{"$f":"'Rest of UK in-migration'!P11","v":10200},{"$f":"'Rest of UK out-migration'!P11","v":7390},{"$f":"'International net migration'!P11","v":4310},{"$f":"'International in-migration'!P11","v":9000},{"$f":"'International out-migration'!P11","v":4690},{"$f":"NINo!P11","v":10000},{"$f":"'Births to non-UK mothers'!P11","v":1721},{"$f":"'Pupils'' ethnic group (TS)'!Q11","v":8706},{"$f":"'Pupils with English as an add.'!N11","v":6373},{"$f":"'Pop born outside UK'!P11","v":108000},{"$f":"'Non-British Population'!P11","v":81000},{"$f":"Citizenships!P11","v":1112}]
[8,"Clackmannanshire",null,{"$f":"'Total net migration'!P12","v":-30},{"$f":"'Total net migration 0-15'!P12","v":-13},{"$f":"'Total net migration 16-64'!P12","v":-40},{"$f":"'Total net migration 65+'!P12","v":22},{"$f":"'Total in-migration'!P12","v":1730},{"$f":"'Total out-migration'!P12","v":1760},{"$f":"'Within Scotland net migration'!P12","v":-60},{"$f":"'Within Scotland in-migration'!P12","v":1310},{"$f":"'Within Scotland out-migration'!P12","v":1370},{"$f":"'Rest of UK net migration'!P12","v":50},{"$f":"'Rest of UK in-migration'!P12","v":320},{"$f":"'Rest of UK out-migration'!P12","v":260},{"$f":"'International net migration'!P12","v":-20},{"$f":"'International in-migration'!P12","v":110},{"$f":"'International out-migration'!P12","v":140},{"$f":"NINo!P12","v":80},{"$f":"'Births to non-UK mothers'!P12","v":43},{"$f":"'Pupils'' ethnic group (TS)'!Q12","v":243},{"$f":"'Pupils with English as an add.'!N12","v":203},{"$f":"'Pop born outside UK'!P12","v":4000},{"$f":"'Non-British Population'!P12","v":2000},{"$f":"Citizenships!P12","v":25}]
[9,"Dumfries and Galloway",null,{"$f":"'Total net migration'!P13","v":380},{"$f":"'Total net migration 0-15'!P13","v":113},{"$f":"'Total net migration 16-64'!P13","v":182},{"$f":"'Total net migration 65+'!P13","v":88},{"$f":"'Total in-migration'!P13","v":4020},{"$f":"'Total out-migration'!P13","v":3630},{"$f":"'Within Scotland net migration'!P13","v":-230},{"$f":"'Within Scotland in-migration'!P13","v":1640},{"$f":"'Within Scotland out-migration'!P13","v":1870},{"$f":"'Rest of UK net migration'!P13","v":800},{"$f":"'Rest of UK in-migration'!P13","v":2120},{"$f":"'Rest of UK out-migration'!P13","v":1330},{"$f":"'International net migration'!P13","v":-180},{"$f":"'International in-migration'!P13","v":260},{"$f":"'International out-migration'!P13","v":440},{"$f":"NINo!P13","v":260},{"$f":"'Births to non-UK mothers'!P13","v":94},{"$f":"'Pupils'' ethnic group (TS)'!Q13","v":448},{"$f":"'Pupils with English as an add.'!N13","v":439},{"$f":"'Pop born outside UK'!P13","v":7000},{"$f":"'Non-British Population'!P13","v":5000},{"$f":"Citizenships!P13","v":29}]
[10,"Dundee City",null,{"$f":"'Total net migration'!P14","v":350},{"$f":"'Total net migration 0-15'!P14","v":-111},{"$f":"'Total net migration 16-64'!P14","v":494},{"$f":"'Total net migration 65+'!P14","v":-31},{"$f":"'Total in-migration'!P14","v":6920},{"$f":"'Total out-migration'!P14","v":6570},{"$f":"'Within Scotland net migration'!P14","v":-460},{"$f":"'Within Scotland in-migration'!P14","v":4240},{"$f":"'Within Scotland out-migration'!P14","v":4700},{"$f":"'Rest of UK net migration'!P14","v":250},{"$f":"'Rest of UK in-migration'!P14","v":1370},{"$f":"'Rest of UK out-migration'!P14","v":1120},{"$f":"'International net migration'!P14","v":570},{"$f":"'International in-migration'!P14","v":1320},{"$f":"'International out-migration'!P14","v":750},{"$f":"NINo!P14","v":1130},{"$f":"'Births to non-UK mothers'!P14","v":297},{"$f":"'Pupils'' ethnic group (TS)'!Q14","v":1898},{"$f":"'Pupils with English as an add.'!N14","v":1334},{"$f":"'Pop born outside UK'!P14","v":12000},{"$f":"'Non-British Population'!P14","v":9000},{"$f":"Citizenships!P14","v":128}]
[11,"East Ayrshire",null,{"$f":"'Total net migration'!P15","v":230},{"$f":"'Total net migration 0-15'!P15","v":36},{"$f":"'Total net migration 16-64'!P15","v":115},{"$f":"'Total net migration 65+'!P15","v":79},{"$f":"'Total in-migration'!P15","v":3410},{"$f":"'Total out-migration'!P15","v":3180},{"$f":"'Within Scotland net migration'!P15","v":200},{"$f":"'Within Scotland in-migration'!P15","v":2690},{"$f":"'Within Scotland out-migration'!P15","v":2480},{"$f":"'Rest of UK net migration'!P15","v":130},{"$f":"'Rest of UK in-migration'!P15","v":610},{"$f":"'Rest of UK out-migration'!P15","v":480},{"$f":"'International net migration'!P15","v":-100},{"$f":"'International in-migration'!P15","v":110},{"$f":"'International out-migration'!P15","v":210},{"$f":"NINo!P15","v":90},{"$f":"'Births to non-UK mothers'!P15","v":58},{"$f":"'Pupils'' ethnic group (TS)'!Q15","v":434},{"$f":"'Pupils with English as an add.'!N15","v":186},{"$f":"'Pop born outside UK'!P15","v":5000},{"$f":"'Non-British Population'!P15","v":3000},{"$f":"Citizenships!P15","v":26}]
[12,"East Dunbartonshire",null,{"$f":"'Total net migration'!P16","v":370},{"$f":"'Total net migration 0-15'!P16","v":375},{"$f":"'Total net migration 16-64'!P16","v":10},{"$f":"'Total net migration 65+'!P16","v":-15},{"$f":"'Total in-migration'!P16","v":3980},{"$f":"'Total out-migration'!P16","v":3610},{"$f":"'Within Scotland net migration'!P16","v":490},{"$f":"'Within Scotland in-migration'!P16","v":3370},{"$f":"'Within Scotland out-migration'!P16","v":2880},{"$f":"'Rest of UK net migration'!P16","v":20},{"$f":"'Rest of UK in-migration'!P16","v":500},{"$f":"'Rest of UK out-migration'!P16","v":480},{"$f":"'International net migration'!P16","v":-140},{"$f":"'International in-migration'!P16","v":100},{"$f":"'International out-migration'!P16","v":240},{"$f":"NINo!P16","v":100},{"$f":"'Births to non-UK mothers'!P16","v":107},{"$f":"'Pupils'' ethnic group (TS)'!Q16","v":1591},{"$f":"'Pupils with English as an add.'!N16","v":557},{"$f":"'Pop born outside UK'!P16","v":6000},{"$f":"'Non-British Population'!P16","v":3000},{"$f":"Citizenships!P16","v":67}]
[13,"East Lothian",null,{"$f":"'Total net migration'!P17","v":1150},{"$f":"'Total net migration 0-15'!P17","v":419},{"$f":"'Total net migration 16-64'!P17","v":609},{"$f":"'Total net migration 65+'!P17","v":123},{"$f":"'Total in-migration'!P17","v":4500},{"$f":"'Total out-migration'!P17","v":3350},{"$f":"'Within Scotland net migration'!P17","v":870},{"$f":"'Within Scotland in-migration'!P17","v":3380},{"$f":"'Within Scotland out-migration'!P17","v":2510},{"$f":"'Rest of UK net migration'!P17","v":110},{"$f":"'Rest of UK in-migration'!P17","v":700},{"$f":"'Rest of UK out-migration'!P17","v":590},{"$f":"'International net migration'!P17","v":170},{"$f":"'International in-migration'!P17","v":420},{"$f":"'International out-migration'!P17","v":250},{"$f":"NINo!P17","v":500},{"$f":"'Births to non-UK mothers'!P17","v":131},{"$f":"'Pupils'' ethnic group (TS)'!Q17","v":471},{"$f":"'Pupils with English as an add.'!N17","v":413},{"$f":"'Pop born outside UK'!P17","v":6000},{"$f":"'Non-British Population'!P17","v":4000},{"$f":"Citizenships!P17","v":45}]
[14,"East Renfrewshire",null,{"$f":"'Total net migration'!P18","v":520},{"$f":"'Total net migration 0-15'!P18","v":606},{"$f":"'Total net migration 16-64'!P18","v":-41},{"$f":"'Total net migration 65+'!P18","v":-44},{"$f":"'Total in-migration'!P18","v":3790},{"$f":"'Total out-migration'!P18","v":3270},{"$f":"'Within Scotland net migration'!P18","v":630},{"$f":"'Within Scotland in-migration'!P18","v":3300},{"$f":"'Within Scotland out-migration'!P18","v":2670},{"$f":"'Rest of UK net migration'!P18","v":-30},{"$f":"'Rest of UK in-migration'!P18","v":390},{"$f":"'Rest of UK out-migration'!P18","v":420},{"$f":"'International net migration'!P18","v":-80},{"$f":"'International in-migration'!P18","v":100},{"$f":"'International out-migration'!P18","v":180},{"$f":"NINo!P18","v":120},{"$f":"'Births to non-UK mothers'!P18","v":83},{"$f":"'Pupils'' ethnic group (TS)'!Q18","v":3401},{"$f":"'Pupils with English as an add.'!N18","v":974},{"$f":"'Pop born outside UK'!P18","v":7000},{"$f":"'Non-British Population'!P18","v":4000},{"$f":"Citizenships!P18","v":64}]
[15,"Falkirk",null,{"$f":"'Total net migration'!P19","v":430},{"$f":"'Total net migration 0-15'!P19","v":-28},{"$f":"'Total net migration 16-64'!P19","v":369},{"$f":"'Total net migration 65+'!P19","v":87},{"$f":"'Total in-migration'!P19","v":4290},{"$f":"'Total out-migration'!P19","v":3860},{"$f":"'Within Scotland net migration'!P19","v":330},{"$f":"'Within Scotland in-migration'!P19","v":3310},{"$f":"'Within Scotland out-migration'!P19","v":2980},{"$f":"'Rest of UK net migration'!P19","v":80},{"$f":"'Rest of UK in-migration'!P19","v":650},{"$f":"'Rest of UK out-migration'!P19","v":570},{"$f":"'International net migration'!P19","v":20},{"$f":"'International in-migration'!P19","v":330},{"$f":"'International out-migration'!P19","v":310},{"$f":"NINo!P19","v":320},{"$f":"'Births to non-UK mothers'!P19","v":166},{"$f":"'Pupils'' ethnic group (TS)'!Q19","v":911},{"$f":"'Pupils with English as an add.'!N19","v":793},{"$f":"'Pop born outside UK'!P19","v":8000},{"$f":"'Non-British Population'!P19","v":6000},{"$f":"Citizenships!P19","v":58}]
[16,"Fife",null,{"$f":"'Total net migration'!P20","v":1240},{"$f":"'Total net migration 0-15'!P20","v":335},{"$f":"'Total net migration 16-64'!P20","v":836},{"$f":"'Total net migration 65+'!P20","v":73},{"$f":"'Total in-migration'!P20","v":11160},{"$f":"'Total out-migration'!P20","v":9920},{"$f":"'Within Scotland net migration'!P20","v":450},{"$f":"'Within Scotland in-migration'!P20","v":6560},{"$f":"'Within Scotland out-migration'!P20","v":6120},{"$f":"'Rest of UK net migration'!P20","v":530},{"$f":"'Rest of UK in-migration'!P20","v":3030},{"$f":"'Rest of UK out-migration'!P20","v":2500},{"$f":"'International net migration'!P20","v":270},{"$f":"'International in-migration'!P20","v":1570},{"$f":"'International out-migration'!P20","v":1300},{"$f":"NINo!P20","v":1820},{"$f":"'Births to non-UK mothers'!P20","v":457},{"$f":"'Pupils'' ethnic group (TS)'!Q20","v":2133},{"$f":"'Pupils with English as an add.'!N20","v":1615},{"$f":"'Pop born outside UK'!P20","v":23000},{"$f":"'Non-British Population'!P20","v":13000},{"$f":"Citizenships!P20","v":163}]
[17,"Glasgow City",null,{"$f":"'Total net migration'!P21","v":5360},{"$f":"'Total net migration 0-15'!P21","v":-533},{"$f":"'Total net migration 16-64'!P21","v":6034},{"$f":"'Total net migration 65+'!P21","v":-145},{"$f":"'Total in-migration'!P21","v":34080},{"$f":"'Total out-migration'!P21","v":28720},{"$f":"'Within Scotland net migration'!P21","v":-1620},{"$f":"'Within Scotland in-migration'!P21","v":16920},{"$f":"'Within Scotland out-migration'!P21","v":18540},{"$f":"'Rest of UK net migration'!P21","v":1680},{"$f":"'Rest of UK in-migration'!P21","v":7190},{"$f":"'Rest of UK out-migration'!P21","v":5510},{"$f":"'International net migration'!P21","v":5310},{"$f":"'International in-migration'!P21","v":9970},{"$f":"'International out-migration'!P21","v":4670},{"$f":"NINo!P21","v":9900},{"$f":"'Births to non-UK mothers'!P21","v":2008},{"$f":"'Pupils'' ethnic group (TS)'!Q21","v":15679},{"$f":"'Pupils with English as an add.'!N21","v":14763},{"$f":"'Pop born outside UK'!P21","v":96000},{"$f":"'Non-British Population'!P21","v":82000},{"$f":"Citizenships!P21","v":1004}]
[18,"Highland",null,{"$f":"'Total net migration'!P22","v":970},{"$f":"'Total net migration 0-15'!P22","v":253},{"$f":"'Total net migration 16-64'!P22","v":777},{"$f":"'Total net migration 65+'!P22","v":-62},{"$f":"'Total in-migration'!P22","v":7470},{"$f":"'Total out-migration'!P22","v":6500},{"$f":"'Within Scotland net migration'!P22","v":-60},{"$f":"'Within Scotland in-migration'!P22","v":4090},{"$f":"'Within Scotland out-migration'!P22","v":4160},{"$f":"'Rest of UK net migration'!P22","v":1000},{"$f":"'Rest of UK in-migration'!P22","v":2630},{"$f":"'Rest of UK out-migration'!P22","v":1630},{"$f":"'International net migration'!P22","v":30},{"$f":"'International in-migration'!P22","v":750},{"$f":"'International out-migration'!P22","v":720},{"$f":"NINo!P22","v":1430},{"$f":"'Births to non-UK mothers'!P22","v":300},{"$f":"'Pupils'' ethnic group (TS)'!Q22","v":1009},{"$f":"'Pupils with English as an add.'!N22","v":1398},{"$f":"'Pop born outside UK'!P22","v":14000},{"$f":"'Non-British Population'!P22","v":11000},{"$f":"Citizenships!P22","v":101}]
[19,"Inverclyde",null,{"$f":"'Total net migration'!P23","v":-180},{"$f":"'Total net migration 0-15'!P23","v":10},{"$f":"'Total net migration 16-64'!P23","v":-210},{"$f":"'Total net migration 65+'!P23","v":22},{"$f":"'Total in-migration'!P23","v":1470},{"$f":"'Total out-migration'!P23","v":1650},{"$f":"'Within Scotland net migration'!P23","v":-200},{"$f":"'Within Scotland in-migration'!P23","v":1040},{"$f":"'Within Scotland out-migration'!P23","v":1240},{"$f":"'Rest of UK net migration'!P23","v":80},{"$f":"'Rest of UK in-migration'!P23","v":350},{"$f":"'Rest of UK out-migration'!P23","v":270},{"$f":"'International net migration'!P23","v":-60},{"$f":"'International in-migration'!P23","v":80},{"$f":"'International out-migration'!P23","v":140},{"$f":"NINo!P23","v":70},{"$f":"'Births to non-UK mothers'!P23","v":34},{"$f":"'Pupils'' ethnic group (TS)'!Q23","v":224},{"$f":"'Pupils with English as an add.'!N23","v":67},{"$f":"'Pop born outside UK'!P23","v":2000},{"$f":"'Non-British Population'!P23","v":1000},{"$f":"Citizenships!P23","v":17}]
[20,"Midlothian",null,{"$f":"'Total net migration'!P24","v":1090},{"$f":"'Total net migration 0-15'!P24","v":181},{"$f":"'Total net migration 16-64'!P24","v":865},{"$f":"'Total net migration 65+'!P24","v":41},{"$f":"'Total in-migration'!P24","v":3790},{"$f":"'Total out-migration'!P24","v":2700},{"$f":"'Within Scotland net migration'!P24","v":1050},{"$f":"'Within Scotland in-migration'!P24","v":3190},{"$f":"'Within Scotland out-migration'!P24","v":2140},{"$f":"'Rest of UK net migration'!P24","v":-10},{"$f":"'Rest of UK in-migration'!P24","v":410},{"$f":"'Rest of UK out-migration'!P24","v":410},{"$f":"'International net migration'!P24","v":40},{"$f":"'International in-migration'!P24","v":190},{"$f":"'International out-migration'!P24","v":150},{"$f":"NINo!P24","v":270},{"$f":"'Births to non-UK mothers'!P24","v":151},{"$f":"'Pupils'' ethnic group (TS)'!Q24","v":626},{"$f":"'Pupils with English as an add.'!N24","v":500},{"$f":"'Pop born outside UK'!P24","v":7000},{"$f":"'Non-British Population'!P24","v":5000},{"$f":"Citizenships!P24","v":54}]
[21,"Moray",null,{"$f":"'Total net migration'!P25","v":50},{"$f":"'Total net migration 0-15'!P25","v":-1},{"$f":"'Total net migration 16-64'!P25","v":16},{"$f":"'Total net migration 65+'!P25","v":36},{"$f":"'Total in-migration'!P25","v":3070},{"$f":"'Total out-migration'!P25","v":3020},{"$f":"'Within Scotland net migration'!P25","v":-40},{"$f":"'Within Scotland in-migration'!P25","v":1740},{"$f":"'Within Scotland out-migration'!P25","v":1780},{"$f":"'Rest of UK net migration'!P25","v":210},{"$f":"'Rest of UK in-migration'!P25","v":1120},{"$f":"'Rest of UK out-migration'!P25","v":910},{"$f":"'International net migration'!P25","v":-120},{"$f":"'International in-migration'!P25","v":220},{"$f":"'International out-migration'!P25","v":340},{"$f":"NINo!P25","v":230},{"$f":"'Births to non-UK mothers'!P25","v":96},{"$f":"'Pupils'' ethnic group (TS)'!Q25","v":337},{"$f":"'Pupils with English as an add.'!N25","v":433},{"$f":"'Pop born outside UK'!P25","v":5000},{"$f":"'Non-British Population'!P25","v":3000},{"$f":"Citizenships!P25","v":30}]
[22,"Na h-Eileanan Siar",null,{"$f":"'Total net migration'!P26","v":20},{"$f":"'Total net migration 0-15'!P26","v":9},{"$f":"'Total net migration 16-64'!P26","v":16},{"$f":"'Total net migration 65+'!P26","v":-6},{"$f":"'Total in-migration'!P26","v":860},{"$f":"'Total out-migration'!P26","v":840},{"$f":"'Within Scotland net migration'!P26","v":-80},{"$f":"'Within Scotland in-migration'!P26","v":540},{"$f":"'Within Scotland out-migration'!P26","v":620},{"$f":"'Rest of UK net migration'!P26","v":120},{"$f":"'Rest of UK in-migration'!P26","v":270},{"$f":"'Rest of UK out-migration'!P26","v":150},{"$f":"'International net migration'!P26","v":-20},{"$f":"'International in-migration'!P26","v":50},{"$f":"'International out-migration'!P26","v":70},{"$f":"NINo!P26","v":60},{"$f":"'Births to non-UK mothers'!P26","v":9},{"$f":"'Pupils'' ethnic group (TS)'!Q26","v":67},{"$f":"'Pupils with English as an add.'!N26","v":55},{"$f":"'Pop born outside UK'!P26","v":1000},{"$f":"'Non-British Population'!P26","v":1000},{"$f":"Citizenships!P26","v":10}]
[23,"North Ayrshire",null,{"$f":"'Total net migration'!P27","v":50},{"$f":"'Total net migration 0-15'!P27","v":83},{"$f":"'Total net migration 16-64'!P27","v":-62},{"$f":"'Total net migration 65+'!P27","v":33},{"$f":"'Total in-migration'!P27","v":3580},{"$f":"'Total out-migration'!P27","v":3530},{"$f":"'Within Scotland net migration'!P27","v":-50},{"$f":"'Within Scotland in-migration'!P27","v":2660},{"$f":"'Within Scotland out-migration'!P27","v":2710},{"$f":"'Rest of UK net migration'!P27","v":220},{"$f":"'Rest of UK in-migration'!P27","v":760},{"$f":"'Rest of UK out-migration'!P27","v":550},{"$f":"'International net migration'!P27","v":-110},{"$f":"'International in-migration'!P27","v":160},{"$f":"'International out-migration'!P27","v":270},{"$f":"NINo!P27","v":120},{"$f":"'Births to non-UK mothers'!P27","v":45},{"$f":"'Pupils'' ethnic group (TS)'!Q27","v":435},{"$f":"'Pupils with English as an add.'!N27","v":179},{"$f":"'Pop born outside UK'!P27","v":3000},{"$f":"'Non-British Population'!P27","v":1000},{"$f":"Citizenships!P27","v":17}]
[24,"North Lanarkshire",null,{"$f":"'Total net migration'!P28","v":550},{"$f":"'Total net migration 0-15'!P28","v":258},{"$f":"'Total net migration 16-64'!P28","v":324},{"$f":"'Total net migration 65+'!P28","v":-33},{"$f":"'Total in-migration'!P28","v":7810},{"$f":"'Total out-migration'!P28","v":7260},{"$f":"'Within Scotland net migration'!P28","v":480},{"$f":"'Within Scotland in-migration'!P28","v":6160},{"$f":"'Within Scotland out-migration'!P28","v":5690},{"$f":"'Rest of UK net migration'!P28","v":220},{"$f":"'Rest of UK in-migration'!P28","v":1170},{"$f":"'Rest of UK out-migration'!P28","v":940},{"$f":"'International net migration'!P28","v":-150},{"$f":"'International in-migration'!P28","v":480},{"$f":"'International out-migration'!P28","v":630},{"$f":"NINo!P28","v":690},{"$f":"'Births to non-UK mothers'!P28","v":306},{"$f":"'Pupils'' ethnic group (TS)'!Q28","v":2271},{"$f":"'Pupils with English as an add.'!N28","v":1604},{"$f":"'Pop born outside UK'!P28","v":13000},{"$f":"'Non-British Population'!P28","v":10000},{"$f":"Citizenships!P28","v":96}]
[25,"Orkney Islands",null,{"$f":"'Total net migration'!P29","v":250},{"$f":"'Total net migration 0-15'!P29","v":43},{"$f":"'Total net migration 16-64'!P29","v":184},{"$f":"'Total net migration 65+'!P29","v":26},{"$f":"'Total in-migration'!P29","v":820},{"$f":"'Total out-migration'!P29","v":570},{"$f":"'Within Scotland net migration'!P29","v":30},{"$f":"'Within Scotland in-migration'!P29","v":400},{"$f":"'Within Scotland out-migration'!P29","v":370},{"$f":"'Rest of UK net migration'!P29","v":230},{"$f":"'Rest of UK in-migration'!P29","v":380},{"$f":"'Rest of UK out-migration'!P29","v":140},{"$f":"'International net migration'!P29","v":-10},{"$f":"'International in-migration'!P29","v":50},{"$f":"'International out-migration'!P29","v":60},{"$f":"NINo!P29","v":50},{"$f":"'Births to non-UK mothers'!P29","v":13},{"$f":"'Pupils'' ethnic group (TS)'!Q29","v":51},{"$f":"'Pupils with English as an add.'!N29","v":31},{"$f":"'Pop born outside UK'!P29","v":1000},{"$f":"'Non-British Population'!P29","v":1000},{"$f":"Citizenships!P29","v":6}]
[26,"Perth and Kinross",null,{"$f":"'Total net migration'!P30","v":660},{"$f":"'Total net migration 0-15'!P30","v":320},{"$f":"'Total net migration 16-64'!P30","v":270},{"$f":"'Total net migration 65+'!P30","v":67},{"$f":"'Total in-migration'!P30","v":6000},{"$f":"'Total out-migration'!P30","v":5340},{"$f":"'Within Scotland net migration'!P30","v":220},{"$f":"'Within Scotland in-migration'!P30","v":4110},{"$f":"'Within Scotland out-migration'!P30","v":3890},{"$f":"'Rest of UK net migration'!P30","v":290},{"$f":"'Rest of UK in-migration'!P30","v":1210},{"$f":"'Rest of UK out-migration'!P30","v":920},{"$f":"'International net migration'!P30","v":150},{"$f":"'International in-migration'!P30","v":680},{"$f":"'International out-migration'!P30","v":530},{"$f":"NINo!P30","v":2030},{"$f":"'Births to non-UK mothers'!P30","v":237},{"$f":"'Pupils'' ethnic group (TS)'!Q30","v":747},{"$f":"'Pupils with English as an add.'!N30","v":900},{"$f":"'Pop born outside UK'!P30","v":12000},{"$f":"'Non-British Population'!P30","v":9000},{"$f":"Citizenships!P30","v":63}]
[27,"Renfrewshire",null,{"$f":"'Total net migration'!P31","v":1340},{"$f":"'Total net migration 0-15'!P31","v":216},{"$f":"'Total net migration 16-64'!P31","v":1015},{"$f":"'Total net migration 65+'!P31","v":110},{"$f":"'Total in-migration'!P31","v":6160},{"$f":"'Total out-migration'!P31","v":4820},{"$f":"'Within Scotland net migration'!P31","v":1150},{"$f":"'Within Scotland in-migration'!P31","v":4820},{"$f":"'Within Scotland out-migration'!P31","v":3670},{"$f":"'Rest of UK net migration'!P31","v":10},{"$f":"'Rest of UK in-migration'!P31","v":710},{"$f":"'Rest of UK out-migration'!P31","v":700},{"$f":"'International net migration'!P31","v":180},{"$f":"'International in-migration'!P31","v":640},{"$f":"'International out-migration'!P31","v":450},{"$f":"NINo!P31","v":660},{"$f":"'Births to non-UK mothers'!P31","v":206},{"$f":"'Pupils'' ethnic group (TS)'!Q31","v":1271},{"$f":"'Pupils with English as an add.'!N31","v":865},{"$f":"'Pop born outside UK'!P31","v":10000},{"$f":"'Non-British Population'!P31","v":7000},{"$f":"Citizenships!P31","v":84}]
[28,"Scottish Borders",null,{"$f":"'Total net migration'!P32","v":680},{"$f":"'Total net migration 0-15'!P32","v":198},{"$f":"'Total net migration 16-64'!P32","v":461},{"$f":"'Total net migration 65+'!P32","v":23},{"$f":"'Total in-migration'!P32","v":4530},{"$f":"'Total out-migration'!P32","v":3850},{"$f":"'Within Scotland net migration'!P32","v":390},{"$f":"'Within Scotland in-migration'!P32","v":2590},{"$f":"'Within Scotland out-migration'!P32","v":2200},{"$f":"'Rest of UK net migration'!P32","v":420},{"$f":"'Rest of UK in-migration'!P32","v":1690},{"$f":"'Rest of UK out-migration'!P32","v":1270},{"$f":"'International net migration'!P32","v":-130},{"$f":"'International in-migration'!P32","v":250},{"$f":"'International out-migration'!P32","v":380},{"$f":"NINo!P32","v":330},{"$f":"'Births to non-UK mothers'!P32","v":111},{"$f":"'Pupils'' ethnic group (TS)'!Q32","v":368},{"$f":"'Pupils with English as an add.'!N32","v":453},{"$f":"'Pop born outside UK'!P32","v":8000},{"$f":"'Non-British Population'!P32","v":6000},{"$f":"Citizenships!P32","v":37}]
[29,"Shetland Islands",null,{"$f":"'Total net migration'!P33","v":-80},{"$f":"'Total net migration 0-15'!P33","v":7},{"$f":"'Total net migration 16-64'!P33","v":-72},{"$f":"'Total net migration 65+'!P33","v":-10},{"$f":"'Total in-migration'!P33","v":580},{"$f":"'Total out-migration'!P33","v":650},{"$f":"'Within Scotland net migration'!P33","v":-130},{"$f":"'Within Scotland in-migration'!P33","v":300},{"$f":"'Within Scotland out-migration'!P33","v":440},{"$f":"'Rest of UK net migration'!P33","v":70},{"$f":"'Rest of UK in-migration'!P33","v":220},{"$f":"'Rest of UK out-migration'!P33","v":150},{"$f":"'International net migration'!P33","v":-10},{"$f":"'International in-migration'!P33","v":60},{"$f":"'International out-migration'!P33","v":70},{"$f":"NINo!P33","v":90},{"$f":"'Births to non-UK mothers'!P33","v":19},{"$f":"'Pupils'' ethnic group (TS)'!Q33","v":106},{"$f":"'Pupils with English as an add.'!N33","v":63},{"$f":"'Pop born outside UK'!P33","v":1000},{"$f":"'Non-British Population'!P33","v":1000},{"$f":"Citizenships!P33","v":19}]
[30,"South Ayrshire",null,{"$f":"'Total net migration'!P34","v":500},{"$f":"'Total net migration 0-15'!P34","v":92},{"$f":"'Total net migration 16-64'!P34","v":255},{"$f":"'Total net migration 65+'!P34","v":148},{"$f":"'Total in-migration'!P34","v":3700},{"$f":"'Total out-migration'!P34","v":3210},{"$f":"'Within Scotland net migration'!P34","v":280},{"$f":"'Within Scotland in-migration'!P34","v":2740},{"$f":"'Within Scotland out-migration'!P34","v":2460},{"$f":"'Rest of UK net migration'!P34","v":260},{"$f":"'Rest of UK in-migration'!P34","v":760},{"$f":"'Rest of UK out-migration'!P34","v":490},{"$f":"'International net migration'!P34","v":-50},{"$f":"'International in-migration'!P34","v":210},{"$f":"'International out-migration'!P34","v":260},{"$f":"NINo!P34","v":190},{"$f":"'Births to non-UK mothers'!P34","v":57},{"$f":"'Pupils'' ethnic group (TS)'!Q34","v":388},{"$f":"'Pupils with English as an add.'!N34","v":207},{"$f":"'Pop born outside UK'!P34","v":4000},{"$f":"'Non-British Population'!P34","v":3000},{"$f":"Citizenships!P34","v":29}]
[31,"South Lanarkshire",null,{"$f":"'Total net migration'!P35","v":1300},{"$f":"'Total net migration 0-15'!P35","v":223},{"$f":"'Total net migration 16-64'!P35","v":954},{"$f":"'Total net migration 65+'!P35","v":122},{"$f":"'Total in-migration'!P35","v":9310},{"$f":"'Total out-migration'!P35","v":8010},{"$f":"'Within Scotland net migration'!P35","v":1310},{"$f":"'Within Scotland in-migration'!P35","v":7480},{"$f":"'Within Scotland out-migration'!P35","v":6180},{"$f":"'Rest of UK net migration'!P35","v":210},{"$f":"'Rest of UK in-migration'!P35","v":1380},{"$f":"'Rest of UK out-migration'!P35","v":1170},{"$f":"'International net migration'!P35","v":-220},{"$f":"'International in-migration'!P35","v":450},{"$f":"'International out-migration'!P35","v":660},{"$f":"NINo!P35","v":590},{"$f":"'Births to non-UK mothers'!P35","v":233},{"$f":"'Pupils'' ethnic group (TS)'!Q35","v":2177},{"$f":"'Pupils with English as an add.'!N35","v":939},{"$f":"'Pop born outside UK'!P35","v":9000},{"$f":"'Non-British Population'!P35","v":7000},{"$f":"Citizenships!P35","v":126}]
[32,"Stirling",null,{"$f":"'Total net migration'!P36","v":510},{"$f":"'Total net migration 0-15'!P36","v":283},{"$f":"'Total net migration 16-64'!P36","v":265},{"$f":"'Total net migration 65+'!P36","v":-43},{"$f":"'Total in-migration'!P36","v":5200},{"$f":"'Total out-migration'!P36","v":4690},{"$f":"'Within Scotland net migration'!P36","v":0},{"$f":"'Within Scotland in-migration'!P36","v":3460},{"$f":"'Within Scotland out-migration'!P36","v":3450},{"$f":"'Rest of UK net migration'!P36","v":340},{"$f":"'Rest of UK in-migration'!P36","v":1110},{"$f":"'Rest of UK out-migration'!P36","v":770},{"$f":"'International net migration'!P36","v":160},{"$f":"'International in-migration'!P36","v":630},{"$f":"'International out-migration'!P36","v":470},{"$f":"NINo!P36","v":670},{"$f":"'Births to non-UK mothers'!P36","v":86},{"$f":"'Pupils'' ethnic group (TS)'!Q36","v":524},{"$f":"'Pupils with English as an add.'!N36","v":320},{"$f":"'Pop born outside UK'!P36","v":7000},{"$f":"'Non-British Population'!P36","v":5000},{"$f":"Citizenships!P36","v":56}]
[33,"West Dunbartonshire",null,{"$f":"'Total net migration'!P37","v":-210},{"$f":"'Total net migration 0-15'!P37","v":-62},{"$f":"'Total net migration 16-64'!P37","v":-112},{"$f":"'Total net migration 65+'!P37","v":-38},{"$f":"'Total in-migration'!P37","v":2400},{"$f":"'Total out-migration'!P37","v":2610},{"$f":"'Within Scotland net migration'!P37","v":-150},{"$f":"'Within Scotland in-migration'!P37","v":1980},{"$f":"'Within Scotland out-migration'!P37","v":2130},{"$f":"'Rest of UK net migration'!P37","v":0},{"$f":"'Rest of UK in-migration'!P37","v":320},{"$f":"'Rest of UK out-migration'!P37","v":320},{"$f":"'International net migration'!P37","v":-60},{"$f":"'International in-migration'!P37","v":100},{"$f":"'International out-migration'!P37","v":160},{"$f":"NINo!P37","v":110},{"$f":"'Births to non-UK mothers'!P37","v":55},{"$f":"'Pupils'' ethnic group (TS)'!Q37","v":404},{"$f":"'Pupils with English as an add.'!N37","v":293},{"$f":"'Pop born outside UK'!P37","v":3000},{"$f":"'Non-British Population'!P37","v":2000},{"$f":"Citizenships!P37","v":19}]
[34,"West Lothian",null,{"$f":"'Total net migration'!P38","v":580},{"$f":"'Total net migration 0-15'!P38","v":223},{"$f":"'Total net migration 16-64'!P38","v":342},{"$f":"'Total net migration 65+'!P38","v":16},{"$f":"'Total in-migration'!P38","v":5280},{"$f":"'Total out-migration'!P38","v":4700},{"$f":"'Within Scotland net migration'!P38","v":230},{"$f":"'Within Scotland in-migration'!P38","v":3880},{"$f":"'Within Scotland out-migration'!P38","v":3660},{"$f":"'Rest of UK net migration'!P38","v":140},{"$f":"'Rest of UK in-migration'!P38","v":840},{"$f":"'Rest of UK out-migration'!P38","v":710},{"$f":"'International net migration'!P38","v":220},{"$f":"'International in-migration'!P38","v":560},{"$f":"'International out-migration'!P38","v":340},{"$f":"NINo!P38","v":660},{"$f":"'Births to non-UK mothers'!P38","v":317},{"$f":"'Pupils'' ethnic group (TS)'!Q38","v":1616},{"$f":"'Pupils with English as an add.'!N38","v":1697},{"$f":"'Pop born outside UK'!P38","v":15000},{"$f":"'Non-British Population'!P38","v":11000},{"$f":"Citizenships!P38","v":126}]
[]
[35,"Not specified"]
[36,"Scotland",null,{"$f":"'Total net migration'!P41","v":20900},{"$f":"'Total net migration 0-15'!P41","v":3298},{"$f":"'Total net migration 16-64'!P41","v":17048},{"$f":"'Total net migration 65+'!P41","v":554},{"$f":"'Total in-migration'!P41","v":80600},{"$f":"'Total out-migration'!P41","v":59700},{"$f":"'Within Scotland net migration'!P41","v":"[z]"},{"$f":"'Within Scotland in-migration'!P41","v":"[z]"},{"$f":"'Within Scotland out-migration'!P41","v":"[z]"},{"$f":"'Rest of UK net migration'!P41","v":10000},{"$f":"'Rest of UK in-migration'!P41","v":47700},{"$f":"'Rest of UK out-migration'!P41","v":37700},{"$f":"'International net migration'!P41","v":10900},{"$f":"'International in-migration'!P41","v":32900},{"$f":"'International out-migration'!P41","v":22000},null,{"$f":"'Births to non-UK mothers'!P41","v":8863}]
[37,"Ayrshire and Arran",null,{"$f":"'Total net migration'!P42","v":780},{"$f":"'Total net migration 0-15'!P42","v":211},{"$f":"'Total net migration 16-64'!P42","v":308},{"$f":"'Total net migration 65+'!P42","v":260},{"$f":"'Total in-migration'!P42","v":8070},{"$f":"'Total out-migration'!P42","v":7290},{"$f":"'Within Scotland net migration'!P42","v":430},{"$f":"'Within Scotland in-migration'!P42","v":5450},{"$f":"'Within Scotland out-migration'!P42","v":5020},{"$f":"'Rest of UK net migration'!P42","v":610},{"$f":"'Rest of UK in-migration'!P42","v":2130},{"$f":"'Rest of UK out-migration'!P42","v":1520},{"$f":"'International net migration'!P42","v":-260},{"$f":"'International in-migration'!P42","v":480},{"$f":"'International out-migration'!P42","v":740},null,{"$f":"'Births to non-UK mothers'!P42","v":160}]
[38,"Borders",null,{"$f":"'Total net migration'!P43","v":680},{"$f":"'Total net migration 0-15'!P43","v":198},{"$f":"'Total net migration 16-64'!P43","v":461},{"$f":"'Total net migration 65+'!P43","v":23},{"$f":"'Total in-migration'!P43","v":4530},{"$f":"'Total out-migration'!P43","v":3850},{"$f":"'Within Scotland net migration'!P43","v":390},{"$f":"'Within Scotland in-migration'!P43","v":2590},{"$f":"'Within Scotland out-migration'!P43","v":2200},{"$f":"'Rest of UK net migration'!P43","v":420},{"$f":"'Rest of UK in-migration'!P43","v":1690},{"$f":"'Rest of UK out-migration'!P43","v":1270},{"$f":"'International net migration'!P43","v":-130},{"$f":"'International in-migration'!P43","v":250},{"$f":"'International out-migration'!P43","v":380},null,{"$f":"'Births to non-UK mothers'!P43","v":111}]
[39,"Dumfries and Galloway",null,{"$f":"'Total net migration'!P44","v":380},{"$f":"'Total net migration 0-15'!P44","v":113},{"$f":"'Total net migration 16-64'!P44","v":182},{"$f":"'Total net migration 65+'!P44","v":88},{"$f":"'Total in-migration'!P44","v":4020},{"$f":"'Total out-migration'!P44","v":3630},{"$f":"'Within Scotland net migration'!P44","v":-230},{"$f":"'Within Scotland in-migration'!P44","v":1640},{"$f":"'Within Scotland out-migration'!P44","v":1870},{"$f":"'Rest of UK net migration'!P44","v":800},{"$f":"'Rest of UK in-migration'!P44","v":2120},{"$f":"'Rest of UK out-migration'!P44","v":1330},{"$f":"'International net migration'!P44","v":-180},{"$f":"'International in-migration'!P44","v":260},{"$f":"'International out-migration'!P44","v":440},null,{"$f":"'Births to non-UK mothers'!P44","v":94}]
[40,"Fife",null,{"$f":"'Total net migration'!P45","v":1240},{"$f":"'Total net migration 0-15'!P45","v":335},{"$f":"'Total net migration 16-64'!P45","v":836},{"$f":"'Total net migration 65+'!P45","v":73},{"$f":"'Total in-migration'!P45","v":11160},{"$f":"'Total out-migration'!P45","v":9920},{"$f":"'Within Scotland net migration'!P45","v":450},{"$f":"'Within Scotland in-migration'!P45","v":6560},{"$f":"'Within Scotland out-migration'!P45","v":6120},{"$f":"'Rest of UK net migration'!P45","v":530},{"$f":"'Rest of UK in-migration'!P45","v":3030},{"$f":"'Rest of UK out-migration'!P45","v":2500},{"$f":"'International net migration'!P45","v":270},{"$f":"'International in-migration'!P45","v":1570},{"$f":"'International out-migration'!P45","v":1300},null,{"$f":"'Births to non-UK mothers'!P45","v":457}]
[41,"Forth Valley",null,{"$f":"'Total net migration'!P46","v":900},{"$f":"'Total net migration 0-15'!P46","v":242},{"$f":"'Total net migration 16-64'!P46","v":594},{"$f":"'Total net migration 65+'!P46","v":66},{"$f":"'Total in-migration'!P46","v":9570},{"$f":"'Total out-migration'!P46","v":8660},{"$f":"'Within Scotland net migration'!P46","v":270},{"$f":"'Within Scotland in-migration'!P46","v":6420},{"$f":"'Within Scotland out-migration'!P46","v":6150},{"$f":"'Rest of UK net migration'!P46","v":470},{"$f":"'Rest of UK in-migration'!P46","v":2080},{"$f":"'Rest of UK out-migration'!P46","v":1610},{"$f":"'International net migration'!P46","v":160},{"$f":"'International in-migration'!P46","v":1070},{"$f":"'International out-migration'!P46","v":910},null,{"$f":"'Births to non-UK mothers'!P46","v":295}]
[42,"Grampian",null,{"$f":"'Total net migration'!P47","v":-1870},{"$f":"'Total net migration 0-15'!P47","v":-54},{"$f":"'Total net migration 16-64'!P47","v":-1755},{"$f":"'Total net migration 65+'!P47","v":-58},{"$f":"'Total in-migration'!P47","v":14410},{"$f":"'Total out-migration'!P47","v":16270},{"$f":"'Within Scotland net migration'!P47","v":-2200},{"$f":"'Within Scotland in-migration'!P47","v":6480},{"$f":"'Within Scotland out-migration'!P47","v":8680},{"$f":"'Rest of UK net migration'!P47","v":-690},{"$f":"'Rest of UK in-migration'!P47","v":4130},{"$f":"'Rest of UK out-migration'!P47","v":4810},{"$f":"'International net migration'!P47","v":1020},{"$f":"'International in-migration'!P47","v":3800},{"$f":"'International out-migration'!P47","v":2780},null,{"$f":"'Births to non-UK mothers'!P47","v":1336}]
[43,"Greater Glasgow and Clyde",null,{"$f":"'Total net migration'!P48","v":7200},{"$f":"'Total net migration 0-15'!P48","v":612},{"$f":"'Total net migration 16-64'!P48","v":6696},{"$f":"'Total net migration 65+'!P48","v":-110},{"$f":"'Total in-migration'!P48","v":38760},{"$f":"'Total out-migration'!P48","v":31560},{"$f":"'Within Scotland net migration'!P48","v":290},{"$f":"'Within Scotland in-migration'!P48","v":18320},{"$f":"'Within Scotland out-migration'!P48","v":18030},{"$f":"'Rest of UK net migration'!P48","v":1750},{"$f":"'Rest of UK in-migration'!P48","v":9450},{"$f":"'Rest of UK out-migration'!P48","v":7690},{"$f":"'International net migration'!P48","v":5150},{"$f":"'International in-migration'!P48","v":10990},{"$f":"'International out-migration'!P48","v":5830},null,{"$f":"'Births to non-UK mothers'!P48","v":2493}]
[44,"Highland",null,{"$f":"'Total net migration'!P49","v":890},{"$f":"'Total net migration 0-15'!P49","v":300},{"$f":"'Total net migration 16-64'!P49","v":780},{"$f":"'Total net migration 65+'!P49","v":-193},{"$f":"'Total in-migration'!P49","v":11290},{"$f":"'Total out-migration'!P49","v":10400},{"$f":"'Within Scotland net migration'!P49","v":-620},{"$f":"'Within Scotland in-migration'!P49","v":5970},{"$f":"'Within Scotland out-migration'!P49","v":6590},{"$f":"'Rest of UK net migration'!P49","v":1620},{"$f":"'Rest of UK in-migration'!P49","v":4270},{"$f":"'Rest of UK out-migration'!P49","v":2660},{"$f":"'International net migration'!P49","v":-110},{"$f":"'International in-migration'!P49","v":1050},{"$f":"'International out-migration'!P49","v":1150},null,{"$f":"'Births to non-UK mothers'!P49","v":372}]
[45,"Lanarkshire",null,{"$f":"'Total net migration'!P50","v":1850},{"$f":"'Total net migration 0-15'!P50","v":481},{"$f":"'Total net migration 16-64'!P50","v":1278},{"$f":"'Total net migration 65+'!P50","v":89},{"$f":"'Total in-migration'!P50","v":14700},{"$f":"'Total out-migration'!P50","v":12860},{"$f":"'Within Scotland net migration'!P50","v":1780},{"$f":"'Within Scotland in-migration'!P50","v":11230},{"$f":"'Within Scotland out-migration'!P50","v":9450},{"$f":"'Rest of UK net migration'!P50","v":440},{"$f":"'Rest of UK in-migration'!P50","v":2550},{"$f":"'Rest of UK out-migration'!P50","v":2120},{"$f":"'International net migration'!P50","v":-370},{"$f":"'International in-migration'!P50","v":930},{"$f":"'International out-migration'!P50","v":1300},null,{"$f":"'Births to non-UK mothers'!P50","v":539}]
[46,"Lothian",null,{"$f":"'Total net migration'!P51","v":7440},{"$f":"'Total net migration 0-15'!P51","v":447},{"$f":"'Total net migration 16-64'!P51","v":6790},{"$f":"'Total net migration 65+'!P51","v":203},{"$f":"'Total in-migration'!P51","v":35420},{"$f":"'Total out-migration'!P51","v":27980},{"$f":"'Within Scotland net migration'!P51","v":-340},{"$f":"'Within Scotland in-migration'!P51","v":13100},{"$f":"'Within Scotland out-migration'!P51","v":13440},{"$f":"'Rest of UK net migration'!P51","v":3050},{"$f":"'Rest of UK in-migration'!P51","v":12150},{"$f":"'Rest of UK out-migration'!P51","v":9100},{"$f":"'International net migration'!P51","v":4730},{"$f":"'International in-migration'!P51","v":10170},{"$f":"'International out-migration'!P51","v":5440},null,{"$f":"'Births to non-UK mothers'!P51","v":2320}]
[47,"Orkney",null,{"$f":"'Total net migration'!P52","v":250},{"$f":"'Total net migration 0-15'!P52","v":43},{"$f":"'Total net migration 16-64'!P52","v":184},{"$f":"'Total net migration 65+'!P52","v":26},{"$f":"'Total in-migration'!P52","v":820},{"$f":"'Total out-migration'!P52","v":570},{"$f":"'Within Scotland net migration'!P52","v":30},{"$f":"'Within Scotland in-migration'!P52","v":400},{"$f":"'Within Scotland out-migration'!P52","v":370},{"$f":"'Rest of UK net migration'!P52","v":230},{"$f":"'Rest of UK in-migration'!P52","v":380},{"$f":"'Rest of UK out-migration'!P52","v":140},{"$f":"'International net migration'!P52","v":-10},{"$f":"'International in-migration'!P52","v":50},{"$f":"'International out-migration'!P52","v":60},null,{"$f":"'Births to non-UK mothers'!P52","v":13}]
[48,"Shetland",null,{"$f":"'Total net migration'!P53","v":-80},{"$f":"'Total net migration 0-15'!P53","v":7},{"$f":"'Total net migration 16-64'!P53","v":-72},{"$f":"'Total net migration 65+'!P53","v":-10},{"$f":"'Total in-migration'!P53","v":580},{"$f":"'Total out-migration'!P53","v":650},{"$f":"'Within Scotland net migration'!P53","v":-130},{"$f":"'Within Scotland in-migration'!P53","v":300},{"$f":"'Within Scotland out-migration'!P53","v":440},{"$f":"'Rest of UK net migration'!P53","v":70},{"$f":"'Rest of UK in-migration'!P53","v":220},{"$f":"'Rest of UK out-migration'!P53","v":150},{"$f":"'International net migration'!P53","v":-10},{"$f":"'International in-migration'!P53","v":60},{"$f":"'International out-migration'!P53","v":70},null,{"$f":"'Births to non-UK mothers'!P53","v":19}]
[49,"Tayside",null,{"$f":"'Total net migration'!P54","v":1210},{"$f":"'Total net migration 0-15'!P54","v":354},{"$f":"'Total net migration 16-64'!P54","v":750},{"$f":"'Total net migration 65+'!P54","v":103},{"$f":"'Total in-migration'!P54","v":13330},{"$f":"'Total out-migration'!P54","v":12130},{"$f":"'Within Scotland net migration'!P54","v":-30},{"$f":"'Within Scotland in-migration'!P54","v":7930},{"$f":"'Within Scotland out-migration'!P54","v":7960},{"$f":"'Rest of UK net migration'!P54","v":570},{"$f":"'Rest of UK in-migration'!P54","v":3200},{"$f":"'Rest of UK out-migration'!P54","v":2630},{"$f":"'International net migration'!P54","v":670},{"$f":"'International in-migration'!P54","v":2210},{"$f":"'International out-migration'!P54","v":1540},null,{"$f":"'Births to non-UK mothers'!P54","v":645}]
[50,"Western Isles",null,{"$f":"'Total net migration'!P55","v":20},{"$f":"'Total net migration 0-15'!P55","v":9},{"$f":"'Total net migration 16-64'!P55","v":16},{"$f":"'Total net migration 65+'!P55","v":-6},{"$f":"'Total in-migration'!P55","v":860},{"$f":"'Total out-migration'!P55","v":840},{"$f":"'Within Scotland net migration'!P55","v":-80},{"$f":"'Within Scotland in-migration'!P55","v":540},{"$f":"'Within Scotland out-migration'!P55","v":620},{"$f":"'Rest of UK net migration'!P55","v":120},{"$f":"'Rest of UK in-migration'!P55","v":270},{"$f":"'Rest of UK out-migration'!P55","v":150},{"$f":"'International net migration'!P55","v":-20},{"$f":"'International in-migration'!P55","v":50},{"$f":"'International out-migration'!P55","v":70},null,{"$f":"'Births to non-UK mothers'!P55","v":9}]

{"sheet":"2018 Rate","index":53,"n_rows":53,"n_cols":27,"rows_kept":53,"cut":false,"hidden":true,"merged":[]}
[null,2018,"RATE"]
[null,null,"Not specified ",{"$f":"'Comparing Indicators'!$U8","v":"Total net migration"},{"$f":"'Comparing Indicators'!$U9","v":"Total net migration for ages 0-15"},{"$f":"'Comparing Indicators'!$U10","v":"Total net migration for ages 16-64"},{"$f":"'Comparing Indicators'!$U11","v":"Total net migration for people aged 65+"},{"$f":"'Comparing Indicators'!$U12","v":"Total in-migration"},{"$f":"'Comparing Indicators'!$U13","v":"Total out-migration"},{"$f":"'Comparing Indicators'!$U14","v":"Within Scotland net migration"},{"$f":"'Comparing Indicators'!$U15","v":"Within Scotland in-migration"},{"$f":"'Comparing Indicators'!$U16","v":"Within Scotland out-migration"},{"$f":"'Comparing Indicators'!$U17","v":"Rest of UK net migration"},{"$f":"'Comparing Indicators'!$U18","v":"Rest of UK in-migration"},{"$f":"'Comparing Indicators'!$U19","v":"Rest of UK out-migration"},{"$f":"'Comparing Indicators'!$U20","v":"International net migration"},{"$f":"'Comparing Indicators'!$U21","v":"International in-migration"},{"$f":"'Comparing Indicators'!$U22","v":"International out-migration"},{"$f":"'Comparing Indicators'!$U23","v":"NINo Allocation"},{"$f":"'Comparing Indicators'!$U24","v":"Births to non-UK mothers"},{"$f":"'Comparing Indicators'!$U25","v":"Pupils from a minority ethnic group"},{"$f":"'Comparing Indicators'!$U26","v":"Pupils with English as an additional language"},{"$f":"'Comparing Indicators'!$U27","v":"Population born outside the UK"},{"$f":"'Comparing Indicators'!$U28","v":"Population with non-British nationality"},{"$f":"'Comparing Indicators'!$U29","v":"Citizenships"},null,"Mid-year population estimate"]
[1,"Not specified"]
[2,"Scotland",null,{"$f":"('2018'!D4/'2018 Rate'!$AA4)*1000","v":3.8432540777109652},{"$f":"('2018'!E4/'2018 Rate'!$AA4)*1000","v":0.60646181570769198},{"$f":"('2018'!F4/'2018 Rate'!$AA4)*1000","v":3.1349184457806953},{"$f":"('2018'!G4/'2018 Rate'!$AA4)*1000","v":0.10187381622257774},{"$f":"('2018'!H4/'2018 Rate'!$AA4)*1000","v":14.821353046100661},{"$f":"('2018'!I4/'2018 Rate'!$AA4)*1000","v":10.978098968389695},{"$f":"'Within Scotland net migration'!P6","v":"[z]"},{"$f":"'Within Scotland in-migration'!P6","v":"[z]"},{"$f":"'Within Scotland out-migration'!P6","v":"[z]"},{"$f":"('2018'!M4/'2018 Rate'!$AA4)*1000","v":1.8388775491440024},{"$f":"('2018'!N4/'2018 Rate'!$AA4)*1000","v":8.771445909416892},{"$f":"('2018'!O4/'2018 Rate'!$AA4)*1000","v":6.9325683602728896},{"$f":"('2018'!P4/'2018 Rate'!$AA4)*1000","v":2.0043765285669628},{"$f":"('2018'!Q4/'2018 Rate'!$AA4)*1000","v":6.0499071366837676},{"$f":"('2018'!R4/'2018 Rate'!$AA4)*1000","v":4.0455306081168052},{"$f":"('2018'!S4/'2018 Rate'!$AA4)*1000","v":6.9895735642963537},null,null,null,null,null,{"$f":"('2018'!Y4/'2018 Rate'!$AA4)*1000","v":0.81627774406502274},"Scotland",5438100]
[3,"Aberdeen City",null,{"$f":"('2018'!D5/'2018 Rate'!$AA5)*1000","v":-5.8006679557039904},{"$f":"('2018'!E5/'2018 Rate'!$AA5)*1000","v":-1.1337669186148709},{"$f":"('2018'!F5/'2018 Rate'!$AA5)*1000","v":-4.20987871330638},{"$f":"('2018'!G5/'2018 Rate'!$AA5)*1000","v":-0.44823343294076284},{"$f":"('2018'!H5/'2018 Rate'!$AA5)*1000","v":46.932677096150471},{"$f":"('2018'!I5/'2018 Rate'!$AA5)*1000","v":52.733345051854457},{"$f":"('2018'!J5/'2018 Rate'!$AA5)*1000","v":-8.1297240288275621},{"$f":"('2018'!K5/'2018 Rate'!$AA5)*1000","v":26.059061346458076},{"$f":"('2018'!L5/'2018 Rate'!$AA5)*1000","v":34.18878537528564},{"$f":"('2018'!M5/'2018 Rate'!$AA5)*1000","v":-2.8563895236421164},{"$f":"('2018'!N5/'2018 Rate'!$AA5)*1000","v":7.8221128493584109},{"$f":"('2018'!O5/'2018 Rate'!$AA5)*1000","v":10.678502373000528},{"$f":"('2018'!P5/'2018 Rate'!$AA5)*1000","v":5.1854455967656881},{"$f":"('2018'!Q5/'2018 Rate'!$AA5)*1000","v":13.095447354543856},{"$f":"('2018'!R5/'2018 Rate'!$AA5)*1000","v":7.9100017577781685},{"$f":"('2018'!S5/'2018 Rate'!$AA5)*1000","v":12.91966953770434},null,null,null,null,null,{"$f":"('2018'!Y5/'2018 Rate'!$AA5)*1000","v":2.592722798382844},"Aberdeen City",227560]
[4,"Aberdeenshire",null,{"$f":"('2018'!D6/'2018 Rate'!$AA6)*1000","v":-2.2947183233258119},{"$f":"('2018'!E6/'2018 Rate'!$AA6)*1000","v":0.78402876046965242},{"$f":"('2018'!F6/'2018 Rate'!$AA6)*1000","v":-3.1093433281064748},{"$f":"('2018'!G6/'2018 Rate'!$AA6)*1000","v":3.0596244311010823E-2},{"$f":"('2018'!H6/'2018 Rate'!$AA6)*1000","v":27.268902742188395},{"$f":"('2018'!I6/'2018 Rate'!$AA6)*1000","v":29.563621065514209},{"$f":"('2018'!J6/'2018 Rate'!$AA6)*1000","v":-1.1856044670516692},{"$f":"('2018'!K6/'2018 Rate'!$AA6)*1000","v":20.270011856044672},{"$f":"('2018'!L6/'2018 Rate'!$AA6)*1000","v":21.45561632309634},{"$f":"('2018'!M6/'2018 Rate'!$AA6)*1000","v":-0.95613263471908816},{"$f":"('2018'!N6/'2018 Rate'!$AA6)*1000","v":4.7041725628179138},{"$f":"('2018'!O6/'2018 Rate'!$AA6)*1000","v":5.660305197537002},{"$f":"('2018'!P6/'2018 Rate'!$AA6)*1000","v":-0.15298122155505411},{"$f":"('2018'!Q6/'2018 Rate'!$AA6)*1000","v":2.2947183233258119},{"$f":"('2018'!R6/'2018 Rate'!$AA6)*1000","v":2.4476995448808658},{"$f":"('2018'!S6/'2018 Rate'!$AA6)*1000","v":3.8245305388763526},null,null,null,null,null,{"$f":"('2018'!Y6/'2018 Rate'!$AA6)*1000","v":0.72283627184763066},"Aberdeenshire",261470]
[5,"Angus",null,{"$f":"('2018'!D7/'2018 Rate'!$AA7)*1000","v":1.723543605653223},{"$f":"('2018'!E7/'2018 Rate'!$AA7)*1000","v":1.2495691140985867},{"$f":"('2018'!F7/'2018 Rate'!$AA7)*1000","v":-0.12064805239572561},{"$f":"('2018'!G7/'2018 Rate'!$AA7)*1000","v":0.57738710789382963},{"$f":"('2018'!H7/'2018 Rate'!$AA7)*1000","v":33.522923129955188},{"$f":"('2018'!I7/'2018 Rate'!$AA7)*1000","v":31.799379524301965},{"$f":"('2018'!J7/'2018 Rate'!$AA7)*1000","v":1.8097207859358841},{"$f":"('2018'!K7/'2018 Rate'!$AA7)*1000","v":26.284039986211653},{"$f":"('2018'!L7/'2018 Rate'!$AA7)*1000","v":24.474319200275765},{"$f":"('2018'!M7/'2018 Rate'!$AA7)*1000","v":0.3447087211306446},{"$f":"('2018'!N7/'2018 Rate'!$AA7)*1000","v":5.3429851775249908},{"$f":"('2018'!O7/'2018 Rate'!$AA7)*1000","v":5.0844536366770079},{"$f":"('2018'!P7/'2018 Rate'!$AA7)*1000","v":-0.43088590141330574},{"$f":"('2018'!Q7/'2018 Rate'!$AA7)*1000","v":1.8958979662185453},{"$f":"('2018'!R7/'2018 Rate'!$AA7)*1000","v":2.3267838676318511},{"$f":"('2018'!S7/'2018 Rate'!$AA7)*1000","v":9.3933126508100653},null,null,null,null,null,{"$f":"('2018'!Y7/'2018 Rate'!$AA7)*1000","v":0.18097207859358844},"Angus",116040]
[6,"Argyll and Bute",null,{"$f":"('2018'!D8/'2018 Rate'!$AA8)*1000","v":-0.92742870391838628},{"$f":"('2018'!E8/'2018 Rate'!$AA8)*1000","v":0.54486436355205192},{"$f":"('2018'!F8/'2018 Rate'!$AA8)*1000","v":3.4778576396939487E-2},{"$f":"('2018'!G8/'2018 Rate'!$AA8)*1000","v":-1.5186645026663577},{"$f":"('2018'!H8/'2018 Rate'!$AA8)*1000","v":47.878506839786695},{"$f":"('2018'!I8/'2018 Rate'!$AA8)*1000","v":48.805935543705075},{"$f":"('2018'!J8/'2018 Rate'!$AA8)*1000","v":-6.4920009274287036},{"$f":"('2018'!K8/'2018 Rate'!$AA8)*1000","v":25.388360769765821},{"$f":"('2018'!L8/'2018 Rate'!$AA8)*1000","v":31.880361697194527},{"$f":"('2018'!M8/'2018 Rate'!$AA8)*1000","v":7.0716438673776958},{"$f":"('2018'!N8/'2018 Rate'!$AA8)*1000","v":19.012288430326919},{"$f":"('2018'!O8/'2018 Rate'!$AA8)*1000","v":11.940644562949224},{"$f":"('2018'!P8/'2018 Rate'!$AA8)*1000","v":-1.5070716438673777},{"$f":"('2018'!Q8/'2018 Rate'!$AA8)*1000","v":3.4778576396939482},{"$f":"('2018'!R8/'2018 Rate'!$AA8)*1000","v":5.1008578715511241},{"$f":"('2018'!S8/'2018 Rate'!$AA8)*1000","v":5.1008578715511241},null,null,null,null,null,{"$f":"('2018'!Y8/'2018 Rate'!$AA8)*1000","v":0.32460004637143519},"Argyll & Bute",86260]
[7,"City of Edinburgh",null,{"$f":"('2018'!D9/'2018 Rate'!$AA9)*1000","v":8.9103182256509168},{"$f":"('2018'!E9/'2018 Rate'!$AA9)*1000","v":-0.72516875602700093},{"$f":"('2018'!F9/'2018 Rate'!$AA9)*1000","v":9.5930568948891022},{"$f":"('2018'!G9/'2018 Rate'!$AA9)*1000","v":4.4358727097396335E-2},{"$f":"('2018'!H9/'2018 Rate'!$AA9)*1000","v":59.247830279652845},{"$f":"('2018'!I9/'2018 Rate'!$AA9)*1000","v":50.337512054001927},{"$f":"('2018'!J9/'2018 Rate'!$AA9)*1000","v":-4.8023143683702987},{"$f":"('2018'!K9/'2018 Rate'!$AA9)*1000","v":22.237222757955639},{"$f":"('2018'!L9/'2018 Rate'!$AA9)*1000","v":27.039537126325943},{"$f":"('2018'!M9/'2018 Rate'!$AA9)*1000","v":5.4194792671166825},{"$f":"('2018'!N9/'2018 Rate'!$AA9)*1000","v":19.672131147540984},{"$f":"('2018'!O9/'2018 Rate'!$AA9)*1000","v":14.252651880424301},{"$f":"('2018'!P9/'2018 Rate'!$AA9)*1000","v":8.3124397299903556},{"$f":"('2018'!Q9/'2018 Rate'!$AA9)*1000","v":17.357762777242044},{"$f":"('2018'!R9/'2018 Rate'!$AA9)*1000","v":9.0453230472516886},{"$f":"('2018'!S9/'2018 Rate'!$AA9)*1000","v":19.286403085824492},null,null,null,null,null,{"$f":"('2018'!Y9/'2018 Rate'!$AA9)*1000","v":2.144648023143684},"City of Edinburgh",518500]
[8,"Clackmannanshire",null,{"$f":"('2018'!D10/'2018 Rate'!$AA10)*1000","v":-0.58365758754863817},{"$f":"('2018'!E10/'2018 Rate'!$AA10)*1000","v":-0.25291828793774318},{"$f":"('2018'!F10/'2018 Rate'!$AA10)*1000","v":-0.77821011673151752},{"$f":"('2018'!G10/'2018 Rate'!$AA10)*1000","v":0.42801556420233461},{"$f":"('2018'!H10/'2018 Rate'!$AA10)*1000","v":33.657587548638134},{"$f":"('2018'!I10/'2018 Rate'!$AA10)*1000","v":34.241245136186777},{"$f":"('2018'!J10/'2018 Rate'!$AA10)*1000","v":-1.1673151750972763},{"$f":"('2018'!K10/'2018 Rate'!$AA10)*1000","v":25.486381322957197},{"$f":"('2018'!L10/'2018 Rate'!$AA10)*1000","v":26.653696498054472},{"$f":"('2018'!M10/'2018 Rate'!$AA10)*1000","v":0.97276264591439687},{"$f":"('2018'!N10/'2018 Rate'!$AA10)*1000","v":6.2256809338521402},{"$f":"('2018'!O10/'2018 Rate'!$AA10)*1000","v":5.0583657587548645},{"$f":"('2018'!P10/'2018 Rate'!$AA10)*1000","v":-0.38910505836575876},{"$f":"('2018'!Q10/'2018 Rate'!$AA10)*1000","v":2.1400778210116735},{"$f":"('2018'!R10/'2018 Rate'!$AA10)*1000","v":2.7237354085603109},{"$f":"('2018'!S10/'2018 Rate'!$AA10)*1000","v":1.556420233463035},null,null,null,null,null,{"$f":"('2018'!Y10/'2018 Rate'!$AA10)*1000","v":0.48638132295719844},"Clackmannanshire",51400]
[9,"Dumfries and Galloway",null,{"$f":"('2018'!D11/'2018 Rate'!$AA11)*1000","v":2.5539350762820083},{"$f":"('2018'!E11/'2018 Rate'!$AA11)*1000","v":0.75945964110491293},{"$f":"('2018'!F11/'2018 Rate'!$AA11)*1000","v":1.223200483903488},{"$f":"('2018'!G11/'2018 Rate'!$AA11)*1000","v":0.59143759661267559},{"$f":"('2018'!H11/'2018 Rate'!$AA11)*1000","v":27.01794475435177},{"$f":"('2018'!I11/'2018 Rate'!$AA11)*1000","v":24.396800860272865},{"$f":"('2018'!J11/'2018 Rate'!$AA11)*1000","v":-1.545802809328584},{"$f":"('2018'!K11/'2018 Rate'!$AA11)*1000","v":11.022246118690772},{"$f":"('2018'!L11/'2018 Rate'!$AA11)*1000","v":12.568048928019357},{"$f":"('2018'!M11/'2018 Rate'!$AA11)*1000","v":5.3767054237515959},{"$f":"('2018'!N11/'2018 Rate'!$AA11)*1000","v":14.248269372941731},{"$f":"('2018'!O11/'2018 Rate'!$AA11)*1000","v":8.9387727669870287},{"$f":"('2018'!P11/'2018 Rate'!$AA11)*1000","v":-1.2097587203441091},{"$f":"('2018'!Q11/'2018 Rate'!$AA11)*1000","v":1.7474292627192689},{"$f":"('2018'!R11/'2018 Rate'!$AA11)*1000","v":2.957187983063378},{"$f":"('2018'!S11/'2018 Rate'!$AA11)*1000","v":1.7474292627192689},null,null,null,null,null,{"$f":"('2018'!Y11/'2018 Rate'!$AA11)*1000","v":0.19490557161099537},"Dumfries & Galloway",148790]
[10,"Dundee City",null,{"$f":"('2018'!D12/'2018 Rate'!$AA12)*1000","v":2.3529411764705879},{"$f":"('2018'!E12/'2018 Rate'!$AA12)*1000","v":-0.74621848739495789},{"$f":"('2018'!F12/'2018 Rate'!$AA12)*1000","v":3.3210084033613447},{"$f":"('2018'!G12/'2018 Rate'!$AA12)*1000","v":-0.2084033613445378},{"$f":"('2018'!H12/'2018 Rate'!$AA12)*1000","v":46.52100840336135},{"$f":"('2018'!I12/'2018 Rate'!$AA12)*1000","v":44.168067226890756},{"$f":"('2018'!J12/'2018 Rate'!$AA12)*1000","v":-3.0924369747899161},{"$f":"('2018'!K12/'2018 Rate'!$AA12)*1000","v":28.504201680672267},{"$f":"('2018'!L12/'2018 Rate'!$AA12)*1000","v":31.596638655462186},{"$f":"('2018'!M12/'2018 Rate'!$AA12)*1000","v":1.680672268907563},{"$f":"('2018'!N12/'2018 Rate'!$AA12)*1000","v":9.2100840336134464},{"$f":"('2018'!O12/'2018 Rate'!$AA12)*1000","v":7.5294117647058822},{"$f":"('2018'!P12/'2018 Rate'!$AA12)*1000","v":3.8319327731092439},{"$f":"('2018'!Q12/'2018 Rate'!$AA12)*1000","v":8.8739495798319332},{"$f":"('2018'!R12/'2018 Rate'!$AA12)*1000","v":5.0420168067226898},{"$f":"('2018'!S12/'2018 Rate'!$AA12)*1000","v":7.5966386554621845},null,null,null,null,null,{"$f":"('2018'!Y12/'2018 Rate'!$AA12)*1000","v":0.86050420168067232},"Dundee City",148750]
[11,"East Ayrshire",null,{"$f":"('2018'!D13/'2018 Rate'!$AA13)*1000","v":1.8877216021011161},{"$f":"('2018'!E13/'2018 Rate'!$AA13)*1000","v":0.29546946815495734},{"$f":"('2018'!F13/'2018 Rate'!$AA13)*1000","v":0.94386080105055803},{"$f":"('2018'!G13/'2018 Rate'!$AA13)*1000","v":0.64839133289560069},{"$f":"('2018'!H13/'2018 Rate'!$AA13)*1000","v":27.98752462245568},{"$f":"('2018'!I13/'2018 Rate'!$AA13)*1000","v":26.099803020354564},{"$f":"('2018'!J13/'2018 Rate'!$AA13)*1000","v":1.6414970453053186},{"$f":"('2018'!K13/'2018 Rate'!$AA13)*1000","v":22.078135259356532},{"$f":"('2018'!L13/'2018 Rate'!$AA13)*1000","v":20.354563361785946},{"$f":"('2018'!M13/'2018 Rate'!$AA13)*1000","v":1.0669730794484571},{"$f":"('2018'!N13/'2018 Rate'!$AA13)*1000","v":5.0065659881812214},{"$f":"('2018'!O13/'2018 Rate'!$AA13)*1000","v":3.9395929087327639},{"$f":"('2018'!P13/'2018 Rate'!$AA13)*1000","v":-0.8207485226526593},{"$f":"('2018'!Q13/'2018 Rate'!$AA13)*1000","v":0.90282337491792508},{"$f":"('2018'!R13/'2018 Rate'!$AA13)*1000","v":1.7235718975705845},{"$f":"('2018'!S13/'2018 Rate'!$AA13)*1000","v":0.73867367038739329},null,null,null,null,null,{"$f":"('2018'!Y13/'2018 Rate'!$AA13)*1000","v":0.21339461588969141},"East Ayrshire",121840]
[12,"East Dunbartonshire",null,{"$f":"('2018'!D14/'2018 Rate'!$AA14)*1000","v":3.4154897073756114},{"$f":"('2018'!E14/'2018 Rate'!$AA14)*1000","v":3.4616449736914983},{"$f":"('2018'!F14/'2018 Rate'!$AA14)*1000","v":9.2310532631773287E-2},{"$f":"('2018'!G14/'2018 Rate'!$AA14)*1000","v":-0.13846579894765992},{"$f":"('2018'!H14/'2018 Rate'!$AA14)*1000","v":36.739591987445763},{"$f":"('2018'!I14/'2018 Rate'!$AA14)*1000","v":33.324102280070157},{"$f":"('2018'!J14/'2018 Rate'!$AA14)*1000","v":4.5232160989568913},{"$f":"('2018'!K14/'2018 Rate'!$AA14)*1000","v":31.108649496907596},{"$f":"('2018'!L14/'2018 Rate'!$AA14)*1000","v":26.585433397950705},{"$f":"('2018'!M14/'2018 Rate'!$AA14)*1000","v":0.18462106526354657},{"$f":"('2018'!N14/'2018 Rate'!$AA14)*1000","v":4.6155266315886641},{"$f":"('2018'!O14/'2018 Rate'!$AA14)*1000","v":4.4309055663251176},{"$f":"('2018'!P14/'2018 Rate'!$AA14)*1000","v":-1.2923474568448259},{"$f":"('2018'!Q14/'2018 Rate'!$AA14)*1000","v":0.92310532631773279},{"$f":"('2018'!R14/'2018 Rate'!$AA14)*1000","v":2.2154527831625588},{"$f":"('2018'!S14/'2018 Rate'!$AA14)*1000","v":0.92310532631773279},null,null,null,null,null,{"$f":"('2018'!Y14/'2018 Rate'!$AA14)*1000","v":0.61848056863288103},"East Dunbartonshire",108330]
[13,"East Lothian",null,{"$f":"('2018'!D15/'2018 Rate'!$AA15)*1000","v":10.87059268361849},{"$f":"('2018'!E15/'2018 Rate'!$AA15)*1000","v":3.9606768125531713},{"$f":"('2018'!F15/'2018 Rate'!$AA15)*1000","v":5.7566877776727479},{"$f":"('2018'!G15/'2018 Rate'!$AA15)*1000","v":1.1626807826826731},{"$f":"('2018'!H15/'2018 Rate'!$AA15)*1000","v":42.537101805463656},{"$f":"('2018'!I15/'2018 Rate'!$AA15)*1000","v":31.66650912184517},{"$f":"('2018'!J15/'2018 Rate'!$AA15)*1000","v":8.2238396823896398},{"$f":"('2018'!K15/'2018 Rate'!$AA15)*1000","v":31.950089800548255},{"$f":"('2018'!L15/'2018 Rate'!$AA15)*1000","v":23.726250118158617},{"$f":"('2018'!M15/'2018 Rate'!$AA15)*1000","v":1.0397958219113337},{"$f":"('2018'!N15/'2018 Rate'!$AA15)*1000","v":6.6168825030721239},{"$f":"('2018'!O15/'2018 Rate'!$AA15)*1000","v":5.5770866811607904},{"$f":"('2018'!P15/'2018 Rate'!$AA15)*1000","v":1.6069571793175159},{"$f":"('2018'!Q15/'2018 Rate'!$AA15)*1000","v":3.9701295018432745},{"$f":"('2018'!R15/'2018 Rate'!$AA15)*1000","v":2.3631723225257586},{"$f":"('2018'!S15/'2018 Rate'!$AA15)*1000","v":4.7263446450515172},null,null,null,null,null,{"$f":"('2018'!Y15/'2018 Rate'!$AA15)*1000","v":0.42537101805463651},"East Lothian",105790]
[14,"East Renfrewshire",null,{"$f":"('2018'!D16/'2018 Rate'!$AA16)*1000","v":5.4639066932856988},{"$f":"('2018'!E16/'2018 Rate'!$AA16)*1000","v":6.36755280025218},{"$f":"('2018'!F16/'2018 Rate'!$AA16)*1000","v":-0.43080802773983401},{"$f":"('2018'!G16/'2018 Rate'!$AA16)*1000","v":-0.46233056635494379},{"$f":"('2018'!H16/'2018 Rate'!$AA16)*1000","v":39.823473783755382},{"$f":"('2018'!I16/'2018 Rate'!$AA16)*1000","v":34.359567090469689},{"$f":"('2018'!J16/'2018 Rate'!$AA16)*1000","v":6.6197331091730582},{"$f":"('2018'!K16/'2018 Rate'!$AA16)*1000","v":34.67479247662078},{"$f":"('2018'!L16/'2018 Rate'!$AA16)*1000","v":28.055059367447726},{"$f":"('2018'!M16/'2018 Rate'!$AA16)*1000","v":-0.31522538615109807},{"$f":"('2018'!N16/'2018 Rate'!$AA16)*1000","v":4.0979300199642745},{"$f":"('2018'!O16/'2018 Rate'!$AA16)*1000","v":4.4131554061153722},{"$f":"('2018'!P16/'2018 Rate'!$AA16)*1000","v":-0.8406010297362615},{"$f":"('2018'!Q16/'2018 Rate'!$AA16)*1000","v":1.0507512871703268},{"$f":"('2018'!R16/'2018 Rate'!$AA16)*1000","v":1.8913523169065882},{"$f":"('2018'!S16/'2018 Rate'!$AA16)*1000","v":1.2609015446043923},null,null,null,null,null,{"$f":"('2018'!Y16/'2018 Rate'!$AA16)*1000","v":0.6724808237890092},"East Renfrewshire",95170]
[15,"Falkirk",null,{"$f":"('2018'!D17/'2018 Rate'!$AA17)*1000","v":2.6818011725084197},{"$f":"('2018'!E17/'2018 Rate'!$AA17)*1000","v":-0.17462891355868779},{"$f":"('2018'!F17/'2018 Rate'!$AA17)*1000","v":2.3013596108269927},{"$f":"('2018'!G17/'2018 Rate'!$AA17)*1000","v":0.54259698141449419},{"$f":"('2018'!H17/'2018 Rate'!$AA17)*1000","v":26.755644255956092},{"$f":"('2018'!I17/'2018 Rate'!$AA17)*1000","v":24.073843083447674},{"$f":"('2018'!J17/'2018 Rate'!$AA17)*1000","v":2.0581264812273918},{"$f":"('2018'!K17/'2018 Rate'!$AA17)*1000","v":20.64363228140202},{"$f":"('2018'!L17/'2018 Rate'!$AA17)*1000","v":18.58550580017463},{"$f":"('2018'!M17/'2018 Rate'!$AA17)*1000","v":0.4989397530248223},{"$f":"('2018'!N17/'2018 Rate'!$AA17)*1000","v":4.053885493326681},{"$f":"('2018'!O17/'2018 Rate'!$AA17)*1000","v":3.5549457403018585},{"$f":"('2018'!P17/'2018 Rate'!$AA17)*1000","v":0.12473493825620557},{"$f":"('2018'!Q17/'2018 Rate'!$AA17)*1000","v":2.0581264812273918},{"$f":"('2018'!R17/'2018 Rate'!$AA17)*1000","v":1.9333915429711863},{"$f":"('2018'!S17/'2018 Rate'!$AA17)*1000","v":1.9957590120992892},null,null,null,null,null,{"$f":"('2018'!Y17/'2018 Rate'!$AA17)*1000","v":0.36173132094299615},"Falkirk",160340]
[16,"Fife",null,{"$f":"('2018'!D18/'2018 Rate'!$AA18)*1000","v":3.3341399801027127},{"$f":"('2018'!E18/'2018 Rate'!$AA18)*1000","v":0.90075555914065231},{"$f":"('2018'!F18/'2018 Rate'!$AA18)*1000","v":2.2478556640047325},{"$f":"('2018'!G18/'2018 Rate'!$AA18)*1000","v":0.19628404721572423},{"$f":"('2018'!H18/'2018 Rate'!$AA18)*1000","v":30.007259820924418},{"$f":"('2018'!I18/'2018 Rate'!$AA18)*1000","v":26.673119840821702},{"$f":"('2018'!J18/'2018 Rate'!$AA18)*1000","v":1.2099701540695331},{"$f":"('2018'!K18/'2018 Rate'!$AA18)*1000","v":17.63867602376919},{"$f":"('2018'!L18/'2018 Rate'!$AA18)*1000","v":16.455594095345649},{"$f":"('2018'!M18/'2018 Rate'!$AA18)*1000","v":1.42507595923745},{"$f":"('2018'!N18/'2018 Rate'!$AA18)*1000","v":8.1471323707348553},{"$f":"('2018'!O18/'2018 Rate'!$AA18)*1000","v":6.7220564114974053},{"$f":"('2018'!P18/'2018 Rate'!$AA18)*1000","v":0.72598209244171974},{"$f":"('2018'!Q18/'2018 Rate'!$AA18)*1000","v":4.2214514264203702},{"$f":"('2018'!R18/'2018 Rate'!$AA18)*1000","v":3.4954693339786509},{"$f":"('2018'!S18/'2018 Rate'!$AA18)*1000","v":4.8936570675701114},null,null,null,null,null,{"$f":"('2018'!Y18/'2018 Rate'!$AA18)*1000","v":0.43827807802963081},"Fife",371910]
[17,"Glasgow City",null,{"$f":"('2018'!D19/'2018 Rate'!$AA19)*1000","v":8.5566960936128087},{"$f":"('2018'!E19/'2018 Rate'!$AA19)*1000","v":-0.85088041378649759},{"$f":"('2018'!F19/'2018 Rate'!$AA19)*1000","v":9.632668699414122},{"$f":"('2018'!G19/'2018 Rate'!$AA19)*1000","v":-0.23147778611452563},{"$f":"('2018'!H19/'2018 Rate'!$AA19)*1000","v":54.405261729538161},{"$f":"('2018'!I19/'2018 Rate'!$AA19)*1000","v":45.848565635925354},{"$f":"('2018'!J19/'2018 Rate'!$AA19)*1000","v":-2.586165610382976},{"$f":"('2018'!K19/'2018 Rate'!$AA19)*1000","v":27.011063041777749},{"$f":"('2018'!L19/'2018 Rate'!$AA19)*1000","v":29.597228652160723},{"$f":"('2018'!M19/'2018 Rate'!$AA19)*1000","v":2.6819495218786416},{"$f":"('2018'!N19/'2018 Rate'!$AA19)*1000","v":11.478105394230615},{"$f":"('2018'!O19/'2018 Rate'!$AA19)*1000","v":8.7961558723519744},{"$f":"('2018'!P19/'2018 Rate'!$AA19)*1000","v":8.4768761673664201},{"$f":"('2018'!Q19/'2018 Rate'!$AA19)*1000","v":15.916093293529796},{"$f":"('2018'!R19/'2018 Rate'!$AA19)*1000","v":7.4551811114126529},{"$f":"('2018'!S19/'2018 Rate'!$AA19)*1000","v":15.804345396784852},null,null,null,null,null,{"$f":"('2018'!Y19/'2018 Rate'!$AA19)*1000","v":1.6027841190274739},"Glasgow City",626410]
[18,"Highland",null,{"$f":"('2018'!D20/'2018 Rate'!$AA20)*1000","v":4.1181964846735157},{"$f":"('2018'!E20/'2018 Rate'!$AA20)*1000","v":1.0741275367241232},{"$f":"('2018'!F20/'2018 Rate'!$AA20)*1000","v":3.2988027511250744},{"$f":"('2018'!G20/'2018 Rate'!$AA20)*1000","v":-0.26322492994820412},{"$f":"('2018'!H20/'2018 Rate'!$AA20)*1000","v":31.714358495372338},{"$f":"('2018'!I20/'2018 Rate'!$AA20)*1000","v":27.596162010698819},{"$f":"('2018'!J20/'2018 Rate'!$AA20)*1000","v":-0.25473380317568139},{"$f":"('2018'!K20/'2018 Rate'!$AA20)*1000","v":17.364354249808951},{"$f":"('2018'!L20/'2018 Rate'!$AA20)*1000","v":17.661543686847246},{"$f":"('2018'!M20/'2018 Rate'!$AA20)*1000","v":4.2455633862613569},{"$f":"('2018'!N20/'2018 Rate'!$AA20)*1000","v":11.165831705867369},{"$f":"('2018'!O20/'2018 Rate'!$AA20)*1000","v":6.920268319606012},{"$f":"('2018'!P20/'2018 Rate'!$AA20)*1000","v":0.1273669015878407},{"$f":"('2018'!Q20/'2018 Rate'!$AA20)*1000","v":3.1841725396960179},{"$f":"('2018'!R20/'2018 Rate'!$AA20)*1000","v":3.0568056381081772},{"$f":"('2018'!S20/'2018 Rate'!$AA20)*1000","v":6.0711556423537401},null,null,null,null,null,{"$f":"('2018'!Y20/'2018 Rate'!$AA20)*1000","v":0.42880190201239704},"Highland",235540]
[19,"Inverclyde",null,{"$f":"('2018'!D21/'2018 Rate'!$AA21)*1000","v":-2.3032629558541267},{"$f":"('2018'!E21/'2018 Rate'!$AA21)*1000","v":0.12795905310300704},{"$f":"('2018'!F21/'2018 Rate'!$AA21)*1000","v":-2.6871401151631478},{"$f":"('2018'!G21/'2018 Rate'!$AA21)*1000","v":0.28150991682661547},{"$f":"('2018'!H21/'2018 Rate'!$AA21)*1000","v":18.809980806142036},{"$f":"('2018'!I21/'2018 Rate'!$AA21)*1000","v":21.113243761996159},{"$f":"('2018'!J21/'2018 Rate'!$AA21)*1000","v":-2.5591810620601407},{"$f":"('2018'!K21/'2018 Rate'!$AA21)*1000","v":13.307741522712732},{"$f":"('2018'!L21/'2018 Rate'!$AA21)*1000","v":15.866922584772871},{"$f":"('2018'!M21/'2018 Rate'!$AA21)*1000","v":1.0236724248240563},{"$f":"('2018'!N21/'2018 Rate'!$AA21)*1000","v":4.4785668586052463},{"$f":"('2018'!O21/'2018 Rate'!$AA21)*1000","v":3.45489443378119},{"$f":"('2018'!P21/'2018 Rate'!$AA21)*1000","v":-0.76775431861804222},{"$f":"('2018'!Q21/'2018 Rate'!$AA21)*1000","v":1.0236724248240563},{"$f":"('2018'!R21/'2018 Rate'!$AA21)*1000","v":1.7914267434420985},{"$f":"('2018'!S21/'2018 Rate'!$AA21)*1000","v":0.89571337172104926},null,null,null,null,null,{"$f":"('2018'!Y21/'2018 Rate'!$AA21)*1000","v":0.21753039027511195},"Inverclyde",78150]
[20,"Midlothian",null,{"$f":"('2018'!D22/'2018 Rate'!$AA22)*1000","v":11.933435515655791},{"$f":"('2018'!E22/'2018 Rate'!$AA22)*1000","v":1.9816071819575214},{"$f":"('2018'!F22/'2018 Rate'!$AA22)*1000","v":9.4701116706809731},{"$f":"('2018'!G22/'2018 Rate'!$AA22)*1000","v":0.44887234508430041},{"$f":"('2018'!H22/'2018 Rate'!$AA22)*1000","v":41.493321655353625},{"$f":"('2018'!I22/'2018 Rate'!$AA22)*1000","v":29.559886139697834},{"$f":"('2018'!J22/'2018 Rate'!$AA22)*1000","v":11.495511276549157},{"$f":"('2018'!K22/'2018 Rate'!$AA22)*1000","v":34.924458068754106},{"$f":"('2018'!L22/'2018 Rate'!$AA22)*1000","v":23.42894679220495},{"$f":"('2018'!M22/'2018 Rate'!$AA22)*1000","v":-0.10948105977665865},{"$f":"('2018'!N22/'2018 Rate'!$AA22)*1000","v":4.4887234508430041},{"$f":"('2018'!O22/'2018 Rate'!$AA22)*1000","v":4.4887234508430041},{"$f":"('2018'!P22/'2018 Rate'!$AA22)*1000","v":0.43792423910663458},{"$f":"('2018'!Q22/'2018 Rate'!$AA22)*1000","v":2.0801401357565141},{"$f":"('2018'!R22/'2018 Rate'!$AA22)*1000","v":1.6422158966498797},{"$f":"('2018'!S22/'2018 Rate'!$AA22)*1000","v":2.9559886139697831},null,null,null,null,null,{"$f":"('2018'!Y22/'2018 Rate'!$AA22)*1000","v":0.59119772279395666},"Midlothian",91340]
[21,"Moray",null,{"$f":"('2018'!D23/'2018 Rate'!$AA23)*1000","v":0.52345058626465657},{"$f":"('2018'!E23/'2018 Rate'!$AA23)*1000","v":-1.0469011725293133E-2},{"$f":"('2018'!F23/'2018 Rate'!$AA23)*1000","v":0.16750418760469013},{"$f":"('2018'!G23/'2018 Rate'!$AA23)*1000","v":0.37688442211055273},{"$f":"('2018'!H23/'2018 Rate'!$AA23)*1000","v":32.139865996649917},{"$f":"('2018'!I23/'2018 Rate'!$AA23)*1000","v":31.616415410385262},{"$f":"('2018'!J23/'2018 Rate'!$AA23)*1000","v":-0.41876046901172531},{"$f":"('2018'!K23/'2018 Rate'!$AA23)*1000","v":18.21608040201005},{"$f":"('2018'!L23/'2018 Rate'!$AA23)*1000","v":18.634840871021776},{"$f":"('2018'!M23/'2018 Rate'!$AA23)*1000","v":2.1984924623115578},{"$f":"('2018'!N23/'2018 Rate'!$AA23)*1000","v":11.725293132328307},{"$f":"('2018'!O23/'2018 Rate'!$AA23)*1000","v":9.5268006700167511},{"$f":"('2018'!P23/'2018 Rate'!$AA23)*1000","v":-1.256281407035176},{"$f":"('2018'!Q23/'2018 Rate'!$AA23)*1000","v":2.3031825795644894},{"$f":"('2018'!R23/'2018 Rate'!$AA23)*1000","v":3.5594639865996651},{"$f":"('2018'!S23/'2018 Rate'!$AA23)*1000","v":2.4078726968174204},null,null,null,null,null,{"$f":"('2018'!Y23/'2018 Rate'!$AA23)*1000","v":0.314070351758794},"Moray",95520]
[22,"Na h-Eileanan Siar",null,{"$f":"('2018'!D24/'2018 Rate'!$AA24)*1000","v":0.74543421543048827},{"$f":"('2018'!E24/'2018 Rate'!$AA24)*1000","v":0.33544539694371972},{"$f":"('2018'!F24/'2018 Rate'!$AA24)*1000","v":0.59634737234439061},{"$f":"('2018'!G24/'2018 Rate'!$AA24)*1000","v":-0.22363026462914648},{"$f":"('2018'!H24/'2018 Rate'!$AA24)*1000","v":32.053671263510999},{"$f":"('2018'!I24/'2018 Rate'!$AA24)*1000","v":31.308237048080507},{"$f":"('2018'!J24/'2018 Rate'!$AA24)*1000","v":-2.9817368617219531},{"$f":"('2018'!K24/'2018 Rate'!$AA24)*1000","v":20.12672381662318},{"$f":"('2018'!L24/'2018 Rate'!$AA24)*1000","v":23.108460678345136},{"$f":"('2018'!M24/'2018 Rate'!$AA24)*1000","v":4.4726052925829292},{"$f":"('2018'!N24/'2018 Rate'!$AA24)*1000","v":10.06336190831159},{"$f":"('2018'!O24/'2018 Rate'!$AA24)*1000","v":5.5907566157286626},{"$f":"('2018'!P24/'2018 Rate'!$AA24)*1000","v":-0.74543421543048827},{"$f":"('2018'!Q24/'2018 Rate'!$AA24)*1000","v":1.8635855385762206},{"$f":"('2018'!R24/'2018 Rate'!$AA24)*1000","v":2.6090197540067086},{"$f":"('2018'!S24/'2018 Rate'!$AA24)*1000","v":2.2363026462914646},null,null,null,null,null,{"$f":"('2018'!Y24/'2018 Rate'!$AA24)*1000","v":0.37271710771524413},"Na h-Eileanan Siar",26830]
[23,"North Ayrshire",null,{"$f":"('2018'!D25/'2018 Rate'!$AA25)*1000","v":0.36960378474275579},{"$f":"('2018'!E25/'2018 Rate'!$AA25)*1000","v":0.61354228267297461},{"$f":"('2018'!F25/'2018 Rate'!$AA25)*1000","v":-0.45830869308101718},{"$f":"('2018'!G25/'2018 Rate'!$AA25)*1000","v":0.2439384979302188},{"$f":"('2018'!H25/'2018 Rate'!$AA25)*1000","v":26.463630987581315},{"$f":"('2018'!I25/'2018 Rate'!$AA25)*1000","v":26.094027202838557},{"$f":"('2018'!J25/'2018 Rate'!$AA25)*1000","v":-0.36960378474275579},{"$f":"('2018'!K25/'2018 Rate'!$AA25)*1000","v":19.662921348314605},{"$f":"('2018'!L25/'2018 Rate'!$AA25)*1000","v":20.032525133057362},{"$f":"('2018'!M25/'2018 Rate'!$AA25)*1000","v":1.6262566528681255},{"$f":"('2018'!N25/'2018 Rate'!$AA25)*1000","v":5.6179775280898872},{"$f":"('2018'!O25/'2018 Rate'!$AA25)*1000","v":4.0656416321703137},{"$f":"('2018'!P25/'2018 Rate'!$AA25)*1000","v":-0.81312832643406274},{"$f":"('2018'!Q25/'2018 Rate'!$AA25)*1000","v":1.1827321111768185},{"$f":"('2018'!R25/'2018 Rate'!$AA25)*1000","v":1.9958604376108811},{"$f":"('2018'!S25/'2018 Rate'!$AA25)*1000","v":0.8870490833826139},null,null,null,null,null,{"$f":"('2018'!Y25/'2018 Rate'!$AA25)*1000","v":0.12566528681253694},"North Ayrshire",135280]
[24,"North Lanarkshire",null,{"$f":"('2018'!D26/'2018 Rate'!$AA26)*1000","v":1.616791110588512},{"$f":"('2018'!E26/'2018 Rate'!$AA26)*1000","v":0.75842201187606562},{"$f":"('2018'!F26/'2018 Rate'!$AA26)*1000","v":0.95243694514668698},{"$f":"('2018'!G26/'2018 Rate'!$AA26)*1000","v":-9.7007466635310721E-2},{"$f":"('2018'!H26/'2018 Rate'!$AA26)*1000","v":22.958433770356869},{"$f":"('2018'!I26/'2018 Rate'!$AA26)*1000","v":21.341642659768358},{"$f":"('2018'!J26/'2018 Rate'!$AA26)*1000","v":1.4110176965136105},{"$f":"('2018'!K26/'2018 Rate'!$AA26)*1000","v":18.108060438591334},{"$f":"('2018'!L26/'2018 Rate'!$AA26)*1000","v":16.726438944088425},{"$f":"('2018'!M26/'2018 Rate'!$AA26)*1000","v":0.64671644423540475},{"$f":"('2018'!N26/'2018 Rate'!$AA26)*1000","v":3.4393556352519257},{"$f":"('2018'!O26/'2018 Rate'!$AA26)*1000","v":2.7632429890058203},{"$f":"('2018'!P26/'2018 Rate'!$AA26)*1000","v":-0.44094303016050329},{"$f":"('2018'!Q26/'2018 Rate'!$AA26)*1000","v":1.4110176965136105},{"$f":"('2018'!R26/'2018 Rate'!$AA26)*1000","v":1.8519607266741136},{"$f":"('2018'!S26/'2018 Rate'!$AA26)*1000","v":2.0283379387383147},null,null,null,null,null,{"$f":"('2018'!Y26/'2018 Rate'!$AA26)*1000","v":0.28220353930272207},"North Lanarkshire",340180]
[25,"Orkney Islands",null,{"$f":"('2018'!D27/'2018 Rate'!$AA27)*1000","v":11.266336187471834},{"$f":"('2018'!E27/'2018 Rate'!$AA27)*1000","v":1.9378098242451554},{"$f":"('2018'!F27/'2018 Rate'!$AA27)*1000","v":8.2920234339792707},{"$f":"('2018'!G27/'2018 Rate'!$AA27)*1000","v":1.1716989634970709},{"$f":"('2018'!H27/'2018 Rate'!$AA27)*1000","v":36.953582694907617},{"$f":"('2018'!I27/'2018 Rate'!$AA27)*1000","v":25.687246507435781},{"$f":"('2018'!J27/'2018 Rate'!$AA27)*1000","v":1.3519603424966202},{"$f":"('2018'!K27/'2018 Rate'!$AA27)*1000","v":18.026137899954936},{"$f":"('2018'!L27/'2018 Rate'!$AA27)*1000","v":16.674177557458314},{"$f":"('2018'!M27/'2018 Rate'!$AA27)*1000","v":10.365029292474087},{"$f":"('2018'!N27/'2018 Rate'!$AA27)*1000","v":17.124831004957187},{"$f":"('2018'!O27/'2018 Rate'!$AA27)*1000","v":6.309148264984227},{"$f":"('2018'!P27/'2018 Rate'!$AA27)*1000","v":-0.45065344749887337},{"$f":"('2018'!Q27/'2018 Rate'!$AA27)*1000","v":2.253267237494367},{"$f":"('2018'!R27/'2018 Rate'!$AA27)*1000","v":2.7039206849932405},{"$f":"('2018'!S27/'2018 Rate'!$AA27)*1000","v":2.253267237494367},null,null,null,null,null,{"$f":"('2018'!Y27/'2018 Rate'!$AA27)*1000","v":0.27039206849932401},"Orkney Islands",22190]
[26,"Perth and Kinross",null,{"$f":"('2018'!D28/'2018 Rate'!$AA28)*1000","v":4.3624826492167363},{"$f":"('2018'!E28/'2018 Rate'!$AA28)*1000","v":2.1151431026505385},{"$f":"('2018'!F28/'2018 Rate'!$AA28)*1000","v":1.784651992861392},{"$f":"('2018'!G28/'2018 Rate'!$AA28)*1000","v":0.44285808711745656},{"$f":"('2018'!H28/'2018 Rate'!$AA28)*1000","v":39.658933174697601},{"$f":"('2018'!I28/'2018 Rate'!$AA28)*1000","v":35.296450525480864},{"$f":"('2018'!J28/'2018 Rate'!$AA28)*1000","v":1.4541608830722454},{"$f":"('2018'!K28/'2018 Rate'!$AA28)*1000","v":27.166369224667857},{"$f":"('2018'!L28/'2018 Rate'!$AA28)*1000","v":25.712208341595609},{"$f":"('2018'!M28/'2018 Rate'!$AA28)*1000","v":1.9168484367770509},{"$f":"('2018'!N28/'2018 Rate'!$AA28)*1000","v":7.9978848568973504},{"$f":"('2018'!O28/'2018 Rate'!$AA28)*1000","v":6.0810364201202987},{"$f":"('2018'!P28/'2018 Rate'!$AA28)*1000","v":0.99147332936744015},{"$f":"('2018'!Q28/'2018 Rate'!$AA28)*1000","v":4.4946790931323948},{"$f":"('2018'!R28/'2018 Rate'!$AA28)*1000","v":3.5032057637649547},{"$f":"('2018'!S28/'2018 Rate'!$AA28)*1000","v":13.417939057439355},null,null,null,null,null,{"$f":"('2018'!Y28/'2018 Rate'!$AA28)*1000","v":0.41641879833432482},"Perth & Kinross",151290]
[27,"Renfrewshire",null,{"$f":"('2018'!D29/'2018 Rate'!$AA29)*1000","v":7.5369818324990154},{"$f":"('2018'!E29/'2018 Rate'!$AA29)*1000","v":1.2149164744923786},{"$f":"('2018'!F29/'2018 Rate'!$AA29)*1000","v":5.7089825074526122},{"$f":"('2018'!G29/'2018 Rate'!$AA29)*1000","v":0.61870746386185949},{"$f":"('2018'!H29/'2018 Rate'!$AA29)*1000","v":34.647617976264129},{"$f":"('2018'!I29/'2018 Rate'!$AA29)*1000","v":27.110636143765113},{"$f":"('2018'!J29/'2018 Rate'!$AA29)*1000","v":6.4683053040103493},{"$f":"('2018'!K29/'2018 Rate'!$AA29)*1000","v":27.110636143765113},{"$f":"('2018'!L29/'2018 Rate'!$AA29)*1000","v":20.642330839754766},{"$f":"('2018'!M29/'2018 Rate'!$AA29)*1000","v":5.6246133078350864E-2},{"$f":"('2018'!N29/'2018 Rate'!$AA29)*1000","v":3.9934754485629114},{"$f":"('2018'!O29/'2018 Rate'!$AA29)*1000","v":3.9372293154845606},{"$f":"('2018'!P29/'2018 Rate'!$AA29)*1000","v":1.0124303954103155},{"$f":"('2018'!Q29/'2018 Rate'!$AA29)*1000","v":3.5997525170144553},{"$f":"('2018'!R29/'2018 Rate'!$AA29)*1000","v":2.5310759885257887},{"$f":"('2018'!S29/'2018 Rate'!$AA29)*1000","v":3.7122447831711569},null,null,null,null,null,{"$f":"('2018'!Y29/'2018 Rate'!$AA29)*1000","v":0.47246751785814728},"Renfrewshire",177790]
[28,"Scottish Borders",null,{"$f":"('2018'!D30/'2018 Rate'!$AA30)*1000","v":5.8991931985772537},{"$f":"('2018'!E30/'2018 Rate'!$AA30)*1000","v":1.7177062548798474},{"$f":"('2018'!F30/'2018 Rate'!$AA30)*1000","v":3.9993059772707555},{"$f":"('2018'!G30/'2018 Rate'!$AA30)*1000","v":0.19953153465776005},{"$f":"('2018'!H30/'2018 Rate'!$AA30)*1000","v":39.299037043463173},{"$f":"('2018'!I30/'2018 Rate'!$AA30)*1000","v":33.399843844885915},{"$f":"('2018'!J30/'2018 Rate'!$AA30)*1000","v":3.3833608050663657},{"$f":"('2018'!K30/'2018 Rate'!$AA30)*1000","v":22.468985859286892},{"$f":"('2018'!L30/'2018 Rate'!$AA30)*1000","v":19.085625054220525},{"$f":"('2018'!M30/'2018 Rate'!$AA30)*1000","v":3.6436193285330094},{"$f":"('2018'!N30/'2018 Rate'!$AA30)*1000","v":14.661230155287585},{"$f":"('2018'!O30/'2018 Rate'!$AA30)*1000","v":11.017610826754577},{"$f":"('2018'!P30/'2018 Rate'!$AA30)*1000","v":-1.1277869350221219},{"$f":"('2018'!Q30/'2018 Rate'!$AA30)*1000","v":2.1688210288886962},{"$f":"('2018'!R30/'2018 Rate'!$AA30)*1000","v":3.2966079639108181},{"$f":"('2018'!S30/'2018 Rate'!$AA30)*1000","v":2.8628437581330788},null,null,null,null,null,{"$f":"('2018'!Y30/'2018 Rate'!$AA30)*1000","v":0.32098551227552702},"Scottish Borders",115270]
[29,"Shetland Islands",null,{"$f":"('2018'!D31/'2018 Rate'!$AA31)*1000","v":-3.4797738147020443},{"$f":"('2018'!E31/'2018 Rate'!$AA31)*1000","v":0.3044802087864289},{"$f":"('2018'!F31/'2018 Rate'!$AA31)*1000","v":-3.1317964332318398},{"$f":"('2018'!G31/'2018 Rate'!$AA31)*1000","v":-0.43497172683775553},{"$f":"('2018'!H31/'2018 Rate'!$AA31)*1000","v":25.228360156589822},{"$f":"('2018'!I31/'2018 Rate'!$AA31)*1000","v":28.27316224445411},{"$f":"('2018'!J31/'2018 Rate'!$AA31)*1000","v":-5.6546324488908217},{"$f":"('2018'!K31/'2018 Rate'!$AA31)*1000","v":13.049151805132665},{"$f":"('2018'!L31/'2018 Rate'!$AA31)*1000","v":19.138755980861244},{"$f":"('2018'!M31/'2018 Rate'!$AA31)*1000","v":3.044802087864289},{"$f":"('2018'!N31/'2018 Rate'!$AA31)*1000","v":9.5693779904306222},{"$f":"('2018'!O31/'2018 Rate'!$AA31)*1000","v":6.5245759025663324},{"$f":"('2018'!P31/'2018 Rate'!$AA31)*1000","v":-0.43497172683775553},{"$f":"('2018'!Q31/'2018 Rate'!$AA31)*1000","v":2.6098303610265332},{"$f":"('2018'!R31/'2018 Rate'!$AA31)*1000","v":3.044802087864289},{"$f":"('2018'!S31/'2018 Rate'!$AA31)*1000","v":3.9147455415398},null,null,null,null,null,{"$f":"('2018'!Y31/'2018 Rate'!$AA31)*1000","v":0.82644628099173556},"Shetland Islands",22990]
[30,"South Ayrshire",null,{"$f":"('2018'!D32/'2018 Rate'!$AA32)*1000","v":4.4424700133274095},{"$f":"('2018'!E32/'2018 Rate'!$AA32)*1000","v":0.81741448245224346},{"$f":"('2018'!F32/'2018 Rate'!$AA32)*1000","v":2.265659706796979},{"$f":"('2018'!G32/'2018 Rate'!$AA32)*1000","v":1.3149711239449133},{"$f":"('2018'!H32/'2018 Rate'!$AA32)*1000","v":32.874278098622831},{"$f":"('2018'!I32/'2018 Rate'!$AA32)*1000","v":28.520657485561973},{"$f":"('2018'!J32/'2018 Rate'!$AA32)*1000","v":2.4877832074633499},{"$f":"('2018'!K32/'2018 Rate'!$AA32)*1000","v":24.344735673034208},{"$f":"('2018'!L32/'2018 Rate'!$AA32)*1000","v":21.85695246557086},{"$f":"('2018'!M32/'2018 Rate'!$AA32)*1000","v":2.3100844069302533},{"$f":"('2018'!N32/'2018 Rate'!$AA32)*1000","v":6.7525544202576633},{"$f":"('2018'!O32/'2018 Rate'!$AA32)*1000","v":4.3536206130608619},{"$f":"('2018'!P32/'2018 Rate'!$AA32)*1000","v":-0.44424700133274098},{"$f":"('2018'!Q32/'2018 Rate'!$AA32)*1000","v":1.8658374055975122},{"$f":"('2018'!R32/'2018 Rate'!$AA32)*1000","v":2.3100844069302533},{"$f":"('2018'!S32/'2018 Rate'!$AA32)*1000","v":1.6881386050644158},null,null,null,null,null,{"$f":"('2018'!Y32/'2018 Rate'!$AA32)*1000","v":0.25766326077298979},"South Ayrshire",112550]
[31,"South Lanarkshire",null,{"$f":"('2018'!D33/'2018 Rate'!$AA33)*1000","v":4.0749796251018742},{"$f":"('2018'!E33/'2018 Rate'!$AA33)*1000","v":0.69901573569055231},{"$f":"('2018'!F33/'2018 Rate'!$AA33)*1000","v":2.9904081248824523},{"$f":"('2018'!G33/'2018 Rate'!$AA33)*1000","v":0.3824211648172528},{"$f":"('2018'!H33/'2018 Rate'!$AA33)*1000","v":29.183123315152656},{"$f":"('2018'!I33/'2018 Rate'!$AA33)*1000","v":25.108143690050781},{"$f":"('2018'!J33/'2018 Rate'!$AA33)*1000","v":4.1063256222180424},{"$f":"('2018'!K33/'2018 Rate'!$AA33)*1000","v":23.446805842893863},{"$f":"('2018'!L33/'2018 Rate'!$AA33)*1000","v":19.371826217791988},{"$f":"('2018'!M33/'2018 Rate'!$AA33)*1000","v":0.6582659394395336},{"$f":"('2018'!N33/'2018 Rate'!$AA33)*1000","v":4.3257476020312202},{"$f":"('2018'!O33/'2018 Rate'!$AA33)*1000","v":3.6674816625916868},{"$f":"('2018'!P33/'2018 Rate'!$AA33)*1000","v":-0.68961193655570185},{"$f":"('2018'!Q33/'2018 Rate'!$AA33)*1000","v":1.4105698702275717},{"$f":"('2018'!R33/'2018 Rate'!$AA33)*1000","v":2.0688358096671058},{"$f":"('2018'!S33/'2018 Rate'!$AA33)*1000","v":1.8494138298539275},null,null,null,null,null,{"$f":"('2018'!Y33/'2018 Rate'!$AA33)*1000","v":0.39495956366372015},"South Lanarkshire",319020]
[32,"Stirling",null,{"$f":"('2018'!D34/'2018 Rate'!$AA34)*1000","v":5.406551468249762},{"$f":"('2018'!E34/'2018 Rate'!$AA34)*1000","v":3.000106010813103},{"$f":"('2018'!F34/'2018 Rate'!$AA34)*1000","v":2.809286547227817},{"$f":"('2018'!G34/'2018 Rate'!$AA34)*1000","v":-0.45584649634262692},{"$f":"('2018'!H34/'2018 Rate'!$AA34)*1000","v":55.125622813526981},{"$f":"('2018'!I34/'2018 Rate'!$AA34)*1000","v":49.719071345277221},{"$f":"('2018'!J34/'2018 Rate'!$AA34)*1000","v":0},{"$f":"('2018'!K34/'2018 Rate'!$AA34)*1000","v":36.679741333616029},{"$f":"('2018'!L34/'2018 Rate'!$AA34)*1000","v":36.573730520513088},{"$f":"('2018'!M34/'2018 Rate'!$AA34)*1000","v":3.604367645499841},{"$f":"('2018'!N34/'2018 Rate'!$AA34)*1000","v":11.767200254425951},{"$f":"('2018'!O34/'2018 Rate'!$AA34)*1000","v":8.1628326089261112},{"$f":"('2018'!P34/'2018 Rate'!$AA34)*1000","v":1.696173009646984},{"$f":"('2018'!Q34/'2018 Rate'!$AA34)*1000","v":6.6786812254849997},{"$f":"('2018'!R34/'2018 Rate'!$AA34)*1000","v":4.9825082158380152},{"$f":"('2018'!S34/'2018 Rate'!$AA34)*1000","v":7.1027244778967455},null,null,null,null,null,{"$f":"('2018'!Y34/'2018 Rate'!$AA34)*1000","v":0.59366055337644441},"Stirling",94330]
[33,"West Dunbartonshire",null,{"$f":"('2018'!D35/'2018 Rate'!$AA35)*1000","v":-2.3561090541905081},{"$f":"('2018'!E35/'2018 Rate'!$AA35)*1000","v":-0.69561314933243568},{"$f":"('2018'!F35/'2018 Rate'!$AA35)*1000","v":-1.2565914955682711},{"$f":"('2018'!G35/'2018 Rate'!$AA35)*1000","v":-0.42634354313923484},{"$f":"('2018'!H35/'2018 Rate'!$AA35)*1000","v":26.926960619320095},{"$f":"('2018'!I35/'2018 Rate'!$AA35)*1000","v":29.283069673510603},{"$f":"('2018'!J35/'2018 Rate'!$AA35)*1000","v":-1.6829350387075059},{"$f":"('2018'!K35/'2018 Rate'!$AA35)*1000","v":22.214742510939079},{"$f":"('2018'!L35/'2018 Rate'!$AA35)*1000","v":23.897677549646584},{"$f":"('2018'!M35/'2018 Rate'!$AA35)*1000","v":0},{"$f":"('2018'!N35/'2018 Rate'!$AA35)*1000","v":3.590261415909346},{"$f":"('2018'!O35/'2018 Rate'!$AA35)*1000","v":3.590261415909346},{"$f":"('2018'!P35/'2018 Rate'!$AA35)*1000","v":-0.67317401548300237},{"$f":"('2018'!Q35/'2018 Rate'!$AA35)*1000","v":1.1219566924716706},{"$f":"('2018'!R35/'2018 Rate'!$AA35)*1000","v":1.795130707954673},{"$f":"('2018'!S35/'2018 Rate'!$AA35)*1000","v":1.2341523617188377},null,null,null,null,null,{"$f":"('2018'!Y35/'2018 Rate'!$AA35)*1000","v":0.21317177156961742},"West Dunbartonshire",89130]
[34,"West Lothian",null,{"$f":"('2018'!D36/'2018 Rate'!$AA36)*1000","v":3.1843636762929615},{"$f":"('2018'!E36/'2018 Rate'!$AA36)*1000","v":1.2243329307126385},{"$f":"('2018'!F36/'2018 Rate'!$AA36)*1000","v":1.8776765125727461},{"$f":"('2018'!G36/'2018 Rate'!$AA36)*1000","v":8.7844515208081689E-2},{"$f":"('2018'!H36/'2018 Rate'!$AA36)*1000","v":28.988690018666958},{"$f":"('2018'!I36/'2018 Rate'!$AA36)*1000","v":25.804326342374001},{"$f":"('2018'!J36/'2018 Rate'!$AA36)*1000","v":1.2627649061161743},{"$f":"('2018'!K36/'2018 Rate'!$AA36)*1000","v":21.302294937959811},{"$f":"('2018'!L36/'2018 Rate'!$AA36)*1000","v":20.094432853848687},{"$f":"('2018'!M36/'2018 Rate'!$AA36)*1000","v":0.76863950807071479},{"$f":"('2018'!N36/'2018 Rate'!$AA36)*1000","v":4.611837048424289},{"$f":"('2018'!O36/'2018 Rate'!$AA36)*1000","v":3.8981003623586252},{"$f":"('2018'!P36/'2018 Rate'!$AA36)*1000","v":1.2078620841111234},{"$f":"('2018'!Q36/'2018 Rate'!$AA36)*1000","v":3.0745580322828592},{"$f":"('2018'!R36/'2018 Rate'!$AA36)*1000","v":1.866695948171736},{"$f":"('2018'!S36/'2018 Rate'!$AA36)*1000","v":3.6235862523333697},null,null,null,null,null,{"$f":"('2018'!Y36/'2018 Rate'!$AA36)*1000","v":0.69177555726364337},"West Lothian",182140]
[]
[35,"Not specified"]
[36,"Scotland",null,{"$f":"('2018'!D39/'2018 Rate'!$AA39)*1000","v":3.8432540777109652},{"$f":"('2018'!E39/'2018 Rate'!$AA39)*1000","v":0.60646181570769198},{"$f":"('2018'!F39/'2018 Rate'!$AA39)*1000","v":3.1349184457806953},{"$f":"('2018'!G39/'2018 Rate'!$AA39)*1000","v":0.10187381622257774},{"$f":"('2018'!H39/'2018 Rate'!$AA39)*1000","v":14.821353046100661},{"$f":"('2018'!I39/'2018 Rate'!$AA39)*1000","v":10.978098968389695},{"$f":"'Within Scotland net migration'!P41","v":"[z]"},{"$f":"'Within Scotland in-migration'!P41","v":"[z]"},{"$f":"'Within Scotland out-migration'!P41","v":"[z]"},{"$f":"('2018'!M39/'2018 Rate'!$AA39)*1000","v":1.8388775491440024},{"$f":"('2018'!N39/'2018 Rate'!$AA39)*1000","v":8.771445909416892},{"$f":"('2018'!O39/'2018 Rate'!$AA39)*1000","v":6.9325683602728896},{"$f":"('2018'!P39/'2018 Rate'!$AA39)*1000","v":2.0043765285669628},{"$f":"('2018'!Q39/'2018 Rate'!$AA39)*1000","v":6.0499071366837676},{"$f":"('2018'!R39/'2018 Rate'!$AA39)*1000","v":4.0455306081168052},null,null,null,null,null,null,null,"SCOTLAND",{"$f":"AA4","v":5438100}]
[37,"Ayrshire and Arran",null,{"$f":"('2018'!D40/'2018 Rate'!$AA40)*1000","v":2.1099899910731192},{"$f":"('2018'!E40/'2018 Rate'!$AA40)*1000","v":0.5707793437390104},{"$f":"('2018'!F40/'2018 Rate'!$AA40)*1000","v":0.83317553493656504},{"$f":"('2018'!G40/'2018 Rate'!$AA40)*1000","v":0.70332999702437304},{"$f":"('2018'!H40/'2018 Rate'!$AA40)*1000","v":21.830281061487273},{"$f":"('2018'!I40/'2018 Rate'!$AA40)*1000","v":19.720291070414156},{"$f":"('2018'!J40/'2018 Rate'!$AA40)*1000","v":1.1631996104633862},{"$f":"('2018'!K40/'2018 Rate'!$AA40)*1000","v":14.742878783780128},{"$f":"('2018'!L40/'2018 Rate'!$AA40)*1000","v":13.579679173316743},{"$f":"('2018'!M40/'2018 Rate'!$AA40)*1000","v":1.650120377634106},{"$f":"('2018'!N40/'2018 Rate'!$AA40)*1000","v":5.7618957448535175},{"$f":"('2018'!O40/'2018 Rate'!$AA40)*1000","v":4.1117753672194119},{"$f":"('2018'!P40/'2018 Rate'!$AA40)*1000","v":-0.70332999702437304},{"$f":"('2018'!Q40/'2018 Rate'!$AA40)*1000","v":1.2984553791219196},{"$f":"('2018'!R40/'2018 Rate'!$AA40)*1000","v":2.0017853761462927},null,null,null,null,null,null,null,"Ayrshire & Arran",369670]
[38,"Borders",null,{"$f":"('2018'!D41/'2018 Rate'!$AA41)*1000","v":5.8991931985772537},{"$f":"('2018'!E41/'2018 Rate'!$AA41)*1000","v":1.7177062548798474},{"$f":"('2018'!F41/'2018 Rate'!$AA41)*1000","v":3.9993059772707555},{"$f":"('2018'!G41/'2018 Rate'!$AA41)*1000","v":0.19953153465776005},{"$f":"('2018'!H41/'2018 Rate'!$AA41)*1000","v":39.299037043463173},{"$f":"('2018'!I41/'2018 Rate'!$AA41)*1000","v":33.399843844885915},{"$f":"('2018'!J41/'2018 Rate'!$AA41)*1000","v":3.3833608050663657},{"$f":"('2018'!K41/'2018 Rate'!$AA41)*1000","v":22.468985859286892},{"$f":"('2018'!L41/'2018 Rate'!$AA41)*1000","v":19.085625054220525},{"$f":"('2018'!M41/'2018 Rate'!$AA41)*1000","v":3.6436193285330094},{"$f":"('2018'!N41/'2018 Rate'!$AA41)*1000","v":14.661230155287585},{"$f":"('2018'!O41/'2018 Rate'!$AA41)*1000","v":11.017610826754577},{"$f":"('2018'!P41/'2018 Rate'!$AA41)*1000","v":-1.1277869350221219},{"$f":"('2018'!Q41/'2018 Rate'!$AA41)*1000","v":2.1688210288886962},{"$f":"('2018'!R41/'2018 Rate'!$AA41)*1000","v":3.2966079639108181},null,null,null,null,null,null,null,"Borders",115270]
[39,"Dumfries and Galloway",null,{"$f":"('2018'!D42/'2018 Rate'!$AA42)*1000","v":2.5539350762820083},{"$f":"('2018'!E42/'2018 Rate'!$AA42)*1000","v":0.75945964110491293},{"$f":"('2018'!F42/'2018 Rate'!$AA42)*1000","v":1.223200483903488},{"$f":"('2018'!G42/'2018 Rate'!$AA42)*1000","v":0.59143759661267559},{"$f":"('2018'!H42/'2018 Rate'!$AA42)*1000","v":27.01794475435177},{"$f":"('2018'!I42/'2018 Rate'!$AA42)*1000","v":24.396800860272865},{"$f":"('2018'!J42/'2018 Rate'!$AA42)*1000","v":-1.545802809328584},{"$f":"('2018'!K42/'2018 Rate'!$AA42)*1000","v":11.022246118690772},{"$f":"('2018'!L42/'2018 Rate'!$AA42)*1000","v":12.568048928019357},{"$f":"('2018'!M42/'2018 Rate'!$AA42)*1000","v":5.3767054237515959},{"$f":"('2018'!N42/'2018 Rate'!$AA42)*1000","v":14.248269372941731},{"$f":"('2018'!O42/'2018 Rate'!$AA42)*1000","v":8.9387727669870287},{"$f":"('2018'!P42/'2018 Rate'!$AA42)*1000","v":-1.2097587203441091},{"$f":"('2018'!Q42/'2018 Rate'!$AA42)*1000","v":1.7474292627192689},{"$f":"('2018'!R42/'2018 Rate'!$AA42)*1000","v":2.957187983063378},null,null,null,null,null,null,null,"Dumfries & Galloway",148790]
[40,"Fife",null,{"$f":"('2018'!D43/'2018 Rate'!$AA43)*1000","v":3.3341399801027127},{"$f":"('2018'!E43/'2018 Rate'!$AA43)*1000","v":0.90075555914065231},{"$f":"('2018'!F43/'2018 Rate'!$AA43)*1000","v":2.2478556640047325},{"$f":"('2018'!G43/'2018 Rate'!$AA43)*1000","v":0.19628404721572423},{"$f":"('2018'!H43/'2018 Rate'!$AA43)*1000","v":30.007259820924418},{"$f":"('2018'!I43/'2018 Rate'!$AA43)*1000","v":26.673119840821702},{"$f":"('2018'!J43/'2018 Rate'!$AA43)*1000","v":1.2099701540695331},{"$f":"('2018'!K43/'2018 Rate'!$AA43)*1000","v":17.63867602376919},{"$f":"('2018'!L43/'2018 Rate'!$AA43)*1000","v":16.455594095345649},{"$f":"('2018'!M43/'2018 Rate'!$AA43)*1000","v":1.42507595923745},{"$f":"('2018'!N43/'2018 Rate'!$AA43)*1000","v":8.1471323707348553},{"$f":"('2018'!O43/'2018 Rate'!$AA43)*1000","v":6.7220564114974053},{"$f":"('2018'!P43/'2018 Rate'!$AA43)*1000","v":0.72598209244171974},{"$f":"('2018'!Q43/'2018 Rate'!$AA43)*1000","v":4.2214514264203702},{"$f":"('2018'!R43/'2018 Rate'!$AA43)*1000","v":3.4954693339786509},null,null,null,null,null,null,null,"Fife",371910]
[41,"Forth Valley",null,{"$f":"('2018'!D44/'2018 Rate'!$AA44)*1000","v":2.9405038063188162},{"$f":"('2018'!E44/'2018 Rate'!$AA44)*1000","v":0.79066880125461492},{"$f":"('2018'!F44/'2018 Rate'!$AA44)*1000","v":1.9407325121704186},{"$f":"('2018'!G44/'2018 Rate'!$AA44)*1000","v":0.21563694579671316},{"$f":"('2018'!H44/'2018 Rate'!$AA44)*1000","v":31.267357140523409},{"$f":"('2018'!I44/'2018 Rate'!$AA44)*1000","v":28.294181069689941},{"$f":"('2018'!J44/'2018 Rate'!$AA44)*1000","v":0.88215114189564481},{"$f":"('2018'!K44/'2018 Rate'!$AA44)*1000","v":20.975593818407553},{"$f":"('2018'!L44/'2018 Rate'!$AA44)*1000","v":20.093442676511909},{"$f":"('2018'!M44/'2018 Rate'!$AA44)*1000","v":1.535596432188715},{"$f":"('2018'!N44/'2018 Rate'!$AA44)*1000","v":6.7958310190479301},{"$f":"('2018'!O44/'2018 Rate'!$AA44)*1000","v":5.2602345868592151},{"$f":"('2018'!P44/'2018 Rate'!$AA44)*1000","v":0.52275623223445611},{"$f":"('2018'!Q44/'2018 Rate'!$AA44)*1000","v":3.4959323030679257},{"$f":"('2018'!R44/'2018 Rate'!$AA44)*1000","v":2.9731760708334694},null,null,null,null,null,null,null,"Forth Valley",306070]
[42,"Grampian",null,{"$f":"('2018'!D45/'2018 Rate'!$AA45)*1000","v":-3.1990419981182106},{"$f":"('2018'!E45/'2018 Rate'!$AA45)*1000","v":-9.237875288683603E-2},{"$f":"('2018'!F45/'2018 Rate'!$AA45)*1000","v":-3.0023094688221712},{"$f":"('2018'!G45/'2018 Rate'!$AA45)*1000","v":-9.92216234710461E-2},{"$f":"('2018'!H45/'2018 Rate'!$AA45)*1000","v":24.651441279616797},{"$f":"('2018'!I45/'2018 Rate'!$AA45)*1000","v":27.833376101274485},{"$f":"('2018'!J45/'2018 Rate'!$AA45)*1000","v":-3.7635788213155417},{"$f":"('2018'!K45/'2018 Rate'!$AA45)*1000","v":11.085450346420323},{"$f":"('2018'!L45/'2018 Rate'!$AA45)*1000","v":14.849029167735864},{"$f":"('2018'!M45/'2018 Rate'!$AA45)*1000","v":-1.1803951757762381},{"$f":"('2018'!N45/'2018 Rate'!$AA45)*1000","v":7.0652638781969035},{"$f":"('2018'!O45/'2018 Rate'!$AA45)*1000","v":8.2285518775126167},{"$f":"('2018'!P45/'2018 Rate'!$AA45)*1000","v":1.7449319989735694},{"$f":"('2018'!Q45/'2018 Rate'!$AA45)*1000","v":6.5007270549995724},{"$f":"('2018'!R45/'2018 Rate'!$AA45)*1000","v":4.7557950560260025},null,null,null,null,null,null,null,"Grampian",584550]
[43,"Greater Glasgow and Clyde",null,{"$f":"('2018'!D46/'2018 Rate'!$AA46)*1000","v":6.1277638768319465},{"$f":"('2018'!E46/'2018 Rate'!$AA46)*1000","v":0.52085992953071547},{"$f":"('2018'!F46/'2018 Rate'!$AA46)*1000","v":5.6988204054537102},{"$f":"('2018'!G46/'2018 Rate'!$AA46)*1000","v":-9.3618614784932511E-2},{"$f":"('2018'!H46/'2018 Rate'!$AA46)*1000","v":32.987795536945306},{"$f":"('2018'!I46/'2018 Rate'!$AA46)*1000","v":26.860031660113364},{"$f":"('2018'!J46/'2018 Rate'!$AA46)*1000","v":0.24681271170573113},{"$f":"('2018'!K46/'2018 Rate'!$AA46)*1000","v":15.591754753272397},{"$f":"('2018'!L46/'2018 Rate'!$AA46)*1000","v":15.344942041566666},{"$f":"('2018'!M46/'2018 Rate'!$AA46)*1000","v":1.4893870533966536},{"$f":"('2018'!N46/'2018 Rate'!$AA46)*1000","v":8.0426900883419297},{"$f":"('2018'!O46/'2018 Rate'!$AA46)*1000","v":6.5447922517830088},{"$f":"('2018'!P46/'2018 Rate'!$AA46)*1000","v":4.3830533285672946},{"$f":"('2018'!Q46/'2018 Rate'!$AA46)*1000","v":9.3533506953309828},{"$f":"('2018'!R46/'2018 Rate'!$AA46)*1000","v":4.9617865836014232},null,null,null,null,null,null,null,"Greater Glasgow & Clyde",1174980]
[44,"Highland",null,{"$f":"('2018'!D47/'2018 Rate'!$AA47)*1000","v":2.7656929770043504},{"$f":"('2018'!E47/'2018 Rate'!$AA47)*1000","v":0.93225605966438785},{"$f":"('2018'!F47/'2018 Rate'!$AA47)*1000","v":2.4238657551274083},{"$f":"('2018'!G47/'2018 Rate'!$AA47)*1000","v":-0.59975139838408953},{"$f":"('2018'!H47/'2018 Rate'!$AA47)*1000","v":35.083903045369794},{"$f":"('2018'!I47/'2018 Rate'!$AA47)*1000","v":32.318210068365445},{"$f":"('2018'!J47/'2018 Rate'!$AA47)*1000","v":-1.9266625233064014},{"$f":"('2018'!K47/'2018 Rate'!$AA47)*1000","v":18.551895587321319},{"$f":"('2018'!L47/'2018 Rate'!$AA47)*1000","v":20.47855811062772},{"$f":"('2018'!M47/'2018 Rate'!$AA47)*1000","v":5.034182722187694},{"$f":"('2018'!N47/'2018 Rate'!$AA47)*1000","v":13.269111249223119},{"$f":"('2018'!O47/'2018 Rate'!$AA47)*1000","v":8.2660037290242396},{"$f":"('2018'!P47/'2018 Rate'!$AA47)*1000","v":-0.3418272218769422},{"$f":"('2018'!Q47/'2018 Rate'!$AA47)*1000","v":3.2628962088253575},{"$f":"('2018'!R47/'2018 Rate'!$AA47)*1000","v":3.5736482287134868},null,null,null,null,null,null,null,"Highland",321800]
[45,"Lanarkshire",null,{"$f":"('2018'!D48/'2018 Rate'!$AA48)*1000","v":2.8064320388349513},{"$f":"('2018'!E48/'2018 Rate'!$AA48)*1000","v":0.72967233009708732},{"$f":"('2018'!F48/'2018 Rate'!$AA48)*1000","v":1.9387135922330097},{"$f":"('2018'!G48/'2018 Rate'!$AA48)*1000","v":0.13501213592233008},{"$f":"('2018'!H48/'2018 Rate'!$AA48)*1000","v":22.299757281553397},{"$f":"('2018'!I48/'2018 Rate'!$AA48)*1000","v":19.508495145631066},{"$f":"('2018'!J48/'2018 Rate'!$AA48)*1000","v":2.700242718446602},{"$f":"('2018'!K48/'2018 Rate'!$AA48)*1000","v":17.035800970873787},{"$f":"('2018'!L48/'2018 Rate'!$AA48)*1000","v":14.335558252427186},{"$f":"('2018'!M48/'2018 Rate'!$AA48)*1000","v":0.66747572815533984},{"$f":"('2018'!N48/'2018 Rate'!$AA48)*1000","v":3.8683252427184467},{"$f":"('2018'!O48/'2018 Rate'!$AA48)*1000","v":3.2160194174757279},{"$f":"('2018'!P48/'2018 Rate'!$AA48)*1000","v":-0.56128640776699024},{"$f":"('2018'!Q48/'2018 Rate'!$AA48)*1000","v":1.4108009708737863},{"$f":"('2018'!R48/'2018 Rate'!$AA48)*1000","v":1.9720873786407767},null,null,null,null,null,null,null,"Lanarkshire",659200]
[46,"Lothian",null,{"$f":"('2018'!D49/'2018 Rate'!$AA49)*1000","v":8.2872005079251938},{"$f":"('2018'!E49/'2018 Rate'!$AA49)*1000","v":0.49790035309711839},{"$f":"('2018'!F49/'2018 Rate'!$AA49)*1000","v":7.5631843345177492},{"$f":"('2018'!G49/'2018 Rate'!$AA49)*1000","v":0.22611582031032448},{"$f":"('2018'!H49/'2018 Rate'!$AA49)*1000","v":39.453312095525575},{"$f":"('2018'!I49/'2018 Rate'!$AA49)*1000","v":31.166111587600387},{"$f":"('2018'!J49/'2018 Rate'!$AA49)*1000","v":-0.37871615224389321},{"$f":"('2018'!K49/'2018 Rate'!$AA49)*1000","v":14.591710571750003},{"$f":"('2018'!L49/'2018 Rate'!$AA49)*1000","v":14.970426723993896},{"$f":"('2018'!M49/'2018 Rate'!$AA49)*1000","v":3.3973066598349244},{"$f":"('2018'!N49/'2018 Rate'!$AA49)*1000","v":13.533533087539125},{"$f":"('2018'!O49/'2018 Rate'!$AA49)*1000","v":10.1362264277042},{"$f":"('2018'!P49/'2018 Rate'!$AA49)*1000","v":5.2686100003341618},{"$f":"('2018'!Q49/'2018 Rate'!$AA49)*1000","v":11.328068436236453},{"$f":"('2018'!R49/'2018 Rate'!$AA49)*1000","v":6.0594584359022914},null,null,null,null,null,null,null,"Lothian",897770]
[47,"Orkney",null,{"$f":"('2018'!D50/'2018 Rate'!$AA50)*1000","v":11.266336187471834},{"$f":"('2018'!E50/'2018 Rate'!$AA50)*1000","v":1.9378098242451554},{"$f":"('2018'!F50/'2018 Rate'!$AA50)*1000","v":8.2920234339792707},{"$f":"('2018'!G50/'2018 Rate'!$AA50)*1000","v":1.1716989634970709},{"$f":"('2018'!H50/'2018 Rate'!$AA50)*1000","v":36.953582694907617},{"$f":"('2018'!I50/'2018 Rate'!$AA50)*1000","v":25.687246507435781},{"$f":"('2018'!J50/'2018 Rate'!$AA50)*1000","v":1.3519603424966202},{"$f":"('2018'!K50/'2018 Rate'!$AA50)*1000","v":18.026137899954936},{"$f":"('2018'!L50/'2018 Rate'!$AA50)*1000","v":16.674177557458314},{"$f":"('2018'!M50/'2018 Rate'!$AA50)*1000","v":10.365029292474087},{"$f":"('2018'!N50/'2018 Rate'!$AA50)*1000","v":17.124831004957187},{"$f":"('2018'!O50/'2018 Rate'!$AA50)*1000","v":6.309148264984227},{"$f":"('2018'!P50/'2018 Rate'!$AA50)*1000","v":-0.45065344749887337},{"$f":"('2018'!Q50/'2018 Rate'!$AA50)*1000","v":2.253267237494367},{"$f":"('2018'!R50/'2018 Rate'!$AA50)*1000","v":2.7039206849932405},null,null,null,null,null,null,null,"Orkney",22190]
[48,"Shetland",null,{"$f":"('2018'!D51/'2018 Rate'!$AA51)*1000","v":-3.4797738147020443},{"$f":"('2018'!E51/'2018 Rate'!$AA51)*1000","v":0.3044802087864289},{"$f":"('2018'!F51/'2018 Rate'!$AA51)*1000","v":-3.1317964332318398},{"$f":"('2018'!G51/'2018 Rate'!$AA51)*1000","v":-0.43497172683775553},{"$f":"('2018'!H51/'2018 Rate'!$AA51)*1000","v":25.228360156589822},{"$f":"('2018'!I51/'2018 Rate'!$AA51)*1000","v":28.27316224445411},{"$f":"('2018'!J51/'2018 Rate'!$AA51)*1000","v":-5.6546324488908217},{"$f":"('2018'!K51/'2018 Rate'!$AA51)*1000","v":13.049151805132665},{"$f":"('2018'!L51/'2018 Rate'!$AA51)*1000","v":19.138755980861244},{"$f":"('2018'!M51/'2018 Rate'!$AA51)*1000","v":3.044802087864289},{"$f":"('2018'!N51/'2018 Rate'!$AA51)*1000","v":9.5693779904306222},{"$f":"('2018'!O51/'2018 Rate'!$AA51)*1000","v":6.5245759025663324},{"$f":"('2018'!P51/'2018 Rate'!$AA51)*1000","v":-0.43497172683775553},{"$f":"('2018'!Q51/'2018 Rate'!$AA51)*1000","v":2.6098303610265332},{"$f":"('2018'!R51/'2018 Rate'!$AA51)*1000","v":3.044802087864289},null,null,null,null,null,null,null,"Shetland",22990]
[49,"Tayside",null,{"$f":"('2018'!D52/'2018 Rate'!$AA52)*1000","v":2.9080945971928478},{"$f":"('2018'!E52/'2018 Rate'!$AA52)*1000","v":0.8507979234762546},{"$f":"('2018'!F52/'2018 Rate'!$AA52)*1000","v":1.8025379734666409},{"$f":"('2018'!G52/'2018 Rate'!$AA52)*1000","v":0.24754854835608536},{"$f":"('2018'!H52/'2018 Rate'!$AA52)*1000","v":32.037108248413766},{"$f":"('2018'!I52/'2018 Rate'!$AA52)*1000","v":29.153047490867142},{"$f":"('2018'!J52/'2018 Rate'!$AA52)*1000","v":-7.2101518938665649E-2},{"$f":"('2018'!K52/'2018 Rate'!$AA52)*1000","v":19.058834839453951},{"$f":"('2018'!L52/'2018 Rate'!$AA52)*1000","v":19.130936358392617},{"$f":"('2018'!M52/'2018 Rate'!$AA52)*1000","v":1.3699288598346471},{"$f":"('2018'!N52/'2018 Rate'!$AA52)*1000","v":7.6908286867910016},{"$f":"('2018'!O52/'2018 Rate'!$AA52)*1000","v":6.3208998269563548},{"$f":"('2018'!P52/'2018 Rate'!$AA52)*1000","v":1.6102672562968661},{"$f":"('2018'!Q52/'2018 Rate'!$AA52)*1000","v":5.3114785618150355},{"$f":"('2018'!R52/'2018 Rate'!$AA52)*1000","v":3.7012113055181697},null,null,null,null,null,null,null,"Tayside",416080]
[50,"Western Isles",null,{"$f":"('2018'!D53/'2018 Rate'!$AA53)*1000","v":0.74543421543048827},{"$f":"('2018'!E53/'2018 Rate'!$AA53)*1000","v":0.33544539694371972},{"$f":"('2018'!F53/'2018 Rate'!$AA53)*1000","v":0.59634737234439061},{"$f":"('2018'!G53/'2018 Rate'!$AA53)*1000","v":-0.22363026462914648},{"$f":"('2018'!H53/'2018 Rate'!$AA53)*1000","v":32.053671263510999},{"$f":"('2018'!I53/'2018 Rate'!$AA53)*1000","v":31.308237048080507},{"$f":"('2018'!J53/'2018 Rate'!$AA53)*1000","v":-2.9817368617219531},{"$f":"('2018'!K53/'2018 Rate'!$AA53)*1000","v":20.12672381662318},{"$f":"('2018'!L53/'2018 Rate'!$AA53)*1000","v":23.108460678345136},{"$f":"('2018'!M53/'2018 Rate'!$AA53)*1000","v":4.4726052925829292},{"$f":"('2018'!N53/'2018 Rate'!$AA53)*1000","v":10.06336190831159},{"$f":"('2018'!O53/'2018 Rate'!$AA53)*1000","v":5.5907566157286626},{"$f":"('2018'!P53/'2018 Rate'!$AA53)*1000","v":-0.74543421543048827},{"$f":"('2018'!Q53/'2018 Rate'!$AA53)*1000","v":1.8635855385762206},{"$f":"('2018'!R53/'2018 Rate'!$AA53)*1000","v":2.6090197540067086},null,null,null,null,null,null,null,"Western Isles",26830]

{"sheet":"2019","index":54,"n_rows":53,"n_cols":25,"rows_kept":53,"cut":false,"hidden":true,"merged":[]}
[null,2019]
[null,null,"Not specified ",{"$f":"'Comparing Indicators'!$U8","v":"Total net migration"},{"$f":"'Comparing Indicators'!$U9","v":"Total net migration for ages 0-15"},{"$f":"'Comparing Indicators'!$U10","v":"Total net migration for ages 16-64"},{"$f":"'Comparing Indicators'!$U11","v":"Total net migration for people aged 65+"},{"$f":"'Comparing Indicators'!$U12","v":"Total in-migration"},{"$f":"'Comparing Indicators'!$U13","v":"Total out-migration"},{"$f":"'Comparing Indicators'!$U14","v":"Within Scotland net migration"},{"$f":"'Comparing Indicators'!$U15","v":"Within Scotland in-migration"},{"$f":"'Comparing Indicators'!$U16","v":"Within Scotland out-migration"},{"$f":"'Comparing Indicators'!$U17","v":"Rest of UK net migration"},{"$f":"'Comparing Indicators'!$U18","v":"Rest of UK in-migration"},{"$f":"'Comparing Indicators'!$U19","v":"Rest of UK out-migration"},{"$f":"'Comparing Indicators'!$U20","v":"International net migration"},{"$f":"'Comparing Indicators'!$U21","v":"International in-migration"},{"$f":"'Comparing Indicators'!$U22","v":"International out-migration"},{"$f":"'Comparing Indicators'!$U23","v":"NINo Allocation"},{"$f":"'Comparing Indicators'!$U24","v":"Births to non-UK mothers"},{"$f":"'Comparing Indicators'!$U25","v":"Pupils from a minority ethnic group"},{"$f":"'Comparing Indicators'!$U26","v":"Pupils with English as an additional language"},{"$f":"'Comparing Indicators'!$U27","v":"Population born outside the UK"},{"$f":"'Comparing Indicators'!$U28","v":"Population with non-British nationality"},{"$f":"'Comparing Indicators'!$U29","v":"Citizenships"}]
[1,"Not specified"]
[2,"Scotland",null,{"$f":"'Total net migration'!Q6","v":30200},{"$f":"'Total net migration 0-15'!Q6","v":5145},{"$f":"'Total net migration 16-64'!Q6","v":24399},{"$f":"'Total net migration 65+'!Q6","v":702},{"$f":"'Total in-migration'!Q6","v":87400},{"$f":"'Total out-migration'!Q6","v":57100},{"$f":"'Within Scotland net migration'!Q6","v":"[z]"},{"$f":"'Within Scotland in-migration'!Q6","v":"[z]"},{"$f":"'Within Scotland out-migration'!Q6","v":"[z]"},{"$f":"'Rest of UK net migration'!Q6","v":10000},{"$f":"'Rest of UK in-migration'!Q6","v":47500},{"$f":"'Rest of UK out-migration'!Q6","v":37400},{"$f":"'International net migration'!Q6","v":20200},{"$f":"'International in-migration'!Q6","v":39900},{"$f":"'International out-migration'!Q6","v":19700},{"$f":"NINo!Q6","v":48190},{"$f":"'Births to non-UK mothers'!Q6","v":8746},{"$f":"'Pupils'' ethnic group (TS)'!R6","v":57859},{"$f":"'Pupils with English as an add.'!O6","v":46951},{"$f":"'Pop born outside UK'!Q6","v":502000},{"$f":"'Non-British Population'!Q6","v":388000},{"$f":"Citizenships!Q6","v":4460}]
[3,"Aberdeen City",null,{"$f":"'Total net migration'!Q7","v":810},{"$f":"'Total net migration 0-15'!Q7","v":-10},{"$f":"'Total net migration 16-64'!Q7","v":854},{"$f":"'Total net migration 65+'!Q7","v":-34},{"$f":"'Total in-migration'!Q7","v":11910},{"$f":"'Total out-migration'!Q7","v":11100},{"$f":"'Within Scotland net migration'!Q7","v":-910},{"$f":"'Within Scotland in-migration'!Q7","v":6280},{"$f":"'Within Scotland out-migration'!Q7","v":7190},{"$f":"'Rest of UK net migration'!Q7","v":-310},{"$f":"'Rest of UK in-migration'!Q7","v":2030},{"$f":"'Rest of UK out-migration'!Q7","v":2340},{"$f":"'International net migration'!Q7","v":2020},{"$f":"'International in-migration'!Q7","v":3590},{"$f":"'International out-migration'!Q7","v":1570},{"$f":"NINo!Q7","v":4020},{"$f":"'Births to non-UK mothers'!Q7","v":804},{"$f":"'Pupils'' ethnic group (TS)'!R7","v":3759},{"$f":"'Pupils with English as an add.'!O7","v":4461},{"$f":"'Pop born outside UK'!Q7","v":50000},{"$f":"'Non-British Population'!Q7","v":41000},{"$f":"Citizenships!Q7","v":557}]
[4,"Aberdeenshire",null,{"$f":"'Total net migration'!Q8","v":-380},{"$f":"'Total net migration 0-15'!Q8","v":301},{"$f":"'Total net migration 16-64'!Q8","v":-702},{"$f":"'Total net migration 65+'!Q8","v":18},{"$f":"'Total in-migration'!Q8","v":7250},{"$f":"'Total out-migration'!Q8","v":7630},{"$f":"'Within Scotland net migration'!Q8","v":-540},{"$f":"'Within Scotland in-migration'!Q8","v":5160},{"$f":"'Within Scotland out-migration'!Q8","v":5700},{"$f":"'Rest of UK net migration'!Q8","v":-50},{"$f":"'Rest of UK in-migration'!Q8","v":1330},{"$f":"'Rest of UK out-migration'!Q8","v":1380},{"$f":"'International net migration'!Q8","v":210},{"$f":"'International in-migration'!Q8","v":760},{"$f":"'International out-migration'!Q8","v":560},{"$f":"NINo!Q8","v":1100},{"$f":"'Births to non-UK mothers'!Q8","v":324},{"$f":"'Pupils'' ethnic group (TS)'!R8","v":1367},{"$f":"'Pupils with English as an add.'!O8","v":1768},{"$f":"'Pop born outside UK'!Q8","v":22000},{"$f":"'Non-British Population'!Q8","v":16000},{"$f":"Citizenships!Q8","v":200}]
[5,"Angus",null,{"$f":"'Total net migration'!Q9","v":490},{"$f":"'Total net migration 0-15'!Q9","v":160},{"$f":"'Total net migration 16-64'!Q9","v":197},{"$f":"'Total net migration 65+'!Q9","v":136},{"$f":"'Total in-migration'!Q9","v":4020},{"$f":"'Total out-migration'!Q9","v":3520},{"$f":"'Within Scotland net migration'!Q9","v":340},{"$f":"'Within Scotland in-migration'!Q9","v":3060},{"$f":"'Within Scotland out-migration'!Q9","v":2730},{"$f":"'Rest of UK net migration'!Q9","v":90},{"$f":"'Rest of UK in-migration'!Q9","v":640},{"$f":"'Rest of UK out-migration'!Q9","v":550},{"$f":"'International net migration'!Q9","v":70},{"$f":"'International in-migration'!Q9","v":310},{"$f":"'International out-migration'!Q9","v":250},{"$f":"NINo!Q9","v":1080},{"$f":"'Births to non-UK mothers'!Q9","v":95},{"$f":"'Pupils'' ethnic group (TS)'!R9","v":467},{"$f":"'Pupils with English as an add.'!O9","v":576},{"$f":"'Pop born outside UK'!Q9","v":7000},{"$f":"'Non-British Population'!Q9","v":5000},{"$f":"Citizenships!Q9","v":37}]
[6,"Argyll and Bute",null,{"$f":"'Total net migration'!Q10","v":-70},{"$f":"'Total net migration 0-15'!Q10","v":59},{"$f":"'Total net migration 16-64'!Q10","v":-48},{"$f":"'Total net migration 65+'!Q10","v":-77},{"$f":"'Total in-migration'!Q10","v":3940},{"$f":"'Total out-migration'!Q10","v":4000},{"$f":"'Within Scotland net migration'!Q10","v":-540},{"$f":"'Within Scotland in-migration'!Q10","v":2150},{"$f":"'Within Scotland out-migration'!Q10","v":2690},{"$f":"'Rest of UK net migration'!Q10","v":560},{"$f":"'Rest of UK in-migration'!Q10","v":1490},{"$f":"'Rest of UK out-migration'!Q10","v":930},{"$f":"'International net migration'!Q10","v":-80},{"$f":"'International in-migration'!Q10","v":290},{"$f":"'International out-migration'!Q10","v":380},{"$f":"NINo!Q10","v":520},{"$f":"'Births to non-UK mothers'!Q10","v":83},{"$f":"'Pupils'' ethnic group (TS)'!R10","v":348},{"$f":"'Pupils with English as an add.'!O10","v":209},{"$f":"'Pop born outside UK'!Q10","v":6000},{"$f":"'Non-British Population'!Q10","v":4000},{"$f":"Citizenships!Q10","v":29}]
[7,"City of Edinburgh",null,{"$f":"'Total net migration'!Q11","v":5910},{"$f":"'Total net migration 0-15'!Q11","v":-88},{"$f":"'Total net migration 16-64'!Q11","v":6064},{"$f":"'Total net migration 65+'!Q11","v":-70},{"$f":"'Total in-migration'!Q11","v":32520},{"$f":"'Total out-migration'!Q11","v":26620},{"$f":"'Within Scotland net migration'!Q11","v":-2830},{"$f":"'Within Scotland in-migration'!Q11","v":11700},{"$f":"'Within Scotland out-migration'!Q11","v":14530},{"$f":"'Rest of UK net migration'!Q11","v":2030},{"$f":"'Rest of UK in-migration'!Q11","v":9840},{"$f":"'Rest of UK out-migration'!Q11","v":7810},{"$f":"'International net migration'!Q11","v":6710},{"$f":"'International in-migration'!Q11","v":10990},{"$f":"'International out-migration'!Q11","v":4280},{"$f":"NINo!Q11","v":12470},{"$f":"'Births to non-UK mothers'!Q11","v":1674},{"$f":"'Pupils'' ethnic group (TS)'!R11","v":9396},{"$f":"'Pupils with English as an add.'!O11","v":7183},{"$f":"'Pop born outside UK'!Q11","v":103000},{"$f":"'Non-British Population'!Q11","v":84000},{"$f":"Citizenships!Q11","v":1102}]
[8,"Clackmannanshire",null,{"$f":"'Total net migration'!Q12","v":150},{"$f":"'Total net migration 0-15'!Q12","v":60},{"$f":"'Total net migration 16-64'!Q12","v":92},{"$f":"'Total net migration 65+'!Q12","v":0},{"$f":"'Total in-migration'!Q12","v":1730},{"$f":"'Total out-migration'!Q12","v":1580},{"$f":"'Within Scotland net migration'!Q12","v":50},{"$f":"'Within Scotland in-migration'!Q12","v":1360},{"$f":"'Within Scotland out-migration'!Q12","v":1310},{"$f":"'Rest of UK net migration'!Q12","v":60},{"$f":"'Rest of UK in-migration'!Q12","v":240},{"$f":"'Rest of UK out-migration'!Q12","v":180},{"$f":"'International net migration'!Q12","v":50},{"$f":"'International in-migration'!Q12","v":140},{"$f":"'International out-migration'!Q12","v":90},{"$f":"NINo!Q12","v":120},{"$f":"'Births to non-UK mothers'!Q12","v":33},{"$f":"'Pupils'' ethnic group (TS)'!R12","v":245},{"$f":"'Pupils with English as an add.'!O12","v":209},{"$f":"'Pop born outside UK'!Q12","v":3000},{"$f":"'Non-British Population'!Q12","v":2000},{"$f":"Citizenships!Q12","v":16}]
[9,"Dumfries and Galloway",null,{"$f":"'Total net migration'!Q13","v":730},{"$f":"'Total net migration 0-15'!Q13","v":190},{"$f":"'Total net migration 16-64'!Q13","v":462},{"$f":"'Total net migration 65+'!Q13","v":76},{"$f":"'Total in-migration'!Q13","v":4220},{"$f":"'Total out-migration'!Q13","v":3490},{"$f":"'Within Scotland net migration'!Q13","v":-60},{"$f":"'Within Scotland in-migration'!Q13","v":1710},{"$f":"'Within Scotland out-migration'!Q13","v":1770},{"$f":"'Rest of UK net migration'!Q13","v":900},{"$f":"'Rest of UK in-migration'!Q13","v":2240},{"$f":"'Rest of UK out-migration'!Q13","v":1340},{"$f":"'International net migration'!Q13","v":-110},{"$f":"'International in-migration'!Q13","v":270},{"$f":"'International out-migration'!Q13","v":380},{"$f":"NINo!Q13","v":280},{"$f":"'Births to non-UK mothers'!Q13","v":80},{"$f":"'Pupils'' ethnic group (TS)'!R13","v":486},{"$f":"'Pupils with English as an add.'!O13","v":432},{"$f":"'Pop born outside UK'!Q13","v":6000},{"$f":"'Non-British Population'!Q13","v":3000},{"$f":"Citizenships!Q13","v":22}]
[10,"Dundee City",null,{"$f":"'Total net migration'!Q14","v":820},{"$f":"'Total net migration 0-15'!Q14","v":-49},{"$f":"'Total net migration 16-64'!Q14","v":921},{"$f":"'Total net migration 65+'!Q14","v":-48},{"$f":"'Total in-migration'!Q14","v":7320},{"$f":"'Total out-migration'!Q14","v":6500},{"$f":"'Within Scotland net migration'!Q14","v":-310},{"$f":"'Within Scotland in-migration'!Q14","v":4450},{"$f":"'Within Scotland out-migration'!Q14","v":4750},{"$f":"'Rest of UK net migration'!Q14","v":200},{"$f":"'Rest of UK in-migration'!Q14","v":1270},{"$f":"'Rest of UK out-migration'!Q14","v":1080},{"$f":"'International net migration'!Q14","v":930},{"$f":"'International in-migration'!Q14","v":1600},{"$f":"'International out-migration'!Q14","v":670},{"$f":"NINo!Q14","v":1450},{"$f":"'Births to non-UK mothers'!Q14","v":258},{"$f":"'Pupils'' ethnic group (TS)'!R14","v":2015},{"$f":"'Pupils with English as an add.'!O14","v":1300},{"$f":"'Pop born outside UK'!Q14","v":16000},{"$f":"'Non-British Population'!Q14","v":12000},{"$f":"Citizenships!Q14","v":117}]
[11,"East Ayrshire",null,{"$f":"'Total net migration'!Q15","v":430},{"$f":"'Total net migration 0-15'!Q15","v":29},{"$f":"'Total net migration 16-64'!Q15","v":352},{"$f":"'Total net migration 65+'!Q15","v":51},{"$f":"'Total in-migration'!Q15","v":3520},{"$f":"'Total out-migration'!Q15","v":3090},{"$f":"'Within Scotland net migration'!Q15","v":280},{"$f":"'Within Scotland in-migration'!Q15","v":2720},{"$f":"'Within Scotland out-migration'!Q15","v":2440},{"$f":"'Rest of UK net migration'!Q15","v":240},{"$f":"'Rest of UK in-migration'!Q15","v":690},{"$f":"'Rest of UK out-migration'!Q15","v":450},{"$f":"'International net migration'!Q15","v":-80},{"$f":"'International in-migration'!Q15","v":110},{"$f":"'International out-migration'!Q15","v":190},{"$f":"NINo!Q15","v":150},{"$f":"'Births to non-UK mothers'!Q15","v":69},{"$f":"'Pupils'' ethnic group (TS)'!R15","v":467},{"$f":"'Pupils with English as an add.'!O15","v":183},{"$f":"'Pop born outside UK'!Q15","v":5000},{"$f":"'Non-British Population'!Q15","v":3000},{"$f":"Citizenships!Q15","v":31}]
[12,"East Dunbartonshire",null,{"$f":"'Total net migration'!Q16","v":420},{"$f":"'Total net migration 0-15'!Q16","v":414},{"$f":"'Total net migration 16-64'!Q16","v":21},{"$f":"'Total net migration 65+'!Q16","v":-11},{"$f":"'Total in-migration'!Q16","v":3870},{"$f":"'Total out-migration'!Q16","v":3440},{"$f":"'Within Scotland net migration'!Q16","v":460},{"$f":"'Within Scotland in-migration'!Q16","v":3270},{"$f":"'Within Scotland out-migration'!Q16","v":2820},{"$f":"'Rest of UK net migration'!Q16","v":-10},{"$f":"'Rest of UK in-migration'!Q16","v":460},{"$f":"'Rest of UK out-migration'!Q16","v":470},{"$f":"'International net migration'!Q16","v":-20},{"$f":"'International in-migration'!Q16","v":130},{"$f":"'International out-migration'!Q16","v":150},{"$f":"NINo!Q16","v":140},{"$f":"'Births to non-UK mothers'!Q16","v":80},{"$f":"'Pupils'' ethnic group (TS)'!R16","v":1720},{"$f":"'Pupils with English as an add.'!O16","v":603},{"$f":"'Pop born outside UK'!Q16","v":6000},{"$f":"'Non-British Population'!Q16","v":4000},{"$f":"Citizenships!Q16","v":50}]
[13,"East Lothian",null,{"$f":"'Total net migration'!Q17","v":1270},{"$f":"'Total net migration 0-15'!Q17","v":360},{"$f":"'Total net migration 16-64'!Q17","v":760},{"$f":"'Total net migration 65+'!Q17","v":153},{"$f":"'Total in-migration'!Q17","v":4560},{"$f":"'Total out-migration'!Q17","v":3290},{"$f":"'Within Scotland net migration'!Q17","v":960},{"$f":"'Within Scotland in-migration'!Q17","v":3340},{"$f":"'Within Scotland out-migration'!Q17","v":2380},{"$f":"'Rest of UK net migration'!Q17","v":90},{"$f":"'Rest of UK in-migration'!Q17","v":740},{"$f":"'Rest of UK out-migration'!Q17","v":650},{"$f":"'International net migration'!Q17","v":220},{"$f":"'International in-migration'!Q17","v":480},{"$f":"'International out-migration'!Q17","v":260},{"$f":"NINo!Q17","v":640},{"$f":"'Births to non-UK mothers'!Q17","v":130},{"$f":"'Pupils'' ethnic group (TS)'!R17","v":521},{"$f":"'Pupils with English as an add.'!O17","v":404},{"$f":"'Pop born outside UK'!Q17","v":7000},{"$f":"'Non-British Population'!Q17","v":5000},{"$f":"Citizenships!Q17","v":54}]
[14,"East Renfrewshire",null,{"$f":"'Total net migration'!Q18","v":370},{"$f":"'Total net migration 0-15'!Q18","v":511},{"$f":"'Total net migration 16-64'!Q18","v":-97},{"$f":"'Total net migration 65+'!Q18","v":-43},{"$f":"'Total in-migration'!Q18","v":3580},{"$f":"'Total out-migration'!Q18","v":3210},{"$f":"'Within Scotland net migration'!Q18","v":350},{"$f":"'Within Scotland in-migration'!Q18","v":3060},{"$f":"'Within Scotland out-migration'!Q18","v":2710},{"$f":"'Rest of UK net migration'!Q18","v":0},{"$f":"'Rest of UK in-migration'!Q18","v":370},{"$f":"'Rest of UK out-migration'!Q18","v":370},{"$f":"'International net migration'!Q18","v":20},{"$f":"'International in-migration'!Q18","v":150},{"$f":"'International out-migration'!Q18","v":130},{"$f":"NINo!Q18","v":160},{"$f":"'Births to non-UK mothers'!Q18","v":110},{"$f":"'Pupils'' ethnic group (TS)'!R18","v":3516},{"$f":"'Pupils with English as an add.'!O18","v":1004},{"$f":"'Pop born outside UK'!Q18","v":7000},{"$f":"'Non-British Population'!Q18","v":3000},{"$f":"Citizenships!Q18","v":69}]
[15,"Falkirk",null,{"$f":"'Total net migration'!Q19","v":730},{"$f":"'Total net migration 0-15'!Q19","v":88},{"$f":"'Total net migration 16-64'!Q19","v":606},{"$f":"'Total net migration 65+'!Q19","v":36},{"$f":"'Total in-migration'!Q19","v":4490},{"$f":"'Total out-migration'!Q19","v":3760},{"$f":"'Within Scotland net migration'!Q19","v":560},{"$f":"'Within Scotland in-migration'!Q19","v":3550},{"$f":"'Within Scotland out-migration'!Q19","v":2990},{"$f":"'Rest of UK net migration'!Q19","v":130},{"$f":"'Rest of UK in-migration'!Q19","v":640},{"$f":"'Rest of UK out-migration'!Q19","v":520},{"$f":"'International net migration'!Q19","v":40},{"$f":"'International in-migration'!Q19","v":300},{"$f":"'International out-migration'!Q19","v":260},{"$f":"NINo!Q19","v":430},{"$f":"'Births to non-UK mothers'!Q19","v":192},{"$f":"'Pupils'' ethnic group (TS)'!R19","v":975},{"$f":"'Pupils with English as an add.'!O19","v":747},{"$f":"'Pop born outside UK'!Q19","v":9000},{"$f":"'Non-British Population'!Q19","v":7000},{"$f":"Citizenships!Q19","v":56}]
[16,"Fife",null,{"$f":"'Total net migration'!Q20","v":2300},{"$f":"'Total net migration 0-15'!Q20","v":487},{"$f":"'Total net migration 16-64'!Q20","v":1633},{"$f":"'Total net migration 65+'!Q20","v":183},{"$f":"'Total in-migration'!Q20","v":11860},{"$f":"'Total out-migration'!Q20","v":9560},{"$f":"'Within Scotland net migration'!Q20","v":1030},{"$f":"'Within Scotland in-migration'!Q20","v":6970},{"$f":"'Within Scotland out-migration'!Q20","v":5940},{"$f":"'Rest of UK net migration'!Q20","v":500},{"$f":"'Rest of UK in-migration'!Q20","v":2950},{"$f":"'Rest of UK out-migration'!Q20","v":2460},{"$f":"'International net migration'!Q20","v":780},{"$f":"'International in-migration'!Q20","v":1940},{"$f":"'International out-migration'!Q20","v":1170},{"$f":"NINo!Q20","v":2310},{"$f":"'Births to non-UK mothers'!Q20","v":438},{"$f":"'Pupils'' ethnic group (TS)'!R20","v":2276},{"$f":"'Pupils with English as an add.'!O20","v":1657},{"$f":"'Pop born outside UK'!Q20","v":26000},{"$f":"'Non-British Population'!Q20","v":18000},{"$f":"Citizenships!Q20","v":169}]
[17,"Glasgow City",null,{"$f":"'Total net migration'!Q21","v":6270},{"$f":"'Total net migration 0-15'!Q21","v":-563},{"$f":"'Total net migration 16-64'!Q21","v":6907},{"$f":"'Total net migration 65+'!Q21","v":-77},{"$f":"'Total in-migration'!Q21","v":35620},{"$f":"'Total out-migration'!Q21","v":29350},{"$f":"'Within Scotland net migration'!Q21","v":-3130},{"$f":"'Within Scotland in-migration'!Q21","v":16230},{"$f":"'Within Scotland out-migration'!Q21","v":19360},{"$f":"'Rest of UK net migration'!Q21","v":1410},{"$f":"'Rest of UK in-migration'!Q21","v":7080},{"$f":"'Rest of UK out-migration'!Q21","v":5670},{"$f":"'International net migration'!Q21","v":7990},{"$f":"'International in-migration'!Q21","v":12320},{"$f":"'International out-migration'!Q21","v":4330},{"$f":"NINo!Q21","v":13610},{"$f":"'Births to non-UK mothers'!Q21","v":2102},{"$f":"'Pupils'' ethnic group (TS)'!R21","v":16627},{"$f":"'Pupils with English as an add.'!O21","v":15681},{"$f":"'Pop born outside UK'!Q21","v":103000},{"$f":"'Non-British Population'!Q21","v":83000},{"$f":"Citizenships!Q21","v":1037}]
[18,"Highland",null,{"$f":"'Total net migration'!Q22","v":980},{"$f":"'Total net migration 0-15'!Q22","v":231},{"$f":"'Total net migration 16-64'!Q22","v":747},{"$f":"'Total net migration 65+'!Q22","v":2},{"$f":"'Total in-migration'!Q22","v":7430},{"$f":"'Total out-migration'!Q22","v":6450},{"$f":"'Within Scotland net migration'!Q22","v":-230},{"$f":"'Within Scotland in-migration'!Q22","v":3990},{"$f":"'Within Scotland out-migration'!Q22","v":4220},{"$f":"'Rest of UK net migration'!Q22","v":1030},{"$f":"'Rest of UK in-migration'!Q22","v":2630},{"$f":"'Rest of UK out-migration'!Q22","v":1590},{"$f":"'International net migration'!Q22","v":170},{"$f":"'International in-migration'!Q22","v":820},{"$f":"'International out-migration'!Q22","v":640},{"$f":"NINo!Q22","v":1450},{"$f":"'Births to non-UK mothers'!Q22","v":284},{"$f":"'Pupils'' ethnic group (TS)'!R22","v":1088},{"$f":"'Pupils with English as an add.'!O22","v":1412},{"$f":"'Pop born outside UK'!Q22","v":14000},{"$f":"'Non-British Population'!Q22","v":12000},{"$f":"Citizenships!Q22","v":107}]
[19,"Inverclyde",null,{"$f":"'Total net migration'!Q23","v":80},{"$f":"'Total net migration 0-15'!Q23","v":97},{"$f":"'Total net migration 16-64'!Q23","v":-49},{"$f":"'Total net migration 65+'!Q23","v":34},{"$f":"'Total in-migration'!Q23","v":1610},{"$f":"'Total out-migration'!Q23","v":1520},{"$f":"'Within Scotland net migration'!Q23","v":-30},{"$f":"'Within Scotland in-migration'!Q23","v":1160},{"$f":"'Within Scotland out-migration'!Q23","v":1190},{"$f":"'Rest of UK net migration'!Q23","v":60},{"$f":"'Rest of UK in-migration'!Q23","v":300},{"$f":"'Rest of UK out-migration'!Q23","v":240},{"$f":"'International net migration'!Q23","v":60},{"$f":"'International in-migration'!Q23","v":150},{"$f":"'International out-migration'!Q23","v":90},{"$f":"NINo!Q23","v":140},{"$f":"'Births to non-UK mothers'!Q23","v":31},{"$f":"'Pupils'' ethnic group (TS)'!R23","v":246},{"$f":"'Pupils with English as an add.'!O23","v":105},{"$f":"'Pop born outside UK'!Q23","v":2000},{"$f":"'Non-British Population'!Q23","v":1000},{"$f":"Citizenships!Q23","v":13}]
[20,"Midlothian",null,{"$f":"'Total net migration'!Q24","v":940},{"$f":"'Total net migration 0-15'!Q24","v":215},{"$f":"'Total net migration 16-64'!Q24","v":704},{"$f":"'Total net migration 65+'!Q24","v":21},{"$f":"'Total in-migration'!Q24","v":3770},{"$f":"'Total out-migration'!Q24","v":2830},{"$f":"'Within Scotland net migration'!Q24","v":900},{"$f":"'Within Scotland in-migration'!Q24","v":3140},{"$f":"'Within Scotland out-migration'!Q24","v":2240},{"$f":"'Rest of UK net migration'!Q24","v":-40},{"$f":"'Rest of UK in-migration'!Q24","v":400},{"$f":"'Rest of UK out-migration'!Q24","v":440},{"$f":"'International net migration'!Q24","v":70},{"$f":"'International in-migration'!Q24","v":230},{"$f":"'International out-migration'!Q24","v":160},{"$f":"NINo!Q24","v":280},{"$f":"'Births to non-UK mothers'!Q24","v":180},{"$f":"'Pupils'' ethnic group (TS)'!R24","v":692},{"$f":"'Pupils with English as an add.'!O24","v":525},{"$f":"'Pop born outside UK'!Q24","v":8000},{"$f":"'Non-British Population'!Q24","v":6000},{"$f":"Citizenships!Q24","v":60}]
[21,"Moray",null,{"$f":"'Total net migration'!Q25","v":300},{"$f":"'Total net migration 0-15'!Q25","v":182},{"$f":"'Total net migration 16-64'!Q25","v":93},{"$f":"'Total net migration 65+'!Q25","v":23},{"$f":"'Total in-migration'!Q25","v":3180},{"$f":"'Total out-migration'!Q25","v":2880},{"$f":"'Within Scotland net migration'!Q25","v":-130},{"$f":"'Within Scotland in-migration'!Q25","v":1710},{"$f":"'Within Scotland out-migration'!Q25","v":1840},{"$f":"'Rest of UK net migration'!Q25","v":380},{"$f":"'Rest of UK in-migration'!Q25","v":1170},{"$f":"'Rest of UK out-migration'!Q25","v":790},{"$f":"'International net migration'!Q25","v":50},{"$f":"'International in-migration'!Q25","v":300},{"$f":"'International out-migration'!Q25","v":260},{"$f":"NINo!Q25","v":240},{"$f":"'Births to non-UK mothers'!Q25","v":81},{"$f":"'Pupils'' ethnic group (TS)'!R25","v":352},{"$f":"'Pupils with English as an add.'!O25","v":424},{"$f":"'Pop born outside UK'!Q25","v":5000},{"$f":"'Non-British Population'!Q25","v":3000},{"$f":"Citizenships!Q25","v":27}]
[22,"Na h-Eileanan Siar",null,{"$f":"'Total net migration'!Q26","v":50},{"$f":"'Total net migration 0-15'!Q26","v":25},{"$f":"'Total net migration 16-64'!Q26","v":29},{"$f":"'Total net migration 65+'!Q26","v":-4},{"$f":"'Total in-migration'!Q26","v":850},{"$f":"'Total out-migration'!Q26","v":800},{"$f":"'Within Scotland net migration'!Q26","v":-50},{"$f":"'Within Scotland in-migration'!Q26","v":550},{"$f":"'Within Scotland out-migration'!Q26","v":600},{"$f":"'Rest of UK net migration'!Q26","v":100},{"$f":"'Rest of UK in-migration'!Q26","v":250},{"$f":"'Rest of UK out-migration'!Q26","v":140},{"$f":"'International net migration'!Q26","v":-10},{"$f":"'International in-migration'!Q26","v":50},{"$f":"'International out-migration'!Q26","v":60},{"$f":"NINo!Q26","v":50},{"$f":"'Births to non-UK mothers'!Q26","v":10},{"$f":"'Pupils'' ethnic group (TS)'!R26","v":70},{"$f":"'Pupils with English as an add.'!O26","v":64},{"$f":"'Pop born outside UK'!Q26","v":"[low]"},{"$f":"'Non-British Population'!Q26","v":"[low]"},{"$f":"Citizenships!Q26","v":4}]
[23,"North Ayrshire",null,{"$f":"'Total net migration'!Q27","v":90},{"$f":"'Total net migration 0-15'!Q27","v":107},{"$f":"'Total net migration 16-64'!Q27","v":-28},{"$f":"'Total net migration 65+'!Q27","v":15},{"$f":"'Total in-migration'!Q27","v":3610},{"$f":"'Total out-migration'!Q27","v":3520},{"$f":"'Within Scotland net migration'!Q27","v":0},{"$f":"'Within Scotland in-migration'!Q27","v":2680},{"$f":"'Within Scotland out-migration'!Q27","v":2690},{"$f":"'Rest of UK net migration'!Q27","v":170},{"$f":"'Rest of UK in-migration'!Q27","v":750},{"$f":"'Rest of UK out-migration'!Q27","v":590},{"$f":"'International net migration'!Q27","v":-70},{"$f":"'International in-migration'!Q27","v":180},{"$f":"'International out-migration'!Q27","v":250},{"$f":"NINo!Q27","v":140},{"$f":"'Births to non-UK mothers'!Q27","v":57},{"$f":"'Pupils'' ethnic group (TS)'!R27","v":453},{"$f":"'Pupils with English as an add.'!O27","v":200},{"$f":"'Pop born outside UK'!Q27","v":3000},{"$f":"'Non-British Population'!Q27","v":2000},{"$f":"Citizenships!Q27","v":24}]
[24,"North Lanarkshire",null,{"$f":"'Total net migration'!Q28","v":1220},{"$f":"'Total net migration 0-15'!Q28","v":351},{"$f":"'Total net migration 16-64'!Q28","v":962},{"$f":"'Total net migration 65+'!Q28","v":-94},{"$f":"'Total in-migration'!Q28","v":8380},{"$f":"'Total out-migration'!Q28","v":7160},{"$f":"'Within Scotland net migration'!Q28","v":970},{"$f":"'Within Scotland in-migration'!Q28","v":6710},{"$f":"'Within Scotland out-migration'!Q28","v":5740},{"$f":"'Rest of UK net migration'!Q28","v":240},{"$f":"'Rest of UK in-migration'!Q28","v":1110},{"$f":"'Rest of UK out-migration'!Q28","v":870},{"$f":"'International net migration'!Q28","v":0},{"$f":"'International in-migration'!Q28","v":560},{"$f":"'International out-migration'!Q28","v":560},{"$f":"NINo!Q28","v":880},{"$f":"'Births to non-UK mothers'!Q28","v":298},{"$f":"'Pupils'' ethnic group (TS)'!R28","v":2432},{"$f":"'Pupils with English as an add.'!O28","v":1707},{"$f":"'Pop born outside UK'!Q28","v":16000},{"$f":"'Non-British Population'!Q28","v":13000},{"$f":"Citizenships!Q28","v":83}]
[25,"Orkney Islands",null,{"$f":"'Total net migration'!Q29","v":150},{"$f":"'Total net migration 0-15'!Q29","v":73},{"$f":"'Total net migration 16-64'!Q29","v":82},{"$f":"'Total net migration 65+'!Q29","v":-10},{"$f":"'Total in-migration'!Q29","v":810},{"$f":"'Total out-migration'!Q29","v":660},{"$f":"'Within Scotland net migration'!Q29","v":10},{"$f":"'Within Scotland in-migration'!Q29","v":430},{"$f":"'Within Scotland out-migration'!Q29","v":420},{"$f":"'Rest of UK net migration'!Q29","v":140},{"$f":"'Rest of UK in-migration'!Q29","v":320},{"$f":"'Rest of UK out-migration'!Q29","v":180},{"$f":"'International net migration'!Q29","v":0},{"$f":"'International in-migration'!Q29","v":60},{"$f":"'International out-migration'!Q29","v":60},{"$f":"NINo!Q29","v":50},{"$f":"'Births to non-UK mothers'!Q29","v":6},{"$f":"'Pupils'' ethnic group (TS)'!R29","v":60},{"$f":"'Pupils with English as an add.'!O29","v":19},{"$f":"'Pop born outside UK'!Q29","v":1000},{"$f":"'Non-British Population'!Q29","v":"[c]"},{"$f":"Citizenships!Q29","v":4}]
[26,"Perth and Kinross",null,{"$f":"'Total net migration'!Q30","v":1030},{"$f":"'Total net migration 0-15'!Q30","v":398},{"$f":"'Total net migration 16-64'!Q30","v":566},{"$f":"'Total net migration 65+'!Q30","v":69},{"$f":"'Total in-migration'!Q30","v":6370},{"$f":"'Total out-migration'!Q30","v":5340},{"$f":"'Within Scotland net migration'!Q30","v":250},{"$f":"'Within Scotland in-migration'!Q30","v":4230},{"$f":"'Within Scotland out-migration'!Q30","v":3980},{"$f":"'Rest of UK net migration'!Q30","v":470},{"$f":"'Rest of UK in-migration'!Q30","v":1380},{"$f":"'Rest of UK out-migration'!Q30","v":910},{"$f":"'International net migration'!Q30","v":310},{"$f":"'International in-migration'!Q30","v":770},{"$f":"'International out-migration'!Q30","v":460},{"$f":"NINo!Q30","v":2380},{"$f":"'Births to non-UK mothers'!Q30","v":221},{"$f":"'Pupils'' ethnic group (TS)'!R30","v":806},{"$f":"'Pupils with English as an add.'!O30","v":918},{"$f":"'Pop born outside UK'!Q30","v":14000},{"$f":"'Non-British Population'!Q30","v":11000},{"$f":"Citizenships!Q30","v":100}]
[27,"Renfrewshire",null,{"$f":"'Total net migration'!Q31","v":1520},{"$f":"'Total net migration 0-15'!Q31","v":197},{"$f":"'Total net migration 16-64'!Q31","v":1242},{"$f":"'Total net migration 65+'!Q31","v":78},{"$f":"'Total in-migration'!Q31","v":6200},{"$f":"'Total out-migration'!Q31","v":4690},{"$f":"'Within Scotland net migration'!Q31","v":1020},{"$f":"'Within Scotland in-migration'!Q31","v":4700},{"$f":"'Within Scotland out-migration'!Q31","v":3680},{"$f":"'Rest of UK net migration'!Q31","v":180},{"$f":"'Rest of UK in-migration'!Q31","v":780},{"$f":"'Rest of UK out-migration'!Q31","v":600},{"$f":"'International net migration'!Q31","v":320},{"$f":"'International in-migration'!Q31","v":730},{"$f":"'International out-migration'!Q31","v":410},{"$f":"NINo!Q31","v":830},{"$f":"'Births to non-UK mothers'!Q31","v":213},{"$f":"'Pupils'' ethnic group (TS)'!R31","v":1373},{"$f":"'Pupils with English as an add.'!O31","v":890},{"$f":"'Pop born outside UK'!Q31","v":10000},{"$f":"'Non-British Population'!Q31","v":7000},{"$f":"Citizenships!Q31","v":99}]
[28,"Scottish Borders",null,{"$f":"'Total net migration'!Q32","v":590},{"$f":"'Total net migration 0-15'!Q32","v":179},{"$f":"'Total net migration 16-64'!Q32","v":394},{"$f":"'Total net migration 65+'!Q32","v":13},{"$f":"'Total in-migration'!Q32","v":4260},{"$f":"'Total out-migration'!Q32","v":3680},{"$f":"'Within Scotland net migration'!Q32","v":200},{"$f":"'Within Scotland in-migration'!Q32","v":2370},{"$f":"'Within Scotland out-migration'!Q32","v":2170},{"$f":"'Rest of UK net migration'!Q32","v":430},{"$f":"'Rest of UK in-migration'!Q32","v":1610},{"$f":"'Rest of UK out-migration'!Q32","v":1180},{"$f":"'International net migration'!Q32","v":-50},{"$f":"'International in-migration'!Q32","v":290},{"$f":"'International out-migration'!Q32","v":330},{"$f":"NINo!Q32","v":350},{"$f":"'Births to non-UK mothers'!Q32","v":106},{"$f":"'Pupils'' ethnic group (TS)'!R32","v":402},{"$f":"'Pupils with English as an add.'!O32","v":502},{"$f":"'Pop born outside UK'!Q32","v":7000},{"$f":"'Non-British Population'!Q32","v":5000},{"$f":"Citizenships!Q32","v":23}]
[29,"Shetland Islands",null,{"$f":"'Total net migration'!Q33","v":-90},{"$f":"'Total net migration 0-15'!Q33","v":43},{"$f":"'Total net migration 16-64'!Q33","v":-125},{"$f":"'Total net migration 65+'!Q33","v":-6},{"$f":"'Total in-migration'!Q33","v":600},{"$f":"'Total out-migration'!Q33","v":690},{"$f":"'Within Scotland net migration'!Q33","v":-180},{"$f":"'Within Scotland in-migration'!Q33","v":300},{"$f":"'Within Scotland out-migration'!Q33","v":480},{"$f":"'Rest of UK net migration'!Q33","v":70},{"$f":"'Rest of UK in-migration'!Q33","v":220},{"$f":"'Rest of UK out-migration'!Q33","v":150},{"$f":"'International net migration'!Q33","v":20},{"$f":"'International in-migration'!Q33","v":80},{"$f":"'International out-migration'!Q33","v":60},{"$f":"NINo!Q33","v":70},{"$f":"'Births to non-UK mothers'!Q33","v":19},{"$f":"'Pupils'' ethnic group (TS)'!R33","v":95},{"$f":"'Pupils with English as an add.'!O33","v":39},{"$f":"'Pop born outside UK'!Q33","v":"[low]"},{"$f":"'Non-British Population'!Q33","v":"[low]"},{"$f":"Citizenships!Q33","v":23}]
[30,"South Ayrshire",null,{"$f":"'Total net migration'!Q34","v":560},{"$f":"'Total net migration 0-15'!Q34","v":161},{"$f":"'Total net migration 16-64'!Q34","v":288},{"$f":"'Total net migration 65+'!Q34","v":114},{"$f":"'Total in-migration'!Q34","v":3800},{"$f":"'Total out-migration'!Q34","v":3240},{"$f":"'Within Scotland net migration'!Q34","v":330},{"$f":"'Within Scotland in-migration'!Q34","v":2740},{"$f":"'Within Scotland out-migration'!Q34","v":2410},{"$f":"'Rest of UK net migration'!Q34","v":290},{"$f":"'Rest of UK in-migration'!Q34","v":850},{"$f":"'Rest of UK out-migration'!Q34","v":570},{"$f":"'International net migration'!Q34","v":-50},{"$f":"'International in-migration'!Q34","v":210},{"$f":"'International out-migration'!Q34","v":260},{"$f":"NINo!Q34","v":300},{"$f":"'Births to non-UK mothers'!Q34","v":52},{"$f":"'Pupils'' ethnic group (TS)'!R34","v":411},{"$f":"'Pupils with English as an add.'!O34","v":220},{"$f":"'Pop born outside UK'!Q34","v":5000},{"$f":"'Non-British Population'!Q34","v":4000},{"$f":"Citizenships!Q34","v":40}]
[31,"South Lanarkshire",null,{"$f":"'Total net migration'!Q35","v":1840},{"$f":"'Total net migration 0-15'!Q35","v":465},{"$f":"'Total net migration 16-64'!Q35","v":1262},{"$f":"'Total net migration 65+'!Q35","v":109},{"$f":"'Total in-migration'!Q35","v":9890},{"$f":"'Total out-migration'!Q35","v":8060},{"$f":"'Within Scotland net migration'!Q35","v":1420},{"$f":"'Within Scotland in-migration'!Q35","v":7810},{"$f":"'Within Scotland out-migration'!Q35","v":6390},{"$f":"'Rest of UK net migration'!Q35","v":410},{"$f":"'Rest of UK in-migration'!Q35","v":1500},{"$f":"'Rest of UK out-migration'!Q35","v":1100},{"$f":"'International net migration'!Q35","v":10},{"$f":"'International in-migration'!Q35","v":580},{"$f":"'International out-migration'!Q35","v":570},{"$f":"NINo!Q35","v":690},{"$f":"'Births to non-UK mothers'!Q35","v":260},{"$f":"'Pupils'' ethnic group (TS)'!R35","v":2311},{"$f":"'Pupils with English as an add.'!O35","v":962},{"$f":"'Pop born outside UK'!Q35","v":13000},{"$f":"'Non-British Population'!Q35","v":8000},{"$f":"Citizenships!Q35","v":104}]
[32,"Stirling",null,{"$f":"'Total net migration'!Q36","v":80},{"$f":"'Total net migration 0-15'!Q36","v":203},{"$f":"'Total net migration 16-64'!Q36","v":-132},{"$f":"'Total net migration 65+'!Q36","v":11},{"$f":"'Total in-migration'!Q36","v":5080},{"$f":"'Total out-migration'!Q36","v":4990},{"$f":"'Within Scotland net migration'!Q36","v":-400},{"$f":"'Within Scotland in-migration'!Q36","v":3270},{"$f":"'Within Scotland out-migration'!Q36","v":3680},{"$f":"'Rest of UK net migration'!Q36","v":190},{"$f":"'Rest of UK in-migration'!Q36","v":1030},{"$f":"'Rest of UK out-migration'!Q36","v":850},{"$f":"'International net migration'!Q36","v":300},{"$f":"'International in-migration'!Q36","v":770},{"$f":"'International out-migration'!Q36","v":470},{"$f":"NINo!Q36","v":910},{"$f":"'Births to non-UK mothers'!Q36","v":99},{"$f":"'Pupils'' ethnic group (TS)'!R36","v":569},{"$f":"'Pupils with English as an add.'!O36","v":341},{"$f":"'Pop born outside UK'!Q36","v":6000},{"$f":"'Non-British Population'!Q36","v":6000},{"$f":"Citizenships!Q36","v":44}]
[33,"West Dunbartonshire",null,{"$f":"'Total net migration'!Q37","v":-60},{"$f":"'Total net migration 0-15'!Q37","v":-24},{"$f":"'Total net migration 16-64'!Q37","v":-50},{"$f":"'Total net migration 65+'!Q37","v":13},{"$f":"'Total in-migration'!Q37","v":2400},{"$f":"'Total out-migration'!Q37","v":2460},{"$f":"'Within Scotland net migration'!Q37","v":-130},{"$f":"'Within Scotland in-migration'!Q37","v":1920},{"$f":"'Within Scotland out-migration'!Q37","v":2040},{"$f":"'Rest of UK net migration'!Q37","v":70},{"$f":"'Rest of UK in-migration'!Q37","v":370},{"$f":"'Rest of UK out-migration'!Q37","v":300},{"$f":"'International net migration'!Q37","v":0},{"$f":"'International in-migration'!Q37","v":110},{"$f":"'International out-migration'!Q37","v":110},{"$f":"NINo!Q37","v":140},{"$f":"'Births to non-UK mothers'!Q37","v":75},{"$f":"'Pupils'' ethnic group (TS)'!R37","v":434},{"$f":"'Pupils with English as an add.'!O37","v":311},{"$f":"'Pop born outside UK'!Q37","v":5000},{"$f":"'Non-British Population'!Q37","v":4000},{"$f":"Citizenships!Q37","v":29}]
[34,"West Lothian",null,{"$f":"'Total net migration'!Q38","v":710},{"$f":"'Total net migration 0-15'!Q38","v":293},{"$f":"'Total net migration 16-64'!Q38","v":392},{"$f":"'Total net migration 65+'!Q38","v":21},{"$f":"'Total in-migration'!Q38","v":5610},{"$f":"'Total out-migration'!Q38","v":4900},{"$f":"'Within Scotland net migration'!Q38","v":330},{"$f":"'Within Scotland in-migration'!Q38","v":4200},{"$f":"'Within Scotland out-migration'!Q38","v":3860},{"$f":"'Rest of UK net migration'!Q38","v":50},{"$f":"'Rest of UK in-migration'!Q38","v":780},{"$f":"'Rest of UK out-migration'!Q38","v":730},{"$f":"'International net migration'!Q38","v":320},{"$f":"'International in-migration'!Q38","v":640},{"$f":"'International out-migration'!Q38","v":310},{"$f":"NINo!Q38","v":800},{"$f":"'Births to non-UK mothers'!Q38","v":282},{"$f":"'Pupils'' ethnic group (TS)'!R38","v":1775},{"$f":"'Pupils with English as an add.'!O38","v":1870},{"$f":"'Pop born outside UK'!Q38","v":16000},{"$f":"'Non-British Population'!Q38","v":14000},{"$f":"Citizenships!Q38","v":130}]
[]
[35,"Not specified"]
[36,"Scotland",null,{"$f":"'Total net migration'!Q41","v":30200},{"$f":"'Total net migration 0-15'!Q41","v":5145},{"$f":"'Total net migration 16-64'!Q41","v":24399},{"$f":"'Total net migration 65+'!Q41","v":702},{"$f":"'Total in-migration'!Q41","v":87400},{"$f":"'Total out-migration'!Q41","v":57100},{"$f":"'Within Scotland net migration'!Q41","v":"[z]"},{"$f":"'Within Scotland in-migration'!Q41","v":"[z]"},{"$f":"'Within Scotland out-migration'!Q41","v":"[z]"},{"$f":"'Rest of UK net migration'!Q41","v":10000},{"$f":"'Rest of UK in-migration'!Q41","v":47500},{"$f":"'Rest of UK out-migration'!Q41","v":37400},{"$f":"'International net migration'!Q41","v":20200},{"$f":"'International in-migration'!Q41","v":39900},{"$f":"'International out-migration'!Q41","v":19700},null,{"$f":"'Births to non-UK mothers'!Q41","v":8746}]
[37,"Ayrshire and Arran",null,{"$f":"'Total net migration'!Q42","v":1090},{"$f":"'Total net migration 0-15'!Q42","v":297},{"$f":"'Total net migration 16-64'!Q42","v":612},{"$f":"'Total net migration 65+'!Q42","v":180},{"$f":"'Total in-migration'!Q42","v":8250},{"$f":"'Total out-migration'!Q42","v":7160},{"$f":"'Within Scotland net migration'!Q42","v":600},{"$f":"'Within Scotland in-migration'!Q42","v":5460},{"$f":"'Within Scotland out-migration'!Q42","v":4860},{"$f":"'Rest of UK net migration'!Q42","v":690},{"$f":"'Rest of UK in-migration'!Q42","v":2290},{"$f":"'Rest of UK out-migration'!Q42","v":1610},{"$f":"'International net migration'!Q42","v":-200},{"$f":"'International in-migration'!Q42","v":500},{"$f":"'International out-migration'!Q42","v":700},null,{"$f":"'Births to non-UK mothers'!Q42","v":178}]
[38,"Borders",null,{"$f":"'Total net migration'!Q43","v":590},{"$f":"'Total net migration 0-15'!Q43","v":179},{"$f":"'Total net migration 16-64'!Q43","v":394},{"$f":"'Total net migration 65+'!Q43","v":13},{"$f":"'Total in-migration'!Q43","v":4260},{"$f":"'Total out-migration'!Q43","v":3680},{"$f":"'Within Scotland net migration'!Q43","v":200},{"$f":"'Within Scotland in-migration'!Q43","v":2370},{"$f":"'Within Scotland out-migration'!Q43","v":2170},{"$f":"'Rest of UK net migration'!Q43","v":430},{"$f":"'Rest of UK in-migration'!Q43","v":1610},{"$f":"'Rest of UK out-migration'!Q43","v":1180},{"$f":"'International net migration'!Q43","v":-50},{"$f":"'International in-migration'!Q43","v":290},{"$f":"'International out-migration'!Q43","v":330},null,{"$f":"'Births to non-UK mothers'!Q43","v":106}]
[39,"Dumfries and Galloway",null,{"$f":"'Total net migration'!Q44","v":730},{"$f":"'Total net migration 0-15'!Q44","v":190},{"$f":"'Total net migration 16-64'!Q44","v":462},{"$f":"'Total net migration 65+'!Q44","v":76},{"$f":"'Total in-migration'!Q44","v":4220},{"$f":"'Total out-migration'!Q44","v":3490},{"$f":"'Within Scotland net migration'!Q44","v":-60},{"$f":"'Within Scotland in-migration'!Q44","v":1710},{"$f":"'Within Scotland out-migration'!Q44","v":1770},{"$f":"'Rest of UK net migration'!Q44","v":900},{"$f":"'Rest of UK in-migration'!Q44","v":2240},{"$f":"'Rest of UK out-migration'!Q44","v":1340},{"$f":"'International net migration'!Q44","v":-110},{"$f":"'International in-migration'!Q44","v":270},{"$f":"'International out-migration'!Q44","v":380},null,{"$f":"'Births to non-UK mothers'!Q44","v":80}]
[40,"Fife",null,{"$f":"'Total net migration'!Q45","v":2300},{"$f":"'Total net migration 0-15'!Q45","v":487},{"$f":"'Total net migration 16-64'!Q45","v":1633},{"$f":"'Total net migration 65+'!Q45","v":183},{"$f":"'Total in-migration'!Q45","v":11860},{"$f":"'Total out-migration'!Q45","v":9560},{"$f":"'Within Scotland net migration'!Q45","v":1030},{"$f":"'Within Scotland in-migration'!Q45","v":6970},{"$f":"'Within Scotland out-migration'!Q45","v":5940},{"$f":"'Rest of UK net migration'!Q45","v":500},{"$f":"'Rest of UK in-migration'!Q45","v":2950},{"$f":"'Rest of UK out-migration'!Q45","v":2460},{"$f":"'International net migration'!Q45","v":780},{"$f":"'International in-migration'!Q45","v":1940},{"$f":"'International out-migration'!Q45","v":1170},null,{"$f":"'Births to non-UK mothers'!Q45","v":438}]
[41,"Forth Valley",null,{"$f":"'Total net migration'!Q46","v":960},{"$f":"'Total net migration 0-15'!Q46","v":351},{"$f":"'Total net migration 16-64'!Q46","v":566},{"$f":"'Total net migration 65+'!Q46","v":47},{"$f":"'Total in-migration'!Q46","v":9750},{"$f":"'Total out-migration'!Q46","v":8790},{"$f":"'Within Scotland net migration'!Q46","v":210},{"$f":"'Within Scotland in-migration'!Q46","v":6630},{"$f":"'Within Scotland out-migration'!Q46","v":6430},{"$f":"'Rest of UK net migration'!Q46","v":370},{"$f":"'Rest of UK in-migration'!Q46","v":1910},{"$f":"'Rest of UK out-migration'!Q46","v":1540},{"$f":"'International net migration'!Q46","v":390},{"$f":"'International in-migration'!Q46","v":1210},{"$f":"'International out-migration'!Q46","v":820},null,{"$f":"'Births to non-UK mothers'!Q46","v":324}]
[42,"Grampian",null,{"$f":"'Total net migration'!Q47","v":730},{"$f":"'Total net migration 0-15'!Q47","v":473},{"$f":"'Total net migration 16-64'!Q47","v":245},{"$f":"'Total net migration 65+'!Q47","v":7},{"$f":"'Total in-migration'!Q47","v":15870},{"$f":"'Total out-migration'!Q47","v":15140},{"$f":"'Within Scotland net migration'!Q47","v":-1570},{"$f":"'Within Scotland in-migration'!Q47","v":6690},{"$f":"'Within Scotland out-migration'!Q47","v":8260},{"$f":"'Rest of UK net migration'!Q47","v":20},{"$f":"'Rest of UK in-migration'!Q47","v":4530},{"$f":"'Rest of UK out-migration'!Q47","v":4510},{"$f":"'International net migration'!Q47","v":2280},{"$f":"'International in-migration'!Q47","v":4660},{"$f":"'International out-migration'!Q47","v":2380},null,{"$f":"'Births to non-UK mothers'!Q47","v":1209}]
[43,"Greater Glasgow and Clyde",null,{"$f":"'Total net migration'!Q48","v":8600},{"$f":"'Total net migration 0-15'!Q48","v":632},{"$f":"'Total net migration 16-64'!Q48","v":7974},{"$f":"'Total net migration 65+'!Q48","v":-6},{"$f":"'Total in-migration'!Q48","v":40580},{"$f":"'Total out-migration'!Q48","v":31980},{"$f":"'Within Scotland net migration'!Q48","v":-1470},{"$f":"'Within Scotland in-migration'!Q48","v":17630},{"$f":"'Within Scotland out-migration'!Q48","v":19100},{"$f":"'Rest of UK net migration'!Q48","v":1710},{"$f":"'Rest of UK in-migration'!Q48","v":9360},{"$f":"'Rest of UK out-migration'!Q48","v":7660},{"$f":"'International net migration'!Q48","v":8360},{"$f":"'International in-migration'!Q48","v":13580},{"$f":"'International out-migration'!Q48","v":5220},null,{"$f":"'Births to non-UK mothers'!Q48","v":2611}]
[44,"Highland",null,{"$f":"'Total net migration'!Q49","v":910},{"$f":"'Total net migration 0-15'!Q49","v":290},{"$f":"'Total net migration 16-64'!Q49","v":699},{"$f":"'Total net migration 65+'!Q49","v":-75},{"$f":"'Total in-migration'!Q49","v":11030},{"$f":"'Total out-migration'!Q49","v":10110},{"$f":"'Within Scotland net migration'!Q49","v":-770},{"$f":"'Within Scotland in-migration'!Q49","v":5800},{"$f":"'Within Scotland out-migration'!Q49","v":6570},{"$f":"'Rest of UK net migration'!Q49","v":1590},{"$f":"'Rest of UK in-migration'!Q49","v":4120},{"$f":"'Rest of UK out-migration'!Q49","v":2530},{"$f":"'International net migration'!Q49","v":90},{"$f":"'International in-migration'!Q49","v":1110},{"$f":"'International out-migration'!Q49","v":1020},null,{"$f":"'Births to non-UK mothers'!Q49","v":367}]
[45,"Lanarkshire",null,{"$f":"'Total net migration'!Q50","v":3060},{"$f":"'Total net migration 0-15'!Q50","v":816},{"$f":"'Total net migration 16-64'!Q50","v":2224},{"$f":"'Total net migration 65+'!Q50","v":15},{"$f":"'Total in-migration'!Q50","v":15710},{"$f":"'Total out-migration'!Q50","v":12650},{"$f":"'Within Scotland net migration'!Q50","v":2390},{"$f":"'Within Scotland in-migration'!Q50","v":11950},{"$f":"'Within Scotland out-migration'!Q50","v":9560},{"$f":"'Rest of UK net migration'!Q50","v":650},{"$f":"'Rest of UK in-migration'!Q50","v":2610},{"$f":"'Rest of UK out-migration'!Q50","v":1960},{"$f":"'International net migration'!Q50","v":20},{"$f":"'International in-migration'!Q50","v":1150},{"$f":"'International out-migration'!Q50","v":1130},null,{"$f":"'Births to non-UK mothers'!Q50","v":558}]
[46,"Lothian",null,{"$f":"'Total net migration'!Q51","v":8830},{"$f":"'Total net migration 0-15'!Q51","v":780},{"$f":"'Total net migration 16-64'!Q51","v":7920},{"$f":"'Total net migration 65+'!Q51","v":125},{"$f":"'Total in-migration'!Q51","v":37460},{"$f":"'Total out-migration'!Q51","v":28640},{"$f":"'Within Scotland net migration'!Q51","v":-640},{"$f":"'Within Scotland in-migration'!Q51","v":13370},{"$f":"'Within Scotland out-migration'!Q51","v":14000},{"$f":"'Rest of UK net migration'!Q51","v":2140},{"$f":"'Rest of UK in-migration'!Q51","v":11760},{"$f":"'Rest of UK out-migration'!Q51","v":9620},{"$f":"'International net migration'!Q51","v":7330},{"$f":"'International in-migration'!Q51","v":12330},{"$f":"'International out-migration'!Q51","v":5010},null,{"$f":"'Births to non-UK mothers'!Q51","v":2266}]
[47,"Orkney",null,{"$f":"'Total net migration'!Q52","v":150},{"$f":"'Total net migration 0-15'!Q52","v":73},{"$f":"'Total net migration 16-64'!Q52","v":82},{"$f":"'Total net migration 65+'!Q52","v":-10},{"$f":"'Total in-migration'!Q52","v":810},{"$f":"'Total out-migration'!Q52","v":660},{"$f":"'Within Scotland net migration'!Q52","v":10},{"$f":"'Within Scotland in-migration'!Q52","v":430},{"$f":"'Within Scotland out-migration'!Q52","v":420},{"$f":"'Rest of UK net migration'!Q52","v":140},{"$f":"'Rest of UK in-migration'!Q52","v":320},{"$f":"'Rest of UK out-migration'!Q52","v":180},{"$f":"'International net migration'!Q52","v":0},{"$f":"'International in-migration'!Q52","v":60},{"$f":"'International out-migration'!Q52","v":60},null,{"$f":"'Births to non-UK mothers'!Q52","v":6}]
[48,"Shetland",null,{"$f":"'Total net migration'!Q53","v":-90},{"$f":"'Total net migration 0-15'!Q53","v":43},{"$f":"'Total net migration 16-64'!Q53","v":-125},{"$f":"'Total net migration 65+'!Q53","v":-6},{"$f":"'Total in-migration'!Q53","v":600},{"$f":"'Total out-migration'!Q53","v":690},{"$f":"'Within Scotland net migration'!Q53","v":-180},{"$f":"'Within Scotland in-migration'!Q53","v":300},{"$f":"'Within Scotland out-migration'!Q53","v":480},{"$f":"'Rest of UK net migration'!Q53","v":70},{"$f":"'Rest of UK in-migration'!Q53","v":220},{"$f":"'Rest of UK out-migration'!Q53","v":150},{"$f":"'International net migration'!Q53","v":20},{"$f":"'International in-migration'!Q53","v":80},{"$f":"'International out-migration'!Q53","v":60},null,{"$f":"'Births to non-UK mothers'!Q53","v":19}]
[49,"Tayside",null,{"$f":"'Total net migration'!Q54","v":2350},{"$f":"'Total net migration 0-15'!Q54","v":509},{"$f":"'Total net migration 16-64'!Q54","v":1684},{"$f":"'Total net migration 65+'!Q54","v":157},{"$f":"'Total in-migration'!Q54","v":14260},{"$f":"'Total out-migration'!Q54","v":11910},{"$f":"'Within Scotland net migration'!Q54","v":280},{"$f":"'Within Scotland in-migration'!Q54","v":8290},{"$f":"'Within Scotland out-migration'!Q54","v":8000},{"$f":"'Rest of UK net migration'!Q54","v":760},{"$f":"'Rest of UK in-migration'!Q54","v":3290},{"$f":"'Rest of UK out-migration'!Q54","v":2530},{"$f":"'International net migration'!Q54","v":1310},{"$f":"'International in-migration'!Q54","v":2680},{"$f":"'International out-migration'!Q54","v":1370},null,{"$f":"'Births to non-UK mothers'!Q54","v":574}]
[50,"Western Isles",null,{"$f":"'Total net migration'!Q55","v":50},{"$f":"'Total net migration 0-15'!Q55","v":25},{"$f":"'Total net migration 16-64'!Q55","v":29},{"$f":"'Total net migration 65+'!Q55","v":-4},{"$f":"'Total in-migration'!Q55","v":850},{"$f":"'Total out-migration'!Q55","v":800},{"$f":"'Within Scotland net migration'!Q55","v":-50},{"$f":"'Within Scotland in-migration'!Q55","v":550},{"$f":"'Within Scotland out-migration'!Q55","v":600},{"$f":"'Rest of UK net migration'!Q55","v":100},{"$f":"'Rest of UK in-migration'!Q55","v":250},{"$f":"'Rest of UK out-migration'!Q55","v":140},{"$f":"'International net migration'!Q55","v":-10},{"$f":"'International in-migration'!Q55","v":50},{"$f":"'International out-migration'!Q55","v":60},null,{"$f":"'Births to non-UK mothers'!Q55","v":10}]

{"sheet":"2019 Rate","index":55,"n_rows":53,"n_cols":27,"rows_kept":53,"cut":false,"hidden":true,"merged":[]}
[null,2019,"RATE"]
[null,null,"Not specified ",{"$f":"'Comparing Indicators'!$U8","v":"Total net migration"},{"$f":"'Comparing Indicators'!$U9","v":"Total net migration for ages 0-15"},{"$f":"'Comparing Indicators'!$U10","v":"Total net migration for ages 16-64"},{"$f":"'Comparing Indicators'!$U11","v":"Total net migration for people aged 65+"},{"$f":"'Comparing Indicators'!$U12","v":"Total in-migration"},{"$f":"'Comparing Indicators'!$U13","v":"Total out-migration"},{"$f":"'Comparing Indicators'!$U14","v":"Within Scotland net migration"},{"$f":"'Comparing Indicators'!$U15","v":"Within Scotland in-migration"},{"$f":"'Comparing Indicators'!$U16","v":"Within Scotland out-migration"},{"$f":"'Comparing Indicators'!$U17","v":"Rest of UK net migration"},{"$f":"'Comparing Indicators'!$U18","v":"Rest of UK in-migration"},{"$f":"'Comparing Indicators'!$U19","v":"Rest of UK out-migration"},{"$f":"'Comparing Indicators'!$U20","v":"International net migration"},{"$f":"'Comparing Indicators'!$U21","v":"International in-migration"},{"$f":"'Comparing Indicators'!$U22","v":"International out-migration"},{"$f":"'Comparing Indicators'!$U23","v":"NINo Allocation"},{"$f":"'Comparing Indicators'!$U24","v":"Births to non-UK mothers"},{"$f":"'Comparing Indicators'!$U25","v":"Pupils from a minority ethnic group"},{"$f":"'Comparing Indicators'!$U26","v":"Pupils with English as an additional language"},{"$f":"'Comparing Indicators'!$U27","v":"Population born outside the UK"},{"$f":"'Comparing Indicators'!$U28","v":"Population with non-British nationality"},{"$f":"'Comparing Indicators'!$U29","v":"Citizenships"},null,"Mid-year population estimate"]
[1,"Not specified"]
[2,"Scotland",null,{"$f":"('2019'!D4/'2019 Rate'!$AA4)*1000","v":5.5277945564036388},{"$f":"('2019'!E4/'2019 Rate'!$AA4)*1000","v":0.9417385096919445},{"$f":"('2019'!F4/'2019 Rate'!$AA4)*1000","v":4.4659820987315362},{"$f":"('2019'!G4/'2019 Rate'!$AA4)*1000","v":0.12849376750315744},{"$f":"('2019'!H4/'2019 Rate'!$AA4)*1000","v":15.997657093697947},{"$f":"('2019'!I4/'2019 Rate'!$AA4)*1000","v":10.451558581809529},{"$f":"'Within Scotland net migration'!Q6","v":"[z]"},{"$f":"'Within Scotland in-migration'!Q6","v":"[z]"},{"$f":"'Within Scotland out-migration'!Q6","v":"[z]"},{"$f":"('2019'!M4/'2019 Rate'!$AA4)*1000","v":1.8303955484780261},{"$f":"('2019'!N4/'2019 Rate'!$AA4)*1000","v":8.6943788552706245},{"$f":"('2019'!O4/'2019 Rate'!$AA4)*1000","v":6.8456793513078171},{"$f":"('2019'!P4/'2019 Rate'!$AA4)*1000","v":3.6973990079256125},{"$f":"('2019'!Q4/'2019 Rate'!$AA4)*1000","v":7.3032782384273238},{"$f":"('2019'!R4/'2019 Rate'!$AA4)*1000","v":3.6058792305017113},{"$f":"('2019'!S4/'2019 Rate'!$AA4)*1000","v":8.8206761481156075},null,null,null,null,null,{"$f":"('2019'!Y4/'2019 Rate'!$AA4)*1000","v":0.81635641462119968},"Scotland",5463300]
[3,"Aberdeen City",null,{"$f":"('2019'!D5/'2019 Rate'!$AA5)*1000","v":3.5422224165828489},{"$f":"('2019'!E5/'2019 Rate'!$AA5)*1000","v":-4.3731140945467262E-2},{"$f":"('2019'!F5/'2019 Rate'!$AA5)*1000","v":3.7346394367429046},{"$f":"('2019'!G5/'2019 Rate'!$AA5)*1000","v":-0.1486858792145887},{"$f":"('2019'!H5/'2019 Rate'!$AA5)*1000","v":52.083788866051513},{"$f":"('2019'!I5/'2019 Rate'!$AA5)*1000","v":48.541566449468668},{"$f":"('2019'!J5/'2019 Rate'!$AA5)*1000","v":-3.9795338260375219},{"$f":"('2019'!K5/'2019 Rate'!$AA5)*1000","v":27.463156513753447},{"$f":"('2019'!L5/'2019 Rate'!$AA5)*1000","v":31.442690339790968},{"$f":"('2019'!M5/'2019 Rate'!$AA5)*1000","v":-1.3556653693094853},{"$f":"('2019'!N5/'2019 Rate'!$AA5)*1000","v":8.8774216119298561},{"$f":"('2019'!O5/'2019 Rate'!$AA5)*1000","v":10.233086981239341},{"$f":"('2019'!P5/'2019 Rate'!$AA5)*1000","v":8.8336904709843882},{"$f":"('2019'!Q5/'2019 Rate'!$AA5)*1000","v":15.69947959942275},{"$f":"('2019'!R5/'2019 Rate'!$AA5)*1000","v":6.8657891284383616},{"$f":"('2019'!S5/'2019 Rate'!$AA5)*1000","v":17.579918660077844},null,null,null,null,null,{"$f":"('2019'!Y5/'2019 Rate'!$AA5)*1000","v":2.4358245506625269},"Aberdeen City",228670]
[4,"Aberdeenshire",null,{"$f":"('2019'!D6/'2019 Rate'!$AA6)*1000","v":-1.4547681941732704},{"$f":"('2019'!E6/'2019 Rate'!$AA6)*1000","v":1.1523295432793537},{"$f":"('2019'!F6/'2019 Rate'!$AA6)*1000","v":-2.6874928218674632},{"$f":"('2019'!G6/'2019 Rate'!$AA6)*1000","v":6.8910072355575974E-2},{"$f":"('2019'!H6/'2019 Rate'!$AA6)*1000","v":27.755445809884765},{"$f":"('2019'!I6/'2019 Rate'!$AA6)*1000","v":29.210214004058038},{"$f":"('2019'!J6/'2019 Rate'!$AA6)*1000","v":-2.0673021706672792},{"$f":"('2019'!K6/'2019 Rate'!$AA6)*1000","v":19.754220741931778},{"$f":"('2019'!L6/'2019 Rate'!$AA6)*1000","v":21.821522912599058},{"$f":"('2019'!M6/'2019 Rate'!$AA6)*1000","v":-0.19141686765437771},{"$f":"('2019'!N6/'2019 Rate'!$AA6)*1000","v":5.0916886796064471},{"$f":"('2019'!O6/'2019 Rate'!$AA6)*1000","v":5.283105547260825},{"$f":"('2019'!P6/'2019 Rate'!$AA6)*1000","v":0.80395084414838636},{"$f":"('2019'!Q6/'2019 Rate'!$AA6)*1000","v":2.9095363883465408},{"$f":"('2019'!R6/'2019 Rate'!$AA6)*1000","v":2.14386891772903},{"$f":"('2019'!S6/'2019 Rate'!$AA6)*1000","v":4.21117108839631},null,null,null,null,null,{"$f":"('2019'!Y6/'2019 Rate'!$AA6)*1000","v":0.76566747061751084},"Aberdeenshire",261210]
[5,"Angus",null,{"$f":"('2019'!D7/'2019 Rate'!$AA7)*1000","v":4.2168674698795181},{"$f":"('2019'!E7/'2019 Rate'!$AA7)*1000","v":1.376936316695353},{"$f":"('2019'!F7/'2019 Rate'!$AA7)*1000","v":1.6953528399311533},{"$f":"('2019'!G7/'2019 Rate'!$AA7)*1000","v":1.1703958691910499},{"$f":"('2019'!H7/'2019 Rate'!$AA7)*1000","v":34.595524956970742},{"$f":"('2019'!I7/'2019 Rate'!$AA7)*1000","v":30.292598967297764},{"$f":"('2019'!J7/'2019 Rate'!$AA7)*1000","v":2.9259896729776251},{"$f":"('2019'!K7/'2019 Rate'!$AA7)*1000","v":26.333907056798623},{"$f":"('2019'!L7/'2019 Rate'!$AA7)*1000","v":23.493975903614459},{"$f":"('2019'!M7/'2019 Rate'!$AA7)*1000","v":0.77452667814113596},{"$f":"('2019'!N7/'2019 Rate'!$AA7)*1000","v":5.507745266781412},{"$f":"('2019'!O7/'2019 Rate'!$AA7)*1000","v":4.7332185886402751},{"$f":"('2019'!P7/'2019 Rate'!$AA7)*1000","v":0.60240963855421692},{"$f":"('2019'!Q7/'2019 Rate'!$AA7)*1000","v":2.6678141135972462},{"$f":"('2019'!R7/'2019 Rate'!$AA7)*1000","v":2.1514629948364887},{"$f":"('2019'!S7/'2019 Rate'!$AA7)*1000","v":9.2943201376936315},null,null,null,null,null,{"$f":"('2019'!Y7/'2019 Rate'!$AA7)*1000","v":0.31841652323580039},"Angus",116200]
[6,"Argyll and Bute",null,{"$f":"('2019'!D8/'2019 Rate'!$AA8)*1000","v":-0.81518574589495751},{"$f":"('2019'!E8/'2019 Rate'!$AA8)*1000","v":0.68708512868289273},{"$f":"('2019'!F8/'2019 Rate'!$AA8)*1000","v":-0.55898451147082806},{"$f":"('2019'!G8/'2019 Rate'!$AA8)*1000","v":-0.89670432048445325},{"$f":"('2019'!H8/'2019 Rate'!$AA8)*1000","v":45.883311983230463},{"$f":"('2019'!I8/'2019 Rate'!$AA8)*1000","v":46.582042622568999},{"$f":"('2019'!J8/'2019 Rate'!$AA8)*1000","v":-6.288575754046815},{"$f":"('2019'!K8/'2019 Rate'!$AA8)*1000","v":25.037847909630838},{"$f":"('2019'!L8/'2019 Rate'!$AA8)*1000","v":31.326423663677655},{"$f":"('2019'!M8/'2019 Rate'!$AA8)*1000","v":6.5214859671596601},{"$f":"('2019'!N8/'2019 Rate'!$AA8)*1000","v":17.351810876906953},{"$f":"('2019'!O8/'2019 Rate'!$AA8)*1000","v":10.830324909747292},{"$f":"('2019'!P8/'2019 Rate'!$AA8)*1000","v":-0.93164085245137995},{"$f":"('2019'!Q8/'2019 Rate'!$AA8)*1000","v":3.3771980901362522},{"$f":"('2019'!R8/'2019 Rate'!$AA8)*1000","v":4.4252940491440551},{"$f":"('2019'!S8/'2019 Rate'!$AA8)*1000","v":6.0556655409339708},null,null,null,null,null,{"$f":"('2019'!Y8/'2019 Rate'!$AA8)*1000","v":0.33771980901362525},"Argyll & Bute",85870]
[7,"City of Edinburgh",null,{"$f":"('2019'!D9/'2019 Rate'!$AA9)*1000","v":11.25864400967748},{"$f":"('2019'!E9/'2019 Rate'!$AA9)*1000","v":-0.16764139980568837},{"$f":"('2019'!F9/'2019 Rate'!$AA9)*1000","v":11.552016459337436},{"$f":"('2019'!G9/'2019 Rate'!$AA9)*1000","v":-0.1333511134817976},{"$f":"('2019'!H9/'2019 Rate'!$AA9)*1000","v":61.951117291829384},{"$f":"('2019'!I9/'2019 Rate'!$AA9)*1000","v":50.711523441220734},{"$f":"('2019'!J9/'2019 Rate'!$AA9)*1000","v":-5.3911950164783882},{"$f":"('2019'!K9/'2019 Rate'!$AA9)*1000","v":22.288686110529021},{"$f":"('2019'!L9/'2019 Rate'!$AA9)*1000","v":27.679881127007413},{"$f":"('2019'!M9/'2019 Rate'!$AA9)*1000","v":3.8671822909721296},{"$f":"('2019'!N9/'2019 Rate'!$AA9)*1000","v":18.745356523726972},{"$f":"('2019'!O9/'2019 Rate'!$AA9)*1000","v":14.878174232754844},{"$f":"('2019'!P9/'2019 Rate'!$AA9)*1000","v":12.782656735183739},{"$f":"('2019'!Q9/'2019 Rate'!$AA9)*1000","v":20.93612481664222},{"$f":"('2019'!R9/'2019 Rate'!$AA9)*1000","v":8.1534680814584792},{"$f":"('2019'!S9/'2019 Rate'!$AA9)*1000","v":23.755548358828797},null,null,null,null,null,{"$f":"('2019'!Y9/'2019 Rate'!$AA9)*1000","v":2.0993275293848703},"City of Edinburgh",524930]
[8,"Clackmannanshire",null,{"$f":"('2019'!D10/'2019 Rate'!$AA10)*1000","v":2.9103608847497093},{"$f":"('2019'!E10/'2019 Rate'!$AA10)*1000","v":1.1641443538998835},{"$f":"('2019'!F10/'2019 Rate'!$AA10)*1000","v":1.785021342646488},{"$f":"('2019'!G10/'2019 Rate'!$AA10)*1000","v":0},{"$f":"('2019'!H10/'2019 Rate'!$AA10)*1000","v":33.566162204113311},{"$f":"('2019'!I10/'2019 Rate'!$AA10)*1000","v":30.655801319363601},{"$f":"('2019'!J10/'2019 Rate'!$AA10)*1000","v":0.9701202949165697},{"$f":"('2019'!K10/'2019 Rate'!$AA10)*1000","v":26.387272021730695},{"$f":"('2019'!L10/'2019 Rate'!$AA10)*1000","v":25.417151726814126},{"$f":"('2019'!M10/'2019 Rate'!$AA10)*1000","v":1.1641443538998835},{"$f":"('2019'!N10/'2019 Rate'!$AA10)*1000","v":4.6565774155995339},{"$f":"('2019'!O10/'2019 Rate'!$AA10)*1000","v":3.4924330616996508},{"$f":"('2019'!P10/'2019 Rate'!$AA10)*1000","v":0.9701202949165697},{"$f":"('2019'!Q10/'2019 Rate'!$AA10)*1000","v":2.7163368257663949},{"$f":"('2019'!R10/'2019 Rate'!$AA10)*1000","v":1.7462165308498254},{"$f":"('2019'!S10/'2019 Rate'!$AA10)*1000","v":2.3282887077997669},null,null,null,null,null,{"$f":"('2019'!Y10/'2019 Rate'!$AA10)*1000","v":0.31043849437330229},"Clackmannanshire",51540]
[9,"Dumfries and Galloway",null,{"$f":"('2019'!D11/'2019 Rate'!$AA11)*1000","v":4.9039365847104657},{"$f":"('2019'!E11/'2019 Rate'!$AA11)*1000","v":1.2763670562945049},{"$f":"('2019'!F11/'2019 Rate'!$AA11)*1000","v":3.1035872632003225},{"$f":"('2019'!G11/'2019 Rate'!$AA11)*1000","v":0.51054682251780203},{"$f":"('2019'!H11/'2019 Rate'!$AA11)*1000","v":28.348784092435846},{"$f":"('2019'!I11/'2019 Rate'!$AA11)*1000","v":23.444847507725381},{"$f":"('2019'!J11/'2019 Rate'!$AA11)*1000","v":-0.40306328093510685},{"$f":"('2019'!K11/'2019 Rate'!$AA11)*1000","v":11.487303506650543},{"$f":"('2019'!L11/'2019 Rate'!$AA11)*1000","v":11.89036678758565},{"$f":"('2019'!M11/'2019 Rate'!$AA11)*1000","v":6.045949214026602},{"$f":"('2019'!N11/'2019 Rate'!$AA11)*1000","v":15.047695821577321},{"$f":"('2019'!O11/'2019 Rate'!$AA11)*1000","v":9.0017466075507198},{"$f":"('2019'!P11/'2019 Rate'!$AA11)*1000","v":-0.7389493483810291},{"$f":"('2019'!Q11/'2019 Rate'!$AA11)*1000","v":1.8137847642079807},{"$f":"('2019'!R11/'2019 Rate'!$AA11)*1000","v":2.5527341125890097},{"$f":"('2019'!S11/'2019 Rate'!$AA11)*1000","v":1.8809619776971651},null,null,null,null,null,{"$f":"('2019'!Y11/'2019 Rate'!$AA11)*1000","v":0.14778986967620583},"Dumfries & Galloway",148860]
[10,"Dundee City",null,{"$f":"('2019'!D12/'2019 Rate'!$AA12)*1000","v":5.4915617465845159},{"$f":"('2019'!E12/'2019 Rate'!$AA12)*1000","v":-0.32815429949102598},{"$f":"('2019'!F12/'2019 Rate'!$AA12)*1000","v":6.1679614251272437},{"$f":"('2019'!G12/'2019 Rate'!$AA12)*1000","v":-0.32145727297080096},{"$f":"('2019'!H12/'2019 Rate'!$AA12)*1000","v":49.022234128047145},{"$f":"('2019'!I12/'2019 Rate'!$AA12)*1000","v":43.53067238146263},{"$f":"('2019'!J12/'2019 Rate'!$AA12)*1000","v":-2.0760782212697562},{"$f":"('2019'!K12/'2019 Rate'!$AA12)*1000","v":29.80176801500134},{"$f":"('2019'!L12/'2019 Rate'!$AA12)*1000","v":31.810875971068846},{"$f":"('2019'!M12/'2019 Rate'!$AA12)*1000","v":1.339405304045004},{"$f":"('2019'!N12/'2019 Rate'!$AA12)*1000","v":8.5052236806857753},{"$f":"('2019'!O12/'2019 Rate'!$AA12)*1000","v":7.2327886418430216},{"$f":"('2019'!P12/'2019 Rate'!$AA12)*1000","v":6.2282346638092685},{"$f":"('2019'!Q12/'2019 Rate'!$AA12)*1000","v":10.715242432360032},{"$f":"('2019'!R12/'2019 Rate'!$AA12)*1000","v":4.4870077685507637},{"$f":"('2019'!S12/'2019 Rate'!$AA12)*1000","v":9.710688454326279},null,null,null,null,null,{"$f":"('2019'!Y12/'2019 Rate'!$AA12)*1000","v":0.78355210286632737},"Dundee City",149320]
[11,"East Ayrshire",null,{"$f":"('2019'!D13/'2019 Rate'!$AA13)*1000","v":3.5243012867797723},{"$f":"('2019'!E13/'2019 Rate'!$AA13)*1000","v":0.23768543562003114},{"$f":"('2019'!F13/'2019 Rate'!$AA13)*1000","v":2.8850094254569298},{"$f":"('2019'!G13/'2019 Rate'!$AA13)*1000","v":0.41799852471108923},{"$f":"('2019'!H13/'2019 Rate'!$AA13)*1000","v":28.850094254569296},{"$f":"('2019'!I13/'2019 Rate'!$AA13)*1000","v":25.325792967789525},{"$f":"('2019'!J13/'2019 Rate'!$AA13)*1000","v":2.2948938611589211},{"$f":"('2019'!K13/'2019 Rate'!$AA13)*1000","v":22.293254651258096},{"$f":"('2019'!L13/'2019 Rate'!$AA13)*1000","v":19.998360790099174},{"$f":"('2019'!M13/'2019 Rate'!$AA13)*1000","v":1.9670518809933613},{"$f":"('2019'!N13/'2019 Rate'!$AA13)*1000","v":5.6552741578559136},{"$f":"('2019'!O13/'2019 Rate'!$AA13)*1000","v":3.6882222768625521},{"$f":"('2019'!P13/'2019 Rate'!$AA13)*1000","v":-0.65568396033112042},{"$f":"('2019'!Q13/'2019 Rate'!$AA13)*1000","v":0.90156544545529049},{"$f":"('2019'!R13/'2019 Rate'!$AA13)*1000","v":1.5572494057864108},{"$f":"('2019'!S13/'2019 Rate'!$AA13)*1000","v":1.2294074256208507},null,null,null,null,null,{"$f":"('2019'!Y13/'2019 Rate'!$AA13)*1000","v":0.25407753462830912},"East Ayrshire",122010]
[12,"East Dunbartonshire",null,{"$f":"('2019'!D14/'2019 Rate'!$AA14)*1000","v":3.865979381443299},{"$f":"('2019'!E14/'2019 Rate'!$AA14)*1000","v":3.8107511045655373},{"$f":"('2019'!F14/'2019 Rate'!$AA14)*1000","v":0.19329896907216493},{"$f":"('2019'!G14/'2019 Rate'!$AA14)*1000","v":-0.10125184094256259},{"$f":"('2019'!H14/'2019 Rate'!$AA14)*1000","v":35.622238586156108},{"$f":"('2019'!I14/'2019 Rate'!$AA14)*1000","v":31.664212076583208},{"$f":"('2019'!J14/'2019 Rate'!$AA14)*1000","v":4.2341678939617085},{"$f":"('2019'!K14/'2019 Rate'!$AA14)*1000","v":30.099410898379972},{"$f":"('2019'!L14/'2019 Rate'!$AA14)*1000","v":25.957290132547865},{"$f":"('2019'!M14/'2019 Rate'!$AA14)*1000","v":-9.2047128129602349E-2},{"$f":"('2019'!N14/'2019 Rate'!$AA14)*1000","v":4.2341678939617085},{"$f":"('2019'!O14/'2019 Rate'!$AA14)*1000","v":4.3262150220913114},{"$f":"('2019'!P14/'2019 Rate'!$AA14)*1000","v":-0.1840942562592047},{"$f":"('2019'!Q14/'2019 Rate'!$AA14)*1000","v":1.1966126656848308},{"$f":"('2019'!R14/'2019 Rate'!$AA14)*1000","v":1.3807069219440353},{"$f":"('2019'!S14/'2019 Rate'!$AA14)*1000","v":1.2886597938144331},null,null,null,null,null,{"$f":"('2019'!Y14/'2019 Rate'!$AA14)*1000","v":0.46023564064801176},"East Dunbartonshire",108640]
[13,"East Lothian",null,{"$f":"('2019'!D15/'2019 Rate'!$AA15)*1000","v":11.859183864039592},{"$f":"('2019'!E15/'2019 Rate'!$AA15)*1000","v":3.3616584181529556},{"$f":"('2019'!F15/'2019 Rate'!$AA15)*1000","v":7.0968344383229063},{"$f":"('2019'!G15/'2019 Rate'!$AA15)*1000","v":1.4287048277150061},{"$f":"('2019'!H15/'2019 Rate'!$AA15)*1000","v":42.581006629937434},{"$f":"('2019'!I15/'2019 Rate'!$AA15)*1000","v":30.721822765897844},{"$f":"('2019'!J15/'2019 Rate'!$AA15)*1000","v":8.9644224484078823},{"$f":"('2019'!K15/'2019 Rate'!$AA15)*1000","v":31.188719768419084},{"$f":"('2019'!L15/'2019 Rate'!$AA15)*1000","v":22.224297320011207},{"$f":"('2019'!M15/'2019 Rate'!$AA15)*1000","v":0.84041460453823891},{"$f":"('2019'!N15/'2019 Rate'!$AA15)*1000","v":6.9100756373144083},{"$f":"('2019'!O15/'2019 Rate'!$AA15)*1000","v":6.0696610327761693},{"$f":"('2019'!P15/'2019 Rate'!$AA15)*1000","v":2.0543468110934726},{"$f":"('2019'!Q15/'2019 Rate'!$AA15)*1000","v":4.4822112242039411},{"$f":"('2019'!R15/'2019 Rate'!$AA15)*1000","v":2.4278644131104676},{"$f":"('2019'!S15/'2019 Rate'!$AA15)*1000","v":5.9762816322719203},null,null,null,null,null,{"$f":"('2019'!Y15/'2019 Rate'!$AA15)*1000","v":0.50424876272294328},"East Lothian",107090]
[14,"East Renfrewshire",null,{"$f":"('2019'!D16/'2019 Rate'!$AA16)*1000","v":3.8731288600439653},{"$f":"('2019'!E16/'2019 Rate'!$AA16)*1000","v":5.349104993195855},{"$f":"('2019'!F16/'2019 Rate'!$AA16)*1000","v":-1.0153878362817963},{"$f":"('2019'!G16/'2019 Rate'!$AA16)*1000","v":-0.45012038103213647},{"$f":"('2019'!H16/'2019 Rate'!$AA16)*1000","v":37.475138699884852},{"$f":"('2019'!I16/'2019 Rate'!$AA16)*1000","v":33.602009839840889},{"$f":"('2019'!J16/'2019 Rate'!$AA16)*1000","v":3.6637705432848318},{"$f":"('2019'!K16/'2019 Rate'!$AA16)*1000","v":32.031822464147389},{"$f":"('2019'!L16/'2019 Rate'!$AA16)*1000","v":28.368051920862555},{"$f":"('2019'!M16/'2019 Rate'!$AA16)*1000","v":0},{"$f":"('2019'!N16/'2019 Rate'!$AA16)*1000","v":3.8731288600439653},{"$f":"('2019'!O16/'2019 Rate'!$AA16)*1000","v":3.8731288600439653},{"$f":"('2019'!P16/'2019 Rate'!$AA16)*1000","v":0.20935831675913325},{"$f":"('2019'!Q16/'2019 Rate'!$AA16)*1000","v":1.5701873756934994},{"$f":"('2019'!R16/'2019 Rate'!$AA16)*1000","v":1.3608290589343661},{"$f":"('2019'!S16/'2019 Rate'!$AA16)*1000","v":1.674866534073066},null,null,null,null,null,{"$f":"('2019'!Y16/'2019 Rate'!$AA16)*1000","v":0.72228619281900974},"East Renfrewshire",95530]
[15,"Falkirk",null,{"$f":"('2019'!D17/'2019 Rate'!$AA17)*1000","v":4.5372614830008073},{"$f":"('2019'!E17/'2019 Rate'!$AA17)*1000","v":0.54695754863571389},{"$f":"('2019'!F17/'2019 Rate'!$AA17)*1000","v":3.7665485735595752},{"$f":"('2019'!G17/'2019 Rate'!$AA17)*1000","v":0.2237553608055193},{"$f":"('2019'!H17/'2019 Rate'!$AA17)*1000","v":27.907265833799492},{"$f":"('2019'!I17/'2019 Rate'!$AA17)*1000","v":23.370004350798681},{"$f":"('2019'!J17/'2019 Rate'!$AA17)*1000","v":3.4806389458636335},{"$f":"('2019'!K17/'2019 Rate'!$AA17)*1000","v":22.064764746099822},{"$f":"('2019'!L17/'2019 Rate'!$AA17)*1000","v":18.584125800236187},{"$f":"('2019'!M17/'2019 Rate'!$AA17)*1000","v":0.80800546957548636},{"$f":"('2019'!N17/'2019 Rate'!$AA17)*1000","v":3.9778730809870093},{"$f":"('2019'!O17/'2019 Rate'!$AA17)*1000","v":3.2320218783019454},{"$f":"('2019'!P17/'2019 Rate'!$AA17)*1000","v":0.24861706756168808},{"$f":"('2019'!Q17/'2019 Rate'!$AA17)*1000","v":1.8646280067126608},{"$f":"('2019'!R17/'2019 Rate'!$AA17)*1000","v":1.6160109391509727},{"$f":"('2019'!S17/'2019 Rate'!$AA17)*1000","v":2.672633476288147},null,null,null,null,null,{"$f":"('2019'!Y17/'2019 Rate'!$AA17)*1000","v":0.34806389458636333},"Falkirk",160890]
[16,"Fife",null,{"$f":"('2019'!D18/'2019 Rate'!$AA18)*1000","v":6.157140944987284},{"$f":"('2019'!E18/'2019 Rate'!$AA18)*1000","v":1.3037076696560033},{"$f":"('2019'!F18/'2019 Rate'!$AA18)*1000","v":4.3715700709409715},{"$f":"('2019'!G18/'2019 Rate'!$AA18)*1000","v":0.48989425779681434},{"$f":"('2019'!H18/'2019 Rate'!$AA18)*1000","v":31.749431133717039},{"$f":"('2019'!I18/'2019 Rate'!$AA18)*1000","v":25.592290188729756},{"$f":"('2019'!J18/'2019 Rate'!$AA18)*1000","v":2.757328336233436},{"$f":"('2019'!K18/'2019 Rate'!$AA18)*1000","v":18.65881408111364},{"$f":"('2019'!L18/'2019 Rate'!$AA18)*1000","v":15.901485744880203},{"$f":"('2019'!M18/'2019 Rate'!$AA18)*1000","v":1.3385089010841922},{"$f":"('2019'!N18/'2019 Rate'!$AA18)*1000","v":7.8972025163967334},{"$f":"('2019'!O18/'2019 Rate'!$AA18)*1000","v":6.5854637933342257},{"$f":"('2019'!P18/'2019 Rate'!$AA18)*1000","v":2.0880738856913399},{"$f":"('2019'!Q18/'2019 Rate'!$AA18)*1000","v":5.1934145362066655},{"$f":"('2019'!R18/'2019 Rate'!$AA18)*1000","v":3.1321108285370101},{"$f":"('2019'!S18/'2019 Rate'!$AA18)*1000","v":6.1839111230089676},null,null,null,null,null,{"$f":"('2019'!Y18/'2019 Rate'!$AA18)*1000","v":0.45241600856645697},"Fife",373550]
[17,"Glasgow City",null,{"$f":"('2019'!D19/'2019 Rate'!$AA19)*1000","v":9.9033358605003787},{"$f":"('2019'!E19/'2019 Rate'!$AA19)*1000","v":-0.88924690422036889},{"$f":"('2019'!F19/'2019 Rate'!$AA19)*1000","v":10.909464240586303},{"$f":"('2019'!G19/'2019 Rate'!$AA19)*1000","v":-0.12161991407632045},{"$f":"('2019'!H19/'2019 Rate'!$AA19)*1000","v":56.261056355825126},{"$f":"('2019'!I19/'2019 Rate'!$AA19)*1000","v":46.357720495324735},{"$f":"('2019'!J19/'2019 Rate'!$AA19)*1000","v":-4.9437705332322466},{"$f":"('2019'!K19/'2019 Rate'!$AA19)*1000","v":25.63495072024261},{"$f":"('2019'!L19/'2019 Rate'!$AA19)*1000","v":30.578721253474857},{"$f":"('2019'!M19/'2019 Rate'!$AA19)*1000","v":2.2270659590598938},{"$f":"('2019'!N19/'2019 Rate'!$AA19)*1000","v":11.182714177407128},{"$f":"('2019'!O19/'2019 Rate'!$AA19)*1000","v":8.9556482183472319},{"$f":"('2019'!P19/'2019 Rate'!$AA19)*1000","v":12.620040434672733},{"$f":"('2019'!Q19/'2019 Rate'!$AA19)*1000","v":19.459186252211271},{"$f":"('2019'!R19/'2019 Rate'!$AA19)*1000","v":6.8391458175385393},{"$f":"('2019'!S19/'2019 Rate'!$AA19)*1000","v":21.496714682840533},null,null,null,null,null,{"$f":"('2019'!Y19/'2019 Rate'!$AA19)*1000","v":1.6379201415213545},"Glasgow City",633120]
[18,"Highland",null,{"$f":"('2019'!D20/'2019 Rate'!$AA20)*1000","v":4.1555357672899973},{"$f":"('2019'!E20/'2019 Rate'!$AA20)*1000","v":0.97951914514692773},{"$f":"('2019'!F20/'2019 Rate'!$AA20)*1000","v":3.1675359369037017},{"$f":"('2019'!G20/'2019 Rate'!$AA20)*1000","v":8.4806852393673401E-3},{"$f":"('2019'!H20/'2019 Rate'!$AA20)*1000","v":31.50574566424967},{"$f":"('2019'!I20/'2019 Rate'!$AA20)*1000","v":27.350209896959672},{"$f":"('2019'!J20/'2019 Rate'!$AA20)*1000","v":-0.97527880252724419},{"$f":"('2019'!K20/'2019 Rate'!$AA20)*1000","v":16.918967052537845},{"$f":"('2019'!L20/'2019 Rate'!$AA20)*1000","v":17.894245855065087},{"$f":"('2019'!M20/'2019 Rate'!$AA20)*1000","v":4.3675528982741811},{"$f":"('2019'!N20/'2019 Rate'!$AA20)*1000","v":11.152101089768053},{"$f":"('2019'!O20/'2019 Rate'!$AA20)*1000","v":6.7421447652970361},{"$f":"('2019'!P20/'2019 Rate'!$AA20)*1000","v":0.720858245346224},{"$f":"('2019'!Q20/'2019 Rate'!$AA20)*1000","v":3.47708094814061},{"$f":"('2019'!R20/'2019 Rate'!$AA20)*1000","v":2.7138192765975493},{"$f":"('2019'!S20/'2019 Rate'!$AA20)*1000","v":6.1484967985413226},null,null,null,null,null,{"$f":"('2019'!Y20/'2019 Rate'!$AA20)*1000","v":0.45371666030615276},"Highland",235830]
[19,"Inverclyde",null,{"$f":"('2019'!D21/'2019 Rate'!$AA21)*1000","v":1.0282776349614395},{"$f":"('2019'!E21/'2019 Rate'!$AA21)*1000","v":1.2467866323907455},{"$f":"('2019'!F21/'2019 Rate'!$AA21)*1000","v":-0.62982005141388175},{"$f":"('2019'!G21/'2019 Rate'!$AA21)*1000","v":0.43701799485861181},{"$f":"('2019'!H21/'2019 Rate'!$AA21)*1000","v":20.694087403598971},{"$f":"('2019'!I21/'2019 Rate'!$AA21)*1000","v":19.537275064267352},{"$f":"('2019'!J21/'2019 Rate'!$AA21)*1000","v":-0.38560411311053988},{"$f":"('2019'!K21/'2019 Rate'!$AA21)*1000","v":14.910025706940875},{"$f":"('2019'!L21/'2019 Rate'!$AA21)*1000","v":15.295629820051413},{"$f":"('2019'!M21/'2019 Rate'!$AA21)*1000","v":0.77120822622107976},{"$f":"('2019'!N21/'2019 Rate'!$AA21)*1000","v":3.8560411311053984},{"$f":"('2019'!O21/'2019 Rate'!$AA21)*1000","v":3.084832904884319},{"$f":"('2019'!P21/'2019 Rate'!$AA21)*1000","v":0.77120822622107976},{"$f":"('2019'!Q21/'2019 Rate'!$AA21)*1000","v":1.9280205655526992},{"$f":"('2019'!R21/'2019 Rate'!$AA21)*1000","v":1.1568123393316196},{"$f":"('2019'!S21/'2019 Rate'!$AA21)*1000","v":1.7994858611825193},null,null,null,null,null,{"$f":"('2019'!Y21/'2019 Rate'!$AA21)*1000","v":0.16709511568123392},"Inverclyde",77800]
[20,"Midlothian",null,{"$f":"('2019'!D22/'2019 Rate'!$AA22)*1000","v":10.166558511788882},{"$f":"('2019'!E22/'2019 Rate'!$AA22)*1000","v":2.3253298723772442},{"$f":"('2019'!F22/'2019 Rate'!$AA22)*1000","v":7.6141033960631628},{"$f":"('2019'!G22/'2019 Rate'!$AA22)*1000","v":0.22712524334847503},{"$f":"('2019'!H22/'2019 Rate'!$AA22)*1000","v":40.774388924940517},{"$f":"('2019'!I22/'2019 Rate'!$AA22)*1000","v":30.607830413151632},{"$f":"('2019'!J22/'2019 Rate'!$AA22)*1000","v":9.7339390006489293},{"$f":"('2019'!K22/'2019 Rate'!$AA22)*1000","v":33.960631624486268},{"$f":"('2019'!L22/'2019 Rate'!$AA22)*1000","v":24.226692623837334},{"$f":"('2019'!M22/'2019 Rate'!$AA22)*1000","v":-0.43261951113995245},{"$f":"('2019'!N22/'2019 Rate'!$AA22)*1000","v":4.3261951113995236},{"$f":"('2019'!O22/'2019 Rate'!$AA22)*1000","v":4.758814622539477},{"$f":"('2019'!P22/'2019 Rate'!$AA22)*1000","v":0.75708414449491668},{"$f":"('2019'!Q22/'2019 Rate'!$AA22)*1000","v":2.4875621890547261},{"$f":"('2019'!R22/'2019 Rate'!$AA22)*1000","v":1.7304780445598098},{"$f":"('2019'!S22/'2019 Rate'!$AA22)*1000","v":3.0283365779796667},null,null,null,null,null,{"$f":"('2019'!Y22/'2019 Rate'!$AA22)*1000","v":0.64892926670992856},"Midlothian",92460]
[21,"Moray",null,{"$f":"('2019'!D23/'2019 Rate'!$AA23)*1000","v":3.1308703819661865},{"$f":"('2019'!E23/'2019 Rate'!$AA23)*1000","v":1.8993946983928198},{"$f":"('2019'!F23/'2019 Rate'!$AA23)*1000","v":0.97056981840951784},{"$f":"('2019'!G23/'2019 Rate'!$AA23)*1000","v":0.24003339595074097},{"$f":"('2019'!H23/'2019 Rate'!$AA23)*1000","v":33.187226048841573},{"$f":"('2019'!I23/'2019 Rate'!$AA23)*1000","v":30.05635566687539},{"$f":"('2019'!J23/'2019 Rate'!$AA23)*1000","v":-1.3567104988520142},{"$f":"('2019'!K23/'2019 Rate'!$AA23)*1000","v":17.845961177207265},{"$f":"('2019'!L23/'2019 Rate'!$AA23)*1000","v":19.202671676059278},{"$f":"('2019'!M23/'2019 Rate'!$AA23)*1000","v":3.965769150490503},{"$f":"('2019'!N23/'2019 Rate'!$AA23)*1000","v":12.210394489668129},{"$f":"('2019'!O23/'2019 Rate'!$AA23)*1000","v":8.2446253391776256},{"$f":"('2019'!P23/'2019 Rate'!$AA23)*1000","v":0.52181173032769779},{"$f":"('2019'!Q23/'2019 Rate'!$AA23)*1000","v":3.1308703819661865},{"$f":"('2019'!R23/'2019 Rate'!$AA23)*1000","v":2.7134209977040284},{"$f":"('2019'!S23/'2019 Rate'!$AA23)*1000","v":2.5046963055729492},null,null,null,null,null,{"$f":"('2019'!Y23/'2019 Rate'!$AA23)*1000","v":0.28177833437695676},"Moray",95820]
[22,"Na h-Eileanan Siar",null,{"$f":"('2019'!D24/'2019 Rate'!$AA24)*1000","v":1.8712574850299402},{"$f":"('2019'!E24/'2019 Rate'!$AA24)*1000","v":0.93562874251497008},{"$f":"('2019'!F24/'2019 Rate'!$AA24)*1000","v":1.0853293413173652},{"$f":"('2019'!G24/'2019 Rate'!$AA24)*1000","v":-0.1497005988023952},{"$f":"('2019'!H24/'2019 Rate'!$AA24)*1000","v":31.811377245508982},{"$f":"('2019'!I24/'2019 Rate'!$AA24)*1000","v":29.940119760479043},{"$f":"('2019'!J24/'2019 Rate'!$AA24)*1000","v":-1.8712574850299402},{"$f":"('2019'!K24/'2019 Rate'!$AA24)*1000","v":20.58383233532934},{"$f":"('2019'!L24/'2019 Rate'!$AA24)*1000","v":22.45508982035928},{"$f":"('2019'!M24/'2019 Rate'!$AA24)*1000","v":3.7425149700598803},{"$f":"('2019'!N24/'2019 Rate'!$AA24)*1000","v":9.3562874251497004},{"$f":"('2019'!O24/'2019 Rate'!$AA24)*1000","v":5.2395209580838316},{"$f":"('2019'!P24/'2019 Rate'!$AA24)*1000","v":-0.37425149700598803},{"$f":"('2019'!Q24/'2019 Rate'!$AA24)*1000","v":1.8712574850299402},{"$f":"('2019'!R24/'2019 Rate'!$AA24)*1000","v":2.2455089820359282},{"$f":"('2019'!S24/'2019 Rate'!$AA24)*1000","v":1.8712574850299402},null,null,null,null,null,{"$f":"('2019'!Y24/'2019 Rate'!$AA24)*1000","v":0.1497005988023952},"Na h-Eileanan Siar",26720]
[23,"North Ayrshire",null,{"$f":"('2019'!D25/'2019 Rate'!$AA25)*1000","v":0.6679530948493394},{"$f":"('2019'!E25/'2019 Rate'!$AA25)*1000","v":0.79412201276532579},{"$f":"('2019'!F25/'2019 Rate'!$AA25)*1000","v":-0.20780762950868339},{"$f":"('2019'!G25/'2019 Rate'!$AA25)*1000","v":0.11132551580822325},{"$f":"('2019'!H25/'2019 Rate'!$AA25)*1000","v":26.792340804512396},{"$f":"('2019'!I25/'2019 Rate'!$AA25)*1000","v":26.124387709663058},{"$f":"('2019'!J25/'2019 Rate'!$AA25)*1000","v":0},{"$f":"('2019'!K25/'2019 Rate'!$AA25)*1000","v":19.890158824402555},{"$f":"('2019'!L25/'2019 Rate'!$AA25)*1000","v":19.964375834941368},{"$f":"('2019'!M25/'2019 Rate'!$AA25)*1000","v":1.2616891791598634},{"$f":"('2019'!N25/'2019 Rate'!$AA25)*1000","v":5.5662757904111624},{"$f":"('2019'!O25/'2019 Rate'!$AA25)*1000","v":4.3788036217901141},{"$f":"('2019'!P25/'2019 Rate'!$AA25)*1000","v":-0.51951907377170847},{"$f":"('2019'!Q25/'2019 Rate'!$AA25)*1000","v":1.3359061896986788},{"$f":"('2019'!R25/'2019 Rate'!$AA25)*1000","v":1.8554252634703874},{"$f":"('2019'!S25/'2019 Rate'!$AA25)*1000","v":1.0390381475434169},null,null,null,null,null,{"$f":"('2019'!Y25/'2019 Rate'!$AA25)*1000","v":0.1781208252931572},"North Ayrshire",134740]
[24,"North Lanarkshire",null,{"$f":"('2019'!D26/'2019 Rate'!$AA26)*1000","v":3.5738348419603363},{"$f":"('2019'!E26/'2019 Rate'!$AA26)*1000","v":1.0282098602689165},{"$f":"('2019'!F26/'2019 Rate'!$AA26)*1000","v":2.8180566540703635},{"$f":"('2019'!G26/'2019 Rate'!$AA26)*1000","v":-0.27536104520022264},{"$f":"('2019'!H26/'2019 Rate'!$AA26)*1000","v":24.548144242317719},{"$f":"('2019'!I26/'2019 Rate'!$AA26)*1000","v":20.974309400357384},{"$f":"('2019'!J26/'2019 Rate'!$AA26)*1000","v":2.8414916366405949},{"$f":"('2019'!K26/'2019 Rate'!$AA26)*1000","v":19.656091630781852},{"$f":"('2019'!L26/'2019 Rate'!$AA26)*1000","v":16.814599994141254},{"$f":"('2019'!M26/'2019 Rate'!$AA26)*1000","v":0.70304947710695131},{"$f":"('2019'!N26/'2019 Rate'!$AA26)*1000","v":3.2516038316196503},{"$f":"('2019'!O26/'2019 Rate'!$AA26)*1000","v":2.548554354512699},{"$f":"('2019'!P26/'2019 Rate'!$AA26)*1000","v":0},{"$f":"('2019'!Q26/'2019 Rate'!$AA26)*1000","v":1.64044877991622},{"$f":"('2019'!R26/'2019 Rate'!$AA26)*1000","v":1.64044877991622},{"$f":"('2019'!S26/'2019 Rate'!$AA26)*1000","v":2.5778480827254886},null,null,null,null,null,{"$f":"('2019'!Y26/'2019 Rate'!$AA26)*1000","v":0.24313794416615403},"North Lanarkshire",341370]
[25,"Orkney Islands",null,{"$f":"('2019'!D27/'2019 Rate'!$AA27)*1000","v":6.7355186349348894},{"$f":"('2019'!E27/'2019 Rate'!$AA27)*1000","v":3.27795240233498},{"$f":"('2019'!F27/'2019 Rate'!$AA27)*1000","v":3.6820835204310733},{"$f":"('2019'!G27/'2019 Rate'!$AA27)*1000","v":-0.44903457566232596},{"$f":"('2019'!H27/'2019 Rate'!$AA27)*1000","v":36.371800628648408},{"$f":"('2019'!I27/'2019 Rate'!$AA27)*1000","v":29.636281993713514},{"$f":"('2019'!J27/'2019 Rate'!$AA27)*1000","v":0.44903457566232596},{"$f":"('2019'!K27/'2019 Rate'!$AA27)*1000","v":19.308486753480018},{"$f":"('2019'!L27/'2019 Rate'!$AA27)*1000","v":18.859452177817694},{"$f":"('2019'!M27/'2019 Rate'!$AA27)*1000","v":6.2864840592725635},{"$f":"('2019'!N27/'2019 Rate'!$AA27)*1000","v":14.369106421194431},{"$f":"('2019'!O27/'2019 Rate'!$AA27)*1000","v":8.0826223619218691},{"$f":"('2019'!P27/'2019 Rate'!$AA27)*1000","v":0},{"$f":"('2019'!Q27/'2019 Rate'!$AA27)*1000","v":2.6942074539739562},{"$f":"('2019'!R27/'2019 Rate'!$AA27)*1000","v":2.6942074539739562},{"$f":"('2019'!S27/'2019 Rate'!$AA27)*1000","v":2.2451728783116303},null,null,null,null,null,{"$f":"('2019'!Y27/'2019 Rate'!$AA27)*1000","v":0.17961383026493039},"Orkney Islands",22270]
[26,"Perth and Kinross",null,{"$f":"('2019'!D28/'2019 Rate'!$AA28)*1000","v":6.7785455742020408},{"$f":"('2019'!E28/'2019 Rate'!$AA28)*1000","v":2.6192826587693321},{"$f":"('2019'!F28/'2019 Rate'!$AA28)*1000","v":3.7249095097071403},{"$f":"('2019'!G28/'2019 Rate'!$AA28)*1000","v":0.45409674234945707},{"$f":"('2019'!H28/'2019 Rate'!$AA28)*1000","v":41.921684764725235},{"$f":"('2019'!I28/'2019 Rate'!$AA28)*1000","v":35.1431391905232},{"$f":"('2019'!J28/'2019 Rate'!$AA28)*1000","v":1.6452780519907866},{"$f":"('2019'!K28/'2019 Rate'!$AA28)*1000","v":27.838104639684108},{"$f":"('2019'!L28/'2019 Rate'!$AA28)*1000","v":26.192826587693322},{"$f":"('2019'!M28/'2019 Rate'!$AA28)*1000","v":3.0931227377426782},{"$f":"('2019'!N28/'2019 Rate'!$AA28)*1000","v":9.0819348469891423},{"$f":"('2019'!O28/'2019 Rate'!$AA28)*1000","v":5.9888121092464628},{"$f":"('2019'!P28/'2019 Rate'!$AA28)*1000","v":2.0401447844685752},{"$f":"('2019'!Q28/'2019 Rate'!$AA28)*1000","v":5.067456400131622},{"$f":"('2019'!R28/'2019 Rate'!$AA28)*1000","v":3.0273116156630469},{"$f":"('2019'!S28/'2019 Rate'!$AA28)*1000","v":15.663047054952289},null,null,null,null,null,{"$f":"('2019'!Y28/'2019 Rate'!$AA28)*1000","v":0.65811122079631457},"Perth & Kinross",151950]
[27,"Renfrewshire",null,{"$f":"('2019'!D29/'2019 Rate'!$AA29)*1000","v":8.486878838637633},{"$f":"('2019'!E29/'2019 Rate'!$AA29)*1000","v":1.0999441652707984},{"$f":"('2019'!F29/'2019 Rate'!$AA29)*1000","v":6.9346733668341711},{"$f":"('2019'!G29/'2019 Rate'!$AA29)*1000","v":0.43551088777219432},{"$f":"('2019'!H29/'2019 Rate'!$AA29)*1000","v":34.617532104969293},{"$f":"('2019'!I29/'2019 Rate'!$AA29)*1000","v":26.186487995533223},{"$f":"('2019'!J29/'2019 Rate'!$AA29)*1000","v":5.6951423785594644},{"$f":"('2019'!K29/'2019 Rate'!$AA29)*1000","v":26.242322724734784},{"$f":"('2019'!L29/'2019 Rate'!$AA29)*1000","v":20.547180346175324},{"$f":"('2019'!M29/'2019 Rate'!$AA29)*1000","v":1.0050251256281408},{"$f":"('2019'!N29/'2019 Rate'!$AA29)*1000","v":4.3551088777219427},{"$f":"('2019'!O29/'2019 Rate'!$AA29)*1000","v":3.3500837520938025},{"$f":"('2019'!P29/'2019 Rate'!$AA29)*1000","v":1.7867113344500278},{"$f":"('2019'!Q29/'2019 Rate'!$AA29)*1000","v":4.0759352317141264},{"$f":"('2019'!R29/'2019 Rate'!$AA29)*1000","v":2.2892238972640984},{"$f":"('2019'!S29/'2019 Rate'!$AA29)*1000","v":4.6342825237297598},null,null,null,null,null,{"$f":"('2019'!Y29/'2019 Rate'!$AA29)*1000","v":0.55276381909547734},"Renfrewshire",179100]
[28,"Scottish Borders",null,{"$f":"('2019'!D30/'2019 Rate'!$AA30)*1000","v":5.107782875941477},{"$f":"('2019'!E30/'2019 Rate'!$AA30)*1000","v":1.5496493810059735},{"$f":"('2019'!F30/'2019 Rate'!$AA30)*1000","v":3.4109600900354948},{"$f":"('2019'!G30/'2019 Rate'!$AA30)*1000","v":0.1125443684529478},{"$f":"('2019'!H30/'2019 Rate'!$AA30)*1000","v":36.87992381611982},{"$f":"('2019'!I30/'2019 Rate'!$AA30)*1000","v":31.85871353129599},{"$f":"('2019'!J30/'2019 Rate'!$AA30)*1000","v":1.7314518223530431},{"$f":"('2019'!K30/'2019 Rate'!$AA30)*1000","v":20.517704094883559},{"$f":"('2019'!L30/'2019 Rate'!$AA30)*1000","v":18.786252272530515},{"$f":"('2019'!M30/'2019 Rate'!$AA30)*1000","v":3.7226214180590422},{"$f":"('2019'!N30/'2019 Rate'!$AA30)*1000","v":13.938187169941996},{"$f":"('2019'!O30/'2019 Rate'!$AA30)*1000","v":10.215565751882954},{"$f":"('2019'!P30/'2019 Rate'!$AA30)*1000","v":-0.43286295558826077},{"$f":"('2019'!Q30/'2019 Rate'!$AA30)*1000","v":2.5106051424119125},{"$f":"('2019'!R30/'2019 Rate'!$AA30)*1000","v":2.856895506882521},{"$f":"('2019'!S30/'2019 Rate'!$AA30)*1000","v":3.0300406891178251},null,null,null,null,null,{"$f":"('2019'!Y30/'2019 Rate'!$AA30)*1000","v":0.19911695957059994},"Scottish Borders",115510]
[29,"Shetland Islands",null,{"$f":"('2019'!D31/'2019 Rate'!$AA31)*1000","v":-3.9267015706806281},{"$f":"('2019'!E31/'2019 Rate'!$AA31)*1000","v":1.8760907504363},{"$f":"('2019'!F31/'2019 Rate'!$AA31)*1000","v":-5.4537521815008727},{"$f":"('2019'!G31/'2019 Rate'!$AA31)*1000","v":-0.26178010471204194},{"$f":"('2019'!H31/'2019 Rate'!$AA31)*1000","v":26.178010471204189},{"$f":"('2019'!I31/'2019 Rate'!$AA31)*1000","v":30.104712041884817},{"$f":"('2019'!J31/'2019 Rate'!$AA31)*1000","v":-7.8534031413612562},{"$f":"('2019'!K31/'2019 Rate'!$AA31)*1000","v":13.089005235602095},{"$f":"('2019'!L31/'2019 Rate'!$AA31)*1000","v":20.942408376963353},{"$f":"('2019'!M31/'2019 Rate'!$AA31)*1000","v":3.0541012216404884},{"$f":"('2019'!N31/'2019 Rate'!$AA31)*1000","v":9.5986038394415356},{"$f":"('2019'!O31/'2019 Rate'!$AA31)*1000","v":6.5445026178010473},{"$f":"('2019'!P31/'2019 Rate'!$AA31)*1000","v":0.87260034904013961},{"$f":"('2019'!Q31/'2019 Rate'!$AA31)*1000","v":3.4904013961605584},{"$f":"('2019'!R31/'2019 Rate'!$AA31)*1000","v":2.6178010471204192},{"$f":"('2019'!S31/'2019 Rate'!$AA31)*1000","v":3.0541012216404884},null,null,null,null,null,{"$f":"('2019'!Y31/'2019 Rate'!$AA31)*1000","v":1.0034904013961605},"Shetland Islands",22920]
[30,"South Ayrshire",null,{"$f":"('2019'!D32/'2019 Rate'!$AA32)*1000","v":4.9729153716366223},{"$f":"('2019'!E32/'2019 Rate'!$AA32)*1000","v":1.4297131693455289},{"$f":"('2019'!F32/'2019 Rate'!$AA32)*1000","v":2.5574993339845484},{"$f":"('2019'!G32/'2019 Rate'!$AA32)*1000","v":1.0123434863688838},{"$f":"('2019'!H32/'2019 Rate'!$AA32)*1000","v":33.744782878962795},{"$f":"('2019'!I32/'2019 Rate'!$AA32)*1000","v":28.771867507326171},{"$f":"('2019'!J32/'2019 Rate'!$AA32)*1000","v":2.9304679868572951},{"$f":"('2019'!K32/'2019 Rate'!$AA32)*1000","v":24.331764496936326},{"$f":"('2019'!L32/'2019 Rate'!$AA32)*1000","v":21.401296510079035},{"$f":"('2019'!M32/'2019 Rate'!$AA32)*1000","v":2.575259746026108},{"$f":"('2019'!N32/'2019 Rate'!$AA32)*1000","v":7.5481751176627299},{"$f":"('2019'!O32/'2019 Rate'!$AA32)*1000","v":5.0617174318444187},{"$f":"('2019'!P32/'2019 Rate'!$AA32)*1000","v":-0.44401030103898409},{"$f":"('2019'!Q32/'2019 Rate'!$AA32)*1000","v":1.8648432643637334},{"$f":"('2019'!R32/'2019 Rate'!$AA32)*1000","v":2.3088535654027171},{"$f":"('2019'!S32/'2019 Rate'!$AA32)*1000","v":2.6640618062339043},null,null,null,null,null,{"$f":"('2019'!Y32/'2019 Rate'!$AA32)*1000","v":0.35520824083118729},"South Ayrshire",112610]
[31,"South Lanarkshire",null,{"$f":"('2019'!D33/'2019 Rate'!$AA33)*1000","v":5.7404923096122049},{"$f":"('2019'!E33/'2019 Rate'!$AA33)*1000","v":1.4507222412878671},{"$f":"('2019'!F33/'2019 Rate'!$AA33)*1000","v":3.9372289645275012},{"$f":"('2019'!G33/'2019 Rate'!$AA33)*1000","v":0.34006177268898385},{"$f":"('2019'!H33/'2019 Rate'!$AA33)*1000","v":30.8551461641656},{"$f":"('2019'!I33/'2019 Rate'!$AA33)*1000","v":25.145852182323029},{"$f":"('2019'!J33/'2019 Rate'!$AA33)*1000","v":4.4301625432876799},{"$f":"('2019'!K33/'2019 Rate'!$AA33)*1000","v":24.365893988082238},{"$f":"('2019'!L33/'2019 Rate'!$AA33)*1000","v":19.935731444794559},{"$f":"('2019'!M33/'2019 Rate'!$AA33)*1000","v":1.2791314385548935},{"$f":"('2019'!N33/'2019 Rate'!$AA33)*1000","v":4.6797491654447319},{"$f":"('2019'!O33/'2019 Rate'!$AA33)*1000","v":3.4318160546594703},{"$f":"('2019'!P33/'2019 Rate'!$AA33)*1000","v":3.1198327769631547E-2},{"$f":"('2019'!Q33/'2019 Rate'!$AA33)*1000","v":1.8095030106386298},{"$f":"('2019'!R33/'2019 Rate'!$AA33)*1000","v":1.7783046828689981},{"$f":"('2019'!S33/'2019 Rate'!$AA33)*1000","v":2.152684616104577},null,null,null,null,null,{"$f":"('2019'!Y33/'2019 Rate'!$AA33)*1000","v":0.32446260880416805},"South Lanarkshire",320530]
[32,"Stirling",null,{"$f":"('2019'!D34/'2019 Rate'!$AA34)*1000","v":0.84916675512153694},{"$f":"('2019'!E34/'2019 Rate'!$AA34)*1000","v":2.1547606411209004},{"$f":"('2019'!F34/'2019 Rate'!$AA34)*1000","v":-1.4011251459505361},{"$f":"('2019'!G34/'2019 Rate'!$AA34)*1000","v":0.11676042882921134},{"$f":"('2019'!H34/'2019 Rate'!$AA34)*1000","v":53.922088950217599},{"$f":"('2019'!I34/'2019 Rate'!$AA34)*1000","v":52.966776350705864},{"$f":"('2019'!J34/'2019 Rate'!$AA34)*1000","v":-4.2458337756076849},{"$f":"('2019'!K34/'2019 Rate'!$AA34)*1000","v":34.709691115592825},{"$f":"('2019'!L34/'2019 Rate'!$AA34)*1000","v":39.061670735590702},{"$f":"('2019'!M34/'2019 Rate'!$AA34)*1000","v":2.0167710434136503},{"$f":"('2019'!N34/'2019 Rate'!$AA34)*1000","v":10.933021972189788},{"$f":"('2019'!O34/'2019 Rate'!$AA34)*1000","v":9.0223967731663297},{"$f":"('2019'!P34/'2019 Rate'!$AA34)*1000","v":3.1843753317057635},{"$f":"('2019'!Q34/'2019 Rate'!$AA34)*1000","v":8.1732300180447925},{"$f":"('2019'!R34/'2019 Rate'!$AA34)*1000","v":4.98885468633903},{"$f":"('2019'!S34/'2019 Rate'!$AA34)*1000","v":9.6592718395074826},null,null,null,null,null,{"$f":"('2019'!Y34/'2019 Rate'!$AA34)*1000","v":0.46704171531684535},"Stirling",94210]
[33,"West Dunbartonshire",null,{"$f":"('2019'!D35/'2019 Rate'!$AA35)*1000","v":-0.67468795681997074},{"$f":"('2019'!E35/'2019 Rate'!$AA35)*1000","v":-0.26987518272798833},{"$f":"('2019'!F35/'2019 Rate'!$AA35)*1000","v":-0.56223996401664234},{"$f":"('2019'!G35/'2019 Rate'!$AA35)*1000","v":0.14618239064432698},{"$f":"('2019'!H35/'2019 Rate'!$AA35)*1000","v":26.98751827279883},{"$f":"('2019'!I35/'2019 Rate'!$AA35)*1000","v":27.6622062296188},{"$f":"('2019'!J35/'2019 Rate'!$AA35)*1000","v":-1.4618239064432699},{"$f":"('2019'!K35/'2019 Rate'!$AA35)*1000","v":21.590014618239064},{"$f":"('2019'!L35/'2019 Rate'!$AA35)*1000","v":22.939390531879006},{"$f":"('2019'!M35/'2019 Rate'!$AA35)*1000","v":0.78713594962329925},{"$f":"('2019'!N35/'2019 Rate'!$AA35)*1000","v":4.160575733723153},{"$f":"('2019'!O35/'2019 Rate'!$AA35)*1000","v":3.3734397840998538},{"$f":"('2019'!P35/'2019 Rate'!$AA35)*1000","v":0},{"$f":"('2019'!Q35/'2019 Rate'!$AA35)*1000","v":1.2369279208366131},{"$f":"('2019'!R35/'2019 Rate'!$AA35)*1000","v":1.2369279208366131},{"$f":"('2019'!S35/'2019 Rate'!$AA35)*1000","v":1.5742718992465985},null,null,null,null,null,{"$f":"('2019'!Y35/'2019 Rate'!$AA35)*1000","v":0.32609917912965253},"West Dunbartonshire",88930]
[34,"West Lothian",null,{"$f":"('2019'!D36/'2019 Rate'!$AA36)*1000","v":3.8776624795193881},{"$f":"('2019'!E36/'2019 Rate'!$AA36)*1000","v":1.6002184598580012},{"$f":"('2019'!F36/'2019 Rate'!$AA36)*1000","v":2.1409066084107042},{"$f":"('2019'!G36/'2019 Rate'!$AA36)*1000","v":0.11469142545057345},{"$f":"('2019'!H36/'2019 Rate'!$AA36)*1000","v":30.638995084653196},{"$f":"('2019'!I36/'2019 Rate'!$AA36)*1000","v":26.761332605133806},{"$f":"('2019'!J36/'2019 Rate'!$AA36)*1000","v":1.8022938285090115},{"$f":"('2019'!K36/'2019 Rate'!$AA36)*1000","v":22.938285090114693},{"$f":"('2019'!L36/'2019 Rate'!$AA36)*1000","v":21.081376297105408},{"$f":"('2019'!M36/'2019 Rate'!$AA36)*1000","v":0.27307482250136533},{"$f":"('2019'!N36/'2019 Rate'!$AA36)*1000","v":4.2599672310213004},{"$f":"('2019'!O36/'2019 Rate'!$AA36)*1000","v":3.9868924085199344},{"$f":"('2019'!P36/'2019 Rate'!$AA36)*1000","v":1.7476788640087384},{"$f":"('2019'!Q36/'2019 Rate'!$AA36)*1000","v":3.4953577280174768},{"$f":"('2019'!R36/'2019 Rate'!$AA36)*1000","v":1.6930638995084655},{"$f":"('2019'!S36/'2019 Rate'!$AA36)*1000","v":4.3691971600218453},null,null,null,null,null,{"$f":"('2019'!Y36/'2019 Rate'!$AA36)*1000","v":0.70999453850354999},"West Lothian",183100]
[]
[35,"Not specified"]
[36,"Scotland",null,{"$f":"('2019'!D39/'2019 Rate'!$AA39)*1000","v":5.5277945564036388},{"$f":"('2019'!E39/'2019 Rate'!$AA39)*1000","v":0.9417385096919445},{"$f":"('2019'!F39/'2019 Rate'!$AA39)*1000","v":4.4659820987315362},{"$f":"('2019'!G39/'2019 Rate'!$AA39)*1000","v":0.12849376750315744},{"$f":"('2019'!H39/'2019 Rate'!$AA39)*1000","v":15.997657093697947},{"$f":"('2019'!I39/'2019 Rate'!$AA39)*1000","v":10.451558581809529},{"$f":"'Within Scotland net migration'!Q41","v":"[z]"},{"$f":"'Within Scotland in-migration'!Q41","v":"[z]"},{"$f":"'Within Scotland out-migration'!Q41","v":"[z]"},{"$f":"('2019'!M39/'2019 Rate'!$AA39)*1000","v":1.8303955484780261},{"$f":"('2019'!N39/'2019 Rate'!$AA39)*1000","v":8.6943788552706245},{"$f":"('2019'!O39/'2019 Rate'!$AA39)*1000","v":6.8456793513078171},{"$f":"('2019'!P39/'2019 Rate'!$AA39)*1000","v":3.6973990079256125},{"$f":"('2019'!Q39/'2019 Rate'!$AA39)*1000","v":7.3032782384273238},{"$f":"('2019'!R39/'2019 Rate'!$AA39)*1000","v":3.6058792305017113},null,null,null,null,null,null,null,"SCOTLAND",5463300]
[37,"Ayrshire and Arran",null,{"$f":"('2019'!D40/'2019 Rate'!$AA40)*1000","v":2.9510504656703489},{"$f":"('2019'!E40/'2019 Rate'!$AA40)*1000","v":0.80409356725146208},{"$f":"('2019'!F40/'2019 Rate'!$AA40)*1000","v":1.6569200779727096},{"$f":"('2019'!G40/'2019 Rate'!$AA40)*1000","v":0.48732943469785572},{"$f":"('2019'!H40/'2019 Rate'!$AA40)*1000","v":22.33593242365172},{"$f":"('2019'!I40/'2019 Rate'!$AA40)*1000","v":19.384881957981374},{"$f":"('2019'!J40/'2019 Rate'!$AA40)*1000","v":1.6244314489928524},{"$f":"('2019'!K40/'2019 Rate'!$AA40)*1000","v":14.782326185834957},{"$f":"('2019'!L40/'2019 Rate'!$AA40)*1000","v":13.157894736842104},{"$f":"('2019'!M40/'2019 Rate'!$AA40)*1000","v":1.8680961663417803},{"$f":"('2019'!N40/'2019 Rate'!$AA40)*1000","v":6.1999133636560533},{"$f":"('2019'!O40/'2019 Rate'!$AA40)*1000","v":4.3588910547974882},{"$f":"('2019'!P40/'2019 Rate'!$AA40)*1000","v":-0.54147714966428417},{"$f":"('2019'!Q40/'2019 Rate'!$AA40)*1000","v":1.3536928741607104},{"$f":"('2019'!R40/'2019 Rate'!$AA40)*1000","v":1.8951700238249944},null,null,null,null,null,null,null,"Ayrshire & Arran",369360]
[38,"Borders",null,{"$f":"('2019'!D41/'2019 Rate'!$AA41)*1000","v":5.107782875941477},{"$f":"('2019'!E41/'2019 Rate'!$AA41)*1000","v":1.5496493810059735},{"$f":"('2019'!F41/'2019 Rate'!$AA41)*1000","v":3.4109600900354948},{"$f":"('2019'!G41/'2019 Rate'!$AA41)*1000","v":0.1125443684529478},{"$f":"('2019'!H41/'2019 Rate'!$AA41)*1000","v":36.87992381611982},{"$f":"('2019'!I41/'2019 Rate'!$AA41)*1000","v":31.85871353129599},{"$f":"('2019'!J41/'2019 Rate'!$AA41)*1000","v":1.7314518223530431},{"$f":"('2019'!K41/'2019 Rate'!$AA41)*1000","v":20.517704094883559},{"$f":"('2019'!L41/'2019 Rate'!$AA41)*1000","v":18.786252272530515},{"$f":"('2019'!M41/'2019 Rate'!$AA41)*1000","v":3.7226214180590422},{"$f":"('2019'!N41/'2019 Rate'!$AA41)*1000","v":13.938187169941996},{"$f":"('2019'!O41/'2019 Rate'!$AA41)*1000","v":10.215565751882954},{"$f":"('2019'!P41/'2019 Rate'!$AA41)*1000","v":-0.43286295558826077},{"$f":"('2019'!Q41/'2019 Rate'!$AA41)*1000","v":2.5106051424119125},{"$f":"('2019'!R41/'2019 Rate'!$AA41)*1000","v":2.856895506882521},null,null,null,null,null,null,null,"Borders",115510]
[39,"Dumfries and Galloway",null,{"$f":"('2019'!D42/'2019 Rate'!$AA42)*1000","v":4.9039365847104657},{"$f":"('2019'!E42/'2019 Rate'!$AA42)*1000","v":1.2763670562945049},{"$f":"('2019'!F42/'2019 Rate'!$AA42)*1000","v":3.1035872632003225},{"$f":"('2019'!G42/'2019 Rate'!$AA42)*1000","v":0.51054682251780203},{"$f":"('2019'!H42/'2019 Rate'!$AA42)*1000","v":28.348784092435846},{"$f":"('2019'!I42/'2019 Rate'!$AA42)*1000","v":23.444847507725381},{"$f":"('2019'!J42/'2019 Rate'!$AA42)*1000","v":-0.40306328093510685},{"$f":"('2019'!K42/'2019 Rate'!$AA42)*1000","v":11.487303506650543},{"$f":"('2019'!L42/'2019 Rate'!$AA42)*1000","v":11.89036678758565},{"$f":"('2019'!M42/'2019 Rate'!$AA42)*1000","v":6.045949214026602},{"$f":"('2019'!N42/'2019 Rate'!$AA42)*1000","v":15.047695821577321},{"$f":"('2019'!O42/'2019 Rate'!$AA42)*1000","v":9.0017466075507198},{"$f":"('2019'!P42/'2019 Rate'!$AA42)*1000","v":-0.7389493483810291},{"$f":"('2019'!Q42/'2019 Rate'!$AA42)*1000","v":1.8137847642079807},{"$f":"('2019'!R42/'2019 Rate'!$AA42)*1000","v":2.5527341125890097},null,null,null,null,null,null,null,"Dumfries & Galloway",148860]
[40,"Fife",null,{"$f":"('2019'!D43/'2019 Rate'!$AA43)*1000","v":6.157140944987284},{"$f":"('2019'!E43/'2019 Rate'!$AA43)*1000","v":1.3037076696560033},{"$f":"('2019'!F43/'2019 Rate'!$AA43)*1000","v":4.3715700709409715},{"$f":"('2019'!G43/'2019 Rate'!$AA43)*1000","v":0.48989425779681434},{"$f":"('2019'!H43/'2019 Rate'!$AA43)*1000","v":31.749431133717039},{"$f":"('2019'!I43/'2019 Rate'!$AA43)*1000","v":25.592290188729756},{"$f":"('2019'!J43/'2019 Rate'!$AA43)*1000","v":2.757328336233436},{"$f":"('2019'!K43/'2019 Rate'!$AA43)*1000","v":18.65881408111364},{"$f":"('2019'!L43/'2019 Rate'!$AA43)*1000","v":15.901485744880203},{"$f":"('2019'!M43/'2019 Rate'!$AA43)*1000","v":1.3385089010841922},{"$f":"('2019'!N43/'2019 Rate'!$AA43)*1000","v":7.8972025163967334},{"$f":"('2019'!O43/'2019 Rate'!$AA43)*1000","v":6.5854637933342257},{"$f":"('2019'!P43/'2019 Rate'!$AA43)*1000","v":2.0880738856913399},{"$f":"('2019'!Q43/'2019 Rate'!$AA43)*1000","v":5.1934145362066655},{"$f":"('2019'!R43/'2019 Rate'!$AA43)*1000","v":3.1321108285370101},null,null,null,null,null,null,null,"Fife",373550]
[41,"Forth Valley",null,{"$f":"('2019'!D44/'2019 Rate'!$AA44)*1000","v":3.1307070180015653},{"$f":"('2019'!E44/'2019 Rate'!$AA44)*1000","v":1.1446647534568224},{"$f":"('2019'!F44/'2019 Rate'!$AA44)*1000","v":1.8458126793634231},{"$f":"('2019'!G44/'2019 Rate'!$AA44)*1000","v":0.15327419775632661},{"$f":"('2019'!H44/'2019 Rate'!$AA44)*1000","v":31.796243151578398},{"$f":"('2019'!I44/'2019 Rate'!$AA44)*1000","v":28.665536133576833},{"$f":"('2019'!J44/'2019 Rate'!$AA44)*1000","v":0.6848421601878425},{"$f":"('2019'!K44/'2019 Rate'!$AA44)*1000","v":21.621445343073312},{"$f":"('2019'!L44/'2019 Rate'!$AA44)*1000","v":20.969214714322987},{"$f":"('2019'!M44/'2019 Rate'!$AA44)*1000","v":1.2066266631881033},{"$f":"('2019'!N44/'2019 Rate'!$AA44)*1000","v":6.2288025045656141},{"$f":"('2019'!O44/'2019 Rate'!$AA44)*1000","v":5.0221758413775115},{"$f":"('2019'!P44/'2019 Rate'!$AA44)*1000","v":1.2718497260631358},{"$f":"('2019'!Q44/'2019 Rate'!$AA44)*1000","v":3.9459953039394735},{"$f":"('2019'!R44/'2019 Rate'!$AA44)*1000","v":2.6741455778763372},null,null,null,null,null,null,null,"Forth Valley",306640]
[42,"Grampian",null,{"$f":"('2019'!D45/'2019 Rate'!$AA45)*1000","v":1.2463718627283593},{"$f":"('2019'!E45/'2019 Rate'!$AA45)*1000","v":0.80758067269933409},{"$f":"('2019'!F45/'2019 Rate'!$AA45)*1000","v":0.41830288543623018},{"$f":"('2019'!G45/'2019 Rate'!$AA45)*1000","v":1.1951511012463717E-2},{"$f":"('2019'!H45/'2019 Rate'!$AA45)*1000","v":27.095782823971316},{"$f":"('2019'!I45/'2019 Rate'!$AA45)*1000","v":25.849410961242956},{"$f":"('2019'!J45/'2019 Rate'!$AA45)*1000","v":-2.6805531842240056},{"$f":"('2019'!K45/'2019 Rate'!$AA45)*1000","v":11.422229810483183},{"$f":"('2019'!L45/'2019 Rate'!$AA45)*1000","v":14.102782994707187},{"$f":"('2019'!M45/'2019 Rate'!$AA45)*1000","v":3.4147174321324907E-2},{"$f":"('2019'!N45/'2019 Rate'!$AA45)*1000","v":7.7343349837800917},{"$f":"('2019'!O45/'2019 Rate'!$AA45)*1000","v":7.7001878094587672},{"$f":"('2019'!P45/'2019 Rate'!$AA45)*1000","v":3.89277787263104},{"$f":"('2019'!Q45/'2019 Rate'!$AA45)*1000","v":7.9562916168687048},{"$f":"('2019'!R45/'2019 Rate'!$AA45)*1000","v":4.0635137442376639},null,null,null,null,null,null,null,"Grampian",585700]
[43,"Greater Glasgow and Clyde",null,{"$f":"('2019'!D46/'2019 Rate'!$AA46)*1000","v":7.2689160862803437},{"$f":"('2019'!E46/'2019 Rate'!$AA46)*1000","v":0.53418081006153229},{"$f":"('2019'!F46/'2019 Rate'!$AA46)*1000","v":6.7398066130231928},{"$f":"('2019'!G46/'2019 Rate'!$AA46)*1000","v":-5.0713368043816352E-3},{"$f":"('2019'!H46/'2019 Rate'!$AA46)*1000","v":34.29914125363446},{"$f":"('2019'!I46/'2019 Rate'!$AA46)*1000","v":27.030225167354114},{"$f":"('2019'!J46/'2019 Rate'!$AA46)*1000","v":-1.2424775170735007},{"$f":"('2019'!K46/'2019 Rate'!$AA46)*1000","v":14.901277976874704},{"$f":"('2019'!L46/'2019 Rate'!$AA46)*1000","v":16.143755493948206},{"$f":"('2019'!M46/'2019 Rate'!$AA46)*1000","v":1.4453309892487658},{"$f":"('2019'!N46/'2019 Rate'!$AA46)*1000","v":7.9112854148353504},{"$f":"('2019'!O46/'2019 Rate'!$AA46)*1000","v":6.4744066535938876},{"$f":"('2019'!P46/'2019 Rate'!$AA46)*1000","v":7.0660626141050784},{"$f":"('2019'!Q46/'2019 Rate'!$AA46)*1000","v":11.478125633917101},{"$f":"('2019'!R46/'2019 Rate'!$AA46)*1000","v":4.412063019812023},null,null,null,null,null,null,null,"Greater Glasgow & Clyde",1183120]
[44,"Highland",null,{"$f":"('2019'!D47/'2019 Rate'!$AA47)*1000","v":2.8287224121852654},{"$f":"('2019'!E47/'2019 Rate'!$AA47)*1000","v":0.90146098849860123},{"$f":"('2019'!F47/'2019 Rate'!$AA47)*1000","v":2.1728318308983523},{"$f":"('2019'!G47/'2019 Rate'!$AA47)*1000","v":-0.23313646254274167},{"$f":"('2019'!H47/'2019 Rate'!$AA47)*1000","v":34.286602424619204},{"$f":"('2019'!I47/'2019 Rate'!$AA47)*1000","v":31.426795150761578},{"$f":"('2019'!J47/'2019 Rate'!$AA47)*1000","v":-2.3935343487721479},{"$f":"('2019'!K47/'2019 Rate'!$AA47)*1000","v":18.029219769972023},{"$f":"('2019'!L47/'2019 Rate'!$AA47)*1000","v":20.422754118744173},{"$f":"('2019'!M47/'2019 Rate'!$AA47)*1000","v":4.9424930059061234},{"$f":"('2019'!N47/'2019 Rate'!$AA47)*1000","v":12.806963009014609},{"$f":"('2019'!O47/'2019 Rate'!$AA47)*1000","v":7.8644700031084858},{"$f":"('2019'!P47/'2019 Rate'!$AA47)*1000","v":0.27976375505129003},{"$f":"('2019'!Q47/'2019 Rate'!$AA47)*1000","v":3.4504196456325769},{"$f":"('2019'!R47/'2019 Rate'!$AA47)*1000","v":3.1706558905812869},null,null,null,null,null,null,null,"Highland",321700]
[45,"Lanarkshire",null,{"$f":"('2019'!D48/'2019 Rate'!$AA48)*1000","v":4.6230548421211655},{"$f":"('2019'!E48/'2019 Rate'!$AA48)*1000","v":1.2328146245656442},{"$f":"('2019'!F48/'2019 Rate'!$AA48)*1000","v":3.3600241728357756},{"$f":"('2019'!G48/'2019 Rate'!$AA48)*1000","v":2.266203353980964E-2},{"$f":"('2019'!H48/'2019 Rate'!$AA48)*1000","v":23.734703127360628},{"$f":"('2019'!I48/'2019 Rate'!$AA48)*1000","v":19.111648285239461},{"$f":"('2019'!J48/'2019 Rate'!$AA48)*1000","v":3.6108173440096691},{"$f":"('2019'!K48/'2019 Rate'!$AA48)*1000","v":18.054086720048343},{"$f":"('2019'!L48/'2019 Rate'!$AA48)*1000","v":14.443269376038677},{"$f":"('2019'!M48/'2019 Rate'!$AA48)*1000","v":0.98202145339175106},{"$f":"('2019'!N48/'2019 Rate'!$AA48)*1000","v":3.9431938359268774},{"$f":"('2019'!O48/'2019 Rate'!$AA48)*1000","v":2.9611723825351262},{"$f":"('2019'!P48/'2019 Rate'!$AA48)*1000","v":3.0216044719746187E-2},{"$f":"('2019'!Q48/'2019 Rate'!$AA48)*1000","v":1.7374225713854057},{"$f":"('2019'!R48/'2019 Rate'!$AA48)*1000","v":1.7072065266656593},null,null,null,null,null,null,null,"Lanarkshire",661900]
[46,"Lothian",null,{"$f":"('2019'!D49/'2019 Rate'!$AA49)*1000","v":9.7291698803411268},{"$f":"('2019'!E49/'2019 Rate'!$AA49)*1000","v":0.85942836995085836},{"$f":"('2019'!F49/'2019 Rate'!$AA49)*1000","v":8.7265034487317923},{"$f":"('2019'!G49/'2019 Rate'!$AA49)*1000","v":0.13772890544084268},{"$f":"('2019'!H49/'2019 Rate'!$AA49)*1000","v":41.274598382511734},{"$f":"('2019'!I49/'2019 Rate'!$AA49)*1000","v":31.556446814605877},{"$f":"('2019'!J49/'2019 Rate'!$AA49)*1000","v":-0.70517199585711454},{"$f":"('2019'!K49/'2019 Rate'!$AA49)*1000","v":14.731483725952533},{"$f":"('2019'!L49/'2019 Rate'!$AA49)*1000","v":15.42563740937438},{"$f":"('2019'!M49/'2019 Rate'!$AA49)*1000","v":2.3579188611472266},{"$f":"('2019'!N49/'2019 Rate'!$AA49)*1000","v":12.95753542387448},{"$f":"('2019'!O49/'2019 Rate'!$AA49)*1000","v":10.599616562727253},{"$f":"('2019'!P49/'2019 Rate'!$AA49)*1000","v":8.0764230150510148},{"$f":"('2019'!Q49/'2019 Rate'!$AA49)*1000","v":13.585579232684722},{"$f":"('2019'!R49/'2019 Rate'!$AA49)*1000","v":5.5201745300689753},null,null,null,null,null,null,null,"Lothian",907580]
[47,"Orkney",null,{"$f":"('2019'!D50/'2019 Rate'!$AA50)*1000","v":6.7355186349348894},{"$f":"('2019'!E50/'2019 Rate'!$AA50)*1000","v":3.27795240233498},{"$f":"('2019'!F50/'2019 Rate'!$AA50)*1000","v":3.6820835204310733},{"$f":"('2019'!G50/'2019 Rate'!$AA50)*1000","v":-0.44903457566232596},{"$f":"('2019'!H50/'2019 Rate'!$AA50)*1000","v":36.371800628648408},{"$f":"('2019'!I50/'2019 Rate'!$AA50)*1000","v":29.636281993713514},{"$f":"('2019'!J50/'2019 Rate'!$AA50)*1000","v":0.44903457566232596},{"$f":"('2019'!K50/'2019 Rate'!$AA50)*1000","v":19.308486753480018},{"$f":"('2019'!L50/'2019 Rate'!$AA50)*1000","v":18.859452177817694},{"$f":"('2019'!M50/'2019 Rate'!$AA50)*1000","v":6.2864840592725635},{"$f":"('2019'!N50/'2019 Rate'!$AA50)*1000","v":14.369106421194431},{"$f":"('2019'!O50/'2019 Rate'!$AA50)*1000","v":8.0826223619218691},{"$f":"('2019'!P50/'2019 Rate'!$AA50)*1000","v":0},{"$f":"('2019'!Q50/'2019 Rate'!$AA50)*1000","v":2.6942074539739562},{"$f":"('2019'!R50/'2019 Rate'!$AA50)*1000","v":2.6942074539739562},null,null,null,null,null,null,null,"Orkney",22270]
[48,"Shetland",null,{"$f":"('2019'!D51/'2019 Rate'!$AA51)*1000","v":-3.9267015706806281},{"$f":"('2019'!E51/'2019 Rate'!$AA51)*1000","v":1.8760907504363},{"$f":"('2019'!F51/'2019 Rate'!$AA51)*1000","v":-5.4537521815008727},{"$f":"('2019'!G51/'2019 Rate'!$AA51)*1000","v":-0.26178010471204194},{"$f":"('2019'!H51/'2019 Rate'!$AA51)*1000","v":26.178010471204189},{"$f":"('2019'!I51/'2019 Rate'!$AA51)*1000","v":30.104712041884817},{"$f":"('2019'!J51/'2019 Rate'!$AA51)*1000","v":-7.8534031413612562},{"$f":"('2019'!K51/'2019 Rate'!$AA51)*1000","v":13.089005235602095},{"$f":"('2019'!L51/'2019 Rate'!$AA51)*1000","v":20.942408376963353},{"$f":"('2019'!M51/'2019 Rate'!$AA51)*1000","v":3.0541012216404884},{"$f":"('2019'!N51/'2019 Rate'!$AA51)*1000","v":9.5986038394415356},{"$f":"('2019'!O51/'2019 Rate'!$AA51)*1000","v":6.5445026178010473},{"$f":"('2019'!P51/'2019 Rate'!$AA51)*1000","v":0.87260034904013961},{"$f":"('2019'!Q51/'2019 Rate'!$AA51)*1000","v":3.4904013961605584},{"$f":"('2019'!R51/'2019 Rate'!$AA51)*1000","v":2.6178010471204192},null,null,null,null,null,null,null,"Shetland",22920]
[49,"Tayside",null,{"$f":"('2019'!D52/'2019 Rate'!$AA52)*1000","v":5.629147004575179},{"$f":"('2019'!E52/'2019 Rate'!$AA52)*1000","v":1.2192492873739429},{"$f":"('2019'!F52/'2019 Rate'!$AA52)*1000","v":4.0338227896615324},{"$f":"('2019'!G52/'2019 Rate'!$AA52)*1000","v":0.37607492753970345},{"$f":"('2019'!H52/'2019 Rate'!$AA52)*1000","v":34.158143100103004},{"$f":"('2019'!I52/'2019 Rate'!$AA52)*1000","v":28.528996095527823},{"$f":"('2019'!J52/'2019 Rate'!$AA52)*1000","v":0.6707068771408724},{"$f":"('2019'!K52/'2019 Rate'!$AA52)*1000","v":19.85771432677797},{"$f":"('2019'!L52/'2019 Rate'!$AA52)*1000","v":19.163053632596352},{"$f":"('2019'!M52/'2019 Rate'!$AA52)*1000","v":1.8204900950966536},{"$f":"('2019'!N52/'2019 Rate'!$AA52)*1000","v":7.8808058064052506},{"$f":"('2019'!O52/'2019 Rate'!$AA52)*1000","v":6.060315711308597},{"$f":"('2019'!P52/'2019 Rate'!$AA52)*1000","v":3.137950032337653},{"$f":"('2019'!Q52/'2019 Rate'!$AA52)*1000","v":6.4196229669197784},{"$f":"('2019'!R52/'2019 Rate'!$AA52)*1000","v":3.2816729345821254},null,null,null,null,null,null,null,"Tayside",417470]
[50,"Western Isles",null,{"$f":"('2019'!D53/'2019 Rate'!$AA53)*1000","v":1.8712574850299402},{"$f":"('2019'!E53/'2019 Rate'!$AA53)*1000","v":0.93562874251497008},{"$f":"('2019'!F53/'2019 Rate'!$AA53)*1000","v":1.0853293413173652},{"$f":"('2019'!G53/'2019 Rate'!$AA53)*1000","v":-0.1497005988023952},{"$f":"('2019'!H53/'2019 Rate'!$AA53)*1000","v":31.811377245508982},{"$f":"('2019'!I53/'2019 Rate'!$AA53)*1000","v":29.940119760479043},{"$f":"('2019'!J53/'2019 Rate'!$AA53)*1000","v":-1.8712574850299402},{"$f":"('2019'!K53/'2019 Rate'!$AA53)*1000","v":20.58383233532934},{"$f":"('2019'!L53/'2019 Rate'!$AA53)*1000","v":22.45508982035928},{"$f":"('2019'!M53/'2019 Rate'!$AA53)*1000","v":3.7425149700598803},{"$f":"('2019'!N53/'2019 Rate'!$AA53)*1000","v":9.3562874251497004},{"$f":"('2019'!O53/'2019 Rate'!$AA53)*1000","v":5.2395209580838316},{"$f":"('2019'!P53/'2019 Rate'!$AA53)*1000","v":-0.37425149700598803},{"$f":"('2019'!Q53/'2019 Rate'!$AA53)*1000","v":1.8712574850299402},{"$f":"('2019'!R53/'2019 Rate'!$AA53)*1000","v":2.2455089820359282},null,null,null,null,null,null,null,"Western Isles",26720]

{"sheet":"2020","index":56,"n_rows":53,"n_cols":25,"rows_kept":53,"cut":false,"hidden":true,"merged":[]}
[null,2020]
[null,null,"Not specified ",{"$f":"'Comparing Indicators'!$U8","v":"Total net migration"},{"$f":"'Comparing Indicators'!$U9","v":"Total net migration for ages 0-15"},{"$f":"'Comparing Indicators'!$U10","v":"Total net migration for ages 16-64"},{"$f":"'Comparing Indicators'!$U11","v":"Total net migration for people aged 65+"},{"$f":"'Comparing Indicators'!$U12","v":"Total in-migration"},{"$f":"'Comparing Indicators'!$U13","v":"Total out-migration"},{"$f":"'Comparing Indicators'!$U14","v":"Within Scotland net migration"},{"$f":"'Comparing Indicators'!$U15","v":"Within Scotland in-migration"},{"$f":"'Comparing Indicators'!$U16","v":"Within Scotland out-migration"},{"$f":"'Comparing Indicators'!$U17","v":"Rest of UK net migration"},{"$f":"'Comparing Indicators'!$U18","v":"Rest of UK in-migration"},{"$f":"'Comparing Indicators'!$U19","v":"Rest of UK out-migration"},{"$f":"'Comparing Indicators'!$U20","v":"International net migration"},{"$f":"'Comparing Indicators'!$U21","v":"International in-migration"},{"$f":"'Comparing Indicators'!$U22","v":"International out-migration"},{"$f":"'Comparing Indicators'!$U23","v":"NINo Allocation"},{"$f":"'Comparing Indicators'!$U24","v":"Births to non-UK mothers"},{"$f":"'Comparing Indicators'!$U25","v":"Pupils from a minority ethnic group"},{"$f":"'Comparing Indicators'!$U26","v":"Pupils with English as an additional language"},{"$f":"'Comparing Indicators'!$U27","v":"Population born outside the UK"},{"$f":"'Comparing Indicators'!$U28","v":"Population with non-British nationality"},{"$f":"'Comparing Indicators'!$U29","v":"Citizenships"}]
[1,"Not specified"]
[2,"Scotland",null,{"$f":"'Total net migration'!R6","v":16900},{"$f":"'Total net migration 0-15'!R6","v":2614},{"$f":"'Total net migration 16-64'!R6","v":13928},{"$f":"'Total net migration 65+'!R6","v":340},{"$f":"'Total in-migration'!R6","v":81000},{"$f":"'Total out-migration'!R6","v":64100},{"$f":"'Within Scotland net migration'!R6","v":"[z]"},{"$f":"'Within Scotland in-migration'!R6","v":"[z]"},{"$f":"'Within Scotland out-migration'!R6","v":"[z]"},{"$f":"'Rest of UK net migration'!R6","v":9000},{"$f":"'Rest of UK in-migration'!R6","v":41800},{"$f":"'Rest of UK out-migration'!R6","v":32800},{"$f":"'International net migration'!R6","v":7900},{"$f":"'International in-migration'!R6","v":39200},{"$f":"'International out-migration'!R6","v":31300},{"$f":"NINo!R6","v":17100},{"$f":"'Births to non-UK mothers'!R6","v":8275},{"$f":"'Pupils'' ethnic group (TS)'!S6","v":60673},{"$f":"'Pupils with English as an add.'!P6","v":47938},{"$f":"'Pop born outside UK'!R6","v":516000},{"$f":"'Non-British Population'!R6","v":406000},{"$f":"Citizenships!R6","v":2953}]
[3,"Aberdeen City",null,{"$f":"'Total net migration'!R7","v":500},{"$f":"'Total net migration 0-15'!R7","v":33},{"$f":"'Total net migration 16-64'!R7","v":464},{"$f":"'Total net migration 65+'!R7","v":5},{"$f":"'Total in-migration'!R7","v":11110},{"$f":"'Total out-migration'!R7","v":10610},{"$f":"'Within Scotland net migration'!R7","v":-810},{"$f":"'Within Scotland in-migration'!R7","v":5420},{"$f":"'Within Scotland out-migration'!R7","v":6220},{"$f":"'Rest of UK net migration'!R7","v":0},{"$f":"'Rest of UK in-migration'!R7","v":1910},{"$f":"'Rest of UK out-migration'!R7","v":1910},{"$f":"'International net migration'!R7","v":1310},{"$f":"'International in-migration'!R7","v":3780},{"$f":"'International out-migration'!R7","v":2480},{"$f":"NINo!R7","v":1730},{"$f":"'Births to non-UK mothers'!R7","v":706},{"$f":"'Pupils'' ethnic group (TS)'!S7","v":4010},{"$f":"'Pupils with English as an add.'!P7","v":4558},{"$f":"'Pop born outside UK'!R7","v":56000},{"$f":"'Non-British Population'!R7","v":46000},{"$f":"Citizenships!R7","v":289}]
[4,"Aberdeenshire",null,{"$f":"'Total net migration'!R8","v":-130},{"$f":"'Total net migration 0-15'!R8","v":242},{"$f":"'Total net migration 16-64'!R8","v":-348},{"$f":"'Total net migration 65+'!R8","v":-21},{"$f":"'Total in-migration'!R8","v":6350},{"$f":"'Total out-migration'!R8","v":6480},{"$f":"'Within Scotland net migration'!R8","v":10},{"$f":"'Within Scotland in-migration'!R8","v":4500},{"$f":"'Within Scotland out-migration'!R8","v":4490},{"$f":"'Rest of UK net migration'!R8","v":-40},{"$f":"'Rest of UK in-migration'!R8","v":1210},{"$f":"'Rest of UK out-migration'!R8","v":1250},{"$f":"'International net migration'!R8","v":-90},{"$f":"'International in-migration'!R8","v":650},{"$f":"'International out-migration'!R8","v":740},{"$f":"NINo!R8","v":360},{"$f":"'Births to non-UK mothers'!R8","v":298},{"$f":"'Pupils'' ethnic group (TS)'!S8","v":1469},{"$f":"'Pupils with English as an add.'!P8","v":1806},{"$f":"'Pop born outside UK'!R8","v":24000},{"$f":"'Non-British Population'!R8","v":17000},{"$f":"Citizenships!R8","v":90}]
[5,"Angus",null,{"$f":"'Total net migration'!R9","v":280},{"$f":"'Total net migration 0-15'!R9","v":105},{"$f":"'Total net migration 16-64'!R9","v":101},{"$f":"'Total net migration 65+'!R9","v":71},{"$f":"'Total in-migration'!R9","v":3360},{"$f":"'Total out-migration'!R9","v":3080},{"$f":"'Within Scotland net migration'!R9","v":210},{"$f":"'Within Scotland in-migration'!R9","v":2520},{"$f":"'Within Scotland out-migration'!R9","v":2310},{"$f":"'Rest of UK net migration'!R9","v":160},{"$f":"'Rest of UK in-migration'!R9","v":600},{"$f":"'Rest of UK out-migration'!R9","v":440},{"$f":"'International net migration'!R9","v":-90},{"$f":"'International in-migration'!R9","v":240},{"$f":"'International out-migration'!R9","v":330},{"$f":"NINo!R9","v":120},{"$f":"'Births to non-UK mothers'!R9","v":96},{"$f":"'Pupils'' ethnic group (TS)'!S9","v":506},{"$f":"'Pupils with English as an add.'!P9","v":546},{"$f":"'Pop born outside UK'!R9","v":5000},{"$f":"'Non-British Population'!R9","v":3000},{"$f":"Citizenships!R9","v":12}]
[6,"Argyll and Bute",null,{"$f":"'Total net migration'!R10","v":-90},{"$f":"'Total net migration 0-15'!R10","v":-42},{"$f":"'Total net migration 16-64'!R10","v":42},{"$f":"'Total net migration 65+'!R10","v":-93},{"$f":"'Total in-migration'!R10","v":3430},{"$f":"'Total out-migration'!R10","v":3530},{"$f":"'Within Scotland net migration'!R10","v":-290},{"$f":"'Within Scotland in-migration'!R10","v":1870},{"$f":"'Within Scotland out-migration'!R10","v":2160},{"$f":"'Rest of UK net migration'!R10","v":470},{"$f":"'Rest of UK in-migration'!R10","v":1260},{"$f":"'Rest of UK out-migration'!R10","v":790},{"$f":"'International net migration'!R10","v":-270},{"$f":"'International in-migration'!R10","v":300},{"$f":"'International out-migration'!R10","v":570},{"$f":"NINo!R10","v":110},{"$f":"'Births to non-UK mothers'!R10","v":61},{"$f":"'Pupils'' ethnic group (TS)'!S10","v":346},{"$f":"'Pupils with English as an add.'!P10","v":198},{"$f":"'Pop born outside UK'!R10","v":5000},{"$f":"'Non-British Population'!R10","v":4000},{"$f":"Citizenships!R10","v":15}]
[7,"City of Edinburgh",null,{"$f":"'Total net migration'!R11","v":2890},{"$f":"'Total net migration 0-15'!R11","v":-307},{"$f":"'Total net migration 16-64'!R11","v":3265},{"$f":"'Total net migration 65+'!R11","v":-68},{"$f":"'Total in-migration'!R11","v":30120},{"$f":"'Total out-migration'!R11","v":27230},{"$f":"'Within Scotland net migration'!R11","v":-3090},{"$f":"'Within Scotland in-migration'!R11","v":9640},{"$f":"'Within Scotland out-migration'!R11","v":12730},{"$f":"'Rest of UK net migration'!R11","v":1730},{"$f":"'Rest of UK in-migration'!R11","v":9030},{"$f":"'Rest of UK out-migration'!R11","v":7300},{"$f":"'International net migration'!R11","v":4250},{"$f":"'International in-migration'!R11","v":11450},{"$f":"'International out-migration'!R11","v":7200},{"$f":"NINo!R11","v":4550},{"$f":"'Births to non-UK mothers'!R11","v":1698},{"$f":"'Pupils'' ethnic group (TS)'!S11","v":9876},{"$f":"'Pupils with English as an add.'!P11","v":7419},{"$f":"'Pop born outside UK'!R11","v":116000},{"$f":"'Non-British Population'!R11","v":100000},{"$f":"Citizenships!R11","v":762}]
[8,"Clackmannanshire",null,{"$f":"'Total net migration'!R12","v":100},{"$f":"'Total net migration 0-15'!R12","v":79},{"$f":"'Total net migration 16-64'!R12","v":29},{"$f":"'Total net migration 65+'!R12","v":-4},{"$f":"'Total in-migration'!R12","v":1540},{"$f":"'Total out-migration'!R12","v":1440},{"$f":"'Within Scotland net migration'!R12","v":10},{"$f":"'Within Scotland in-migration'!R12","v":1160},{"$f":"'Within Scotland out-migration'!R12","v":1150},{"$f":"'Rest of UK net migration'!R12","v":100},{"$f":"'Rest of UK in-migration'!R12","v":270},{"$f":"'Rest of UK out-migration'!R12","v":160},{"$f":"'International net migration'!R12","v":-10},{"$f":"'International in-migration'!R12","v":120},{"$f":"'International out-migration'!R12","v":130},{"$f":"NINo!R12","v":40},{"$f":"'Births to non-UK mothers'!R12","v":46},{"$f":"'Pupils'' ethnic group (TS)'!S12","v":254},{"$f":"'Pupils with English as an add.'!P12","v":204},{"$f":"'Pop born outside UK'!R12","v":3000},{"$f":"'Non-British Population'!R12","v":3000},{"$f":"Citizenships!R12","v":10}]
[9,"Dumfries and Galloway",null,{"$f":"'Total net migration'!R13","v":340},{"$f":"'Total net migration 0-15'!R13","v":153},{"$f":"'Total net migration 16-64'!R13","v":121},{"$f":"'Total net migration 65+'!R13","v":61},{"$f":"'Total in-migration'!R13","v":3550},{"$f":"'Total out-migration'!R13","v":3220},{"$f":"'Within Scotland net migration'!R13","v":-70},{"$f":"'Within Scotland in-migration'!R13","v":1380},{"$f":"'Within Scotland out-migration'!R13","v":1440},{"$f":"'Rest of UK net migration'!R13","v":730},{"$f":"'Rest of UK in-migration'!R13","v":1890},{"$f":"'Rest of UK out-migration'!R13","v":1160},{"$f":"'International net migration'!R13","v":-330},{"$f":"'International in-migration'!R13","v":280},{"$f":"'International out-migration'!R13","v":610},{"$f":"NINo!R13","v":80},{"$f":"'Births to non-UK mothers'!R13","v":95},{"$f":"'Pupils'' ethnic group (TS)'!S13","v":484},{"$f":"'Pupils with English as an add.'!P13","v":442},{"$f":"'Pop born outside UK'!R13","v":8000},{"$f":"'Non-British Population'!R13","v":4000},{"$f":"Citizenships!R13","v":28}]
[10,"Dundee City",null,{"$f":"'Total net migration'!R14","v":-80},{"$f":"'Total net migration 0-15'!R14","v":-115},{"$f":"'Total net migration 16-64'!R14","v":71},{"$f":"'Total net migration 65+'!R14","v":-38},{"$f":"'Total in-migration'!R14","v":6370},{"$f":"'Total out-migration'!R14","v":6460},{"$f":"'Within Scotland net migration'!R14","v":-590},{"$f":"'Within Scotland in-migration'!R14","v":3660},{"$f":"'Within Scotland out-migration'!R14","v":4250},{"$f":"'Rest of UK net migration'!R14","v":120},{"$f":"'Rest of UK in-migration'!R14","v":1160},{"$f":"'Rest of UK out-migration'!R14","v":1040},{"$f":"'International net migration'!R14","v":390},{"$f":"'International in-migration'!R14","v":1550},{"$f":"'International out-migration'!R14","v":1160},{"$f":"NINo!R14","v":650},{"$f":"'Births to non-UK mothers'!R14","v":275},{"$f":"'Pupils'' ethnic group (TS)'!S14","v":2038},{"$f":"'Pupils with English as an add.'!P14","v":1301},{"$f":"'Pop born outside UK'!R14","v":18000},{"$f":"'Non-British Population'!R14","v":14000},{"$f":"Citizenships!R14","v":82}]
[11,"East Ayrshire",null,{"$f":"'Total net migration'!R15","v":50},{"$f":"'Total net migration 0-15'!R15","v":-19},{"$f":"'Total net migration 16-64'!R15","v":20},{"$f":"'Total net migration 65+'!R15","v":46},{"$f":"'Total in-migration'!R15","v":2770},{"$f":"'Total out-migration'!R15","v":2730},{"$f":"'Within Scotland net migration'!R15","v":80},{"$f":"'Within Scotland in-migration'!R15","v":2100},{"$f":"'Within Scotland out-migration'!R15","v":2030},{"$f":"'Rest of UK net migration'!R15","v":160},{"$f":"'Rest of UK in-migration'!R15","v":570},{"$f":"'Rest of UK out-migration'!R15","v":410},{"$f":"'International net migration'!R15","v":-190},{"$f":"'International in-migration'!R15","v":100},{"$f":"'International out-migration'!R15","v":290},{"$f":"NINo!R15","v":50},{"$f":"'Births to non-UK mothers'!R15","v":57},{"$f":"'Pupils'' ethnic group (TS)'!S15","v":479},{"$f":"'Pupils with English as an add.'!P15","v":183},{"$f":"'Pop born outside UK'!R15","v":5000},{"$f":"'Non-British Population'!R15","v":3000},{"$f":"Citizenships!R15","v":6}]
[12,"East Dunbartonshire",null,{"$f":"'Total net migration'!R16","v":610},{"$f":"'Total net migration 0-15'!R16","v":422},{"$f":"'Total net migration 16-64'!R16","v":214},{"$f":"'Total net migration 65+'!R16","v":-28},{"$f":"'Total in-migration'!R16","v":3440},{"$f":"'Total out-migration'!R16","v":2830},{"$f":"'Within Scotland net migration'!R16","v":580},{"$f":"'Within Scotland in-migration'!R16","v":2880},{"$f":"'Within Scotland out-migration'!R16","v":2300},{"$f":"'Rest of UK net migration'!R16","v":50},{"$f":"'Rest of UK in-migration'!R16","v":390},{"$f":"'Rest of UK out-migration'!R16","v":340},{"$f":"'International net migration'!R16","v":-20},{"$f":"'International in-migration'!R16","v":160},{"$f":"'International out-migration'!R16","v":190},{"$f":"NINo!R16","v":50},{"$f":"'Births to non-UK mothers'!R16","v":99},{"$f":"'Pupils'' ethnic group (TS)'!S16","v":1816},{"$f":"'Pupils with English as an add.'!P16","v":661},{"$f":"'Pop born outside UK'!R16","v":6000},{"$f":"'Non-British Population'!R16","v":4000},{"$f":"Citizenships!R16","v":37}]
[13,"East Lothian",null,{"$f":"'Total net migration'!R17","v":970},{"$f":"'Total net migration 0-15'!R17","v":230},{"$f":"'Total net migration 16-64'!R17","v":594},{"$f":"'Total net migration 65+'!R17","v":148},{"$f":"'Total in-migration'!R17","v":4210},{"$f":"'Total out-migration'!R17","v":3240},{"$f":"'Within Scotland net migration'!R17","v":760},{"$f":"'Within Scotland in-migration'!R17","v":3100},{"$f":"'Within Scotland out-migration'!R17","v":2340},{"$f":"'Rest of UK net migration'!R17","v":220},{"$f":"'Rest of UK in-migration'!R17","v":710},{"$f":"'Rest of UK out-migration'!R17","v":490},{"$f":"'International net migration'!R17","v":0},{"$f":"'International in-migration'!R17","v":400},{"$f":"'International out-migration'!R17","v":400},{"$f":"NINo!R17","v":170},{"$f":"'Births to non-UK mothers'!R17","v":115},{"$f":"'Pupils'' ethnic group (TS)'!S17","v":548},{"$f":"'Pupils with English as an add.'!P17","v":443},{"$f":"'Pop born outside UK'!R17","v":9000},{"$f":"'Non-British Population'!R17","v":6000},{"$f":"Citizenships!R17","v":36}]
[14,"East Renfrewshire",null,{"$f":"'Total net migration'!R18","v":730},{"$f":"'Total net migration 0-15'!R18","v":575},{"$f":"'Total net migration 16-64'!R18","v":139},{"$f":"'Total net migration 65+'!R18","v":18},{"$f":"'Total in-migration'!R18","v":3480},{"$f":"'Total out-migration'!R18","v":2750},{"$f":"'Within Scotland net migration'!R18","v":750},{"$f":"'Within Scotland in-migration'!R18","v":2980},{"$f":"'Within Scotland out-migration'!R18","v":2230},{"$f":"'Rest of UK net migration'!R18","v":30},{"$f":"'Rest of UK in-migration'!R18","v":370},{"$f":"'Rest of UK out-migration'!R18","v":340},{"$f":"'International net migration'!R18","v":-50},{"$f":"'International in-migration'!R18","v":140},{"$f":"'International out-migration'!R18","v":180},{"$f":"NINo!R18","v":60},{"$f":"'Births to non-UK mothers'!R18","v":117},{"$f":"'Pupils'' ethnic group (TS)'!S18","v":3680},{"$f":"'Pupils with English as an add.'!P18","v":871},{"$f":"'Pop born outside UK'!R18","v":6000},{"$f":"'Non-British Population'!R18","v":3000},{"$f":"Citizenships!R18","v":54}]
[15,"Falkirk",null,{"$f":"'Total net migration'!R19","v":230},{"$f":"'Total net migration 0-15'!R19","v":36},{"$f":"'Total net migration 16-64'!R19","v":170},{"$f":"'Total net migration 65+'!R19","v":22},{"$f":"'Total in-migration'!R19","v":3610},{"$f":"'Total out-migration'!R19","v":3380},{"$f":"'Within Scotland net migration'!R19","v":240},{"$f":"'Within Scotland in-migration'!R19","v":2780},{"$f":"'Within Scotland out-migration'!R19","v":2550},{"$f":"'Rest of UK net migration'!R19","v":100},{"$f":"'Rest of UK in-migration'!R19","v":530},{"$f":"'Rest of UK out-migration'!R19","v":430},{"$f":"'International net migration'!R19","v":-110},{"$f":"'International in-migration'!R19","v":290},{"$f":"'International out-migration'!R19","v":400},{"$f":"NINo!R19","v":140},{"$f":"'Births to non-UK mothers'!R19","v":159},{"$f":"'Pupils'' ethnic group (TS)'!S19","v":1019},{"$f":"'Pupils with English as an add.'!P19","v":756},{"$f":"'Pop born outside UK'!R19","v":8000},{"$f":"'Non-British Population'!R19","v":5000},{"$f":"Citizenships!R19","v":53}]
[16,"Fife",null,{"$f":"'Total net migration'!R20","v":1440},{"$f":"'Total net migration 0-15'!R20","v":334},{"$f":"'Total net migration 16-64'!R20","v":939},{"$f":"'Total net migration 65+'!R20","v":162},{"$f":"'Total in-migration'!R20","v":10390},{"$f":"'Total out-migration'!R20","v":8960},{"$f":"'Within Scotland net migration'!R20","v":770},{"$f":"'Within Scotland in-migration'!R20","v":5660},{"$f":"'Within Scotland out-migration'!R20","v":4890},{"$f":"'Rest of UK net migration'!R20","v":410},{"$f":"'Rest of UK in-migration'!R20","v":2640},{"$f":"'Rest of UK out-migration'!R20","v":2240},{"$f":"'International net migration'!R20","v":260},{"$f":"'International in-migration'!R20","v":2080},{"$f":"'International out-migration'!R20","v":1830},{"$f":"NINo!R20","v":620},{"$f":"'Births to non-UK mothers'!R20","v":437},{"$f":"'Pupils'' ethnic group (TS)'!S20","v":2437},{"$f":"'Pupils with English as an add.'!P20","v":1796},{"$f":"'Pop born outside UK'!R20","v":30000},{"$f":"'Non-British Population'!R20","v":25000},{"$f":"Citizenships!R20","v":109}]
[17,"Glasgow City",null,{"$f":"'Total net migration'!R21","v":3260},{"$f":"'Total net migration 0-15'!R21","v":-1001},{"$f":"'Total net migration 16-64'!R21","v":4413},{"$f":"'Total net migration 65+'!R21","v":-152},{"$f":"'Total in-migration'!R21","v":32000},{"$f":"'Total out-migration'!R21","v":28740},{"$f":"'Within Scotland net migration'!R21","v":-2620},{"$f":"'Within Scotland in-migration'!R21","v":13920},{"$f":"'Within Scotland out-migration'!R21","v":16540},{"$f":"'Rest of UK net migration'!R21","v":1000},{"$f":"'Rest of UK in-migration'!R21","v":6200},{"$f":"'Rest of UK out-migration'!R21","v":5200},{"$f":"'International net migration'!R21","v":4880},{"$f":"'International in-migration'!R21","v":11880},{"$f":"'International out-migration'!R21","v":7000},{"$f":"NINo!R21","v":5510},{"$f":"'Births to non-UK mothers'!R21","v":1939},{"$f":"'Pupils'' ethnic group (TS)'!S21","v":17137},{"$f":"'Pupils with English as an add.'!P21","v":15865},{"$f":"'Pop born outside UK'!R21","v":90000},{"$f":"'Non-British Population'!R21","v":75000},{"$f":"Citizenships!R21","v":785}]
[18,"Highland",null,{"$f":"'Total net migration'!R22","v":390},{"$f":"'Total net migration 0-15'!R22","v":82},{"$f":"'Total net migration 16-64'!R22","v":291},{"$f":"'Total net migration 65+'!R22","v":21},{"$f":"'Total in-migration'!R22","v":6190},{"$f":"'Total out-migration'!R22","v":5790},{"$f":"'Within Scotland net migration'!R22","v":-140},{"$f":"'Within Scotland in-migration'!R22","v":3300},{"$f":"'Within Scotland out-migration'!R22","v":3440},{"$f":"'Rest of UK net migration'!R22","v":860},{"$f":"'Rest of UK in-migration'!R22","v":2200},{"$f":"'Rest of UK out-migration'!R22","v":1340},{"$f":"'International net migration'!R22","v":-330},{"$f":"'International in-migration'!R22","v":690},{"$f":"'International out-migration'!R22","v":1010},{"$f":"NINo!R22","v":310},{"$f":"'Births to non-UK mothers'!R22","v":252},{"$f":"'Pupils'' ethnic group (TS)'!S22","v":1162},{"$f":"'Pupils with English as an add.'!P22","v":1393},{"$f":"'Pop born outside UK'!R22","v":17000},{"$f":"'Non-British Population'!R22","v":11000},{"$f":"Citizenships!R22","v":51}]
[19,"Inverclyde",null,{"$f":"'Total net migration'!R23","v":-100},{"$f":"'Total net migration 0-15'!R23","v":28},{"$f":"'Total net migration 16-64'!R23","v":-125},{"$f":"'Total net migration 65+'!R23","v":1},{"$f":"'Total in-migration'!R23","v":1250},{"$f":"'Total out-migration'!R23","v":1350},{"$f":"'Within Scotland net migration'!R23","v":-100},{"$f":"'Within Scotland in-migration'!R23","v":910},{"$f":"'Within Scotland out-migration'!R23","v":1010},{"$f":"'Rest of UK net migration'!R23","v":70},{"$f":"'Rest of UK in-migration'!R23","v":270},{"$f":"'Rest of UK out-migration'!R23","v":200},{"$f":"'International net migration'!R23","v":-70},{"$f":"'International in-migration'!R23","v":70},{"$f":"'International out-migration'!R23","v":140},{"$f":"NINo!R23","v":40},{"$f":"'Births to non-UK mothers'!R23","v":31},{"$f":"'Pupils'' ethnic group (TS)'!S23","v":283},{"$f":"'Pupils with English as an add.'!P23","v":126},{"$f":"'Pop born outside UK'!R23","v":3000},{"$f":"'Non-British Population'!R23","v":1000},{"$f":"Citizenships!R23","v":5}]
[20,"Midlothian",null,{"$f":"'Total net migration'!R24","v":630},{"$f":"'Total net migration 0-15'!R24","v":122},{"$f":"'Total net migration 16-64'!R24","v":531},{"$f":"'Total net migration 65+'!R24","v":-25},{"$f":"'Total in-migration'!R24","v":3230},{"$f":"'Total out-migration'!R24","v":2600},{"$f":"'Within Scotland net migration'!R24","v":610},{"$f":"'Within Scotland in-migration'!R24","v":2660},{"$f":"'Within Scotland out-migration'!R24","v":2050},{"$f":"'Rest of UK net migration'!R24","v":90},{"$f":"'Rest of UK in-migration'!R24","v":420},{"$f":"'Rest of UK out-migration'!R24","v":330},{"$f":"'International net migration'!R24","v":-70},{"$f":"'International in-migration'!R24","v":150},{"$f":"'International out-migration'!R24","v":220},{"$f":"NINo!R24","v":100},{"$f":"'Births to non-UK mothers'!R24","v":141},{"$f":"'Pupils'' ethnic group (TS)'!S24","v":763},{"$f":"'Pupils with English as an add.'!P24","v":501},{"$f":"'Pop born outside UK'!R24","v":6000},{"$f":"'Non-British Population'!R24","v":3000},{"$f":"Citizenships!R24","v":69}]
[21,"Moray",null,{"$f":"'Total net migration'!R25","v":20},{"$f":"'Total net migration 0-15'!R25","v":61},{"$f":"'Total net migration 16-64'!R25","v":-120},{"$f":"'Total net migration 65+'!R25","v":79},{"$f":"'Total in-migration'!R25","v":2720},{"$f":"'Total out-migration'!R25","v":2700},{"$f":"'Within Scotland net migration'!R25","v":-190},{"$f":"'Within Scotland in-migration'!R25","v":1430},{"$f":"'Within Scotland out-migration'!R25","v":1630},{"$f":"'Rest of UK net migration'!R25","v":320},{"$f":"'Rest of UK in-migration'!R25","v":1010},{"$f":"'Rest of UK out-migration'!R25","v":690},{"$f":"'International net migration'!R25","v":-100},{"$f":"'International in-migration'!R25","v":280},{"$f":"'International out-migration'!R25","v":380},{"$f":"NINo!R25","v":70},{"$f":"'Births to non-UK mothers'!R25","v":93},{"$f":"'Pupils'' ethnic group (TS)'!S25","v":399},{"$f":"'Pupils with English as an add.'!P25","v":452},{"$f":"'Pop born outside UK'!R25","v":5000},{"$f":"'Non-British Population'!R25","v":3000},{"$f":"Citizenships!R25","v":23}]
[22,"Na h-Eileanan Siar",null,{"$f":"'Total net migration'!R26","v":-40},{"$f":"'Total net migration 0-15'!R26","v":-15},{"$f":"'Total net migration 16-64'!R26","v":-16},{"$f":"'Total net migration 65+'!R26","v":-8},{"$f":"'Total in-migration'!R26","v":720},{"$f":"'Total out-migration'!R26","v":750},{"$f":"'Within Scotland net migration'!R26","v":-40},{"$f":"'Within Scotland in-migration'!R26","v":490},{"$f":"'Within Scotland out-migration'!R26","v":530},{"$f":"'Rest of UK net migration'!R26","v":60},{"$f":"'Rest of UK in-migration'!R26","v":190},{"$f":"'Rest of UK out-migration'!R26","v":130},{"$f":"'International net migration'!R26","v":-60},{"$f":"'International in-migration'!R26","v":40},{"$f":"'International out-migration'!R26","v":90},{"$f":"NINo!R26","v":20},{"$f":"'Births to non-UK mothers'!R26","v":13},{"$f":"'Pupils'' ethnic group (TS)'!S26","v":71},{"$f":"'Pupils with English as an add.'!P26","v":67},{"$f":"'Pop born outside UK'!R26","v":1000},{"$f":"'Non-British Population'!R26","v":"[low]"},{"$f":"Citizenships!R26","v":5}]
[23,"North Ayrshire",null,{"$f":"'Total net migration'!R27","v":140},{"$f":"'Total net migration 0-15'!R27","v":73},{"$f":"'Total net migration 16-64'!R27","v":28},{"$f":"'Total net migration 65+'!R27","v":41},{"$f":"'Total in-migration'!R27","v":3210},{"$f":"'Total out-migration'!R27","v":3060},{"$f":"'Within Scotland net migration'!R27","v":90},{"$f":"'Within Scotland in-migration'!R27","v":2330},{"$f":"'Within Scotland out-migration'!R27","v":2250},{"$f":"'Rest of UK net migration'!R27","v":210},{"$f":"'Rest of UK in-migration'!R27","v":660},{"$f":"'Rest of UK out-migration'!R27","v":460},{"$f":"'International net migration'!R27","v":-150},{"$f":"'International in-migration'!R27","v":210},{"$f":"'International out-migration'!R27","v":360},{"$f":"NINo!R27","v":40},{"$f":"'Births to non-UK mothers'!R27","v":49},{"$f":"'Pupils'' ethnic group (TS)'!S27","v":504},{"$f":"'Pupils with English as an add.'!P27","v":224},{"$f":"'Pop born outside UK'!R27","v":3000},{"$f":"'Non-British Population'!R27","v":2000},{"$f":"Citizenships!R27","v":11}]
[24,"North Lanarkshire",null,{"$f":"'Total net migration'!R28","v":440},{"$f":"'Total net migration 0-15'!R28","v":260},{"$f":"'Total net migration 16-64'!R28","v":236},{"$f":"'Total net migration 65+'!R28","v":-60},{"$f":"'Total in-migration'!R28","v":6590},{"$f":"'Total out-migration'!R28","v":6160},{"$f":"'Within Scotland net migration'!R28","v":510},{"$f":"'Within Scotland in-migration'!R28","v":5160},{"$f":"'Within Scotland out-migration'!R28","v":4650},{"$f":"'Rest of UK net migration'!R28","v":280},{"$f":"'Rest of UK in-migration'!R28","v":930},{"$f":"'Rest of UK out-migration'!R28","v":660},{"$f":"'International net migration'!R28","v":-350},{"$f":"'International in-migration'!R28","v":500},{"$f":"'International out-migration'!R28","v":850},{"$f":"NINo!R28","v":270},{"$f":"'Births to non-UK mothers'!R28","v":243},{"$f":"'Pupils'' ethnic group (TS)'!S28","v":2522},{"$f":"'Pupils with English as an add.'!P28","v":1741},{"$f":"'Pop born outside UK'!R28","v":16000},{"$f":"'Non-British Population'!R28","v":18000},{"$f":"Citizenships!R28","v":71}]
[25,"Orkney Islands",null,{"$f":"'Total net migration'!R29","v":170},{"$f":"'Total net migration 0-15'!R29","v":20},{"$f":"'Total net migration 16-64'!R29","v":110},{"$f":"'Total net migration 65+'!R29","v":37},{"$f":"'Total in-migration'!R29","v":700},{"$f":"'Total out-migration'!R29","v":530},{"$f":"'Within Scotland net migration'!R29","v":30},{"$f":"'Within Scotland in-migration'!R29","v":340},{"$f":"'Within Scotland out-migration'!R29","v":320},{"$f":"'Rest of UK net migration'!R29","v":190},{"$f":"'Rest of UK in-migration'!R29","v":310},{"$f":"'Rest of UK out-migration'!R29","v":130},{"$f":"'International net migration'!R29","v":-50},{"$f":"'International in-migration'!R29","v":40},{"$f":"'International out-migration'!R29","v":90},{"$f":"NINo!R29","v":10},{"$f":"'Births to non-UK mothers'!R29","v":9},{"$f":"'Pupils'' ethnic group (TS)'!S29","v":60},{"$f":"'Pupils with English as an add.'!P29","v":16},{"$f":"'Pop born outside UK'!R29","v":1000},{"$f":"'Non-British Population'!R29","v":"[c]"},{"$f":"Citizenships!R29","v":4}]
[26,"Perth and Kinross",null,{"$f":"'Total net migration'!R30","v":720},{"$f":"'Total net migration 0-15'!R30","v":256},{"$f":"'Total net migration 16-64'!R30","v":401},{"$f":"'Total net migration 65+'!R30","v":60},{"$f":"'Total in-migration'!R30","v":5290},{"$f":"'Total out-migration'!R30","v":4570},{"$f":"'Within Scotland net migration'!R30","v":510},{"$f":"'Within Scotland in-migration'!R30","v":3580},{"$f":"'Within Scotland out-migration'!R30","v":3070},{"$f":"'Rest of UK net migration'!R30","v":240},{"$f":"'Rest of UK in-migration'!R30","v":1030},{"$f":"'Rest of UK out-migration'!R30","v":790},{"$f":"'International net migration'!R30","v":-40},{"$f":"'International in-migration'!R30","v":680},{"$f":"'International out-migration'!R30","v":710},{"$f":"NINo!R30","v":450},{"$f":"'Births to non-UK mothers'!R30","v":219},{"$f":"'Pupils'' ethnic group (TS)'!S30","v":824},{"$f":"'Pupils with English as an add.'!P30","v":948},{"$f":"'Pop born outside UK'!R30","v":13000},{"$f":"'Non-British Population'!R30","v":9000},{"$f":"Citizenships!R30","v":40}]
[27,"Renfrewshire",null,{"$f":"'Total net migration'!R31","v":850},{"$f":"'Total net migration 0-15'!R31","v":130},{"$f":"'Total net migration 16-64'!R31","v":641},{"$f":"'Total net migration 65+'!R31","v":75},{"$f":"'Total in-migration'!R31","v":5250},{"$f":"'Total out-migration'!R31","v":4410},{"$f":"'Within Scotland net migration'!R31","v":800},{"$f":"'Within Scotland in-migration'!R31","v":3930},{"$f":"'Within Scotland out-migration'!R31","v":3130},{"$f":"'Rest of UK net migration'!R31","v":90},{"$f":"'Rest of UK in-migration'!R31","v":680},{"$f":"'Rest of UK out-migration'!R31","v":580},{"$f":"'International net migration'!R31","v":-50},{"$f":"'International in-migration'!R31","v":650},{"$f":"'International out-migration'!R31","v":700},{"$f":"NINo!R31","v":360},{"$f":"'Births to non-UK mothers'!R31","v":183},{"$f":"'Pupils'' ethnic group (TS)'!S31","v":1516},{"$f":"'Pupils with English as an add.'!P31","v":963},{"$f":"'Pop born outside UK'!R31","v":8000},{"$f":"'Non-British Population'!R31","v":6000},{"$f":"Citizenships!R31","v":58}]
[28,"Scottish Borders",null,{"$f":"'Total net migration'!R32","v":270},{"$f":"'Total net migration 0-15'!R32","v":138},{"$f":"'Total net migration 16-64'!R32","v":151},{"$f":"'Total net migration 65+'!R32","v":-19},{"$f":"'Total in-migration'!R32","v":3590},{"$f":"'Total out-migration'!R32","v":3320},{"$f":"'Within Scotland net migration'!R32","v":220},{"$f":"'Within Scotland in-migration'!R32","v":2030},{"$f":"'Within Scotland out-migration'!R32","v":1810},{"$f":"'Rest of UK net migration'!R32","v":320},{"$f":"'Rest of UK in-migration'!R32","v":1310},{"$f":"'Rest of UK out-migration'!R32","v":990},{"$f":"'International net migration'!R32","v":-270},{"$f":"'International in-migration'!R32","v":250},{"$f":"'International out-migration'!R32","v":520},{"$f":"NINo!R32","v":120},{"$f":"'Births to non-UK mothers'!R32","v":86},{"$f":"'Pupils'' ethnic group (TS)'!S32","v":408},{"$f":"'Pupils with English as an add.'!P32","v":510},{"$f":"'Pop born outside UK'!R32","v":4000},{"$f":"'Non-British Population'!R32","v":3000},{"$f":"Citizenships!R32","v":27}]
[29,"Shetland Islands",null,{"$f":"'Total net migration'!R33","v":-30},{"$f":"'Total net migration 0-15'!R33","v":21},{"$f":"'Total net migration 16-64'!R33","v":-34},{"$f":"'Total net migration 65+'!R33","v":-18},{"$f":"'Total in-migration'!R33","v":560},{"$f":"'Total out-migration'!R33","v":590},{"$f":"'Within Scotland net migration'!R33","v":-60},{"$f":"'Within Scotland in-migration'!R33","v":300},{"$f":"'Within Scotland out-migration'!R33","v":350},{"$f":"'Rest of UK net migration'!R33","v":70},{"$f":"'Rest of UK in-migration'!R33","v":220},{"$f":"'Rest of UK out-migration'!R33","v":150},{"$f":"'International net migration'!R33","v":-50},{"$f":"'International in-migration'!R33","v":50},{"$f":"'International out-migration'!R33","v":100},{"$f":"NINo!R33","v":20},{"$f":"'Births to non-UK mothers'!R33","v":20},{"$f":"'Pupils'' ethnic group (TS)'!S33","v":104},{"$f":"'Pupils with English as an add.'!P33","v":51},{"$f":"'Pop born outside UK'!R33","v":1000},{"$f":"'Non-British Population'!R33","v":1000},{"$f":"Citizenships!R33","v":7}]
[30,"South Ayrshire",null,{"$f":"'Total net migration'!R34","v":350},{"$f":"'Total net migration 0-15'!R34","v":116},{"$f":"'Total net migration 16-64'!R34","v":204},{"$f":"'Total net migration 65+'!R34","v":34},{"$f":"'Total in-migration'!R34","v":3180},{"$f":"'Total out-migration'!R34","v":2830},{"$f":"'Within Scotland net migration'!R34","v":270},{"$f":"'Within Scotland in-migration'!R34","v":2270},{"$f":"'Within Scotland out-migration'!R34","v":2000},{"$f":"'Rest of UK net migration'!R34","v":270},{"$f":"'Rest of UK in-migration'!R34","v":690},{"$f":"'Rest of UK out-migration'!R34","v":420},{"$f":"'International net migration'!R34","v":-190},{"$f":"'International in-migration'!R34","v":220},{"$f":"'International out-migration'!R34","v":410},{"$f":"NINo!R34","v":90},{"$f":"'Births to non-UK mothers'!R34","v":50},{"$f":"'Pupils'' ethnic group (TS)'!S34","v":432},{"$f":"'Pupils with English as an add.'!P34","v":224},{"$f":"'Pop born outside UK'!R34","v":5000},{"$f":"'Non-British Population'!R34","v":4000},{"$f":"Citizenships!R34","v":18}]
[31,"South Lanarkshire",null,{"$f":"'Total net migration'!R35","v":1170},{"$f":"'Total net migration 0-15'!R35","v":234},{"$f":"'Total net migration 16-64'!R35","v":902},{"$f":"'Total net migration 65+'!R35","v":38},{"$f":"'Total in-migration'!R35","v":8180},{"$f":"'Total out-migration'!R35","v":7000},{"$f":"'Within Scotland net migration'!R35","v":1200},{"$f":"'Within Scotland in-migration'!R35","v":6420},{"$f":"'Within Scotland out-migration'!R35","v":5210},{"$f":"'Rest of UK net migration'!R35","v":330},{"$f":"'Rest of UK in-migration'!R35","v":1260},{"$f":"'Rest of UK out-migration'!R35","v":930},{"$f":"'International net migration'!R35","v":-360},{"$f":"'International in-migration'!R35","v":500},{"$f":"'International out-migration'!R35","v":860},{"$f":"NINo!R35","v":320},{"$f":"'Births to non-UK mothers'!R35","v":259},{"$f":"'Pupils'' ethnic group (TS)'!S35","v":2488},{"$f":"'Pupils with English as an add.'!P35","v":1048},{"$f":"'Pop born outside UK'!R35","v":14000},{"$f":"'Non-British Population'!R35","v":9000},{"$f":"Citizenships!R35","v":50}]
[32,"Stirling",null,{"$f":"'Total net migration'!R36","v":130},{"$f":"'Total net migration 0-15'!R36","v":137},{"$f":"'Total net migration 16-64'!R36","v":4},{"$f":"'Total net migration 65+'!R36","v":-10},{"$f":"'Total in-migration'!R36","v":4530},{"$f":"'Total out-migration'!R36","v":4400},{"$f":"'Within Scotland net migration'!R36","v":-160},{"$f":"'Within Scotland in-migration'!R36","v":2830},{"$f":"'Within Scotland out-migration'!R36","v":2990},{"$f":"'Rest of UK net migration'!R36","v":240},{"$f":"'Rest of UK in-migration'!R36","v":920},{"$f":"'Rest of UK out-migration'!R36","v":680},{"$f":"'International net migration'!R36","v":50},{"$f":"'International in-migration'!R36","v":780},{"$f":"'International out-migration'!R36","v":730},{"$f":"NINo!R36","v":300},{"$f":"'Births to non-UK mothers'!R36","v":87},{"$f":"'Pupils'' ethnic group (TS)'!S36","v":618},{"$f":"'Pupils with English as an add.'!P36","v":371},{"$f":"'Pop born outside UK'!R36","v":5000},{"$f":"'Non-British Population'!R36","v":3000},{"$f":"Citizenships!R36","v":35}]
[33,"West Dunbartonshire",null,{"$f":"'Total net migration'!R37","v":-210},{"$f":"'Total net migration 0-15'!R37","v":-37},{"$f":"'Total net migration 16-64'!R37","v":-125},{"$f":"'Total net migration 65+'!R37","v":-43},{"$f":"'Total in-migration'!R37","v":1970},{"$f":"'Total out-migration'!R37","v":2180},{"$f":"'Within Scotland net migration'!R37","v":-130},{"$f":"'Within Scotland in-migration'!R37","v":1600},{"$f":"'Within Scotland out-migration'!R37","v":1730},{"$f":"'Rest of UK net migration'!R37","v":-50},{"$f":"'Rest of UK in-migration'!R37","v":240},{"$f":"'Rest of UK out-migration'!R37","v":290},{"$f":"'International net migration'!R37","v":-30},{"$f":"'International in-migration'!R37","v":130},{"$f":"'International out-migration'!R37","v":170},{"$f":"NINo!R37","v":70},{"$f":"'Births to non-UK mothers'!R37","v":59},{"$f":"'Pupils'' ethnic group (TS)'!S37","v":456},{"$f":"'Pupils with English as an add.'!P37","v":319},{"$f":"'Pop born outside UK'!R37","v":3000},{"$f":"'Non-British Population'!R37","v":3000},{"$f":"Citizenships!R37","v":25}]
[34,"West Lothian",null,{"$f":"'Total net migration'!R38","v":890},{"$f":"'Total net migration 0-15'!R38","v":263},{"$f":"'Total net migration 16-64'!R38","v":615},{"$f":"'Total net migration 65+'!R38","v":8},{"$f":"'Total in-migration'!R38","v":5050},{"$f":"'Total out-migration'!R38","v":4160},{"$f":"'Within Scotland net migration'!R38","v":630},{"$f":"'Within Scotland in-migration'!R38","v":3740},{"$f":"'Within Scotland out-migration'!R38","v":3110},{"$f":"'Rest of UK net migration'!R38","v":190},{"$f":"'Rest of UK in-migration'!R38","v":760},{"$f":"'Rest of UK out-migration'!R38","v":580},{"$f":"'International net migration'!R38","v":70},{"$f":"'International in-migration'!R38","v":550},{"$f":"'International out-migration'!R38","v":480},{"$f":"NINo!R38","v":280},{"$f":"'Births to non-UK mothers'!R38","v":283},{"$f":"'Pupils'' ethnic group (TS)'!S38","v":1862},{"$f":"'Pupils with English as an add.'!P38","v":1916},{"$f":"'Pop born outside UK'!R38","v":20000},{"$f":"'Non-British Population'!R38","v":18000},{"$f":"Citizenships!R38","v":86}]
[]
[35,"Not specified"]
[36,"Scotland",null,{"$f":"'Total net migration'!R41","v":16900},{"$f":"'Total net migration 0-15'!R41","v":2614},{"$f":"'Total net migration 16-64'!R41","v":13928},{"$f":"'Total net migration 65+'!R41","v":340},{"$f":"'Total in-migration'!R41","v":81000},{"$f":"'Total out-migration'!R41","v":64100},{"$f":"'Within Scotland net migration'!Q41","v":"[z]"},{"$f":"'Within Scotland in-migration'!Q41","v":"[z]"},{"$f":"'Within Scotland out-migration'!Q41","v":"[z]"},{"$f":"'Rest of UK net migration'!R41","v":9000},{"$f":"'Rest of UK in-migration'!R41","v":41800},{"$f":"'Rest of UK out-migration'!R41","v":32800},{"$f":"'International net migration'!R41","v":7900},{"$f":"'International in-migration'!R41","v":39200},{"$f":"'International out-migration'!R41","v":31300},null,{"$f":"'Births to non-UK mothers'!R41","v":8275}]
[37,"Ayrshire and Arran",null,{"$f":"'Total net migration'!R42","v":540},{"$f":"'Total net migration 0-15'!R42","v":170},{"$f":"'Total net migration 16-64'!R42","v":252},{"$f":"'Total net migration 65+'!R42","v":121},{"$f":"'Total in-migration'!R42","v":6840},{"$f":"'Total out-migration'!R42","v":6300},{"$f":"'Within Scotland net migration'!R42","v":440},{"$f":"'Within Scotland in-migration'!R42","v":4390},{"$f":"'Within Scotland out-migration'!R42","v":3950},{"$f":"'Rest of UK net migration'!R42","v":630},{"$f":"'Rest of UK in-migration'!R42","v":1920},{"$f":"'Rest of UK out-migration'!R42","v":1290},{"$f":"'International net migration'!R42","v":-530},{"$f":"'International in-migration'!R42","v":530},{"$f":"'International out-migration'!R42","v":1060},null,{"$f":"'Births to non-UK mothers'!R42","v":156}]
[38,"Borders",null,{"$f":"'Total net migration'!R43","v":270},{"$f":"'Total net migration 0-15'!R43","v":138},{"$f":"'Total net migration 16-64'!R43","v":151},{"$f":"'Total net migration 65+'!R43","v":-19},{"$f":"'Total in-migration'!R43","v":3590},{"$f":"'Total out-migration'!R43","v":3320},{"$f":"'Within Scotland net migration'!R43","v":220},{"$f":"'Within Scotland in-migration'!R43","v":2030},{"$f":"'Within Scotland out-migration'!R43","v":1810},{"$f":"'Rest of UK net migration'!R43","v":320},{"$f":"'Rest of UK in-migration'!R43","v":1310},{"$f":"'Rest of UK out-migration'!R43","v":990},{"$f":"'International net migration'!R43","v":-270},{"$f":"'International in-migration'!R43","v":250},{"$f":"'International out-migration'!R43","v":520},null,{"$f":"'Births to non-UK mothers'!R43","v":86}]
[39,"Dumfries and Galloway",null,{"$f":"'Total net migration'!R44","v":340},{"$f":"'Total net migration 0-15'!R44","v":153},{"$f":"'Total net migration 16-64'!R44","v":121},{"$f":"'Total net migration 65+'!R44","v":61},{"$f":"'Total in-migration'!R44","v":3550},{"$f":"'Total out-migration'!R44","v":3220},{"$f":"'Within Scotland net migration'!R44","v":-70},{"$f":"'Within Scotland in-migration'!R44","v":1380},{"$f":"'Within Scotland out-migration'!R44","v":1440},{"$f":"'Rest of UK net migration'!R44","v":730},{"$f":"'Rest of UK in-migration'!R44","v":1890},{"$f":"'Rest of UK out-migration'!R44","v":1160},{"$f":"'International net migration'!R44","v":-330},{"$f":"'International in-migration'!R44","v":280},{"$f":"'International out-migration'!R44","v":610},null,{"$f":"'Births to non-UK mothers'!R44","v":95}]
[40,"Fife",null,{"$f":"'Total net migration'!R45","v":1440},{"$f":"'Total net migration 0-15'!R45","v":334},{"$f":"'Total net migration 16-64'!R45","v":939},{"$f":"'Total net migration 65+'!R45","v":162},{"$f":"'Total in-migration'!R45","v":10390},{"$f":"'Total out-migration'!R45","v":8960},{"$f":"'Within Scotland net migration'!R45","v":770},{"$f":"'Within Scotland in-migration'!R45","v":5660},{"$f":"'Within Scotland out-migration'!R45","v":4890},{"$f":"'Rest of UK net migration'!R45","v":410},{"$f":"'Rest of UK in-migration'!R45","v":2640},{"$f":"'Rest of UK out-migration'!R45","v":2240},{"$f":"'International net migration'!R45","v":260},{"$f":"'International in-migration'!R45","v":2080},{"$f":"'International out-migration'!R45","v":1830},null,{"$f":"'Births to non-UK mothers'!R45","v":437}]
[41,"Forth Valley",null,{"$f":"'Total net migration'!R46","v":460},{"$f":"'Total net migration 0-15'!R46","v":252},{"$f":"'Total net migration 16-64'!R46","v":203},{"$f":"'Total net migration 65+'!R46","v":8},{"$f":"'Total in-migration'!R46","v":8230},{"$f":"'Total out-migration'!R46","v":7770},{"$f":"'Within Scotland net migration'!R46","v":80},{"$f":"'Within Scotland in-migration'!R46","v":5330},{"$f":"'Within Scotland out-migration'!R46","v":5240},{"$f":"'Rest of UK net migration'!R46","v":450},{"$f":"'Rest of UK in-migration'!R46","v":1720},{"$f":"'Rest of UK out-migration'!R46","v":1270},{"$f":"'International net migration'!R46","v":-70},{"$f":"'International in-migration'!R46","v":1190},{"$f":"'International out-migration'!R46","v":1260},null,{"$f":"'Births to non-UK mothers'!R46","v":292}]
[42,"Grampian",null,{"$f":"'Total net migration'!R47","v":400},{"$f":"'Total net migration 0-15'!R47","v":336},{"$f":"'Total net migration 16-64'!R47","v":-4},{"$f":"'Total net migration 65+'!R47","v":63},{"$f":"'Total in-migration'!R47","v":14630},{"$f":"'Total out-migration'!R47","v":14240},{"$f":"'Within Scotland net migration'!R47","v":-990},{"$f":"'Within Scotland in-migration'!R47","v":5800},{"$f":"'Within Scotland out-migration'!R47","v":6790},{"$f":"'Rest of UK net migration'!R47","v":270},{"$f":"'Rest of UK in-migration'!R47","v":4130},{"$f":"'Rest of UK out-migration'!R47","v":3850},{"$f":"'International net migration'!R47","v":1110},{"$f":"'International in-migration'!R47","v":4710},{"$f":"'International out-migration'!R47","v":3590},null,{"$f":"'Births to non-UK mothers'!R47","v":1097}]
[43,"Greater Glasgow and Clyde",null,{"$f":"'Total net migration'!R48","v":5150},{"$f":"'Total net migration 0-15'!R48","v":117},{"$f":"'Total net migration 16-64'!R48","v":5157},{"$f":"'Total net migration 65+'!R48","v":-129},{"$f":"'Total in-migration'!R48","v":36300},{"$f":"'Total out-migration'!R48","v":31150},{"$f":"'Within Scotland net migration'!R48","v":-700},{"$f":"'Within Scotland in-migration'!R48","v":15130},{"$f":"'Within Scotland out-migration'!R48","v":15830},{"$f":"'Rest of UK net migration'!R48","v":1180},{"$f":"'Rest of UK in-migration'!R48","v":8140},{"$f":"'Rest of UK out-migration'!R48","v":6950},{"$f":"'International net migration'!R48","v":4660},{"$f":"'International in-migration'!R48","v":13030},{"$f":"'International out-migration'!R48","v":8370},null,{"$f":"'Births to non-UK mothers'!R48","v":2428}]
[44,"Highland",null,{"$f":"'Total net migration'!R49","v":300},{"$f":"'Total net migration 0-15'!R49","v":40},{"$f":"'Total net migration 16-64'!R49","v":333},{"$f":"'Total net migration 65+'!R49","v":-72},{"$f":"'Total in-migration'!R49","v":9370},{"$f":"'Total out-migration'!R49","v":9070},{"$f":"'Within Scotland net migration'!R49","v":-420},{"$f":"'Within Scotland in-migration'!R49","v":4930},{"$f":"'Within Scotland out-migration'!R49","v":5350},{"$f":"'Rest of UK net migration'!R49","v":1330},{"$f":"'Rest of UK in-migration'!R49","v":3460},{"$f":"'Rest of UK out-migration'!R49","v":2140},{"$f":"'International net migration'!R49","v":-600},{"$f":"'International in-migration'!R49","v":990},{"$f":"'International out-migration'!R49","v":1590},null,{"$f":"'Births to non-UK mothers'!R49","v":313}]
[45,"Lanarkshire",null,{"$f":"'Total net migration'!R50","v":1610},{"$f":"'Total net migration 0-15'!R50","v":494},{"$f":"'Total net migration 16-64'!R50","v":1138},{"$f":"'Total net migration 65+'!R50","v":-22},{"$f":"'Total in-migration'!R50","v":12660},{"$f":"'Total out-migration'!R50","v":11050},{"$f":"'Within Scotland net migration'!R50","v":1710},{"$f":"'Within Scotland in-migration'!R50","v":9470},{"$f":"'Within Scotland out-migration'!R50","v":7760},{"$f":"'Rest of UK net migration'!R50","v":600},{"$f":"'Rest of UK in-migration'!R50","v":2190},{"$f":"'Rest of UK out-migration'!R50","v":1590},{"$f":"'International net migration'!R50","v":-700},{"$f":"'International in-migration'!R50","v":1000},{"$f":"'International out-migration'!R50","v":1710},null,{"$f":"'Births to non-UK mothers'!R50","v":502}]
[46,"Lothian",null,{"$f":"'Total net migration'!R51","v":5380},{"$f":"'Total net migration 0-15'!R51","v":308},{"$f":"'Total net migration 16-64'!R51","v":5005},{"$f":"'Total net migration 65+'!R51","v":63},{"$f":"'Total in-migration'!R51","v":34320},{"$f":"'Total out-migration'!R51","v":28950},{"$f":"'Within Scotland net migration'!R51","v":-1100},{"$f":"'Within Scotland in-migration'!R51","v":10850},{"$f":"'Within Scotland out-migration'!R51","v":11950},{"$f":"'Rest of UK net migration'!R51","v":2220},{"$f":"'Rest of UK in-migration'!R51","v":10920},{"$f":"'Rest of UK out-migration'!R51","v":8700},{"$f":"'International net migration'!R51","v":4250},{"$f":"'International in-migration'!R51","v":12550},{"$f":"'International out-migration'!R51","v":8300},null,{"$f":"'Births to non-UK mothers'!R51","v":2237}]
[47,"Orkney",null,{"$f":"'Total net migration'!R52","v":170},{"$f":"'Total net migration 0-15'!R52","v":20},{"$f":"'Total net migration 16-64'!R52","v":110},{"$f":"'Total net migration 65+'!R52","v":37},{"$f":"'Total in-migration'!R52","v":700},{"$f":"'Total out-migration'!R52","v":530},{"$f":"'Within Scotland net migration'!R52","v":30},{"$f":"'Within Scotland in-migration'!R52","v":340},{"$f":"'Within Scotland out-migration'!R52","v":320},{"$f":"'Rest of UK net migration'!R52","v":190},{"$f":"'Rest of UK in-migration'!R52","v":310},{"$f":"'Rest of UK out-migration'!R52","v":130},{"$f":"'International net migration'!R52","v":-50},{"$f":"'International in-migration'!R52","v":40},{"$f":"'International out-migration'!R52","v":90},null,{"$f":"'Births to non-UK mothers'!R52","v":9}]
[48,"Shetland",null,{"$f":"'Total net migration'!R53","v":-30},{"$f":"'Total net migration 0-15'!R53","v":21},{"$f":"'Total net migration 16-64'!R53","v":-34},{"$f":"'Total net migration 65+'!R53","v":-18},{"$f":"'Total in-migration'!R53","v":560},{"$f":"'Total out-migration'!R53","v":590},{"$f":"'Within Scotland net migration'!R53","v":-60},{"$f":"'Within Scotland in-migration'!R53","v":300},{"$f":"'Within Scotland out-migration'!R53","v":350},{"$f":"'Rest of UK net migration'!R53","v":70},{"$f":"'Rest of UK in-migration'!R53","v":220},{"$f":"'Rest of UK out-migration'!R53","v":150},{"$f":"'International net migration'!R53","v":-50},{"$f":"'International in-migration'!R53","v":50},{"$f":"'International out-migration'!R53","v":100},null,{"$f":"'Births to non-UK mothers'!R53","v":20}]
[49,"Tayside",null,{"$f":"'Total net migration'!R54","v":910},{"$f":"'Total net migration 0-15'!R54","v":246},{"$f":"'Total net migration 16-64'!R54","v":573},{"$f":"'Total net migration 65+'!R54","v":93},{"$f":"'Total in-migration'!R54","v":11960},{"$f":"'Total out-migration'!R54","v":11050},{"$f":"'Within Scotland net migration'!R54","v":130},{"$f":"'Within Scotland in-migration'!R54","v":6710},{"$f":"'Within Scotland out-migration'!R54","v":6580},{"$f":"'Rest of UK net migration'!R54","v":520},{"$f":"'Rest of UK in-migration'!R54","v":2790},{"$f":"'Rest of UK out-migration'!R54","v":2270},{"$f":"'International net migration'!R54","v":260},{"$f":"'International in-migration'!R54","v":2470},{"$f":"'International out-migration'!R54","v":2210},null,{"$f":"'Births to non-UK mothers'!R54","v":590}]
[50,"Western Isles",null,{"$f":"'Total net migration'!R55","v":-40},{"$f":"'Total net migration 0-15'!R55","v":-15},{"$f":"'Total net migration 16-64'!R55","v":-16},{"$f":"'Total net migration 65+'!R55","v":-8},{"$f":"'Total in-migration'!R55","v":720},{"$f":"'Total out-migration'!R55","v":750},{"$f":"'Within Scotland net migration'!R55","v":-40},{"$f":"'Within Scotland in-migration'!R55","v":490},{"$f":"'Within Scotland out-migration'!R55","v":530},{"$f":"'Rest of UK net migration'!R55","v":60},{"$f":"'Rest of UK in-migration'!R55","v":190},{"$f":"'Rest of UK out-migration'!R55","v":130},{"$f":"'International net migration'!R55","v":-60},{"$f":"'International in-migration'!R55","v":40},{"$f":"'International out-migration'!R55","v":90},null,{"$f":"'Births to non-UK mothers'!R55","v":13}]

{"sheet":"2020 Rate","index":57,"n_rows":53,"n_cols":27,"rows_kept":53,"cut":false,"hidden":true,"merged":[]}
[null,2020,"RATE"]
[null,null,"Not specified ",{"$f":"'Comparing Indicators'!$U8","v":"Total net migration"},{"$f":"'Comparing Indicators'!$U9","v":"Total net migration for ages 0-15"},{"$f":"'Comparing Indicators'!$U10","v":"Total net migration for ages 16-64"},{"$f":"'Comparing Indicators'!$U11","v":"Total net migration for people aged 65+"},{"$f":"'Comparing Indicators'!$U12","v":"Total in-migration"},{"$f":"'Comparing Indicators'!$U13","v":"Total out-migration"},{"$f":"'Comparing Indicators'!$U14","v":"Within Scotland net migration"},{"$f":"'Comparing Indicators'!$U15","v":"Within Scotland in-migration"},{"$f":"'Comparing Indicators'!$U16","v":"Within Scotland out-migration"},{"$f":"'Comparing Indicators'!$U17","v":"Rest of UK net migration"},{"$f":"'Comparing Indicators'!$U18","v":"Rest of UK in-migration"},{"$f":"'Comparing Indicators'!$U19","v":"Rest of UK out-migration"},{"$f":"'Comparing Indicators'!$U20","v":"International net migration"},{"$f":"'Comparing Indicators'!$U21","v":"International in-migration"},{"$f":"'Comparing Indicators'!$U22","v":"International out-migration"},{"$f":"'Comparing Indicators'!$U23","v":"NINo Allocation"},{"$f":"'Comparing Indicators'!$U24","v":"Births to non-UK mothers"},{"$f":"'Comparing Indicators'!$U25","v":"Pupils from a minority ethnic group"},{"$f":"'Comparing Indicators'!$U26","v":"Pupils with English as an additional language"},{"$f":"'Comparing Indicators'!$U27","v":"Population born outside the UK"},{"$f":"'Comparing Indicators'!$U28","v":"Population with non-British nationality"},{"$f":"'Comparing Indicators'!$U29","v":"Citizenships"},null,"Mid-year population estimate"]
[1,"Not specified"]
[2,"Scotland",null,{"$f":"('2020'!D4/'2020 Rate'!$AA4)*1000","v":3.0918404683497989},{"$f":"('2020'!E4/'2020 Rate'!$AA4)*1000","v":0.47822905232345408},{"$f":"('2020'!F4/'2020 Rate'!$AA4)*1000","v":2.5481156238565679},{"$f":"('2020'!G4/'2020 Rate'!$AA4)*1000","v":6.2202707647274057E-2},{"$f":"('2020'!H4/'2020 Rate'!$AA4)*1000","v":14.818880351262349},{"$f":"('2020'!I4/'2020 Rate'!$AA4)*1000","v":11.72703988291255},{"$f":"'Within Scotland net migration'!R6","v":"[z]"},{"$f":"'Within Scotland in-migration'!R6","v":"[z]"},{"$f":"'Within Scotland out-migration'!R6","v":"[z]"},{"$f":"('2020'!M4/'2020 Rate'!$AA4)*1000","v":1.646542261251372},{"$f":"('2020'!N4/'2020 Rate'!$AA4)*1000","v":7.647274057811928},{"$f":"('2020'!O4/'2020 Rate'!$AA4)*1000","v":6.0007317965605562},{"$f":"('2020'!P4/'2020 Rate'!$AA4)*1000","v":1.4452982070984266},{"$f":"('2020'!Q4/'2020 Rate'!$AA4)*1000","v":7.171606293450421},{"$f":"('2020'!R4/'2020 Rate'!$AA4)*1000","v":5.7263080863519944},{"$f":"('2020'!S4/'2020 Rate'!$AA4)*1000","v":3.1284302963776072},null,null,null,null,null,{"$f":"('2020'!Y4/'2020 Rate'!$AA4)*1000","v":0.54024881083058907},"Scotland",5466000]
[3,"Aberdeen City",null,{"$f":"('2020'!D5/'2020 Rate'!$AA5)*1000","v":2.182834191914782},{"$f":"('2020'!E5/'2020 Rate'!$AA5)*1000","v":0.14406705666637562},{"$f":"('2020'!F5/'2020 Rate'!$AA5)*1000","v":2.025670130096918},{"$f":"('2020'!G5/'2020 Rate'!$AA5)*1000","v":2.1828341919147821E-2},{"$f":"('2020'!H5/'2020 Rate'!$AA5)*1000","v":48.502575744346458},{"$f":"('2020'!I5/'2020 Rate'!$AA5)*1000","v":46.319741552431672},{"$f":"('2020'!J5/'2020 Rate'!$AA5)*1000","v":-3.5361913909019473},{"$f":"('2020'!K5/'2020 Rate'!$AA5)*1000","v":23.661922640356238},{"$f":"('2020'!L5/'2020 Rate'!$AA5)*1000","v":27.154457347419893},{"$f":"('2020'!M5/'2020 Rate'!$AA5)*1000","v":0},{"$f":"('2020'!N5/'2020 Rate'!$AA5)*1000","v":8.3384266131144678},{"$f":"('2020'!O5/'2020 Rate'!$AA5)*1000","v":8.3384266131144678},{"$f":"('2020'!P5/'2020 Rate'!$AA5)*1000","v":5.7190255828167285},{"$f":"('2020'!Q5/'2020 Rate'!$AA5)*1000","v":16.502226490875753},{"$f":"('2020'!R5/'2020 Rate'!$AA5)*1000","v":10.826857591897319},{"$f":"('2020'!S5/'2020 Rate'!$AA5)*1000","v":7.5526063040251463},null,null,null,null,null,{"$f":"('2020'!Y5/'2020 Rate'!$AA5)*1000","v":1.2616781629267442},"Aberdeen City",229060]
[4,"Aberdeenshire",null,{"$f":"('2020'!D6/'2020 Rate'!$AA6)*1000","v":-0.49850448654037882},{"$f":"('2020'!E6/'2020 Rate'!$AA6)*1000","v":0.92798527494439753},{"$f":"('2020'!F6/'2020 Rate'!$AA6)*1000","v":-1.3344581639696296},{"$f":"('2020'!G6/'2020 Rate'!$AA6)*1000","v":-8.0527647825753515E-2},{"$f":"('2020'!H6/'2020 Rate'!$AA6)*1000","v":24.350026842549273},{"$f":"('2020'!I6/'2020 Rate'!$AA6)*1000","v":24.848531329089656},{"$f":"('2020'!J6/'2020 Rate'!$AA6)*1000","v":3.8346498964644524E-2},{"$f":"('2020'!K6/'2020 Rate'!$AA6)*1000","v":17.255924534090038},{"$f":"('2020'!L6/'2020 Rate'!$AA6)*1000","v":17.217578035125392},{"$f":"('2020'!M6/'2020 Rate'!$AA6)*1000","v":-0.15338599585857809},{"$f":"('2020'!N6/'2020 Rate'!$AA6)*1000","v":4.6399263747219877},{"$f":"('2020'!O6/'2020 Rate'!$AA6)*1000","v":4.7933123705805665},{"$f":"('2020'!P6/'2020 Rate'!$AA6)*1000","v":-0.34511849068180073},{"$f":"('2020'!Q6/'2020 Rate'!$AA6)*1000","v":2.4925224327018944},{"$f":"('2020'!R6/'2020 Rate'!$AA6)*1000","v":2.8376409233836952},{"$f":"('2020'!S6/'2020 Rate'!$AA6)*1000","v":1.3804739627272029},null,null,null,null,null,{"$f":"('2020'!Y6/'2020 Rate'!$AA6)*1000","v":0.34511849068180073},"Aberdeenshire",260780]
[5,"Angus",null,{"$f":"('2020'!D7/'2020 Rate'!$AA7)*1000","v":2.4175444655499914},{"$f":"('2020'!E7/'2020 Rate'!$AA7)*1000","v":0.90657917458124671},{"$f":"('2020'!F7/'2020 Rate'!$AA7)*1000","v":0.87204282507338982},{"$f":"('2020'!G7/'2020 Rate'!$AA7)*1000","v":0.61302020376446209},{"$f":"('2020'!H7/'2020 Rate'!$AA7)*1000","v":29.010533586599895},{"$f":"('2020'!I7/'2020 Rate'!$AA7)*1000","v":26.592989121049904},{"$f":"('2020'!J7/'2020 Rate'!$AA7)*1000","v":1.8131583491624934},{"$f":"('2020'!K7/'2020 Rate'!$AA7)*1000","v":21.757900189949925},{"$f":"('2020'!L7/'2020 Rate'!$AA7)*1000","v":19.94474184078743},{"$f":"('2020'!M7/'2020 Rate'!$AA7)*1000","v":1.3814539803142809},{"$f":"('2020'!N7/'2020 Rate'!$AA7)*1000","v":5.1804524261785527},{"$f":"('2020'!O7/'2020 Rate'!$AA7)*1000","v":3.7989984458642723},{"$f":"('2020'!P7/'2020 Rate'!$AA7)*1000","v":-0.77706786392678295},{"$f":"('2020'!Q7/'2020 Rate'!$AA7)*1000","v":2.0721809704714209},{"$f":"('2020'!R7/'2020 Rate'!$AA7)*1000","v":2.8492488343982041},{"$f":"('2020'!S7/'2020 Rate'!$AA7)*1000","v":1.0360904852357105},null,null,null,null,null,{"$f":"('2020'!Y7/'2020 Rate'!$AA7)*1000","v":0.10360904852357106},"Angus",115820]
[6,"Argyll and Bute",null,{"$f":"('2020'!D8/'2020 Rate'!$AA8)*1000","v":-1.0534940887276132},{"$f":"('2020'!E8/'2020 Rate'!$AA8)*1000","v":-0.49163057473955291},{"$f":"('2020'!F8/'2020 Rate'!$AA8)*1000","v":0.49163057473955291},{"$f":"('2020'!G8/'2020 Rate'!$AA8)*1000","v":-1.088610558351867},{"$f":"('2020'!H8/'2020 Rate'!$AA8)*1000","v":40.149830270396812},{"$f":"('2020'!I8/'2020 Rate'!$AA8)*1000","v":41.320379257871942},{"$f":"('2020'!J8/'2020 Rate'!$AA8)*1000","v":-3.3945920636778646},{"$f":"('2020'!K8/'2020 Rate'!$AA8)*1000","v":21.889266065784856},{"$f":"('2020'!L8/'2020 Rate'!$AA8)*1000","v":25.283858129462718},{"$f":"('2020'!M8/'2020 Rate'!$AA8)*1000","v":5.5015802411330919},{"$f":"('2020'!N8/'2020 Rate'!$AA8)*1000","v":14.748917242186586},{"$f":"('2020'!O8/'2020 Rate'!$AA8)*1000","v":9.2473370010534932},{"$f":"('2020'!P8/'2020 Rate'!$AA8)*1000","v":-3.1604822661828398},{"$f":"('2020'!Q8/'2020 Rate'!$AA8)*1000","v":3.5116469624253774},{"$f":"('2020'!R8/'2020 Rate'!$AA8)*1000","v":6.6721292286082168},{"$f":"('2020'!S8/'2020 Rate'!$AA8)*1000","v":1.2876038862226384},null,null,null,null,null,{"$f":"('2020'!Y8/'2020 Rate'!$AA8)*1000","v":0.17558234812126888},"Argyll & Bute",85430]
[7,"City of Edinburgh",null,{"$f":"('2020'!D9/'2020 Rate'!$AA9)*1000","v":5.4774269360524617},{"$f":"('2020'!E9/'2020 Rate'!$AA9)*1000","v":-0.58185815549069408},{"$f":"('2020'!F9/'2020 Rate'!$AA9)*1000","v":6.1881657253326257},{"$f":"('2020'!G9/'2020 Rate'!$AA9)*1000","v":-0.12888063378946968},{"$f":"('2020'!H9/'2020 Rate'!$AA9)*1000","v":57.08653955498275},{"$f":"('2020'!I9/'2020 Rate'!$AA9)*1000","v":51.60911261893029},{"$f":"('2020'!J9/'2020 Rate'!$AA9)*1000","v":-5.8564876236685492},{"$f":"('2020'!K9/'2020 Rate'!$AA9)*1000","v":18.270725143095408},{"$f":"('2020'!L9/'2020 Rate'!$AA9)*1000","v":24.127212766763961},{"$f":"('2020'!M9/'2020 Rate'!$AA9)*1000","v":3.2788749478791557},{"$f":"('2020'!N9/'2020 Rate'!$AA9)*1000","v":17.114590045866343},{"$f":"('2020'!O9/'2020 Rate'!$AA9)*1000","v":13.835715097987189},{"$f":"('2020'!P9/'2020 Rate'!$AA9)*1000","v":8.0550396118418561},{"$f":"('2020'!Q9/'2020 Rate'!$AA9)*1000","v":21.701224366020998},{"$f":"('2020'!R9/'2020 Rate'!$AA9)*1000","v":13.646184754179146},{"$f":"('2020'!S9/'2020 Rate'!$AA9)*1000","v":8.6236306432659884},null,null,null,null,null,{"$f":"('2020'!Y9/'2020 Rate'!$AA9)*1000","v":1.4442212198172928},"City of Edinburgh",527620]
[8,"Clackmannanshire",null,{"$f":"('2020'!D10/'2020 Rate'!$AA10)*1000","v":1.9496977968414895},{"$f":"('2020'!E10/'2020 Rate'!$AA10)*1000","v":1.5402612595047769},{"$f":"('2020'!F10/'2020 Rate'!$AA10)*1000","v":0.56541236108403203},{"$f":"('2020'!G10/'2020 Rate'!$AA10)*1000","v":-7.7987911873659582E-2},{"$f":"('2020'!H10/'2020 Rate'!$AA10)*1000","v":30.025346071358943},{"$f":"('2020'!I10/'2020 Rate'!$AA10)*1000","v":28.075648274517448},{"$f":"('2020'!J10/'2020 Rate'!$AA10)*1000","v":0.19496977968414894},{"$f":"('2020'!K10/'2020 Rate'!$AA10)*1000","v":22.61649444336128},{"$f":"('2020'!L10/'2020 Rate'!$AA10)*1000","v":22.421524663677129},{"$f":"('2020'!M10/'2020 Rate'!$AA10)*1000","v":1.9496977968414895},{"$f":"('2020'!N10/'2020 Rate'!$AA10)*1000","v":5.2641840514720215},{"$f":"('2020'!O10/'2020 Rate'!$AA10)*1000","v":3.1195164749463831},{"$f":"('2020'!P10/'2020 Rate'!$AA10)*1000","v":-0.19496977968414894},{"$f":"('2020'!Q10/'2020 Rate'!$AA10)*1000","v":2.3396373562097876},{"$f":"('2020'!R10/'2020 Rate'!$AA10)*1000","v":2.5346071358939368},{"$f":"('2020'!S10/'2020 Rate'!$AA10)*1000","v":0.77987911873659577},null,null,null,null,null,{"$f":"('2020'!Y10/'2020 Rate'!$AA10)*1000","v":0.19496977968414894},"Clackmannanshire",51290]
[9,"Dumfries and Galloway",null,{"$f":"('2020'!D11/'2020 Rate'!$AA11)*1000","v":2.2928046395576236},{"$f":"('2020'!E11/'2020 Rate'!$AA11)*1000","v":1.0317620878009306},{"$f":"('2020'!F11/'2020 Rate'!$AA11)*1000","v":0.81596870996021309},{"$f":"('2020'!G11/'2020 Rate'!$AA11)*1000","v":0.41135612650886777},{"$f":"('2020'!H11/'2020 Rate'!$AA11)*1000","v":23.9395778542046},{"$f":"('2020'!I11/'2020 Rate'!$AA11)*1000","v":21.7142086452222},{"$f":"('2020'!J11/'2020 Rate'!$AA11)*1000","v":-0.47204801402656954},{"$f":"('2020'!K11/'2020 Rate'!$AA11)*1000","v":9.3060894193809425},{"$f":"('2020'!L11/'2020 Rate'!$AA11)*1000","v":9.7107020028322886},{"$f":"('2020'!M11/'2020 Rate'!$AA11)*1000","v":4.9227864319913683},{"$f":"('2020'!N11/'2020 Rate'!$AA11)*1000","v":12.745296378717379},{"$f":"('2020'!O11/'2020 Rate'!$AA11)*1000","v":7.8225099467260097},{"$f":"('2020'!P11/'2020 Rate'!$AA11)*1000","v":-2.2253692089823991},{"$f":"('2020'!Q11/'2020 Rate'!$AA11)*1000","v":1.8881920561062782},{"$f":"('2020'!R11/'2020 Rate'!$AA11)*1000","v":4.1135612650886779},{"$f":"('2020'!S11/'2020 Rate'!$AA11)*1000","v":0.53948344460179376},null,null,null,null,null,{"$f":"('2020'!Y11/'2020 Rate'!$AA11)*1000","v":0.18881920561062782},"Dumfries & Galloway",148290]
[10,"Dundee City",null,{"$f":"('2020'!D12/'2020 Rate'!$AA12)*1000","v":-0.53756215562424403},{"$f":"('2020'!E12/'2020 Rate'!$AA12)*1000","v":-0.77274559870985082},{"$f":"('2020'!F12/'2020 Rate'!$AA12)*1000","v":0.47708641311651656},{"$f":"('2020'!G12/'2020 Rate'!$AA12)*1000","v":-0.25534202392151589},{"$f":"('2020'!H12/'2020 Rate'!$AA12)*1000","v":42.803386641580431},{"$f":"('2020'!I12/'2020 Rate'!$AA12)*1000","v":43.408144066657712},{"$f":"('2020'!J12/'2020 Rate'!$AA12)*1000","v":-3.9645208977288},{"$f":"('2020'!K12/'2020 Rate'!$AA12)*1000","v":24.593468619809165},{"$f":"('2020'!L12/'2020 Rate'!$AA12)*1000","v":28.557989517537965},{"$f":"('2020'!M12/'2020 Rate'!$AA12)*1000","v":0.80634323343636616},{"$f":"('2020'!N12/'2020 Rate'!$AA12)*1000","v":7.7946512565515382},{"$f":"('2020'!O12/'2020 Rate'!$AA12)*1000","v":6.9883080231151729},{"$f":"('2020'!P12/'2020 Rate'!$AA12)*1000","v":2.6206155086681897},{"$f":"('2020'!Q12/'2020 Rate'!$AA12)*1000","v":10.415266765219728},{"$f":"('2020'!R12/'2020 Rate'!$AA12)*1000","v":7.7946512565515382},{"$f":"('2020'!S12/'2020 Rate'!$AA12)*1000","v":4.3676925144469827},null,null,null,null,null,{"$f":"('2020'!Y12/'2020 Rate'!$AA12)*1000","v":0.55100120951485021},"Dundee City",148820]
[11,"East Ayrshire",null,{"$f":"('2020'!D13/'2020 Rate'!$AA13)*1000","v":0.41118421052631576},{"$f":"('2020'!E13/'2020 Rate'!$AA13)*1000","v":-0.15625},{"$f":"('2020'!F13/'2020 Rate'!$AA13)*1000","v":0.1644736842105263},{"$f":"('2020'!G13/'2020 Rate'!$AA13)*1000","v":0.37828947368421051},{"$f":"('2020'!H13/'2020 Rate'!$AA13)*1000","v":22.779605263157897},{"$f":"('2020'!I13/'2020 Rate'!$AA13)*1000","v":22.450657894736842},{"$f":"('2020'!J13/'2020 Rate'!$AA13)*1000","v":0.6578947368421052},{"$f":"('2020'!K13/'2020 Rate'!$AA13)*1000","v":17.269736842105264},{"$f":"('2020'!L13/'2020 Rate'!$AA13)*1000","v":16.694078947368421},{"$f":"('2020'!M13/'2020 Rate'!$AA13)*1000","v":1.3157894736842104},{"$f":"('2020'!N13/'2020 Rate'!$AA13)*1000","v":4.6875},{"$f":"('2020'!O13/'2020 Rate'!$AA13)*1000","v":3.3717105263157894},{"$f":"('2020'!P13/'2020 Rate'!$AA13)*1000","v":-1.5625},{"$f":"('2020'!Q13/'2020 Rate'!$AA13)*1000","v":0.82236842105263153},{"$f":"('2020'!R13/'2020 Rate'!$AA13)*1000","v":2.3848684210526314},{"$f":"('2020'!S13/'2020 Rate'!$AA13)*1000","v":0.41118421052631576},null,null,null,null,null,{"$f":"('2020'!Y13/'2020 Rate'!$AA13)*1000","v":4.9342105263157895E-2},"East Ayrshire",121600]
[12,"East Dunbartonshire",null,{"$f":"('2020'!D14/'2020 Rate'!$AA14)*1000","v":5.6091954022988508},{"$f":"('2020'!E14/'2020 Rate'!$AA14)*1000","v":3.8804597701149426},{"$f":"('2020'!F14/'2020 Rate'!$AA14)*1000","v":1.9678160919540229},{"$f":"('2020'!G14/'2020 Rate'!$AA14)*1000","v":-0.25747126436781609},{"$f":"('2020'!H14/'2020 Rate'!$AA14)*1000","v":31.632183908045981},{"$f":"('2020'!I14/'2020 Rate'!$AA14)*1000","v":26.022988505747126},{"$f":"('2020'!J14/'2020 Rate'!$AA14)*1000","v":5.333333333333333},{"$f":"('2020'!K14/'2020 Rate'!$AA14)*1000","v":26.482758620689655},{"$f":"('2020'!L14/'2020 Rate'!$AA14)*1000","v":21.149425287356323},{"$f":"('2020'!M14/'2020 Rate'!$AA14)*1000","v":0.45977011494252873},{"$f":"('2020'!N14/'2020 Rate'!$AA14)*1000","v":3.5862068965517242},{"$f":"('2020'!O14/'2020 Rate'!$AA14)*1000","v":3.1264367816091956},{"$f":"('2020'!P14/'2020 Rate'!$AA14)*1000","v":-0.18390804597701149},{"$f":"('2020'!Q14/'2020 Rate'!$AA14)*1000","v":1.4712643678160919},{"$f":"('2020'!R14/'2020 Rate'!$AA14)*1000","v":1.7471264367816093},{"$f":"('2020'!S14/'2020 Rate'!$AA14)*1000","v":0.45977011494252873},null,null,null,null,null,{"$f":"('2020'!Y14/'2020 Rate'!$AA14)*1000","v":0.34022988505747126},"East Dunbartonshire",108750]
[13,"East Lothian",null,{"$f":"('2020'!D15/'2020 Rate'!$AA15)*1000","v":8.9898053753475455},{"$f":"('2020'!E15/'2020 Rate'!$AA15)*1000","v":2.1316033364226135},{"$f":"('2020'!F15/'2020 Rate'!$AA15)*1000","v":5.5050973123262281},{"$f":"('2020'!G15/'2020 Rate'!$AA15)*1000","v":1.371640407784986},{"$f":"('2020'!H15/'2020 Rate'!$AA15)*1000","v":39.017608897126969},{"$f":"('2020'!I15/'2020 Rate'!$AA15)*1000","v":30.027803521779425},{"$f":"('2020'!J15/'2020 Rate'!$AA15)*1000","v":7.0435588507877664},{"$f":"('2020'!K15/'2020 Rate'!$AA15)*1000","v":28.730305838739572},{"$f":"('2020'!L15/'2020 Rate'!$AA15)*1000","v":21.686746987951807},{"$f":"('2020'!M15/'2020 Rate'!$AA15)*1000","v":2.0389249304911954},{"$f":"('2020'!N15/'2020 Rate'!$AA15)*1000","v":6.5801668211306765},{"$f":"('2020'!O15/'2020 Rate'!$AA15)*1000","v":4.5412418906394807},{"$f":"('2020'!P15/'2020 Rate'!$AA15)*1000","v":0},{"$f":"('2020'!Q15/'2020 Rate'!$AA15)*1000","v":3.7071362372567194},{"$f":"('2020'!R15/'2020 Rate'!$AA15)*1000","v":3.7071362372567194},{"$f":"('2020'!S15/'2020 Rate'!$AA15)*1000","v":1.5755329008341057},null,null,null,null,null,{"$f":"('2020'!Y15/'2020 Rate'!$AA15)*1000","v":0.33364226135310471},"East Lothian",107900]
[14,"East Renfrewshire",null,{"$f":"('2020'!D16/'2020 Rate'!$AA16)*1000","v":7.5994170310222771},{"$f":"('2020'!E16/'2020 Rate'!$AA16)*1000","v":5.9858421819696028},{"$f":"('2020'!F16/'2020 Rate'!$AA16)*1000","v":1.4470122839891735},{"$f":"('2020'!G16/'2020 Rate'!$AA16)*1000","v":0.18738288569643974},{"$f":"('2020'!H16/'2020 Rate'!$AA16)*1000","v":36.227357901311677},{"$f":"('2020'!I16/'2020 Rate'!$AA16)*1000","v":28.627940870289404},{"$f":"('2020'!J16/'2020 Rate'!$AA16)*1000","v":7.8076202373516548},{"$f":"('2020'!K16/'2020 Rate'!$AA16)*1000","v":31.022277743077243},{"$f":"('2020'!L16/'2020 Rate'!$AA16)*1000","v":23.21465750572559},{"$f":"('2020'!M16/'2020 Rate'!$AA16)*1000","v":0.31230480949406619},{"$f":"('2020'!N16/'2020 Rate'!$AA16)*1000","v":3.851759317093483},{"$f":"('2020'!O16/'2020 Rate'!$AA16)*1000","v":3.5394545075994168},{"$f":"('2020'!P16/'2020 Rate'!$AA16)*1000","v":-0.52050801582344375},{"$f":"('2020'!Q16/'2020 Rate'!$AA16)*1000","v":1.4574224443056423},{"$f":"('2020'!R16/'2020 Rate'!$AA16)*1000","v":1.8738288569643973},{"$f":"('2020'!S16/'2020 Rate'!$AA16)*1000","v":0.62460961898813239},null,null,null,null,null,{"$f":"('2020'!Y16/'2020 Rate'!$AA16)*1000","v":0.56214865708931916},"East Renfrewshire",96060]
[15,"Falkirk",null,{"$f":"('2020'!D17/'2020 Rate'!$AA17)*1000","v":1.43248629795715},{"$f":"('2020'!E17/'2020 Rate'!$AA17)*1000","v":0.22421524663677131},{"$f":"('2020'!F17/'2020 Rate'!$AA17)*1000","v":1.0587942202291978},{"$f":"('2020'!G17/'2020 Rate'!$AA17)*1000","v":0.13702042850024912},{"$f":"('2020'!H17/'2020 Rate'!$AA17)*1000","v":22.483806676631787},{"$f":"('2020'!I17/'2020 Rate'!$AA17)*1000","v":21.051320378674639},{"$f":"('2020'!J17/'2020 Rate'!$AA17)*1000","v":1.4947683109118086},{"$f":"('2020'!K17/'2020 Rate'!$AA17)*1000","v":17.314399601395117},{"$f":"('2020'!L17/'2020 Rate'!$AA17)*1000","v":15.881913303437967},{"$f":"('2020'!M17/'2020 Rate'!$AA17)*1000","v":0.62282012954658694},{"$f":"('2020'!N17/'2020 Rate'!$AA17)*1000","v":3.3009466865969106},{"$f":"('2020'!O17/'2020 Rate'!$AA17)*1000","v":2.6781265570503239},{"$f":"('2020'!P17/'2020 Rate'!$AA17)*1000","v":-0.68510214250124568},{"$f":"('2020'!Q17/'2020 Rate'!$AA17)*1000","v":1.8061783756851022},{"$f":"('2020'!R17/'2020 Rate'!$AA17)*1000","v":2.4912805181863478},{"$f":"('2020'!S17/'2020 Rate'!$AA17)*1000","v":0.87194818136522179},null,null,null,null,null,{"$f":"('2020'!Y17/'2020 Rate'!$AA17)*1000","v":0.33009466865969112},"Falkirk",160560]
[16,"Fife",null,{"$f":"('2020'!D18/'2020 Rate'!$AA18)*1000","v":3.8489295164782296},{"$f":"('2020'!E18/'2020 Rate'!$AA18)*1000","v":0.89273781840536715},{"$f":"('2020'!F18/'2020 Rate'!$AA18)*1000","v":2.5098227888701787},{"$f":"('2020'!G18/'2020 Rate'!$AA18)*1000","v":0.43300457060380082},{"$f":"('2020'!H18/'2020 Rate'!$AA18)*1000","v":27.771095608478337},{"$f":"('2020'!I18/'2020 Rate'!$AA18)*1000","v":23.948894769197874},{"$f":"('2020'!J18/'2020 Rate'!$AA18)*1000","v":2.0581081442279419},{"$f":"('2020'!K18/'2020 Rate'!$AA18)*1000","v":15.128431293935263},{"$f":"('2020'!L18/'2020 Rate'!$AA18)*1000","v":13.07032314970732},{"$f":"('2020'!M18/'2020 Rate'!$AA18)*1000","v":1.0958757651083848},{"$f":"('2020'!N18/'2020 Rate'!$AA18)*1000","v":7.0563707802100879},{"$f":"('2020'!O18/'2020 Rate'!$AA18)*1000","v":5.9872236922994686},{"$f":"('2020'!P18/'2020 Rate'!$AA18)*1000","v":0.69494560714190257},{"$f":"('2020'!Q18/'2020 Rate'!$AA18)*1000","v":5.5595648571352205},{"$f":"('2020'!R18/'2020 Rate'!$AA18)*1000","v":4.8913479271910836},{"$f":"('2020'!S18/'2020 Rate'!$AA18)*1000","v":1.65717798626146},null,null,null,null,null,{"$f":"('2020'!Y18/'2020 Rate'!$AA18)*1000","v":0.29134258145564379},"Fife",374130]
[17,"Glasgow City",null,{"$f":"('2020'!D19/'2020 Rate'!$AA19)*1000","v":5.128689195141904},{"$f":"('2020'!E19/'2020 Rate'!$AA19)*1000","v":-1.5747907620665786},{"$f":"('2020'!F19/'2020 Rate'!$AA19)*1000","v":6.9426090239758347},{"$f":"('2020'!G19/'2020 Rate'!$AA19)*1000","v":-0.2391290667673526},{"$f":"('2020'!H19/'2020 Rate'!$AA19)*1000","v":50.342961424705813},{"$f":"('2020'!I19/'2020 Rate'!$AA19)*1000","v":45.214272229563903},{"$f":"('2020'!J19/'2020 Rate'!$AA19)*1000","v":-4.1218299666477884},{"$f":"('2020'!K19/'2020 Rate'!$AA19)*1000","v":21.899188219747025},{"$f":"('2020'!L19/'2020 Rate'!$AA19)*1000","v":26.021018186394816},{"$f":"('2020'!M19/'2020 Rate'!$AA19)*1000","v":1.5732175445220566},{"$f":"('2020'!N19/'2020 Rate'!$AA19)*1000","v":9.7539487760367507},{"$f":"('2020'!O19/'2020 Rate'!$AA19)*1000","v":8.1807312315146952},{"$f":"('2020'!P19/'2020 Rate'!$AA19)*1000","v":7.6773016172676352},{"$f":"('2020'!Q19/'2020 Rate'!$AA19)*1000","v":18.68982442892203},{"$f":"('2020'!R19/'2020 Rate'!$AA19)*1000","v":11.012522811654396},{"$f":"('2020'!S19/'2020 Rate'!$AA19)*1000","v":8.6684286703165316},null,null,null,null,null,{"$f":"('2020'!Y19/'2020 Rate'!$AA19)*1000","v":1.2349757724498143},"Glasgow City",635640]
[18,"Highland",null,{"$f":"('2020'!D20/'2020 Rate'!$AA20)*1000","v":1.6565433462175594},{"$f":"('2020'!E20/'2020 Rate'!$AA20)*1000","v":0.34829885740984579},{"$f":"('2020'!F20/'2020 Rate'!$AA20)*1000","v":1.2360361891007943},{"$f":"('2020'!G20/'2020 Rate'!$AA20)*1000","v":8.9198487873253199E-2},{"$f":"('2020'!H20/'2020 Rate'!$AA20)*1000","v":26.292316187401774},{"$f":"('2020'!I20/'2020 Rate'!$AA20)*1000","v":24.593297370768383},{"$f":"('2020'!J20/'2020 Rate'!$AA20)*1000","v":-0.59465658582168801},{"$f":"('2020'!K20/'2020 Rate'!$AA20)*1000","v":14.016905237225503},{"$f":"('2020'!L20/'2020 Rate'!$AA20)*1000","v":14.61156182304719},{"$f":"('2020'!M20/'2020 Rate'!$AA20)*1000","v":3.6528904557617974},{"$f":"('2020'!N20/'2020 Rate'!$AA20)*1000","v":9.3446034914836673},{"$f":"('2020'!O20/'2020 Rate'!$AA20)*1000","v":5.6917130357218708},{"$f":"('2020'!P20/'2020 Rate'!$AA20)*1000","v":-1.4016905237225503},{"$f":"('2020'!Q20/'2020 Rate'!$AA20)*1000","v":2.9308074586926049},{"$f":"('2020'!R20/'2020 Rate'!$AA20)*1000","v":4.2900225119993207},{"$f":"('2020'!S20/'2020 Rate'!$AA20)*1000","v":1.3167395828908806},null,null,null,null,null,{"$f":"('2020'!Y20/'2020 Rate'!$AA20)*1000","v":0.21662489912075775},"Highland",235430]
[19,"Inverclyde",null,{"$f":"('2020'!D21/'2020 Rate'!$AA21)*1000","v":-1.2976901116013497},{"$f":"('2020'!E21/'2020 Rate'!$AA21)*1000","v":0.36335323124837787},{"$f":"('2020'!F21/'2020 Rate'!$AA21)*1000","v":-1.6221126395016872},{"$f":"('2020'!G21/'2020 Rate'!$AA21)*1000","v":1.2976901116013495E-2},{"$f":"('2020'!H21/'2020 Rate'!$AA21)*1000","v":16.221126395016867},{"$f":"('2020'!I21/'2020 Rate'!$AA21)*1000","v":17.518816506618219},{"$f":"('2020'!J21/'2020 Rate'!$AA21)*1000","v":-1.2976901116013497},{"$f":"('2020'!K21/'2020 Rate'!$AA21)*1000","v":11.808980015572281},{"$f":"('2020'!L21/'2020 Rate'!$AA21)*1000","v":13.106670127173629},{"$f":"('2020'!M21/'2020 Rate'!$AA21)*1000","v":0.90838307812094476},{"$f":"('2020'!N21/'2020 Rate'!$AA21)*1000","v":3.503763301323644},{"$f":"('2020'!O21/'2020 Rate'!$AA21)*1000","v":2.5953802232026995},{"$f":"('2020'!P21/'2020 Rate'!$AA21)*1000","v":-0.90838307812094476},{"$f":"('2020'!Q21/'2020 Rate'!$AA21)*1000","v":0.90838307812094476},{"$f":"('2020'!R21/'2020 Rate'!$AA21)*1000","v":1.8167661562418895},{"$f":"('2020'!S21/'2020 Rate'!$AA21)*1000","v":0.5190760446405398},null,null,null,null,null,{"$f":"('2020'!Y21/'2020 Rate'!$AA21)*1000","v":6.4884505580067475E-2},"Inverclyde",77060]
[20,"Midlothian",null,{"$f":"('2020'!D22/'2020 Rate'!$AA22)*1000","v":6.7632850241545901},{"$f":"('2020'!E22/'2020 Rate'!$AA22)*1000","v":1.3097155126140634},{"$f":"('2020'!F22/'2020 Rate'!$AA22)*1000","v":5.7004830917874401},{"$f":"('2020'!G22/'2020 Rate'!$AA22)*1000","v":-0.26838432635534087},{"$f":"('2020'!H22/'2020 Rate'!$AA22)*1000","v":34.675254965110035},{"$f":"('2020'!I22/'2020 Rate'!$AA22)*1000","v":27.911969940955448},{"$f":"('2020'!J22/'2020 Rate'!$AA22)*1000","v":6.5485775630703165},{"$f":"('2020'!K22/'2020 Rate'!$AA22)*1000","v":28.556092324208265},{"$f":"('2020'!L22/'2020 Rate'!$AA22)*1000","v":22.007514761137951},{"$f":"('2020'!M22/'2020 Rate'!$AA22)*1000","v":0.96618357487922701},{"$f":"('2020'!N22/'2020 Rate'!$AA22)*1000","v":4.5088566827697267},{"$f":"('2020'!O22/'2020 Rate'!$AA22)*1000","v":3.5426731078904989},{"$f":"('2020'!P22/'2020 Rate'!$AA22)*1000","v":-0.75147611379495438},{"$f":"('2020'!Q22/'2020 Rate'!$AA22)*1000","v":1.6103059581320451},{"$f":"('2020'!R22/'2020 Rate'!$AA22)*1000","v":2.3617820719269993},{"$f":"('2020'!S22/'2020 Rate'!$AA22)*1000","v":1.0735373054213635},null,null,null,null,null,{"$f":"('2020'!Y22/'2020 Rate'!$AA22)*1000","v":0.7407407407407407},"Midlothian",93150]
[21,"Moray",null,{"$f":"('2020'!D23/'2020 Rate'!$AA23)*1000","v":0.20896458050360464},{"$f":"('2020'!E23/'2020 Rate'!$AA23)*1000","v":0.63734197053599417},{"$f":"('2020'!F23/'2020 Rate'!$AA23)*1000","v":-1.2537874830216278},{"$f":"('2020'!G23/'2020 Rate'!$AA23)*1000","v":0.82541009298923829},{"$f":"('2020'!H23/'2020 Rate'!$AA23)*1000","v":28.419182948490231},{"$f":"('2020'!I23/'2020 Rate'!$AA23)*1000","v":28.210218367986627},{"$f":"('2020'!J23/'2020 Rate'!$AA23)*1000","v":-1.9851635147842441},{"$f":"('2020'!K23/'2020 Rate'!$AA23)*1000","v":14.940967506007732},{"$f":"('2020'!L23/'2020 Rate'!$AA23)*1000","v":17.030613311043776},{"$f":"('2020'!M23/'2020 Rate'!$AA23)*1000","v":3.3434332880576743},{"$f":"('2020'!N23/'2020 Rate'!$AA23)*1000","v":10.552711315432035},{"$f":"('2020'!O23/'2020 Rate'!$AA23)*1000","v":7.20927802737436},{"$f":"('2020'!P23/'2020 Rate'!$AA23)*1000","v":-1.0448229025180231},{"$f":"('2020'!Q23/'2020 Rate'!$AA23)*1000","v":2.9255041270504649},{"$f":"('2020'!R23/'2020 Rate'!$AA23)*1000","v":3.9703270295684883},{"$f":"('2020'!S23/'2020 Rate'!$AA23)*1000","v":0.73137603176261623},null,null,null,null,null,{"$f":"('2020'!Y23/'2020 Rate'!$AA23)*1000","v":0.24030926757914534},"Moray",95710]
[22,"Na h-Eileanan Siar",null,{"$f":"('2020'!D24/'2020 Rate'!$AA24)*1000","v":-1.5094339622641508},{"$f":"('2020'!E24/'2020 Rate'!$AA24)*1000","v":-0.56603773584905659},{"$f":"('2020'!F24/'2020 Rate'!$AA24)*1000","v":-0.60377358490566047},{"$f":"('2020'!G24/'2020 Rate'!$AA24)*1000","v":-0.30188679245283023},{"$f":"('2020'!H24/'2020 Rate'!$AA24)*1000","v":27.169811320754718},{"$f":"('2020'!I24/'2020 Rate'!$AA24)*1000","v":28.30188679245283},{"$f":"('2020'!J24/'2020 Rate'!$AA24)*1000","v":-1.5094339622641508},{"$f":"('2020'!K24/'2020 Rate'!$AA24)*1000","v":18.490566037735849},{"$f":"('2020'!L24/'2020 Rate'!$AA24)*1000","v":20},{"$f":"('2020'!M24/'2020 Rate'!$AA24)*1000","v":2.2641509433962264},{"$f":"('2020'!N24/'2020 Rate'!$AA24)*1000","v":7.1698113207547172},{"$f":"('2020'!O24/'2020 Rate'!$AA24)*1000","v":4.9056603773584913},{"$f":"('2020'!P24/'2020 Rate'!$AA24)*1000","v":-2.2641509433962264},{"$f":"('2020'!Q24/'2020 Rate'!$AA24)*1000","v":1.5094339622641508},{"$f":"('2020'!R24/'2020 Rate'!$AA24)*1000","v":3.3962264150943398},{"$f":"('2020'!S24/'2020 Rate'!$AA24)*1000","v":0.75471698113207542},null,null,null,null,null,{"$f":"('2020'!Y24/'2020 Rate'!$AA24)*1000","v":0.18867924528301885},"Na h-Eileanan Siar",26500]
[23,"North Ayrshire",null,{"$f":"('2020'!D25/'2020 Rate'!$AA25)*1000","v":1.042830540037244},{"$f":"('2020'!E25/'2020 Rate'!$AA25)*1000","v":0.54376163873370587},{"$f":"('2020'!F25/'2020 Rate'!$AA25)*1000","v":0.20856610800744879},{"$f":"('2020'!G25/'2020 Rate'!$AA25)*1000","v":0.30540037243947854},{"$f":"('2020'!H25/'2020 Rate'!$AA25)*1000","v":23.910614525139664},{"$f":"('2020'!I25/'2020 Rate'!$AA25)*1000","v":22.793296089385475},{"$f":"('2020'!J25/'2020 Rate'!$AA25)*1000","v":0.67039106145251393},{"$f":"('2020'!K25/'2020 Rate'!$AA25)*1000","v":17.35567970204842},{"$f":"('2020'!L25/'2020 Rate'!$AA25)*1000","v":16.759776536312849},{"$f":"('2020'!M25/'2020 Rate'!$AA25)*1000","v":1.5642458100558658},{"$f":"('2020'!N25/'2020 Rate'!$AA25)*1000","v":4.9162011173184359},{"$f":"('2020'!O25/'2020 Rate'!$AA25)*1000","v":3.4264432029795158},{"$f":"('2020'!P25/'2020 Rate'!$AA25)*1000","v":-1.1173184357541899},{"$f":"('2020'!Q25/'2020 Rate'!$AA25)*1000","v":1.5642458100558658},{"$f":"('2020'!R25/'2020 Rate'!$AA25)*1000","v":2.6815642458100557},{"$f":"('2020'!S25/'2020 Rate'!$AA25)*1000","v":0.297951582867784},null,null,null,null,null,{"$f":"('2020'!Y25/'2020 Rate'!$AA25)*1000","v":8.1936685288640593E-2},"North Ayrshire",134250]
[24,"North Lanarkshire",null,{"$f":"('2020'!D26/'2020 Rate'!$AA26)*1000","v":1.2897930468429384},{"$f":"('2020'!E26/'2020 Rate'!$AA26)*1000","v":0.76215043677082728},{"$f":"('2020'!F26/'2020 Rate'!$AA26)*1000","v":0.6917980887612124},{"$f":"('2020'!G26/'2020 Rate'!$AA26)*1000","v":-0.17588087002403704},{"$f":"('2020'!H26/'2020 Rate'!$AA26)*1000","v":19.317582224306737},{"$f":"('2020'!I26/'2020 Rate'!$AA26)*1000","v":18.057102655801138},{"$f":"('2020'!J26/'2020 Rate'!$AA26)*1000","v":1.4949873952043149},{"$f":"('2020'!K26/'2020 Rate'!$AA26)*1000","v":15.125754822067186},{"$f":"('2020'!L26/'2020 Rate'!$AA26)*1000","v":13.630767426862871},{"$f":"('2020'!M26/'2020 Rate'!$AA26)*1000","v":0.82077739344550626},{"$f":"('2020'!N26/'2020 Rate'!$AA26)*1000","v":2.7261534853725746},{"$f":"('2020'!O26/'2020 Rate'!$AA26)*1000","v":1.9346895702644076},{"$f":"('2020'!P26/'2020 Rate'!$AA26)*1000","v":-1.0259717418068828},{"$f":"('2020'!Q26/'2020 Rate'!$AA26)*1000","v":1.4656739168669755},{"$f":"('2020'!R26/'2020 Rate'!$AA26)*1000","v":2.4916456586738582},{"$f":"('2020'!S26/'2020 Rate'!$AA26)*1000","v":0.79146391510816672},null,null,null,null,null,{"$f":"('2020'!Y26/'2020 Rate'!$AA26)*1000","v":0.20812569619511051},"North Lanarkshire",341140]
[25,"Orkney Islands",null,{"$f":"('2020'!D27/'2020 Rate'!$AA27)*1000","v":7.5892857142857144},{"$f":"('2020'!E27/'2020 Rate'!$AA27)*1000","v":0.89285714285714279},{"$f":"('2020'!F27/'2020 Rate'!$AA27)*1000","v":4.9107142857142856},{"$f":"('2020'!G27/'2020 Rate'!$AA27)*1000","v":1.6517857142857144},{"$f":"('2020'!H27/'2020 Rate'!$AA27)*1000","v":31.25},{"$f":"('2020'!I27/'2020 Rate'!$AA27)*1000","v":23.660714285714285},{"$f":"('2020'!J27/'2020 Rate'!$AA27)*1000","v":1.3392857142857142},{"$f":"('2020'!K27/'2020 Rate'!$AA27)*1000","v":15.178571428571429},{"$f":"('2020'!L27/'2020 Rate'!$AA27)*1000","v":14.285714285714285},{"$f":"('2020'!M27/'2020 Rate'!$AA27)*1000","v":8.4821428571428559},{"$f":"('2020'!N27/'2020 Rate'!$AA27)*1000","v":13.839285714285714},{"$f":"('2020'!O27/'2020 Rate'!$AA27)*1000","v":5.8035714285714288},{"$f":"('2020'!P27/'2020 Rate'!$AA27)*1000","v":-2.2321428571428572},{"$f":"('2020'!Q27/'2020 Rate'!$AA27)*1000","v":1.7857142857142856},{"$f":"('2020'!R27/'2020 Rate'!$AA27)*1000","v":4.0178571428571423},{"$f":"('2020'!S27/'2020 Rate'!$AA27)*1000","v":0.4464285714285714},null,null,null,null,null,{"$f":"('2020'!Y27/'2020 Rate'!$AA27)*1000","v":0.17857142857142858},"Orkney Islands",22400]
[26,"Perth and Kinross",null,{"$f":"('2020'!D28/'2020 Rate'!$AA28)*1000","v":4.7396484760713573},{"$f":"('2020'!E28/'2020 Rate'!$AA28)*1000","v":1.6852083470475938},{"$f":"('2020'!F28/'2020 Rate'!$AA28)*1000","v":2.63972088736752},{"$f":"('2020'!G28/'2020 Rate'!$AA28)*1000","v":0.39497070633927983},{"$f":"('2020'!H28/'2020 Rate'!$AA28)*1000","v":34.82325060891317},{"$f":"('2020'!I28/'2020 Rate'!$AA28)*1000","v":30.083602132841815},{"$f":"('2020'!J28/'2020 Rate'!$AA28)*1000","v":3.3572510038838788},{"$f":"('2020'!K28/'2020 Rate'!$AA28)*1000","v":23.566585478243695},{"$f":"('2020'!L28/'2020 Rate'!$AA28)*1000","v":20.209334474359817},{"$f":"('2020'!M28/'2020 Rate'!$AA28)*1000","v":1.5798828253571193},{"$f":"('2020'!N28/'2020 Rate'!$AA28)*1000","v":6.7803304588243041},{"$f":"('2020'!O28/'2020 Rate'!$AA28)*1000","v":5.2004476334671841},{"$f":"('2020'!P28/'2020 Rate'!$AA28)*1000","v":-0.26331380422618655},{"$f":"('2020'!Q28/'2020 Rate'!$AA28)*1000","v":4.476334671845172},{"$f":"('2020'!R28/'2020 Rate'!$AA28)*1000","v":4.6738200250148116},{"$f":"('2020'!S28/'2020 Rate'!$AA28)*1000","v":2.9622802975445985},null,null,null,null,null,{"$f":"('2020'!Y28/'2020 Rate'!$AA28)*1000","v":0.26331380422618655},"Perth & Kinross",151910]
[27,"Renfrewshire",null,{"$f":"('2020'!D29/'2020 Rate'!$AA29)*1000","v":4.7382797257372209},{"$f":"('2020'!E29/'2020 Rate'!$AA29)*1000","v":0.72467807570098663},{"$f":"('2020'!F29/'2020 Rate'!$AA29)*1000","v":3.5732203578794808},{"$f":"('2020'!G29/'2020 Rate'!$AA29)*1000","v":0.41808350521210769},{"$f":"('2020'!H29/'2020 Rate'!$AA29)*1000","v":29.265845364847539},{"$f":"('2020'!I29/'2020 Rate'!$AA29)*1000","v":24.583310106471931},{"$f":"('2020'!J29/'2020 Rate'!$AA29)*1000","v":4.4595573889291487},{"$f":"('2020'!K29/'2020 Rate'!$AA29)*1000","v":21.907575673114444},{"$f":"('2020'!L29/'2020 Rate'!$AA29)*1000","v":17.448018284185295},{"$f":"('2020'!M29/'2020 Rate'!$AA29)*1000","v":0.50170020625452916},{"$f":"('2020'!N29/'2020 Rate'!$AA29)*1000","v":3.7906237805897764},{"$f":"('2020'!O29/'2020 Rate'!$AA29)*1000","v":3.2331791069736329},{"$f":"('2020'!P29/'2020 Rate'!$AA29)*1000","v":-0.27872233680807179},{"$f":"('2020'!Q29/'2020 Rate'!$AA29)*1000","v":3.6233903785049333},{"$f":"('2020'!R29/'2020 Rate'!$AA29)*1000","v":3.9021127153130051},{"$f":"('2020'!S29/'2020 Rate'!$AA29)*1000","v":2.0068008250181166},null,null,null,null,null,{"$f":"('2020'!Y29/'2020 Rate'!$AA29)*1000","v":0.32331791069736326},"Renfrewshire",179390]
[28,"Scottish Borders",null,{"$f":"('2020'!D30/'2020 Rate'!$AA30)*1000","v":2.342936480388754},{"$f":"('2020'!E30/'2020 Rate'!$AA30)*1000","v":1.197500867754252},{"$f":"('2020'!F30/'2020 Rate'!$AA30)*1000","v":1.3103089205137104},{"$f":"('2020'!G30/'2020 Rate'!$AA30)*1000","v":-0.16487330787920859},{"$f":"('2020'!H30/'2020 Rate'!$AA30)*1000","v":31.152377646650468},{"$f":"('2020'!I30/'2020 Rate'!$AA30)*1000","v":28.809441166261713},{"$f":"('2020'!J30/'2020 Rate'!$AA30)*1000","v":1.9090593543908365},{"$f":"('2020'!K30/'2020 Rate'!$AA30)*1000","v":17.615411315515445},{"$f":"('2020'!L30/'2020 Rate'!$AA30)*1000","v":15.706351961124611},{"$f":"('2020'!M30/'2020 Rate'!$AA30)*1000","v":2.7768136063866713},{"$f":"('2020'!N30/'2020 Rate'!$AA30)*1000","v":11.367580701145435},{"$f":"('2020'!O30/'2020 Rate'!$AA30)*1000","v":8.590767094758764},{"$f":"('2020'!P30/'2020 Rate'!$AA30)*1000","v":-2.342936480388754},{"$f":"('2020'!Q30/'2020 Rate'!$AA30)*1000","v":2.1693856299895868},{"$f":"('2020'!R30/'2020 Rate'!$AA30)*1000","v":4.5123221103783413},{"$f":"('2020'!S30/'2020 Rate'!$AA30)*1000","v":1.0413051023950017},null,null,null,null,null,{"$f":"('2020'!Y30/'2020 Rate'!$AA30)*1000","v":0.2342936480388754},"Scottish Borders",115240]
[29,"Shetland Islands",null,{"$f":"('2020'!D31/'2020 Rate'!$AA31)*1000","v":-1.3117621337997378},{"$f":"('2020'!E31/'2020 Rate'!$AA31)*1000","v":0.91823349365981632},{"$f":"('2020'!F31/'2020 Rate'!$AA31)*1000","v":-1.4866637516397025},{"$f":"('2020'!G31/'2020 Rate'!$AA31)*1000","v":-0.78705728027984256},{"$f":"('2020'!H31/'2020 Rate'!$AA31)*1000","v":24.486226497595105},{"$f":"('2020'!I31/'2020 Rate'!$AA31)*1000","v":25.797988631394841},{"$f":"('2020'!J31/'2020 Rate'!$AA31)*1000","v":-2.6235242675994757},{"$f":"('2020'!K31/'2020 Rate'!$AA31)*1000","v":13.117621337997376},{"$f":"('2020'!L31/'2020 Rate'!$AA31)*1000","v":15.30389156099694},{"$f":"('2020'!M31/'2020 Rate'!$AA31)*1000","v":3.0607783121993881},{"$f":"('2020'!N31/'2020 Rate'!$AA31)*1000","v":9.6195889811980759},{"$f":"('2020'!O31/'2020 Rate'!$AA31)*1000","v":6.5588106689986878},{"$f":"('2020'!P31/'2020 Rate'!$AA31)*1000","v":-2.1862702229995628},{"$f":"('2020'!Q31/'2020 Rate'!$AA31)*1000","v":2.1862702229995628},{"$f":"('2020'!R31/'2020 Rate'!$AA31)*1000","v":4.3725404459991255},{"$f":"('2020'!S31/'2020 Rate'!$AA31)*1000","v":0.87450808919982514},null,null,null,null,null,{"$f":"('2020'!Y31/'2020 Rate'!$AA31)*1000","v":0.30607783121993876},"Shetland Islands",22870]
[30,"South Ayrshire",null,{"$f":"('2020'!D32/'2020 Rate'!$AA32)*1000","v":3.1210986267166039},{"$f":"('2020'!E32/'2020 Rate'!$AA32)*1000","v":1.0344212591403603},{"$f":"('2020'!F32/'2020 Rate'!$AA32)*1000","v":1.8191546281433923},{"$f":"('2020'!G32/'2020 Rate'!$AA32)*1000","v":0.30319243802389872},{"$f":"('2020'!H32/'2020 Rate'!$AA32)*1000","v":28.357410379882289},{"$f":"('2020'!I32/'2020 Rate'!$AA32)*1000","v":25.236311753165687},{"$f":"('2020'!J32/'2020 Rate'!$AA32)*1000","v":2.407704654895666},{"$f":"('2020'!K32/'2020 Rate'!$AA32)*1000","v":20.242553950419119},{"$f":"('2020'!L32/'2020 Rate'!$AA32)*1000","v":17.834849295523451},{"$f":"('2020'!M32/'2020 Rate'!$AA32)*1000","v":2.407704654895666},{"$f":"('2020'!N32/'2020 Rate'!$AA32)*1000","v":6.1530230069555909},{"$f":"('2020'!O32/'2020 Rate'!$AA32)*1000","v":3.7453183520599249},{"$f":"('2020'!P32/'2020 Rate'!$AA32)*1000","v":-1.6943106830747279},{"$f":"('2020'!Q32/'2020 Rate'!$AA32)*1000","v":1.9618334225075797},{"$f":"('2020'!R32/'2020 Rate'!$AA32)*1000","v":3.6561441055823076},{"$f":"('2020'!S32/'2020 Rate'!$AA32)*1000","v":0.8025682182985554},null,null,null,null,null,{"$f":"('2020'!Y32/'2020 Rate'!$AA32)*1000","v":0.16051364365971107},"South Ayrshire",112140]
[31,"South Lanarkshire",null,{"$f":"('2020'!D33/'2020 Rate'!$AA33)*1000","v":3.6469048064335139},{"$f":"('2020'!E33/'2020 Rate'!$AA33)*1000","v":0.72938096128670282},{"$f":"('2020'!F33/'2020 Rate'!$AA33)*1000","v":2.8115454148743844},{"$f":"('2020'!G33/'2020 Rate'!$AA33)*1000","v":0.11844648089271242},{"$f":"('2020'!H33/'2020 Rate'!$AA33)*1000","v":25.497163518483884},{"$f":"('2020'!I33/'2020 Rate'!$AA33)*1000","v":21.819088585499657},{"$f":"('2020'!J33/'2020 Rate'!$AA33)*1000","v":3.7404151860856554},{"$f":"('2020'!K33/'2020 Rate'!$AA33)*1000","v":20.011221245558257},{"$f":"('2020'!L33/'2020 Rate'!$AA33)*1000","v":16.239635932921889},{"$f":"('2020'!M33/'2020 Rate'!$AA33)*1000","v":1.0286141761735552},{"$f":"('2020'!N33/'2020 Rate'!$AA33)*1000","v":3.9274359453899383},{"$f":"('2020'!O33/'2020 Rate'!$AA33)*1000","v":2.8988217692163829},{"$f":"('2020'!P33/'2020 Rate'!$AA33)*1000","v":-1.1221245558256967},{"$f":"('2020'!Q33/'2020 Rate'!$AA33)*1000","v":1.5585063275356899},{"$f":"('2020'!R33/'2020 Rate'!$AA33)*1000","v":2.6806308833613866},{"$f":"('2020'!S33/'2020 Rate'!$AA33)*1000","v":0.9974440496228415},null,null,null,null,null,{"$f":"('2020'!Y33/'2020 Rate'!$AA33)*1000","v":0.155850632753569},"South Lanarkshire",320820]
[32,"Stirling",null,{"$f":"('2020'!D34/'2020 Rate'!$AA34)*1000","v":1.3818027210884354},{"$f":"('2020'!E34/'2020 Rate'!$AA34)*1000","v":1.4562074829931972},{"$f":"('2020'!F34/'2020 Rate'!$AA34)*1000","v":4.2517006802721087E-2},{"$f":"('2020'!G34/'2020 Rate'!$AA34)*1000","v":-0.10629251700680271},{"$f":"('2020'!H34/'2020 Rate'!$AA34)*1000","v":48.150510204081634},{"$f":"('2020'!I34/'2020 Rate'!$AA34)*1000","v":46.7687074829932},{"$f":"('2020'!J34/'2020 Rate'!$AA34)*1000","v":-1.7006802721088434},{"$f":"('2020'!K34/'2020 Rate'!$AA34)*1000","v":30.080782312925169},{"$f":"('2020'!L34/'2020 Rate'!$AA34)*1000","v":31.78146258503401},{"$f":"('2020'!M34/'2020 Rate'!$AA34)*1000","v":2.5510204081632653},{"$f":"('2020'!N34/'2020 Rate'!$AA34)*1000","v":9.7789115646258509},{"$f":"('2020'!O34/'2020 Rate'!$AA34)*1000","v":7.2278911564625856},{"$f":"('2020'!P34/'2020 Rate'!$AA34)*1000","v":0.53146258503401367},{"$f":"('2020'!Q34/'2020 Rate'!$AA34)*1000","v":8.2908163265306136},{"$f":"('2020'!R34/'2020 Rate'!$AA34)*1000","v":7.7593537414965983},{"$f":"('2020'!S34/'2020 Rate'!$AA34)*1000","v":3.1887755102040818},null,null,null,null,null,{"$f":"('2020'!Y34/'2020 Rate'!$AA34)*1000","v":0.37202380952380948},"Stirling",94080]
[33,"West Dunbartonshire",null,{"$f":"('2020'!D35/'2020 Rate'!$AA35)*1000","v":-2.3771790808240887},{"$f":"('2020'!E35/'2020 Rate'!$AA35)*1000","v":-0.41883631424043466},{"$f":"('2020'!F35/'2020 Rate'!$AA35)*1000","v":-1.4149875481095766},{"$f":"('2020'!G35/'2020 Rate'!$AA35)*1000","v":-0.48675571654969435},{"$f":"('2020'!H35/'2020 Rate'!$AA35)*1000","v":22.30020375820693},{"$f":"('2020'!I35/'2020 Rate'!$AA35)*1000","v":24.677382839031015},{"$f":"('2020'!J35/'2020 Rate'!$AA35)*1000","v":-1.4715870500339596},{"$f":"('2020'!K35/'2020 Rate'!$AA35)*1000","v":18.111840615802581},{"$f":"('2020'!L35/'2020 Rate'!$AA35)*1000","v":19.583427665836538},{"$f":"('2020'!M35/'2020 Rate'!$AA35)*1000","v":-0.56599501924383067},{"$f":"('2020'!N35/'2020 Rate'!$AA35)*1000","v":2.7167760923703872},{"$f":"('2020'!O35/'2020 Rate'!$AA35)*1000","v":3.2827711116142178},{"$f":"('2020'!P35/'2020 Rate'!$AA35)*1000","v":-0.3395970115462984},{"$f":"('2020'!Q35/'2020 Rate'!$AA35)*1000","v":1.4715870500339596},{"$f":"('2020'!R35/'2020 Rate'!$AA35)*1000","v":1.9243830654290242},{"$f":"('2020'!S35/'2020 Rate'!$AA35)*1000","v":0.79239302694136293},null,null,null,null,null,{"$f":"('2020'!Y35/'2020 Rate'!$AA35)*1000","v":0.28299750962191533},"West Dunbartonshire",88340]
[34,"West Lothian",null,{"$f":"('2020'!D36/'2020 Rate'!$AA36)*1000","v":4.8416929605048411},{"$f":"('2020'!E36/'2020 Rate'!$AA36)*1000","v":1.4307474703514307},{"$f":"('2020'!F36/'2020 Rate'!$AA36)*1000","v":3.3456642367533456},{"$f":"('2020'!G36/'2020 Rate'!$AA36)*1000","v":4.3520835600043523E-2},{"$f":"('2020'!H36/'2020 Rate'!$AA36)*1000","v":27.472527472527471},{"$f":"('2020'!I36/'2020 Rate'!$AA36)*1000","v":22.630834512022631},{"$f":"('2020'!J36/'2020 Rate'!$AA36)*1000","v":3.4272658035034271},{"$f":"('2020'!K36/'2020 Rate'!$AA36)*1000","v":20.345990643020347},{"$f":"('2020'!L36/'2020 Rate'!$AA36)*1000","v":16.918724839516916},{"$f":"('2020'!M36/'2020 Rate'!$AA36)*1000","v":1.0336198455010337},{"$f":"('2020'!N36/'2020 Rate'!$AA36)*1000","v":4.1344793820041348},{"$f":"('2020'!O36/'2020 Rate'!$AA36)*1000","v":3.1552605810031551},{"$f":"('2020'!P36/'2020 Rate'!$AA36)*1000","v":0.38080731150038083},{"$f":"('2020'!Q36/'2020 Rate'!$AA36)*1000","v":2.992057447502992},{"$f":"('2020'!R36/'2020 Rate'!$AA36)*1000","v":2.6112501360026115},{"$f":"('2020'!S36/'2020 Rate'!$AA36)*1000","v":1.5232292460015233},null,null,null,null,null,{"$f":"('2020'!Y36/'2020 Rate'!$AA36)*1000","v":0.46784898270046787},"West Lothian",183820]
[]
[35,"Not specified"]
[36,"Scotland",null,{"$f":"('2020'!D39/'2020 Rate'!$AA39)*1000","v":3.0918404683497989},{"$f":"('2020'!E39/'2020 Rate'!$AA39)*1000","v":0.47822905232345408},{"$f":"('2020'!F39/'2020 Rate'!$AA39)*1000","v":2.5481156238565679},{"$f":"('2020'!G39/'2020 Rate'!$AA39)*1000","v":6.2202707647274057E-2},{"$f":"('2020'!H39/'2020 Rate'!$AA39)*1000","v":14.818880351262349},{"$f":"('2020'!I39/'2020 Rate'!$AA39)*1000","v":11.72703988291255},{"$f":"'Within Scotland net migration'!Q41","v":"[z]"},{"$f":"'Within Scotland in-migration'!Q41","v":"[z]"},{"$f":"'Within Scotland out-migration'!Q41","v":"[z]"},{"$f":"('2020'!M39/'2020 Rate'!$AA39)*1000","v":1.646542261251372},{"$f":"('2020'!N39/'2020 Rate'!$AA39)*1000","v":7.647274057811928},{"$f":"('2020'!O39/'2020 Rate'!$AA39)*1000","v":6.0007317965605562},{"$f":"('2020'!P39/'2020 Rate'!$AA39)*1000","v":1.4452982070984266},{"$f":"('2020'!Q39/'2020 Rate'!$AA39)*1000","v":7.171606293450421},{"$f":"('2020'!R39/'2020 Rate'!$AA39)*1000","v":5.7263080863519944},null,null,null,null,null,null,null,"SCOTLAND",5466000]
[37,"Ayrshire and Arran",null,{"$f":"('2020'!D40/'2020 Rate'!$AA40)*1000","v":1.4674311801951139},{"$f":"('2020'!E40/'2020 Rate'!$AA40)*1000","v":0.46196907524660996},{"$f":"('2020'!F40/'2020 Rate'!$AA40)*1000","v":0.68480121742438649},{"$f":"('2020'!G40/'2020 Rate'!$AA40)*1000","v":0.32881328296964596},{"$f":"('2020'!H40/'2020 Rate'!$AA40)*1000","v":18.587461615804777},{"$f":"('2020'!I40/'2020 Rate'!$AA40)*1000","v":17.120030435609664},{"$f":"('2020'!J40/'2020 Rate'!$AA40)*1000","v":1.1956846653441668},{"$f":"('2020'!K40/'2020 Rate'!$AA40)*1000","v":11.929672001956574},{"$f":"('2020'!L40/'2020 Rate'!$AA40)*1000","v":10.733987336612408},{"$f":"('2020'!M40/'2020 Rate'!$AA40)*1000","v":1.7120030435609663},{"$f":"('2020'!N40/'2020 Rate'!$AA40)*1000","v":5.2175330851381831},{"$f":"('2020'!O40/'2020 Rate'!$AA40)*1000","v":3.5055300415772166},{"$f":"('2020'!P40/'2020 Rate'!$AA40)*1000","v":-1.4402565287100193},{"$f":"('2020'!Q40/'2020 Rate'!$AA40)*1000","v":1.4402565287100193},{"$f":"('2020'!R40/'2020 Rate'!$AA40)*1000","v":2.8805130574200386},null,null,null,null,null,null,null,"Ayrshire & Arran",367990]
[38,"Borders",null,{"$f":"('2020'!D41/'2020 Rate'!$AA41)*1000","v":2.342936480388754},{"$f":"('2020'!E41/'2020 Rate'!$AA41)*1000","v":1.197500867754252},{"$f":"('2020'!F41/'2020 Rate'!$AA41)*1000","v":1.3103089205137104},{"$f":"('2020'!G41/'2020 Rate'!$AA41)*1000","v":-0.16487330787920859},{"$f":"('2020'!H41/'2020 Rate'!$AA41)*1000","v":31.152377646650468},{"$f":"('2020'!I41/'2020 Rate'!$AA41)*1000","v":28.809441166261713},{"$f":"('2020'!J41/'2020 Rate'!$AA41)*1000","v":1.9090593543908365},{"$f":"('2020'!K41/'2020 Rate'!$AA41)*1000","v":17.615411315515445},{"$f":"('2020'!L41/'2020 Rate'!$AA41)*1000","v":15.706351961124611},{"$f":"('2020'!M41/'2020 Rate'!$AA41)*1000","v":2.7768136063866713},{"$f":"('2020'!N41/'2020 Rate'!$AA41)*1000","v":11.367580701145435},{"$f":"('2020'!O41/'2020 Rate'!$AA41)*1000","v":8.590767094758764},{"$f":"('2020'!P41/'2020 Rate'!$AA41)*1000","v":-2.342936480388754},{"$f":"('2020'!Q41/'2020 Rate'!$AA41)*1000","v":2.1693856299895868},{"$f":"('2020'!R41/'2020 Rate'!$AA41)*1000","v":4.5123221103783413},null,null,null,null,null,null,null,"Borders",115240]
[39,"Dumfries and Galloway",null,{"$f":"('2020'!D42/'2020 Rate'!$AA42)*1000","v":2.2928046395576236},{"$f":"('2020'!E42/'2020 Rate'!$AA42)*1000","v":1.0317620878009306},{"$f":"('2020'!F42/'2020 Rate'!$AA42)*1000","v":0.81596870996021309},{"$f":"('2020'!G42/'2020 Rate'!$AA42)*1000","v":0.41135612650886777},{"$f":"('2020'!H42/'2020 Rate'!$AA42)*1000","v":23.9395778542046},{"$f":"('2020'!I42/'2020 Rate'!$AA42)*1000","v":21.7142086452222},{"$f":"('2020'!J42/'2020 Rate'!$AA42)*1000","v":-0.47204801402656954},{"$f":"('2020'!K42/'2020 Rate'!$AA42)*1000","v":9.3060894193809425},{"$f":"('2020'!L42/'2020 Rate'!$AA42)*1000","v":9.7107020028322886},{"$f":"('2020'!M42/'2020 Rate'!$AA42)*1000","v":4.9227864319913683},{"$f":"('2020'!N42/'2020 Rate'!$AA42)*1000","v":12.745296378717379},{"$f":"('2020'!O42/'2020 Rate'!$AA42)*1000","v":7.8225099467260097},{"$f":"('2020'!P42/'2020 Rate'!$AA42)*1000","v":-2.2253692089823991},{"$f":"('2020'!Q42/'2020 Rate'!$AA42)*1000","v":1.8881920561062782},{"$f":"('2020'!R42/'2020 Rate'!$AA42)*1000","v":4.1135612650886779},null,null,null,null,null,null,null,"Dumfries & Galloway",148290]
[40,"Fife",null,{"$f":"('2020'!D43/'2020 Rate'!$AA43)*1000","v":3.8489295164782296},{"$f":"('2020'!E43/'2020 Rate'!$AA43)*1000","v":0.89273781840536715},{"$f":"('2020'!F43/'2020 Rate'!$AA43)*1000","v":2.5098227888701787},{"$f":"('2020'!G43/'2020 Rate'!$AA43)*1000","v":0.43300457060380082},{"$f":"('2020'!H43/'2020 Rate'!$AA43)*1000","v":27.771095608478337},{"$f":"('2020'!I43/'2020 Rate'!$AA43)*1000","v":23.948894769197874},{"$f":"('2020'!J43/'2020 Rate'!$AA43)*1000","v":2.0581081442279419},{"$f":"('2020'!K43/'2020 Rate'!$AA43)*1000","v":15.128431293935263},{"$f":"('2020'!L43/'2020 Rate'!$AA43)*1000","v":13.07032314970732},{"$f":"('2020'!M43/'2020 Rate'!$AA43)*1000","v":1.0958757651083848},{"$f":"('2020'!N43/'2020 Rate'!$AA43)*1000","v":7.0563707802100879},{"$f":"('2020'!O43/'2020 Rate'!$AA43)*1000","v":5.9872236922994686},{"$f":"('2020'!P43/'2020 Rate'!$AA43)*1000","v":0.69494560714190257},{"$f":"('2020'!Q43/'2020 Rate'!$AA43)*1000","v":5.5595648571352205},{"$f":"('2020'!R43/'2020 Rate'!$AA43)*1000","v":4.8913479271910836},null,null,null,null,null,null,null,"Fife",374130]
[41,"Forth Valley",null,{"$f":"('2020'!D44/'2020 Rate'!$AA44)*1000","v":1.5036119373712939},{"$f":"('2020'!E44/'2020 Rate'!$AA44)*1000","v":0.82371784395123071},{"$f":"('2020'!F44/'2020 Rate'!$AA44)*1000","v":0.66355048540515804},{"$f":"('2020'!G44/'2020 Rate'!$AA44)*1000","v":2.6149772823848592E-2},{"$f":"('2020'!H44/'2020 Rate'!$AA44)*1000","v":26.901578792534238},{"$f":"('2020'!I44/'2020 Rate'!$AA44)*1000","v":25.397966855162945},{"$f":"('2020'!J44/'2020 Rate'!$AA44)*1000","v":0.26149772823848594},{"$f":"('2020'!K44/'2020 Rate'!$AA44)*1000","v":17.422286143889124},{"$f":"('2020'!L44/'2020 Rate'!$AA44)*1000","v":17.128101199620829},{"$f":"('2020'!M44/'2020 Rate'!$AA44)*1000","v":1.4709247213414833},{"$f":"('2020'!N44/'2020 Rate'!$AA44)*1000","v":5.6222011571274475},{"$f":"('2020'!O44/'2020 Rate'!$AA44)*1000","v":4.1512764357859639},{"$f":"('2020'!P44/'2020 Rate'!$AA44)*1000","v":-0.22881051220867518},{"$f":"('2020'!Q44/'2020 Rate'!$AA44)*1000","v":3.8897787075474781},{"$f":"('2020'!R44/'2020 Rate'!$AA44)*1000","v":4.1185892197561529},null,null,null,null,null,null,null,"Forth Valley",305930]
[42,"Grampian",null,{"$f":"('2020'!D45/'2020 Rate'!$AA45)*1000","v":0.68311843565878227},{"$f":"('2020'!E45/'2020 Rate'!$AA45)*1000","v":0.57381948595337717},{"$f":"('2020'!F45/'2020 Rate'!$AA45)*1000","v":-6.8311843565878232E-3},{"$f":"('2020'!G45/'2020 Rate'!$AA45)*1000","v":0.10759115361625822},{"$f":"('2020'!H45/'2020 Rate'!$AA45)*1000","v":24.985056784219964},{"$f":"('2020'!I45/'2020 Rate'!$AA45)*1000","v":24.31901630945265},{"$f":"('2020'!J45/'2020 Rate'!$AA45)*1000","v":-1.6907181282554862},{"$f":"('2020'!K45/'2020 Rate'!$AA45)*1000","v":9.9052173170523439},{"$f":"('2020'!L45/'2020 Rate'!$AA45)*1000","v":11.59593544530783},{"$f":"('2020'!M45/'2020 Rate'!$AA45)*1000","v":0.46110494406967806},{"$f":"('2020'!N45/'2020 Rate'!$AA45)*1000","v":7.0531978481769277},{"$f":"('2020'!O45/'2020 Rate'!$AA45)*1000","v":6.5750149432157805},{"$f":"('2020'!P45/'2020 Rate'!$AA45)*1000","v":1.895653658953121},{"$f":"('2020'!Q45/'2020 Rate'!$AA45)*1000","v":8.043719579882163},{"$f":"('2020'!R45/'2020 Rate'!$AA45)*1000","v":6.1309879600375714},null,null,null,null,null,null,null,"Grampian",585550]
[43,"Greater Glasgow and Clyde",null,{"$f":"('2020'!D46/'2020 Rate'!$AA46)*1000","v":4.3451115385913406},{"$f":"('2020'!E46/'2020 Rate'!$AA46)*1000","v":9.8714184468968319E-2},{"$f":"('2020'!F46/'2020 Rate'!$AA46)*1000","v":4.3510175154399109},{"$f":"('2020'!G46/'2020 Rate'!$AA46)*1000","v":-0.10883871620937531},{"$f":"('2020'!H46/'2020 Rate'!$AA46)*1000","v":30.626708514731195},{"$f":"('2020'!I46/'2020 Rate'!$AA46)*1000","v":26.281596976139852},{"$f":"('2020'!J46/'2020 Rate'!$AA46)*1000","v":-0.59059768485707531},{"$f":"('2020'!K46/'2020 Rate'!$AA46)*1000","v":12.7653471026965},{"$f":"('2020'!L46/'2020 Rate'!$AA46)*1000","v":13.355944787553575},{"$f":"('2020'!M46/'2020 Rate'!$AA46)*1000","v":0.99557895447335565},{"$f":"('2020'!N46/'2020 Rate'!$AA46)*1000","v":6.867807363909419},{"$f":"('2020'!O46/'2020 Rate'!$AA46)*1000","v":5.8637912996523909},{"$f":"('2020'!P46/'2020 Rate'!$AA46)*1000","v":3.9316931591913873},{"$f":"('2020'!Q46/'2020 Rate'!$AA46)*1000","v":10.993554048125274},{"$f":"('2020'!R46/'2020 Rate'!$AA46)*1000","v":7.0618608889338867},null,null,null,null,null,null,null,"Greater Glasgow & Clyde",1185240]
[44,"Highland",null,{"$f":"('2020'!D47/'2020 Rate'!$AA47)*1000","v":0.93498722184130145},{"$f":"('2020'!E47/'2020 Rate'!$AA47)*1000","v":0.12466496291217352},{"$f":"('2020'!F47/'2020 Rate'!$AA47)*1000","v":1.0378358162438446},{"$f":"('2020'!G47/'2020 Rate'!$AA47)*1000","v":-0.22439693324191234},{"$f":"('2020'!H47/'2020 Rate'!$AA47)*1000","v":29.20276756217665},{"$f":"('2020'!I47/'2020 Rate'!$AA47)*1000","v":28.267780340335349},{"$f":"('2020'!J47/'2020 Rate'!$AA47)*1000","v":-1.3089821105778221},{"$f":"('2020'!K47/'2020 Rate'!$AA47)*1000","v":15.364956678925386},{"$f":"('2020'!L47/'2020 Rate'!$AA47)*1000","v":16.673938789503207},{"$f":"('2020'!M47/'2020 Rate'!$AA47)*1000","v":4.1451100168297694},{"$f":"('2020'!N47/'2020 Rate'!$AA47)*1000","v":10.78351929190301},{"$f":"('2020'!O47/'2020 Rate'!$AA47)*1000","v":6.6695755158012844},{"$f":"('2020'!P47/'2020 Rate'!$AA47)*1000","v":-1.8699744436826029},{"$f":"('2020'!Q47/'2020 Rate'!$AA47)*1000","v":3.0854578320762949},{"$f":"('2020'!R47/'2020 Rate'!$AA47)*1000","v":4.9554322757588976},null,null,null,null,null,null,null,"Highland",320860]
[45,"Lanarkshire",null,{"$f":"('2020'!D48/'2020 Rate'!$AA48)*1000","v":2.4321711281648435},{"$f":"('2020'!E48/'2020 Rate'!$AA48)*1000","v":0.74626865671641796},{"$f":"('2020'!F48/'2020 Rate'!$AA48)*1000","v":1.7191371079823554},{"$f":"('2020'!G48/'2020 Rate'!$AA48)*1000","v":-3.3234636533929544E-2},{"$f":"('2020'!H48/'2020 Rate'!$AA48)*1000","v":19.125022659979454},{"$f":"('2020'!I48/'2020 Rate'!$AA48)*1000","v":16.692851531814611},{"$f":"('2020'!J48/'2020 Rate'!$AA48)*1000","v":2.5832376578645238},{"$f":"('2020'!K48/'2020 Rate'!$AA48)*1000","v":14.30600036255967},{"$f":"('2020'!L48/'2020 Rate'!$AA48)*1000","v":11.722762704695148},{"$f":"('2020'!M48/'2020 Rate'!$AA48)*1000","v":0.90639917819807847},{"$f":"('2020'!N48/'2020 Rate'!$AA48)*1000","v":3.3083570004229865},{"$f":"('2020'!O48/'2020 Rate'!$AA48)*1000","v":2.4019578222249076},{"$f":"('2020'!P48/'2020 Rate'!$AA48)*1000","v":-1.0574657078977583},{"$f":"('2020'!Q48/'2020 Rate'!$AA48)*1000","v":1.5106652969967973},{"$f":"('2020'!R48/'2020 Rate'!$AA48)*1000","v":2.5832376578645238},null,null,null,null,null,null,null,"Lanarkshire",661960]
[46,"Lothian",null,{"$f":"('2020'!D49/'2020 Rate'!$AA49)*1000","v":5.8959550241646479},{"$f":"('2020'!E49/'2020 Rate'!$AA49)*1000","v":0.33753794562132189},{"$f":"('2020'!F49/'2020 Rate'!$AA49)*1000","v":5.4849916163464805},{"$f":"('2020'!G49/'2020 Rate'!$AA49)*1000","v":6.9041852513452198E-2},{"$f":"('2020'!H49/'2020 Rate'!$AA49)*1000","v":37.611371083518726},{"$f":"('2020'!I49/'2020 Rate'!$AA49)*1000","v":31.726375083562562},{"$f":"('2020'!J49/'2020 Rate'!$AA49)*1000","v":-1.2054926629332925},{"$f":"('2020'!K49/'2020 Rate'!$AA49)*1000","v":11.890541266205657},{"$f":"('2020'!L49/'2020 Rate'!$AA49)*1000","v":13.096033929138949},{"$f":"('2020'!M49/'2020 Rate'!$AA49)*1000","v":2.432903374283554},{"$f":"('2020'!N49/'2020 Rate'!$AA49)*1000","v":11.967254435665048},{"$f":"('2020'!O49/'2020 Rate'!$AA49)*1000","v":9.5343510613814946},{"$f":"('2020'!P49/'2020 Rate'!$AA49)*1000","v":4.6575852886059028},{"$f":"('2020'!Q49/'2020 Rate'!$AA49)*1000","v":13.753575381648018},{"$f":"('2020'!R49/'2020 Rate'!$AA49)*1000","v":9.0959900930421149},null,null,null,null,null,null,null,"Lothian",912490]
[47,"Orkney",null,{"$f":"('2020'!D50/'2020 Rate'!$AA50)*1000","v":7.5892857142857144},{"$f":"('2020'!E50/'2020 Rate'!$AA50)*1000","v":0.89285714285714279},{"$f":"('2020'!F50/'2020 Rate'!$AA50)*1000","v":4.9107142857142856},{"$f":"('2020'!G50/'2020 Rate'!$AA50)*1000","v":1.6517857142857144},{"$f":"('2020'!H50/'2020 Rate'!$AA50)*1000","v":31.25},{"$f":"('2020'!I50/'2020 Rate'!$AA50)*1000","v":23.660714285714285},{"$f":"('2020'!J50/'2020 Rate'!$AA50)*1000","v":1.3392857142857142},{"$f":"('2020'!K50/'2020 Rate'!$AA50)*1000","v":15.178571428571429},{"$f":"('2020'!L50/'2020 Rate'!$AA50)*1000","v":14.285714285714285},{"$f":"('2020'!M50/'2020 Rate'!$AA50)*1000","v":8.4821428571428559},{"$f":"('2020'!N50/'2020 Rate'!$AA50)*1000","v":13.839285714285714},{"$f":"('2020'!O50/'2020 Rate'!$AA50)*1000","v":5.8035714285714288},{"$f":"('2020'!P50/'2020 Rate'!$AA50)*1000","v":-2.2321428571428572},{"$f":"('2020'!Q50/'2020 Rate'!$AA50)*1000","v":1.7857142857142856},{"$f":"('2020'!R50/'2020 Rate'!$AA50)*1000","v":4.0178571428571423},null,null,null,null,null,null,null,"Orkney",22400]
[48,"Shetland",null,{"$f":"('2020'!D51/'2020 Rate'!$AA51)*1000","v":-1.3117621337997378},{"$f":"('2020'!E51/'2020 Rate'!$AA51)*1000","v":0.91823349365981632},{"$f":"('2020'!F51/'2020 Rate'!$AA51)*1000","v":-1.4866637516397025},{"$f":"('2020'!G51/'2020 Rate'!$AA51)*1000","v":-0.78705728027984256},{"$f":"('2020'!H51/'2020 Rate'!$AA51)*1000","v":24.486226497595105},{"$f":"('2020'!I51/'2020 Rate'!$AA51)*1000","v":25.797988631394841},{"$f":"('2020'!J51/'2020 Rate'!$AA51)*1000","v":-2.6235242675994757},{"$f":"('2020'!K51/'2020 Rate'!$AA51)*1000","v":13.117621337997376},{"$f":"('2020'!L51/'2020 Rate'!$AA51)*1000","v":15.30389156099694},{"$f":"('2020'!M51/'2020 Rate'!$AA51)*1000","v":3.0607783121993881},{"$f":"('2020'!N51/'2020 Rate'!$AA51)*1000","v":9.6195889811980759},{"$f":"('2020'!O51/'2020 Rate'!$AA51)*1000","v":6.5588106689986878},{"$f":"('2020'!P51/'2020 Rate'!$AA51)*1000","v":-2.1862702229995628},{"$f":"('2020'!Q51/'2020 Rate'!$AA51)*1000","v":2.1862702229995628},{"$f":"('2020'!R51/'2020 Rate'!$AA51)*1000","v":4.3725404459991255},null,null,null,null,null,null,null,"Shetland",22870]
[49,"Tayside",null,{"$f":"('2020'!D52/'2020 Rate'!$AA52)*1000","v":2.1846116912735565},{"$f":"('2020'!E52/'2020 Rate'!$AA52)*1000","v":0.59056535830032408},{"$f":"('2020'!F52/'2020 Rate'!$AA52)*1000","v":1.3755851638458769},{"$f":"('2020'!G52/'2020 Rate'!$AA52)*1000","v":0.22326251350378107},{"$f":"('2020'!H52/'2020 Rate'!$AA52)*1000","v":28.712039371023888},{"$f":"('2020'!I52/'2020 Rate'!$AA52)*1000","v":26.527427679750332},{"$f":"('2020'!J52/'2020 Rate'!$AA52)*1000","v":0.31208738446765094},{"$f":"('2020'!K52/'2020 Rate'!$AA52)*1000","v":16.108510382907212},{"$f":"('2020'!L52/'2020 Rate'!$AA52)*1000","v":15.796422998439565},{"$f":"('2020'!M52/'2020 Rate'!$AA52)*1000","v":1.2483495378706038},{"$f":"('2020'!N52/'2020 Rate'!$AA52)*1000","v":6.6978754051134315},{"$f":"('2020'!O52/'2020 Rate'!$AA52)*1000","v":5.4495258672428282},{"$f":"('2020'!P52/'2020 Rate'!$AA52)*1000","v":0.62417476893530188},{"$f":"('2020'!Q52/'2020 Rate'!$AA52)*1000","v":5.9296603048853678},{"$f":"('2020'!R52/'2020 Rate'!$AA52)*1000","v":5.3054855359500657},null,null,null,null,null,null,null,"Tayside",416550]
[50,"Western Isles",null,{"$f":"('2020'!D53/'2020 Rate'!$AA53)*1000","v":-1.5094339622641508},{"$f":"('2020'!E53/'2020 Rate'!$AA53)*1000","v":-0.56603773584905659},{"$f":"('2020'!F53/'2020 Rate'!$AA53)*1000","v":-0.60377358490566047},{"$f":"('2020'!G53/'2020 Rate'!$AA53)*1000","v":-0.30188679245283023},{"$f":"('2020'!H53/'2020 Rate'!$AA53)*1000","v":27.169811320754718},{"$f":"('2020'!I53/'2020 Rate'!$AA53)*1000","v":28.30188679245283},{"$f":"('2020'!J53/'2020 Rate'!$AA53)*1000","v":-1.5094339622641508},{"$f":"('2020'!K53/'2020 Rate'!$AA53)*1000","v":18.490566037735849},{"$f":"('2020'!L53/'2020 Rate'!$AA53)*1000","v":20},{"$f":"('2020'!M53/'2020 Rate'!$AA53)*1000","v":2.2641509433962264},{"$f":"('2020'!N53/'2020 Rate'!$AA53)*1000","v":7.1698113207547172},{"$f":"('2020'!O53/'2020 Rate'!$AA53)*1000","v":4.9056603773584913},{"$f":"('2020'!P53/'2020 Rate'!$AA53)*1000","v":-2.2641509433962264},{"$f":"('2020'!Q53/'2020 Rate'!$AA53)*1000","v":1.5094339622641508},{"$f":"('2020'!R53/'2020 Rate'!$AA53)*1000","v":3.3962264150943398},null,null,null,null,null,null,null,"Western Isles",26500]

{"sheet":"2021","index":58,"n_rows":53,"n_cols":25,"rows_kept":53,"cut":false,"hidden":true,"merged":[]}
[null,2021,null,null,null,null,null,null,null,null,null,null,null,null,null,null,null,null,"Leave blank until populated",null,null,null,"Leave blank until populated","Leave blank until populated","Leave blank until populated"]
[null,null,"Not specified ",{"$f":"'Comparing Indicators'!$U8","v":"Total net migration"},{"$f":"'Comparing Indicators'!$U9","v":"Total net migration for ages 0-15"},{"$f":"'Comparing Indicators'!$U10","v":"Total net migration for ages 16-64"},{"$f":"'Comparing Indicators'!$U11","v":"Total net migration for people aged 65+"},{"$f":"'Comparing Indicators'!$U12","v":"Total in-migration"},{"$f":"'Comparing Indicators'!$U13","v":"Total out-migration"},{"$f":"'Comparing Indicators'!$U14","v":"Within Scotland net migration"},{"$f":"'Comparing Indicators'!$U15","v":"Within Scotland in-migration"},{"$f":"'Comparing Indicators'!$U16","v":"Within Scotland out-migration"},{"$f":"'Comparing Indicators'!$U17","v":"Rest of UK net migration"},{"$f":"'Comparing Indicators'!$U18","v":"Rest of UK in-migration"},{"$f":"'Comparing Indicators'!$U19","v":"Rest of UK out-migration"},{"$f":"'Comparing Indicators'!$U20","v":"International net migration"},{"$f":"'Comparing Indicators'!$U21","v":"International in-migration"},{"$f":"'Comparing Indicators'!$U22","v":"International out-migration"},{"$f":"'Comparing Indicators'!$U23","v":"NINo Allocation"},{"$f":"'Comparing Indicators'!$U24","v":"Births to non-UK mothers"},{"$f":"'Comparing Indicators'!$U25","v":"Pupils from a minority ethnic group"},{"$f":"'Comparing Indicators'!$U26","v":"Pupils with English as an additional language"},{"$f":"'Comparing Indicators'!$U27","v":"Population born outside the UK"},{"$f":"'Comparing Indicators'!$U28","v":"Population with non-British nationality"},{"$f":"'Comparing Indicators'!$U29","v":"Citizenships"}]
[1,"Not specified"]
[2,"Scotland",null,{"$f":"'Total net migration'!S6","v":27800},{"$f":"'Total net migration 0-15'!S6","v":5166},{"$f":"'Total net migration 16-64'!S6","v":21236},{"$f":"'Total net migration 65+'!S6","v":1372},{"$f":"'Total in-migration'!S6","v":97200},{"$f":"'Total out-migration'!S6","v":69400},{"$f":"'Within Scotland net migration'!S6","v":"[z]"},{"$f":"'Within Scotland in-migration'!S6","v":"[z]"},{"$f":"'Within Scotland out-migration'!S6","v":"[z]"},{"$f":"'Rest of UK net migration'!S6","v":8900},{"$f":"'Rest of UK in-migration'!S6","v":56200},{"$f":"'Rest of UK out-migration'!S6","v":47300},{"$f":"'International net migration'!S6","v":18900},{"$f":"'International in-migration'!S6","v":41000},{"$f":"'International out-migration'!S6","v":22100},null,{"$f":"'Births to non-UK mothers'!S6","v":8257},{"$f":"'Pupils'' ethnic group (TS)'!T6","v":65026},{"$f":"'Pupils with English as an add.'!Q6","v":49441}]
[3,"Aberdeen City",null,{"$f":"'Total net migration'!S7","v":-1510},{"$f":"'Total net migration 0-15'!S7","v":17},{"$f":"'Total net migration 16-64'!S7","v":-1536},{"$f":"'Total net migration 65+'!S7","v":12},{"$f":"'Total in-migration'!S7","v":11770},{"$f":"'Total out-migration'!S7","v":13280},{"$f":"'Within Scotland net migration'!S7","v":-2830},{"$f":"'Within Scotland in-migration'!S7","v":5810},{"$f":"'Within Scotland out-migration'!S7","v":8640},{"$f":"'Rest of UK net migration'!S7","v":-640},{"$f":"'Rest of UK in-migration'!S7","v":2270},{"$f":"'Rest of UK out-migration'!S7","v":2910},{"$f":"'International net migration'!S7","v":1970},{"$f":"'International in-migration'!S7","v":3690},{"$f":"'International out-migration'!S7","v":1720},null,{"$f":"'Births to non-UK mothers'!S7","v":681},{"$f":"'Pupils'' ethnic group (TS)'!T7","v":4406},{"$f":"'Pupils with English as an add.'!Q7","v":4925}]
[4,"Aberdeenshire",null,{"$f":"'Total net migration'!S8","v":2240},{"$f":"'Total net migration 0-15'!S8","v":619},{"$f":"'Total net migration 16-64'!S8","v":1369},{"$f":"'Total net migration 65+'!S8","v":248},{"$f":"'Total in-migration'!S8","v":9510},{"$f":"'Total out-migration'!S8","v":7280},{"$f":"'Within Scotland net migration'!S8","v":1310},{"$f":"'Within Scotland in-migration'!S8","v":6750},{"$f":"'Within Scotland out-migration'!S8","v":5440},{"$f":"'Rest of UK net migration'!S8","v":660},{"$f":"'Rest of UK in-migration'!S8","v":2000},{"$f":"'Rest of UK out-migration'!S8","v":1340},{"$f":"'International net migration'!S8","v":270},{"$f":"'International in-migration'!S8","v":770},{"$f":"'International out-migration'!S8","v":500},null,{"$f":"'Births to non-UK mothers'!S8","v":296},{"$f":"'Pupils'' ethnic group (TS)'!T8","v":1554},{"$f":"'Pupils with English as an add.'!Q8","v":1805}]
[5,"Angus",null,{"$f":"'Total net migration'!S9","v":940},{"$f":"'Total net migration 0-15'!S9","v":130},{"$f":"'Total net migration 16-64'!S9","v":711},{"$f":"'Total net migration 65+'!S9","v":102},{"$f":"'Total in-migration'!S9","v":4640},{"$f":"'Total out-migration'!S9","v":3700},{"$f":"'Within Scotland net migration'!S9","v":490},{"$f":"'Within Scotland in-migration'!S9","v":3390},{"$f":"'Within Scotland out-migration'!S9","v":2910},{"$f":"'Rest of UK net migration'!S9","v":290},{"$f":"'Rest of UK in-migration'!S9","v":840},{"$f":"'Rest of UK out-migration'!S9","v":560},{"$f":"'International net migration'!S9","v":170},{"$f":"'International in-migration'!S9","v":400},{"$f":"'International out-migration'!S9","v":230},null,{"$f":"'Births to non-UK mothers'!S9","v":112},{"$f":"'Pupils'' ethnic group (TS)'!T9","v":505},{"$f":"'Pupils with English as an add.'!Q9","v":561}]
[6,"Argyll and Bute",null,{"$f":"'Total net migration'!S10","v":1220},{"$f":"'Total net migration 0-15'!S10","v":188},{"$f":"'Total net migration 16-64'!S10","v":983},{"$f":"'Total net migration 65+'!S10","v":44},{"$f":"'Total in-migration'!S10","v":5280},{"$f":"'Total out-migration'!S10","v":4070},{"$f":"'Within Scotland net migration'!S10","v":350},{"$f":"'Within Scotland in-migration'!S10","v":3100},{"$f":"'Within Scotland out-migration'!S10","v":2740},{"$f":"'Rest of UK net migration'!S10","v":900},{"$f":"'Rest of UK in-migration'!S10","v":1870},{"$f":"'Rest of UK out-migration'!S10","v":970},{"$f":"'International net migration'!S10","v":-40},{"$f":"'International in-migration'!S10","v":320},{"$f":"'International out-migration'!S10","v":350},null,{"$f":"'Births to non-UK mothers'!S10","v":79},{"$f":"'Pupils'' ethnic group (TS)'!T10","v":376},{"$f":"'Pupils with English as an add.'!Q10","v":174}]
[7,"City of Edinburgh",null,{"$f":"'Total net migration'!S11","v":-1380},{"$f":"'Total net migration 0-15'!S11","v":-517},{"$f":"'Total net migration 16-64'!S11","v":-779},{"$f":"'Total net migration 65+'!S11","v":-83},{"$f":"'Total in-migration'!S11","v":34080},{"$f":"'Total out-migration'!S11","v":35460},{"$f":"'Within Scotland net migration'!S11","v":-7260},{"$f":"'Within Scotland in-migration'!S11","v":11690},{"$f":"'Within Scotland out-migration'!S11","v":18950},{"$f":"'Rest of UK net migration'!S11","v":-310},{"$f":"'Rest of UK in-migration'!S11","v":10980},{"$f":"'Rest of UK out-migration'!S11","v":11300},{"$f":"'International net migration'!S11","v":6190},{"$f":"'International in-migration'!S11","v":11410},{"$f":"'International out-migration'!S11","v":5220},null,{"$f":"'Births to non-UK mothers'!S11","v":1657},{"$f":"'Pupils'' ethnic group (TS)'!T11","v":10656},{"$f":"'Pupils with English as an add.'!Q11","v":7540}]
[8,"Clackmannanshire",null,{"$f":"'Total net migration'!S12","v":300},{"$f":"'Total net migration 0-15'!S12","v":81},{"$f":"'Total net migration 16-64'!S12","v":212},{"$f":"'Total net migration 65+'!S12","v":7},{"$f":"'Total in-migration'!S12","v":2110},{"$f":"'Total out-migration'!S12","v":1810},{"$f":"'Within Scotland net migration'!S12","v":210},{"$f":"'Within Scotland in-migration'!S12","v":1660},{"$f":"'Within Scotland out-migration'!S12","v":1450},{"$f":"'Rest of UK net migration'!S12","v":50},{"$f":"'Rest of UK in-migration'!S12","v":310},{"$f":"'Rest of UK out-migration'!S12","v":260},{"$f":"'International net migration'!S12","v":40},{"$f":"'International in-migration'!S12","v":130},{"$f":"'International out-migration'!S12","v":90},null,{"$f":"'Births to non-UK mothers'!S12","v":43},{"$f":"'Pupils'' ethnic group (TS)'!T12","v":296},{"$f":"'Pupils with English as an add.'!Q12","v":213}]
[9,"Dumfries and Galloway",null,{"$f":"'Total net migration'!S13","v":1500},{"$f":"'Total net migration 0-15'!S13","v":323},{"$f":"'Total net migration 16-64'!S13","v":1093},{"$f":"'Total net migration 65+'!S13","v":85},{"$f":"'Total in-migration'!S13","v":5310},{"$f":"'Total out-migration'!S13","v":3810},{"$f":"'Within Scotland net migration'!S13","v":330},{"$f":"'Within Scotland in-migration'!S13","v":2170},{"$f":"'Within Scotland out-migration'!S13","v":1850},{"$f":"'Rest of UK net migration'!S13","v":1240},{"$f":"'Rest of UK in-migration'!S13","v":2800},{"$f":"'Rest of UK out-migration'!S13","v":1560},{"$f":"'International net migration'!S13","v":-70},{"$f":"'International in-migration'!S13","v":340},{"$f":"'International out-migration'!S13","v":410},null,{"$f":"'Births to non-UK mothers'!S13","v":83},{"$f":"'Pupils'' ethnic group (TS)'!T13","v":538},{"$f":"'Pupils with English as an add.'!Q13","v":489}]
[10,"Dundee City",null,{"$f":"'Total net migration'!S14","v":-610},{"$f":"'Total net migration 0-15'!S14","v":-104},{"$f":"'Total net migration 16-64'!S14","v":-514},{"$f":"'Total net migration 65+'!S14","v":4},{"$f":"'Total in-migration'!S14","v":6990},{"$f":"'Total out-migration'!S14","v":7600},{"$f":"'Within Scotland net migration'!S14","v":-1240},{"$f":"'Within Scotland in-migration'!S14","v":4080},{"$f":"'Within Scotland out-migration'!S14","v":5330},{"$f":"'Rest of UK net migration'!S14","v":-120},{"$f":"'Rest of UK in-migration'!S14","v":1340},{"$f":"'Rest of UK out-migration'!S14","v":1460},{"$f":"'International net migration'!S14","v":750},{"$f":"'International in-migration'!S14","v":1570},{"$f":"'International out-migration'!S14","v":820},null,{"$f":"'Births to non-UK mothers'!S14","v":253},{"$f":"'Pupils'' ethnic group (TS)'!T14","v":2161},{"$f":"'Pupils with English as an add.'!Q14","v":1295}]
[11,"East Ayrshire",null,{"$f":"'Total net migration'!S15","v":900},{"$f":"'Total net migration 0-15'!S15","v":144},{"$f":"'Total net migration 16-64'!S15","v":662},{"$f":"'Total net migration 65+'!S15","v":95},{"$f":"'Total in-migration'!S15","v":4020},{"$f":"'Total out-migration'!S15","v":3120},{"$f":"'Within Scotland net migration'!S15","v":650},{"$f":"'Within Scotland in-migration'!S15","v":3050},{"$f":"'Within Scotland out-migration'!S15","v":2390},{"$f":"'Rest of UK net migration'!S15","v":270},{"$f":"'Rest of UK in-migration'!S15","v":780},{"$f":"'Rest of UK out-migration'!S15","v":520},{"$f":"'International net migration'!S15","v":-20},{"$f":"'International in-migration'!S15","v":190},{"$f":"'International out-migration'!S15","v":200},null,{"$f":"'Births to non-UK mothers'!S15","v":66},{"$f":"'Pupils'' ethnic group (TS)'!T15","v":517},{"$f":"'Pupils with English as an add.'!Q15","v":168}]
[12,"East Dunbartonshire",null,{"$f":"'Total net migration'!S16","v":490},{"$f":"'Total net migration 0-15'!S16","v":427},{"$f":"'Total net migration 16-64'!S16","v":83},{"$f":"'Total net migration 65+'!S16","v":-24},{"$f":"'Total in-migration'!S16","v":4500},{"$f":"'Total out-migration'!S16","v":4010},{"$f":"'Within Scotland net migration'!S16","v":540},{"$f":"'Within Scotland in-migration'!S16","v":3740},{"$f":"'Within Scotland out-migration'!S16","v":3200},{"$f":"'Rest of UK net migration'!S16","v":-60},{"$f":"'Rest of UK in-migration'!S16","v":550},{"$f":"'Rest of UK out-migration'!S16","v":610},{"$f":"'International net migration'!S16","v":10},{"$f":"'International in-migration'!S16","v":210},{"$f":"'International out-migration'!S16","v":200},null,{"$f":"'Births to non-UK mothers'!S16","v":107},{"$f":"'Pupils'' ethnic group (TS)'!T16","v":1982},{"$f":"'Pupils with English as an add.'!Q16","v":684}]
[13,"East Lothian",null,{"$f":"'Total net migration'!S17","v":1820},{"$f":"'Total net migration 0-15'!S17","v":359},{"$f":"'Total net migration 16-64'!S17","v":1244},{"$f":"'Total net migration 65+'!S17","v":217},{"$f":"'Total in-migration'!S17","v":5590},{"$f":"'Total out-migration'!S17","v":3770},{"$f":"'Within Scotland net migration'!S17","v":1350},{"$f":"'Within Scotland in-migration'!S17","v":4160},{"$f":"'Within Scotland out-migration'!S17","v":2810},{"$f":"'Rest of UK net migration'!S17","v":410},{"$f":"'Rest of UK in-migration'!S17","v":1090},{"$f":"'Rest of UK out-migration'!S17","v":680},{"$f":"'International net migration'!S17","v":60},{"$f":"'International in-migration'!S17","v":340},{"$f":"'International out-migration'!S17","v":280},null,{"$f":"'Births to non-UK mothers'!S17","v":127},{"$f":"'Pupils'' ethnic group (TS)'!T17","v":591},{"$f":"'Pupils with English as an add.'!Q17","v":429}]
[14,"East Renfrewshire",null,{"$f":"'Total net migration'!S18","v":690},{"$f":"'Total net migration 0-15'!S18","v":589},{"$f":"'Total net migration 16-64'!S18","v":133},{"$f":"'Total net migration 65+'!S18","v":-36},{"$f":"'Total in-migration'!S18","v":4440},{"$f":"'Total out-migration'!S18","v":3750},{"$f":"'Within Scotland net migration'!S18","v":690},{"$f":"'Within Scotland in-migration'!S18","v":3650},{"$f":"'Within Scotland out-migration'!S18","v":2960},{"$f":"'Rest of UK net migration'!S18","v":-100},{"$f":"'Rest of UK in-migration'!S18","v":490},{"$f":"'Rest of UK out-migration'!S18","v":590},{"$f":"'International net migration'!S18","v":100},{"$f":"'International in-migration'!S18","v":300},{"$f":"'International out-migration'!S18","v":200},null,{"$f":"'Births to non-UK mothers'!S18","v":111},{"$f":"'Pupils'' ethnic group (TS)'!T18","v":3920},{"$f":"'Pupils with English as an add.'!Q18","v":966}]
[15,"Falkirk",null,{"$f":"'Total net migration'!S19","v":610},{"$f":"'Total net migration 0-15'!S19","v":54},{"$f":"'Total net migration 16-64'!S19","v":548},{"$f":"'Total net migration 65+'!S19","v":12},{"$f":"'Total in-migration'!S19","v":4520},{"$f":"'Total out-migration'!S19","v":3910},{"$f":"'Within Scotland net migration'!S19","v":310},{"$f":"'Within Scotland in-migration'!S19","v":3450},{"$f":"'Within Scotland out-migration'!S19","v":3140},{"$f":"'Rest of UK net migration'!S19","v":150},{"$f":"'Rest of UK in-migration'!S19","v":700},{"$f":"'Rest of UK out-migration'!S19","v":550},{"$f":"'International net migration'!S19","v":150},{"$f":"'International in-migration'!S19","v":370},{"$f":"'International out-migration'!S19","v":220},null,{"$f":"'Births to non-UK mothers'!S19","v":182},{"$f":"'Pupils'' ethnic group (TS)'!T19","v":1084},{"$f":"'Pupils with English as an add.'!Q19","v":740}]
[16,"Fife",null,{"$f":"'Total net migration'!S20","v":1760},{"$f":"'Total net migration 0-15'!S20","v":461},{"$f":"'Total net migration 16-64'!S20","v":1123},{"$f":"'Total net migration 65+'!S20","v":180},{"$f":"'Total in-migration'!S20","v":13320},{"$f":"'Total out-migration'!S20","v":11560},{"$f":"'Within Scotland net migration'!S20","v":1310},{"$f":"'Within Scotland in-migration'!S20","v":7940},{"$f":"'Within Scotland out-migration'!S20","v":6630},{"$f":"'Rest of UK net migration'!S20","v":-280},{"$f":"'Rest of UK in-migration'!S20","v":3310},{"$f":"'Rest of UK out-migration'!S20","v":3580},{"$f":"'International net migration'!S20","v":730},{"$f":"'International in-migration'!S20","v":2070},{"$f":"'International out-migration'!S20","v":1350},null,{"$f":"'Births to non-UK mothers'!S20","v":411},{"$f":"'Pupils'' ethnic group (TS)'!T20","v":2634},{"$f":"'Pupils with English as an add.'!Q20","v":1852}]
[17,"Glasgow City",null,{"$f":"'Total net migration'!S21","v":390},{"$f":"'Total net migration 0-15'!S21","v":-1022},{"$f":"'Total net migration 16-64'!S21","v":1746},{"$f":"'Total net migration 65+'!S21","v":-335},{"$f":"'Total in-migration'!S21","v":36400},{"$f":"'Total out-migration'!S21","v":36010},{"$f":"'Within Scotland net migration'!S21","v":-6470},{"$f":"'Within Scotland in-migration'!S21","v":17200},{"$f":"'Within Scotland out-migration'!S21","v":23670},{"$f":"'Rest of UK net migration'!S21","v":310},{"$f":"'Rest of UK in-migration'!S21","v":7770},{"$f":"'Rest of UK out-migration'!S21","v":7460},{"$f":"'International net migration'!S21","v":6550},{"$f":"'International in-migration'!S21","v":11430},{"$f":"'International out-migration'!S21","v":4880},null,{"$f":"'Births to non-UK mothers'!S21","v":1864},{"$f":"'Pupils'' ethnic group (TS)'!T21","v":18023},{"$f":"'Pupils with English as an add.'!Q21","v":16434}]
[18,"Highland",null,{"$f":"'Total net migration'!S22","v":3390},{"$f":"'Total net migration 0-15'!S22","v":397},{"$f":"'Total net migration 16-64'!S22","v":2807},{"$f":"'Total net migration 65+'!S22","v":186},{"$f":"'Total in-migration'!S22","v":10110},{"$f":"'Total out-migration'!S22","v":6720},{"$f":"'Within Scotland net migration'!S22","v":1310},{"$f":"'Within Scotland in-migration'!S22","v":5560},{"$f":"'Within Scotland out-migration'!S22","v":4250},{"$f":"'Rest of UK net migration'!S22","v":1780},{"$f":"'Rest of UK in-migration'!S22","v":3580},{"$f":"'Rest of UK out-migration'!S22","v":1800},{"$f":"'International net migration'!S22","v":300},{"$f":"'International in-migration'!S22","v":980},{"$f":"'International out-migration'!S22","v":680},null,{"$f":"'Births to non-UK mothers'!S22","v":270},{"$f":"'Pupils'' ethnic group (TS)'!T22","v":1242},{"$f":"'Pupils with English as an add.'!Q22","v":1412}]
[19,"Inverclyde",null,{"$f":"'Total net migration'!S23","v":90},{"$f":"'Total net migration 0-15'!S23","v":64},{"$f":"'Total net migration 16-64'!S23","v":3},{"$f":"'Total net migration 65+'!S23","v":24},{"$f":"'Total in-migration'!S23","v":1780},{"$f":"'Total out-migration'!S23","v":1690},{"$f":"'Within Scotland net migration'!S23","v":-20},{"$f":"'Within Scotland in-migration'!S23","v":1310},{"$f":"'Within Scotland out-migration'!S23","v":1330},{"$f":"'Rest of UK net migration'!S23","v":130},{"$f":"'Rest of UK in-migration'!S23","v":380},{"$f":"'Rest of UK out-migration'!S23","v":250},{"$f":"'International net migration'!S23","v":-20},{"$f":"'International in-migration'!S23","v":90},{"$f":"'International out-migration'!S23","v":110},null,{"$f":"'Births to non-UK mothers'!S23","v":42},{"$f":"'Pupils'' ethnic group (TS)'!T23","v":307},{"$f":"'Pupils with English as an add.'!Q23","v":140}]
[20,"Midlothian",null,{"$f":"'Total net migration'!S24","v":1390},{"$f":"'Total net migration 0-15'!S24","v":198},{"$f":"'Total net migration 16-64'!S24","v":1199},{"$f":"'Total net migration 65+'!S24","v":-10},{"$f":"'Total in-migration'!S24","v":4490},{"$f":"'Total out-migration'!S24","v":3100},{"$f":"'Within Scotland net migration'!S24","v":1140},{"$f":"'Within Scotland in-migration'!S24","v":3620},{"$f":"'Within Scotland out-migration'!S24","v":2480},{"$f":"'Rest of UK net migration'!S24","v":160},{"$f":"'Rest of UK in-migration'!S24","v":620},{"$f":"'Rest of UK out-migration'!S24","v":460},{"$f":"'International net migration'!S24","v":100},{"$f":"'International in-migration'!S24","v":250},{"$f":"'International out-migration'!S24","v":150},null,{"$f":"'Births to non-UK mothers'!S24","v":139},{"$f":"'Pupils'' ethnic group (TS)'!T24","v":860},{"$f":"'Pupils with English as an add.'!Q24","v":569}]
[21,"Moray",null,{"$f":"'Total net migration'!S25","v":700},{"$f":"'Total net migration 0-15'!S25","v":198},{"$f":"'Total net migration 16-64'!S25","v":481},{"$f":"'Total net migration 65+'!S25","v":18},{"$f":"'Total in-migration'!S25","v":3790},{"$f":"'Total out-migration'!S25","v":3090},{"$f":"'Within Scotland net migration'!S25","v":80},{"$f":"'Within Scotland in-migration'!S25","v":2020},{"$f":"'Within Scotland out-migration'!S25","v":1950},{"$f":"'Rest of UK net migration'!S25","v":630},{"$f":"'Rest of UK in-migration'!S25","v":1480},{"$f":"'Rest of UK out-migration'!S25","v":850},{"$f":"'International net migration'!S25","v":-10},{"$f":"'International in-migration'!S25","v":280},{"$f":"'International out-migration'!S25","v":290},null,{"$f":"'Births to non-UK mothers'!S25","v":100},{"$f":"'Pupils'' ethnic group (TS)'!T25","v":426},{"$f":"'Pupils with English as an add.'!Q25","v":450}]
[22,"Na h-Eileanan Siar",null,{"$f":"'Total net migration'!S26","v":320},{"$f":"'Total net migration 0-15'!S26","v":25},{"$f":"'Total net migration 16-64'!S26","v":272},{"$f":"'Total net migration 65+'!S26","v":27},{"$f":"'Total in-migration'!S26","v":1110},{"$f":"'Total out-migration'!S26","v":780},{"$f":"'Within Scotland net migration'!S26","v":170},{"$f":"'Within Scotland in-migration'!S26","v":720},{"$f":"'Within Scotland out-migration'!S26","v":550},{"$f":"'Rest of UK net migration'!S26","v":160},{"$f":"'Rest of UK in-migration'!S26","v":340},{"$f":"'Rest of UK out-migration'!S26","v":170},{"$f":"'International net migration'!S26","v":-10},{"$f":"'International in-migration'!S26","v":50},{"$f":"'International out-migration'!S26","v":60},null,{"$f":"'Births to non-UK mothers'!S26","v":19},{"$f":"'Pupils'' ethnic group (TS)'!T26","v":74},{"$f":"'Pupils with English as an add.'!Q26","v":68}]
[23,"North Ayrshire",null,{"$f":"'Total net migration'!S27","v":800},{"$f":"'Total net migration 0-15'!S27","v":65},{"$f":"'Total net migration 16-64'!S27","v":666},{"$f":"'Total net migration 65+'!S27","v":67},{"$f":"'Total in-migration'!S27","v":4340},{"$f":"'Total out-migration'!S27","v":3540},{"$f":"'Within Scotland net migration'!S27","v":560},{"$f":"'Within Scotland in-migration'!S27","v":3300},{"$f":"'Within Scotland out-migration'!S27","v":2740},{"$f":"'Rest of UK net migration'!S27","v":280},{"$f":"'Rest of UK in-migration'!S27","v":850},{"$f":"'Rest of UK out-migration'!S27","v":570},{"$f":"'International net migration'!S27","v":-40},{"$f":"'International in-migration'!S27","v":200},{"$f":"'International out-migration'!S27","v":240},null,{"$f":"'Births to non-UK mothers'!S27","v":57},{"$f":"'Pupils'' ethnic group (TS)'!T27","v":523},{"$f":"'Pupils with English as an add.'!Q27","v":231}]
[24,"North Lanarkshire",null,{"$f":"'Total net migration'!S28","v":1080},{"$f":"'Total net migration 0-15'!S28","v":208},{"$f":"'Total net migration 16-64'!S28","v":916},{"$f":"'Total net migration 65+'!S28","v":-45},{"$f":"'Total in-migration'!S28","v":8900},{"$f":"'Total out-migration'!S28","v":7820},{"$f":"'Within Scotland net migration'!S28","v":560},{"$f":"'Within Scotland in-migration'!S28","v":6910},{"$f":"'Within Scotland out-migration'!S28","v":6340},{"$f":"'Rest of UK net migration'!S28","v":240},{"$f":"'Rest of UK in-migration'!S28","v":1180},{"$f":"'Rest of UK out-migration'!S28","v":940},{"$f":"'International net migration'!S28","v":280},{"$f":"'International in-migration'!S28","v":810},{"$f":"'International out-migration'!S28","v":540},null,{"$f":"'Births to non-UK mothers'!S28","v":269},{"$f":"'Pupils'' ethnic group (TS)'!T28","v":2654},{"$f":"'Pupils with English as an add.'!Q28","v":1784}]
[25,"Orkney Islands",null,{"$f":"'Total net migration'!S29","v":220},{"$f":"'Total net migration 0-15'!S29","v":54},{"$f":"'Total net migration 16-64'!S29","v":166},{"$f":"'Total net migration 65+'!S29","v":-2},{"$f":"'Total in-migration'!S29","v":940},{"$f":"'Total out-migration'!S29","v":720},{"$f":"'Within Scotland net migration'!S29","v":0},{"$f":"'Within Scotland in-migration'!S29","v":460},{"$f":"'Within Scotland out-migration'!S29","v":450},{"$f":"'Rest of UK net migration'!S29","v":210},{"$f":"'Rest of UK in-migration'!S29","v":420},{"$f":"'Rest of UK out-migration'!S29","v":200},{"$f":"'International net migration'!S29","v":0},{"$f":"'International in-migration'!S29","v":60},{"$f":"'International out-migration'!S29","v":60},null,{"$f":"'Births to non-UK mothers'!S29","v":11},{"$f":"'Pupils'' ethnic group (TS)'!T29","v":69},{"$f":"'Pupils with English as an add.'!Q29","v":14}]
[26,"Perth and Kinross",null,{"$f":"'Total net migration'!S30","v":2530},{"$f":"'Total net migration 0-15'!S30","v":507},{"$f":"'Total net migration 16-64'!S30","v":1812},{"$f":"'Total net migration 65+'!S30","v":211},{"$f":"'Total in-migration'!S30","v":7930},{"$f":"'Total out-migration'!S30","v":5400},{"$f":"'Within Scotland net migration'!S30","v":1560},{"$f":"'Within Scotland in-migration'!S30","v":5270},{"$f":"'Within Scotland out-migration'!S30","v":3710},{"$f":"'Rest of UK net migration'!S30","v":610},{"$f":"'Rest of UK in-migration'!S30","v":1790},{"$f":"'Rest of UK out-migration'!S30","v":1180},{"$f":"'International net migration'!S30","v":360},{"$f":"'International in-migration'!S30","v":860},{"$f":"'International out-migration'!S30","v":500},null,{"$f":"'Births to non-UK mothers'!S30","v":215},{"$f":"'Pupils'' ethnic group (TS)'!T30","v":847},{"$f":"'Pupils with English as an add.'!Q30","v":919}]
[27,"Renfrewshire",null,{"$f":"'Total net migration'!S31","v":1230},{"$f":"'Total net migration 0-15'!S31","v":-3},{"$f":"'Total net migration 16-64'!S31","v":1151},{"$f":"'Total net migration 65+'!S31","v":77},{"$f":"'Total in-migration'!S31","v":6910},{"$f":"'Total out-migration'!S31","v":5690},{"$f":"'Within Scotland net migration'!S31","v":810},{"$f":"'Within Scotland in-migration'!S31","v":5180},{"$f":"'Within Scotland out-migration'!S31","v":4370},{"$f":"'Rest of UK net migration'!S31","v":100},{"$f":"'Rest of UK in-migration'!S31","v":940},{"$f":"'Rest of UK out-migration'!S31","v":840},{"$f":"'International net migration'!S31","v":320},{"$f":"'International in-migration'!S31","v":800},{"$f":"'International out-migration'!S31","v":480},null,{"$f":"'Births to non-UK mothers'!S31","v":212},{"$f":"'Pupils'' ethnic group (TS)'!T31","v":1669},{"$f":"'Pupils with English as an add.'!Q31","v":961}]
[28,"Scottish Borders",null,{"$f":"'Total net migration'!S32","v":1270},{"$f":"'Total net migration 0-15'!S32","v":308},{"$f":"'Total net migration 16-64'!S32","v":895},{"$f":"'Total net migration 65+'!S32","v":65},{"$f":"'Total in-migration'!S32","v":5360},{"$f":"'Total out-migration'!S32","v":4100},{"$f":"'Within Scotland net migration'!S32","v":610},{"$f":"'Within Scotland in-migration'!S32","v":3010},{"$f":"'Within Scotland out-migration'!S32","v":2410},{"$f":"'Rest of UK net migration'!S32","v":630},{"$f":"'Rest of UK in-migration'!S32","v":1960},{"$f":"'Rest of UK out-migration'!S32","v":1340},{"$f":"'International net migration'!S32","v":30},{"$f":"'International in-migration'!S32","v":390},{"$f":"'International out-migration'!S32","v":350},null,{"$f":"'Births to non-UK mothers'!S32","v":91},{"$f":"'Pupils'' ethnic group (TS)'!T32","v":429},{"$f":"'Pupils with English as an add.'!Q32","v":493}]
[29,"Shetland Islands",null,{"$f":"'Total net migration'!S33","v":120},{"$f":"'Total net migration 0-15'!S33","v":36},{"$f":"'Total net migration 16-64'!S33","v":90},{"$f":"'Total net migration 65+'!S33","v":-3},{"$f":"'Total in-migration'!S33","v":800},{"$f":"'Total out-migration'!S33","v":670},{"$f":"'Within Scotland net migration'!S33","v":0},{"$f":"'Within Scotland in-migration'!S33","v":420},{"$f":"'Within Scotland out-migration'!S33","v":420},{"$f":"'Rest of UK net migration'!S33","v":150},{"$f":"'Rest of UK in-migration'!S33","v":330},{"$f":"'Rest of UK out-migration'!S33","v":190},{"$f":"'International net migration'!S33","v":-20},{"$f":"'International in-migration'!S33","v":40},{"$f":"'International out-migration'!S33","v":70},null,{"$f":"'Births to non-UK mothers'!S33","v":12},{"$f":"'Pupils'' ethnic group (TS)'!T33","v":105},{"$f":"'Pupils with English as an add.'!Q33","v":39}]
[30,"South Ayrshire",null,{"$f":"'Total net migration'!S34","v":1190},{"$f":"'Total net migration 0-15'!S34","v":227},{"$f":"'Total net migration 16-64'!S34","v":757},{"$f":"'Total net migration 65+'!S34","v":209},{"$f":"'Total in-migration'!S34","v":4370},{"$f":"'Total out-migration'!S34","v":3180},{"$f":"'Within Scotland net migration'!S34","v":750},{"$f":"'Within Scotland in-migration'!S34","v":3110},{"$f":"'Within Scotland out-migration'!S34","v":2360},{"$f":"'Rest of UK net migration'!S34","v":470},{"$f":"'Rest of UK in-migration'!S34","v":1030},{"$f":"'Rest of UK out-migration'!S34","v":560},{"$f":"'International net migration'!S34","v":-30},{"$f":"'International in-migration'!S34","v":230},{"$f":"'International out-migration'!S34","v":260},null,{"$f":"'Births to non-UK mothers'!S34","v":47},{"$f":"'Pupils'' ethnic group (TS)'!T34","v":470},{"$f":"'Pupils with English as an add.'!Q34","v":220}]
[31,"South Lanarkshire",null,{"$f":"'Total net migration'!S35","v":2660},{"$f":"'Total net migration 0-15'!S35","v":517},{"$f":"'Total net migration 16-64'!S35","v":2184},{"$f":"'Total net migration 65+'!S35","v":-38},{"$f":"'Total in-migration'!S35","v":11370},{"$f":"'Total out-migration'!S35","v":8700},{"$f":"'Within Scotland net migration'!S35","v":2250},{"$f":"'Within Scotland in-migration'!S35","v":8990},{"$f":"'Within Scotland out-migration'!S35","v":6750},{"$f":"'Rest of UK net migration'!S35","v":380},{"$f":"'Rest of UK in-migration'!S35","v":1670},{"$f":"'Rest of UK out-migration'!S35","v":1290},{"$f":"'International net migration'!S35","v":40},{"$f":"'International in-migration'!S35","v":710},{"$f":"'International out-migration'!S35","v":670},null,{"$f":"'Births to non-UK mothers'!S35","v":257},{"$f":"'Pupils'' ethnic group (TS)'!T35","v":2704},{"$f":"'Pupils with English as an add.'!Q35","v":1125}]
[32,"Stirling",null,{"$f":"'Total net migration'!S36","v":-230},{"$f":"'Total net migration 0-15'!S36","v":197},{"$f":"'Total net migration 16-64'!S36","v":-458},{"$f":"'Total net migration 65+'!S36","v":33},{"$f":"'Total in-migration'!S36","v":5380},{"$f":"'Total out-migration'!S36","v":5610},{"$f":"'Within Scotland net migration'!S36","v":-460},{"$f":"'Within Scotland in-migration'!S36","v":3490},{"$f":"'Within Scotland out-migration'!S36","v":3950},{"$f":"'Rest of UK net migration'!S36","v":30},{"$f":"'Rest of UK in-migration'!S36","v":1130},{"$f":"'Rest of UK out-migration'!S36","v":1100},{"$f":"'International net migration'!S36","v":200},{"$f":"'International in-migration'!S36","v":760},{"$f":"'International out-migration'!S36","v":560},null,{"$f":"'Births to non-UK mothers'!S36","v":91},{"$f":"'Pupils'' ethnic group (TS)'!T36","v":691},{"$f":"'Pupils with English as an add.'!Q36","v":416}]
[33,"West Dunbartonshire",null,{"$f":"'Total net migration'!S37","v":-130},{"$f":"'Total net migration 0-15'!S37","v":-9},{"$f":"'Total net migration 16-64'!S37","v":-84},{"$f":"'Total net migration 65+'!S37","v":-41},{"$f":"'Total in-migration'!S37","v":2460},{"$f":"'Total out-migration'!S37","v":2600},{"$f":"'Within Scotland net migration'!S37","v":-80},{"$f":"'Within Scotland in-migration'!S37","v":1970},{"$f":"'Within Scotland out-migration'!S37","v":2050},{"$f":"'Rest of UK net migration'!S37","v":-50},{"$f":"'Rest of UK in-migration'!S37","v":350},{"$f":"'Rest of UK out-migration'!S37","v":400},{"$f":"'International net migration'!S37","v":0},{"$f":"'International in-migration'!S37","v":140},{"$f":"'International out-migration'!S37","v":140},null,{"$f":"'Births to non-UK mothers'!S37","v":50},{"$f":"'Pupils'' ethnic group (TS)'!T37","v":491},{"$f":"'Pupils with English as an add.'!Q37","v":317}]
[34,"West Lothian",null,{"$f":"'Total net migration'!S38","v":1800},{"$f":"'Total net migration 0-15'!S38","v":428},{"$f":"'Total net migration 16-64'!S38","v":1301},{"$f":"'Total net migration 65+'!S38","v":66},{"$f":"'Total in-migration'!S38","v":6940},{"$f":"'Total out-migration'!S38","v":5140},{"$f":"'Within Scotland net migration'!S38","v":1050},{"$f":"'Within Scotland in-migration'!S38","v":5080},{"$f":"'Within Scotland out-migration'!S38","v":4030},{"$f":"'Rest of UK net migration'!S38","v":250},{"$f":"'Rest of UK in-migration'!S38","v":1050},{"$f":"'Rest of UK out-migration'!S38","v":800},{"$f":"'International net migration'!S38","v":500},{"$f":"'International in-migration'!S38","v":810},{"$f":"'International out-migration'!S38","v":320},null,{"$f":"'Births to non-UK mothers'!S38","v":303},{"$f":"'Pupils'' ethnic group (TS)'!T38","v":2104},{"$f":"'Pupils with English as an add.'!Q38","v":1991}]
[]
[35,"Not specified"]
[36,"Scotland",null,{"$f":"'Total net migration'!S41","v":27800},{"$f":"'Total net migration 0-15'!S41","v":5166},{"$f":"'Total net migration 16-64'!S41","v":21236},{"$f":"'Total net migration 65+'!S41","v":1372},{"$f":"'Total in-migration'!S41","v":97200},{"$f":"'Total out-migration'!S41","v":69400},{"$f":"'Within Scotland net migration'!S41","v":"[z]"},{"$f":"'Within Scotland in-migration'!S41","v":"[z]"},{"$f":"'Within Scotland out-migration'!S41","v":"[z]"},{"$f":"'Rest of UK net migration'!S41","v":8900},{"$f":"'Rest of UK in-migration'!S41","v":56200},{"$f":"'Rest of UK out-migration'!S41","v":47300},{"$f":"'International net migration'!S41","v":18900},{"$f":"'International in-migration'!S41","v":41000},{"$f":"'International out-migration'!S41","v":22100},null,{"$f":"'Births to non-UK mothers'!S41","v":8257}]
[37,"Ayrshire and Arran",null,{"$f":"'Total net migration'!S42","v":2890},{"$f":"'Total net migration 0-15'!S42","v":436},{"$f":"'Total net migration 16-64'!S42","v":2085},{"$f":"'Total net migration 65+'!S42","v":371},{"$f":"'Total in-migration'!S42","v":10090},{"$f":"'Total out-migration'!S42","v":7190},{"$f":"'Within Scotland net migration'!S42","v":1970},{"$f":"'Within Scotland in-migration'!S42","v":6810},{"$f":"'Within Scotland out-migration'!S42","v":4850},{"$f":"'Rest of UK net migration'!S42","v":1020},{"$f":"'Rest of UK in-migration'!S42","v":2660},{"$f":"'Rest of UK out-migration'!S42","v":1650},{"$f":"'International net migration'!S42","v":-90},{"$f":"'International in-migration'!S42","v":610},{"$f":"'International out-migration'!S42","v":700},null,{"$f":"'Births to non-UK mothers'!S42","v":170}]
[38,"Borders",null,{"$f":"'Total net migration'!S43","v":1270},{"$f":"'Total net migration 0-15'!S43","v":308},{"$f":"'Total net migration 16-64'!S43","v":895},{"$f":"'Total net migration 65+'!S43","v":65},{"$f":"'Total in-migration'!S43","v":5360},{"$f":"'Total out-migration'!S43","v":4100},{"$f":"'Within Scotland net migration'!S43","v":610},{"$f":"'Within Scotland in-migration'!S43","v":3010},{"$f":"'Within Scotland out-migration'!S43","v":2410},{"$f":"'Rest of UK net migration'!S43","v":630},{"$f":"'Rest of UK in-migration'!S43","v":1960},{"$f":"'Rest of UK out-migration'!S43","v":1340},{"$f":"'International net migration'!S43","v":30},{"$f":"'International in-migration'!S43","v":390},{"$f":"'International out-migration'!S43","v":350},null,{"$f":"'Births to non-UK mothers'!S43","v":91}]
[39,"Dumfries and Galloway",null,{"$f":"'Total net migration'!S44","v":1500},{"$f":"'Total net migration 0-15'!S44","v":323},{"$f":"'Total net migration 16-64'!S44","v":1093},{"$f":"'Total net migration 65+'!S44","v":85},{"$f":"'Total in-migration'!S44","v":5310},{"$f":"'Total out-migration'!S44","v":3810},{"$f":"'Within Scotland net migration'!S44","v":330},{"$f":"'Within Scotland in-migration'!S44","v":2170},{"$f":"'Within Scotland out-migration'!S44","v":1850},{"$f":"'Rest of UK net migration'!S44","v":1240},{"$f":"'Rest of UK in-migration'!S44","v":2800},{"$f":"'Rest of UK out-migration'!S44","v":1560},{"$f":"'International net migration'!S44","v":-70},{"$f":"'International in-migration'!S44","v":340},{"$f":"'International out-migration'!S44","v":410},null,{"$f":"'Births to non-UK mothers'!S44","v":83}]
[40,"Fife",null,{"$f":"'Total net migration'!S45","v":1760},{"$f":"'Total net migration 0-15'!S45","v":461},{"$f":"'Total net migration 16-64'!S45","v":1123},{"$f":"'Total net migration 65+'!S45","v":180},{"$f":"'Total in-migration'!S45","v":13320},{"$f":"'Total out-migration'!S45","v":11560},{"$f":"'Within Scotland net migration'!S45","v":1310},{"$f":"'Within Scotland in-migration'!S45","v":7940},{"$f":"'Within Scotland out-migration'!S45","v":6630},{"$f":"'Rest of UK net migration'!S45","v":-280},{"$f":"'Rest of UK in-migration'!S45","v":3310},{"$f":"'Rest of UK out-migration'!S45","v":3580},{"$f":"'International net migration'!S45","v":730},{"$f":"'International in-migration'!S45","v":2070},{"$f":"'International out-migration'!S45","v":1350},null,{"$f":"'Births to non-UK mothers'!S45","v":411}]
[41,"Forth Valley",null,{"$f":"'Total net migration'!S46","v":690},{"$f":"'Total net migration 0-15'!S46","v":332},{"$f":"'Total net migration 16-64'!S46","v":302},{"$f":"'Total net migration 65+'!S46","v":52},{"$f":"'Total in-migration'!S46","v":10370},{"$f":"'Total out-migration'!S46","v":9680},{"$f":"'Within Scotland net migration'!S46","v":60},{"$f":"'Within Scotland in-migration'!S46","v":6960},{"$f":"'Within Scotland out-migration'!S46","v":6900},{"$f":"'Rest of UK net migration'!S46","v":240},{"$f":"'Rest of UK in-migration'!S46","v":2140},{"$f":"'Rest of UK out-migration'!S46","v":1910},{"$f":"'International net migration'!S46","v":400},{"$f":"'International in-migration'!S46","v":1270},{"$f":"'International out-migration'!S46","v":870},null,{"$f":"'Births to non-UK mothers'!S46","v":316}]
[42,"Grampian",null,{"$f":"'Total net migration'!S47","v":1430},{"$f":"'Total net migration 0-15'!S47","v":834},{"$f":"'Total net migration 16-64'!S47","v":314},{"$f":"'Total net migration 65+'!S47","v":278},{"$f":"'Total in-migration'!S47","v":18090},{"$f":"'Total out-migration'!S47","v":16660},{"$f":"'Within Scotland net migration'!S47","v":-1450},{"$f":"'Within Scotland in-migration'!S47","v":7600},{"$f":"'Within Scotland out-migration'!S47","v":9050},{"$f":"'Rest of UK net migration'!S47","v":650},{"$f":"'Rest of UK in-migration'!S47","v":5750},{"$f":"'Rest of UK out-migration'!S47","v":5100},{"$f":"'International net migration'!S47","v":2230},{"$f":"'International in-migration'!S47","v":4740},{"$f":"'International out-migration'!S47","v":2510},null,{"$f":"'Births to non-UK mothers'!S47","v":1077}]
[43,"Greater Glasgow and Clyde",null,{"$f":"'Total net migration'!S48","v":2740},{"$f":"'Total net migration 0-15'!S48","v":46},{"$f":"'Total net migration 16-64'!S48","v":3032},{"$f":"'Total net migration 65+'!S48","v":-335},{"$f":"'Total in-migration'!S48","v":42260},{"$f":"'Total out-migration'!S48","v":39520},{"$f":"'Within Scotland net migration'!S48","v":-4550},{"$f":"'Within Scotland in-migration'!S48","v":18810},{"$f":"'Within Scotland out-migration'!S48","v":23360},{"$f":"'Rest of UK net migration'!S48","v":330},{"$f":"'Rest of UK in-migration'!S48","v":10480},{"$f":"'Rest of UK out-migration'!S48","v":10150},{"$f":"'International net migration'!S48","v":6960},{"$f":"'International in-migration'!S48","v":12970},{"$f":"'International out-migration'!S48","v":6010},null,{"$f":"'Births to non-UK mothers'!S48","v":2386}]
[44,"Highland",null,{"$f":"'Total net migration'!S49","v":4610},{"$f":"'Total net migration 0-15'!S49","v":585},{"$f":"'Total net migration 16-64'!S49","v":3790},{"$f":"'Total net migration 65+'!S49","v":230},{"$f":"'Total in-migration'!S49","v":14930},{"$f":"'Total out-migration'!S49","v":10320},{"$f":"'Within Scotland net migration'!S49","v":1670},{"$f":"'Within Scotland in-migration'!S49","v":8190},{"$f":"'Within Scotland out-migration'!S49","v":6520},{"$f":"'Rest of UK net migration'!S49","v":2680},{"$f":"'Rest of UK in-migration'!S49","v":5450},{"$f":"'Rest of UK out-migration'!S49","v":2770},{"$f":"'International net migration'!S49","v":260},{"$f":"'International in-migration'!S49","v":1300},{"$f":"'International out-migration'!S49","v":1030},null,{"$f":"'Births to non-UK mothers'!S49","v":349}]
[45,"Lanarkshire",null,{"$f":"'Total net migration'!S50","v":3740},{"$f":"'Total net migration 0-15'!S50","v":725},{"$f":"'Total net migration 16-64'!S50","v":3100},{"$f":"'Total net migration 65+'!S50","v":-83},{"$f":"'Total in-migration'!S50","v":17450},{"$f":"'Total out-migration'!S50","v":13700},{"$f":"'Within Scotland net migration'!S50","v":2810},{"$f":"'Within Scotland in-migration'!S50","v":13080},{"$f":"'Within Scotland out-migration'!S50","v":10270},{"$f":"'Rest of UK net migration'!S50","v":620},{"$f":"'Rest of UK in-migration'!S50","v":2850},{"$f":"'Rest of UK out-migration'!S50","v":2230},{"$f":"'International net migration'!S50","v":320},{"$f":"'International in-migration'!S50","v":1520},{"$f":"'International out-migration'!S50","v":1200},null,{"$f":"'Births to non-UK mothers'!S50","v":526}]
[46,"Lothian",null,{"$f":"'Total net migration'!S51","v":3620},{"$f":"'Total net migration 0-15'!S51","v":468},{"$f":"'Total net migration 16-64'!S51","v":2965},{"$f":"'Total net migration 65+'!S51","v":190},{"$f":"'Total in-migration'!S51","v":40570},{"$f":"'Total out-migration'!S51","v":36950},{"$f":"'Within Scotland net migration'!S51","v":-3720},{"$f":"'Within Scotland in-migration'!S51","v":14010},{"$f":"'Within Scotland out-migration'!S51","v":17730},{"$f":"'Rest of UK net migration'!S51","v":500},{"$f":"'Rest of UK in-migration'!S51","v":13740},{"$f":"'Rest of UK out-migration'!S51","v":13240},{"$f":"'International net migration'!S51","v":6850},{"$f":"'International in-migration'!S51","v":12820},{"$f":"'International out-migration'!S51","v":5970},null,{"$f":"'Births to non-UK mothers'!S51","v":2226}]
[47,"Orkney",null,{"$f":"'Total net migration'!S52","v":220},{"$f":"'Total net migration 0-15'!S52","v":54},{"$f":"'Total net migration 16-64'!S52","v":166},{"$f":"'Total net migration 65+'!S52","v":-2},{"$f":"'Total in-migration'!S52","v":940},{"$f":"'Total out-migration'!S52","v":720},{"$f":"'Within Scotland net migration'!S52","v":0},{"$f":"'Within Scotland in-migration'!S52","v":460},{"$f":"'Within Scotland out-migration'!S52","v":450},{"$f":"'Rest of UK net migration'!S52","v":210},{"$f":"'Rest of UK in-migration'!S52","v":420},{"$f":"'Rest of UK out-migration'!S52","v":200},{"$f":"'International net migration'!S52","v":0},{"$f":"'International in-migration'!S52","v":60},{"$f":"'International out-migration'!S52","v":60},null,{"$f":"'Births to non-UK mothers'!S52","v":11}]
[48,"Shetland",null,{"$f":"'Total net migration'!S53","v":120},{"$f":"'Total net migration 0-15'!S53","v":36},{"$f":"'Total net migration 16-64'!S53","v":90},{"$f":"'Total net migration 65+'!S53","v":-3},{"$f":"'Total in-migration'!S53","v":800},{"$f":"'Total out-migration'!S53","v":670},{"$f":"'Within Scotland net migration'!S53","v":0},{"$f":"'Within Scotland in-migration'!S53","v":420},{"$f":"'Within Scotland out-migration'!S53","v":420},{"$f":"'Rest of UK net migration'!S53","v":150},{"$f":"'Rest of UK in-migration'!S53","v":330},{"$f":"'Rest of UK out-migration'!S53","v":190},{"$f":"'International net migration'!S53","v":-20},{"$f":"'International in-migration'!S53","v":40},{"$f":"'International out-migration'!S53","v":70},null,{"$f":"'Births to non-UK mothers'!S53","v":12}]
[49,"Tayside",null,{"$f":"'Total net migration'!S54","v":2860},{"$f":"'Total net migration 0-15'!S54","v":533},{"$f":"'Total net migration 16-64'!S54","v":2009},{"$f":"'Total net migration 65+'!S54","v":317},{"$f":"'Total in-migration'!S54","v":16050},{"$f":"'Total out-migration'!S54","v":13190},{"$f":"'Within Scotland net migration'!S54","v":800},{"$f":"'Within Scotland in-migration'!S54","v":9250},{"$f":"'Within Scotland out-migration'!S54","v":8440},{"$f":"'Rest of UK net migration'!S54","v":780},{"$f":"'Rest of UK in-migration'!S54","v":3970},{"$f":"'Rest of UK out-migration'!S54","v":3190},{"$f":"'International net migration'!S54","v":1280},{"$f":"'International in-migration'!S54","v":2830},{"$f":"'International out-migration'!S54","v":1550},null,{"$f":"'Births to non-UK mothers'!S54","v":580}]
[50,"Western Isles",null,{"$f":"'Total net migration'!S55","v":320},{"$f":"'Total net migration 0-15'!S55","v":25},{"$f":"'Total net migration 16-64'!S55","v":272},{"$f":"'Total net migration 65+'!S55","v":27},{"$f":"'Total in-migration'!S55","v":1110},{"$f":"'Total out-migration'!S55","v":780},{"$f":"'Within Scotland net migration'!S55","v":170},{"$f":"'Within Scotland in-migration'!S55","v":720},{"$f":"'Within Scotland out-migration'!S55","v":550},{"$f":"'Rest of UK net migration'!S55","v":160},{"$f":"'Rest of UK in-migration'!S55","v":340},{"$f":"'Rest of UK out-migration'!S55","v":170},{"$f":"'International net migration'!S55","v":-10},{"$f":"'International in-migration'!S55","v":50},{"$f":"'International out-migration'!S55","v":60},null,{"$f":"'Births to non-UK mothers'!S55","v":19}]

{"sheet":"2021 Rate","index":59,"n_rows":53,"n_cols":27,"rows_kept":53,"cut":false,"hidden":true,"merged":[]}
[null,2021,"RATE"]
[null,null,"Not specified ",{"$f":"'Comparing Indicators'!$U8","v":"Total net migration"},{"$f":"'Comparing Indicators'!$U9","v":"Total net migration for ages 0-15"},{"$f":"'Comparing Indicators'!$U10","v":"Total net migration for ages 16-64"},{"$f":"'Comparing Indicators'!$U11","v":"Total net migration for people aged 65+"},{"$f":"'Comparing Indicators'!$U12","v":"Total in-migration"},{"$f":"'Comparing Indicators'!$U13","v":"Total out-migration"},{"$f":"'Comparing Indicators'!$U14","v":"Within Scotland net migration"},{"$f":"'Comparing Indicators'!$U15","v":"Within Scotland in-migration"},{"$f":"'Comparing Indicators'!$U16","v":"Within Scotland out-migration"},{"$f":"'Comparing Indicators'!$U17","v":"Rest of UK net migration"},{"$f":"'Comparing Indicators'!$U18","v":"Rest of UK in-migration"},{"$f":"'Comparing Indicators'!$U19","v":"Rest of UK out-migration"},{"$f":"'Comparing Indicators'!$U20","v":"International net migration"},{"$f":"'Comparing Indicators'!$U21","v":"International in-migration"},{"$f":"'Comparing Indicators'!$U22","v":"International out-migration"},{"$f":"'Comparing Indicators'!$U23","v":"NINo Allocation"},{"$f":"'Comparing Indicators'!$U24","v":"Births to non-UK mothers"},{"$f":"'Comparing Indicators'!$U25","v":"Pupils from a minority ethnic group"},{"$f":"'Comparing Indicators'!$U26","v":"Pupils with English as an additional language"},{"$f":"'Comparing Indicators'!$U27","v":"Population born outside the UK"},{"$f":"'Comparing Indicators'!$U28","v":"Population with non-British nationality"},{"$f":"'Comparing Indicators'!$U29","v":"Citizenships"},null,"Mid-year population estimate"]
[1,"Not specified"]
[2,"Scotland",null,{"$f":"('2021'!D4/'2021 Rate'!$AA4)*1000","v":5.0730852752787454},{"$f":"('2021'!E4/'2021 Rate'!$AA4)*1000","v":0.94271793280899285},{"$f":"('2021'!F4/'2021 Rate'!$AA4)*1000","v":3.8752531980510594},{"$f":"('2021'!G4/'2021 Rate'!$AA4)*1000","v":0.25036953229073522},{"$f":"('2021'!H4/'2021 Rate'!$AA4)*1000","v":17.737549955291154},{"$f":"('2021'!I4/'2021 Rate'!$AA4)*1000","v":12.66446468001241},{"$f":"'Within Scotland net migration'!S6","v":"[z]"},{"$f":"'Within Scotland in-migration'!S6","v":"[z]"},{"$f":"'Within Scotland out-migration'!S6","v":"[z]"},{"$f":"('2021'!M4/'2021 Rate'!$AA4)*1000","v":1.6241172284165768},{"$f":"('2021'!N4/'2021 Rate'!$AA4)*1000","v":10.255661599664228},{"$f":"('2021'!O4/'2021 Rate'!$AA4)*1000","v":8.6315443712476512},{"$f":"('2021'!P4/'2021 Rate'!$AA4)*1000","v":3.4489680468621686},{"$f":"('2021'!Q4/'2021 Rate'!$AA4)*1000","v":7.4818883556269276},{"$f":"('2021'!R4/'2021 Rate'!$AA4)*1000","v":4.0329203087647585},null,null,null,null,null,null,null,"Scotland",5479900]
[3,"Aberdeen City",null,{"$f":"('2021'!D5/'2021 Rate'!$AA5)*1000","v":-6.6394055313722902},{"$f":"('2021'!E5/'2021 Rate'!$AA5)*1000","v":7.4748274194257572E-2},{"$f":"('2021'!F5/'2021 Rate'!$AA5)*1000","v":-6.7537264213164496},{"$f":"('2021'!G5/'2021 Rate'!$AA5)*1000","v":5.2763487666534763E-2},{"$f":"('2021'!H5/'2021 Rate'!$AA5)*1000","v":51.752187486259508},{"$f":"('2021'!I5/'2021 Rate'!$AA5)*1000","v":58.391593017631799},{"$f":"('2021'!J5/'2021 Rate'!$AA5)*1000","v":-12.443389174691113},{"$f":"('2021'!K5/'2021 Rate'!$AA5)*1000","v":25.546321945213911},{"$f":"('2021'!L5/'2021 Rate'!$AA5)*1000","v":37.989711119905024},{"$f":"('2021'!M5/'2021 Rate'!$AA5)*1000","v":-2.8140526755485205},{"$f":"('2021'!N5/'2021 Rate'!$AA5)*1000","v":9.981093083586158},{"$f":"('2021'!O5/'2021 Rate'!$AA5)*1000","v":12.79514575913468},{"$f":"('2021'!P5/'2021 Rate'!$AA5)*1000","v":8.6620058919227887},{"$f":"('2021'!Q5/'2021 Rate'!$AA5)*1000","v":16.224772457459437},{"$f":"('2021'!R5/'2021 Rate'!$AA5)*1000","v":7.5627665655366494},null,null,null,null,null,null,null,"Aberdeen City",227430]
[4,"Aberdeenshire",null,{"$f":"('2021'!D6/'2021 Rate'!$AA6)*1000","v":8.5271612927785601},{"$f":"('2021'!E6/'2021 Rate'!$AA6)*1000","v":2.3563896608169324},{"$f":"('2021'!F6/'2021 Rate'!$AA6)*1000","v":5.2114659865240398},{"$f":"('2021'!G6/'2021 Rate'!$AA6)*1000","v":0.94407857170048348},{"$f":"('2021'!H6/'2021 Rate'!$AA6)*1000","v":36.20236780996612},{"$f":"('2021'!I6/'2021 Rate'!$AA6)*1000","v":27.713274201530322},{"$f":"('2021'!J6/'2021 Rate'!$AA6)*1000","v":4.9868666489017466},{"$f":"('2021'!K6/'2021 Rate'!$AA6)*1000","v":25.695686931363962},{"$f":"('2021'!L6/'2021 Rate'!$AA6)*1000","v":20.708820282462217},{"$f":"('2021'!M6/'2021 Rate'!$AA6)*1000","v":2.5124671666222542},{"$f":"('2021'!N6/'2021 Rate'!$AA6)*1000","v":7.613536868552286},{"$f":"('2021'!O6/'2021 Rate'!$AA6)*1000","v":5.1010697019300313},{"$f":"('2021'!P6/'2021 Rate'!$AA6)*1000","v":1.0278274772545586},{"$f":"('2021'!Q6/'2021 Rate'!$AA6)*1000","v":2.9312116943926303},{"$f":"('2021'!R6/'2021 Rate'!$AA6)*1000","v":1.9033842171380715},null,null,null,null,null,null,null,"Aberdeenshire",262690]
[5,"Angus",null,{"$f":"('2021'!D7/'2021 Rate'!$AA7)*1000","v":8.0950740613158807},{"$f":"('2021'!E7/'2021 Rate'!$AA7)*1000","v":1.1195315191181536},{"$f":"('2021'!F7/'2021 Rate'!$AA7)*1000","v":6.122976231484671},{"$f":"('2021'!G7/'2021 Rate'!$AA7)*1000","v":0.87840165346193588},{"$f":"('2021'!H7/'2021 Rate'!$AA7)*1000","v":39.958663451601787},{"$f":"('2021'!I7/'2021 Rate'!$AA7)*1000","v":31.863589390285913},{"$f":"('2021'!J7/'2021 Rate'!$AA7)*1000","v":4.2197726489838097},{"$f":"('2021'!K7/'2021 Rate'!$AA7)*1000","v":29.193937306234929},{"$f":"('2021'!L7/'2021 Rate'!$AA7)*1000","v":25.060282466414051},{"$f":"('2021'!M7/'2021 Rate'!$AA7)*1000","v":2.4974164657251117},{"$f":"('2021'!N7/'2021 Rate'!$AA7)*1000","v":7.2338959696865315},{"$f":"('2021'!O7/'2021 Rate'!$AA7)*1000","v":4.822597313124354},{"$f":"('2021'!P7/'2021 Rate'!$AA7)*1000","v":1.4640027557698931},{"$f":"('2021'!Q7/'2021 Rate'!$AA7)*1000","v":3.444712366517396},{"$f":"('2021'!R7/'2021 Rate'!$AA7)*1000","v":1.9807096107475026},null,null,null,null,null,null,null,"Angus",116120]
[6,"Argyll and Bute",null,{"$f":"('2021'!D8/'2021 Rate'!$AA8)*1000","v":14.149849222918117},{"$f":"('2021'!E8/'2021 Rate'!$AA8)*1000","v":2.1804685687775458},{"$f":"('2021'!F8/'2021 Rate'!$AA8)*1000","v":11.401067037810252},{"$f":"('2021'!G8/'2021 Rate'!$AA8)*1000","v":0.51032243099048935},{"$f":"('2021'!H8/'2021 Rate'!$AA8)*1000","v":61.238691718858732},{"$f":"('2021'!I8/'2021 Rate'!$AA8)*1000","v":47.204824866620278},{"$f":"('2021'!J8/'2021 Rate'!$AA8)*1000","v":4.0593829737879847},{"$f":"('2021'!K8/'2021 Rate'!$AA8)*1000","v":35.954534910693575},{"$f":"('2021'!L8/'2021 Rate'!$AA8)*1000","v":31.779169566225931},{"$f":"('2021'!M8/'2021 Rate'!$AA8)*1000","v":10.438413361169102},{"$f":"('2021'!N8/'2021 Rate'!$AA8)*1000","v":21.688703317095801},{"$f":"('2021'!O8/'2021 Rate'!$AA8)*1000","v":11.250289955926698},{"$f":"('2021'!P8/'2021 Rate'!$AA8)*1000","v":-0.46392948271862677},{"$f":"('2021'!Q8/'2021 Rate'!$AA8)*1000","v":3.7114358617490142},{"$f":"('2021'!R8/'2021 Rate'!$AA8)*1000","v":4.0593829737879847},null,null,null,null,null,null,null,"Argyll & Bute",86220]
[7,"City of Edinburgh",null,{"$f":"('2021'!D9/'2021 Rate'!$AA9)*1000","v":-2.6212319790301444},{"$f":"('2021'!E9/'2021 Rate'!$AA9)*1000","v":-0.98201227040477146},{"$f":"('2021'!F9/'2021 Rate'!$AA9)*1000","v":-1.4796664577278857},{"$f":"('2021'!G9/'2021 Rate'!$AA9)*1000","v":-0.1576538074344217},{"$f":"('2021'!H9/'2021 Rate'!$AA9)*1000","v":64.733033221266169},{"$f":"('2021'!I9/'2021 Rate'!$AA9)*1000","v":67.354265200296311},{"$f":"('2021'!J9/'2021 Rate'!$AA9)*1000","v":-13.789959541854236},{"$f":"('2021'!K9/'2021 Rate'!$AA9)*1000","v":22.204494083233612},{"$f":"('2021'!L9/'2021 Rate'!$AA9)*1000","v":35.99445362508785},{"$f":"('2021'!M9/'2021 Rate'!$AA9)*1000","v":-0.58882747355024978},{"$f":"('2021'!N9/'2021 Rate'!$AA9)*1000","v":20.855889224457233},{"$f":"('2021'!O9/'2021 Rate'!$AA9)*1000","v":21.463711132638135},{"$f":"('2021'!P9/'2021 Rate'!$AA9)*1000","v":11.757555036374342},{"$f":"('2021'!Q9/'2021 Rate'!$AA9)*1000","v":21.67264991357532},{"$f":"('2021'!R9/'2021 Rate'!$AA9)*1000","v":9.9150948772009802},null,null,null,null,null,null,null,"City of Edinburgh",526470]
[8,"Clackmannanshire",null,{"$f":"('2021'!D10/'2021 Rate'!$AA10)*1000","v":5.8207217694994187},{"$f":"('2021'!E10/'2021 Rate'!$AA10)*1000","v":1.5715948777648427},{"$f":"('2021'!F10/'2021 Rate'!$AA10)*1000","v":4.1133100504462554},{"$f":"('2021'!G10/'2021 Rate'!$AA10)*1000","v":0.13581684128831975},{"$f":"('2021'!H10/'2021 Rate'!$AA10)*1000","v":40.939076445479245},{"$f":"('2021'!I10/'2021 Rate'!$AA10)*1000","v":35.118354675979816},{"$f":"('2021'!J10/'2021 Rate'!$AA10)*1000","v":4.0745052386495919},{"$f":"('2021'!K10/'2021 Rate'!$AA10)*1000","v":32.207993791230116},{"$f":"('2021'!L10/'2021 Rate'!$AA10)*1000","v":28.13348855258052},{"$f":"('2021'!M10/'2021 Rate'!$AA10)*1000","v":0.9701202949165697},{"$f":"('2021'!N10/'2021 Rate'!$AA10)*1000","v":6.0147458284827326},{"$f":"('2021'!O10/'2021 Rate'!$AA10)*1000","v":5.0446255335661618},{"$f":"('2021'!P10/'2021 Rate'!$AA10)*1000","v":0.77609623593325572},{"$f":"('2021'!Q10/'2021 Rate'!$AA10)*1000","v":2.5223127667830809},{"$f":"('2021'!R10/'2021 Rate'!$AA10)*1000","v":1.7462165308498254},null,null,null,null,null,null,null,"Clackmannanshire",51540]
[9,"Dumfries and Galloway",null,{"$f":"('2021'!D11/'2021 Rate'!$AA11)*1000","v":10.081322669534243},{"$f":"('2021'!E11/'2021 Rate'!$AA11)*1000","v":2.170844814839707},{"$f":"('2021'!F11/'2021 Rate'!$AA11)*1000","v":7.3459237852006183},{"$f":"('2021'!G11/'2021 Rate'!$AA11)*1000","v":0.57127495127360706},{"$f":"('2021'!H11/'2021 Rate'!$AA11)*1000","v":35.687882250151226},{"$f":"('2021'!I11/'2021 Rate'!$AA11)*1000","v":25.606559580616974},{"$f":"('2021'!J11/'2021 Rate'!$AA11)*1000","v":2.2178909872975332},{"$f":"('2021'!K11/'2021 Rate'!$AA11)*1000","v":14.584313461926206},{"$f":"('2021'!L11/'2021 Rate'!$AA11)*1000","v":12.433631292425567},{"$f":"('2021'!M11/'2021 Rate'!$AA11)*1000","v":8.3338934068149744},{"$f":"('2021'!N11/'2021 Rate'!$AA11)*1000","v":18.818468983130586},{"$f":"('2021'!O11/'2021 Rate'!$AA11)*1000","v":10.484575576315613},{"$f":"('2021'!P11/'2021 Rate'!$AA11)*1000","v":-0.47046172457826468},{"$f":"('2021'!Q11/'2021 Rate'!$AA11)*1000","v":2.2850998050944282},{"$f":"('2021'!R11/'2021 Rate'!$AA11)*1000","v":2.755561529672693},null,null,null,null,null,null,null,"Dumfries & Galloway",148790]
[10,"Dundee City",null,{"$f":"('2021'!D12/'2021 Rate'!$AA12)*1000","v":-4.1294340644462499},{"$f":"('2021'!E12/'2021 Rate'!$AA12)*1000","v":-0.70403466016788518},{"$f":"('2021'!F12/'2021 Rate'!$AA12)*1000","v":-3.4795559165989709},{"$f":"('2021'!G12/'2021 Rate'!$AA12)*1000","v":2.7078256160303276E-2},{"$f":"('2021'!H12/'2021 Rate'!$AA12)*1000","v":47.319252640129974},{"$f":"('2021'!I12/'2021 Rate'!$AA12)*1000","v":51.448686704576225},{"$f":"('2021'!J12/'2021 Rate'!$AA12)*1000","v":-8.3942594096940155},{"$f":"('2021'!K12/'2021 Rate'!$AA12)*1000","v":27.619821283509339},{"$f":"('2021'!L12/'2021 Rate'!$AA12)*1000","v":36.081776333604111},{"$f":"('2021'!M12/'2021 Rate'!$AA12)*1000","v":-0.81234768480909825},{"$f":"('2021'!N12/'2021 Rate'!$AA12)*1000","v":9.0712158137015972},{"$f":"('2021'!O12/'2021 Rate'!$AA12)*1000","v":9.8835634985106964},{"$f":"('2021'!P12/'2021 Rate'!$AA12)*1000","v":5.0771730300568638},{"$f":"('2021'!Q12/'2021 Rate'!$AA12)*1000","v":10.628215542919037},{"$f":"('2021'!R12/'2021 Rate'!$AA12)*1000","v":5.5510425128621721},null,null,null,null,null,null,null,"Dundee City",147720]
[11,"East Ayrshire",null,{"$f":"('2021'!D13/'2021 Rate'!$AA13)*1000","v":7.3758400262252097},{"$f":"('2021'!E13/'2021 Rate'!$AA13)*1000","v":1.1801344041960333},{"$f":"('2021'!F13/'2021 Rate'!$AA13)*1000","v":5.4253401081789869},{"$f":"('2021'!G13/'2021 Rate'!$AA13)*1000","v":0.7785608916571054},{"$f":"('2021'!H13/'2021 Rate'!$AA13)*1000","v":32.945418783805934},{"$f":"('2021'!I13/'2021 Rate'!$AA13)*1000","v":25.569578757580722},{"$f":"('2021'!J13/'2021 Rate'!$AA13)*1000","v":5.3269955744959843},{"$f":"('2021'!K13/'2021 Rate'!$AA13)*1000","v":24.99590231109654},{"$f":"('2021'!L13/'2021 Rate'!$AA13)*1000","v":19.586952958531388},{"$f":"('2021'!M13/'2021 Rate'!$AA13)*1000","v":2.2127520078675627},{"$f":"('2021'!N13/'2021 Rate'!$AA13)*1000","v":6.3923946893951804},{"$f":"('2021'!O13/'2021 Rate'!$AA13)*1000","v":4.2615964595967872},{"$f":"('2021'!P13/'2021 Rate'!$AA13)*1000","v":-0.16390755613833796},{"$f":"('2021'!Q13/'2021 Rate'!$AA13)*1000","v":1.5571217833142108},{"$f":"('2021'!R13/'2021 Rate'!$AA13)*1000","v":1.6390755613833796},null,null,null,null,null,null,null,"East Ayrshire",122020]
[12,"East Dunbartonshire",null,{"$f":"('2021'!D14/'2021 Rate'!$AA14)*1000","v":4.4995408631772262},{"$f":"('2021'!E14/'2021 Rate'!$AA14)*1000","v":3.921028466483012},{"$f":"('2021'!F14/'2021 Rate'!$AA14)*1000","v":0.76216712580348944},{"$f":"('2021'!G14/'2021 Rate'!$AA14)*1000","v":-0.22038567493112948},{"$f":"('2021'!H14/'2021 Rate'!$AA14)*1000","v":41.32231404958678},{"$f":"('2021'!I14/'2021 Rate'!$AA14)*1000","v":36.822773186409549},{"$f":"('2021'!J14/'2021 Rate'!$AA14)*1000","v":4.9586776859504136},{"$f":"('2021'!K14/'2021 Rate'!$AA14)*1000","v":34.343434343434339},{"$f":"('2021'!L14/'2021 Rate'!$AA14)*1000","v":29.38475665748393},{"$f":"('2021'!M14/'2021 Rate'!$AA14)*1000","v":-0.5509641873278236},{"$f":"('2021'!N14/'2021 Rate'!$AA14)*1000","v":5.0505050505050511},{"$f":"('2021'!O14/'2021 Rate'!$AA14)*1000","v":5.6014692378328741},{"$f":"('2021'!P14/'2021 Rate'!$AA14)*1000","v":9.1827364554637275E-2},{"$f":"('2021'!Q14/'2021 Rate'!$AA14)*1000","v":1.9283746556473831},{"$f":"('2021'!R14/'2021 Rate'!$AA14)*1000","v":1.8365472910927456},null,null,null,null,null,null,null,"East Dunbartonshire",108900]
[13,"East Lothian",null,{"$f":"('2021'!D15/'2021 Rate'!$AA15)*1000","v":16.608870231794125},{"$f":"('2021'!E15/'2021 Rate'!$AA15)*1000","v":3.2761452819857642},{"$f":"('2021'!F15/'2021 Rate'!$AA15)*1000","v":11.352436576017521},{"$f":"('2021'!G15/'2021 Rate'!$AA15)*1000","v":1.9802883737908379},{"$f":"('2021'!H15/'2021 Rate'!$AA15)*1000","v":51.012958569081952},{"$f":"('2021'!I15/'2021 Rate'!$AA15)*1000","v":34.404088337287831},{"$f":"('2021'!J15/'2021 Rate'!$AA15)*1000","v":12.31976638072641},{"$f":"('2021'!K15/'2021 Rate'!$AA15)*1000","v":37.963131958386569},{"$f":"('2021'!L15/'2021 Rate'!$AA15)*1000","v":25.643365577660155},{"$f":"('2021'!M15/'2021 Rate'!$AA15)*1000","v":3.7415586785909838},{"$f":"('2021'!N15/'2021 Rate'!$AA15)*1000","v":9.9470706333272485},{"$f":"('2021'!O15/'2021 Rate'!$AA15)*1000","v":6.2055119547362665},{"$f":"('2021'!P15/'2021 Rate'!$AA15)*1000","v":0.5475451724767294},{"$f":"('2021'!Q15/'2021 Rate'!$AA15)*1000","v":3.1027559773681332},{"$f":"('2021'!R15/'2021 Rate'!$AA15)*1000","v":2.5552108048914035},null,null,null,null,null,null,null,"East Lothian",109580]
[14,"East Renfrewshire",null,{"$f":"('2021'!D16/'2021 Rate'!$AA16)*1000","v":7.1443363015117001},{"$f":"('2021'!E16/'2021 Rate'!$AA16)*1000","v":6.0985711327396972},{"$f":"('2021'!F16/'2021 Rate'!$AA16)*1000","v":1.3770967073928351},{"$f":"('2021'!G16/'2021 Rate'!$AA16)*1000","v":-0.37274798094843653},{"$f":"('2021'!H16/'2021 Rate'!$AA16)*1000","v":45.972250983640507},{"$f":"('2021'!I16/'2021 Rate'!$AA16)*1000","v":38.827914682128799},{"$f":"('2021'!J16/'2021 Rate'!$AA16)*1000","v":7.1443363015117001},{"$f":"('2021'!K16/'2021 Rate'!$AA16)*1000","v":37.792503623938707},{"$f":"('2021'!L16/'2021 Rate'!$AA16)*1000","v":30.648167322427003},{"$f":"('2021'!M16/'2021 Rate'!$AA16)*1000","v":-1.0354110581901013},{"$f":"('2021'!N16/'2021 Rate'!$AA16)*1000","v":5.0735141851314971},{"$f":"('2021'!O16/'2021 Rate'!$AA16)*1000","v":6.1089252433215986},{"$f":"('2021'!P16/'2021 Rate'!$AA16)*1000","v":1.0354110581901013},{"$f":"('2021'!Q16/'2021 Rate'!$AA16)*1000","v":3.1062331745703045},{"$f":"('2021'!R16/'2021 Rate'!$AA16)*1000","v":2.0708221163802025},null,null,null,null,null,null,null,"East Renfrewshire",96580]
[15,"Falkirk",null,{"$f":"('2021'!D17/'2021 Rate'!$AA17)*1000","v":3.7958929682638458},{"$f":"('2021'!E17/'2021 Rate'!$AA17)*1000","v":0.33602986932171747},{"$f":"('2021'!F17/'2021 Rate'!$AA17)*1000","v":3.4100808960796516},{"$f":"('2021'!G17/'2021 Rate'!$AA17)*1000","v":7.4673304293715007E-2},{"$f":"('2021'!H17/'2021 Rate'!$AA17)*1000","v":28.126944617299316},{"$f":"('2021'!I17/'2021 Rate'!$AA17)*1000","v":24.331051649035469},{"$f":"('2021'!J17/'2021 Rate'!$AA17)*1000","v":1.9290603609209707},{"$f":"('2021'!K17/'2021 Rate'!$AA17)*1000","v":21.468574984443062},{"$f":"('2021'!L17/'2021 Rate'!$AA17)*1000","v":19.539514623522091},{"$f":"('2021'!M17/'2021 Rate'!$AA17)*1000","v":0.93341630367143746},{"$f":"('2021'!N17/'2021 Rate'!$AA17)*1000","v":4.355942750466709},{"$f":"('2021'!O17/'2021 Rate'!$AA17)*1000","v":3.422526446795271},{"$f":"('2021'!P17/'2021 Rate'!$AA17)*1000","v":0.93341630367143746},{"$f":"('2021'!Q17/'2021 Rate'!$AA17)*1000","v":2.302426882389546},{"$f":"('2021'!R17/'2021 Rate'!$AA17)*1000","v":1.3690105787181084},null,null,null,null,null,null,null,"Falkirk",160700]
[16,"Fife",null,{"$f":"('2021'!D18/'2021 Rate'!$AA18)*1000","v":4.6967149681103724},{"$f":"('2021'!E18/'2021 Rate'!$AA18)*1000","v":1.2302190910789101},{"$f":"('2021'!F18/'2021 Rate'!$AA18)*1000","v":2.9968243802204255},{"$f":"('2021'!G18/'2021 Rate'!$AA18)*1000","v":0.48034584901128813},{"$f":"('2021'!H18/'2021 Rate'!$AA18)*1000","v":35.545592826835325},{"$f":"('2021'!I18/'2021 Rate'!$AA18)*1000","v":30.848877858724951},{"$f":"('2021'!J18/'2021 Rate'!$AA18)*1000","v":3.4958503455821521},{"$f":"('2021'!K18/'2021 Rate'!$AA18)*1000","v":21.188589117497934},{"$f":"('2021'!L18/'2021 Rate'!$AA18)*1000","v":17.692738771915781},{"$f":"('2021'!M18/'2021 Rate'!$AA18)*1000","v":-0.74720465401755931},{"$f":"('2021'!N18/'2021 Rate'!$AA18)*1000","v":8.833026445707576},{"$f":"('2021'!O18/'2021 Rate'!$AA18)*1000","v":9.5535452192245085},{"$f":"('2021'!P18/'2021 Rate'!$AA18)*1000","v":1.9480692765457794},{"$f":"('2021'!Q18/'2021 Rate'!$AA18)*1000","v":5.5239772636298135},{"$f":"('2021'!R18/'2021 Rate'!$AA18)*1000","v":3.6025938675846612},null,null,null,null,null,null,null,"Fife",374730]
[17,"Glasgow City",null,{"$f":"('2021'!D19/'2021 Rate'!$AA19)*1000","v":0.6140475178309952},{"$f":"('2021'!E19/'2021 Rate'!$AA19)*1000","v":-1.6091193928801977},{"$f":"('2021'!F19/'2021 Rate'!$AA19)*1000","v":2.7490435029049172},{"$f":"('2021'!G19/'2021 Rate'!$AA19)*1000","v":-0.52745107300867533},{"$f":"('2021'!H19/'2021 Rate'!$AA19)*1000","v":57.311101664226221},{"$f":"('2021'!I19/'2021 Rate'!$AA19)*1000","v":56.697054146395224},{"$f":"('2021'!J19/'2021 Rate'!$AA19)*1000","v":-10.186890872734715},{"$f":"('2021'!K19/'2021 Rate'!$AA19)*1000","v":27.081070017161839},{"$f":"('2021'!L19/'2021 Rate'!$AA19)*1000","v":37.267960889896557},{"$f":"('2021'!M19/'2021 Rate'!$AA19)*1000","v":0.48808905263489366},{"$f":"('2021'!N19/'2021 Rate'!$AA19)*1000","v":12.233715932171368},{"$f":"('2021'!O19/'2021 Rate'!$AA19)*1000","v":11.745626879536474},{"$f":"('2021'!P19/'2021 Rate'!$AA19)*1000","v":10.312849337930817},{"$f":"('2021'!Q19/'2021 Rate'!$AA19)*1000","v":17.996315714893015},{"$f":"('2021'!R19/'2021 Rate'!$AA19)*1000","v":7.6834663769621967},null,null,null,null,null,null,null,"Glasgow City",635130]
[18,"Highland",null,{"$f":"('2021'!D20/'2021 Rate'!$AA20)*1000","v":14.240107535915316},{"$f":"('2021'!E20/'2021 Rate'!$AA20)*1000","v":1.6676468117281358},{"$f":"('2021'!F20/'2021 Rate'!$AA20)*1000","v":11.791145089473243},{"$f":"('2021'!G20/'2021 Rate'!$AA20)*1000","v":0.78131563471393761},{"$f":"('2021'!H20/'2021 Rate'!$AA20)*1000","v":42.468285306225326},{"$f":"('2021'!I20/'2021 Rate'!$AA20)*1000","v":28.228177770310008},{"$f":"('2021'!J20/'2021 Rate'!$AA20)*1000","v":5.5028144165336466},{"$f":"('2021'!K20/'2021 Rate'!$AA20)*1000","v":23.355456607577921},{"$f":"('2021'!L20/'2021 Rate'!$AA20)*1000","v":17.852642191044275},{"$f":"('2021'!M20/'2021 Rate'!$AA20)*1000","v":7.4771066117785434},{"$f":"('2021'!N20/'2021 Rate'!$AA20)*1000","v":15.038225657397295},{"$f":"('2021'!O20/'2021 Rate'!$AA20)*1000","v":7.561119045618752},{"$f":"('2021'!P20/'2021 Rate'!$AA20)*1000","v":1.2601865076031253},{"$f":"('2021'!Q20/'2021 Rate'!$AA20)*1000","v":4.1166092581702092},{"$f":"('2021'!R20/'2021 Rate'!$AA20)*1000","v":2.8564227505670843},null,null,null,null,null,null,null,"Highland",238060]
[19,"Inverclyde",null,{"$f":"('2021'!D21/'2021 Rate'!$AA21)*1000","v":1.1734028683181226},{"$f":"('2021'!E21/'2021 Rate'!$AA21)*1000","v":0.83441981747066496},{"$f":"('2021'!F21/'2021 Rate'!$AA21)*1000","v":3.911342894393742E-2},{"$f":"('2021'!G21/'2021 Rate'!$AA21)*1000","v":0.31290743155149936},{"$f":"('2021'!H21/'2021 Rate'!$AA21)*1000","v":23.207301173402868},{"$f":"('2021'!I21/'2021 Rate'!$AA21)*1000","v":22.033898305084744},{"$f":"('2021'!J21/'2021 Rate'!$AA21)*1000","v":-0.2607561929595828},{"$f":"('2021'!K21/'2021 Rate'!$AA21)*1000","v":17.07953063885267},{"$f":"('2021'!L21/'2021 Rate'!$AA21)*1000","v":17.340286831812254},{"$f":"('2021'!M21/'2021 Rate'!$AA21)*1000","v":1.6949152542372881},{"$f":"('2021'!N21/'2021 Rate'!$AA21)*1000","v":4.9543676662320735},{"$f":"('2021'!O21/'2021 Rate'!$AA21)*1000","v":3.259452411994785},{"$f":"('2021'!P21/'2021 Rate'!$AA21)*1000","v":-0.2607561929595828},{"$f":"('2021'!Q21/'2021 Rate'!$AA21)*1000","v":1.1734028683181226},{"$f":"('2021'!R21/'2021 Rate'!$AA21)*1000","v":1.4341590612777053},null,null,null,null,null,null,null,"Inverclyde",76700]
[20,"Midlothian",null,{"$f":"('2021'!D22/'2021 Rate'!$AA22)*1000","v":14.681030840726658},{"$f":"('2021'!E22/'2021 Rate'!$AA22)*1000","v":2.0912547528517109},{"$f":"('2021'!F22/'2021 Rate'!$AA22)*1000","v":12.663709336713138},{"$f":"('2021'!G22/'2021 Rate'!$AA22)*1000","v":-0.10561892691170258},{"$f":"('2021'!H22/'2021 Rate'!$AA22)*1000","v":47.422898183354455},{"$f":"('2021'!I22/'2021 Rate'!$AA22)*1000","v":32.741867342627799},{"$f":"('2021'!J22/'2021 Rate'!$AA22)*1000","v":12.040557667934094},{"$f":"('2021'!K22/'2021 Rate'!$AA22)*1000","v":38.234051542036333},{"$f":"('2021'!L22/'2021 Rate'!$AA22)*1000","v":26.193493874102241},{"$f":"('2021'!M22/'2021 Rate'!$AA22)*1000","v":1.6899028305872412},{"$f":"('2021'!N22/'2021 Rate'!$AA22)*1000","v":6.5483734685255603},{"$f":"('2021'!O22/'2021 Rate'!$AA22)*1000","v":4.8584706379383187},{"$f":"('2021'!P22/'2021 Rate'!$AA22)*1000","v":1.0561892691170256},{"$f":"('2021'!Q22/'2021 Rate'!$AA22)*1000","v":2.6404731727925643},{"$f":"('2021'!R22/'2021 Rate'!$AA22)*1000","v":1.5842839036755385},null,null,null,null,null,null,null,"Midlothian",94680]
[21,"Moray",null,{"$f":"('2021'!D23/'2021 Rate'!$AA23)*1000","v":7.2606576081319369},{"$f":"('2021'!E23/'2021 Rate'!$AA23)*1000","v":2.0537288663001765},{"$f":"('2021'!F23/'2021 Rate'!$AA23)*1000","v":4.989109013587802},{"$f":"('2021'!G23/'2021 Rate'!$AA23)*1000","v":0.18670262420910694},{"$f":"('2021'!H23/'2021 Rate'!$AA23)*1000","v":39.311274764028624},{"$f":"('2021'!I23/'2021 Rate'!$AA23)*1000","v":32.050617155896688},{"$f":"('2021'!J23/'2021 Rate'!$AA23)*1000","v":0.82978944092936413},{"$f":"('2021'!K23/'2021 Rate'!$AA23)*1000","v":20.952183383466444},{"$f":"('2021'!L23/'2021 Rate'!$AA23)*1000","v":20.226117622653248},{"$f":"('2021'!M23/'2021 Rate'!$AA23)*1000","v":6.534591847318743},{"$f":"('2021'!N23/'2021 Rate'!$AA23)*1000","v":15.351104657193236},{"$f":"('2021'!O23/'2021 Rate'!$AA23)*1000","v":8.816512809874494},{"$f":"('2021'!P23/'2021 Rate'!$AA23)*1000","v":-0.10372368011617052},{"$f":"('2021'!Q23/'2021 Rate'!$AA23)*1000","v":2.9042630432527745},{"$f":"('2021'!R23/'2021 Rate'!$AA23)*1000","v":3.0079867233689455},null,null,null,null,null,null,null,"Moray",96410]
[22,"Na h-Eileanan Siar",null,{"$f":"('2021'!D24/'2021 Rate'!$AA24)*1000","v":12.012012012012011},{"$f":"('2021'!E24/'2021 Rate'!$AA24)*1000","v":0.93843843843843844},{"$f":"('2021'!F24/'2021 Rate'!$AA24)*1000","v":10.21021021021021},{"$f":"('2021'!G24/'2021 Rate'!$AA24)*1000","v":1.0135135135135136},{"$f":"('2021'!H24/'2021 Rate'!$AA24)*1000","v":41.666666666666664},{"$f":"('2021'!I24/'2021 Rate'!$AA24)*1000","v":29.27927927927928},{"$f":"('2021'!J24/'2021 Rate'!$AA24)*1000","v":6.3813813813813818},{"$f":"('2021'!K24/'2021 Rate'!$AA24)*1000","v":27.027027027027028},{"$f":"('2021'!L24/'2021 Rate'!$AA24)*1000","v":20.645645645645644},{"$f":"('2021'!M24/'2021 Rate'!$AA24)*1000","v":6.0060060060060056},{"$f":"('2021'!N24/'2021 Rate'!$AA24)*1000","v":12.762762762762764},{"$f":"('2021'!O24/'2021 Rate'!$AA24)*1000","v":6.3813813813813818},{"$f":"('2021'!P24/'2021 Rate'!$AA24)*1000","v":-0.37537537537537535},{"$f":"('2021'!Q24/'2021 Rate'!$AA24)*1000","v":1.8768768768768769},{"$f":"('2021'!R24/'2021 Rate'!$AA24)*1000","v":2.2522522522522523},null,null,null,null,null,null,null,"Na h-Eileanan Siar",26640]
[23,"North Ayrshire",null,{"$f":"('2021'!D25/'2021 Rate'!$AA25)*1000","v":5.9603635821785126},{"$f":"('2021'!E25/'2021 Rate'!$AA25)*1000","v":0.48427954105200416},{"$f":"('2021'!F25/'2021 Rate'!$AA25)*1000","v":4.9620026821636118},{"$f":"('2021'!G25/'2021 Rate'!$AA25)*1000","v":0.49918045000745048},{"$f":"('2021'!H25/'2021 Rate'!$AA25)*1000","v":32.334972433318434},{"$f":"('2021'!I25/'2021 Rate'!$AA25)*1000","v":26.374608851139921},{"$f":"('2021'!J25/'2021 Rate'!$AA25)*1000","v":4.1722545075249586},{"$f":"('2021'!K25/'2021 Rate'!$AA25)*1000","v":24.586499776486367},{"$f":"('2021'!L25/'2021 Rate'!$AA25)*1000","v":20.414245268961405},{"$f":"('2021'!M25/'2021 Rate'!$AA25)*1000","v":2.0861272537624793},{"$f":"('2021'!N25/'2021 Rate'!$AA25)*1000","v":6.3328863060646698},{"$f":"('2021'!O25/'2021 Rate'!$AA25)*1000","v":4.2467590523021901},{"$f":"('2021'!P25/'2021 Rate'!$AA25)*1000","v":-0.29801817910892564},{"$f":"('2021'!Q25/'2021 Rate'!$AA25)*1000","v":1.4900908955446281},{"$f":"('2021'!R25/'2021 Rate'!$AA25)*1000","v":1.788109074653554},null,null,null,null,null,null,null,"North Ayrshire",134220]
[24,"North Lanarkshire",null,{"$f":"('2021'!D26/'2021 Rate'!$AA26)*1000","v":3.1634446397188047},{"$f":"('2021'!E26/'2021 Rate'!$AA26)*1000","v":0.60925600468658458},{"$f":"('2021'!F26/'2021 Rate'!$AA26)*1000","v":2.6830697129466903},{"$f":"('2021'!G26/'2021 Rate'!$AA26)*1000","v":-0.13181019332161689},{"$f":"('2021'!H26/'2021 Rate'!$AA26)*1000","v":26.06912712360867},{"$f":"('2021'!I26/'2021 Rate'!$AA26)*1000","v":22.905682483889866},{"$f":"('2021'!J26/'2021 Rate'!$AA26)*1000","v":1.6403046280023432},{"$f":"('2021'!K26/'2021 Rate'!$AA26)*1000","v":20.240187463386057},{"$f":"('2021'!L26/'2021 Rate'!$AA26)*1000","v":18.570591681312244},{"$f":"('2021'!M26/'2021 Rate'!$AA26)*1000","v":0.70298769771529002},{"$f":"('2021'!N26/'2021 Rate'!$AA26)*1000","v":3.456356180433509},{"$f":"('2021'!O26/'2021 Rate'!$AA26)*1000","v":2.7533684827182192},{"$f":"('2021'!P26/'2021 Rate'!$AA26)*1000","v":0.82015231400117161},{"$f":"('2021'!Q26/'2021 Rate'!$AA26)*1000","v":2.3725834797891037},{"$f":"('2021'!R26/'2021 Rate'!$AA26)*1000","v":1.5817223198594024},null,null,null,null,null,null,null,"North Lanarkshire",341400]
[25,"Orkney Islands",null,{"$f":"('2021'!D27/'2021 Rate'!$AA27)*1000","v":9.7604259094942325},{"$f":"('2021'!E27/'2021 Rate'!$AA27)*1000","v":2.3957409050576755},{"$f":"('2021'!F27/'2021 Rate'!$AA27)*1000","v":7.3646850044365575},{"$f":"('2021'!G27/'2021 Rate'!$AA27)*1000","v":-8.8731144631765749E-2},{"$f":"('2021'!H27/'2021 Rate'!$AA27)*1000","v":41.703637976929897},{"$f":"('2021'!I27/'2021 Rate'!$AA27)*1000","v":31.943212067435667},{"$f":"('2021'!J27/'2021 Rate'!$AA27)*1000","v":0},{"$f":"('2021'!K27/'2021 Rate'!$AA27)*1000","v":20.408163265306122},{"$f":"('2021'!L27/'2021 Rate'!$AA27)*1000","v":19.964507542147295},{"$f":"('2021'!M27/'2021 Rate'!$AA27)*1000","v":9.316770186335404},{"$f":"('2021'!N27/'2021 Rate'!$AA27)*1000","v":18.633540372670808},{"$f":"('2021'!O27/'2021 Rate'!$AA27)*1000","v":8.8731144631765755},{"$f":"('2021'!P27/'2021 Rate'!$AA27)*1000","v":0},{"$f":"('2021'!Q27/'2021 Rate'!$AA27)*1000","v":2.6619343389529724},{"$f":"('2021'!R27/'2021 Rate'!$AA27)*1000","v":2.6619343389529724},null,null,null,null,null,null,null,"Orkney Islands",22540]
[26,"Perth and Kinross",null,{"$f":"('2021'!D28/'2021 Rate'!$AA28)*1000","v":16.448865483388598},{"$f":"('2021'!E28/'2021 Rate'!$AA28)*1000","v":3.2962746245367662},{"$f":"('2021'!F28/'2021 Rate'!$AA28)*1000","v":11.78076848059294},{"$f":"('2021'!G28/'2021 Rate'!$AA28)*1000","v":1.3718223782588908},{"$f":"('2021'!H28/'2021 Rate'!$AA28)*1000","v":51.557115922241728},{"$f":"('2021'!I28/'2021 Rate'!$AA28)*1000","v":35.108250438853126},{"$f":"('2021'!J28/'2021 Rate'!$AA28)*1000","v":10.142383460113127},{"$f":"('2021'!K28/'2021 Rate'!$AA28)*1000","v":34.263051817177036},{"$f":"('2021'!L28/'2021 Rate'!$AA28)*1000","v":24.120668357063909},{"$f":"('2021'!M28/'2021 Rate'!$AA28)*1000","v":3.9659319940185949},{"$f":"('2021'!N28/'2021 Rate'!$AA28)*1000","v":11.637734867693908},{"$f":"('2021'!O28/'2021 Rate'!$AA28)*1000","v":7.6718028736753139},{"$f":"('2021'!P28/'2021 Rate'!$AA28)*1000","v":2.3405500292568755},{"$f":"('2021'!Q28/'2021 Rate'!$AA28)*1000","v":5.5913139587803133},{"$f":"('2021'!R28/'2021 Rate'!$AA28)*1000","v":3.2507639295234383},null,null,null,null,null,null,null,"Perth & Kinross",153810]
[27,"Renfrewshire",null,{"$f":"('2021'!D29/'2021 Rate'!$AA29)*1000","v":6.8356118706235414},{"$f":"('2021'!E29/'2021 Rate'!$AA29)*1000","v":-1.6672224074691565E-2},{"$f":"('2021'!F29/'2021 Rate'!$AA29)*1000","v":6.396576636656663},{"$f":"('2021'!G29/'2021 Rate'!$AA29)*1000","v":0.42792041791708346},{"$f":"('2021'!H29/'2021 Rate'!$AA29)*1000","v":38.40168945203957},{"$f":"('2021'!I29/'2021 Rate'!$AA29)*1000","v":31.621651661665002},{"$f":"('2021'!J29/'2021 Rate'!$AA29)*1000","v":4.5015005001667223},{"$f":"('2021'!K29/'2021 Rate'!$AA29)*1000","v":28.787373568967432},{"$f":"('2021'!L29/'2021 Rate'!$AA29)*1000","v":24.285873068800711},{"$f":"('2021'!M29/'2021 Rate'!$AA29)*1000","v":0.5557408024897188},{"$f":"('2021'!N29/'2021 Rate'!$AA29)*1000","v":5.2239635434033573},{"$f":"('2021'!O29/'2021 Rate'!$AA29)*1000","v":4.6682227409136381},{"$f":"('2021'!P29/'2021 Rate'!$AA29)*1000","v":1.7783705679671},{"$f":"('2021'!Q29/'2021 Rate'!$AA29)*1000","v":4.4459264199177504},{"$f":"('2021'!R29/'2021 Rate'!$AA29)*1000","v":2.6675558519506501},null,null,null,null,null,null,null,"Renfrewshire",179940]
[28,"Scottish Borders",null,{"$f":"('2021'!D30/'2021 Rate'!$AA30)*1000","v":10.946388553697638},{"$f":"('2021'!E30/'2021 Rate'!$AA30)*1000","v":2.6547147043613171},{"$f":"('2021'!F30/'2021 Rate'!$AA30)*1000","v":7.7141872091018788},{"$f":"('2021'!G30/'2021 Rate'!$AA30)*1000","v":0.56024823306326488},{"$f":"('2021'!H30/'2021 Rate'!$AA30)*1000","v":46.198931218755391},{"$f":"('2021'!I30/'2021 Rate'!$AA30)*1000","v":35.338734700913633},{"$f":"('2021'!J30/'2021 Rate'!$AA30)*1000","v":5.2577141872091016},{"$f":"('2021'!K30/'2021 Rate'!$AA30)*1000","v":25.943802792621963},{"$f":"('2021'!L30/'2021 Rate'!$AA30)*1000","v":20.772280641268747},{"$f":"('2021'!M30/'2021 Rate'!$AA30)*1000","v":5.4300982589208759},{"$f":"('2021'!N30/'2021 Rate'!$AA30)*1000","v":16.893639027753835},{"$f":"('2021'!O30/'2021 Rate'!$AA30)*1000","v":11.549732804688848},{"$f":"('2021'!P30/'2021 Rate'!$AA30)*1000","v":0.25857610756766075},{"$f":"('2021'!Q30/'2021 Rate'!$AA30)*1000","v":3.3614893983795899},{"$f":"('2021'!R30/'2021 Rate'!$AA30)*1000","v":3.016721254956042},null,null,null,null,null,null,null,"Scottish Borders",116020]
[29,"Shetland Islands",null,{"$f":"('2021'!D31/'2021 Rate'!$AA31)*1000","v":5.2310374891020057},{"$f":"('2021'!E31/'2021 Rate'!$AA31)*1000","v":1.5693112467306016},{"$f":"('2021'!F31/'2021 Rate'!$AA31)*1000","v":3.9232781168265038},{"$f":"('2021'!G31/'2021 Rate'!$AA31)*1000","v":-0.13077593722755013},{"$f":"('2021'!H31/'2021 Rate'!$AA31)*1000","v":34.873583260680036},{"$f":"('2021'!I31/'2021 Rate'!$AA31)*1000","v":29.206625980819531},{"$f":"('2021'!J31/'2021 Rate'!$AA31)*1000","v":0},{"$f":"('2021'!K31/'2021 Rate'!$AA31)*1000","v":18.308631211857016},{"$f":"('2021'!L31/'2021 Rate'!$AA31)*1000","v":18.308631211857016},{"$f":"('2021'!M31/'2021 Rate'!$AA31)*1000","v":6.5387968613775058},{"$f":"('2021'!N31/'2021 Rate'!$AA31)*1000","v":14.385353095030515},{"$f":"('2021'!O31/'2021 Rate'!$AA31)*1000","v":8.2824760244115083},{"$f":"('2021'!P31/'2021 Rate'!$AA31)*1000","v":-0.87183958151700092},{"$f":"('2021'!Q31/'2021 Rate'!$AA31)*1000","v":1.7436791630340018},{"$f":"('2021'!R31/'2021 Rate'!$AA31)*1000","v":3.051438535309503},null,null,null,null,null,null,null,"Shetland Islands",22940]
[30,"South Ayrshire",null,{"$f":"('2021'!D32/'2021 Rate'!$AA32)*1000","v":10.582481102712316},{"$f":"('2021'!E32/'2021 Rate'!$AA32)*1000","v":2.0186749666518451},{"$f":"('2021'!F32/'2021 Rate'!$AA32)*1000","v":6.7318808359270781},{"$f":"('2021'!G32/'2021 Rate'!$AA32)*1000","v":1.8586038239217431},{"$f":"('2021'!H32/'2021 Rate'!$AA32)*1000","v":38.861716318363712},{"$f":"('2021'!I32/'2021 Rate'!$AA32)*1000","v":28.279235215651401},{"$f":"('2021'!J32/'2021 Rate'!$AA32)*1000","v":6.6696309470875939},{"$f":"('2021'!K32/'2021 Rate'!$AA32)*1000","v":27.65673632725656},{"$f":"('2021'!L32/'2021 Rate'!$AA32)*1000","v":20.987105380168966},{"$f":"('2021'!M32/'2021 Rate'!$AA32)*1000","v":4.1796353935082262},{"$f":"('2021'!N32/'2021 Rate'!$AA32)*1000","v":9.1596265006669633},{"$f":"('2021'!O32/'2021 Rate'!$AA32)*1000","v":4.9799911071587371},{"$f":"('2021'!P32/'2021 Rate'!$AA32)*1000","v":-0.26678523788350378},{"$f":"('2021'!Q32/'2021 Rate'!$AA32)*1000","v":2.0453534904401955},{"$f":"('2021'!R32/'2021 Rate'!$AA32)*1000","v":2.3121387283236996},null,null,null,null,null,null,null,"South Ayrshire",112450]
[31,"South Lanarkshire",null,{"$f":"('2021'!D33/'2021 Rate'!$AA33)*1000","v":8.244738555001085},{"$f":"('2021'!E33/'2021 Rate'!$AA33)*1000","v":1.602454824411865},{"$f":"('2021'!F33/'2021 Rate'!$AA33)*1000","v":6.7693642872640485},{"$f":"('2021'!G33/'2021 Rate'!$AA33)*1000","v":-0.11778197935715835},{"$f":"('2021'!H33/'2021 Rate'!$AA33)*1000","v":35.241608033970799},{"$f":"('2021'!I33/'2021 Rate'!$AA33)*1000","v":26.96587422124415},{"$f":"('2021'!J33/'2021 Rate'!$AA33)*1000","v":6.9739329882527974},{"$f":"('2021'!K33/'2021 Rate'!$AA33)*1000","v":27.864736695285622},{"$f":"('2021'!L33/'2021 Rate'!$AA33)*1000","v":20.921798964758395},{"$f":"('2021'!M33/'2021 Rate'!$AA33)*1000","v":1.1778197935715835},{"$f":"('2021'!N33/'2021 Rate'!$AA33)*1000","v":5.176208040169854},{"$f":"('2021'!O33/'2021 Rate'!$AA33)*1000","v":3.9983882465982705},{"$f":"('2021'!P33/'2021 Rate'!$AA33)*1000","v":0.12398103090227196},{"$f":"('2021'!Q33/'2021 Rate'!$AA33)*1000","v":2.2006632985153272},{"$f":"('2021'!R33/'2021 Rate'!$AA33)*1000","v":2.0766822676130552},null,null,null,null,null,null,null,"South Lanarkshire",322630]
[32,"Stirling",null,{"$f":"('2021'!D34/'2021 Rate'!$AA34)*1000","v":-2.4606825719482188},{"$f":"('2021'!E34/'2021 Rate'!$AA34)*1000","v":2.1076281159730397},{"$f":"('2021'!F34/'2021 Rate'!$AA34)*1000","v":-4.8999679041403654},{"$f":"('2021'!G34/'2021 Rate'!$AA34)*1000","v":0.3530544559751792},{"$f":"('2021'!H34/'2021 Rate'!$AA34)*1000","v":57.558574943832241},{"$f":"('2021'!I34/'2021 Rate'!$AA34)*1000","v":60.019257515780467},{"$f":"('2021'!J34/'2021 Rate'!$AA34)*1000","v":-4.9213651438964376},{"$f":"('2021'!K34/'2021 Rate'!$AA34)*1000","v":37.338183374344709},{"$f":"('2021'!L34/'2021 Rate'!$AA34)*1000","v":42.259548518241147},{"$f":"('2021'!M34/'2021 Rate'!$AA34)*1000","v":0.32095859634107199},{"$f":"('2021'!N34/'2021 Rate'!$AA34)*1000","v":12.089440462180379},{"$f":"('2021'!O34/'2021 Rate'!$AA34)*1000","v":11.768481865839307},{"$f":"('2021'!P34/'2021 Rate'!$AA34)*1000","v":2.1397239756071467},{"$f":"('2021'!Q34/'2021 Rate'!$AA34)*1000","v":8.1309511073071565},{"$f":"('2021'!R34/'2021 Rate'!$AA34)*1000","v":5.9912271317000103},null,null,null,null,null,null,null,"Stirling",93470]
[33,"West Dunbartonshire",null,{"$f":"('2021'!D35/'2021 Rate'!$AA35)*1000","v":-1.4808064699851919},{"$f":"('2021'!E35/'2021 Rate'!$AA35)*1000","v":-0.10251737099897482},{"$f":"('2021'!F35/'2021 Rate'!$AA35)*1000","v":-0.95682879599043169},{"$f":"('2021'!G35/'2021 Rate'!$AA35)*1000","v":-0.46702357899532976},{"$f":"('2021'!H35/'2021 Rate'!$AA35)*1000","v":28.021414739719788},{"$f":"('2021'!I35/'2021 Rate'!$AA35)*1000","v":29.616129399703837},{"$f":"('2021'!J35/'2021 Rate'!$AA35)*1000","v":-0.91126551999088734},{"$f":"('2021'!K35/'2021 Rate'!$AA35)*1000","v":22.439913429775601},{"$f":"('2021'!L35/'2021 Rate'!$AA35)*1000","v":23.351178949766489},{"$f":"('2021'!M35/'2021 Rate'!$AA35)*1000","v":-0.5695409499943046},{"$f":"('2021'!N35/'2021 Rate'!$AA35)*1000","v":3.9867866499601328},{"$f":"('2021'!O35/'2021 Rate'!$AA35)*1000","v":4.5563275999544368},{"$f":"('2021'!P35/'2021 Rate'!$AA35)*1000","v":0},{"$f":"('2021'!Q35/'2021 Rate'!$AA35)*1000","v":1.5947146599840527},{"$f":"('2021'!R35/'2021 Rate'!$AA35)*1000","v":1.5947146599840527},null,null,null,null,null,null,null,"West Dunbartonshire",87790]
[34,"West Lothian",null,{"$f":"('2021'!D36/'2021 Rate'!$AA36)*1000","v":9.6993210475266736},{"$f":"('2021'!E36/'2021 Rate'!$AA36)*1000","v":2.3062830046341198},{"$f":"('2021'!F36/'2021 Rate'!$AA36)*1000","v":7.0104537126845559},{"$f":"('2021'!G36/'2021 Rate'!$AA36)*1000","v":0.35564177174264466},{"$f":"('2021'!H36/'2021 Rate'!$AA36)*1000","v":37.396271149908394},{"$f":"('2021'!I36/'2021 Rate'!$AA36)*1000","v":27.696950102381724},{"$f":"('2021'!J36/'2021 Rate'!$AA36)*1000","v":5.6579372777238923},{"$f":"('2021'!K36/'2021 Rate'!$AA36)*1000","v":27.373639400797501},{"$f":"('2021'!L36/'2021 Rate'!$AA36)*1000","v":21.715702123073608},{"$f":"('2021'!M36/'2021 Rate'!$AA36)*1000","v":1.3471279232675935},{"$f":"('2021'!N36/'2021 Rate'!$AA36)*1000","v":5.6579372777238923},{"$f":"('2021'!O36/'2021 Rate'!$AA36)*1000","v":4.3108093544562989},{"$f":"('2021'!P36/'2021 Rate'!$AA36)*1000","v":2.6942558465351869},{"$f":"('2021'!Q36/'2021 Rate'!$AA36)*1000","v":4.3646944713870033},{"$f":"('2021'!R36/'2021 Rate'!$AA36)*1000","v":1.7243237417825195},null,null,null,null,null,null,null,"West Lothian",185580]
[]
[35,"Not specified"]
[36,"Scotland",null,{"$f":"('2021'!D39/'2021 Rate'!$AA39)*1000","v":5.0730852752787454},{"$f":"('2021'!E39/'2021 Rate'!$AA39)*1000","v":0.94271793280899285},{"$f":"('2021'!F39/'2021 Rate'!$AA39)*1000","v":3.8752531980510594},{"$f":"('2021'!G39/'2021 Rate'!$AA39)*1000","v":0.25036953229073522},{"$f":"('2021'!H39/'2021 Rate'!$AA39)*1000","v":17.737549955291154},{"$f":"('2021'!I39/'2021 Rate'!$AA39)*1000","v":12.66446468001241},{"$f":"'Within Scotland net migration'!S41","v":"[z]"},{"$f":"'Within Scotland in-migration'!S41","v":"[z]"},{"$f":"'Within Scotland out-migration'!S41","v":"[z]"},{"$f":"('2021'!M39/'2021 Rate'!$AA39)*1000","v":1.6241172284165768},{"$f":"('2021'!N39/'2021 Rate'!$AA39)*1000","v":10.255661599664228},{"$f":"('2021'!O39/'2021 Rate'!$AA39)*1000","v":8.6315443712476512},{"$f":"('2021'!P39/'2021 Rate'!$AA39)*1000","v":3.4489680468621686},{"$f":"('2021'!Q39/'2021 Rate'!$AA39)*1000","v":7.4818883556269276},{"$f":"('2021'!R39/'2021 Rate'!$AA39)*1000","v":4.0329203087647585},null,null,null,null,null,null,null,"SCOTLAND",5479900]
[37,"Ayrshire and Arran",null,{"$f":"('2021'!D40/'2021 Rate'!$AA40)*1000","v":7.8385635628848078},{"$f":"('2021'!E40/'2021 Rate'!$AA40)*1000","v":1.1825652987604762},{"$f":"('2021'!F40/'2021 Rate'!$AA40)*1000","v":5.6551574493476906},{"$f":"('2021'!G40/'2021 Rate'!$AA40)*1000","v":1.0062654262388455},{"$f":"('2021'!H40/'2021 Rate'!$AA40)*1000","v":27.36716482681928},{"$f":"('2021'!I40/'2021 Rate'!$AA40)*1000","v":19.50147820662345},{"$f":"('2021'!J40/'2021 Rate'!$AA40)*1000","v":5.3432422902709593},{"$f":"('2021'!K40/'2021 Rate'!$AA40)*1000","v":18.470802028804687},{"$f":"('2021'!L40/'2021 Rate'!$AA40)*1000","v":13.154682795844748},{"$f":"('2021'!M40/'2021 Rate'!$AA40)*1000","v":2.7665518457240501},{"$f":"('2021'!N40/'2021 Rate'!$AA40)*1000","v":7.2147332447313461},{"$f":"('2021'!O40/'2021 Rate'!$AA40)*1000","v":4.475304456318316},{"$f":"('2021'!P40/'2021 Rate'!$AA40)*1000","v":-0.24410751579918089},{"$f":"('2021'!Q40/'2021 Rate'!$AA40)*1000","v":1.654506495972226},{"$f":"('2021'!R40/'2021 Rate'!$AA40)*1000","v":1.8986140117714068},null,null,null,null,null,null,null,"Ayrshire & Arran",368690]
[38,"Borders",null,{"$f":"('2021'!D41/'2021 Rate'!$AA41)*1000","v":10.946388553697638},{"$f":"('2021'!E41/'2021 Rate'!$AA41)*1000","v":2.6547147043613171},{"$f":"('2021'!F41/'2021 Rate'!$AA41)*1000","v":7.7141872091018788},{"$f":"('2021'!G41/'2021 Rate'!$AA41)*1000","v":0.56024823306326488},{"$f":"('2021'!H41/'2021 Rate'!$AA41)*1000","v":46.198931218755391},{"$f":"('2021'!I41/'2021 Rate'!$AA41)*1000","v":35.338734700913633},{"$f":"('2021'!J41/'2021 Rate'!$AA41)*1000","v":5.2577141872091016},{"$f":"('2021'!K41/'2021 Rate'!$AA41)*1000","v":25.943802792621963},{"$f":"('2021'!L41/'2021 Rate'!$AA41)*1000","v":20.772280641268747},{"$f":"('2021'!M41/'2021 Rate'!$AA41)*1000","v":5.4300982589208759},{"$f":"('2021'!N41/'2021 Rate'!$AA41)*1000","v":16.893639027753835},{"$f":"('2021'!O41/'2021 Rate'!$AA41)*1000","v":11.549732804688848},{"$f":"('2021'!P41/'2021 Rate'!$AA41)*1000","v":0.25857610756766075},{"$f":"('2021'!Q41/'2021 Rate'!$AA41)*1000","v":3.3614893983795899},{"$f":"('2021'!R41/'2021 Rate'!$AA41)*1000","v":3.016721254956042},null,null,null,null,null,null,null,"Borders",116020]
[39,"Dumfries and Galloway",null,{"$f":"('2021'!D42/'2021 Rate'!$AA42)*1000","v":10.081322669534243},{"$f":"('2021'!E42/'2021 Rate'!$AA42)*1000","v":2.170844814839707},{"$f":"('2021'!F42/'2021 Rate'!$AA42)*1000","v":7.3459237852006183},{"$f":"('2021'!G42/'2021 Rate'!$AA42)*1000","v":0.57127495127360706},{"$f":"('2021'!H42/'2021 Rate'!$AA42)*1000","v":35.687882250151226},{"$f":"('2021'!I42/'2021 Rate'!$AA42)*1000","v":25.606559580616974},{"$f":"('2021'!J42/'2021 Rate'!$AA42)*1000","v":2.2178909872975332},{"$f":"('2021'!K42/'2021 Rate'!$AA42)*1000","v":14.584313461926206},{"$f":"('2021'!L42/'2021 Rate'!$AA42)*1000","v":12.433631292425567},{"$f":"('2021'!M42/'2021 Rate'!$AA42)*1000","v":8.3338934068149744},{"$f":"('2021'!N42/'2021 Rate'!$AA42)*1000","v":18.818468983130586},{"$f":"('2021'!O42/'2021 Rate'!$AA42)*1000","v":10.484575576315613},{"$f":"('2021'!P42/'2021 Rate'!$AA42)*1000","v":-0.47046172457826468},{"$f":"('2021'!Q42/'2021 Rate'!$AA42)*1000","v":2.2850998050944282},{"$f":"('2021'!R42/'2021 Rate'!$AA42)*1000","v":2.755561529672693},null,null,null,null,null,null,null,"Dumfries & Galloway",148790]
[40,"Fife",null,{"$f":"('2021'!D43/'2021 Rate'!$AA43)*1000","v":4.6967149681103724},{"$f":"('2021'!E43/'2021 Rate'!$AA43)*1000","v":1.2302190910789101},{"$f":"('2021'!F43/'2021 Rate'!$AA43)*1000","v":2.9968243802204255},{"$f":"('2021'!G43/'2021 Rate'!$AA43)*1000","v":0.48034584901128813},{"$f":"('2021'!H43/'2021 Rate'!$AA43)*1000","v":35.545592826835325},{"$f":"('2021'!I43/'2021 Rate'!$AA43)*1000","v":30.848877858724951},{"$f":"('2021'!J43/'2021 Rate'!$AA43)*1000","v":3.4958503455821521},{"$f":"('2021'!K43/'2021 Rate'!$AA43)*1000","v":21.188589117497934},{"$f":"('2021'!L43/'2021 Rate'!$AA43)*1000","v":17.692738771915781},{"$f":"('2021'!M43/'2021 Rate'!$AA43)*1000","v":-0.74720465401755931},{"$f":"('2021'!N43/'2021 Rate'!$AA43)*1000","v":8.833026445707576},{"$f":"('2021'!O43/'2021 Rate'!$AA43)*1000","v":9.5535452192245085},{"$f":"('2021'!P43/'2021 Rate'!$AA43)*1000","v":1.9480692765457794},{"$f":"('2021'!Q43/'2021 Rate'!$AA43)*1000","v":5.5239772636298135},{"$f":"('2021'!R43/'2021 Rate'!$AA43)*1000","v":3.6025938675846612},null,null,null,null,null,null,null,"Fife",374730]
[41,"Forth Valley",null,{"$f":"('2021'!D44/'2021 Rate'!$AA44)*1000","v":2.2570409865558863},{"$f":"('2021'!E44/'2021 Rate'!$AA44)*1000","v":1.085996532661673},{"$f":"('2021'!F44/'2021 Rate'!$AA44)*1000","v":0.9878643158548952},{"$f":"('2021'!G44/'2021 Rate'!$AA44)*1000","v":0.17009584246508128},{"$f":"('2021'!H44/'2021 Rate'!$AA44)*1000","v":33.921036276209477},{"$f":"('2021'!I44/'2021 Rate'!$AA44)*1000","v":31.663995289653592},{"$f":"('2021'!J44/'2021 Rate'!$AA44)*1000","v":0.19626443361355533},{"$f":"('2021'!K44/'2021 Rate'!$AA44)*1000","v":22.766674299172415},{"$f":"('2021'!L44/'2021 Rate'!$AA44)*1000","v":22.570409865558865},{"$f":"('2021'!M44/'2021 Rate'!$AA44)*1000","v":0.78505773445422133},{"$f":"('2021'!N44/'2021 Rate'!$AA44)*1000","v":7.0000981322168068},{"$f":"('2021'!O44/'2021 Rate'!$AA44)*1000","v":6.2477511366981782},{"$f":"('2021'!P44/'2021 Rate'!$AA44)*1000","v":1.3084295574237024},{"$f":"('2021'!Q44/'2021 Rate'!$AA44)*1000","v":4.1542638448202549},{"$f":"('2021'!R44/'2021 Rate'!$AA44)*1000","v":2.8458342873965519},null,null,null,null,null,null,null,"Forth Valley",305710]
[42,"Grampian",null,{"$f":"('2021'!D45/'2021 Rate'!$AA45)*1000","v":2.4380679590131793},{"$f":"('2021'!E45/'2021 Rate'!$AA45)*1000","v":1.4219221523195744},{"$f":"('2021'!F45/'2021 Rate'!$AA45)*1000","v":0.53535198540569107},{"$f":"('2021'!G45/'2021 Rate'!$AA45)*1000","v":0.47397405077319149},{"$f":"('2021'!H45/'2021 Rate'!$AA45)*1000","v":30.842412152831056},{"$f":"('2021'!I45/'2021 Rate'!$AA45)*1000","v":28.404344193817877},{"$f":"('2021'!J45/'2021 Rate'!$AA45)*1000","v":-2.4721668115867899},{"$f":"('2021'!K45/'2021 Rate'!$AA45)*1000","v":12.957563977972141},{"$f":"('2021'!L45/'2021 Rate'!$AA45)*1000","v":15.429730789558931},{"$f":"('2021'!M45/'2021 Rate'!$AA45)*1000","v":1.1082127086423541},{"$f":"('2021'!N45/'2021 Rate'!$AA45)*1000","v":9.8034201149131324},{"$f":"('2021'!O45/'2021 Rate'!$AA45)*1000","v":8.6952074062707787},{"$f":"('2021'!P45/'2021 Rate'!$AA45)*1000","v":3.8020220619576151},{"$f":"('2021'!Q45/'2021 Rate'!$AA45)*1000","v":8.0814280599457824},{"$f":"('2021'!R45/'2021 Rate'!$AA45)*1000","v":4.2794059979881682},null,null,null,null,null,null,null,"Grampian",586530]
[43,"Greater Glasgow and Clyde",null,{"$f":"('2021'!D46/'2021 Rate'!$AA46)*1000","v":2.312158239384325},{"$f":"('2021'!E46/'2021 Rate'!$AA46)*1000","v":3.8817255113751434E-2},{"$f":"('2021'!F46/'2021 Rate'!$AA46)*1000","v":2.5585634240194421},{"$f":"('2021'!G46/'2021 Rate'!$AA46)*1000","v":-0.28269087963275502},{"$f":"('2021'!H46/'2021 Rate'!$AA46)*1000","v":35.661243502329036},{"$f":"('2021'!I46/'2021 Rate'!$AA46)*1000","v":33.349085262944705},{"$f":"('2021'!J46/'2021 Rate'!$AA46)*1000","v":-3.8395328427732398},{"$f":"('2021'!K46/'2021 Rate'!$AA46)*1000","v":15.872881928036184},{"$f":"('2021'!L46/'2021 Rate'!$AA46)*1000","v":19.712414770809424},{"$f":"('2021'!M46/'2021 Rate'!$AA46)*1000","v":0.27847161277256466},{"$f":"('2021'!N46/'2021 Rate'!$AA46)*1000","v":8.8435833389590233},{"$f":"('2021'!O46/'2021 Rate'!$AA46)*1000","v":8.5651117261864584},{"$f":"('2021'!P46/'2021 Rate'!$AA46)*1000","v":5.8732194693849991},{"$f":"('2021'!Q46/'2021 Rate'!$AA46)*1000","v":10.944778235333828},{"$f":"('2021'!R46/'2021 Rate'!$AA46)*1000","v":5.0715587659488293},null,null,null,null,null,null,null,"Greater Glasgow & Clyde",1185040]
[44,"Highland",null,{"$f":"('2021'!D47/'2021 Rate'!$AA47)*1000","v":14.21610953496978},{"$f":"('2021'!E47/'2021 Rate'!$AA47)*1000","v":1.8039965461946466},{"$f":"('2021'!F47/'2021 Rate'!$AA47)*1000","v":11.687430615517453},{"$f":"('2021'!G47/'2021 Rate'!$AA47)*1000","v":0.70926359935857908},{"$f":"('2021'!H47/'2021 Rate'!$AA47)*1000","v":46.040458862711233},{"$f":"('2021'!I47/'2021 Rate'!$AA47)*1000","v":31.824349327741462},{"$f":"('2021'!J47/'2021 Rate'!$AA47)*1000","v":5.1498704822992476},{"$f":"('2021'!K47/'2021 Rate'!$AA47)*1000","v":25.255951646725052},{"$f":"('2021'!L47/'2021 Rate'!$AA47)*1000","v":20.106081164425802},{"$f":"('2021'!M47/'2021 Rate'!$AA47)*1000","v":8.2644628099173563},{"$f":"('2021'!N47/'2021 Rate'!$AA47)*1000","v":16.806463550018503},{"$f":"('2021'!O47/'2021 Rate'!$AA47)*1000","v":8.5420007401011482},{"$f":"('2021'!P47/'2021 Rate'!$AA47)*1000","v":0.80177624275317627},{"$f":"('2021'!Q47/'2021 Rate'!$AA47)*1000","v":4.0088812137658811},{"$f":"('2021'!R47/'2021 Rate'!$AA47)*1000","v":3.1762674232145058},null,null,null,null,null,null,null,"Highland",324280]
[45,"Lanarkshire",null,{"$f":"('2021'!D48/'2021 Rate'!$AA48)*1000","v":5.6322756501965276},{"$f":"('2021'!E48/'2021 Rate'!$AA48)*1000","v":1.0918181407466532},{"$f":"('2021'!F48/'2021 Rate'!$AA48)*1000","v":4.6684637742270683},{"$f":"('2021'!G48/'2021 Rate'!$AA48)*1000","v":-0.12499435266478924},{"$f":"('2021'!H48/'2021 Rate'!$AA48)*1000","v":26.278933180729787},{"$f":"('2021'!I48/'2021 Rate'!$AA48)*1000","v":20.631597969971235},{"$f":"('2021'!J48/'2021 Rate'!$AA48)*1000","v":4.2317365179284065},{"$f":"('2021'!K48/'2021 Rate'!$AA48)*1000","v":19.697905215125822},{"$f":"('2021'!L48/'2021 Rate'!$AA48)*1000","v":15.466168697197414},{"$f":"('2021'!M48/'2021 Rate'!$AA48)*1000","v":0.93369275484541359},{"$f":"('2021'!N48/'2021 Rate'!$AA48)*1000","v":4.2919747601764975},{"$f":"('2021'!O48/'2021 Rate'!$AA48)*1000","v":3.3582820053310845},{"$f":"('2021'!P48/'2021 Rate'!$AA48)*1000","v":0.48190593798472964},{"$f":"('2021'!Q48/'2021 Rate'!$AA48)*1000","v":2.2890532054274657},{"$f":"('2021'!R48/'2021 Rate'!$AA48)*1000","v":1.807147267442736},null,null,null,null,null,null,null,"Lanarkshire",664030]
[46,"Lothian",null,{"$f":"('2021'!D49/'2021 Rate'!$AA49)*1000","v":3.9506280625552486},{"$f":"('2021'!E49/'2021 Rate'!$AA49)*1000","v":0.51074418046294379},{"$f":"('2021'!F49/'2021 Rate'!$AA49)*1000","v":3.2358044766509151},{"$f":"('2021'!G49/'2021 Rate'!$AA49)*1000","v":0.20735340659820367},{"$f":"('2021'!H49/'2021 Rate'!$AA49)*1000","v":44.275408977311173},{"$f":"('2021'!I49/'2021 Rate'!$AA49)*1000","v":40.32478091475592},{"$f":"('2021'!J49/'2021 Rate'!$AA49)*1000","v":-4.0597614344490403},{"$f":"('2021'!K49/'2021 Rate'!$AA49)*1000","v":15.289585402320174},{"$f":"('2021'!L49/'2021 Rate'!$AA49)*1000","v":19.349346836769218},{"$f":"('2021'!M49/'2021 Rate'!$AA49)*1000","v":0.54566685946895699},{"$f":"('2021'!N49/'2021 Rate'!$AA49)*1000","v":14.994925298206939},{"$f":"('2021'!O49/'2021 Rate'!$AA49)*1000","v":14.449258438737981},{"$f":"('2021'!P49/'2021 Rate'!$AA49)*1000","v":7.4756359747247112},{"$f":"('2021'!Q49/'2021 Rate'!$AA49)*1000","v":13.990898276784057},{"$f":"('2021'!R49/'2021 Rate'!$AA49)*1000","v":6.5152623020593472},null,null,null,null,null,null,null,"Lothian",916310]
[47,"Orkney",null,{"$f":"('2021'!D50/'2021 Rate'!$AA50)*1000","v":9.7604259094942325},{"$f":"('2021'!E50/'2021 Rate'!$AA50)*1000","v":2.3957409050576755},{"$f":"('2021'!F50/'2021 Rate'!$AA50)*1000","v":7.3646850044365575},{"$f":"('2021'!G50/'2021 Rate'!$AA50)*1000","v":-8.8731144631765749E-2},{"$f":"('2021'!H50/'2021 Rate'!$AA50)*1000","v":41.703637976929897},{"$f":"('2021'!I50/'2021 Rate'!$AA50)*1000","v":31.943212067435667},{"$f":"('2021'!J50/'2021 Rate'!$AA50)*1000","v":0},{"$f":"('2021'!K50/'2021 Rate'!$AA50)*1000","v":20.408163265306122},{"$f":"('2021'!L50/'2021 Rate'!$AA50)*1000","v":19.964507542147295},{"$f":"('2021'!M50/'2021 Rate'!$AA50)*1000","v":9.316770186335404},{"$f":"('2021'!N50/'2021 Rate'!$AA50)*1000","v":18.633540372670808},{"$f":"('2021'!O50/'2021 Rate'!$AA50)*1000","v":8.8731144631765755},{"$f":"('2021'!P50/'2021 Rate'!$AA50)*1000","v":0},{"$f":"('2021'!Q50/'2021 Rate'!$AA50)*1000","v":2.6619343389529724},{"$f":"('2021'!R50/'2021 Rate'!$AA50)*1000","v":2.6619343389529724},null,null,null,null,null,null,null,"Orkney",22540]
[48,"Shetland",null,{"$f":"('2021'!D51/'2021 Rate'!$AA51)*1000","v":5.2310374891020057},{"$f":"('2021'!E51/'2021 Rate'!$AA51)*1000","v":1.5693112467306016},{"$f":"('2021'!F51/'2021 Rate'!$AA51)*1000","v":3.9232781168265038},{"$f":"('2021'!G51/'2021 Rate'!$AA51)*1000","v":-0.13077593722755013},{"$f":"('2021'!H51/'2021 Rate'!$AA51)*1000","v":34.873583260680036},{"$f":"('2021'!I51/'2021 Rate'!$AA51)*1000","v":29.206625980819531},{"$f":"('2021'!J51/'2021 Rate'!$AA51)*1000","v":0},{"$f":"('2021'!K51/'2021 Rate'!$AA51)*1000","v":18.308631211857016},{"$f":"('2021'!L51/'2021 Rate'!$AA51)*1000","v":18.308631211857016},{"$f":"('2021'!M51/'2021 Rate'!$AA51)*1000","v":6.5387968613775058},{"$f":"('2021'!N51/'2021 Rate'!$AA51)*1000","v":14.385353095030515},{"$f":"('2021'!O51/'2021 Rate'!$AA51)*1000","v":8.2824760244115083},{"$f":"('2021'!P51/'2021 Rate'!$AA51)*1000","v":-0.87183958151700092},{"$f":"('2021'!Q51/'2021 Rate'!$AA51)*1000","v":1.7436791630340018},{"$f":"('2021'!R51/'2021 Rate'!$AA51)*1000","v":3.051438535309503},null,null,null,null,null,null,null,"Shetland",22940]
[49,"Tayside",null,{"$f":"('2021'!D52/'2021 Rate'!$AA52)*1000","v":6.8478390997246503},{"$f":"('2021'!E52/'2021 Rate'!$AA52)*1000","v":1.2761881958577757},{"$f":"('2021'!F52/'2021 Rate'!$AA52)*1000","v":4.8102478151562318},{"$f":"('2021'!G52/'2021 Rate'!$AA52)*1000","v":0.75900873937507485},{"$f":"('2021'!H52/'2021 Rate'!$AA52)*1000","v":38.429306835867351},{"$f":"('2021'!I52/'2021 Rate'!$AA52)*1000","v":31.581467736142706},{"$f":"('2021'!J52/'2021 Rate'!$AA52)*1000","v":1.9154794684544474},{"$f":"('2021'!K52/'2021 Rate'!$AA52)*1000","v":22.147731354004549},{"$f":"('2021'!L52/'2021 Rate'!$AA52)*1000","v":20.208308392194422},{"$f":"('2021'!M52/'2021 Rate'!$AA52)*1000","v":1.8675924817430865},{"$f":"('2021'!N52/'2021 Rate'!$AA52)*1000","v":9.5055668622051961},{"$f":"('2021'!O52/'2021 Rate'!$AA52)*1000","v":7.6379743804621096},{"$f":"('2021'!P52/'2021 Rate'!$AA52)*1000","v":3.0647671495271158},{"$f":"('2021'!Q52/'2021 Rate'!$AA52)*1000","v":6.7760086196576079},{"$f":"('2021'!R52/'2021 Rate'!$AA52)*1000","v":3.7112414701304921},null,null,null,null,null,null,null,"Tayside",417650]
[50,"Western Isles",null,{"$f":"('2021'!D53/'2021 Rate'!$AA53)*1000","v":12.012012012012011},{"$f":"('2021'!E53/'2021 Rate'!$AA53)*1000","v":0.93843843843843844},{"$f":"('2021'!F53/'2021 Rate'!$AA53)*1000","v":10.21021021021021},{"$f":"('2021'!G53/'2021 Rate'!$AA53)*1000","v":1.0135135135135136},{"$f":"('2021'!H53/'2021 Rate'!$AA53)*1000","v":41.666666666666664},{"$f":"('2021'!I53/'2021 Rate'!$AA53)*1000","v":29.27927927927928},{"$f":"('2021'!J53/'2021 Rate'!$AA53)*1000","v":6.3813813813813818},{"$f":"('2021'!K53/'2021 Rate'!$AA53)*1000","v":27.027027027027028},{"$f":"('2021'!L53/'2021 Rate'!$AA53)*1000","v":20.645645645645644},{"$f":"('2021'!M53/'2021 Rate'!$AA53)*1000","v":6.0060060060060056},{"$f":"('2021'!N53/'2021 Rate'!$AA53)*1000","v":12.762762762762764},{"$f":"('2021'!O53/'2021 Rate'!$AA53)*1000","v":6.3813813813813818},{"$f":"('2021'!P53/'2021 Rate'!$AA53)*1000","v":-0.37537537537537535},{"$f":"('2021'!Q53/'2021 Rate'!$AA53)*1000","v":1.8768768768768769},{"$f":"('2021'!R53/'2021 Rate'!$AA53)*1000","v":2.2522522522522523},null,null,null,null,null,null,null,"Western Isles",26640]